{"text_format":"1","workbook":"xlsx","n_sheets":8,"sheets":["テストデータ","科目別テスト成績表","模試・定期テスト成績表","科目別テスト集計","模試集計","定期テスト集計","連続印刷","初期設定"],"not_rendered":{"charts":30,"images":1,"macros":1,"external_links":1,"defined_names":8,"comments":0,"pivot_tables":0},"unopened":[],"bounds":{"document_bytes":16777216,"sheet_cells":100000,"rows_first":2000,"rows_last":500,"rows_between":2000,"halvings":0,"cell_chars":16384,"cell_head_chars":4096},"cells_cut":0,"cells_raw":0,"read":"whole","date_system":"1900"}

{"sheet":"テストデータ","index":0,"n_rows":503,"n_cols":507,"rows_kept":503,"cut":false,"hidden":false,"merged":[[2,391,2,392],[2,393,2,394],[2,381,2,382],[2,389,2,390],[2,317,2,318],[2,319,2,320],[2,321,2,322],[2,323,2,324],[2,325,2,326],[2,327,2,328],[2,329,2,330],[2,331,2,332],[2,333,2,334],[2,335,2,336],[2,337,2,338],[2,339,2,340],[2,351,2,352],[2,363,2,364],[2,365,2,366],[2,367,2,368],[2,369,2,370],[2,371,2,372],[2,373,2,374],[2,375,2,376],[2,377,2,378],[2,379,2,380],[2,361,2,362],[2,383,2,384],[2,385,2,386],[2,387,2,388],[2,353,2,354],[2,355,2,356],[2,357,2,358],[2,359,2,360],[2,341,2,342],[2,343,2,344],[2,345,2,346],[2,347,2,348],[2,349,2,350],[2,307,2,308],[2,309,2,310],[2,311,2,312],[2,313,2,314],[2,315,2,316],[2,297,2,298],[2,299,2,300],[2,301,2,302],[2,303,2,304],[2,305,2,306],[2,287,2,288],[2,289,2,290],[2,291,2,292],[2,293,2,294],[2,295,2,296],[2,277,2,278],[2,279,2,280],[2,281,2,282],[2,283,2,284],[2,285,2,286],[2,267,2,268],[2,269,2,270],[2,271,2,272],[2,273,2,274],[2,275,2,276],[2,257,2,258],[2,259,2,260],[2,261,2,262],[2,263,2,264],[2,265,2,266],[2,251,2,252],[2,253,2,254],[2,255,2,256],[2,223,2,224],[2,225,2,226],[2,227,2,228],[2,229,2,230],[2,231,2,232],[2,233,2,234],[2,235,2,236],[2,237,2,238],[2,239,2,240],[2,241,2,242],[2,243,2,244],[2,245,2,246],[2,247,2,248],[2,249,2,250],[2,179,2,180],[0,147,0,158],[0,159,0,170],[0,171,0,183],[2,171,2,172],[2,173,2,174],[2,175,2,176],[2,197,2,198],[1,171,1,198],[2,15,2,26],[0,3,0,14],[0,15,0,26],[0,27,0,38],[0,39,0,50],[2,3,2,14],[2,27,2,38],[2,39,2,50],[0,63,0,74],[2,219,2,220],[2,221,2,222],[0,75,0,86],[0,87,0,98],[0,99,0,110],[2,51,2,62],[0,51,0,62],[2,63,2,74],[2,75,2,86],[2,87,2,98],[2,99,2,110],[2,181,2,182],[2,183,2,184],[2,185,2,186],[2,187,2,188],[2,189,2,190],[2,111,2,122],[0,123,0,134],[2,123,2,134],[2,135,2,146],[0,111,0,122],[0,135,0,146],[2,147,2,158],[2,159,2,170],[0,339,0,351],[0,352,0,366],[2,177,2,178],[2,191,2,192],[2,193,2,194],[2,195,2,196],[1,339,1,366],[0,367,0,379],[0,380,0,394],[1,367,1,394],[0,184,0,198],[0,199,0,211],[0,212,0,226],[1,199,1,226],[2,199,2,200],[2,201,2,202],[2,203,2,204],[2,205,2,206],[2,207,2,208],[2,209,2,210],[2,211,2,212],[2,213,2,214],[2,215,2,216],[2,217,2,218],[1,227,1,254],[0,255,0,267],[0,268,0,282],[1,255,1,282],[0,283,0,295],[0,296,0,310],[1,283,1,310],[0,311,0,323],[0,324,0,338],[1,311,1,338],[0,227,0,239],[0,240,0,254],[0,465,0,471],[0,472,0,478],[0,479,0,485],[0,486,0,492],[0,493,0,499],[0,500,0,506],[1,395,1,408],[1,409,1,422],[1,423,1,436],[1,437,1,450],[1,451,1,464],[1,465,1,478],[1,479,1,492],[1,493,1,506],[0,437,0,443],[0,444,0,450],[0,451,0,457],[0,458,0,464],[0,416,0,422],[0,423,0,429],[0,430,0,436],[0,402,0,408],[0,409,0,415],[0,395,0,401]]}
["ｶｰｿﾙ方向切り替え",null,null,{"$f":"IF(初期設定!$C2=\"\",\"\",初期設定!$C2)","v":"月例テスト"},null,null,null,null,null,null,null,null,null,null,null,{"$f":"IF(初期設定!$C2=\"\",\"\",初期設定!$C2)","v":"月例テスト"},null,null,null,null,null,null,null,null,null,null,null,{"$f":"IF(初期設定!$C2=\"\",\"\",初期設定!$C2)","v":"月例テスト"},null,null,null,null,null,null,null,null,null,null,null,{"$f":"IF(初期設定!$C2=\"\",\"\",初期設定!$C2)","v":"月例テスト"},null,null,null,null,null,null,null,null,null,null,null,{"$f":"IF(初期設定!$C2=\"\",\"\",初期設定!$C2)","v":"月例テスト"},null,null,null,null,null,null,null,null,null,null,null,{"$f":"IF(初期設定!$C2=\"\",\"\",初期設定!$C2)","v":"月例テスト"},null,null,null,null,null,null,null,null,null,null,null,{"$f":"IF(初期設定!$C2=\"\",\"\",初期設定!$C2)","v":"月例テスト"},null,null,null,null,null,null,null,null,null,null,null,{"$f":"IF(初期設定!$C2=\"\",\"\",初期設定!$C2)","v":"月例テスト"},null,null,null,null,null,null,null,null,null,null,null,{"$f":"IF(初期設定!$C2=\"\",\"\",初期設定!$C2)","v":"月例テスト"},null,null,null,null,null,null,null,null,null,null,null,{"$f":"IF(初期設定!$C2=\"\",\"\",初期設定!$C2)","v":"月例テスト"},null,null,null,null,null,null,null,null,null,null,null,{"$f":"IF(初期設定!$C2=\"\",\"\",初期設定!$C2)","v":"月例テスト"},null,null,null,null,null,null,null,null,null,null,null,{"$f":"IF(初期設定!$C2=\"\",\"\",初期設定!$C2)","v":"月例テスト"},null,null,null,null,null,null,null,null,null,null,null,{"$f":"IF(初期設定!$C2=\"\",\"\",初期設定!$C2)","v":"月例テスト"},null,null,null,null,null,null,null,null,null,null,null,{"$f":"IF(初期設定!$C2=\"\",\"\",初期設定!$C2)","v":"月例テスト"},null,null,null,null,null,null,null,null,null,null,null,"第1回",null,null,null,null,null,null,null,null,null,null,null,null,null,null,null,null,null,null,null,null,null,null,null,null,null,null,null,"第2回",null,null,null,null,null,null,null,null,null,null,null,null,null,null,null,null,null,null,null,null,null,null,null,null,null,null,null,"第3回",null,null,null,null,null,null,null,null,null,null,null,null,null,null,null,null,null,null,null,null,null,null,null,null,null,null,null,"第4回",null,null,null,null,null,null,null,null,null,null,null,null,null,null,null,null,null,null,null,null,null,null,null,null,null,null,null,"第5回",null,null,null,null,null,null,null,null,null,null,null,null,null,null,null,null,null,null,null,null,null,null,null,null,null,null,null,"第6回",null,null,null,null,null,null,null,null,null,null,null,null,null,null,null,null,null,null,null,null,null,null,null,null,null,null,null,"第7回",null,null,null,null,null,null,null,null,null,null,null,null,null,null,null,null,null,null,null,null,null,null,null,null,null,null,null,"第8回",null,null,null,null,null,null,null,null,null,null,null,null,null,null,null,null,null,null,null,null,null,null,null,null,null,null,null,"第１回",null,null,null,null,null,null,{"$f":"IF(初期設定!$C37=\"\",\"\",初期設定!$C37)","v":"定期テスト"},null,null,null,null,null,null,"第2回",null,null,null,null,null,null,{"$f":"IF(初期設定!$C37=\"\",\"\",初期設定!$C37)","v":"定期テスト"},null,null,null,null,null,null,"第3回",null,null,null,null,null,null,{"$f":"IF(初期設定!$C37=\"\",\"\",初期設定!$C37)","v":"定期テスト"},null,null,null,null,null,null,"第4回",null,null,null,null,null,null,{"$f":"IF(初期設定!$C37=\"\",\"\",初期設定!$C37)","v":"定期テスト"},null,null,null,null,null,null,"第5回",null,null,null,null,null,null,{"$f":"IF(初期設定!$C37=\"\",\"\",初期設定!$C37)","v":"定期テスト"},null,null,null,null,null,null,"第6回",null,null,null,null,null,null,{"$f":"IF(初期設定!$C37=\"\",\"\",初期設定!$C37)","v":"定期テスト"},null,null,null,null,null,null,"第7回",null,null,null,null,null,null,{"$f":"IF(初期設定!$C37=\"\",\"\",初期設定!$C37)","v":"定期テスト"},null,null,null,null,null,null,"第8回",null,null,null,null,null,null,{"$f":"IF(初期設定!$C37=\"\",\"\",初期設定!$C37)","v":"定期テスト"}]
[null,null,"実施日→","3/2","4/3","5/4","6/5","7/6","8/7","9/8","10/9","11/10","12/11",null,null,"4/8","5/8","6/8","7/8","8/8","9/8","10/8","11/8","12/8","1/8",null,null,"4/9","5/12","6/15","7/18","8/5","9/7","10/11","11/30","12/2","1/9",null,null,"4/5","5/2","6/5","7/18","8/5","9/7","10/5","11/30","12/4","1/9",null,null,"4/5","5/2","6/4","7/18","8/10","9/7","10/5","11/21","12/4","1/25",null,null,"3/2","4/3","5/4","6/5","7/6","8/7","9/8","10/9","11/10","12/11",null,null,"3/2","4/3","5/4","6/5","7/6","8/7","9/8","10/9","11/10","12/11",null,null,"3/2","4/3","5/4","6/5","7/6","8/7","9/8","10/9","11/10","12/11",null,null,"3/2","4/3","5/4","6/5","7/6","8/7","9/8","10/9","11/10","12/11",null,null,"3/2","4/3","5/4","6/5","7/6","8/7","9/8","10/9","11/10","12/11",null,null,"3/2","4/3","5/4","6/5","7/6","8/7","9/8","10/9","11/10","12/11",null,null,"3/2","4/3","5/4","6/5","7/6","8/7","9/8","10/9","11/10","12/2",null,null,"3/2","4/3","5/4","6/5","7/6","8/7","9/8","10/9","11/10","12/7",null,null,null,null,null,null,null,null,null,null,null,null,null,null,"2/4",null,null,null,null,null,null,null,null,null,null,null,null,null,null,null,null,null,null,null,null,null,null,null,null,null,null,null,"3/4",null,null,null,null,null,null,null,null,null,null,null,null,null,null,null,null,null,null,null,null,null,null,null,null,null,null,null,"4/4",null,null,null,null,null,null,null,null,null,null,null,null,null,null,null,null,null,null,null,null,null,null,null,null,null,null,null,"5/4",null,null,null,null,null,null,null,null,null,null,null,null,null,null,null,null,null,null,null,null,null,null,null,null,null,null,null,"6/4",null,null,null,null,null,null,null,null,null,null,null,null,null,null,null,null,null,null,null,null,null,null,null,null,null,null,null,"7/4",null,null,null,null,null,null,null,null,null,null,null,null,null,null,null,null,null,null,null,null,null,null,null,null,null,null,null,"8/4",null,null,null,null,null,null,null,null,null,null,null,null,null,null,null,null,null,null,null,null,null,null,null,null,null,null,null,"9/4",null,null,null,null,null,null,null,null,null,null,null,null,null,null,null,null,null,null,null,null,null,null,null,null,null,null,null,"2/3",null,null,null,null,null,null,null,null,null,null,null,null,null,"3/8",null,null,null,null,null,null,null,null,null,null,null,null,null,"4/9",null,null,null,null,null,null,null,null,null,null,null,null,null,"5/25",null,null,null,null,null,null,null,null,null,null,null,null,null,"6/15",null,null,null,null,null,null,null,null,null,null,null,null,null,"7/5",null,null,null,null,null,null,null,null,null,null,null,null,null,"9/16",null,null,null,null,null,null,null,null,null,null,null,null,null,"10/12～10/13"]
["ID","class","氏名",{"$f":"IF(初期設定!$C3=\"\",\"\",初期設定!$C3)","v":"国総"},null,null,null,null,null,null,null,null,null,null,null,{"$f":"IF(初期設定!$C4=\"\",\"\",初期設定!$C4)","v":"英表"},null,null,null,null,null,null,null,null,null,null,null,{"$f":"IF(初期設定!$C5=\"\",\"\",初期設定!$C5)","v":"コ英"},null,null,null,null,null,null,null,null,null,null,null,{"$f":"IF(初期設定!$C6=\"\",\"\",初期設定!$C6)","v":"数Ⅰ"},null,null,null,null,null,null,null,null,null,null,null,{"$f":"IF(初期設定!$C7=\"\",\"\",初期設定!$C7)","v":"数A"},null,null,null,null,null,null,null,null,null,null,null,{"$f":"IF(初期設定!$C8=\"\",\"\",初期設定!$C8)","v":"世B"},null,null,null,null,null,null,null,null,null,null,null,{"$f":"IF(初期設定!$C9=\"\",\"\",初期設定!$C9)","v":"化基"},null,null,null,null,null,null,null,null,null,null,null,{"$f":"IF(初期設定!$C10=\"\",\"\",初期設定!$C10)","v":"情報"},null,null,null,null,null,null,null,null,null,null,null,{"$f":"IF(初期設定!$C11=\"\",\"\",初期設定!$C11)","v":"芸術"},null,null,null,null,null,null,null,null,null,null,null,{"$f":"IF(初期設定!$C12=\"\",\"\",初期設定!$C12)","v":"体育"},null,null,null,null,null,null,null,null,null,null,null,{"$f":"IF(初期設定!$C13=\"\",\"\",初期設定!$C13)","v":"保健"},null,null,null,null,null,null,null,null,null,null,null,{"$f":"IF(初期設定!$C14=\"\",\"\",初期設定!$C14)","v":""},null,null,null,null,null,null,null,null,null,null,null,{"$f":"IF(初期設定!$C15=\"\",\"\",初期設定!$C15)","v":""},null,null,null,null,null,null,null,null,null,null,null,{"$f":"IF(初期設定!$C16=\"\",\"\",初期設定!$C16)","v":""},null,null,null,null,null,null,null,null,null,null,null,{"$f":"IF(初期設定!$C23=\"\",\"\",初期設定!$C23&\"/偏\")","v":"国総/偏"},null,{"$f":"IF(初期設定!$C24=\"\",\"\",初期設定!$C24&\"/偏\")","v":"英表/偏"},null,{"$f":"IF(初期設定!$C25=\"\",\"\",初期設定!$C25&\"/偏\")","v":"コ英/偏"},null,{"$f":"IF(初期設定!$C26=\"\",\"\",初期設定!$C26&\"/偏\")","v":"数Ⅰ/偏"},null,{"$f":"IF(初期設定!$C27=\"\",\"\",初期設定!$C27&\"/偏\")","v":"数A/偏"},null,{"$f":"IF(初期設定!$C28=\"\",\"\",初期設定!$C28&\"/偏\")","v":"世B/偏"},null,{"$f":"IF(初期設定!$C29=\"\",\"\",初期設定!$C29&\"/偏\")","v":"化基/偏"},null,{"$f":"IF(初期設定!$C30=\"\",\"\",初期設定!$C30&\"/偏\")","v":""},null,{"$f":"IF(初期設定!$C31=\"\",\"\",初期設定!$C31&\"/偏\")","v":""},null,{"$f":"IF(初期設定!$C32=\"\",\"\",初期設定!$C32&\"/偏\")","v":""},null,{"$f":"IF(初期設定!$C33=\"\",\"\",初期設定!$C33&\"/偏\")","v":""},null,{"$f":"IF(初期設定!$C34=\"\",\"\",初期設定!$C34&\"/偏\")","v":""},null,{"$f":"IF(初期設定!$C35=\"\",\"\",初期設定!$C35&\"/偏\")","v":""},null,{"$f":"IF(初期設定!$C36=\"\",\"\",初期設定!$C36&\"/偏\")","v":""},null,{"$f":"IF(初期設定!$C23=\"\",\"\",初期設定!$C23&\"/偏\")","v":"国総/偏"},null,{"$f":"IF(初期設定!$C24=\"\",\"\",初期設定!$C24&\"/偏\")","v":"英表/偏"},null,{"$f":"IF(初期設定!$C25=\"\",\"\",初期設定!$C25&\"/偏\")","v":"コ英/偏"},null,{"$f":"IF(初期設定!$C26=\"\",\"\",初期設定!$C26&\"/偏\")","v":"数Ⅰ/偏"},null,{"$f":"IF(初期設定!$C27=\"\",\"\",初期設定!$C27&\"/偏\")","v":"数A/偏"},null,{"$f":"IF(初期設定!$C28=\"\",\"\",初期設定!$C28&\"/偏\")","v":"世B/偏"},null,{"$f":"IF(初期設定!$C29=\"\",\"\",初期設定!$C29&\"/偏\")","v":"化基/偏"},null,{"$f":"IF(初期設定!$C30=\"\",\"\",初期設定!$C30&\"/偏\")","v":""},null,{"$f":"IF(初期設定!$C31=\"\",\"\",初期設定!$C31&\"/偏\")","v":""},null,{"$f":"IF(初期設定!$C32=\"\",\"\",初期設定!$C32&\"/偏\")","v":""},null,{"$f":"IF(初期設定!$C33=\"\",\"\",初期設定!$C33&\"/偏\")","v":""},null,{"$f":"IF(初期設定!$C34=\"\",\"\",初期設定!$C34&\"/偏\")","v":""},null,{"$f":"IF(初期設定!$C35=\"\",\"\",初期設定!$C35&\"/偏\")","v":""},null,{"$f":"IF(初期設定!$C36=\"\",\"\",初期設定!$C36&\"/偏\")","v":""},null,{"$f":"IF(初期設定!$C23=\"\",\"\",初期設定!$C23&\"/偏\")","v":"国総/偏"},null,{"$f":"IF(初期設定!$C24=\"\",\"\",初期設定!$C24&\"/偏\")","v":"英表/偏"},null,{"$f":"IF(初期設定!$C25=\"\",\"\",初期設定!$C25&\"/偏\")","v":"コ英/偏"},null,{"$f":"IF(初期設定!$C26=\"\",\"\",初期設定!$C26&\"/偏\")","v":"数Ⅰ/偏"},null,{"$f":"IF(初期設定!$C27=\"\",\"\",初期設定!$C27&\"/偏\")","v":"数A/偏"},null,{"$f":"IF(初期設定!$C28=\"\",\"\",初期設定!$C28&\"/偏\")","v":"世B/偏"},null,{"$f":"IF(初期設定!$C29=\"\",\"\",初期設定!$C29&\"/偏\")","v":"化基/偏"},null,{"$f":"IF(初期設定!$C30=\"\",\"\",初期設定!$C30&\"/偏\")","v":""},null,{"$f":"IF(初期設定!$C31=\"\",\"\",初期設定!$C31&\"/偏\")","v":""},null,{"$f":"IF(初期設定!$C32=\"\",\"\",初期設定!$C32&\"/偏\")","v":""},null,{"$f":"IF(初期設定!$C33=\"\",\"\",初期設定!$C33&\"/偏\")","v":""},null,{"$f":"IF(初期設定!$C34=\"\",\"\",初期設定!$C34&\"/偏\")","v":""},null,{"$f":"IF(初期設定!$C35=\"\",\"\",初期設定!$C35&\"/偏\")","v":""},null,{"$f":"IF(初期設定!$C36=\"\",\"\",初期設定!$C36&\"/偏\")","v":""},null,{"$f":"IF(初期設定!$C23=\"\",\"\",初期設定!$C23&\"/偏\")","v":"国総/偏"},null,{"$f":"IF(初期設定!$C24=\"\",\"\",初期設定!$C24&\"/偏\")","v":"英表/偏"},null,{"$f":"IF(初期設定!$C25=\"\",\"\",初期設定!$C25&\"/偏\")","v":"コ英/偏"},null,{"$f":"IF(初期設定!$C26=\"\",\"\",初期設定!$C26&\"/偏\")","v":"数Ⅰ/偏"},null,{"$f":"IF(初期設定!$C27=\"\",\"\",初期設定!$C27&\"/偏\")","v":"数A/偏"},null,{"$f":"IF(初期設定!$C28=\"\",\"\",初期設定!$C28&\"/偏\")","v":"世B/偏"},null,{"$f":"IF(初期設定!$C29=\"\",\"\",初期設定!$C29&\"/偏\")","v":"化基/偏"},null,{"$f":"IF(初期設定!$C30=\"\",\"\",初期設定!$C30&\"/偏\")","v":""},null,{"$f":"IF(初期設定!$C31=\"\",\"\",初期設定!$C31&\"/偏\")","v":""},null,{"$f":"IF(初期設定!$C32=\"\",\"\",初期設定!$C32&\"/偏\")","v":""},null,{"$f":"IF(初期設定!$C33=\"\",\"\",初期設定!$C33&\"/偏\")","v":""},null,{"$f":"IF(初期設定!$C34=\"\",\"\",初期設定!$C34&\"/偏\")","v":""},null,{"$f":"IF(初期設定!$C35=\"\",\"\",初期設定!$C35&\"/偏\")","v":""},null,{"$f":"IF(初期設定!$C36=\"\",\"\",初期設定!$C36&\"/偏\")","v":""},null,{"$f":"IF(初期設定!$C23=\"\",\"\",初期設定!$C23&\"/偏\")","v":"国総/偏"},null,{"$f":"IF(初期設定!$C24=\"\",\"\",初期設定!$C24&\"/偏\")","v":"英表/偏"},null,{"$f":"IF(初期設定!$C25=\"\",\"\",初期設定!$C25&\"/偏\")","v":"コ英/偏"},null,{"$f":"IF(初期設定!$C26=\"\",\"\",初期設定!$C26&\"/偏\")","v":"数Ⅰ/偏"},null,{"$f":"IF(初期設定!$C27=\"\",\"\",初期設定!$C27&\"/偏\")","v":"数A/偏"},null,{"$f":"IF(初期設定!$C28=\"\",\"\",初期設定!$C28&\"/偏\")","v":"世B/偏"},null,{"$f":"IF(初期設定!$C29=\"\",\"\",初期設定!$C29&\"/偏\")","v":"化基/偏"},null,{"$f":"IF(初期設定!$C30=\"\",\"\",初期設定!$C30&\"/偏\")","v":""},null,{"$f":"IF(初期設定!$C31=\"\",\"\",初期設定!$C31&\"/偏\")","v":""},null,{"$f":"IF(初期設定!$C32=\"\",\"\",初期設定!$C32&\"/偏\")","v":""},null,{"$f":"IF(初期設定!$C33=\"\",\"\",初期設定!$C33&\"/偏\")","v":""},null,{"$f":"IF(初期設定!$C34=\"\",\"\",初期設定!$C34&\"/偏\")","v":""},null,{"$f":"IF(初期設定!$C35=\"\",\"\",初期設定!$C35&\"/偏\")","v":""},null,{"$f":"IF(初期設定!$C36=\"\",\"\",初期設定!$C36&\"/偏\")","v":""},null,{"$f":"IF(初期設定!$C23=\"\",\"\",初期設定!$C23&\"/偏\")","v":"国総/偏"},null,{"$f":"IF(初期設定!$C24=\"\",\"\",初期設定!$C24&\"/偏\")","v":"英表/偏"},null,{"$f":"IF(初期設定!$C25=\"\",\"\",初期設定!$C25&\"/偏\")","v":"コ英/偏"},null,{"$f":"IF(初期設定!$C26=\"\",\"\",初期設定!$C26&\"/偏\")","v":"数Ⅰ/偏"},null,{"$f":"IF(初期設定!$C27=\"\",\"\",初期設定!$C27&\"/偏\")","v":"数A/偏"},null,{"$f":"IF(初期設定!$C28=\"\",\"\",初期設定!$C28&\"/偏\")","v":"世B/偏"},null,{"$f":"IF(初期設定!$C29=\"\",\"\",初期設定!$C29&\"/偏\")","v":"化基/偏"},null,{"$f":"IF(初期設定!$C30=\"\",\"\",初期設定!$C30&\"/偏\")","v":""},null,{"$f":"IF(初期設定!$C31=\"\",\"\",初期設定!$C31&\"/偏\")","v":""},null,{"$f":"IF(初期設定!$C32=\"\",\"\",初期設定!$C32&\"/偏\")","v":""},null,{"$f":"IF(初期設定!$C33=\"\",\"\",初期設定!$C33&\"/偏\")","v":""},null,{"$f":"IF(初期設定!$C34=\"\",\"\",初期設定!$C34&\"/偏\")","v":""},null,{"$f":"IF(初期設定!$C35=\"\",\"\",初期設定!$C35&\"/偏\")","v":""},null,{"$f":"IF(初期設定!$C36=\"\",\"\",初期設定!$C36&\"/偏\")","v":""},null,{"$f":"IF(初期設定!$C23=\"\",\"\",初期設定!$C23&\"/偏\")","v":"国総/偏"},null,{"$f":"IF(初期設定!$C24=\"\",\"\",初期設定!$C24&\"/偏\")","v":"英表/偏"},null,{"$f":"IF(初期設定!$C25=\"\",\"\",初期設定!$C25&\"/偏\")","v":"コ英/偏"},null,{"$f":"IF(初期設定!$C26=\"\",\"\",初期設定!$C26&\"/偏\")","v":"数Ⅰ/偏"},null,{"$f":"IF(初期設定!$C27=\"\",\"\",初期設定!$C27&\"/偏\")","v":"数A/偏"},null,{"$f":"IF(初期設定!$C28=\"\",\"\",初期設定!$C28&\"/偏\")","v":"世B/偏"},null,{"$f":"IF(初期設定!$C29=\"\",\"\",初期設定!$C29&\"/偏\")","v":"化基/偏"},null,{"$f":"IF(初期設定!$C30=\"\",\"\",初期設定!$C30&\"/偏\")","v":""},null,{"$f":"IF(初期設定!$C31=\"\",\"\",初期設定!$C31&\"/偏\")","v":""},null,{"$f":"IF(初期設定!$C32=\"\",\"\",初期設定!$C32&\"/偏\")","v":""},null,{"$f":"IF(初期設定!$C33=\"\",\"\",初期設定!$C33&\"/偏\")","v":""},null,{"$f":"IF(初期設定!$C34=\"\",\"\",初期設定!$C34&\"/偏\")","v":""},null,{"$f":"IF(初期設定!$C35=\"\",\"\",初期設定!$C35&\"/偏\")","v":""},null,{"$f":"IF(初期設定!$C36=\"\",\"\",初期設定!$C36&\"/偏\")","v":""},null,{"$f":"IF(初期設定!$C23=\"\",\"\",初期設定!$C23&\"/偏\")","v":"国総/偏"},null,{"$f":"IF(初期設定!$C24=\"\",\"\",初期設定!$C24&\"/偏\")","v":"英表/偏"},null,{"$f":"IF(初期設定!$C25=\"\",\"\",初期設定!$C25&\"/偏\")","v":"コ英/偏"},null,{"$f":"IF(初期設定!$C26=\"\",\"\",初期設定!$C26&\"/偏\")","v":"数Ⅰ/偏"},null,{"$f":"IF(初期設定!$C27=\"\",\"\",初期設定!$C27&\"/偏\")","v":"数A/偏"},null,{"$f":"IF(初期設定!$C28=\"\",\"\",初期設定!$C28&\"/偏\")","v":"世B/偏"},null,{"$f":"IF(初期設定!$C29=\"\",\"\",初期設定!$C29&\"/偏\")","v":"化基/偏"},null,{"$f":"IF(初期設定!$C30=\"\",\"\",初期設定!$C30&\"/偏\")","v":""},null,{"$f":"IF(初期設定!$C31=\"\",\"\",初期設定!$C31&\"/偏\")","v":""},null,{"$f":"IF(初期設定!$C32=\"\",\"\",初期設定!$C32&\"/偏\")","v":""},null,{"$f":"IF(初期設定!$C33=\"\",\"\",初期設定!$C33&\"/偏\")","v":""},null,{"$f":"IF(初期設定!$C34=\"\",\"\",初期設定!$C34&\"/偏\")","v":""},null,{"$f":"IF(初期設定!$C35=\"\",\"\",初期設定!$C35&\"/偏\")","v":""},null,{"$f":"IF(初期設定!$C36=\"\",\"\",初期設定!$C36&\"/偏\")","v":""},null,{"$f":"IF(初期設定!$C38=\"\",\"\",初期設定!$C38)","v":"国総"},{"$f":"IF(初期設定!$C39=\"\",\"\",初期設定!$C39)","v":"英表"},{"$f":"IF(初期設定!$C40=\"\",\"\",初期設定!$C40)","v":"コ英"},{"$f":"IF(初期設定!$C41=\"\",\"\",初期設定!$C41)","v":"数Ⅰ"},{"$f":"IF(初期設定!$C42=\"\",\"\",初期設定!$C42)","v":"数A"},{"$f":"IF(初期設定!$C43=\"\",\"\",初期設定!$C43)","v":"世B"},{"$f":"IF(初期設定!$C44=\"\",\"\",初期設定!$C44)","v":"化基"},{"$f":"IF(初期設定!$C45=\"\",\"\",初期設定!$C45)","v":"情報"},{"$f":"IF(初期設定!$C46=\"\",\"\",初期設定!$C46)","v":"芸術"},{"$f":"IF(初期設定!$C47=\"\",\"\",初期設定!$C47)","v":"体育"},{"$f":"IF(初期設定!$C48=\"\",\"\",初期設定!$C48)","v":"保健"},{"$f":"IF(初期設定!$C49=\"\",\"\",初期設定!$C49)","v":""},{"$f":"IF(初期設定!$C50=\"\",\"\",初期設定!$C50)","v":""},{"$f":"IF(初期設定!$C51=\"\",\"\",初期設定!$C51)","v":""},{"$f":"IF(初期設定!$C38=\"\",\"\",初期設定!$C38)","v":"国総"},{"$f":"IF(初期設定!$C39=\"\",\"\",初期設定!$C39)","v":"英表"},{"$f":"IF(初期設定!$C40=\"\",\"\",初期設定!$C40)","v":"コ英"},{"$f":"IF(初期設定!$C41=\"\",\"\",初期設定!$C41)","v":"数Ⅰ"},{"$f":"IF(初期設定!$C42=\"\",\"\",初期設定!$C42)","v":"数A"},{"$f":"IF(初期設定!$C43=\"\",\"\",初期設定!$C43)","v":"世B"},{"$f":"IF(初期設定!$C44=\"\",\"\",初期設定!$C44)","v":"化基"},{"$f":"IF(初期設定!$C45=\"\",\"\",初期設定!$C45)","v":"情報"},{"$f":"IF(初期設定!$C46=\"\",\"\",初期設定!$C46)","v":"芸術"},{"$f":"IF(初期設定!$C47=\"\",\"\",初期設定!$C47)","v":"体育"},{"$f":"IF(初期設定!$C48=\"\",\"\",初期設定!$C48)","v":"保健"},{"$f":"IF(初期設定!$C49=\"\",\"\",初期設定!$C49)","v":""},{"$f":"IF(初期設定!$C50=\"\",\"\",初期設定!$C50)","v":""},{"$f":"IF(初期設定!$C51=\"\",\"\",初期設定!$C51)","v":""},{"$f":"IF(初期設定!$C38=\"\",\"\",初期設定!$C38)","v":"国総"},{"$f":"IF(初期設定!$C39=\"\",\"\",初期設定!$C39)","v":"英表"},{"$f":"IF(初期設定!$C40=\"\",\"\",初期設定!$C40)","v":"コ英"},{"$f":"IF(初期設定!$C41=\"\",\"\",初期設定!$C41)","v":"数Ⅰ"},{"$f":"IF(初期設定!$C42=\"\",\"\",初期設定!$C42)","v":"数A"},{"$f":"IF(初期設定!$C43=\"\",\"\",初期設定!$C43)","v":"世B"},{"$f":"IF(初期設定!$C44=\"\",\"\",初期設定!$C44)","v":"化基"},{"$f":"IF(初期設定!$C45=\"\",\"\",初期設定!$C45)","v":"情報"},{"$f":"IF(初期設定!$C46=\"\",\"\",初期設定!$C46)","v":"芸術"},{"$f":"IF(初期設定!$C47=\"\",\"\",初期設定!$C47)","v":"体育"},{"$f":"IF(初期設定!$C48=\"\",\"\",初期設定!$C48)","v":"保健"},{"$f":"IF(初期設定!$C49=\"\",\"\",初期設定!$C49)","v":""},{"$f":"IF(初期設定!$C50=\"\",\"\",初期設定!$C50)","v":""},{"$f":"IF(初期設定!$C51=\"\",\"\",初期設定!$C51)","v":""},{"$f":"IF(初期設定!$C38=\"\",\"\",初期設定!$C38)","v":"国総"},{"$f":"IF(初期設定!$C39=\"\",\"\",初期設定!$C39)","v":"英表"},{"$f":"IF(初期設定!$C40=\"\",\"\",初期設定!$C40)","v":"コ英"},{"$f":"IF(初期設定!$C41=\"\",\"\",初期設定!$C41)","v":"数Ⅰ"},{"$f":"IF(初期設定!$C42=\"\",\"\",初期設定!$C42)","v":"数A"},{"$f":"IF(初期設定!$C43=\"\",\"\",初期設定!$C43)","v":"世B"},{"$f":"IF(初期設定!$C44=\"\",\"\",初期設定!$C44)","v":"化基"},{"$f":"IF(初期設定!$C45=\"\",\"\",初期設定!$C45)","v":"情報"},{"$f":"IF(初期設定!$C46=\"\",\"\",初期設定!$C46)","v":"芸術"},{"$f":"IF(初期設定!$C47=\"\",\"\",初期設定!$C47)","v":"体育"},{"$f":"IF(初期設定!$C48=\"\",\"\",初期設定!$C48)","v":"保健"},{"$f":"IF(初期設定!$C49=\"\",\"\",初期設定!$C49)","v":""},{"$f":"IF(初期設定!$C50=\"\",\"\",初期設定!$C50)","v":""},{"$f":"IF(初期設定!$C51=\"\",\"\",初期設定!$C51)","v":""},{"$f":"IF(初期設定!$C38=\"\",\"\",初期設定!$C38)","v":"国総"},{"$f":"IF(初期設定!$C39=\"\",\"\",初期設定!$C39)","v":"英表"},{"$f":"IF(初期設定!$C40=\"\",\"\",初期設定!$C40)","v":"コ英"},{"$f":"IF(初期設定!$C41=\"\",\"\",初期設定!$C41)","v":"数Ⅰ"},{"$f":"IF(初期設定!$C42=\"\",\"\",初期設定!$C42)","v":"数A"},{"$f":"IF(初期設定!$C43=\"\",\"\",初期設定!$C43)","v":"世B"},{"$f":"IF(初期設定!$C44=\"\",\"\",初期設定!$C44)","v":"化基"},{"$f":"IF(初期設定!$C45=\"\",\"\",初期設定!$C45)","v":"情報"},{"$f":"IF(初期設定!$C46=\"\",\"\",初期設定!$C46)","v":"芸術"},{"$f":"IF(初期設定!$C47=\"\",\"\",初期設定!$C47)","v":"体育"},{"$f":"IF(初期設定!$C48=\"\",\"\",初期設定!$C48)","v":"保健"},{"$f":"IF(初期設定!$C49=\"\",\"\",初期設定!$C49)","v":""},{"$f":"IF(初期設定!$C50=\"\",\"\",初期設定!$C50)","v":""},{"$f":"IF(初期設定!$C51=\"\",\"\",初期設定!$C51)","v":""},{"$f":"IF(初期設定!$C38=\"\",\"\",初期設定!$C38)","v":"国総"},{"$f":"IF(初期設定!$C39=\"\",\"\",初期設定!$C39)","v":"英表"},{"$f":"IF(初期設定!$C40=\"\",\"\",初期設定!$C40)","v":"コ英"},{"$f":"IF(初期設定!$C41=\"\",\"\",初期設定!$C41)","v":"数Ⅰ"},{"$f":"IF(初期設定!$C42=\"\",\"\",初期設定!$C42)","v":"数A"},{"$f":"IF(初期設定!$C43=\"\",\"\",初期設定!$C43)","v":"世B"},{"$f":"IF(初期設定!$C44=\"\",\"\",初期設定!$C44)","v":"化基"},{"$f":"IF(初期設定!$C45=\"\",\"\",初期設定!$C45)","v":"情報"},{"$f":"IF(初期設定!$C46=\"\",\"\",初期設定!$C46)","v":"芸術"},{"$f":"IF(初期設定!$C47=\"\",\"\",初期設定!$C47)","v":"体育"},{"$f":"IF(初期設定!$C48=\"\",\"\",初期設定!$C48)","v":"保健"},{"$f":"IF(初期設定!$C49=\"\",\"\",初期設定!$C49)","v":""},{"$f":"IF(初期設定!$C50=\"\",\"\",初期設定!$C50)","v":""},{"$f":"IF(初期設定!$C51=\"\",\"\",初期設定!$C51)","v":""},{"$f":"IF(初期設定!$C38=\"\",\"\",初期設定!$C38)","v":"国総"},{"$f":"IF(初期設定!$C39=\"\",\"\",初期設定!$C39)","v":"英表"},{"$f":"IF(初期設定!$C40=\"\",\"\",初期設定!$C40)","v":"コ英"},{"$f":"IF(初期設定!$C41=\"\",\"\",初期設定!$C41)","v":"数Ⅰ"},{"$f":"IF(初期設定!$C42=\"\",\"\",初期設定!$C42)","v":"数A"},{"$f":"IF(初期設定!$C43=\"\",\"\",初期設定!$C43)","v":"世B"},{"$f":"IF(初期設定!$C44=\"\",\"\",初期設定!$C44)","v":"化基"},{"$f":"IF(初期設定!$C45=\"\",\"\",初期設定!$C45)","v":"情報"},{"$f":"IF(初期設定!$C46=\"\",\"\",初期設定!$C46)","v":"芸術"},{"$f":"IF(初期設定!$C47=\"\",\"\",初期設定!$C47)","v":"体育"},{"$f":"IF(初期設定!$C48=\"\",\"\",初期設定!$C48)","v":"保健"},{"$f":"IF(初期設定!$C49=\"\",\"\",初期設定!$C49)","v":""},{"$f":"IF(初期設定!$C50=\"\",\"\",初期設定!$C50)","v":""},{"$f":"IF(初期設定!$C51=\"\",\"\",初期設定!$C51)","v":""},{"$f":"IF(初期設定!$C38=\"\",\"\",初期設定!$C38)","v":"国総"},{"$f":"IF(初期設定!$C39=\"\",\"\",初期設定!$C39)","v":"英表"},{"$f":"IF(初期設定!$C40=\"\",\"\",初期設定!$C40)","v":"コ英"},{"$f":"IF(初期設定!$C41=\"\",\"\",初期設定!$C41)","v":"数Ⅰ"},{"$f":"IF(初期設定!$C42=\"\",\"\",初期設定!$C42)","v":"数A"},{"$f":"IF(初期設定!$C43=\"\",\"\",初期設定!$C43)","v":"世B"},{"$f":"IF(初期設定!$C44=\"\",\"\",初期設定!$C44)","v":"化基"},{"$f":"IF(初期設定!$C45=\"\",\"\",初期設定!$C45)","v":"情報"},{"$f":"IF(初期設定!$C46=\"\",\"\",初期設定!$C46)","v":"芸術"},{"$f":"IF(初期設定!$C47=\"\",\"\",初期設定!$C47)","v":"体育"},{"$f":"IF(初期設定!$C48=\"\",\"\",初期設定!$C48)","v":"保健"},{"$f":"IF(初期設定!$C49=\"\",\"\",初期設定!$C49)","v":""},{"$f":"IF(初期設定!$C50=\"\",\"\",初期設定!$C50)","v":""},{"$f":"IF(初期設定!$C51=\"\",\"\",初期設定!$C51)","v":""}]
[1,"3-A","鈴木A男",null,50,97,72,90,25,90,50,97,72,null,null,null,50,97,72,90,25,90,50,97,72,null,null,null,50,97,72,25,25,90,50,97,72,null,null,90,50,12,72,31,60,13,86,66,23,null,null,78,94,10,88,35,27,87,44,17,27,null,null,null,50,97,72,90,25,90,50,97,72,null,null,null,50,97,72,90,25,90,50,97,72,null,null,null,50,97,72,25,25,90,50,97,72,null,null,null,50,97,72,90,25,90,50,97,72,null,null,null,50,97,72,90,25,90,50,97,72,null,null,null,50,97,72,25,25,90,50,97,72,null,null,null,null,null,null,null,null,null,null,null,null,null,null,null,null,null,null,null,null,null,null,null,null,null,null,null,null,null,null,null,null,null,null,null,null,null,null,52,50,35,41,82,66,92,71,null,null,79,61,52,50,null,null,null,null,null,null,null,null,null,null,null,null,null,null,52,50,35,41,82,66,92,71,null,null,79,61,52,50,null,null,null,null,null,null,null,null,null,null,null,null,null,null,52,50,35,41,82,66,92,71,null,null,79,61,52,50,null,null,null,null,null,null,null,null,null,null,null,null,null,null,52,50,35,41,82,66,92,71,null,null,79,61,52,50,null,null,null,null,null,null,null,null,null,null,null,null,null,null,52,50,35,41,82,66,92,71,null,null,79,61,52,50,null,null,null,null,null,null,null,null,null,null,null,null,null,null,52,50,35,41,82,66,92,71,null,null,79,61,52,50,null,null,null,null,null,null,null,null,null,null,null,null,null,null,52,50,35,41,82,66,92,71,null,null,79,61,52,50,null,null,null,null,null,null,null,null,null,null,null,null,null,null,52,50,35,41,82,66,92,71,null,null,79,61,52,50,null,null,null,null,null,null,null,null,null,null,null,null,null,null,null,50,97,72,90,25,90,50,97,77,90,null,null,null,null,50,97,72,90,25,90,50,97,93,90,null,null,null,null,50,97,72,90,25,90,50,97,93,88,null,null,null,null,50,97,72,90,25,90,50,97,93,90,null,null,null,null,50,97,72,90,25,90,50,97,93,90,null,null,null,null,50,97,72,90,25,90,50,97,93,90,null,null,null,null,50,97,72,90,25,90,50,97,93,90,null,null,null,null,50,97,72,90,25,90,50,97,93,90]
[2,"3-A","鈴木B男",11,24,94,22,25,51,55,69,76,35,null,null,86,31,75,64,93,100,47,65,34,16,null,null,48,72,99,40,75,85,95,91,67,75,null,null,10,48,82,42,93,67,70,35,69,77,null,null,24,74,37,44,56,80,64,16,42,77,null,null,11,24,94,22,25,51,55,69,76,35,null,null,86,31,75,64,93,100,47,65,34,16,null,null,48,72,99,40,75,85,95,91,67,75,null,null,11,24,94,22,25,51,55,69,76,35,null,null,86,31,75,64,93,100,47,65,34,16,null,null,48,72,99,40,75,85,95,91,67,75,null,null,null,null,null,null,null,null,null,null,null,null,null,null,null,null,null,null,null,null,null,null,null,null,null,null,null,null,null,null,null,null,null,null,null,null,null,null,null,null,null,null,null,null,null,null,null,null,null,null,null,null,null,null,null,null,null,null,null,null,null,null,null,null,null,null,null,null,null,null,null,null,null,null,null,null,null,null,null,null,null,null,null,null,null,null,null,null,null,null,null,null,null,null,null,null,null,null,null,null,null,null,null,null,null,null,null,null,null,null,null,null,null,null,null,null,null,null,null,null,null,null,null,null,null,null,null,null,null,null,null,null,null,null,null,null,null,null,null,null,null,null,null,null,null,null,null,null,null,null,null,null,null,null,null,null,null,null,null,null,null,null,null,null,null,null,null,null,null,null,null,null,null,null,null,null,null,null,null,null,null,null,null,null,null,null,null,null,null,null,null,null,null,null,null,null,null,null,null,null,null,null,null,null,null,null,null,null,null,null,null,null,null,null,null,null,null,null,null,null,null,null,null,null,null,null,null,null,null,null,null,null,null,null,null,null,null,null,null,null,null,null,null,null,null,null,null,null,null,null,null,null,null,null,null,null,null,null,null,null,null,null,11,24,94,22,25,51,55,69,76,35,25,null,null,null,11,24,94,22,25,51,55,69,76,35,25,null,null,null,11,24,94,22,25,51,55,69,76,35,25,null,null,null,11,24,94,22,25,51,55,69,76,35,25,null,null,null,11,24,94,22,25,51,55,69,76,35,25,null,null,null,11,24,94,22,25,51,55,69,76,35,25,null,null,null,11,24,94,22,25,51,55,69,76,35,25,null,null,null,11,24,94,22,25,51,55,69,76,35,25]
[3,"3-A","鈴木C男",83,23,31,66,70,18,39,15,92,46,null,null,31,12,97,76,32,98,91,28,91,87,null,null,67,64,16,95,53,62,93,96,96,68,null,null,70,90,32,99,34,41,12,45,42,40,null,null,69,100,100,16,80,37,69,36,49,52,null,null,83,23,31,66,70,18,39,15,92,46,null,null,31,12,97,76,32,98,91,28,91,87,null,null,67,64,16,95,53,62,93,96,96,68,null,null,83,23,31,66,70,18,39,15,92,46,null,null,31,12,97,76,32,98,91,28,91,87,null,null,67,64,16,95,53,62,93,96,96,68,null,null,null,null,null,null,null,null,null,null,null,null,null,null,null,null,null,null,null,null,null,null,null,null,null,null,null,null,null,null,null,null,null,null,null,null,null,null,62,58,68,63,57,60,69,59,null,null,58,55,62,58,null,null,null,null,null,null,null,null,null,null,null,null,null,null,62,58,68,63,57,60,69,59,null,null,58,55,62,58,null,null,null,null,null,null,null,null,null,null,null,null,null,null,62,58,68,63,57,60,69,59,null,null,58,55,62,58,null,null,null,null,null,null,null,null,null,null,null,null,null,null,62,58,68,63,57,60,69,59,null,null,58,55,62,58,null,null,null,null,null,null,null,null,null,null,null,null,null,null,62,58,68,63,57,60,69,59,null,null,58,55,62,58,null,null,null,null,null,null,null,null,null,null,null,null,null,null,62,58,68,63,57,60,69,59,null,null,58,55,62,58,null,null,null,null,null,null,null,null,null,null,null,null,null,null,62,58,68,63,57,60,69,59,null,null,58,55,62,58,null,null,null,null,null,null,null,null,null,null,null,null,null,null,62,58,68,63,57,60,69,59,null,null,58,55,62,58,null,null,null,null,null,null,null,null,null,null,null,null,null,null,83,23,31,66,70,18,39,15,92,46,70,null,null,null,83,23,31,66,70,18,39,15,92,46,70,null,null,null,83,23,31,66,70,18,39,15,92,46,70,null,null,null,83,23,31,66,70,18,39,15,92,46,70,null,null,null,83,23,31,66,70,18,39,15,92,46,70,null,null,null,83,23,31,66,70,18,39,15,92,46,70,null,null,null,83,23,31,66,70,18,39,15,92,46,70,null,null,null,83,23,31,66,70,18,39,15,92,46,70]
[4,"3-A","鈴木D男",40,35,20,24,82,96,49,90,45,null,null,null,51,36,71,42,62,88,83,51,60,91,null,null,97,16,91,69,36,97,25,69,32,62,null,null,23,32,56,79,53,81,66,34,35,91,null,null,50,74,66,69,65,40,14,26,98,65,null,null,40,35,20,24,82,96,49,90,45,null,null,null,51,36,71,42,62,88,83,51,60,91,null,null,97,16,91,69,36,97,25,69,32,62,null,null,40,35,20,24,82,96,49,90,45,null,null,null,51,36,71,42,62,88,83,51,60,91,null,null,97,16,91,69,36,97,25,69,32,62,null,null,null,null,null,null,null,null,null,null,null,null,null,null,null,null,null,null,null,null,null,null,null,null,null,null,null,null,null,null,null,null,null,null,null,null,null,null,58,52,77,58,49,60,46,49,null,null,78,58,58,52,null,null,null,null,null,null,null,null,null,null,null,null,null,null,58,52,77,58,49,60,46,49,null,null,78,58,58,52,null,null,null,null,null,null,null,null,null,null,null,null,null,null,58,52,77,58,49,60,46,49,null,null,78,58,58,52,null,null,null,null,null,null,null,null,null,null,null,null,null,null,58,52,77,58,49,60,46,49,null,null,78,58,58,52,null,null,null,null,null,null,null,null,null,null,null,null,null,null,58,52,77,58,49,60,46,49,null,null,78,58,58,52,null,null,null,null,null,null,null,null,null,null,null,null,null,null,58,52,77,58,49,60,46,49,null,null,78,58,58,52,null,null,null,null,null,null,null,null,null,null,null,null,null,null,58,52,77,58,49,60,46,49,null,null,78,58,58,52,null,null,null,null,null,null,null,null,null,null,null,null,null,null,58,52,77,58,49,60,46,49,null,null,78,58,58,52,null,null,null,null,null,null,null,null,null,null,null,null,null,null,40,35,20,24,82,96,49,90,45,null,82,null,null,null,40,35,20,24,82,96,49,90,45,null,82,null,null,null,40,35,20,24,82,96,49,90,45,null,82,null,null,null,40,35,20,24,82,96,49,90,45,null,82,null,null,null,40,35,20,24,82,96,49,90,45,null,82,null,null,null,40,35,20,24,82,96,49,90,45,null,82,null,null,null,40,35,20,24,82,96,49,90,45,null,82,null,null,null,40,35,20,24,82,96,49,90,45,null,82]
[5,"3-A","鈴木E男",56,11,54,100,14,59,80,80,41,36,null,null,100,14,null,87,20,21,48,100,49,18,null,null,59,49,60,48,98,43,35,46,12,16,null,null,77,38,36,86,80,49,54,70,null,84,null,null,91,59,36,67,88,16,85,53,81,86,null,null,56,11,54,100,14,59,80,80,41,36,null,null,100,14,null,87,20,21,48,100,49,18,null,null,59,49,60,48,98,43,35,46,12,16,null,null,56,11,54,100,14,59,80,80,41,36,null,null,100,14,null,87,20,21,48,100,49,18,null,null,59,49,60,48,98,43,35,46,12,16,null,null,null,null,null,null,null,null,null,null,null,null,null,null,null,null,null,null,null,null,null,null,null,null,null,null,null,null,null,null,null,null,null,null,null,null,null,null,38,44,98,66,21,12,12,30,null,null,33,21,38,44,null,null,null,null,null,null,null,null,null,null,null,null,null,null,38,44,98,66,21,12,12,30,null,null,33,21,38,44,null,null,null,null,null,null,null,null,null,null,null,null,null,null,38,44,98,66,21,12,12,30,null,null,33,21,38,44,null,null,null,null,null,null,null,null,null,null,null,null,null,null,38,44,98,66,21,12,12,30,null,null,33,21,38,44,null,null,null,null,null,null,null,null,null,null,null,null,null,null,38,44,98,66,21,12,12,30,null,null,33,21,38,44,null,null,null,null,null,null,null,null,null,null,null,null,null,null,38,44,98,66,21,12,12,30,null,null,33,21,38,44,null,null,null,null,null,null,null,null,null,null,null,null,null,null,38,44,98,66,21,12,12,30,null,null,33,21,38,44,null,null,null,null,null,null,null,null,null,null,null,null,null,null,38,44,98,66,21,12,12,30,null,null,33,21,38,44,null,null,null,null,null,null,null,null,null,null,null,null,null,null,56,11,54,100,14,59,80,80,41,36,14,null,null,null,56,11,54,100,14,59,80,80,41,36,14,null,null,null,56,11,54,100,14,59,80,80,41,36,14,null,null,null,56,11,54,100,14,59,80,80,41,36,14,null,null,null,56,11,54,100,14,59,80,80,41,36,14,null,null,null,56,11,54,100,14,59,80,80,41,36,14,null,null,null,56,11,54,100,14,59,80,80,41,36,14,null,null,null,56,11,54,100,14,59,80,80,41,36,14]
[6,"3-A","鈴木F男",42,21,10,85,18,98,47,69,93,83,null,null,47,82,35,90,68,34,null,22,90,24,null,null,83,75,86,22,35,21,11,32,47,44,null,null,54,39,89,18,null,56,93,36,10,28,null,null,12,14,64,53,null,33,56,69,99,23,null,null,42,21,10,85,18,98,47,69,93,83,null,null,47,82,35,90,68,34,null,22,90,24,null,null,83,75,86,22,35,21,11,32,47,44,null,null,42,21,10,85,18,98,47,69,93,83,null,null,47,82,35,90,68,34,null,22,90,24,null,null,83,75,86,22,35,21,11,32,47,44,null,null,null,null,null,null,null,null,null,null,null,null,null,null,null,null,null,null,null,null,null,null,null,null,null,null,null,null,null,null,null,null,null,null,null,null,null,null,86,66,69,42,14,51,31,42,null,null,64,61,86,66,null,null,null,null,null,null,null,null,null,null,null,null,null,null,86,66,69,42,14,51,31,42,null,null,64,61,86,66,null,null,null,null,null,null,null,null,null,null,null,null,null,null,86,66,69,42,14,51,31,42,null,null,64,61,86,66,null,null,null,null,null,null,null,null,null,null,null,null,null,null,86,66,69,42,14,51,31,42,null,null,64,61,86,66,null,null,null,null,null,null,null,null,null,null,null,null,null,null,86,66,69,42,14,51,31,42,null,null,64,61,86,66,null,null,null,null,null,null,null,null,null,null,null,null,null,null,86,66,69,42,14,51,31,42,null,null,64,61,86,66,null,null,null,null,null,null,null,null,null,null,null,null,null,null,86,66,69,42,14,51,31,42,null,null,64,61,86,66,null,null,null,null,null,null,null,null,null,null,null,null,null,null,86,66,69,42,14,51,31,42,null,null,64,61,86,66,null,null,null,null,null,null,null,null,null,null,null,null,null,null,42,21,10,85,18,98,47,69,93,83,18,null,null,null,42,21,10,85,18,98,47,69,93,83,18,null,null,null,42,21,10,85,18,98,47,69,93,83,18,null,null,null,42,21,10,85,18,98,47,69,93,83,18,null,null,null,42,21,10,85,18,98,47,69,93,83,18,null,null,null,42,21,10,85,18,98,47,69,93,83,18,null,null,null,42,21,10,85,18,98,47,69,93,83,18,null,null,null,42,21,10,85,18,98,47,69,93,83,18]
[7,"3-B","鈴木G男",69,80,51,35,55,11,54,33,88,32,null,null,97,null,85,30,55,98,23,46,26,87,null,null,97,71,28,85,29,83,62,45,null,99,null,null,60,66,38,84,88,47,76,20,52,81,null,null,45,67,92,79,29,67,62,26,null,48,null,null,69,80,51,35,55,11,54,33,88,32,null,null,97,null,85,30,55,98,23,46,26,87,null,null,97,71,28,85,29,83,62,45,null,99,null,null,69,80,51,35,55,11,54,33,88,32,null,null,97,null,85,30,55,98,23,46,26,87,null,null,97,71,28,85,29,83,62,45,null,99,null,null,null,null,null,null,null,null,null,null,null,null,null,null,null,null,null,null,null,null,null,null,null,null,null,null,null,null,null,null,null,null,null,null,null,null,null,null,55,54,72,59,11,21,26,39,null,null,27,28,55,54,null,null,null,null,null,null,null,null,null,null,null,null,null,null,55,54,72,59,11,21,26,39,null,null,27,28,55,54,null,null,null,null,null,null,null,null,null,null,null,null,null,null,55,54,72,59,11,21,26,39,null,null,27,28,55,54,null,null,null,null,null,null,null,null,null,null,null,null,null,null,55,54,72,59,11,21,26,39,null,null,27,28,55,54,null,null,null,null,null,null,null,null,null,null,null,null,null,null,55,54,72,59,11,21,26,39,null,null,27,28,55,54,null,null,null,null,null,null,null,null,null,null,null,null,null,null,55,54,72,59,11,21,26,39,null,null,27,28,55,54,null,null,null,null,null,null,null,null,null,null,null,null,null,null,55,54,72,59,11,21,26,39,null,null,27,28,55,54,null,null,null,null,null,null,null,null,null,null,null,null,null,null,55,54,72,59,11,21,26,39,null,null,27,28,55,54,null,null,null,null,null,null,null,null,null,null,null,null,null,null,69,80,51,35,55,11,54,33,88,32,55,null,null,null,69,80,51,35,55,11,54,33,88,32,55,null,null,null,69,80,51,35,55,11,54,33,88,32,55,null,null,null,69,80,51,35,55,11,54,33,88,32,55,null,null,null,69,80,51,35,55,11,54,33,88,32,55,null,null,null,69,80,51,35,55,11,54,33,88,32,55,null,null,null,69,80,51,35,55,11,54,33,88,32,55,null,null,null,69,80,51,35,55,11,54,33,88,32,55]
[8,"3-B","鈴木H男",50,23,null,32,88,13,49,98,28,26,null,null,18,84,null,17,83,70,74,74,null,37,null,null,85,59,69,45,15,19,76,19,34,81,null,null,69,100,66,45,91,75,45,12,79,34,null,null,52,14,79,89,83,25,52,92,99,48,null,null,50,23,null,32,88,13,49,98,28,26,null,null,18,84,null,17,83,70,74,74,null,37,null,null,85,59,69,45,15,19,76,19,34,81,null,null,50,23,null,32,88,13,49,98,28,26,null,null,18,84,null,17,83,70,74,74,null,37,null,null,85,59,69,45,15,19,76,19,34,81,null,null,null,null,null,null,null,null,null,null,null,null,null,null,null,null,null,null,null,null,null,null,null,null,null,null,null,null,null,null,null,null,null,null,null,null,null,null,52,50,86,55,56,70,21,57,null,null,11,56,52,50,null,null,null,null,null,null,null,null,null,null,null,null,null,null,52,50,86,55,56,70,21,57,null,null,11,56,52,50,null,null,null,null,null,null,null,null,null,null,null,null,null,null,52,50,86,55,56,70,21,57,null,null,11,56,52,50,null,null,null,null,null,null,null,null,null,null,null,null,null,null,52,50,86,55,56,70,21,57,null,null,11,56,52,50,null,null,null,null,null,null,null,null,null,null,null,null,null,null,52,50,86,55,56,70,21,57,null,null,11,56,52,50,null,null,null,null,null,null,null,null,null,null,null,null,null,null,52,50,86,55,56,70,21,57,null,null,11,56,52,50,null,null,null,null,null,null,null,null,null,null,null,null,null,null,52,50,86,55,56,70,21,57,null,null,11,56,52,50,null,null,null,null,null,null,null,null,null,null,null,null,null,null,52,50,86,55,56,70,21,57,null,null,11,56,52,50,null,null,null,null,null,null,null,null,null,null,null,null,null,null,50,23,null,32,88,13,49,98,28,26,88,null,null,null,50,23,null,32,88,13,49,98,28,26,88,null,null,null,50,23,null,32,88,13,49,98,28,26,88,null,null,null,50,23,null,32,88,13,49,98,28,26,88,null,null,null,50,23,null,32,88,13,49,98,28,26,88,null,null,null,50,23,null,32,88,13,49,98,28,26,88,null,null,null,50,23,null,32,88,13,49,98,28,26,88,null,null,null,50,23,null,32,88,13,49,98,28,26,88]
[9,"3-B","鈴木I男",60,54,64,87,49,92,58,null,17,12,null,null,85,11,57,34,77,63,97,null,20,84,null,null,76,24,21,33,13,70,34,95,91,99,null,null,96,61,35,85,22,52,84,89,57,83,null,null,54,10,58,43,93,39,32,53,48,72,null,null,60,54,64,87,49,92,58,null,17,12,null,null,85,11,57,34,77,63,97,null,20,84,null,null,76,24,21,33,13,70,34,95,91,99,null,null,60,54,64,87,49,92,58,null,17,12,null,null,85,11,57,34,77,63,97,null,20,84,null,null,76,24,21,33,13,70,34,95,91,99,null,null,null,null,null,null,null,null,null,null,null,null,null,null,null,null,null,null,null,null,null,null,null,null,null,null,null,null,null,null,null,null,null,null,null,null,null,null,58,52,42,80,57,72,64,45,null,null,49,65,58,52,null,null,null,null,null,null,null,null,null,null,null,null,null,null,58,52,42,80,57,72,64,45,null,null,49,65,58,52,null,null,null,null,null,null,null,null,null,null,null,null,null,null,58,52,42,80,57,72,64,45,null,null,49,65,58,52,null,null,null,null,null,null,null,null,null,null,null,null,null,null,58,52,42,80,57,72,64,45,null,null,49,65,58,52,null,null,null,null,null,null,null,null,null,null,null,null,null,null,58,52,42,80,57,72,64,45,null,null,49,65,58,52,null,null,null,null,null,null,null,null,null,null,null,null,null,null,58,52,42,80,57,72,64,45,null,null,49,65,58,52,null,null,null,null,null,null,null,null,null,null,null,null,null,null,58,52,42,80,57,72,64,45,null,null,49,65,58,52,null,null,null,null,null,null,null,null,null,null,null,null,null,null,58,52,42,80,57,72,64,45,null,null,49,65,58,52,null,null,null,null,null,null,null,null,null,null,null,null,null,null,60,54,64,87,49,92,58,null,17,12,49,null,null,null,60,54,64,87,49,92,58,null,17,12,49,null,null,null,60,54,64,87,49,92,58,null,17,12,49,null,null,null,60,54,64,87,49,92,58,null,17,12,49,null,null,null,60,54,64,87,49,92,58,null,17,12,49,null,null,null,60,54,64,87,49,92,58,null,17,12,49,null,null,null,60,54,64,87,49,92,58,null,17,12,49,null,null,null,60,54,64,87,49,92,58,null,17,12,49]
[10,"3-B","鈴木J男",100,80,92,27,47,28,19,73,48,26,null,null,94,53,81,20,15,56,15,66,22,44,null,null,21,44,92,71,null,40,40,29,32,31,null,null,96,48,30,null,39,19,33,53,32,22,null,null,59,50,25,46,88,53,55,53,33,11,null,null,100,80,92,27,47,28,19,73,48,26,null,null,94,53,81,20,15,56,15,66,22,44,null,null,21,44,92,71,null,40,40,29,32,31,null,null,100,80,92,27,47,28,19,73,48,26,null,null,94,53,81,20,15,56,15,66,22,44,null,null,21,44,92,71,null,40,40,29,32,31,null,null,null,null,null,null,null,null,null,null,null,null,null,null,null,null,null,null,null,null,null,null,null,null,null,null,null,null,null,null,null,null,null,null,null,null,null,null,75,60,80,55,93,81,23,28,null,null,51,23,75,60,null,null,null,null,null,null,null,null,null,null,null,null,null,null,75,60,80,55,93,81,23,28,null,null,51,23,75,60,null,null,null,null,null,null,null,null,null,null,null,null,null,null,75,60,80,55,93,81,23,28,null,null,51,23,75,60,null,null,null,null,null,null,null,null,null,null,null,null,null,null,75,60,80,55,93,81,23,28,null,null,51,23,75,60,null,null,null,null,null,null,null,null,null,null,null,null,null,null,75,60,80,55,93,81,23,28,null,null,51,23,75,60,null,null,null,null,null,null,null,null,null,null,null,null,null,null,75,60,80,55,93,81,23,28,null,null,51,23,75,60,null,null,null,null,null,null,null,null,null,null,null,null,null,null,75,60,80,55,93,81,23,28,null,null,51,23,75,60,null,null,null,null,null,null,null,null,null,null,null,null,null,null,75,60,80,55,93,81,23,28,null,null,51,23,75,60,null,null,null,null,null,null,null,null,null,null,null,null,null,null,100,80,92,27,47,28,19,73,48,26,47,null,null,null,100,80,92,27,47,28,19,73,48,26,47,null,null,null,100,80,92,27,47,28,19,73,48,26,47,null,null,null,100,80,92,27,47,28,19,73,48,26,47,null,null,null,100,80,92,27,47,28,19,73,48,26,47,null,null,null,100,80,92,27,47,28,19,73,48,26,47,null,null,null,100,80,92,27,47,28,19,73,48,26,47,null,null,null,100,80,92,27,47,28,19,73,48,26,47]
[11,"3-B","鈴木K男",66,90,42,65,41,65,75,33,42,64,null,null,71,null,79,37,73,67,21,49,83,37,null,null,59,58,91,32,99,28,98,97,null,92,null,null,30,10,55,38,26,80,93,45,33,56,null,null,27,49,63,null,47,41,25,53,56,84,null,null,66,90,42,65,41,65,75,33,42,64,null,null,71,null,79,37,73,67,21,49,83,37,null,null,59,58,91,32,99,28,98,97,null,92,null,null,66,90,42,65,41,65,75,33,42,64,null,null,71,null,79,37,73,67,21,49,83,37,null,null,59,58,91,32,99,28,98,97,null,92,null,null,null,null,null,null,null,null,null,null,null,null,null,null,null,null,null,null,null,null,null,null,null,null,null,null,null,null,null,null,null,null,null,null,null,null,null,null,58,52,80,65,70,30,85,68,null,null,72,35,58,52,null,null,null,null,null,null,null,null,null,null,null,null,null,null,58,52,80,65,70,30,85,68,null,null,72,35,58,52,null,null,null,null,null,null,null,null,null,null,null,null,null,null,58,52,80,65,70,30,85,68,null,null,72,35,58,52,null,null,null,null,null,null,null,null,null,null,null,null,null,null,58,52,80,65,70,30,85,68,null,null,72,35,58,52,null,null,null,null,null,null,null,null,null,null,null,null,null,null,58,52,80,65,70,30,85,68,null,null,72,35,58,52,null,null,null,null,null,null,null,null,null,null,null,null,null,null,58,52,80,65,70,30,85,68,null,null,72,35,58,52,null,null,null,null,null,null,null,null,null,null,null,null,null,null,58,52,80,65,70,30,85,68,null,null,72,35,58,52,null,null,null,null,null,null,null,null,null,null,null,null,null,null,58,52,80,65,70,30,85,68,null,null,72,35,58,52,null,null,null,null,null,null,null,null,null,null,null,null,null,null,66,90,42,65,41,65,75,33,42,64,41,null,null,null,66,90,42,65,41,65,75,33,42,64,41,null,null,null,66,90,42,65,41,65,75,33,42,64,41,null,null,null,66,90,42,65,41,65,75,33,42,64,41,null,null,null,66,90,42,65,41,65,75,33,42,64,41,null,null,null,66,90,42,65,41,65,75,33,42,64,41,null,null,null,66,90,42,65,41,65,75,33,42,64,41,null,null,null,66,90,42,65,41,65,75,33,42,64,41]
[12,"3-B","鈴木L男",28,87,17,29,18,72,19,86,92,94,null,null,59,70,null,79,26,81,15,47,81,94,null,null,73,82,20,33,79,21,77,25,35,89,null,null,76,99,59,92,84,53,55,97,15,80,null,null,35,99,76,89,12,28,35,86,100,54,null,null,28,87,17,29,18,72,19,86,92,94,null,null,59,70,null,79,26,81,15,47,81,94,null,null,73,82,20,33,79,21,77,25,35,89,null,null,28,87,17,29,18,72,19,86,92,94,null,null,59,70,null,79,26,81,15,47,81,94,null,null,73,82,20,33,79,21,77,25,35,89,null,null,null,null,null,null,null,null,null,null,null,null,null,null,null,null,null,null,null,null,null,null,null,null,null,null,null,null,null,null,null,null,null,null,null,null,null,null,36,40,54,63,14,24,33,18,null,null,58,19,36,40,null,null,null,null,null,null,null,null,null,null,null,null,null,null,36,40,54,63,14,24,33,18,null,null,58,19,36,40,null,null,null,null,null,null,null,null,null,null,null,null,null,null,36,40,54,63,14,24,33,18,null,null,58,19,36,40,null,null,null,null,null,null,null,null,null,null,null,null,null,null,36,40,54,63,14,24,33,18,null,null,58,19,36,40,null,null,null,null,null,null,null,null,null,null,null,null,null,null,36,40,54,63,14,24,33,18,null,null,58,19,36,40,null,null,null,null,null,null,null,null,null,null,null,null,null,null,36,40,54,63,14,24,33,18,null,null,58,19,36,40,null,null,null,null,null,null,null,null,null,null,null,null,null,null,36,40,54,63,14,24,33,18,null,null,58,19,36,40,null,null,null,null,null,null,null,null,null,null,null,null,null,null,36,40,54,63,14,24,33,18,null,null,58,19,36,40,null,null,null,null,null,null,null,null,null,null,null,null,null,null,28,87,17,29,18,72,19,86,92,94,18,null,null,null,28,87,17,29,18,72,19,86,92,94,18,null,null,null,28,87,17,29,18,72,19,86,92,94,18,null,null,null,28,87,17,29,18,72,19,86,92,94,18,null,null,null,28,87,17,29,18,72,19,86,92,94,18,null,null,null,28,87,17,29,18,72,19,86,92,94,18,null,null,null,28,87,17,29,18,72,19,86,92,94,18,null,null,null,28,87,17,29,18,72,19,86,92,94,18]
[13,"3-B","鈴木M男",55,57,18,35,64,96,73,77,71,64,null,null,11,89,81,81,100,28,40,72,39,30,null,null,57,29,35,54,22,30,87,70,90,49,null,null,69,41,36,62,10,90,78,10,80,53,null,null,63,48,82,15,16,96,33,44,53,97,null,null,55,57,18,35,64,96,73,77,71,64,null,null,11,89,81,81,100,28,40,72,39,30,null,null,57,29,35,54,22,30,87,70,90,49,null,null,55,57,18,35,64,96,73,77,71,64,null,null,11,89,81,81,100,28,40,72,39,30,null,null,57,29,35,54,22,30,87,70,90,49,null,null,null,null,null,null,null,null,null,null,null,null,null,null,null,null,null,null,null,null,null,null,null,null,null,null,null,null,null,null,null,null,null,null,null,null,null,null,24,36,92,67,79,32,30,22,null,null,18,35,24,36,null,null,null,null,null,null,null,null,null,null,null,null,null,null,24,36,92,67,79,32,30,22,null,null,18,35,24,36,null,null,null,null,null,null,null,null,null,null,null,null,null,null,24,36,92,67,79,32,30,22,null,null,18,35,24,36,null,null,null,null,null,null,null,null,null,null,null,null,null,null,24,36,92,67,79,32,30,22,null,null,18,35,24,36,null,null,null,null,null,null,null,null,null,null,null,null,null,null,24,36,92,67,79,32,30,22,null,null,18,35,24,36,null,null,null,null,null,null,null,null,null,null,null,null,null,null,24,36,92,67,79,32,30,22,null,null,18,35,24,36,null,null,null,null,null,null,null,null,null,null,null,null,null,null,24,36,92,67,79,32,30,22,null,null,18,35,24,36,null,null,null,null,null,null,null,null,null,null,null,null,null,null,24,36,92,67,79,32,30,22,null,null,18,35,24,36,null,null,null,null,null,null,null,null,null,null,null,null,null,null,55,57,18,35,64,96,73,77,71,64,64,null,null,null,55,57,18,35,64,96,73,77,71,64,64,null,null,null,55,57,18,35,64,96,73,77,71,64,64,null,null,null,55,57,18,35,64,96,73,77,71,64,64,null,null,null,55,57,18,35,64,96,73,77,71,64,64,null,null,null,55,57,18,35,64,96,73,77,71,64,64,null,null,null,55,57,18,35,64,96,73,77,71,64,64,null,null,null,55,57,18,35,64,96,73,77,71,64,64]
[14,"3-C","鈴木N男",30,50,24,26,58,42,43,78,82,33,null,null,12,100,null,22,53,99,11,92,95,55,null,null,90,13,14,74,62,100,98,57,46,11,null,null,31,17,20,88,14,17,89,59,33,81,null,null,90,86,18,50,31,73,44,85,22,10,null,null,30,50,24,26,58,42,43,78,82,33,null,null,12,100,null,22,53,99,11,92,95,55,null,null,90,13,14,74,62,100,98,57,46,11,null,null,30,50,24,26,58,42,43,78,82,33,null,null,12,100,null,22,53,99,11,92,95,55,null,null,90,13,14,74,62,100,98,57,46,11,null,null,null,null,null,null,null,null,null,null,null,null,null,null,null,null,null,null,null,null,null,null,null,null,null,null,null,null,null,null,null,null,null,null,null,null,null,null,60,56,92,60,65,38,57,78,null,null,16,19,60,56,null,null,null,null,null,null,null,null,null,null,null,null,null,null,60,56,92,60,65,38,57,78,null,null,16,19,60,56,null,null,null,null,null,null,null,null,null,null,null,null,null,null,60,56,92,60,65,38,57,78,null,null,16,19,60,56,null,null,null,null,null,null,null,null,null,null,null,null,null,null,60,56,92,60,65,38,57,78,null,null,16,19,60,56,null,null,null,null,null,null,null,null,null,null,null,null,null,null,60,56,92,60,65,38,57,78,null,null,16,19,60,56,null,null,null,null,null,null,null,null,null,null,null,null,null,null,60,56,92,60,65,38,57,78,null,null,16,19,60,56,null,null,null,null,null,null,null,null,null,null,null,null,null,null,60,56,92,60,65,38,57,78,null,null,16,19,60,56,null,null,null,null,null,null,null,null,null,null,null,null,null,null,60,56,92,60,65,38,57,78,null,null,16,19,60,56,null,null,null,null,null,null,null,null,null,null,null,null,null,null,30,50,24,26,58,42,43,78,82,33,58,null,null,null,30,50,24,26,58,42,43,78,82,33,58,null,null,null,30,50,24,26,58,42,43,78,82,33,58,null,null,null,30,50,24,26,58,42,43,78,82,33,58,null,null,null,30,50,24,26,58,42,43,78,82,33,58,null,null,null,30,50,24,26,58,42,43,78,82,33,58,null,null,null,30,50,24,26,58,42,43,78,82,33,58,null,null,null,30,50,24,26,58,42,43,78,82,33,58]
[15,"3-C","鈴木O男",19,86,68,18,44,59,94,52,19,29,null,null,68,null,30,81,28,51,43,16,43,22,null,null,29,35,86,33,49,49,24,86,null,51,null,null,48,38,43,12,39,51,15,21,25,85,null,null,59,61,91,72,17,68,12,53,null,75,null,null,19,86,68,18,44,59,94,52,19,29,null,null,68,null,30,81,28,51,43,16,43,22,null,null,29,35,86,33,49,49,24,86,null,51,null,null,19,86,68,18,44,59,94,52,19,29,null,null,68,null,30,81,28,51,43,16,43,22,null,null,29,35,86,33,49,49,24,86,null,51,null,null,null,null,null,null,null,null,null,null,null,null,null,null,null,null,null,null,null,null,null,null,null,null,null,null,null,null,null,null,null,null,null,null,null,null,null,null,40,46,38,25,80,34,30,47,null,null,41,40,40,46,null,null,null,null,null,null,null,null,null,null,null,null,null,null,40,46,38,25,80,34,30,47,null,null,41,40,40,46,null,null,null,null,null,null,null,null,null,null,null,null,null,null,40,46,38,25,80,34,30,47,null,null,41,40,40,46,null,null,null,null,null,null,null,null,null,null,null,null,null,null,40,46,38,25,80,34,30,47,null,null,41,40,40,46,null,null,null,null,null,null,null,null,null,null,null,null,null,null,40,46,38,25,80,34,30,47,null,null,41,40,40,46,null,null,null,null,null,null,null,null,null,null,null,null,null,null,40,46,38,25,80,34,30,47,null,null,41,40,40,46,null,null,null,null,null,null,null,null,null,null,null,null,null,null,40,46,38,25,80,34,30,47,null,null,41,40,40,46,null,null,null,null,null,null,null,null,null,null,null,null,null,null,40,46,38,25,80,34,30,47,null,null,41,40,40,46,null,null,null,null,null,null,null,null,null,null,null,null,null,null,19,86,68,18,44,59,94,52,19,29,44,null,null,null,19,86,68,18,44,59,94,52,19,29,44,null,null,null,19,86,68,18,44,59,94,52,19,29,44,null,null,null,19,86,68,18,44,59,94,52,19,29,44,null,null,null,19,86,68,18,44,59,94,52,19,29,44,null,null,null,19,86,68,18,44,59,94,52,19,29,44,null,null,null,19,86,68,18,44,59,94,52,19,29,44,null,null,null,19,86,68,18,44,59,94,52,19,29,44]
[16,"3-C","鈴木P男",null,44,44,77,19,null,81,39,47,79,null,null,10,24,65,94,72,80,35,35,57,11,null,null,23,59,41,25,null,14,22,43,99,76,null,null,31,59,71,71,76,86,40,25,null,37,null,null,37,88,85,24,96,68,60,97,30,51,null,null,null,44,44,77,19,null,81,39,47,79,null,null,10,24,65,94,72,80,35,35,57,11,null,null,23,59,41,25,null,14,22,43,99,76,null,null,null,44,44,77,19,null,81,39,47,79,null,null,10,24,65,94,72,80,35,35,57,11,null,null,23,59,41,25,null,14,22,43,99,76,null,null,null,null,null,null,null,null,null,null,null,null,null,null,null,null,null,null,null,null,null,null,null,null,null,null,null,null,null,null,null,null,null,null,null,null,null,null,42,48,37,62,81,43,84,55,null,null,35,26,42,48,null,null,null,null,null,null,null,null,null,null,null,null,null,null,42,48,37,62,81,43,84,55,null,null,35,26,42,48,null,null,null,null,null,null,null,null,null,null,null,null,null,null,42,48,37,62,81,43,84,55,null,null,35,26,42,48,null,null,null,null,null,null,null,null,null,null,null,null,null,null,42,48,37,62,81,43,84,55,null,null,35,26,42,48,null,null,null,null,null,null,null,null,null,null,null,null,null,null,42,48,37,62,81,43,84,55,null,null,35,26,42,48,null,null,null,null,null,null,null,null,null,null,null,null,null,null,42,48,37,62,81,43,84,55,null,null,35,26,42,48,null,null,null,null,null,null,null,null,null,null,null,null,null,null,42,48,37,62,81,43,84,55,null,null,35,26,42,48,null,null,null,null,null,null,null,null,null,null,null,null,null,null,42,48,37,62,81,43,84,55,null,null,35,26,42,48,null,null,null,null,null,null,null,null,null,null,null,null,null,null,null,44,44,77,19,null,81,39,47,79,19,null,null,null,null,44,44,77,19,null,81,39,47,79,19,null,null,null,null,44,44,77,19,null,81,39,47,79,19,null,null,null,null,44,44,77,19,null,81,39,47,79,19,null,null,null,null,44,44,77,19,null,81,39,47,79,19,null,null,null,null,44,44,77,19,null,81,39,47,79,19,null,null,null,null,44,44,77,19,null,81,39,47,79,19,null,null,null,null,44,44,77,19,null,81,39,47,79,19]
[17,"3-C","鈴木Q男",88,10,13,12,61,46,14,31,30,40,null,null,78,52,39,67,71,21,12,100,25,49,null,null,95,32,70,28,71,83,16,85,77,60,null,null,22,57,96,80,56,88,78,41,71,77,null,null,58,31,80,84,84,87,null,91,84,39,null,null,88,10,13,12,61,46,14,31,30,40,null,null,78,52,39,67,71,21,12,100,25,49,null,null,95,32,70,28,71,83,16,85,77,60,null,null,88,10,13,12,61,46,14,31,30,40,null,null,78,52,39,67,71,21,12,100,25,49,null,null,95,32,70,28,71,83,16,85,77,60,null,null,null,null,null,null,null,null,null,null,null,null,null,null,null,null,null,null,null,null,null,null,null,null,null,null,null,null,null,null,null,null,null,null,null,null,null,null,80,62,40,31,63,62,59,35,null,null,25,13,80,62,null,null,null,null,null,null,null,null,null,null,null,null,null,null,80,62,40,31,63,62,59,35,null,null,25,13,80,62,null,null,null,null,null,null,null,null,null,null,null,null,null,null,80,62,40,31,63,62,59,35,null,null,25,13,80,62,null,null,null,null,null,null,null,null,null,null,null,null,null,null,80,62,40,31,63,62,59,35,null,null,25,13,80,62,null,null,null,null,null,null,null,null,null,null,null,null,null,null,80,62,40,31,63,62,59,35,null,null,25,13,80,62,null,null,null,null,null,null,null,null,null,null,null,null,null,null,80,62,40,31,63,62,59,35,null,null,25,13,80,62,null,null,null,null,null,null,null,null,null,null,null,null,null,null,80,62,40,31,63,62,59,35,null,null,25,13,80,62,null,null,null,null,null,null,null,null,null,null,null,null,null,null,80,62,40,31,63,62,59,35,null,null,25,13,80,62,null,null,null,null,null,null,null,null,null,null,null,null,null,null,88,10,13,12,61,46,14,31,30,40,61,null,null,null,88,10,13,12,61,46,14,31,30,40,61,null,null,null,88,10,13,12,61,46,14,31,30,40,61,null,null,null,88,10,13,12,61,46,14,31,30,40,61,null,null,null,88,10,13,12,61,46,14,31,30,40,61,null,null,null,88,10,13,12,61,46,14,31,30,40,61,null,null,null,88,10,13,12,61,46,14,31,30,40,61,null,null,null,88,10,13,12,61,46,14,31,30,40,61]
[18,"3-C","鈴木R男",95,12,22,19,97,83,48,76,31,66,null,null,71,36,35,83,12,84,14,51,61,76,null,null,56,42,93,55,66,49,40,97,33,86,null,null,16,34,28,99,18,24,73,90,82,76,null,null,37,29,68,63,72,57,53,92,33,45,null,null,95,12,22,19,97,83,48,76,31,66,null,null,71,36,35,83,12,84,14,51,61,76,null,null,56,42,93,55,66,49,40,97,33,86,null,null,95,12,22,19,97,83,48,76,31,66,null,null,71,36,35,83,12,84,14,51,61,76,null,null,56,42,93,55,66,49,40,97,33,86,null,null,null,null,null,null,null,null,null,null,null,null,null,null,null,null,null,null,null,null,null,null,null,null,null,null,null,null,null,null,null,null,null,null,null,null,null,null,85,65,28,67,61,76,78,58,null,null,36,12,85,65,null,null,null,null,null,null,null,null,null,null,null,null,null,null,85,65,28,67,61,76,78,58,null,null,36,12,85,65,null,null,null,null,null,null,null,null,null,null,null,null,null,null,85,65,28,67,61,76,78,58,null,null,36,12,85,65,null,null,null,null,null,null,null,null,null,null,null,null,null,null,85,65,28,67,61,76,78,58,null,null,36,12,85,65,null,null,null,null,null,null,null,null,null,null,null,null,null,null,85,65,28,67,61,76,78,58,null,null,36,12,85,65,null,null,null,null,null,null,null,null,null,null,null,null,null,null,85,65,28,67,61,76,78,58,null,null,36,12,85,65,null,null,null,null,null,null,null,null,null,null,null,null,null,null,85,65,28,67,61,76,78,58,null,null,36,12,85,65,null,null,null,null,null,null,null,null,null,null,null,null,null,null,85,65,28,67,61,76,78,58,null,null,36,12,85,65,null,null,null,null,null,null,null,null,null,null,null,null,null,null,95,12,22,19,97,83,48,76,31,66,97,null,null,null,95,12,22,19,97,83,48,76,31,66,97,null,null,null,95,12,22,19,97,83,48,76,31,66,97,null,null,null,95,12,22,19,97,83,48,76,31,66,97,null,null,null,95,12,22,19,97,83,48,76,31,66,97,null,null,null,95,12,22,19,97,83,48,76,31,66,97,null,null,null,95,12,22,19,97,83,48,76,31,66,97,null,null,null,95,12,22,19,97,83,48,76,31,66,97]
[19,"3-C","鈴木S男",81,31,53,15,40,14,78,53,76,73,null,null,44,54,17,43,91,49,20,32,38,20,null,null,93,42,52,44,67,84,33,99,32,69,null,null,34,89,25,80,74,45,52,29,97,13,null,null,83,26,16,28,89,84,27,64,49,41,null,null,81,31,53,15,40,14,78,53,76,73,null,null,44,54,17,43,91,49,20,32,38,20,null,null,93,42,52,44,67,84,33,99,32,69,null,null,81,31,53,15,40,14,78,53,76,73,null,null,44,54,17,43,91,49,20,32,38,20,null,null,93,42,52,44,67,84,33,99,32,69,null,null,null,null,null,null,null,null,null,null,null,null,null,null,null,null,null,null,null,null,null,null,null,null,null,null,null,null,null,null,null,null,null,null,null,null,null,null,75,60,92,54,76,58,27,33,null,null,46,42,75,60,null,null,null,null,null,null,null,null,null,null,null,null,null,null,75,60,92,54,76,58,27,33,null,null,46,42,75,60,null,null,null,null,null,null,null,null,null,null,null,null,null,null,75,60,92,54,76,58,27,33,null,null,46,42,75,60,null,null,null,null,null,null,null,null,null,null,null,null,null,null,75,60,92,54,76,58,27,33,null,null,46,42,75,60,null,null,null,null,null,null,null,null,null,null,null,null,null,null,75,60,92,54,76,58,27,33,null,null,46,42,75,60,null,null,null,null,null,null,null,null,null,null,null,null,null,null,75,60,92,54,76,58,27,33,null,null,46,42,75,60,null,null,null,null,null,null,null,null,null,null,null,null,null,null,75,60,92,54,76,58,27,33,null,null,46,42,75,60,null,null,null,null,null,null,null,null,null,null,null,null,null,null,75,60,92,54,76,58,27,33,null,null,46,42,75,60,null,null,null,null,null,null,null,null,null,null,null,null,null,null,81,31,53,15,40,14,78,53,76,73,40,null,null,null,81,31,53,15,40,14,78,53,76,73,40,null,null,null,81,31,53,15,40,14,78,53,76,73,40,null,null,null,81,31,53,15,40,14,78,53,76,73,40,null,null,null,81,31,53,15,40,14,78,53,76,73,40,null,null,null,81,31,53,15,40,14,78,53,76,73,40,null,null,null,81,31,53,15,40,14,78,53,76,73,40,null,null,null,81,31,53,15,40,14,78,53,76,73,40]
[20,"3-C","鈴木T男",30,99,79,88,71,20,60,71,89,92,null,null,11,16,86,65,75,74,77,63,49,44,null,null,51,61,18,64,33,11,62,88,86,47,null,null,83,72,37,39,27,81,78,83,40,76,null,null,32,99,16,10,46,49,93,85,86,52,null,null,30,99,79,88,71,20,60,71,89,92,null,null,11,16,86,65,75,74,77,63,49,44,null,null,51,61,18,64,33,11,62,88,86,47,null,null,30,99,79,88,71,20,60,71,89,92,null,null,11,16,86,65,75,74,77,63,49,44,null,null,51,61,18,64,33,11,62,88,86,47,null,null,null,null,null,null,null,null,null,null,null,null,null,null,null,null,null,null,null,null,null,null,null,null,null,null,null,null,null,null,null,null,null,null,null,null,null,null,75,60,41,28,45,51,23,25,null,null,45,48,75,60,null,null,null,null,null,null,null,null,null,null,null,null,null,null,75,60,41,28,45,51,23,25,null,null,45,48,75,60,null,null,null,null,null,null,null,null,null,null,null,null,null,null,75,60,41,28,45,51,23,25,null,null,45,48,75,60,null,null,null,null,null,null,null,null,null,null,null,null,null,null,75,60,41,28,45,51,23,25,null,null,45,48,75,60,null,null,null,null,null,null,null,null,null,null,null,null,null,null,75,60,41,28,45,51,23,25,null,null,45,48,75,60,null,null,null,null,null,null,null,null,null,null,null,null,null,null,75,60,41,28,45,51,23,25,null,null,45,48,75,60,null,null,null,null,null,null,null,null,null,null,null,null,null,null,75,60,41,28,45,51,23,25,null,null,45,48,75,60,null,null,null,null,null,null,null,null,null,null,null,null,null,null,75,60,41,28,45,51,23,25,null,null,45,48,75,60,null,null,null,null,null,null,null,null,null,null,null,null,null,null,30,99,79,88,71,20,60,71,89,92,71,null,null,null,30,99,79,88,71,20,60,71,89,92,71,null,null,null,30,99,79,88,71,20,60,71,89,92,71,null,null,null,30,99,79,88,71,20,60,71,89,92,71,null,null,null,30,99,79,88,71,20,60,71,89,92,71,null,null,null,30,99,79,88,71,20,60,71,89,92,71,null,null,null,30,99,79,88,71,20,60,71,89,92,71,null,null,null,30,99,79,88,71,20,60,71,89,92,71]
[21]
[22]
[23]
[24]
[25]
[26]
[27]
[28]
[29]
[30]
[31]
[32]
[33]
[34]
[35]
[36]
[37]
[38]
[39]
[40]
[41]
[42]
[43]
[44]
[45]
[46]
[47]
[48]
[49]
[50]
[51]
[52]
[53]
[54]
[55]
[56]
[57]
[58]
[59]
[60]
[61]
[62]
[63]
[64]
[65]
[66]
[67]
[68]
[69]
[70]
[71]
[72]
[73]
[74]
[75]
[76]
[77]
[78]
[79]
[80]
[81]
[82]
[83]
[84]
[85]
[86]
[87]
[88]
[89]
[90]
[91]
[92]
[93]
[94]
[95]
[96]
[97]
[98]
[99]
[100]
[101]
[102]
[103]
[104]
[105]
[106]
[107]
[108]
[109]
[110]
[111]
[112]
[113]
[114]
[115]
[116]
[117]
[118]
[119]
[120]
[121]
[122]
[123]
[124]
[125]
[126]
[127]
[128]
[129]
[130]
[131]
[132]
[133]
[134]
[135]
[136]
[137]
[138]
[139]
[140]
[141]
[142]
[143]
[144]
[145]
[146]
[147]
[148]
[149]
[150]
[151]
[152]
[153]
[154]
[155]
[156]
[157]
[158]
[159]
[160]
[161]
[162]
[163]
[164]
[165]
[166]
[167]
[168]
[169]
[170]
[171]
[172]
[173]
[174]
[175]
[176]
[177]
[178]
[179]
[180]
[181]
[182]
[183]
[184]
[185]
[186]
[187]
[188]
[189]
[190]
[191]
[192]
[193]
[194]
[195]
[196]
[197]
[198]
[199]
[200]
[201]
[202]
[203]
[204]
[205]
[206]
[207]
[208]
[209]
[210]
[211]
[212]
[213]
[214]
[215]
[216]
[217]
[218]
[219]
[220]
[221]
[222]
[223]
[224]
[225]
[226]
[227]
[228]
[229]
[230]
[231]
[232]
[233]
[234]
[235]
[236]
[237]
[238]
[239]
[240]
[241]
[242]
[243]
[244]
[245]
[246]
[247]
[248]
[249]
[250]
[251]
[252]
[253]
[254]
[255]
[256]
[257]
[258]
[259]
[260]
[261]
[262]
[263]
[264]
[265]
[266]
[267]
[268]
[269]
[270]
[271]
[272]
[273]
[274]
[275]
[276]
[277]
[278]
[279]
[280]
[281]
[282]
[283]
[284]
[285]
[286]
[287]
[288]
[289]
[290]
[291]
[292]
[293]
[294]
[295]
[296]
[297]
[298]
[299]
[300]
[301]
[302]
[303]
[304]
[305]
[306]
[307]
[308]
[309]
[310]
[311]
[312]
[313]
[314]
[315]
[316]
[317]
[318]
[319]
[320]
[321]
[322]
[323]
[324]
[325]
[326]
[327]
[328]
[329]
[330]
[331]
[332]
[333]
[334]
[335]
[336]
[337]
[338]
[339]
[340]
[341]
[342]
[343]
[344]
[345]
[346]
[347]
[348]
[349]
[350]
[351]
[352]
[353]
[354]
[355]
[356]
[357]
[358]
[359]
[360]
[361]
[362]
[363]
[364]
[365]
[366]
[367]
[368]
[369]
[370]
[371]
[372]
[373]
[374]
[375]
[376]
[377]
[378]
[379]
[380]
[381]
[382]
[383]
[384]
[385]
[386]
[387]
[388]
[389]
[390]
[391]
[392]
[393]
[394]
[395]
[396]
[397]
[398]
[399]
[400]
[401]
[402]
[403]
[404]
[405]
[406]
[407]
[408]
[409]
[410]
[411]
[412]
[413]
[414]
[415]
[416]
[417]
[418]
[419]
[420]
[421]
[422]
[423]
[424]
[425]
[426]
[427]
[428]
[429]
[430]
[431]
[432]
[433]
[434]
[435]
[436]
[437]
[438]
[439]
[440]
[441]
[442]
[443]
[444]
[445]
[446]
[447]
[448]
[449]
[450]
[451]
[452]
[453]
[454]
[455]
[456]
[457]
[458]
[459]
[460]
[461]
[462]
[463]
[464]
[465]
[466]
[467]
[468]
[469]
[470]
[471]
[472]
[473]
[474]
[475]
[476]
[477]
[478]
[479]
[480]
[481]
[482]
[483]
[484]
[485]
[486]
[487]
[488]
[489]
[490]
[491]
[492]
[493]
[494]
[495]
[496]
[497]
[498]
[499]
[500]

{"sheet":"科目別テスト成績表","index":1,"n_rows":77,"n_cols":18,"rows_kept":77,"cut":false,"hidden":false,"merged":[[40,8,40,9],[41,12,41,13],[1,10,1,13],[0,18,0,19],[39,18,39,19],[40,10,40,13],[2,12,2,13],[1,17,1,20],[40,17,40,20],[0,8,0,9],[1,8,1,9],[0,10,0,13],[39,10,39,13],[39,8,39,9]]}
[null,null,null,null,null,null,null,"ID","class",null,"氏　名"]
[null,{"$f":"IF(初期設定!$C2=\"\",\"\",初期設定!$C2)","v":"月例テスト"},null,null,null,null,null,20,{"$f":"IF(VLOOKUP($H2,テストデータ!$A$4:$C503,2,FALSE)=\"\",\"\",VLOOKUP($H2,テストデータ!$A$4:$C503,2,FALSE))","v":"3-C"},null,{"$f":"IF(VLOOKUP($H2,テストデータ!$A$4:$C503,3,FALSE)=\"\",\"\",VLOOKUP($H2,テストデータ!$A$4:$C503,3,FALSE))","v":"鈴木T男"},null,null,null,null,null,null,{"$f":"初期設定!$B65","v":"微風予備校"}]
[null,null,null,null,null,null,null,null,null,null,null,null,{"$f":"IF(初期設定!$C$1=\"\",\"\",初期設定!$C$1)","v":"20xx年度"}]
[null,{"$f":"IF(初期設定!$C3=\"\",\"\",初期設定!$C3)","v":"国総"},"1回","2回","3回","4回","5回","6回","7回","8回","9回","10回","11回","12回"]
[null,"実施日"]
[null,"得点"]
[null,"平均点"]
[null,"校内順位"]
[null,{"$f":"IF(初期設定!$C4=\"\",\"\",初期設定!$C4)","v":"英表"},"1回","2回","3回","4回","5回","6回","7回","8回","9回","10回","11回","12回"]
[null,"実施日",{"$f":"IF(テストデータ!P$2=\"\",\"\",テストデータ!P$2)","v":"4/8"},{"$f":"IF(テストデータ!Q$2=\"\",\"\",テストデータ!Q$2)","v":"5/8"},{"$f":"IF(テストデータ!R$2=\"\",\"\",テストデータ!R$2)","v":"6/8"},{"$f":"IF(テストデータ!S$2=\"\",\"\",テストデータ!S$2)","v":"7/8"},{"$f":"IF(テストデータ!T$2=\"\",\"\",テストデータ!T$2)","v":"8/8"},{"$f":"IF(テストデータ!U$2=\"\",\"\",テストデータ!U$2)","v":"9/8"},{"$f":"IF(テストデータ!V$2=\"\",\"\",テストデータ!V$2)","v":"10/8"},{"$f":"IF(テストデータ!W$2=\"\",\"\",テストデータ!W$2)","v":"11/8"},{"$f":"IF(テストデータ!X$2=\"\",\"\",テストデータ!X$2)","v":"12/8"},{"$f":"IF(テストデータ!Y$2=\"\",\"\",テストデータ!Y$2)","v":"1/8"},{"$f":"IF(テストデータ!Z$2=\"\",\"\",テストデータ!Z$2)","v":""},{"$f":"IF(テストデータ!AA$2=\"\",\"\",テストデータ!AA$2)","v":""}]
[null,"得点",{"$f":"IF(VLOOKUP($H$2,テストデータ!$A$4:$FO$503,16,FALSE)=\"\",IF(INDIRECT(ADDRESS(ROW()-1,COLUMN()))=\"\",\"\",\"欠\"),VLOOKUP($H$2,テストデータ!$A$4:$FO$503,16,FALSE))","v":11},{"$f":"IF(VLOOKUP($H$2,テストデータ!$A$4:$FO$503,17,FALSE)=\"\",IF(INDIRECT(ADDRESS(ROW()-1,COLUMN()))=\"\",\"\",\"欠\"),VLOOKUP($H$2,テストデータ!$A$4:$FO$503,17,FALSE))","v":16},{"$f":"IF(VLOOKUP($H$2,テストデータ!$A$4:$FO$503,18,FALSE)=\"\",IF(INDIRECT(ADDRESS(ROW()-1,COLUMN()))=\"\",\"\",\"欠\"),VLOOKUP($H$2,テストデータ!$A$4:$FO$503,18,FALSE))","v":86},{"$f":"IF(VLOOKUP($H$2,テストデータ!$A$4:$FO$503,19,FALSE)=\"\",IF(INDIRECT(ADDRESS(ROW()-1,COLUMN()))=\"\",\"\",\"欠\"),VLOOKUP($H$2,テストデータ!$A$4:$FO$503,19,FALSE))","v":65},{"$f":"IF(VLOOKUP($H$2,テストデータ!$A$4:$FO$503,20,FALSE)=\"\",IF(INDIRECT(ADDRESS(ROW()-1,COLUMN()))=\"\",\"\",\"欠\"),VLOOKUP($H$2,テストデータ!$A$4:$FO$503,20,FALSE))","v":75},{"$f":"IF(VLOOKUP($H$2,テストデータ!$A$4:$FO$503,21,FALSE)=\"\",IF(INDIRECT(ADDRESS(ROW()-1,COLUMN()))=\"\",\"\",\"欠\"),VLOOKUP($H$2,テストデータ!$A$4:$FO$503,21,FALSE))","v":74},{"$f":"IF(VLOOKUP($H$2,テストデータ!$A$4:$FO$503,22,FALSE)=\"\",IF(INDIRECT(ADDRESS(ROW()-1,COLUMN()))=\"\",\"\",\"欠\"),VLOOKUP($H$2,テストデータ!$A$4:$FO$503,22,FALSE))","v":77},{"$f":"IF(VLOOKUP($H$2,テストデータ!$A$4:$FO$503,23,FALSE)=\"\",IF(INDIRECT(ADDRESS(ROW()-1,COLUMN()))=\"\",\"\",\"欠\"),VLOOKUP($H$2,テストデータ!$A$4:$FO$503,23,FALSE))","v":63},{"$f":"IF(VLOOKUP($H$2,テストデータ!$A$4:$FO$503,24,FALSE)=\"\",IF(INDIRECT(ADDRESS(ROW()-1,COLUMN()))=\"\",\"\",\"欠\"),VLOOKUP($H$2,テストデータ!$A$4:$FO$503,24,FALSE))","v":49},{"$f":"IF(VLOOKUP($H$2,テストデータ!$A$4:$FO$503,25,FALSE)=\"\",IF(INDIRECT(ADDRESS(ROW()-1,COLUMN()))=\"\",\"\",\"欠\"),VLOOKUP($H$2,テストデータ!$A$4:$FO$503,25,FALSE))","v":44},{"$f":"IF(VLOOKUP($H$2,テストデータ!$A$4:$FO$503,26,FALSE)=\"\",IF(INDIRECT(ADDRESS(ROW()-1,COLUMN()))=\"\",\"\",\"欠\"),VLOOKUP($H$2,テストデータ!$A$4:$FO$503,26,FALSE))","v":""},{"$f":"IF(VLOOKUP($H$2,テストデータ!$A$4:$FO$503,27,FALSE)=\"\",IF(INDIRECT(ADDRESS(ROW()-1,COLUMN()))=\"\",\"\",\"欠\"),VLOOKUP($H$2,テストデータ!$A$4:$FO$503,27,FALSE))","v":""}]
[null,"平均点",{"$f":"IF(COUNT(OFFSET(テストデータ!$D$3,1,12*1+0):OFFSET(テストデータ!$D$3,500,12*1+0))=0,NA(),AVERAGE(OFFSET(テストデータ!$D$3,1,12*1+0):OFFSET(テストデータ!$D$3,500,12*1+0)))","v":54.94736842105263},{"$f":"IF(COUNT(OFFSET(テストデータ!$D$3,1,12*1+1):OFFSET(テストデータ!$D$3,500,12*1+1))=0,NA(),AVERAGE(OFFSET(テストデータ!$D$3,1,12*1+1):OFFSET(テストデータ!$D$3,500,12*1+1)))","v":47.882352941176471},{"$f":"IF(COUNT(OFFSET(テストデータ!$D$3,1,12*1+2):OFFSET(テストデータ!$D$3,500,12*1+2))=0,NA(),AVERAGE(OFFSET(テストデータ!$D$3,1,12*1+2):OFFSET(テストデータ!$D$3,500,12*1+2)))","v":64.375},{"$f":"IF(COUNT(OFFSET(テストデータ!$D$3,1,12*1+3):OFFSET(テストデータ!$D$3,500,12*1+3))=0,NA(),AVERAGE(OFFSET(テストデータ!$D$3,1,12*1+3):OFFSET(テストデータ!$D$3,500,12*1+3)))","v":59.2},{"$f":"IF(COUNT(OFFSET(テストデータ!$D$3,1,12*1+4):OFFSET(テストデータ!$D$3,500,12*1+4))=0,NA(),AVERAGE(OFFSET(テストデータ!$D$3,1,12*1+4):OFFSET(テストデータ!$D$3,500,12*1+4)))","v":59.8},{"$f":"IF(COUNT(OFFSET(テストデータ!$D$3,1,12*1+5):OFFSET(テストデータ!$D$3,500,12*1+5))=0,NA(),AVERAGE(OFFSET(テストデータ!$D$3,1,12*1+5):OFFSET(テストデータ!$D$3,500,12*1+5)))","v":64.349999999999994},{"$f":"IF(COUNT(OFFSET(テストデータ!$D$3,1,12*1+6):OFFSET(テストデータ!$D$3,500,12*1+6))=0,NA(),AVERAGE(OFFSET(テストデータ!$D$3,1,12*1+6):OFFSET(テストデータ!$D$3,500,12*1+6)))","v":45.05263157894737},{"$f":"IF(COUNT(OFFSET(テストデータ!$D$3,1,12*1+7):OFFSET(テストデータ!$D$3,500,12*1+7))=0,NA(),AVERAGE(OFFSET(テストデータ!$D$3,1,12*1+7):OFFSET(テストデータ!$D$3,500,12*1+7)))","v":55.736842105263158},{"$f":"IF(COUNT(OFFSET(テストデータ!$D$3,1,12*1+8):OFFSET(テストデータ!$D$3,500,12*1+8))=0,NA(),AVERAGE(OFFSET(テストデータ!$D$3,1,12*1+8):OFFSET(テストデータ!$D$3,500,12*1+8)))","v":55.789473684210527},{"$f":"IF(COUNT(OFFSET(テストデータ!$D$3,1,12*1+9):OFFSET(テストデータ!$D$3,500,12*1+9))=0,NA(),AVERAGE(OFFSET(テストデータ!$D$3,1,12*1+9):OFFSET(テストデータ!$D$3,500,12*1+9)))","v":49.9},{"$f":"IF(COUNT(OFFSET(テストデータ!$D$3,1,12*1+10):OFFSET(テストデータ!$D$3,500,12*1+10))=0,NA(),AVERAGE(OFFSET(テストデータ!$D$3,1,12*1+10):OFFSET(テストデータ!$D$3,500,12*1+10)))","v":{"$error":"#N/A"}},{"$f":"IF(COUNT(OFFSET(テストデータ!$D$3,1,12*1+11):OFFSET(テストデータ!$D$3,500,12*1+11))=0,NA(),AVERAGE(OFFSET(テストデータ!$D$3,1,12*1+11):OFFSET(テストデータ!$D$3,500,12*1+11)))","v":{"$error":"#N/A"}}]
[null,"校内順位",{"$f":"IF(OR(INDIRECT(ADDRESS(ROW()-2,COLUMN()))=\"欠\",INDIRECT(ADDRESS(ROW()-2,COLUMN()))=\"\"),\"\",RANK(INDIRECT(ADDRESS(ROW()-2,COLUMN())),OFFSET(テストデータ!$P$3,1,0):OFFSET(テストデータ!$P$3,500,0)))","v":17},{"$f":"IF(OR(INDIRECT(ADDRESS(ROW()-2,COLUMN()))=\"欠\",INDIRECT(ADDRESS(ROW()-2,COLUMN()))=\"\"),\"\",RANK(INDIRECT(ADDRESS(ROW()-2,COLUMN())),OFFSET(テストデータ!$P$3,1,1):OFFSET(テストデータ!$P$3,500,1)))","v":14},{"$f":"IF(OR(INDIRECT(ADDRESS(ROW()-2,COLUMN()))=\"欠\",INDIRECT(ADDRESS(ROW()-2,COLUMN()))=\"\"),\"\",RANK(INDIRECT(ADDRESS(ROW()-2,COLUMN())),OFFSET(テストデータ!$P$3,1,2):OFFSET(テストデータ!$P$3,500,2)))","v":3},{"$f":"IF(OR(INDIRECT(ADDRESS(ROW()-2,COLUMN()))=\"欠\",INDIRECT(ADDRESS(ROW()-2,COLUMN()))=\"\"),\"\",RANK(INDIRECT(ADDRESS(ROW()-2,COLUMN())),OFFSET(テストデータ!$P$3,1,3):OFFSET(テストデータ!$P$3,500,3)))","v":11},{"$f":"IF(OR(INDIRECT(ADDRESS(ROW()-2,COLUMN()))=\"欠\",INDIRECT(ADDRESS(ROW()-2,COLUMN()))=\"\"),\"\",RANK(INDIRECT(ADDRESS(ROW()-2,COLUMN())),OFFSET(テストデータ!$P$3,1,4):OFFSET(テストデータ!$P$3,500,4)))","v":7},{"$f":"IF(OR(INDIRECT(ADDRESS(ROW()-2,COLUMN()))=\"欠\",INDIRECT(ADDRESS(ROW()-2,COLUMN()))=\"\"),\"\",RANK(INDIRECT(ADDRESS(ROW()-2,COLUMN())),OFFSET(テストデータ!$P$3,1,5):OFFSET(テストデータ!$P$3,500,5)))","v":9},{"$f":"IF(OR(INDIRECT(ADDRESS(ROW()-2,COLUMN()))=\"欠\",INDIRECT(ADDRESS(ROW()-2,COLUMN()))=\"\"),\"\",RANK(INDIRECT(ADDRESS(ROW()-2,COLUMN())),OFFSET(テストデータ!$P$3,1,6):OFFSET(テストデータ!$P$3,500,6)))","v":5},{"$f":"IF(OR(INDIRECT(ADDRESS(ROW()-2,COLUMN()))=\"欠\",INDIRECT(ADDRESS(ROW()-2,COLUMN()))=\"\"),\"\",RANK(INDIRECT(ADDRESS(ROW()-2,COLUMN())),OFFSET(テストデータ!$P$3,1,7):OFFSET(テストデータ!$P$3,500,7)))","v":8},{"$f":"IF(OR(INDIRECT(ADDRESS(ROW()-2,COLUMN()))=\"欠\",INDIRECT(ADDRESS(ROW()-2,COLUMN()))=\"\"),\"\",RANK(INDIRECT(ADDRESS(ROW()-2,COLUMN())),OFFSET(テストデータ!$P$3,1,8):OFFSET(テストデータ!$P$3,500,8)))","v":10},{"$f":"IF(OR(INDIRECT(ADDRESS(ROW()-2,COLUMN()))=\"欠\",INDIRECT(ADDRESS(ROW()-2,COLUMN()))=\"\"),\"\",RANK(INDIRECT(ADDRESS(ROW()-2,COLUMN())),OFFSET(テストデータ!$P$3,1,9):OFFSET(テストデータ!$P$3,500,9)))","v":10},{"$f":"IF(OR(INDIRECT(ADDRESS(ROW()-2,COLUMN()))=\"欠\",INDIRECT(ADDRESS(ROW()-2,COLUMN()))=\"\"),\"\",RANK(INDIRECT(ADDRESS(ROW()-2,COLUMN())),OFFSET(テストデータ!$P$3,1,10):OFFSET(テストデータ!$P$3,500,10)))","v":""},{"$f":"IF(OR(INDIRECT(ADDRESS(ROW()-2,COLUMN()))=\"欠\",INDIRECT(ADDRESS(ROW()-2,COLUMN()))=\"\"),\"\",RANK(INDIRECT(ADDRESS(ROW()-2,COLUMN())),OFFSET(テストデータ!$P$3,1,11):OFFSET(テストデータ!$P$3,500,11)))","v":""}]
[null,{"$f":"IF(初期設定!$C5=\"\",\"\",初期設定!$C5)","v":"コ英"},"1回","2回","3回","4回","5回","6回","7回","8回","9回","10回","11回","12回"]
[null,"実施日",{"$f":"IF(テストデータ!AB$2=\"\",\"\",テストデータ!AB$2)","v":"4/9"},{"$f":"IF(テストデータ!AC$2=\"\",\"\",テストデータ!AC$2)","v":"5/12"},{"$f":"IF(テストデータ!AD$2=\"\",\"\",テストデータ!AD$2)","v":"6/15"},{"$f":"IF(テストデータ!AE$2=\"\",\"\",テストデータ!AE$2)","v":"7/18"},{"$f":"IF(テストデータ!AF$2=\"\",\"\",テストデータ!AF$2)","v":"8/5"},{"$f":"IF(テストデータ!AG$2=\"\",\"\",テストデータ!AG$2)","v":"9/7"},{"$f":"IF(テストデータ!AH$2=\"\",\"\",テストデータ!AH$2)","v":"10/11"},{"$f":"IF(テストデータ!AI$2=\"\",\"\",テストデータ!AI$2)","v":"11/30"},{"$f":"IF(テストデータ!AJ$2=\"\",\"\",テストデータ!AJ$2)","v":"12/2"},{"$f":"IF(テストデータ!AK$2=\"\",\"\",テストデータ!AK$2)","v":"1/9"},{"$f":"IF(テストデータ!AL$2=\"\",\"\",テストデータ!AL$2)","v":""},{"$f":"IF(テストデータ!AM$2=\"\",\"\",テストデータ!AM$2)","v":""}]
[null,"得点",{"$f":"IF(VLOOKUP($H$2,テストデータ!$A$4:$FO$503,28,FALSE)=\"\",IF(INDIRECT(ADDRESS(ROW()-1,COLUMN()))=\"\",\"\",\"欠\"),VLOOKUP($H$2,テストデータ!$A$4:$FO$503,28,FALSE))","v":51},{"$f":"IF(VLOOKUP($H$2,テストデータ!$A$4:$FO$503,29,FALSE)=\"\",IF(INDIRECT(ADDRESS(ROW()-1,COLUMN()))=\"\",\"\",\"欠\"),VLOOKUP($H$2,テストデータ!$A$4:$FO$503,29,FALSE))","v":61},{"$f":"IF(VLOOKUP($H$2,テストデータ!$A$4:$FO$503,30,FALSE)=\"\",IF(INDIRECT(ADDRESS(ROW()-1,COLUMN()))=\"\",\"\",\"欠\"),VLOOKUP($H$2,テストデータ!$A$4:$FO$503,30,FALSE))","v":18},{"$f":"IF(VLOOKUP($H$2,テストデータ!$A$4:$FO$503,31,FALSE)=\"\",IF(INDIRECT(ADDRESS(ROW()-1,COLUMN()))=\"\",\"\",\"欠\"),VLOOKUP($H$2,テストデータ!$A$4:$FO$503,31,FALSE))","v":64},{"$f":"IF(VLOOKUP($H$2,テストデータ!$A$4:$FO$503,32,FALSE)=\"\",IF(INDIRECT(ADDRESS(ROW()-1,COLUMN()))=\"\",\"\",\"欠\"),VLOOKUP($H$2,テストデータ!$A$4:$FO$503,32,FALSE))","v":33},{"$f":"IF(VLOOKUP($H$2,テストデータ!$A$4:$FO$503,33,FALSE)=\"\",IF(INDIRECT(ADDRESS(ROW()-1,COLUMN()))=\"\",\"\",\"欠\"),VLOOKUP($H$2,テストデータ!$A$4:$FO$503,33,FALSE))","v":11},{"$f":"IF(VLOOKUP($H$2,テストデータ!$A$4:$FO$503,34,FALSE)=\"\",IF(INDIRECT(ADDRESS(ROW()-1,COLUMN()))=\"\",\"\",\"欠\"),VLOOKUP($H$2,テストデータ!$A$4:$FO$503,34,FALSE))","v":62},{"$f":"IF(VLOOKUP($H$2,テストデータ!$A$4:$FO$503,35,FALSE)=\"\",IF(INDIRECT(ADDRESS(ROW()-1,COLUMN()))=\"\",\"\",\"欠\"),VLOOKUP($H$2,テストデータ!$A$4:$FO$503,35,FALSE))","v":88},{"$f":"IF(VLOOKUP($H$2,テストデータ!$A$4:$FO$503,36,FALSE)=\"\",IF(INDIRECT(ADDRESS(ROW()-1,COLUMN()))=\"\",\"\",\"欠\"),VLOOKUP($H$2,テストデータ!$A$4:$FO$503,36,FALSE))","v":86},{"$f":"IF(VLOOKUP($H$2,テストデータ!$A$4:$FO$503,37,FALSE)=\"\",IF(INDIRECT(ADDRESS(ROW()-1,COLUMN()))=\"\",\"\",\"欠\"),VLOOKUP($H$2,テストデータ!$A$4:$FO$503,37,FALSE))","v":47},{"$f":"IF(VLOOKUP($H$2,テストデータ!$A$4:$FO$503,38,FALSE)=\"\",IF(INDIRECT(ADDRESS(ROW()-1,COLUMN()))=\"\",\"\",\"欠\"),VLOOKUP($H$2,テストデータ!$A$4:$FO$503,38,FALSE))","v":""},{"$f":"IF(VLOOKUP($H$2,テストデータ!$A$4:$FO$503,39,FALSE)=\"\",IF(INDIRECT(ADDRESS(ROW()-1,COLUMN()))=\"\",\"\",\"欠\"),VLOOKUP($H$2,テストデータ!$A$4:$FO$503,39,FALSE))","v":""}]
[null,"平均点",{"$f":"IF(COUNT(OFFSET(テストデータ!$D$3,1,12*2+0):OFFSET(テストデータ!$D$3,500,12*2+0))=0,NA(),AVERAGE(OFFSET(テストデータ!$D$3,1,12*2+0):OFFSET(テストデータ!$D$3,500,12*2+0)))","v":66.263157894736835},{"$f":"IF(COUNT(OFFSET(テストデータ!$D$3,1,12*2+1):OFFSET(テストデータ!$D$3,500,12*2+1))=0,NA(),AVERAGE(OFFSET(テストデータ!$D$3,1,12*2+1):OFFSET(テストデータ!$D$3,500,12*2+1)))","v":48.85},{"$f":"IF(COUNT(OFFSET(テストデータ!$D$3,1,12*2+2):OFFSET(テストデータ!$D$3,500,12*2+2))=0,NA(),AVERAGE(OFFSET(テストデータ!$D$3,1,12*2+2):OFFSET(テストデータ!$D$3,500,12*2+2)))","v":58.95},{"$f":"IF(COUNT(OFFSET(テストデータ!$D$3,1,12*2+3):OFFSET(テストデータ!$D$3,500,12*2+3))=0,NA(),AVERAGE(OFFSET(テストデータ!$D$3,1,12*2+3):OFFSET(テストデータ!$D$3,500,12*2+3)))","v":51.1},{"$f":"IF(COUNT(OFFSET(テストデータ!$D$3,1,12*2+4):OFFSET(テストデータ!$D$3,500,12*2+4))=0,NA(),AVERAGE(OFFSET(テストデータ!$D$3,1,12*2+4):OFFSET(テストデータ!$D$3,500,12*2+4)))","v":51.5},{"$f":"IF(COUNT(OFFSET(テストデータ!$D$3,1,12*2+5):OFFSET(テストデータ!$D$3,500,12*2+5))=0,NA(),AVERAGE(OFFSET(テストデータ!$D$3,1,12*2+5):OFFSET(テストデータ!$D$3,500,12*2+5)))","v":50.7},{"$f":"IF(COUNT(OFFSET(テストデータ!$D$3,1,12*2+6):OFFSET(テストデータ!$D$3,500,12*2+6))=0,NA(),AVERAGE(OFFSET(テストデータ!$D$3,1,12*2+6):OFFSET(テストデータ!$D$3,500,12*2+6)))","v":55.9},{"$f":"IF(COUNT(OFFSET(テストデータ!$D$3,1,12*2+7):OFFSET(テストデータ!$D$3,500,12*2+7))=0,NA(),AVERAGE(OFFSET(テストデータ!$D$3,1,12*2+7):OFFSET(テストデータ!$D$3,500,12*2+7)))","v":65.95},{"$f":"IF(COUNT(OFFSET(テストデータ!$D$3,1,12*2+8):OFFSET(テストデータ!$D$3,500,12*2+8))=0,NA(),AVERAGE(OFFSET(テストデータ!$D$3,1,12*2+8):OFFSET(テストデータ!$D$3,500,12*2+8)))","v":59.176470588235297},{"$f":"IF(COUNT(OFFSET(テストデータ!$D$3,1,12*2+9):OFFSET(テストデータ!$D$3,500,12*2+9))=0,NA(),AVERAGE(OFFSET(テストデータ!$D$3,1,12*2+9):OFFSET(テストデータ!$D$3,500,12*2+9)))","v":63.85},{"$f":"IF(COUNT(OFFSET(テストデータ!$D$3,1,12*2+10):OFFSET(テストデータ!$D$3,500,12*2+10))=0,NA(),AVERAGE(OFFSET(テストデータ!$D$3,1,12*2+10):OFFSET(テストデータ!$D$3,500,12*2+10)))","v":{"$error":"#N/A"}},{"$f":"IF(COUNT(OFFSET(テストデータ!$D$3,1,12*2+11):OFFSET(テストデータ!$D$3,500,12*2+11))=0,NA(),AVERAGE(OFFSET(テストデータ!$D$3,1,12*2+11):OFFSET(テストデータ!$D$3,500,12*2+11)))","v":{"$error":"#N/A"}}]
[null,"校内順位",{"$f":"IF(OR(INDIRECT(ADDRESS(ROW()-2,COLUMN()))=\"欠\",INDIRECT(ADDRESS(ROW()-2,COLUMN()))=\"\"),\"\",RANK(INDIRECT(ADDRESS(ROW()-2,COLUMN())),OFFSET(テストデータ!$AB$3,1,0):OFFSET(テストデータ!$AB$3,500,0)))","v":15},{"$f":"IF(OR(INDIRECT(ADDRESS(ROW()-2,COLUMN()))=\"欠\",INDIRECT(ADDRESS(ROW()-2,COLUMN()))=\"\"),\"\",RANK(INDIRECT(ADDRESS(ROW()-2,COLUMN())),OFFSET(テストデータ!$AB$3,1,1):OFFSET(テストデータ!$AB$3,500,1)))","v":6},{"$f":"IF(OR(INDIRECT(ADDRESS(ROW()-2,COLUMN()))=\"欠\",INDIRECT(ADDRESS(ROW()-2,COLUMN()))=\"\"),\"\",RANK(INDIRECT(ADDRESS(ROW()-2,COLUMN())),OFFSET(テストデータ!$AB$3,1,2):OFFSET(テストデータ!$AB$3,500,2)))","v":18},{"$f":"IF(OR(INDIRECT(ADDRESS(ROW()-2,COLUMN()))=\"欠\",INDIRECT(ADDRESS(ROW()-2,COLUMN()))=\"\"),\"\",RANK(INDIRECT(ADDRESS(ROW()-2,COLUMN())),OFFSET(テストデータ!$AB$3,1,3):OFFSET(テストデータ!$AB$3,500,3)))","v":7},{"$f":"IF(OR(INDIRECT(ADDRESS(ROW()-2,COLUMN()))=\"欠\",INDIRECT(ADDRESS(ROW()-2,COLUMN()))=\"\"),\"\",RANK(INDIRECT(ADDRESS(ROW()-2,COLUMN())),OFFSET(テストデータ!$AB$3,1,4):OFFSET(テストデータ!$AB$3,500,4)))","v":13},{"$f":"IF(OR(INDIRECT(ADDRESS(ROW()-2,COLUMN()))=\"欠\",INDIRECT(ADDRESS(ROW()-2,COLUMN()))=\"\"),\"\",RANK(INDIRECT(ADDRESS(ROW()-2,COLUMN())),OFFSET(テストデータ!$AB$3,1,5):OFFSET(テストデータ!$AB$3,500,5)))","v":20},{"$f":"IF(OR(INDIRECT(ADDRESS(ROW()-2,COLUMN()))=\"欠\",INDIRECT(ADDRESS(ROW()-2,COLUMN()))=\"\"),\"\",RANK(INDIRECT(ADDRESS(ROW()-2,COLUMN())),OFFSET(テストデータ!$AB$3,1,6):OFFSET(テストデータ!$AB$3,500,6)))","v":9},{"$f":"IF(OR(INDIRECT(ADDRESS(ROW()-2,COLUMN()))=\"欠\",INDIRECT(ADDRESS(ROW()-2,COLUMN()))=\"\"),\"\",RANK(INDIRECT(ADDRESS(ROW()-2,COLUMN())),OFFSET(テストデータ!$AB$3,1,7):OFFSET(テストデータ!$AB$3,500,7)))","v":7},{"$f":"IF(OR(INDIRECT(ADDRESS(ROW()-2,COLUMN()))=\"欠\",INDIRECT(ADDRESS(ROW()-2,COLUMN()))=\"\"),\"\",RANK(INDIRECT(ADDRESS(ROW()-2,COLUMN())),OFFSET(テストデータ!$AB$3,1,8):OFFSET(テストデータ!$AB$3,500,8)))","v":6},{"$f":"IF(OR(INDIRECT(ADDRESS(ROW()-2,COLUMN()))=\"欠\",INDIRECT(ADDRESS(ROW()-2,COLUMN()))=\"\"),\"\",RANK(INDIRECT(ADDRESS(ROW()-2,COLUMN())),OFFSET(テストデータ!$AB$3,1,9):OFFSET(テストデータ!$AB$3,500,9)))","v":16},{"$f":"IF(OR(INDIRECT(ADDRESS(ROW()-2,COLUMN()))=\"欠\",INDIRECT(ADDRESS(ROW()-2,COLUMN()))=\"\"),\"\",RANK(INDIRECT(ADDRESS(ROW()-2,COLUMN())),OFFSET(テストデータ!$AB$3,1,10):OFFSET(テストデータ!$AB$3,500,10)))","v":""},{"$f":"IF(OR(INDIRECT(ADDRESS(ROW()-2,COLUMN()))=\"欠\",INDIRECT(ADDRESS(ROW()-2,COLUMN()))=\"\"),\"\",RANK(INDIRECT(ADDRESS(ROW()-2,COLUMN())),OFFSET(テストデータ!$AB$3,1,11):OFFSET(テストデータ!$AB$3,500,11)))","v":""}]
[null,{"$f":"IF(初期設定!$C6=\"\",\"\",初期設定!$C6)","v":"数Ⅰ"},"1回","2回","3回","4回","5回","6回","7回","8回","9回","10回","11回","12回"]
[null,"実施日",{"$f":"IF(テストデータ!AN$2=\"\",\"\",テストデータ!AN$2)","v":"4/5"},{"$f":"IF(テストデータ!AO$2=\"\",\"\",テストデータ!AO$2)","v":"5/2"},{"$f":"IF(テストデータ!AP$2=\"\",\"\",テストデータ!AP$2)","v":"6/5"},{"$f":"IF(テストデータ!AQ$2=\"\",\"\",テストデータ!AQ$2)","v":"7/18"},{"$f":"IF(テストデータ!AR$2=\"\",\"\",テストデータ!AR$2)","v":"8/5"},{"$f":"IF(テストデータ!AS$2=\"\",\"\",テストデータ!AS$2)","v":"9/7"},{"$f":"IF(テストデータ!AT$2=\"\",\"\",テストデータ!AT$2)","v":"10/5"},{"$f":"IF(テストデータ!AU$2=\"\",\"\",テストデータ!AU$2)","v":"11/30"},{"$f":"IF(テストデータ!AV$2=\"\",\"\",テストデータ!AV$2)","v":"12/4"},{"$f":"IF(テストデータ!AW$2=\"\",\"\",テストデータ!AW$2)","v":"1/9"},{"$f":"IF(テストデータ!AX$2=\"\",\"\",テストデータ!AX$2)","v":""},{"$f":"IF(テストデータ!AY$2=\"\",\"\",テストデータ!AY$2)","v":""}]
[null,"得点",{"$f":"IF(VLOOKUP($H$2,テストデータ!$A$4:$FO$503,40,FALSE)=\"\",IF(INDIRECT(ADDRESS(ROW()-1,COLUMN()))=\"\",\"\",\"欠\"),VLOOKUP($H$2,テストデータ!$A$4:$FO$503,40,FALSE))","v":83},{"$f":"IF(VLOOKUP($H$2,テストデータ!$A$4:$FO$503,41,FALSE)=\"\",IF(INDIRECT(ADDRESS(ROW()-1,COLUMN()))=\"\",\"\",\"欠\"),VLOOKUP($H$2,テストデータ!$A$4:$FO$503,41,FALSE))","v":72},{"$f":"IF(VLOOKUP($H$2,テストデータ!$A$4:$FO$503,42,FALSE)=\"\",IF(INDIRECT(ADDRESS(ROW()-1,COLUMN()))=\"\",\"\",\"欠\"),VLOOKUP($H$2,テストデータ!$A$4:$FO$503,42,FALSE))","v":37},{"$f":"IF(VLOOKUP($H$2,テストデータ!$A$4:$FO$503,43,FALSE)=\"\",IF(INDIRECT(ADDRESS(ROW()-1,COLUMN()))=\"\",\"\",\"欠\"),VLOOKUP($H$2,テストデータ!$A$4:$FO$503,43,FALSE))","v":39},{"$f":"IF(VLOOKUP($H$2,テストデータ!$A$4:$FO$503,44,FALSE)=\"\",IF(INDIRECT(ADDRESS(ROW()-1,COLUMN()))=\"\",\"\",\"欠\"),VLOOKUP($H$2,テストデータ!$A$4:$FO$503,44,FALSE))","v":27},{"$f":"IF(VLOOKUP($H$2,テストデータ!$A$4:$FO$503,45,FALSE)=\"\",IF(INDIRECT(ADDRESS(ROW()-1,COLUMN()))=\"\",\"\",\"欠\"),VLOOKUP($H$2,テストデータ!$A$4:$FO$503,45,FALSE))","v":81},{"$f":"IF(VLOOKUP($H$2,テストデータ!$A$4:$FO$503,46,FALSE)=\"\",IF(INDIRECT(ADDRESS(ROW()-1,COLUMN()))=\"\",\"\",\"欠\"),VLOOKUP($H$2,テストデータ!$A$4:$FO$503,46,FALSE))","v":78},{"$f":"IF(VLOOKUP($H$2,テストデータ!$A$4:$FO$503,47,FALSE)=\"\",IF(INDIRECT(ADDRESS(ROW()-1,COLUMN()))=\"\",\"\",\"欠\"),VLOOKUP($H$2,テストデータ!$A$4:$FO$503,47,FALSE))","v":83},{"$f":"IF(VLOOKUP($H$2,テストデータ!$A$4:$FO$503,48,FALSE)=\"\",IF(INDIRECT(ADDRESS(ROW()-1,COLUMN()))=\"\",\"\",\"欠\"),VLOOKUP($H$2,テストデータ!$A$4:$FO$503,48,FALSE))","v":40},{"$f":"IF(VLOOKUP($H$2,テストデータ!$A$4:$FO$503,49,FALSE)=\"\",IF(INDIRECT(ADDRESS(ROW()-1,COLUMN()))=\"\",\"\",\"欠\"),VLOOKUP($H$2,テストデータ!$A$4:$FO$503,49,FALSE))","v":76},{"$f":"IF(VLOOKUP($H$2,テストデータ!$A$4:$FO$503,50,FALSE)=\"\",IF(INDIRECT(ADDRESS(ROW()-1,COLUMN()))=\"\",\"\",\"欠\"),VLOOKUP($H$2,テストデータ!$A$4:$FO$503,50,FALSE))","v":""},{"$f":"IF(VLOOKUP($H$2,テストデータ!$A$4:$FO$503,51,FALSE)=\"\",IF(INDIRECT(ADDRESS(ROW()-1,COLUMN()))=\"\",\"\",\"欠\"),VLOOKUP($H$2,テストデータ!$A$4:$FO$503,51,FALSE))","v":""}]
[null,"平均点",{"$f":"IF(COUNT(OFFSET(テストデータ!$D$3,1,12*3+0):OFFSET(テストデータ!$D$3,500,12*3+0))=0,NA(),AVERAGE(OFFSET(テストデータ!$D$3,1,12*3+0):OFFSET(テストデータ!$D$3,500,12*3+0)))","v":54.25},{"$f":"IF(COUNT(OFFSET(テストデータ!$D$3,1,12*3+1):OFFSET(テストデータ!$D$3,500,12*3+1))=0,NA(),AVERAGE(OFFSET(テストデータ!$D$3,1,12*3+1):OFFSET(テストデータ!$D$3,500,12*3+1)))","v":54.4},{"$f":"IF(COUNT(OFFSET(テストデータ!$D$3,1,12*3+2):OFFSET(テストデータ!$D$3,500,12*3+2))=0,NA(),AVERAGE(OFFSET(テストデータ!$D$3,1,12*3+2):OFFSET(テストデータ!$D$3,500,12*3+2)))","v":47.3},{"$f":"IF(COUNT(OFFSET(テストデータ!$D$3,1,12*3+3):OFFSET(テストデータ!$D$3,500,12*3+3))=0,NA(),AVERAGE(OFFSET(テストデータ!$D$3,1,12*3+3):OFFSET(テストデータ!$D$3,500,12*3+3)))","v":66.89473684210526},{"$f":"IF(COUNT(OFFSET(テストデータ!$D$3,1,12*3+4):OFFSET(テストデータ!$D$3,500,12*3+4))=0,NA(),AVERAGE(OFFSET(テストデータ!$D$3,1,12*3+4):OFFSET(テストデータ!$D$3,500,12*3+4)))","v":50.263157894736842},{"$f":"IF(COUNT(OFFSET(テストデータ!$D$3,1,12*3+5):OFFSET(テストデータ!$D$3,500,12*3+5))=0,NA(),AVERAGE(OFFSET(テストデータ!$D$3,1,12*3+5):OFFSET(テストデータ!$D$3,500,12*3+5)))","v":58.1},{"$f":"IF(COUNT(OFFSET(テストデータ!$D$3,1,12*3+6):OFFSET(テストデータ!$D$3,500,12*3+6))=0,NA(),AVERAGE(OFFSET(テストデータ!$D$3,1,12*3+6):OFFSET(テストデータ!$D$3,500,12*3+6)))","v":59.85},{"$f":"IF(COUNT(OFFSET(テストデータ!$D$3,1,12*3+7):OFFSET(テストデータ!$D$3,500,12*3+7))=0,NA(),AVERAGE(OFFSET(テストデータ!$D$3,1,12*3+7):OFFSET(テストデータ!$D$3,500,12*3+7)))","v":49},{"$f":"IF(COUNT(OFFSET(テストデータ!$D$3,1,12*3+8):OFFSET(テストデータ!$D$3,500,12*3+8))=0,NA(),AVERAGE(OFFSET(テストデータ!$D$3,1,12*3+8):OFFSET(テストデータ!$D$3,500,12*3+8)))","v":51},{"$f":"IF(COUNT(OFFSET(テストデータ!$D$3,1,12*3+9):OFFSET(テストデータ!$D$3,500,12*3+9))=0,NA(),AVERAGE(OFFSET(テストデータ!$D$3,1,12*3+9):OFFSET(テストデータ!$D$3,500,12*3+9)))","v":59.85},{"$f":"IF(COUNT(OFFSET(テストデータ!$D$3,1,12*3+10):OFFSET(テストデータ!$D$3,500,12*3+10))=0,NA(),AVERAGE(OFFSET(テストデータ!$D$3,1,12*3+10):OFFSET(テストデータ!$D$3,500,12*3+10)))","v":{"$error":"#N/A"}},{"$f":"IF(COUNT(OFFSET(テストデータ!$D$3,1,12*3+11):OFFSET(テストデータ!$D$3,500,12*3+11))=0,NA(),AVERAGE(OFFSET(テストデータ!$D$3,1,12*3+11):OFFSET(テストデータ!$D$3,500,12*3+11)))","v":{"$error":"#N/A"}}]
[null,"校内順位",{"$f":"IF(OR(INDIRECT(ADDRESS(ROW()-2,COLUMN()))=\"欠\",INDIRECT(ADDRESS(ROW()-2,COLUMN()))=\"\"),\"\",RANK(INDIRECT(ADDRESS(ROW()-2,COLUMN())),OFFSET(テストデータ!$AN$3,1,0):OFFSET(テストデータ!$AN$3,500,0)))","v":4},{"$f":"IF(OR(INDIRECT(ADDRESS(ROW()-2,COLUMN()))=\"欠\",INDIRECT(ADDRESS(ROW()-2,COLUMN()))=\"\"),\"\",RANK(INDIRECT(ADDRESS(ROW()-2,COLUMN())),OFFSET(テストデータ!$AN$3,1,1):OFFSET(テストデータ!$AN$3,500,1)))","v":5},{"$f":"IF(OR(INDIRECT(ADDRESS(ROW()-2,COLUMN()))=\"欠\",INDIRECT(ADDRESS(ROW()-2,COLUMN()))=\"\"),\"\",RANK(INDIRECT(ADDRESS(ROW()-2,COLUMN())),OFFSET(テストデータ!$AN$3,1,2):OFFSET(テストデータ!$AN$3,500,2)))","v":11},{"$f":"IF(OR(INDIRECT(ADDRESS(ROW()-2,COLUMN()))=\"欠\",INDIRECT(ADDRESS(ROW()-2,COLUMN()))=\"\"),\"\",RANK(INDIRECT(ADDRESS(ROW()-2,COLUMN())),OFFSET(テストデータ!$AN$3,1,3):OFFSET(テストデータ!$AN$3,500,3)))","v":16},{"$f":"IF(OR(INDIRECT(ADDRESS(ROW()-2,COLUMN()))=\"欠\",INDIRECT(ADDRESS(ROW()-2,COLUMN()))=\"\"),\"\",RANK(INDIRECT(ADDRESS(ROW()-2,COLUMN())),OFFSET(テストデータ!$AN$3,1,4):OFFSET(テストデータ!$AN$3,500,4)))","v":14},{"$f":"IF(OR(INDIRECT(ADDRESS(ROW()-2,COLUMN()))=\"欠\",INDIRECT(ADDRESS(ROW()-2,COLUMN()))=\"\"),\"\",RANK(INDIRECT(ADDRESS(ROW()-2,COLUMN())),OFFSET(テストデータ!$AN$3,1,5):OFFSET(テストデータ!$AN$3,500,5)))","v":4},{"$f":"IF(OR(INDIRECT(ADDRESS(ROW()-2,COLUMN()))=\"欠\",INDIRECT(ADDRESS(ROW()-2,COLUMN()))=\"\"),\"\",RANK(INDIRECT(ADDRESS(ROW()-2,COLUMN())),OFFSET(テストデータ!$AN$3,1,6):OFFSET(テストデータ!$AN$3,500,6)))","v":5},{"$f":"IF(OR(INDIRECT(ADDRESS(ROW()-2,COLUMN()))=\"欠\",INDIRECT(ADDRESS(ROW()-2,COLUMN()))=\"\"),\"\",RANK(INDIRECT(ADDRESS(ROW()-2,COLUMN())),OFFSET(テストデータ!$AN$3,1,7):OFFSET(テストデータ!$AN$3,500,7)))","v":5},{"$f":"IF(OR(INDIRECT(ADDRESS(ROW()-2,COLUMN()))=\"欠\",INDIRECT(ADDRESS(ROW()-2,COLUMN()))=\"\"),\"\",RANK(INDIRECT(ADDRESS(ROW()-2,COLUMN())),OFFSET(テストデータ!$AN$3,1,8):OFFSET(テストデータ!$AN$3,500,8)))","v":11},{"$f":"IF(OR(INDIRECT(ADDRESS(ROW()-2,COLUMN()))=\"欠\",INDIRECT(ADDRESS(ROW()-2,COLUMN()))=\"\"),\"\",RANK(INDIRECT(ADDRESS(ROW()-2,COLUMN())),OFFSET(テストデータ!$AN$3,1,9):OFFSET(テストデータ!$AN$3,500,9)))","v":10},{"$f":"IF(OR(INDIRECT(ADDRESS(ROW()-2,COLUMN()))=\"欠\",INDIRECT(ADDRESS(ROW()-2,COLUMN()))=\"\"),\"\",RANK(INDIRECT(ADDRESS(ROW()-2,COLUMN())),OFFSET(テストデータ!$AN$3,1,10):OFFSET(テストデータ!$AN$3,500,10)))","v":""},{"$f":"IF(OR(INDIRECT(ADDRESS(ROW()-2,COLUMN()))=\"欠\",INDIRECT(ADDRESS(ROW()-2,COLUMN()))=\"\"),\"\",RANK(INDIRECT(ADDRESS(ROW()-2,COLUMN())),OFFSET(テストデータ!$AN$3,1,11):OFFSET(テストデータ!$AN$3,500,11)))","v":""}]
[null,{"$f":"IF(初期設定!$C7=\"\",\"\",初期設定!$C7)","v":"数A"},"1回","2回","3回","4回","5回","6回","7回","8回","9回","10回","11回","12回"]
[null,"実施日",{"$f":"IF(テストデータ!AZ$2=\"\",\"\",テストデータ!AZ$2)","v":"4/5"},{"$f":"IF(テストデータ!BA$2=\"\",\"\",テストデータ!BA$2)","v":"5/2"},{"$f":"IF(テストデータ!BB$2=\"\",\"\",テストデータ!BB$2)","v":"6/4"},{"$f":"IF(テストデータ!BC$2=\"\",\"\",テストデータ!BC$2)","v":"7/18"},{"$f":"IF(テストデータ!BD$2=\"\",\"\",テストデータ!BD$2)","v":"8/10"},{"$f":"IF(テストデータ!BE$2=\"\",\"\",テストデータ!BE$2)","v":"9/7"},{"$f":"IF(テストデータ!BF$2=\"\",\"\",テストデータ!BF$2)","v":"10/5"},{"$f":"IF(テストデータ!BG$2=\"\",\"\",テストデータ!BG$2)","v":"11/21"},{"$f":"IF(テストデータ!BH$2=\"\",\"\",テストデータ!BH$2)","v":"12/4"},{"$f":"IF(テストデータ!BI$2=\"\",\"\",テストデータ!BI$2)","v":"1/25"},{"$f":"IF(テストデータ!BJ$2=\"\",\"\",テストデータ!BJ$2)","v":""},{"$f":"IF(テストデータ!BK$2=\"\",\"\",テストデータ!BK$2)","v":""}]
[null,"得点",{"$f":"IF(VLOOKUP($H$2,テストデータ!$A$4:$FO$503,52,FALSE)=\"\",IF(INDIRECT(ADDRESS(ROW()-1,COLUMN()))=\"\",\"\",\"欠\"),VLOOKUP($H$2,テストデータ!$A$4:$FO$503,52,FALSE))","v":32},{"$f":"IF(VLOOKUP($H$2,テストデータ!$A$4:$FO$503,53,FALSE)=\"\",IF(INDIRECT(ADDRESS(ROW()-1,COLUMN()))=\"\",\"\",\"欠\"),VLOOKUP($H$2,テストデータ!$A$4:$FO$503,53,FALSE))","v":99},{"$f":"IF(VLOOKUP($H$2,テストデータ!$A$4:$FO$503,54,FALSE)=\"\",IF(INDIRECT(ADDRESS(ROW()-1,COLUMN()))=\"\",\"\",\"欠\"),VLOOKUP($H$2,テストデータ!$A$4:$FO$503,54,FALSE))","v":16},{"$f":"IF(VLOOKUP($H$2,テストデータ!$A$4:$FO$503,55,FALSE)=\"\",IF(INDIRECT(ADDRESS(ROW()-1,COLUMN()))=\"\",\"\",\"欠\"),VLOOKUP($H$2,テストデータ!$A$4:$FO$503,55,FALSE))","v":10},{"$f":"IF(VLOOKUP($H$2,テストデータ!$A$4:$FO$503,56,FALSE)=\"\",IF(INDIRECT(ADDRESS(ROW()-1,COLUMN()))=\"\",\"\",\"欠\"),VLOOKUP($H$2,テストデータ!$A$4:$FO$503,56,FALSE))","v":46},{"$f":"IF(VLOOKUP($H$2,テストデータ!$A$4:$FO$503,57,FALSE)=\"\",IF(INDIRECT(ADDRESS(ROW()-1,COLUMN()))=\"\",\"\",\"欠\"),VLOOKUP($H$2,テストデータ!$A$4:$FO$503,57,FALSE))","v":49},{"$f":"IF(VLOOKUP($H$2,テストデータ!$A$4:$FO$503,58,FALSE)=\"\",IF(INDIRECT(ADDRESS(ROW()-1,COLUMN()))=\"\",\"\",\"欠\"),VLOOKUP($H$2,テストデータ!$A$4:$FO$503,58,FALSE))","v":93},{"$f":"IF(VLOOKUP($H$2,テストデータ!$A$4:$FO$503,59,FALSE)=\"\",IF(INDIRECT(ADDRESS(ROW()-1,COLUMN()))=\"\",\"\",\"欠\"),VLOOKUP($H$2,テストデータ!$A$4:$FO$503,59,FALSE))","v":85},{"$f":"IF(VLOOKUP($H$2,テストデータ!$A$4:$FO$503,60,FALSE)=\"\",IF(INDIRECT(ADDRESS(ROW()-1,COLUMN()))=\"\",\"\",\"欠\"),VLOOKUP($H$2,テストデータ!$A$4:$FO$503,60,FALSE))","v":86},{"$f":"IF(VLOOKUP($H$2,テストデータ!$A$4:$FO$503,61,FALSE)=\"\",IF(INDIRECT(ADDRESS(ROW()-1,COLUMN()))=\"\",\"\",\"欠\"),VLOOKUP($H$2,テストデータ!$A$4:$FO$503,61,FALSE))","v":52},{"$f":"IF(VLOOKUP($H$2,テストデータ!$A$4:$FO$503,62,FALSE)=\"\",IF(INDIRECT(ADDRESS(ROW()-1,COLUMN()))=\"\",\"\",\"欠\"),VLOOKUP($H$2,テストデータ!$A$4:$FO$503,62,FALSE))","v":""},{"$f":"IF(VLOOKUP($H$2,テストデータ!$A$4:$FO$503,63,FALSE)=\"\",IF(INDIRECT(ADDRESS(ROW()-1,COLUMN()))=\"\",\"\",\"欠\"),VLOOKUP($H$2,テストデータ!$A$4:$FO$503,63,FALSE))","v":""}]
[null,"平均点",{"$f":"IF(COUNT(OFFSET(テストデータ!$D$3,1,12*4+0):OFFSET(テストデータ!$D$3,500,12*4+0))=0,NA(),AVERAGE(OFFSET(テストデータ!$D$3,1,12*4+0):OFFSET(テストデータ!$D$3,500,12*4+0)))","v":52.75},{"$f":"IF(COUNT(OFFSET(テストデータ!$D$3,1,12*4+1):OFFSET(テストデータ!$D$3,500,12*4+1))=0,NA(),AVERAGE(OFFSET(テストデータ!$D$3,1,12*4+1):OFFSET(テストデータ!$D$3,500,12*4+1)))","v":58.6},{"$f":"IF(COUNT(OFFSET(テストデータ!$D$3,1,12*4+2):OFFSET(テストデータ!$D$3,500,12*4+2))=0,NA(),AVERAGE(OFFSET(テストデータ!$D$3,1,12*4+2):OFFSET(テストデータ!$D$3,500,12*4+2)))","v":58.1},{"$f":"IF(COUNT(OFFSET(テストデータ!$D$3,1,12*4+3):OFFSET(テストデータ!$D$3,500,12*4+3))=0,NA(),AVERAGE(OFFSET(テストデータ!$D$3,1,12*4+3):OFFSET(テストデータ!$D$3,500,12*4+3)))","v":54.157894736842103},{"$f":"IF(COUNT(OFFSET(テストデータ!$D$3,1,12*4+4):OFFSET(テストデータ!$D$3,500,12*4+4))=0,NA(),AVERAGE(OFFSET(テストデータ!$D$3,1,12*4+4):OFFSET(テストデータ!$D$3,500,12*4+4)))","v":59.315789473684212},{"$f":"IF(COUNT(OFFSET(テストデータ!$D$3,1,12*4+5):OFFSET(テストデータ!$D$3,500,12*4+5))=0,NA(),AVERAGE(OFFSET(テストデータ!$D$3,1,12*4+5):OFFSET(テストデータ!$D$3,500,12*4+5)))","v":53.4},{"$f":"IF(COUNT(OFFSET(テストデータ!$D$3,1,12*4+6):OFFSET(テストデータ!$D$3,500,12*4+6))=0,NA(),AVERAGE(OFFSET(テストデータ!$D$3,1,12*4+6):OFFSET(テストデータ!$D$3,500,12*4+6)))","v":50.421052631578945},{"$f":"IF(COUNT(OFFSET(テストデータ!$D$3,1,12*4+7):OFFSET(テストデータ!$D$3,500,12*4+7))=0,NA(),AVERAGE(OFFSET(テストデータ!$D$3,1,12*4+7):OFFSET(テストデータ!$D$3,500,12*4+7)))","v":60.9},{"$f":"IF(COUNT(OFFSET(テストデータ!$D$3,1,12*4+8):OFFSET(テストデータ!$D$3,500,12*4+8))=0,NA(),AVERAGE(OFFSET(テストデータ!$D$3,1,12*4+8):OFFSET(テストデータ!$D$3,500,12*4+8)))","v":59.944444444444443},{"$f":"IF(COUNT(OFFSET(テストデータ!$D$3,1,12*4+9):OFFSET(テストデータ!$D$3,500,12*4+9))=0,NA(),AVERAGE(OFFSET(テストデータ!$D$3,1,12*4+9):OFFSET(テストデータ!$D$3,500,12*4+9)))","v":52.85},{"$f":"IF(COUNT(OFFSET(テストデータ!$D$3,1,12*4+10):OFFSET(テストデータ!$D$3,500,12*4+10))=0,NA(),AVERAGE(OFFSET(テストデータ!$D$3,1,12*4+10):OFFSET(テストデータ!$D$3,500,12*4+10)))","v":{"$error":"#N/A"}},{"$f":"IF(COUNT(OFFSET(テストデータ!$D$3,1,12*4+11):OFFSET(テストデータ!$D$3,500,12*4+11))=0,NA(),AVERAGE(OFFSET(テストデータ!$D$3,1,12*4+11):OFFSET(テストデータ!$D$3,500,12*4+11)))","v":{"$error":"#N/A"}}]
[null,"校内順位",{"$f":"IF(OR(INDIRECT(ADDRESS(ROW()-2,COLUMN()))=\"欠\",INDIRECT(ADDRESS(ROW()-2,COLUMN()))=\"\"),\"\",RANK(INDIRECT(ADDRESS(ROW()-2,COLUMN())),OFFSET(テストデータ!$AZ$3,1,0):OFFSET(テストデータ!$AZ$3,500,0)))","v":17},{"$f":"IF(OR(INDIRECT(ADDRESS(ROW()-2,COLUMN()))=\"欠\",INDIRECT(ADDRESS(ROW()-2,COLUMN()))=\"\"),\"\",RANK(INDIRECT(ADDRESS(ROW()-2,COLUMN())),OFFSET(テストデータ!$AZ$3,1,1):OFFSET(テストデータ!$AZ$3,500,1)))","v":2},{"$f":"IF(OR(INDIRECT(ADDRESS(ROW()-2,COLUMN()))=\"欠\",INDIRECT(ADDRESS(ROW()-2,COLUMN()))=\"\"),\"\",RANK(INDIRECT(ADDRESS(ROW()-2,COLUMN())),OFFSET(テストデータ!$AZ$3,1,2):OFFSET(テストデータ!$AZ$3,500,2)))","v":18},{"$f":"IF(OR(INDIRECT(ADDRESS(ROW()-2,COLUMN()))=\"欠\",INDIRECT(ADDRESS(ROW()-2,COLUMN()))=\"\"),\"\",RANK(INDIRECT(ADDRESS(ROW()-2,COLUMN())),OFFSET(テストデータ!$AZ$3,1,3):OFFSET(テストデータ!$AZ$3,500,3)))","v":19},{"$f":"IF(OR(INDIRECT(ADDRESS(ROW()-2,COLUMN()))=\"欠\",INDIRECT(ADDRESS(ROW()-2,COLUMN()))=\"\"),\"\",RANK(INDIRECT(ADDRESS(ROW()-2,COLUMN())),OFFSET(テストデータ!$AZ$3,1,4):OFFSET(テストデータ!$AZ$3,500,4)))","v":13},{"$f":"IF(OR(INDIRECT(ADDRESS(ROW()-2,COLUMN()))=\"欠\",INDIRECT(ADDRESS(ROW()-2,COLUMN()))=\"\"),\"\",RANK(INDIRECT(ADDRESS(ROW()-2,COLUMN())),OFFSET(テストデータ!$AZ$3,1,5):OFFSET(テストデータ!$AZ$3,500,5)))","v":11},{"$f":"IF(OR(INDIRECT(ADDRESS(ROW()-2,COLUMN()))=\"欠\",INDIRECT(ADDRESS(ROW()-2,COLUMN()))=\"\"),\"\",RANK(INDIRECT(ADDRESS(ROW()-2,COLUMN())),OFFSET(テストデータ!$AZ$3,1,6):OFFSET(テストデータ!$AZ$3,500,6)))","v":1},{"$f":"IF(OR(INDIRECT(ADDRESS(ROW()-2,COLUMN()))=\"欠\",INDIRECT(ADDRESS(ROW()-2,COLUMN()))=\"\"),\"\",RANK(INDIRECT(ADDRESS(ROW()-2,COLUMN())),OFFSET(テストデータ!$AZ$3,1,7):OFFSET(テストデータ!$AZ$3,500,7)))","v":6},{"$f":"IF(OR(INDIRECT(ADDRESS(ROW()-2,COLUMN()))=\"欠\",INDIRECT(ADDRESS(ROW()-2,COLUMN()))=\"\"),\"\",RANK(INDIRECT(ADDRESS(ROW()-2,COLUMN())),OFFSET(テストデータ!$AZ$3,1,8):OFFSET(テストデータ!$AZ$3,500,8)))","v":5},{"$f":"IF(OR(INDIRECT(ADDRESS(ROW()-2,COLUMN()))=\"欠\",INDIRECT(ADDRESS(ROW()-2,COLUMN()))=\"\"),\"\",RANK(INDIRECT(ADDRESS(ROW()-2,COLUMN())),OFFSET(テストデータ!$AZ$3,1,9):OFFSET(テストデータ!$AZ$3,500,9)))","v":9},{"$f":"IF(OR(INDIRECT(ADDRESS(ROW()-2,COLUMN()))=\"欠\",INDIRECT(ADDRESS(ROW()-2,COLUMN()))=\"\"),\"\",RANK(INDIRECT(ADDRESS(ROW()-2,COLUMN())),OFFSET(テストデータ!$AZ$3,1,10):OFFSET(テストデータ!$AZ$3,500,10)))","v":""},{"$f":"IF(OR(INDIRECT(ADDRESS(ROW()-2,COLUMN()))=\"欠\",INDIRECT(ADDRESS(ROW()-2,COLUMN()))=\"\"),\"\",RANK(INDIRECT(ADDRESS(ROW()-2,COLUMN())),OFFSET(テストデータ!$AZ$3,1,11):OFFSET(テストデータ!$AZ$3,500,11)))","v":""}]
[null,{"$f":"IF(初期設定!$C8=\"\",\"\",初期設定!$C8)","v":"世B"},"1回","2回","3回","4回","5回","6回","7回","8回","9回","10回","11回","12回"]
[null,"実施日",{"$f":"IF(テストデータ!BL$2=\"\",\"\",テストデータ!BL$2)","v":"3/2"},{"$f":"IF(テストデータ!BM$2=\"\",\"\",テストデータ!BM$2)","v":"4/3"},{"$f":"IF(テストデータ!BN$2=\"\",\"\",テストデータ!BN$2)","v":"5/4"},{"$f":"IF(テストデータ!BO$2=\"\",\"\",テストデータ!BO$2)","v":"6/5"},{"$f":"IF(テストデータ!BP$2=\"\",\"\",テストデータ!BP$2)","v":"7/6"},{"$f":"IF(テストデータ!BQ$2=\"\",\"\",テストデータ!BQ$2)","v":"8/7"},{"$f":"IF(テストデータ!BR$2=\"\",\"\",テストデータ!BR$2)","v":"9/8"},{"$f":"IF(テストデータ!BS$2=\"\",\"\",テストデータ!BS$2)","v":"10/9"},{"$f":"IF(テストデータ!BT$2=\"\",\"\",テストデータ!BT$2)","v":"11/10"},{"$f":"IF(テストデータ!BU$2=\"\",\"\",テストデータ!BU$2)","v":"12/11"},{"$f":"IF(テストデータ!BV$2=\"\",\"\",テストデータ!BV$2)","v":""},{"$f":"IF(テストデータ!BW$2=\"\",\"\",テストデータ!BW$2)","v":""}]
[null,"得点",{"$f":"IF(VLOOKUP($H$2,テストデータ!$A$4:$FO$503,64,FALSE)=\"\",IF(INDIRECT(ADDRESS(ROW()-1,COLUMN()))=\"\",\"\",\"欠\"),VLOOKUP($H$2,テストデータ!$A$4:$FO$503,64,FALSE))","v":30},{"$f":"IF(VLOOKUP($H$2,テストデータ!$A$4:$FO$503,65,FALSE)=\"\",IF(INDIRECT(ADDRESS(ROW()-1,COLUMN()))=\"\",\"\",\"欠\"),VLOOKUP($H$2,テストデータ!$A$4:$FO$503,65,FALSE))","v":99},{"$f":"IF(VLOOKUP($H$2,テストデータ!$A$4:$FO$503,66,FALSE)=\"\",IF(INDIRECT(ADDRESS(ROW()-1,COLUMN()))=\"\",\"\",\"欠\"),VLOOKUP($H$2,テストデータ!$A$4:$FO$503,66,FALSE))","v":79},{"$f":"IF(VLOOKUP($H$2,テストデータ!$A$4:$FO$503,67,FALSE)=\"\",IF(INDIRECT(ADDRESS(ROW()-1,COLUMN()))=\"\",\"\",\"欠\"),VLOOKUP($H$2,テストデータ!$A$4:$FO$503,67,FALSE))","v":88},{"$f":"IF(VLOOKUP($H$2,テストデータ!$A$4:$FO$503,68,FALSE)=\"\",IF(INDIRECT(ADDRESS(ROW()-1,COLUMN()))=\"\",\"\",\"欠\"),VLOOKUP($H$2,テストデータ!$A$4:$FO$503,68,FALSE))","v":71},{"$f":"IF(VLOOKUP($H$2,テストデータ!$A$4:$FO$503,69,FALSE)=\"\",IF(INDIRECT(ADDRESS(ROW()-1,COLUMN()))=\"\",\"\",\"欠\"),VLOOKUP($H$2,テストデータ!$A$4:$FO$503,69,FALSE))","v":20},{"$f":"IF(VLOOKUP($H$2,テストデータ!$A$4:$FO$503,70,FALSE)=\"\",IF(INDIRECT(ADDRESS(ROW()-1,COLUMN()))=\"\",\"\",\"欠\"),VLOOKUP($H$2,テストデータ!$A$4:$FO$503,70,FALSE))","v":60},{"$f":"IF(VLOOKUP($H$2,テストデータ!$A$4:$FO$503,71,FALSE)=\"\",IF(INDIRECT(ADDRESS(ROW()-1,COLUMN()))=\"\",\"\",\"欠\"),VLOOKUP($H$2,テストデータ!$A$4:$FO$503,71,FALSE))","v":71},{"$f":"IF(VLOOKUP($H$2,テストデータ!$A$4:$FO$503,72,FALSE)=\"\",IF(INDIRECT(ADDRESS(ROW()-1,COLUMN()))=\"\",\"\",\"欠\"),VLOOKUP($H$2,テストデータ!$A$4:$FO$503,72,FALSE))","v":89},{"$f":"IF(VLOOKUP($H$2,テストデータ!$A$4:$FO$503,73,FALSE)=\"\",IF(INDIRECT(ADDRESS(ROW()-1,COLUMN()))=\"\",\"\",\"欠\"),VLOOKUP($H$2,テストデータ!$A$4:$FO$503,73,FALSE))","v":92},{"$f":"IF(VLOOKUP($H$2,テストデータ!$A$4:$FO$503,74,FALSE)=\"\",IF(INDIRECT(ADDRESS(ROW()-1,COLUMN()))=\"\",\"\",\"欠\"),VLOOKUP($H$2,テストデータ!$A$4:$FO$503,74,FALSE))","v":""},{"$f":"IF(VLOOKUP($H$2,テストデータ!$A$4:$FO$503,75,FALSE)=\"\",IF(INDIRECT(ADDRESS(ROW()-1,COLUMN()))=\"\",\"\",\"欠\"),VLOOKUP($H$2,テストデータ!$A$4:$FO$503,75,FALSE))","v":""}]
[null,"平均点",{"$f":"IF(COUNT(OFFSET(テストデータ!$D$3,1,12*5+0):OFFSET(テストデータ!$D$3,500,12*5+0))=0,NA(),AVERAGE(OFFSET(テストデータ!$D$3,1,12*5+0):OFFSET(テストデータ!$D$3,500,12*5+0)))","v":55.722222222222221},{"$f":"IF(COUNT(OFFSET(テストデータ!$D$3,1,12*5+1):OFFSET(テストデータ!$D$3,500,12*5+1))=0,NA(),AVERAGE(OFFSET(テストデータ!$D$3,1,12*5+1):OFFSET(テストデータ!$D$3,500,12*5+1)))","v":48.35},{"$f":"IF(COUNT(OFFSET(テストデータ!$D$3,1,12*5+2):OFFSET(テストデータ!$D$3,500,12*5+2))=0,NA(),AVERAGE(OFFSET(テストデータ!$D$3,1,12*5+2):OFFSET(テストデータ!$D$3,500,12*5+2)))","v":47},{"$f":"IF(COUNT(OFFSET(テストデータ!$D$3,1,12*5+3):OFFSET(テストデータ!$D$3,500,12*5+3))=0,NA(),AVERAGE(OFFSET(テストデータ!$D$3,1,12*5+3):OFFSET(テストデータ!$D$3,500,12*5+3)))","v":46.7},{"$f":"IF(COUNT(OFFSET(テストデータ!$D$3,1,12*5+4):OFFSET(テストデータ!$D$3,500,12*5+4))=0,NA(),AVERAGE(OFFSET(テストデータ!$D$3,1,12*5+4):OFFSET(テストデータ!$D$3,500,12*5+4)))","v":52.55},{"$f":"IF(COUNT(OFFSET(テストデータ!$D$3,1,12*5+5):OFFSET(テストデータ!$D$3,500,12*5+5))=0,NA(),AVERAGE(OFFSET(テストデータ!$D$3,1,12*5+5):OFFSET(テストデータ!$D$3,500,12*5+5)))","v":52},{"$f":"IF(COUNT(OFFSET(テストデータ!$D$3,1,12*5+6):OFFSET(テストデータ!$D$3,500,12*5+6))=0,NA(),AVERAGE(OFFSET(テストデータ!$D$3,1,12*5+6):OFFSET(テストデータ!$D$3,500,12*5+6)))","v":56.25},{"$f":"IF(COUNT(OFFSET(テストデータ!$D$3,1,12*5+7):OFFSET(テストデータ!$D$3,500,12*5+7))=0,NA(),AVERAGE(OFFSET(テストデータ!$D$3,1,12*5+7):OFFSET(テストデータ!$D$3,500,12*5+7)))","v":61.736842105263158},{"$f":"IF(COUNT(OFFSET(テストデータ!$D$3,1,12*5+8):OFFSET(テストデータ!$D$3,500,12*5+8))=0,NA(),AVERAGE(OFFSET(テストデータ!$D$3,1,12*5+8):OFFSET(テストデータ!$D$3,500,12*5+8)))","v":60.2},{"$f":"IF(COUNT(OFFSET(テストデータ!$D$3,1,12*5+9):OFFSET(テストデータ!$D$3,500,12*5+9))=0,NA(),AVERAGE(OFFSET(テストデータ!$D$3,1,12*5+9):OFFSET(テストデータ!$D$3,500,12*5+9)))","v":52.736842105263158},{"$f":"IF(COUNT(OFFSET(テストデータ!$D$3,1,12*5+10):OFFSET(テストデータ!$D$3,500,12*5+10))=0,NA(),AVERAGE(OFFSET(テストデータ!$D$3,1,12*5+10):OFFSET(テストデータ!$D$3,500,12*5+10)))","v":{"$error":"#N/A"}},{"$f":"IF(COUNT(OFFSET(テストデータ!$D$3,1,12*5+11):OFFSET(テストデータ!$D$3,500,12*5+11))=0,NA(),AVERAGE(OFFSET(テストデータ!$D$3,1,12*5+11):OFFSET(テストデータ!$D$3,500,12*5+11)))","v":{"$error":"#N/A"}}]
[null,"校内順位",{"$f":"IF(OR(INDIRECT(ADDRESS(ROW()-2,COLUMN()))=\"欠\",INDIRECT(ADDRESS(ROW()-2,COLUMN()))=\"\"),\"\",RANK(INDIRECT(ADDRESS(ROW()-2,COLUMN())),OFFSET(テストデータ!$BL$3,1,0):OFFSET(テストデータ!$BL$3,500,0)))","v":14},{"$f":"IF(OR(INDIRECT(ADDRESS(ROW()-2,COLUMN()))=\"欠\",INDIRECT(ADDRESS(ROW()-2,COLUMN()))=\"\"),\"\",RANK(INDIRECT(ADDRESS(ROW()-2,COLUMN())),OFFSET(テストデータ!$BL$3,1,1):OFFSET(テストデータ!$BL$3,500,1)))","v":1},{"$f":"IF(OR(INDIRECT(ADDRESS(ROW()-2,COLUMN()))=\"欠\",INDIRECT(ADDRESS(ROW()-2,COLUMN()))=\"\"),\"\",RANK(INDIRECT(ADDRESS(ROW()-2,COLUMN())),OFFSET(テストデータ!$BL$3,1,2):OFFSET(テストデータ!$BL$3,500,2)))","v":4},{"$f":"IF(OR(INDIRECT(ADDRESS(ROW()-2,COLUMN()))=\"欠\",INDIRECT(ADDRESS(ROW()-2,COLUMN()))=\"\"),\"\",RANK(INDIRECT(ADDRESS(ROW()-2,COLUMN())),OFFSET(テストデータ!$BL$3,1,3):OFFSET(テストデータ!$BL$3,500,3)))","v":2},{"$f":"IF(OR(INDIRECT(ADDRESS(ROW()-2,COLUMN()))=\"欠\",INDIRECT(ADDRESS(ROW()-2,COLUMN()))=\"\"),\"\",RANK(INDIRECT(ADDRESS(ROW()-2,COLUMN())),OFFSET(テストデータ!$BL$3,1,4):OFFSET(テストデータ!$BL$3,500,4)))","v":5},{"$f":"IF(OR(INDIRECT(ADDRESS(ROW()-2,COLUMN()))=\"欠\",INDIRECT(ADDRESS(ROW()-2,COLUMN()))=\"\"),\"\",RANK(INDIRECT(ADDRESS(ROW()-2,COLUMN())),OFFSET(テストデータ!$BL$3,1,5):OFFSET(テストデータ!$BL$3,500,5)))","v":15},{"$f":"IF(OR(INDIRECT(ADDRESS(ROW()-2,COLUMN()))=\"欠\",INDIRECT(ADDRESS(ROW()-2,COLUMN()))=\"\"),\"\",RANK(INDIRECT(ADDRESS(ROW()-2,COLUMN())),OFFSET(テストデータ!$BL$3,1,6):OFFSET(テストデータ!$BL$3,500,6)))","v":8},{"$f":"IF(OR(INDIRECT(ADDRESS(ROW()-2,COLUMN()))=\"欠\",INDIRECT(ADDRESS(ROW()-2,COLUMN()))=\"\"),\"\",RANK(INDIRECT(ADDRESS(ROW()-2,COLUMN())),OFFSET(テストデータ!$BL$3,1,7):OFFSET(テストデータ!$BL$3,500,7)))","v":9},{"$f":"IF(OR(INDIRECT(ADDRESS(ROW()-2,COLUMN()))=\"欠\",INDIRECT(ADDRESS(ROW()-2,COLUMN()))=\"\"),\"\",RANK(INDIRECT(ADDRESS(ROW()-2,COLUMN())),OFFSET(テストデータ!$BL$3,1,8):OFFSET(テストデータ!$BL$3,500,8)))","v":5},{"$f":"IF(OR(INDIRECT(ADDRESS(ROW()-2,COLUMN()))=\"欠\",INDIRECT(ADDRESS(ROW()-2,COLUMN()))=\"\"),\"\",RANK(INDIRECT(ADDRESS(ROW()-2,COLUMN())),OFFSET(テストデータ!$BL$3,1,9):OFFSET(テストデータ!$BL$3,500,9)))","v":2},{"$f":"IF(OR(INDIRECT(ADDRESS(ROW()-2,COLUMN()))=\"欠\",INDIRECT(ADDRESS(ROW()-2,COLUMN()))=\"\"),\"\",RANK(INDIRECT(ADDRESS(ROW()-2,COLUMN())),OFFSET(テストデータ!$BL$3,1,10):OFFSET(テストデータ!$BL$3,500,10)))","v":""},{"$f":"IF(OR(INDIRECT(ADDRESS(ROW()-2,COLUMN()))=\"欠\",INDIRECT(ADDRESS(ROW()-2,COLUMN()))=\"\"),\"\",RANK(INDIRECT(ADDRESS(ROW()-2,COLUMN())),OFFSET(テストデータ!$BL$3,1,11):OFFSET(テストデータ!$BL$3,500,11)))","v":""}]
[null,{"$f":"IF(初期設定!$C9=\"\",\"\",初期設定!$C9)","v":"化基"},"1回","2回","3回","4回","5回","6回","7回","8回","9回","10回","11回","12回"]
[null,"実施日",{"$f":"IF(テストデータ!BX$2=\"\",\"\",テストデータ!BX$2)","v":"3/2"},{"$f":"IF(テストデータ!BY$2=\"\",\"\",テストデータ!BY$2)","v":"4/3"},{"$f":"IF(テストデータ!BZ$2=\"\",\"\",テストデータ!BZ$2)","v":"5/4"},{"$f":"IF(テストデータ!CA$2=\"\",\"\",テストデータ!CA$2)","v":"6/5"},{"$f":"IF(テストデータ!CB$2=\"\",\"\",テストデータ!CB$2)","v":"7/6"},{"$f":"IF(テストデータ!CC$2=\"\",\"\",テストデータ!CC$2)","v":"8/7"},{"$f":"IF(テストデータ!CD$2=\"\",\"\",テストデータ!CD$2)","v":"9/8"},{"$f":"IF(テストデータ!CE$2=\"\",\"\",テストデータ!CE$2)","v":"10/9"},{"$f":"IF(テストデータ!CF$2=\"\",\"\",テストデータ!CF$2)","v":"11/10"},{"$f":"IF(テストデータ!CG$2=\"\",\"\",テストデータ!CG$2)","v":"12/11"},{"$f":"IF(テストデータ!CH$2=\"\",\"\",テストデータ!CH$2)","v":""},{"$f":"IF(テストデータ!CI$2=\"\",\"\",テストデータ!CI$2)","v":""}]
[null,"得点",{"$f":"IF(VLOOKUP($H$2,テストデータ!$A$4:$FO$503,76,FALSE)=\"\",IF(INDIRECT(ADDRESS(ROW()-1,COLUMN()))=\"\",\"\",\"欠\"),VLOOKUP($H$2,テストデータ!$A$4:$FO$503,76,FALSE))","v":11},{"$f":"IF(VLOOKUP($H$2,テストデータ!$A$4:$FO$503,77,FALSE)=\"\",IF(INDIRECT(ADDRESS(ROW()-1,COLUMN()))=\"\",\"\",\"欠\"),VLOOKUP($H$2,テストデータ!$A$4:$FO$503,77,FALSE))","v":16},{"$f":"IF(VLOOKUP($H$2,テストデータ!$A$4:$FO$503,78,FALSE)=\"\",IF(INDIRECT(ADDRESS(ROW()-1,COLUMN()))=\"\",\"\",\"欠\"),VLOOKUP($H$2,テストデータ!$A$4:$FO$503,78,FALSE))","v":86},{"$f":"IF(VLOOKUP($H$2,テストデータ!$A$4:$FO$503,79,FALSE)=\"\",IF(INDIRECT(ADDRESS(ROW()-1,COLUMN()))=\"\",\"\",\"欠\"),VLOOKUP($H$2,テストデータ!$A$4:$FO$503,79,FALSE))","v":65},{"$f":"IF(VLOOKUP($H$2,テストデータ!$A$4:$FO$503,80,FALSE)=\"\",IF(INDIRECT(ADDRESS(ROW()-1,COLUMN()))=\"\",\"\",\"欠\"),VLOOKUP($H$2,テストデータ!$A$4:$FO$503,80,FALSE))","v":75},{"$f":"IF(VLOOKUP($H$2,テストデータ!$A$4:$FO$503,81,FALSE)=\"\",IF(INDIRECT(ADDRESS(ROW()-1,COLUMN()))=\"\",\"\",\"欠\"),VLOOKUP($H$2,テストデータ!$A$4:$FO$503,81,FALSE))","v":74},{"$f":"IF(VLOOKUP($H$2,テストデータ!$A$4:$FO$503,82,FALSE)=\"\",IF(INDIRECT(ADDRESS(ROW()-1,COLUMN()))=\"\",\"\",\"欠\"),VLOOKUP($H$2,テストデータ!$A$4:$FO$503,82,FALSE))","v":77},{"$f":"IF(VLOOKUP($H$2,テストデータ!$A$4:$FO$503,83,FALSE)=\"\",IF(INDIRECT(ADDRESS(ROW()-1,COLUMN()))=\"\",\"\",\"欠\"),VLOOKUP($H$2,テストデータ!$A$4:$FO$503,83,FALSE))","v":63},{"$f":"IF(VLOOKUP($H$2,テストデータ!$A$4:$FO$503,84,FALSE)=\"\",IF(INDIRECT(ADDRESS(ROW()-1,COLUMN()))=\"\",\"\",\"欠\"),VLOOKUP($H$2,テストデータ!$A$4:$FO$505,84,FALSE))","v":49},{"$f":"IF(VLOOKUP($H$2,テストデータ!$A$4:$FO$503,85,FALSE)=\"\",IF(INDIRECT(ADDRESS(ROW()-1,COLUMN()))=\"\",\"\",\"欠\"),VLOOKUP($H$2,テストデータ!$A$4:$FO$503,85,FALSE))","v":44},{"$f":"IF(VLOOKUP($H$2,テストデータ!$A$4:$FO$503,86,FALSE)=\"\",IF(INDIRECT(ADDRESS(ROW()-1,COLUMN()))=\"\",\"\",\"欠\"),VLOOKUP($H$2,テストデータ!$A$4:$FO$503,86,FALSE))","v":""},{"$f":"IF(VLOOKUP($H$2,テストデータ!$A$4:$FO$503,87,FALSE)=\"\",IF(INDIRECT(ADDRESS(ROW()-1,COLUMN()))=\"\",\"\",\"欠\"),VLOOKUP($H$2,テストデータ!$A$4:$FO$503,87,FALSE))","v":""}]
[null,"平均点",{"$f":"IF(COUNT(OFFSET(テストデータ!$D$3,1,12*6+0):OFFSET(テストデータ!$D$3,500,12*6+0))=0,NA(),AVERAGE(OFFSET(テストデータ!$D$3,1,12*6+0):OFFSET(テストデータ!$D$3,500,12*6+0)))","v":54.94736842105263},{"$f":"IF(COUNT(OFFSET(テストデータ!$D$3,1,12*6+1):OFFSET(テストデータ!$D$3,500,12*6+1))=0,NA(),AVERAGE(OFFSET(テストデータ!$D$3,1,12*6+1):OFFSET(テストデータ!$D$3,500,12*6+1)))","v":47.882352941176471},{"$f":"IF(COUNT(OFFSET(テストデータ!$D$3,1,12*6+2):OFFSET(テストデータ!$D$3,500,12*6+2))=0,NA(),AVERAGE(OFFSET(テストデータ!$D$3,1,12*6+2):OFFSET(テストデータ!$D$3,500,12*6+2)))","v":64.375},{"$f":"IF(COUNT(OFFSET(テストデータ!$D$3,1,12*6+3):OFFSET(テストデータ!$D$3,500,12*6+3))=0,NA(),AVERAGE(OFFSET(テストデータ!$D$3,1,12*6+3):OFFSET(テストデータ!$D$3,500,12*6+3)))","v":59.2},{"$f":"IF(COUNT(OFFSET(テストデータ!$D$3,1,12*6+4):OFFSET(テストデータ!$D$3,500,12*6+4))=0,NA(),AVERAGE(OFFSET(テストデータ!$D$3,1,12*6+4):OFFSET(テストデータ!$D$3,500,12*6+4)))","v":59.8},{"$f":"IF(COUNT(OFFSET(テストデータ!$D$3,1,12*6+5):OFFSET(テストデータ!$D$3,500,12*6+5))=0,NA(),AVERAGE(OFFSET(テストデータ!$D$3,1,12*6+5):OFFSET(テストデータ!$D$3,500,12*6+5)))","v":64.349999999999994},{"$f":"IF(COUNT(OFFSET(テストデータ!$D$3,1,12*6+6):OFFSET(テストデータ!$D$3,500,12*6+6))=0,NA(),AVERAGE(OFFSET(テストデータ!$D$3,1,12*6+6):OFFSET(テストデータ!$D$3,500,12*6+6)))","v":45.05263157894737},{"$f":"IF(COUNT(OFFSET(テストデータ!$D$3,1,12*6+7):OFFSET(テストデータ!$D$3,500,12*6+7))=0,NA(),AVERAGE(OFFSET(テストデータ!$D$3,1,12*6+7):OFFSET(テストデータ!$D$3,500,12*6+7)))","v":55.736842105263158},{"$f":"IF(COUNT(OFFSET(テストデータ!$D$3,1,12*6+8):OFFSET(テストデータ!$D$3,500,12*6+8))=0,NA(),AVERAGE(OFFSET(テストデータ!$D$3,1,12*6+8):OFFSET(テストデータ!$D$3,500,12*6+8)))","v":55.789473684210527},{"$f":"IF(COUNT(OFFSET(テストデータ!$D$3,1,12*6+9):OFFSET(テストデータ!$D$3,500,12*6+9))=0,NA(),AVERAGE(OFFSET(テストデータ!$D$3,1,12*6+9):OFFSET(テストデータ!$D$3,500,12*6+9)))","v":49.9},{"$f":"IF(COUNT(OFFSET(テストデータ!$D$3,1,12*6+10):OFFSET(テストデータ!$D$3,500,12*6+10))=0,NA(),AVERAGE(OFFSET(テストデータ!$D$3,1,12*6+10):OFFSET(テストデータ!$D$3,500,12*6+10)))","v":{"$error":"#N/A"}},{"$f":"IF(COUNT(OFFSET(テストデータ!$D$3,1,12*6+11):OFFSET(テストデータ!$D$3,500,12*6+11))=0,NA(),AVERAGE(OFFSET(テストデータ!$D$3,1,12*6+11):OFFSET(テストデータ!$D$3,500,12*6+11)))","v":{"$error":"#N/A"}}]
[null,"校内順位",{"$f":"IF(OR(INDIRECT(ADDRESS(ROW()-2,COLUMN()))=\"欠\",INDIRECT(ADDRESS(ROW()-2,COLUMN()))=\"\"),\"\",RANK(INDIRECT(ADDRESS(ROW()-2,COLUMN())),OFFSET(テストデータ!$BX$3,1,0):OFFSET(テストデータ!$BX$3,500,0)))","v":17},{"$f":"IF(OR(INDIRECT(ADDRESS(ROW()-2,COLUMN()))=\"欠\",INDIRECT(ADDRESS(ROW()-2,COLUMN()))=\"\"),\"\",RANK(INDIRECT(ADDRESS(ROW()-2,COLUMN())),OFFSET(テストデータ!$BX$3,1,1):OFFSET(テストデータ!$BX$3,500,1)))","v":14},{"$f":"IF(OR(INDIRECT(ADDRESS(ROW()-2,COLUMN()))=\"欠\",INDIRECT(ADDRESS(ROW()-2,COLUMN()))=\"\"),\"\",RANK(INDIRECT(ADDRESS(ROW()-2,COLUMN())),OFFSET(テストデータ!$BX$3,1,2):OFFSET(テストデータ!$BX$3,500,2)))","v":3},{"$f":"IF(OR(INDIRECT(ADDRESS(ROW()-2,COLUMN()))=\"欠\",INDIRECT(ADDRESS(ROW()-2,COLUMN()))=\"\"),\"\",RANK(INDIRECT(ADDRESS(ROW()-2,COLUMN())),OFFSET(テストデータ!$BX$3,1,3):OFFSET(テストデータ!$BX$3,500,3)))","v":11},{"$f":"IF(OR(INDIRECT(ADDRESS(ROW()-2,COLUMN()))=\"欠\",INDIRECT(ADDRESS(ROW()-2,COLUMN()))=\"\"),\"\",RANK(INDIRECT(ADDRESS(ROW()-2,COLUMN())),OFFSET(テストデータ!$BX$3,1,4):OFFSET(テストデータ!$BX$3,500,4)))","v":7},{"$f":"IF(OR(INDIRECT(ADDRESS(ROW()-2,COLUMN()))=\"欠\",INDIRECT(ADDRESS(ROW()-2,COLUMN()))=\"\"),\"\",RANK(INDIRECT(ADDRESS(ROW()-2,COLUMN())),OFFSET(テストデータ!$BX$3,1,5):OFFSET(テストデータ!$BX$3,500,5)))","v":9},{"$f":"IF(OR(INDIRECT(ADDRESS(ROW()-2,COLUMN()))=\"欠\",INDIRECT(ADDRESS(ROW()-2,COLUMN()))=\"\"),\"\",RANK(INDIRECT(ADDRESS(ROW()-2,COLUMN())),OFFSET(テストデータ!$BX$3,1,6):OFFSET(テストデータ!$BX$3,500,6)))","v":5},{"$f":"IF(OR(INDIRECT(ADDRESS(ROW()-2,COLUMN()))=\"欠\",INDIRECT(ADDRESS(ROW()-2,COLUMN()))=\"\"),\"\",RANK(INDIRECT(ADDRESS(ROW()-2,COLUMN())),OFFSET(テストデータ!$BX$3,1,7):OFFSET(テストデータ!$BX$3,500,7)))","v":8},{"$f":"IF(OR(INDIRECT(ADDRESS(ROW()-2,COLUMN()))=\"欠\",INDIRECT(ADDRESS(ROW()-2,COLUMN()))=\"\"),\"\",RANK(INDIRECT(ADDRESS(ROW()-2,COLUMN())),OFFSET(テストデータ!$BX$3,1,8):OFFSET(テストデータ!$BX$3,500,8)))","v":10},{"$f":"IF(OR(INDIRECT(ADDRESS(ROW()-2,COLUMN()))=\"欠\",INDIRECT(ADDRESS(ROW()-2,COLUMN()))=\"\"),\"\",RANK(INDIRECT(ADDRESS(ROW()-2,COLUMN())),OFFSET(テストデータ!$BX$3,1,9):OFFSET(テストデータ!$BX$3,500,9)))","v":10},{"$f":"IF(OR(INDIRECT(ADDRESS(ROW()-2,COLUMN()))=\"欠\",INDIRECT(ADDRESS(ROW()-2,COLUMN()))=\"\"),\"\",RANK(INDIRECT(ADDRESS(ROW()-2,COLUMN())),OFFSET(テストデータ!$BX$3,1,10):OFFSET(テストデータ!$BX$3,500,10)))","v":""},{"$f":"IF(OR(INDIRECT(ADDRESS(ROW()-2,COLUMN()))=\"欠\",INDIRECT(ADDRESS(ROW()-2,COLUMN()))=\"\"),\"\",RANK(INDIRECT(ADDRESS(ROW()-2,COLUMN())),OFFSET(テストデータ!$BX$3,1,11):OFFSET(テストデータ!$BX$3,500,11)))","v":""}]
[]
[null,null,null,null,null,null,null,"ID","class",null,"氏  名"]
[null,{"$f":"IF(初期設定!$C2=\"\",\"\",初期設定!$C2)","v":"月例テスト"},null,null,null,null,null,{"$f":"H2","v":20},{"$f":"IF(I2=\"\",\"\",I2)","v":"3-C"},null,{"$f":"IF(K2=\"\",\"\",K2)","v":"鈴木T男"},null,null,null,null,null,null,{"$f":"初期設定!$B65","v":"微風予備校"}]
[null,null,null,null,null,null,null,null,null,null,null,null,{"$f":"IF(初期設定!$C$1=\"\",\"\",初期設定!$C$1)","v":"20xx年度"}]
[null,{"$f":"IF(初期設定!$C10=\"\",\"\",初期設定!$C10)","v":"情報"},"1回","2回","3回","4回","5回","6回","7回","8回","9回","10回","11回","12回"]
[null,"実施日"]
[null,"得点"]
[null,"平均点"]
[null,"校内順位"]
[null,{"$f":"IF(初期設定!$C11=\"\",\"\",初期設定!$C11)","v":"芸術"},"1回","2回","3回","4回","5回","6回","7回","8回","9回","10回","11回","12回"]
[null,"実施日",{"$f":"IF(テストデータ!CV$2=\"\",\"\",テストデータ!CV$2)","v":"3/2"},{"$f":"IF(テストデータ!CW$2=\"\",\"\",テストデータ!CW$2)","v":"4/3"},{"$f":"IF(テストデータ!CX$2=\"\",\"\",テストデータ!CX$2)","v":"5/4"},{"$f":"IF(テストデータ!CY$2=\"\",\"\",テストデータ!CY$2)","v":"6/5"},{"$f":"IF(テストデータ!CZ$2=\"\",\"\",テストデータ!CZ$2)","v":"7/6"},{"$f":"IF(テストデータ!DA$2=\"\",\"\",テストデータ!DA$2)","v":"8/7"},{"$f":"IF(テストデータ!DB$2=\"\",\"\",テストデータ!DB$2)","v":"9/8"},{"$f":"IF(テストデータ!DC$2=\"\",\"\",テストデータ!DC$2)","v":"10/9"},{"$f":"IF(テストデータ!DD$2=\"\",\"\",テストデータ!DD$2)","v":"11/10"},{"$f":"IF(テストデータ!DE$2=\"\",\"\",テストデータ!DE$2)","v":"12/11"},{"$f":"IF(テストデータ!DF$2=\"\",\"\",テストデータ!DF$2)","v":""},{"$f":"IF(テストデータ!DG$2=\"\",\"\",テストデータ!DG$2)","v":""}]
[null,"得点",{"$f":"IF(VLOOKUP($H$2,テストデータ!$A$4:$FO$503,100,FALSE)=\"\",IF(INDIRECT(ADDRESS(ROW()-1,COLUMN()))=\"\",\"\",\"欠\"),VLOOKUP($H$2,テストデータ!$A$4:$FO$503,100,FALSE))","v":30},{"$f":"IF(VLOOKUP($H$2,テストデータ!$A$4:$FO$503,101,FALSE)=\"\",IF(INDIRECT(ADDRESS(ROW()-1,COLUMN()))=\"\",\"\",\"欠\"),VLOOKUP($H$2,テストデータ!$A$4:$FO$503,101,FALSE))","v":99},{"$f":"IF(VLOOKUP($H$2,テストデータ!$A$4:$FO$503,102,FALSE)=\"\",IF(INDIRECT(ADDRESS(ROW()-1,COLUMN()))=\"\",\"\",\"欠\"),VLOOKUP($H$2,テストデータ!$A$4:$FO$503,102,FALSE))","v":79},{"$f":"IF(VLOOKUP($H$2,テストデータ!$A$4:$FO$503,103,FALSE)=\"\",IF(INDIRECT(ADDRESS(ROW()-1,COLUMN()))=\"\",\"\",\"欠\"),VLOOKUP($H$2,テストデータ!$A$4:$FO$503,103,FALSE))","v":88},{"$f":"IF(VLOOKUP($H$2,テストデータ!$A$4:$FO$503,104,FALSE)=\"\",IF(INDIRECT(ADDRESS(ROW()-1,COLUMN()))=\"\",\"\",\"欠\"),VLOOKUP($H$2,テストデータ!$A$4:$FO$503,104,FALSE))","v":71},{"$f":"IF(VLOOKUP($H$2,テストデータ!$A$4:$FO$503,105,FALSE)=\"\",IF(INDIRECT(ADDRESS(ROW()-1,COLUMN()))=\"\",\"\",\"欠\"),VLOOKUP($H$2,テストデータ!$A$4:$FO$503,105,FALSE))","v":20},{"$f":"IF(VLOOKUP($H$2,テストデータ!$A$4:$FO$503,106,FALSE)=\"\",IF(INDIRECT(ADDRESS(ROW()-1,COLUMN()))=\"\",\"\",\"欠\"),VLOOKUP($H$2,テストデータ!$A$4:$FO$503,106,FALSE))","v":60},{"$f":"IF(VLOOKUP($H$2,テストデータ!$A$4:$FO$503,107,FALSE)=\"\",IF(INDIRECT(ADDRESS(ROW()-1,COLUMN()))=\"\",\"\",\"欠\"),VLOOKUP($H$2,テストデータ!$A$4:$FO$503,107,FALSE))","v":71},{"$f":"IF(VLOOKUP($H$2,テストデータ!$A$4:$FO$503,108,FALSE)=\"\",IF(INDIRECT(ADDRESS(ROW()-1,COLUMN()))=\"\",\"\",\"欠\"),VLOOKUP($H$2,テストデータ!$A$4:$FO$503,108,FALSE))","v":89},{"$f":"IF(VLOOKUP($H$2,テストデータ!$A$4:$FO$503,109,FALSE)=\"\",IF(INDIRECT(ADDRESS(ROW()-1,COLUMN()))=\"\",\"\",\"欠\"),VLOOKUP($H$2,テストデータ!$A$4:$FO$503,109,FALSE))","v":92},{"$f":"IF(VLOOKUP($H$2,テストデータ!$A$4:$FO$503,110,FALSE)=\"\",IF(INDIRECT(ADDRESS(ROW()-1,COLUMN()))=\"\",\"\",\"欠\"),VLOOKUP($H$2,テストデータ!$A$4:$FO$503,110,FALSE))","v":""},{"$f":"IF(VLOOKUP($H$2,テストデータ!$A$4:$FO$503,111,FALSE)=\"\",IF(INDIRECT(ADDRESS(ROW()-1,COLUMN()))=\"\",\"\",\"欠\"),VLOOKUP($H$2,テストデータ!$A$4:$FO$503,111,FALSE))","v":""}]
[null,"平均点",{"$f":"IF(COUNT(OFFSET(テストデータ!$D$3,1,12*8+0):OFFSET(テストデータ!$D$3,500,12*8+0))=0,NA(),AVERAGE(OFFSET(テストデータ!$D$3,1,12*8+0):OFFSET(テストデータ!$D$3,500,12*8+0)))","v":55.722222222222221},{"$f":"IF(COUNT(OFFSET(テストデータ!$D$3,1,12*8+1):OFFSET(テストデータ!$D$3,500,12*8+1))=0,NA(),AVERAGE(OFFSET(テストデータ!$D$3,1,12*8+1):OFFSET(テストデータ!$D$3,500,12*8+1)))","v":48.35},{"$f":"IF(COUNT(OFFSET(テストデータ!$D$3,1,12*8+2):OFFSET(テストデータ!$D$3,500,12*8+2))=0,NA(),AVERAGE(OFFSET(テストデータ!$D$3,1,12*8+2):OFFSET(テストデータ!$D$3,500,12*8+2)))","v":47},{"$f":"IF(COUNT(OFFSET(テストデータ!$D$3,1,12*8+3):OFFSET(テストデータ!$D$3,500,12*8+3))=0,NA(),AVERAGE(OFFSET(テストデータ!$D$3,1,12*8+3):OFFSET(テストデータ!$D$3,500,12*8+3)))","v":46.7},{"$f":"IF(COUNT(OFFSET(テストデータ!$D$3,1,12*8+4):OFFSET(テストデータ!$D$3,500,12*8+4))=0,NA(),AVERAGE(OFFSET(テストデータ!$D$3,1,12*8+4):OFFSET(テストデータ!$D$3,500,12*8+4)))","v":52.55},{"$f":"IF(COUNT(OFFSET(テストデータ!$D$3,1,12*8+5):OFFSET(テストデータ!$D$3,500,12*8+5))=0,NA(),AVERAGE(OFFSET(テストデータ!$D$3,1,12*8+5):OFFSET(テストデータ!$D$3,500,12*8+5)))","v":52},{"$f":"IF(COUNT(OFFSET(テストデータ!$D$3,1,12*8+6):OFFSET(テストデータ!$D$3,500,12*8+6))=0,NA(),AVERAGE(OFFSET(テストデータ!$D$3,1,12*8+6):OFFSET(テストデータ!$D$3,500,12*8+6)))","v":56.25},{"$f":"IF(COUNT(OFFSET(テストデータ!$D$3,1,12*8+7):OFFSET(テストデータ!$D$3,500,12*8+7))=0,NA(),AVERAGE(OFFSET(テストデータ!$D$3,1,12*8+7):OFFSET(テストデータ!$D$3,500,12*8+7)))","v":61.736842105263158},{"$f":"IF(COUNT(OFFSET(テストデータ!$D$3,1,12*8+8):OFFSET(テストデータ!$D$3,500,12*8+8))=0,NA(),AVERAGE(OFFSET(テストデータ!$D$3,1,12*8+8):OFFSET(テストデータ!$D$3,500,12*8+8)))","v":60.2},{"$f":"IF(COUNT(OFFSET(テストデータ!$D$3,1,12*8+9):OFFSET(テストデータ!$D$3,500,12*8+9))=0,NA(),AVERAGE(OFFSET(テストデータ!$D$3,1,12*8+9):OFFSET(テストデータ!$D$3,500,12*8+9)))","v":52.736842105263158},{"$f":"IF(COUNT(OFFSET(テストデータ!$D$3,1,12*8+10):OFFSET(テストデータ!$D$3,500,12*8+10))=0,NA(),AVERAGE(OFFSET(テストデータ!$D$3,1,12*8+10):OFFSET(テストデータ!$D$3,500,12*8+10)))","v":{"$error":"#N/A"}},{"$f":"IF(COUNT(OFFSET(テストデータ!$D$3,1,12*8+11):OFFSET(テストデータ!$D$3,500,12*8+11))=0,NA(),AVERAGE(OFFSET(テストデータ!$D$3,1,12*8+11):OFFSET(テストデータ!$D$3,500,12*8+11)))","v":{"$error":"#N/A"}}]
[null,"校内順位",{"$f":"IF(OR(INDIRECT(ADDRESS(ROW()-2,COLUMN()))=\"欠\",INDIRECT(ADDRESS(ROW()-2,COLUMN()))=\"\"),\"\",RANK(INDIRECT(ADDRESS(ROW()-2,COLUMN())),OFFSET(テストデータ!$CV$3,1,0):OFFSET(テストデータ!$CV$3,500,0)))","v":14},{"$f":"IF(OR(INDIRECT(ADDRESS(ROW()-2,COLUMN()))=\"欠\",INDIRECT(ADDRESS(ROW()-2,COLUMN()))=\"\"),\"\",RANK(INDIRECT(ADDRESS(ROW()-2,COLUMN())),OFFSET(テストデータ!$CV$3,1,1):OFFSET(テストデータ!$CV$3,500,1)))","v":1},{"$f":"IF(OR(INDIRECT(ADDRESS(ROW()-2,COLUMN()))=\"欠\",INDIRECT(ADDRESS(ROW()-2,COLUMN()))=\"\"),\"\",RANK(INDIRECT(ADDRESS(ROW()-2,COLUMN())),OFFSET(テストデータ!$CV$3,1,2):OFFSET(テストデータ!$CV$3,500,2)))","v":4},{"$f":"IF(OR(INDIRECT(ADDRESS(ROW()-2,COLUMN()))=\"欠\",INDIRECT(ADDRESS(ROW()-2,COLUMN()))=\"\"),\"\",RANK(INDIRECT(ADDRESS(ROW()-2,COLUMN())),OFFSET(テストデータ!$CV$3,1,3):OFFSET(テストデータ!$CV$3,500,3)))","v":2},{"$f":"IF(OR(INDIRECT(ADDRESS(ROW()-2,COLUMN()))=\"欠\",INDIRECT(ADDRESS(ROW()-2,COLUMN()))=\"\"),\"\",RANK(INDIRECT(ADDRESS(ROW()-2,COLUMN())),OFFSET(テストデータ!$CV$3,1,4):OFFSET(テストデータ!$CV$3,500,4)))","v":5},{"$f":"IF(OR(INDIRECT(ADDRESS(ROW()-2,COLUMN()))=\"欠\",INDIRECT(ADDRESS(ROW()-2,COLUMN()))=\"\"),\"\",RANK(INDIRECT(ADDRESS(ROW()-2,COLUMN())),OFFSET(テストデータ!$CV$3,1,5):OFFSET(テストデータ!$CV$3,500,5)))","v":15},{"$f":"IF(OR(INDIRECT(ADDRESS(ROW()-2,COLUMN()))=\"欠\",INDIRECT(ADDRESS(ROW()-2,COLUMN()))=\"\"),\"\",RANK(INDIRECT(ADDRESS(ROW()-2,COLUMN())),OFFSET(テストデータ!$CV$3,1,6):OFFSET(テストデータ!$CV$3,500,6)))","v":8},{"$f":"IF(OR(INDIRECT(ADDRESS(ROW()-2,COLUMN()))=\"欠\",INDIRECT(ADDRESS(ROW()-2,COLUMN()))=\"\"),\"\",RANK(INDIRECT(ADDRESS(ROW()-2,COLUMN())),OFFSET(テストデータ!$CV$3,1,7):OFFSET(テストデータ!$CV$3,500,7)))","v":9},{"$f":"IF(OR(INDIRECT(ADDRESS(ROW()-2,COLUMN()))=\"欠\",INDIRECT(ADDRESS(ROW()-2,COLUMN()))=\"\"),\"\",RANK(INDIRECT(ADDRESS(ROW()-2,COLUMN())),OFFSET(テストデータ!$CV$3,1,8):OFFSET(テストデータ!$CV$3,500,8)))","v":5},{"$f":"IF(OR(INDIRECT(ADDRESS(ROW()-2,COLUMN()))=\"欠\",INDIRECT(ADDRESS(ROW()-2,COLUMN()))=\"\"),\"\",RANK(INDIRECT(ADDRESS(ROW()-2,COLUMN())),OFFSET(テストデータ!$CV$3,1,9):OFFSET(テストデータ!$CV$3,500,9)))","v":2},{"$f":"IF(OR(INDIRECT(ADDRESS(ROW()-2,COLUMN()))=\"欠\",INDIRECT(ADDRESS(ROW()-2,COLUMN()))=\"\"),\"\",RANK(INDIRECT(ADDRESS(ROW()-2,COLUMN())),OFFSET(テストデータ!$CV$3,1,10):OFFSET(テストデータ!$CV$3,500,10)))","v":""},{"$f":"IF(OR(INDIRECT(ADDRESS(ROW()-2,COLUMN()))=\"欠\",INDIRECT(ADDRESS(ROW()-2,COLUMN()))=\"\"),\"\",RANK(INDIRECT(ADDRESS(ROW()-2,COLUMN())),OFFSET(テストデータ!$CV$3,1,11):OFFSET(テストデータ!$CV$3,500,11)))","v":""}]
[null,{"$f":"IF(初期設定!$C12=\"\",\"\",初期設定!$C12)","v":"体育"},"1回","2回","3回","4回","5回","6回","7回","8回","9回","10回","11回","12回"]
[null,"実施日",{"$f":"IF(テストデータ!DH$2=\"\",\"\",テストデータ!DH$2)","v":"3/2"},{"$f":"IF(テストデータ!DI$2=\"\",\"\",テストデータ!DI$2)","v":"4/3"},{"$f":"IF(テストデータ!DJ$2=\"\",\"\",テストデータ!DJ$2)","v":"5/4"},{"$f":"IF(テストデータ!DK$2=\"\",\"\",テストデータ!DK$2)","v":"6/5"},{"$f":"IF(テストデータ!DL$2=\"\",\"\",テストデータ!DL$2)","v":"7/6"},{"$f":"IF(テストデータ!DM$2=\"\",\"\",テストデータ!DM$2)","v":"8/7"},{"$f":"IF(テストデータ!DN$2=\"\",\"\",テストデータ!DN$2)","v":"9/8"},{"$f":"IF(テストデータ!DO$2=\"\",\"\",テストデータ!DO$2)","v":"10/9"},{"$f":"IF(テストデータ!DP$2=\"\",\"\",テストデータ!DP$2)","v":"11/10"},{"$f":"IF(テストデータ!DQ$2=\"\",\"\",テストデータ!DQ$2)","v":"12/11"},{"$f":"IF(テストデータ!DR$2=\"\",\"\",テストデータ!DR$2)","v":""},{"$f":"IF(テストデータ!DS$2=\"\",\"\",テストデータ!DS$2)","v":""}]
[null,"得点",{"$f":"IF(VLOOKUP($H$2,テストデータ!$A$4:$FO$503,112,FALSE)=\"\",IF(INDIRECT(ADDRESS(ROW()-1,COLUMN()))=\"\",\"\",\"欠\"),VLOOKUP($H$2,テストデータ!$A$4:$FO$503,112,FALSE))","v":11},{"$f":"IF(VLOOKUP($H$2,テストデータ!$A$4:$FO$503,113,FALSE)=\"\",IF(INDIRECT(ADDRESS(ROW()-1,COLUMN()))=\"\",\"\",\"欠\"),VLOOKUP($H$2,テストデータ!$A$4:$FO$503,113,FALSE))","v":16},{"$f":"IF(VLOOKUP($H$2,テストデータ!$A$4:$FO$503,114,FALSE)=\"\",IF(INDIRECT(ADDRESS(ROW()-1,COLUMN()))=\"\",\"\",\"欠\"),VLOOKUP($H$2,テストデータ!$A$4:$FO$503,114,FALSE))","v":86},{"$f":"IF(VLOOKUP($H$2,テストデータ!$A$4:$FO$503,115,FALSE)=\"\",IF(INDIRECT(ADDRESS(ROW()-1,COLUMN()))=\"\",\"\",\"欠\"),VLOOKUP($H$2,テストデータ!$A$4:$FO$503,115,FALSE))","v":65},{"$f":"IF(VLOOKUP($H$2,テストデータ!$A$4:$FO$503,116,FALSE)=\"\",IF(INDIRECT(ADDRESS(ROW()-1,COLUMN()))=\"\",\"\",\"欠\"),VLOOKUP($H$2,テストデータ!$A$4:$FO$503,116,FALSE))","v":75},{"$f":"IF(VLOOKUP($H$2,テストデータ!$A$4:$FO$503,117,FALSE)=\"\",IF(INDIRECT(ADDRESS(ROW()-1,COLUMN()))=\"\",\"\",\"欠\"),VLOOKUP($H$2,テストデータ!$A$4:$FO$503,117,FALSE))","v":74},{"$f":"IF(VLOOKUP($H$2,テストデータ!$A$4:$FO$503,118,FALSE)=\"\",IF(INDIRECT(ADDRESS(ROW()-1,COLUMN()))=\"\",\"\",\"欠\"),VLOOKUP($H$2,テストデータ!$A$4:$FO$503,118,FALSE))","v":77},{"$f":"IF(VLOOKUP($H$2,テストデータ!$A$4:$FO$503,119,FALSE)=\"\",IF(INDIRECT(ADDRESS(ROW()-1,COLUMN()))=\"\",\"\",\"欠\"),VLOOKUP($H$2,テストデータ!$A$4:$FO$503,119,FALSE))","v":63},{"$f":"IF(VLOOKUP($H$2,テストデータ!$A$4:$FO$503,120,FALSE)=\"\",IF(INDIRECT(ADDRESS(ROW()-1,COLUMN()))=\"\",\"\",\"欠\"),VLOOKUP($H$2,テストデータ!$A$4:$FO$503,120,FALSE))","v":49},{"$f":"IF(VLOOKUP($H$2,テストデータ!$A$4:$FO$503,121,FALSE)=\"\",IF(INDIRECT(ADDRESS(ROW()-1,COLUMN()))=\"\",\"\",\"欠\"),VLOOKUP($H$2,テストデータ!$A$4:$FO$503,121,FALSE))","v":44},{"$f":"IF(VLOOKUP($H$2,テストデータ!$A$4:$FO$503,122,FALSE)=\"\",IF(INDIRECT(ADDRESS(ROW()-1,COLUMN()))=\"\",\"\",\"欠\"),VLOOKUP($H$2,テストデータ!$A$4:$FO$503,122,FALSE))","v":""},{"$f":"IF(VLOOKUP($H$2,テストデータ!$A$4:$FO$503,123,FALSE)=\"\",IF(INDIRECT(ADDRESS(ROW()-1,COLUMN()))=\"\",\"\",\"欠\"),VLOOKUP($H$2,テストデータ!$A$4:$FO$503,123,FALSE))","v":""}]
[null,"平均点",{"$f":"IF(COUNT(OFFSET(テストデータ!$D$3,1,12*9+0):OFFSET(テストデータ!$D$3,500,12*9+0))=0,NA(),AVERAGE(OFFSET(テストデータ!$D$3,1,12*9+0):OFFSET(テストデータ!$D$3,500,12*9+0)))","v":54.94736842105263},{"$f":"IF(COUNT(OFFSET(テストデータ!$D$3,1,12*9+1):OFFSET(テストデータ!$D$3,500,12*9+1))=0,NA(),AVERAGE(OFFSET(テストデータ!$D$3,1,12*9+1):OFFSET(テストデータ!$D$3,500,12*9+1)))","v":47.882352941176471},{"$f":"IF(COUNT(OFFSET(テストデータ!$D$3,1,12*9+2):OFFSET(テストデータ!$D$3,500,12*9+2))=0,NA(),AVERAGE(OFFSET(テストデータ!$D$3,1,12*9+2):OFFSET(テストデータ!$D$3,500,12*9+2)))","v":64.375},{"$f":"IF(COUNT(OFFSET(テストデータ!$D$3,1,12*9+3):OFFSET(テストデータ!$D$3,500,12*9+3))=0,NA(),AVERAGE(OFFSET(テストデータ!$D$3,1,12*9+3):OFFSET(テストデータ!$D$3,500,12*9+3)))","v":59.2},{"$f":"IF(COUNT(OFFSET(テストデータ!$D$3,1,12*9+4):OFFSET(テストデータ!$D$3,500,12*9+4))=0,NA(),AVERAGE(OFFSET(テストデータ!$D$3,1,12*9+4):OFFSET(テストデータ!$D$3,500,12*9+4)))","v":59.8},{"$f":"IF(COUNT(OFFSET(テストデータ!$D$3,1,12*9+5):OFFSET(テストデータ!$D$3,500,12*9+5))=0,NA(),AVERAGE(OFFSET(テストデータ!$D$3,1,12*9+5):OFFSET(テストデータ!$D$3,500,12*9+5)))","v":64.349999999999994},{"$f":"IF(COUNT(OFFSET(テストデータ!$D$3,1,12*9+6):OFFSET(テストデータ!$D$3,500,12*9+6))=0,NA(),AVERAGE(OFFSET(テストデータ!$D$3,1,12*9+6):OFFSET(テストデータ!$D$3,500,12*9+6)))","v":45.05263157894737},{"$f":"IF(COUNT(OFFSET(テストデータ!$D$3,1,12*9+7):OFFSET(テストデータ!$D$3,500,12*9+7))=0,NA(),AVERAGE(OFFSET(テストデータ!$D$3,1,12*9+7):OFFSET(テストデータ!$D$3,500,12*9+7)))","v":55.736842105263158},{"$f":"IF(COUNT(OFFSET(テストデータ!$D$3,1,12*9+8):OFFSET(テストデータ!$D$3,500,12*9+8))=0,NA(),AVERAGE(OFFSET(テストデータ!$D$3,1,12*9+8):OFFSET(テストデータ!$D$3,500,12*9+8)))","v":55.789473684210527},{"$f":"IF(COUNT(OFFSET(テストデータ!$D$3,1,12*9+9):OFFSET(テストデータ!$D$3,500,12*9+9))=0,NA(),AVERAGE(OFFSET(テストデータ!$D$3,1,12*9+9):OFFSET(テストデータ!$D$3,500,12*9+9)))","v":49.9},{"$f":"IF(COUNT(OFFSET(テストデータ!$D$3,1,12*9+10):OFFSET(テストデータ!$D$3,500,12*9+10))=0,NA(),AVERAGE(OFFSET(テストデータ!$D$3,1,12*9+10):OFFSET(テストデータ!$D$3,500,12*9+10)))","v":{"$error":"#N/A"}},{"$f":"IF(COUNT(OFFSET(テストデータ!$D$3,1,12*9+11):OFFSET(テストデータ!$D$3,500,12*9+11))=0,NA(),AVERAGE(OFFSET(テストデータ!$D$3,1,12*9+11):OFFSET(テストデータ!$D$3,500,12*9+11)))","v":{"$error":"#N/A"}}]
[null,"校内順位",{"$f":"IF(OR(INDIRECT(ADDRESS(ROW()-2,COLUMN()))=\"欠\",INDIRECT(ADDRESS(ROW()-2,COLUMN()))=\"\"),\"\",RANK(INDIRECT(ADDRESS(ROW()-2,COLUMN())),OFFSET(テストデータ!$DH$3,1,0):OFFSET(テストデータ!$DH$3,500,0)))","v":17},{"$f":"IF(OR(INDIRECT(ADDRESS(ROW()-2,COLUMN()))=\"欠\",INDIRECT(ADDRESS(ROW()-2,COLUMN()))=\"\"),\"\",RANK(INDIRECT(ADDRESS(ROW()-2,COLUMN())),OFFSET(テストデータ!$DH$3,1,1):OFFSET(テストデータ!$DH$3,500,1)))","v":14},{"$f":"IF(OR(INDIRECT(ADDRESS(ROW()-2,COLUMN()))=\"欠\",INDIRECT(ADDRESS(ROW()-2,COLUMN()))=\"\"),\"\",RANK(INDIRECT(ADDRESS(ROW()-2,COLUMN())),OFFSET(テストデータ!$DH$3,1,2):OFFSET(テストデータ!$DH$3,500,2)))","v":3},{"$f":"IF(OR(INDIRECT(ADDRESS(ROW()-2,COLUMN()))=\"欠\",INDIRECT(ADDRESS(ROW()-2,COLUMN()))=\"\"),\"\",RANK(INDIRECT(ADDRESS(ROW()-2,COLUMN())),OFFSET(テストデータ!$DH$3,1,3):OFFSET(テストデータ!$DH$3,500,3)))","v":11},{"$f":"IF(OR(INDIRECT(ADDRESS(ROW()-2,COLUMN()))=\"欠\",INDIRECT(ADDRESS(ROW()-2,COLUMN()))=\"\"),\"\",RANK(INDIRECT(ADDRESS(ROW()-2,COLUMN())),OFFSET(テストデータ!$DH$3,1,4):OFFSET(テストデータ!$DH$3,500,4)))","v":7},{"$f":"IF(OR(INDIRECT(ADDRESS(ROW()-2,COLUMN()))=\"欠\",INDIRECT(ADDRESS(ROW()-2,COLUMN()))=\"\"),\"\",RANK(INDIRECT(ADDRESS(ROW()-2,COLUMN())),OFFSET(テストデータ!$DH$3,1,5):OFFSET(テストデータ!$DH$3,500,5)))","v":9},{"$f":"IF(OR(INDIRECT(ADDRESS(ROW()-2,COLUMN()))=\"欠\",INDIRECT(ADDRESS(ROW()-2,COLUMN()))=\"\"),\"\",RANK(INDIRECT(ADDRESS(ROW()-2,COLUMN())),OFFSET(テストデータ!$DH$3,1,6):OFFSET(テストデータ!$DH$3,500,6)))","v":5},{"$f":"IF(OR(INDIRECT(ADDRESS(ROW()-2,COLUMN()))=\"欠\",INDIRECT(ADDRESS(ROW()-2,COLUMN()))=\"\"),\"\",RANK(INDIRECT(ADDRESS(ROW()-2,COLUMN())),OFFSET(テストデータ!$DH$3,1,7):OFFSET(テストデータ!$DH$3,500,7)))","v":8},{"$f":"IF(OR(INDIRECT(ADDRESS(ROW()-2,COLUMN()))=\"欠\",INDIRECT(ADDRESS(ROW()-2,COLUMN()))=\"\"),\"\",RANK(INDIRECT(ADDRESS(ROW()-2,COLUMN())),OFFSET(テストデータ!$DH$3,1,8):OFFSET(テストデータ!$DH$3,500,8)))","v":10},{"$f":"IF(OR(INDIRECT(ADDRESS(ROW()-2,COLUMN()))=\"欠\",INDIRECT(ADDRESS(ROW()-2,COLUMN()))=\"\"),\"\",RANK(INDIRECT(ADDRESS(ROW()-2,COLUMN())),OFFSET(テストデータ!$DH$3,1,9):OFFSET(テストデータ!$DH$3,500,9)))","v":10},{"$f":"IF(OR(INDIRECT(ADDRESS(ROW()-2,COLUMN()))=\"欠\",INDIRECT(ADDRESS(ROW()-2,COLUMN()))=\"\"),\"\",RANK(INDIRECT(ADDRESS(ROW()-2,COLUMN())),OFFSET(テストデータ!$DH$3,1,10):OFFSET(テストデータ!$DH$3,500,10)))","v":""},{"$f":"IF(OR(INDIRECT(ADDRESS(ROW()-2,COLUMN()))=\"欠\",INDIRECT(ADDRESS(ROW()-2,COLUMN()))=\"\"),\"\",RANK(INDIRECT(ADDRESS(ROW()-2,COLUMN())),OFFSET(テストデータ!$DH$3,1,11):OFFSET(テストデータ!$DH$3,500,11)))","v":""}]
[null,{"$f":"IF(初期設定!$C13=\"\",\"\",初期設定!$C13)","v":"保健"},"1回","2回","3回","4回","5回","6回","7回","8回","9回","10回","11回","12回"]
[null,"実施日",{"$f":"IF(テストデータ!DT$2=\"\",\"\",テストデータ!DT$2)","v":"3/2"},{"$f":"IF(テストデータ!DU$2=\"\",\"\",テストデータ!DU$2)","v":"4/3"},{"$f":"IF(テストデータ!DV$2=\"\",\"\",テストデータ!DV$2)","v":"5/4"},{"$f":"IF(テストデータ!DW$2=\"\",\"\",テストデータ!DW$2)","v":"6/5"},{"$f":"IF(テストデータ!DX$2=\"\",\"\",テストデータ!DX$2)","v":"7/6"},{"$f":"IF(テストデータ!DY$2=\"\",\"\",テストデータ!DY$2)","v":"8/7"},{"$f":"IF(テストデータ!DZ$2=\"\",\"\",テストデータ!DZ$2)","v":"9/8"},{"$f":"IF(テストデータ!EA$2=\"\",\"\",テストデータ!EA$2)","v":"10/9"},{"$f":"IF(テストデータ!EB$2=\"\",\"\",テストデータ!EB$2)","v":"11/10"},{"$f":"IF(テストデータ!EC$2=\"\",\"\",テストデータ!EC$2)","v":"12/11"},{"$f":"IF(テストデータ!ED$2=\"\",\"\",テストデータ!ED$2)","v":""},{"$f":"IF(テストデータ!EE$2=\"\",\"\",テストデータ!EE$2)","v":""}]
[null,"得点",{"$f":"IF(VLOOKUP($H$2,テストデータ!$A$4:$FO$503,124,FALSE)=\"\",IF(INDIRECT(ADDRESS(ROW()-1,COLUMN()))=\"\",\"\",\"欠\"),VLOOKUP($H$2,テストデータ!$A$4:$FO$503,124,FALSE))","v":51},{"$f":"IF(VLOOKUP($H$2,テストデータ!$A$4:$FO$503,125,FALSE)=\"\",IF(INDIRECT(ADDRESS(ROW()-1,COLUMN()))=\"\",\"\",\"欠\"),VLOOKUP($H$2,テストデータ!$A$4:$FO$503,125,FALSE))","v":61},{"$f":"IF(VLOOKUP($H$2,テストデータ!$A$4:$FO$503,126,FALSE)=\"\",IF(INDIRECT(ADDRESS(ROW()-1,COLUMN()))=\"\",\"\",\"欠\"),VLOOKUP($H$2,テストデータ!$A$4:$FO$503,126,FALSE))","v":18},{"$f":"IF(VLOOKUP($H$2,テストデータ!$A$4:$FO$503,127,FALSE)=\"\",IF(INDIRECT(ADDRESS(ROW()-1,COLUMN()))=\"\",\"\",\"欠\"),VLOOKUP($H$2,テストデータ!$A$4:$FO$503,127,FALSE))","v":64},{"$f":"IF(VLOOKUP($H$2,テストデータ!$A$4:$FO$503,128,FALSE)=\"\",IF(INDIRECT(ADDRESS(ROW()-1,COLUMN()))=\"\",\"\",\"欠\"),VLOOKUP($H$2,テストデータ!$A$4:$FO$503,128,FALSE))","v":33},{"$f":"IF(VLOOKUP($H$2,テストデータ!$A$4:$FO$503,129,FALSE)=\"\",IF(INDIRECT(ADDRESS(ROW()-1,COLUMN()))=\"\",\"\",\"欠\"),VLOOKUP($H$2,テストデータ!$A$4:$FO$503,129,FALSE))","v":11},{"$f":"IF(VLOOKUP($H$2,テストデータ!$A$4:$FO$503,130,FALSE)=\"\",IF(INDIRECT(ADDRESS(ROW()-1,COLUMN()))=\"\",\"\",\"欠\"),VLOOKUP($H$2,テストデータ!$A$4:$FO$503,130,FALSE))","v":62},{"$f":"IF(VLOOKUP($H$2,テストデータ!$A$4:$FO$503,131,FALSE)=\"\",IF(INDIRECT(ADDRESS(ROW()-1,COLUMN()))=\"\",\"\",\"欠\"),VLOOKUP($H$2,テストデータ!$A$4:$FO$503,131,FALSE))","v":88},{"$f":"IF(VLOOKUP($H$2,テストデータ!$A$4:$FO$503,132,FALSE)=\"\",IF(INDIRECT(ADDRESS(ROW()-1,COLUMN()))=\"\",\"\",\"欠\"),VLOOKUP($H$2,テストデータ!$A$4:$FO$503,132,FALSE))","v":86},{"$f":"IF(VLOOKUP($H$2,テストデータ!$A$4:$FO$503,133,FALSE)=\"\",IF(INDIRECT(ADDRESS(ROW()-1,COLUMN()))=\"\",\"\",\"欠\"),VLOOKUP($H$2,テストデータ!$A$4:$FO$503,133,FALSE))","v":47},{"$f":"IF(VLOOKUP($H$2,テストデータ!$A$4:$FO$503,134,FALSE)=\"\",IF(INDIRECT(ADDRESS(ROW()-1,COLUMN()))=\"\",\"\",\"欠\"),VLOOKUP($H$2,テストデータ!$A$4:$FO$503,134,FALSE))","v":""},{"$f":"IF(VLOOKUP($H$2,テストデータ!$A$4:$FO$503,135,FALSE)=\"\",IF(INDIRECT(ADDRESS(ROW()-1,COLUMN()))=\"\",\"\",\"欠\"),VLOOKUP($H$2,テストデータ!$A$4:$FO$503,135,FALSE))","v":""}]
[null,"平均点",{"$f":"IF(COUNT(OFFSET(テストデータ!$D$3,1,12*10+0):OFFSET(テストデータ!$D$3,500,12*10+0))=0,NA(),AVERAGE(OFFSET(テストデータ!$D$3,1,12*10+0):OFFSET(テストデータ!$D$3,500,12*10+0)))","v":66.263157894736835},{"$f":"IF(COUNT(OFFSET(テストデータ!$D$3,1,12*10+1):OFFSET(テストデータ!$D$3,500,12*10+1))=0,NA(),AVERAGE(OFFSET(テストデータ!$D$3,1,12*10+1):OFFSET(テストデータ!$D$3,500,12*10+1)))","v":48.85},{"$f":"IF(COUNT(OFFSET(テストデータ!$D$3,1,12*10+2):OFFSET(テストデータ!$D$3,500,12*10+2))=0,NA(),AVERAGE(OFFSET(テストデータ!$D$3,1,12*10+2):OFFSET(テストデータ!$D$3,500,12*10+2)))","v":58.95},{"$f":"IF(COUNT(OFFSET(テストデータ!$D$3,1,12*10+3):OFFSET(テストデータ!$D$3,500,12*10+3))=0,NA(),AVERAGE(OFFSET(テストデータ!$D$3,1,12*10+3):OFFSET(テストデータ!$D$3,500,12*10+3)))","v":51.1},{"$f":"IF(COUNT(OFFSET(テストデータ!$D$3,1,12*10+4):OFFSET(テストデータ!$D$3,500,12*10+4))=0,NA(),AVERAGE(OFFSET(テストデータ!$D$3,1,12*10+4):OFFSET(テストデータ!$D$3,500,12*10+4)))","v":51.5},{"$f":"IF(COUNT(OFFSET(テストデータ!$D$3,1,12*10+5):OFFSET(テストデータ!$D$3,500,12*10+5))=0,NA(),AVERAGE(OFFSET(テストデータ!$D$3,1,12*10+5):OFFSET(テストデータ!$D$3,500,12*10+5)))","v":50.7},{"$f":"IF(COUNT(OFFSET(テストデータ!$D$3,1,12*10+6):OFFSET(テストデータ!$D$3,500,12*10+6))=0,NA(),AVERAGE(OFFSET(テストデータ!$D$3,1,12*10+6):OFFSET(テストデータ!$D$3,500,12*10+6)))","v":55.9},{"$f":"IF(COUNT(OFFSET(テストデータ!$D$3,1,12*10+7):OFFSET(テストデータ!$D$3,500,12*10+7))=0,NA(),AVERAGE(OFFSET(テストデータ!$D$3,1,12*10+7):OFFSET(テストデータ!$D$3,500,12*10+7)))","v":65.95},{"$f":"IF(COUNT(OFFSET(テストデータ!$D$3,1,12*10+8):OFFSET(テストデータ!$D$3,500,12*10+8))=0,NA(),AVERAGE(OFFSET(テストデータ!$D$3,1,12*10+8):OFFSET(テストデータ!$D$3,500,12*10+8)))","v":59.176470588235297},{"$f":"IF(COUNT(OFFSET(テストデータ!$D$3,1,12*10+9):OFFSET(テストデータ!$D$3,500,12*10+9))=0,NA(),AVERAGE(OFFSET(テストデータ!$D$3,1,12*10+9):OFFSET(テストデータ!$D$3,500,12*10+9)))","v":63.85},{"$f":"IF(COUNT(OFFSET(テストデータ!$D$3,1,12*10+10):OFFSET(テストデータ!$D$3,500,12*10+10))=0,NA(),AVERAGE(OFFSET(テストデータ!$D$3,1,12*10+10):OFFSET(テストデータ!$D$3,500,12*10+10)))","v":{"$error":"#N/A"}},{"$f":"IF(COUNT(OFFSET(テストデータ!$D$3,1,12*10+11):OFFSET(テストデータ!$D$3,500,12*10+11))=0,NA(),AVERAGE(OFFSET(テストデータ!$D$3,1,12*10+11):OFFSET(テストデータ!$D$3,500,12*10+11)))","v":{"$error":"#N/A"}}]
[null,"校内順位",{"$f":"IF(OR(INDIRECT(ADDRESS(ROW()-2,COLUMN()))=\"欠\",INDIRECT(ADDRESS(ROW()-2,COLUMN()))=\"\"),\"\",RANK(INDIRECT(ADDRESS(ROW()-2,COLUMN())),OFFSET(テストデータ!$DT$3,1,0):OFFSET(テストデータ!$DT$3,500,0)))","v":15},{"$f":"IF(OR(INDIRECT(ADDRESS(ROW()-2,COLUMN()))=\"欠\",INDIRECT(ADDRESS(ROW()-2,COLUMN()))=\"\"),\"\",RANK(INDIRECT(ADDRESS(ROW()-2,COLUMN())),OFFSET(テストデータ!$DT$3,1,1):OFFSET(テストデータ!$DT$3,500,1)))","v":6},{"$f":"IF(OR(INDIRECT(ADDRESS(ROW()-2,COLUMN()))=\"欠\",INDIRECT(ADDRESS(ROW()-2,COLUMN()))=\"\"),\"\",RANK(INDIRECT(ADDRESS(ROW()-2,COLUMN())),OFFSET(テストデータ!$DT$3,1,2):OFFSET(テストデータ!$DT$3,500,2)))","v":18},{"$f":"IF(OR(INDIRECT(ADDRESS(ROW()-2,COLUMN()))=\"欠\",INDIRECT(ADDRESS(ROW()-2,COLUMN()))=\"\"),\"\",RANK(INDIRECT(ADDRESS(ROW()-2,COLUMN())),OFFSET(テストデータ!$DT$3,1,3):OFFSET(テストデータ!$DT$3,500,3)))","v":7},{"$f":"IF(OR(INDIRECT(ADDRESS(ROW()-2,COLUMN()))=\"欠\",INDIRECT(ADDRESS(ROW()-2,COLUMN()))=\"\"),\"\",RANK(INDIRECT(ADDRESS(ROW()-2,COLUMN())),OFFSET(テストデータ!$DT$3,1,4):OFFSET(テストデータ!$DT$3,500,4)))","v":13},{"$f":"IF(OR(INDIRECT(ADDRESS(ROW()-2,COLUMN()))=\"欠\",INDIRECT(ADDRESS(ROW()-2,COLUMN()))=\"\"),\"\",RANK(INDIRECT(ADDRESS(ROW()-2,COLUMN())),OFFSET(テストデータ!$DT$3,1,5):OFFSET(テストデータ!$DT$3,500,5)))","v":20},{"$f":"IF(OR(INDIRECT(ADDRESS(ROW()-2,COLUMN()))=\"欠\",INDIRECT(ADDRESS(ROW()-2,COLUMN()))=\"\"),\"\",RANK(INDIRECT(ADDRESS(ROW()-2,COLUMN())),OFFSET(テストデータ!$DT$3,1,6):OFFSET(テストデータ!$DT$3,500,6)))","v":9},{"$f":"IF(OR(INDIRECT(ADDRESS(ROW()-2,COLUMN()))=\"欠\",INDIRECT(ADDRESS(ROW()-2,COLUMN()))=\"\"),\"\",RANK(INDIRECT(ADDRESS(ROW()-2,COLUMN())),OFFSET(テストデータ!$DT$3,1,7):OFFSET(テストデータ!$DT$3,500,7)))","v":7},{"$f":"IF(OR(INDIRECT(ADDRESS(ROW()-2,COLUMN()))=\"欠\",INDIRECT(ADDRESS(ROW()-2,COLUMN()))=\"\"),\"\",RANK(INDIRECT(ADDRESS(ROW()-2,COLUMN())),OFFSET(テストデータ!$DT$3,1,8):OFFSET(テストデータ!$DT$3,500,8)))","v":6},{"$f":"IF(OR(INDIRECT(ADDRESS(ROW()-2,COLUMN()))=\"欠\",INDIRECT(ADDRESS(ROW()-2,COLUMN()))=\"\"),\"\",RANK(INDIRECT(ADDRESS(ROW()-2,COLUMN())),OFFSET(テストデータ!$DT$3,1,9):OFFSET(テストデータ!$DT$3,500,9)))","v":16},{"$f":"IF(OR(INDIRECT(ADDRESS(ROW()-2,COLUMN()))=\"欠\",INDIRECT(ADDRESS(ROW()-2,COLUMN()))=\"\"),\"\",RANK(INDIRECT(ADDRESS(ROW()-2,COLUMN())),OFFSET(テストデータ!$DT$3,1,10):OFFSET(テストデータ!$DT$3,500,10)))","v":""},{"$f":"IF(OR(INDIRECT(ADDRESS(ROW()-2,COLUMN()))=\"欠\",INDIRECT(ADDRESS(ROW()-2,COLUMN()))=\"\"),\"\",RANK(INDIRECT(ADDRESS(ROW()-2,COLUMN())),OFFSET(テストデータ!$DT$3,1,11):OFFSET(テストデータ!$DT$3,500,11)))","v":""}]
[null,{"$f":"IF(初期設定!$C14=\"\",\"\",初期設定!$C14)","v":""},"1回","2回","3回","4回","5回","6回","7回","8回","9回","10回","11回","12回"]
[null,"実施日",{"$f":"IF(テストデータ!EF$2=\"\",\"\",テストデータ!EF$2)","v":"3/2"},{"$f":"IF(テストデータ!BM$2=\"\",\"\",テストデータ!BM$2)","v":"4/3"},{"$f":"IF(テストデータ!BN$2=\"\",\"\",テストデータ!BN$2)","v":"5/4"},{"$f":"IF(テストデータ!BO$2=\"\",\"\",テストデータ!BO$2)","v":"6/5"},{"$f":"IF(テストデータ!BP$2=\"\",\"\",テストデータ!BP$2)","v":"7/6"},{"$f":"IF(テストデータ!BQ$2=\"\",\"\",テストデータ!BQ$2)","v":"8/7"},{"$f":"IF(テストデータ!BR$2=\"\",\"\",テストデータ!BR$2)","v":"9/8"},{"$f":"IF(テストデータ!BS$2=\"\",\"\",テストデータ!BS$2)","v":"10/9"},{"$f":"IF(テストデータ!BT$2=\"\",\"\",テストデータ!BT$2)","v":"11/10"},{"$f":"IF(テストデータ!BU$2=\"\",\"\",テストデータ!BU$2)","v":"12/11"},{"$f":"IF(テストデータ!BV$2=\"\",\"\",テストデータ!BV$2)","v":""},{"$f":"IF(テストデータ!BW$2=\"\",\"\",テストデータ!BW$2)","v":""}]
[null,"得点",{"$f":"IF(VLOOKUP($H$2,テストデータ!$A$4:$FO$503,136,FALSE)=\"\",IF(INDIRECT(ADDRESS(ROW()-1,COLUMN()))=\"\",\"\",\"欠\"),VLOOKUP($H$2,テストデータ!$A$4:$FO$503,136,FALSE))","v":"欠"},{"$f":"IF(VLOOKUP($H$2,テストデータ!$A$4:$FO$503,137,FALSE)=\"\",IF(INDIRECT(ADDRESS(ROW()-1,COLUMN()))=\"\",\"\",\"欠\"),VLOOKUP($H$2,テストデータ!$A$4:$FO$503,137,FALSE))","v":"欠"},{"$f":"IF(VLOOKUP($H$2,テストデータ!$A$4:$FO$503,138,FALSE)=\"\",IF(INDIRECT(ADDRESS(ROW()-1,COLUMN()))=\"\",\"\",\"欠\"),VLOOKUP($H$2,テストデータ!$A$4:$FO$503,138,FALSE))","v":"欠"},{"$f":"IF(VLOOKUP($H$2,テストデータ!$A$4:$FO$503,139,FALSE)=\"\",IF(INDIRECT(ADDRESS(ROW()-1,COLUMN()))=\"\",\"\",\"欠\"),VLOOKUP($H$2,テストデータ!$A$4:$FO$503,139,FALSE))","v":"欠"},{"$f":"IF(VLOOKUP($H$2,テストデータ!$A$4:$FO$503,140,FALSE)=\"\",IF(INDIRECT(ADDRESS(ROW()-1,COLUMN()))=\"\",\"\",\"欠\"),VLOOKUP($H$2,テストデータ!$A$4:$FO$503,140,FALSE))","v":"欠"},{"$f":"IF(VLOOKUP($H$2,テストデータ!$A$4:$FO$503,141,FALSE)=\"\",IF(INDIRECT(ADDRESS(ROW()-1,COLUMN()))=\"\",\"\",\"欠\"),VLOOKUP($H$2,テストデータ!$A$4:$FO$503,141,FALSE))","v":"欠"},{"$f":"IF(VLOOKUP($H$2,テストデータ!$A$4:$FO$503,142,FALSE)=\"\",IF(INDIRECT(ADDRESS(ROW()-1,COLUMN()))=\"\",\"\",\"欠\"),VLOOKUP($H$2,テストデータ!$A$4:$FO$503,142,FALSE))","v":"欠"},{"$f":"IF(VLOOKUP($H$2,テストデータ!$A$4:$FO$503,143,FALSE)=\"\",IF(INDIRECT(ADDRESS(ROW()-1,COLUMN()))=\"\",\"\",\"欠\"),VLOOKUP($H$2,テストデータ!$A$4:$FO$503,143,FALSE))","v":"欠"},{"$f":"IF(VLOOKUP($H$2,テストデータ!$A$4:$FO$503,144,FALSE)=\"\",IF(INDIRECT(ADDRESS(ROW()-1,COLUMN()))=\"\",\"\",\"欠\"),VLOOKUP($H$2,テストデータ!$A$4:$FO$503,144,FALSE))","v":"欠"},{"$f":"IF(VLOOKUP($H$2,テストデータ!$A$4:$FO$503,145,FALSE)=\"\",IF(INDIRECT(ADDRESS(ROW()-1,COLUMN()))=\"\",\"\",\"欠\"),VLOOKUP($H$2,テストデータ!$A$4:$FO$503,145,FALSE))","v":"欠"},{"$f":"IF(VLOOKUP($H$2,テストデータ!$A$4:$FO$503,146,FALSE)=\"\",IF(INDIRECT(ADDRESS(ROW()-1,COLUMN()))=\"\",\"\",\"欠\"),VLOOKUP($H$2,テストデータ!$A$4:$FO$503,146,FALSE))","v":""},{"$f":"IF(VLOOKUP($H$2,テストデータ!$A$4:$FO$503,147,FALSE)=\"\",IF(INDIRECT(ADDRESS(ROW()-1,COLUMN()))=\"\",\"\",\"欠\"),VLOOKUP($H$2,テストデータ!$A$4:$FO$503,147,FALSE))","v":""}]
[null,"平均点",{"$f":"IF(COUNT(OFFSET(テストデータ!$D$3,1,12*11+0):OFFSET(テストデータ!$D$3,500,12*11+0))=0,NA(),AVERAGE(OFFSET(テストデータ!$D$3,1,12*11+0):OFFSET(テストデータ!$D$3,500,12*11+0)))","v":{"$error":"#N/A"}},{"$f":"IF(COUNT(OFFSET(テストデータ!$D$3,1,12*11+1):OFFSET(テストデータ!$D$3,500,12*11+1))=0,NA(),AVERAGE(OFFSET(テストデータ!$D$3,1,12*11+1):OFFSET(テストデータ!$D$3,500,12*11+1)))","v":{"$error":"#N/A"}},{"$f":"IF(COUNT(OFFSET(テストデータ!$D$3,1,12*11+2):OFFSET(テストデータ!$D$3,500,12*11+2))=0,NA(),AVERAGE(OFFSET(テストデータ!$D$3,1,12*11+2):OFFSET(テストデータ!$D$3,500,12*11+2)))","v":{"$error":"#N/A"}},{"$f":"IF(COUNT(OFFSET(テストデータ!$D$3,1,12*11+3):OFFSET(テストデータ!$D$3,500,12*11+3))=0,NA(),AVERAGE(OFFSET(テストデータ!$D$3,1,12*11+3):OFFSET(テストデータ!$D$3,500,12*11+3)))","v":{"$error":"#N/A"}},{"$f":"IF(COUNT(OFFSET(テストデータ!$D$3,1,12*11+4):OFFSET(テストデータ!$D$3,500,12*11+4))=0,NA(),AVERAGE(OFFSET(テストデータ!$D$3,1,12*11+4):OFFSET(テストデータ!$D$3,500,12*11+4)))","v":{"$error":"#N/A"}},{"$f":"IF(COUNT(OFFSET(テストデータ!$D$3,1,12*11+5):OFFSET(テストデータ!$D$3,500,12*11+5))=0,NA(),AVERAGE(OFFSET(テストデータ!$D$3,1,12*11+5):OFFSET(テストデータ!$D$3,500,12*11+5)))","v":{"$error":"#N/A"}},{"$f":"IF(COUNT(OFFSET(テストデータ!$D$3,1,12*11+6):OFFSET(テストデータ!$D$3,500,12*11+6))=0,NA(),AVERAGE(OFFSET(テストデータ!$D$3,1,12*11+6):OFFSET(テストデータ!$D$3,500,12*11+6)))","v":{"$error":"#N/A"}},{"$f":"IF(COUNT(OFFSET(テストデータ!$D$3,1,12*11+7):OFFSET(テストデータ!$D$3,500,12*11+7))=0,NA(),AVERAGE(OFFSET(テストデータ!$D$3,1,12*11+7):OFFSET(テストデータ!$D$3,500,12*11+7)))","v":{"$error":"#N/A"}},{"$f":"IF(COUNT(OFFSET(テストデータ!$D$3,1,12*11+8):OFFSET(テストデータ!$D$3,500,12*11+8))=0,NA(),AVERAGE(OFFSET(テストデータ!$D$3,1,12*11+8):OFFSET(テストデータ!$D$3,500,12*11+8)))","v":{"$error":"#N/A"}},{"$f":"IF(COUNT(OFFSET(テストデータ!$D$3,1,12*11+9):OFFSET(テストデータ!$D$3,500,12*11+9))=0,NA(),AVERAGE(OFFSET(テストデータ!$D$3,1,12*11+9):OFFSET(テストデータ!$D$3,500,12*11+9)))","v":{"$error":"#N/A"}},{"$f":"IF(COUNT(OFFSET(テストデータ!$D$3,1,12*11+10):OFFSET(テストデータ!$D$3,500,12*11+10))=0,NA(),AVERAGE(OFFSET(テストデータ!$D$3,1,12*11+10):OFFSET(テストデータ!$D$3,500,12*11+10)))","v":{"$error":"#N/A"}},{"$f":"IF(COUNT(OFFSET(テストデータ!$D$3,1,12*11+11):OFFSET(テストデータ!$D$3,500,12*11+11))=0,NA(),AVERAGE(OFFSET(テストデータ!$D$3,1,12*11+11):OFFSET(テストデータ!$D$3,500,12*11+11)))","v":{"$error":"#N/A"}}]
[null,"校内順位",{"$f":"IF(OR(INDIRECT(ADDRESS(ROW()-2,COLUMN()))=\"欠\",INDIRECT(ADDRESS(ROW()-2,COLUMN()))=\"\"),\"\",RANK(INDIRECT(ADDRESS(ROW()-2,COLUMN())),OFFSET(テストデータ!$EF$3,1,0):OFFSET(テストデータ!$EF$3,500,0)))","v":""},{"$f":"IF(OR(INDIRECT(ADDRESS(ROW()-2,COLUMN()))=\"欠\",INDIRECT(ADDRESS(ROW()-2,COLUMN()))=\"\"),\"\",RANK(INDIRECT(ADDRESS(ROW()-2,COLUMN())),OFFSET(テストデータ!$EF$3,1,1):OFFSET(テストデータ!$EF$3,500,1)))","v":""},{"$f":"IF(OR(INDIRECT(ADDRESS(ROW()-2,COLUMN()))=\"欠\",INDIRECT(ADDRESS(ROW()-2,COLUMN()))=\"\"),\"\",RANK(INDIRECT(ADDRESS(ROW()-2,COLUMN())),OFFSET(テストデータ!$EF$3,1,2):OFFSET(テストデータ!$EF$3,500,2)))","v":""},{"$f":"IF(OR(INDIRECT(ADDRESS(ROW()-2,COLUMN()))=\"欠\",INDIRECT(ADDRESS(ROW()-2,COLUMN()))=\"\"),\"\",RANK(INDIRECT(ADDRESS(ROW()-2,COLUMN())),OFFSET(テストデータ!$EF$3,1,3):OFFSET(テストデータ!$EF$3,500,3)))","v":""},{"$f":"IF(OR(INDIRECT(ADDRESS(ROW()-2,COLUMN()))=\"欠\",INDIRECT(ADDRESS(ROW()-2,COLUMN()))=\"\"),\"\",RANK(INDIRECT(ADDRESS(ROW()-2,COLUMN())),OFFSET(テストデータ!$EF$3,1,4):OFFSET(テストデータ!$EF$3,500,4)))","v":""},{"$f":"IF(OR(INDIRECT(ADDRESS(ROW()-2,COLUMN()))=\"欠\",INDIRECT(ADDRESS(ROW()-2,COLUMN()))=\"\"),\"\",RANK(INDIRECT(ADDRESS(ROW()-2,COLUMN())),OFFSET(テストデータ!$EF$3,1,5):OFFSET(テストデータ!$EF$3,500,5)))","v":""},{"$f":"IF(OR(INDIRECT(ADDRESS(ROW()-2,COLUMN()))=\"欠\",INDIRECT(ADDRESS(ROW()-2,COLUMN()))=\"\"),\"\",RANK(INDIRECT(ADDRESS(ROW()-2,COLUMN())),OFFSET(テストデータ!$EF$3,1,6):OFFSET(テストデータ!$EF$3,500,6)))","v":""},{"$f":"IF(OR(INDIRECT(ADDRESS(ROW()-2,COLUMN()))=\"欠\",INDIRECT(ADDRESS(ROW()-2,COLUMN()))=\"\"),\"\",RANK(INDIRECT(ADDRESS(ROW()-2,COLUMN())),OFFSET(テストデータ!$EF$3,1,7):OFFSET(テストデータ!$EF$3,500,7)))","v":""},{"$f":"IF(OR(INDIRECT(ADDRESS(ROW()-2,COLUMN()))=\"欠\",INDIRECT(ADDRESS(ROW()-2,COLUMN()))=\"\"),\"\",RANK(INDIRECT(ADDRESS(ROW()-2,COLUMN())),OFFSET(テストデータ!$EF$3,1,8):OFFSET(テストデータ!$EF$3,500,8)))","v":""},{"$f":"IF(OR(INDIRECT(ADDRESS(ROW()-2,COLUMN()))=\"欠\",INDIRECT(ADDRESS(ROW()-2,COLUMN()))=\"\"),\"\",RANK(INDIRECT(ADDRESS(ROW()-2,COLUMN())),OFFSET(テストデータ!$EF$3,1,9):OFFSET(テストデータ!$EF$3,500,9)))","v":""},{"$f":"IF(OR(INDIRECT(ADDRESS(ROW()-2,COLUMN()))=\"欠\",INDIRECT(ADDRESS(ROW()-2,COLUMN()))=\"\"),\"\",RANK(INDIRECT(ADDRESS(ROW()-2,COLUMN())),OFFSET(テストデータ!$EF$3,1,10):OFFSET(テストデータ!$EF$3,500,10)))","v":""},{"$f":"IF(OR(INDIRECT(ADDRESS(ROW()-2,COLUMN()))=\"欠\",INDIRECT(ADDRESS(ROW()-2,COLUMN()))=\"\"),\"\",RANK(INDIRECT(ADDRESS(ROW()-2,COLUMN())),OFFSET(テストデータ!$EF$3,1,11):OFFSET(テストデータ!$EF$3,500,11)))","v":""}]
[null,{"$f":"IF(初期設定!$C15=\"\",\"\",初期設定!$C15)","v":""},"1回","2回","3回","4回","5回","6回","7回","8回","9回","10回","11回","12回"]
[null,"実施日",{"$f":"IF(テストデータ!ER$2=\"\",\"\",テストデータ!ER$2)","v":"3/2"},{"$f":"IF(テストデータ!ES$2=\"\",\"\",テストデータ!ES$2)","v":"4/3"},{"$f":"IF(テストデータ!ET$2=\"\",\"\",テストデータ!ET$2)","v":"5/4"},{"$f":"IF(テストデータ!EU$2=\"\",\"\",テストデータ!EU$2)","v":"6/5"},{"$f":"IF(テストデータ!EV$2=\"\",\"\",テストデータ!EV$2)","v":"7/6"},{"$f":"IF(テストデータ!EW$2=\"\",\"\",テストデータ!EW$2)","v":"8/7"},{"$f":"IF(テストデータ!EX$2=\"\",\"\",テストデータ!EX$2)","v":"9/8"},{"$f":"IF(テストデータ!EY$2=\"\",\"\",テストデータ!EY$2)","v":"10/9"},{"$f":"IF(テストデータ!EZ$2=\"\",\"\",テストデータ!EZ$2)","v":"11/10"},{"$f":"IF(テストデータ!FA$2=\"\",\"\",テストデータ!FA$2)","v":"12/7"},{"$f":"IF(テストデータ!FB$2=\"\",\"\",テストデータ!FB$2)","v":""},{"$f":"IF(テストデータ!FC$2=\"\",\"\",テストデータ!FC$2)","v":""}]
[null,"得点",{"$f":"IF(VLOOKUP($H$2,テストデータ!$A$4:$FO$503,148,FALSE)=\"\",IF(INDIRECT(ADDRESS(ROW()-1,COLUMN()))=\"\",\"\",\"欠\"),VLOOKUP($H$2,テストデータ!$A$4:$FO$503,148,FALSE))","v":"欠"},{"$f":"IF(VLOOKUP($H$2,テストデータ!$A$4:$FO$503,149,FALSE)=\"\",IF(INDIRECT(ADDRESS(ROW()-1,COLUMN()))=\"\",\"\",\"欠\"),VLOOKUP($H$2,テストデータ!$A$4:$FO$503,149,FALSE))","v":"欠"},{"$f":"IF(VLOOKUP($H$2,テストデータ!$A$4:$FO$503,150,FALSE)=\"\",IF(INDIRECT(ADDRESS(ROW()-1,COLUMN()))=\"\",\"\",\"欠\"),VLOOKUP($H$2,テストデータ!$A$4:$FO$503,150,FALSE))","v":"欠"},{"$f":"IF(VLOOKUP($H$2,テストデータ!$A$4:$FO$503,151,FALSE)=\"\",IF(INDIRECT(ADDRESS(ROW()-1,COLUMN()))=\"\",\"\",\"欠\"),VLOOKUP($H$2,テストデータ!$A$4:$FO$503,151,FALSE))","v":"欠"},{"$f":"IF(VLOOKUP($H$2,テストデータ!$A$4:$FO$503,152,FALSE)=\"\",IF(INDIRECT(ADDRESS(ROW()-1,COLUMN()))=\"\",\"\",\"欠\"),VLOOKUP($H$2,テストデータ!$A$4:$FO$503,152,FALSE))","v":"欠"},{"$f":"IF(VLOOKUP($H$2,テストデータ!$A$4:$FO$503,153,FALSE)=\"\",IF(INDIRECT(ADDRESS(ROW()-1,COLUMN()))=\"\",\"\",\"欠\"),VLOOKUP($H$2,テストデータ!$A$4:$FO$503,153,FALSE))","v":"欠"},{"$f":"IF(VLOOKUP($H$2,テストデータ!$A$4:$FO$503,154,FALSE)=\"\",IF(INDIRECT(ADDRESS(ROW()-1,COLUMN()))=\"\",\"\",\"欠\"),VLOOKUP($H$2,テストデータ!$A$4:$FO$503,154,FALSE))","v":"欠"},{"$f":"IF(VLOOKUP($H$2,テストデータ!$A$4:$FO$503,155,FALSE)=\"\",IF(INDIRECT(ADDRESS(ROW()-1,COLUMN()))=\"\",\"\",\"欠\"),VLOOKUP($H$2,テストデータ!$A$4:$FO$503,155,FALSE))","v":"欠"},{"$f":"IF(VLOOKUP($H$2,テストデータ!$A$4:$FO$503,156,FALSE)=\"\",IF(INDIRECT(ADDRESS(ROW()-1,COLUMN()))=\"\",\"\",\"欠\"),VLOOKUP($H$2,テストデータ!$A$4:$FO$503,156,FALSE))","v":"欠"},{"$f":"IF(VLOOKUP($H$2,テストデータ!$A$4:$FO$503,157,FALSE)=\"\",IF(INDIRECT(ADDRESS(ROW()-1,COLUMN()))=\"\",\"\",\"欠\"),VLOOKUP($H$2,テストデータ!$A$4:$FO$503,157,FALSE))","v":"欠"},{"$f":"IF(VLOOKUP($H$2,テストデータ!$A$4:$FO$503,158,FALSE)=\"\",IF(INDIRECT(ADDRESS(ROW()-1,COLUMN()))=\"\",\"\",\"欠\"),VLOOKUP($H$2,テストデータ!$A$4:$FO$503,158,FALSE))","v":""},{"$f":"IF(VLOOKUP($H$2,テストデータ!$A$4:$FO$503,159,FALSE)=\"\",IF(INDIRECT(ADDRESS(ROW()-1,COLUMN()))=\"\",\"\",\"欠\"),VLOOKUP($H$2,テストデータ!$A$4:$FO$503,159,FALSE))","v":""}]
[null,"平均点",{"$f":"IF(COUNT(OFFSET(テストデータ!$D$3,1,12*12+0):OFFSET(テストデータ!$D$3,500,12*12+0))=0,NA(),AVERAGE(OFFSET(テストデータ!$D$3,1,12*12+0):OFFSET(テストデータ!$D$3,500,12*12+0)))","v":{"$error":"#N/A"}},{"$f":"IF(COUNT(OFFSET(テストデータ!$D$3,1,12*12+1):OFFSET(テストデータ!$D$3,500,12*12+1))=0,NA(),AVERAGE(OFFSET(テストデータ!$D$3,1,12*12+1):OFFSET(テストデータ!$D$3,500,12*12+1)))","v":{"$error":"#N/A"}},{"$f":"IF(COUNT(OFFSET(テストデータ!$D$3,1,12*12+2):OFFSET(テストデータ!$D$3,500,12*12+2))=0,NA(),AVERAGE(OFFSET(テストデータ!$D$3,1,12*12+2):OFFSET(テストデータ!$D$3,500,12*12+2)))","v":{"$error":"#N/A"}},{"$f":"IF(COUNT(OFFSET(テストデータ!$D$3,1,12*12+3):OFFSET(テストデータ!$D$3,500,12*12+3))=0,NA(),AVERAGE(OFFSET(テストデータ!$D$3,1,12*12+3):OFFSET(テストデータ!$D$3,500,12*12+3)))","v":{"$error":"#N/A"}},{"$f":"IF(COUNT(OFFSET(テストデータ!$D$3,1,12*12+4):OFFSET(テストデータ!$D$3,500,12*12+4))=0,NA(),AVERAGE(OFFSET(テストデータ!$D$3,1,12*12+4):OFFSET(テストデータ!$D$3,500,12*12+4)))","v":{"$error":"#N/A"}},{"$f":"IF(COUNT(OFFSET(テストデータ!$D$3,1,12*12+5):OFFSET(テストデータ!$D$3,500,12*12+5))=0,NA(),AVERAGE(OFFSET(テストデータ!$D$3,1,12*12+5):OFFSET(テストデータ!$D$3,500,12*12+5)))","v":{"$error":"#N/A"}},{"$f":"IF(COUNT(OFFSET(テストデータ!$D$3,1,12*12+6):OFFSET(テストデータ!$D$3,500,12*12+6))=0,NA(),AVERAGE(OFFSET(テストデータ!$D$3,1,12*12+6):OFFSET(テストデータ!$D$3,500,12*12+6)))","v":{"$error":"#N/A"}},{"$f":"IF(COUNT(OFFSET(テストデータ!$D$3,1,12*12+7):OFFSET(テストデータ!$D$3,500,12*12+7))=0,NA(),AVERAGE(OFFSET(テストデータ!$D$3,1,12*12+7):OFFSET(テストデータ!$D$3,500,12*12+7)))","v":{"$error":"#N/A"}},{"$f":"IF(COUNT(OFFSET(テストデータ!$D$3,1,12*12+8):OFFSET(テストデータ!$D$3,500,12*12+8))=0,NA(),AVERAGE(OFFSET(テストデータ!$D$3,1,12*12+8):OFFSET(テストデータ!$D$3,500,12*12+8)))","v":{"$error":"#N/A"}},{"$f":"IF(COUNT(OFFSET(テストデータ!$D$3,1,12*12+9):OFFSET(テストデータ!$D$3,500,12*12+9))=0,NA(),AVERAGE(OFFSET(テストデータ!$D$3,1,12*12+9):OFFSET(テストデータ!$D$3,500,12*12+9)))","v":{"$error":"#N/A"}},{"$f":"IF(COUNT(OFFSET(テストデータ!$D$3,1,12*12+10):OFFSET(テストデータ!$D$3,500,12*12+10))=0,NA(),AVERAGE(OFFSET(テストデータ!$D$3,1,12*12+10):OFFSET(テストデータ!$D$3,500,12*12+10)))","v":{"$error":"#N/A"}},{"$f":"IF(COUNT(OFFSET(テストデータ!$D$3,1,12*12+11):OFFSET(テストデータ!$D$3,500,12*12+11))=0,NA(),AVERAGE(OFFSET(テストデータ!$D$3,1,12*12+11):OFFSET(テストデータ!$D$3,500,12*12+11)))","v":{"$error":"#N/A"}}]
[null,"校内順位",{"$f":"IF(OR(INDIRECT(ADDRESS(ROW()-2,COLUMN()))=\"欠\",INDIRECT(ADDRESS(ROW()-2,COLUMN()))=\"\"),\"\",RANK(INDIRECT(ADDRESS(ROW()-2,COLUMN())),OFFSET(テストデータ!$ER$3,1,0):OFFSET(テストデータ!$ER$3,500,0)))","v":""},{"$f":"IF(OR(INDIRECT(ADDRESS(ROW()-2,COLUMN()))=\"欠\",INDIRECT(ADDRESS(ROW()-2,COLUMN()))=\"\"),\"\",RANK(INDIRECT(ADDRESS(ROW()-2,COLUMN())),OFFSET(テストデータ!$ER$3,1,1):OFFSET(テストデータ!$ER$3,500,1)))","v":""},{"$f":"IF(OR(INDIRECT(ADDRESS(ROW()-2,COLUMN()))=\"欠\",INDIRECT(ADDRESS(ROW()-2,COLUMN()))=\"\"),\"\",RANK(INDIRECT(ADDRESS(ROW()-2,COLUMN())),OFFSET(テストデータ!$ER$3,1,2):OFFSET(テストデータ!$ER$3,500,2)))","v":""},{"$f":"IF(OR(INDIRECT(ADDRESS(ROW()-2,COLUMN()))=\"欠\",INDIRECT(ADDRESS(ROW()-2,COLUMN()))=\"\"),\"\",RANK(INDIRECT(ADDRESS(ROW()-2,COLUMN())),OFFSET(テストデータ!$ER$3,1,3):OFFSET(テストデータ!$ER$3,500,3)))","v":""},{"$f":"IF(OR(INDIRECT(ADDRESS(ROW()-2,COLUMN()))=\"欠\",INDIRECT(ADDRESS(ROW()-2,COLUMN()))=\"\"),\"\",RANK(INDIRECT(ADDRESS(ROW()-2,COLUMN())),OFFSET(テストデータ!$ER$3,1,4):OFFSET(テストデータ!$ER$3,500,4)))","v":""},{"$f":"IF(OR(INDIRECT(ADDRESS(ROW()-2,COLUMN()))=\"欠\",INDIRECT(ADDRESS(ROW()-2,COLUMN()))=\"\"),\"\",RANK(INDIRECT(ADDRESS(ROW()-2,COLUMN())),OFFSET(テストデータ!$ER$3,1,5):OFFSET(テストデータ!$ER$3,500,5)))","v":""},{"$f":"IF(OR(INDIRECT(ADDRESS(ROW()-2,COLUMN()))=\"欠\",INDIRECT(ADDRESS(ROW()-2,COLUMN()))=\"\"),\"\",RANK(INDIRECT(ADDRESS(ROW()-2,COLUMN())),OFFSET(テストデータ!$ER$3,1,6):OFFSET(テストデータ!$ER$3,500,6)))","v":""},{"$f":"IF(OR(INDIRECT(ADDRESS(ROW()-2,COLUMN()))=\"欠\",INDIRECT(ADDRESS(ROW()-2,COLUMN()))=\"\"),\"\",RANK(INDIRECT(ADDRESS(ROW()-2,COLUMN())),OFFSET(テストデータ!$ER$3,1,7):OFFSET(テストデータ!$ER$3,500,7)))","v":""},{"$f":"IF(OR(INDIRECT(ADDRESS(ROW()-2,COLUMN()))=\"欠\",INDIRECT(ADDRESS(ROW()-2,COLUMN()))=\"\"),\"\",RANK(INDIRECT(ADDRESS(ROW()-2,COLUMN())),OFFSET(テストデータ!$ER$3,1,8):OFFSET(テストデータ!$ER$3,500,8)))","v":""},{"$f":"IF(OR(INDIRECT(ADDRESS(ROW()-2,COLUMN()))=\"欠\",INDIRECT(ADDRESS(ROW()-2,COLUMN()))=\"\"),\"\",RANK(INDIRECT(ADDRESS(ROW()-2,COLUMN())),OFFSET(テストデータ!$ER$3,1,9):OFFSET(テストデータ!$ER$3,500,9)))","v":""},{"$f":"IF(OR(INDIRECT(ADDRESS(ROW()-2,COLUMN()))=\"欠\",INDIRECT(ADDRESS(ROW()-2,COLUMN()))=\"\"),\"\",RANK(INDIRECT(ADDRESS(ROW()-2,COLUMN())),OFFSET(テストデータ!$ER$3,1,10):OFFSET(テストデータ!$ER$3,500,10)))","v":""},{"$f":"IF(OR(INDIRECT(ADDRESS(ROW()-2,COLUMN()))=\"欠\",INDIRECT(ADDRESS(ROW()-2,COLUMN()))=\"\"),\"\",RANK(INDIRECT(ADDRESS(ROW()-2,COLUMN())),OFFSET(テストデータ!$ER$3,1,11):OFFSET(テストデータ!$ER$3,500,11)))","v":""}]
[null,{"$f":"IF(初期設定!$C16=\"\",\"\",初期設定!$C16)","v":""},"1回","2回","3回","4回","5回","6回","7回","8回","9回","10回","11回","12回"]
[null,"実施日",{"$f":"IF(テストデータ!FD$2=\"\",\"\",テストデータ!FD$2)","v":""},{"$f":"IF(テストデータ!FE$2=\"\",\"\",テストデータ!FE$2)","v":""},{"$f":"IF(テストデータ!FF$2=\"\",\"\",テストデータ!FF$2)","v":""},{"$f":"IF(テストデータ!FG$2=\"\",\"\",テストデータ!FG$2)","v":""},{"$f":"IF(テストデータ!FH$2=\"\",\"\",テストデータ!FH$2)","v":""},{"$f":"IF(テストデータ!FI$2=\"\",\"\",テストデータ!FI$2)","v":""},{"$f":"IF(テストデータ!FJ$2=\"\",\"\",テストデータ!FJ$2)","v":""},{"$f":"IF(テストデータ!FK$2=\"\",\"\",テストデータ!FK$2)","v":""},{"$f":"IF(テストデータ!FL$2=\"\",\"\",テストデータ!FL$2)","v":""},{"$f":"IF(テストデータ!FM$2=\"\",\"\",テストデータ!FM$2)","v":""},{"$f":"IF(テストデータ!FN$2=\"\",\"\",テストデータ!FN$2)","v":""},{"$f":"IF(テストデータ!FO$2=\"\",\"\",テストデータ!FO$2)","v":""}]
[null,"得点",{"$f":"IF(VLOOKUP($H$2,テストデータ!$A$4:$FO$503,160,FALSE)=\"\",IF(INDIRECT(ADDRESS(ROW()-1,COLUMN()))=\"\",\"\",\"欠\"),VLOOKUP($H$2,テストデータ!$A$4:$FO$503,160,FALSE))","v":""},{"$f":"IF(VLOOKUP($H$2,テストデータ!$A$4:$FO$503,161,FALSE)=\"\",IF(INDIRECT(ADDRESS(ROW()-1,COLUMN()))=\"\",\"\",\"欠\"),VLOOKUP($H$2,テストデータ!$A$4:$FO$503,161,FALSE))","v":""},{"$f":"IF(VLOOKUP($H$2,テストデータ!$A$4:$FO$503,162,FALSE)=\"\",IF(INDIRECT(ADDRESS(ROW()-1,COLUMN()))=\"\",\"\",\"欠\"),VLOOKUP($H$2,テストデータ!$A$4:$FO$503,162,FALSE))","v":""},{"$f":"IF(VLOOKUP($H$2,テストデータ!$A$4:$FO$503,163,FALSE)=\"\",IF(INDIRECT(ADDRESS(ROW()-1,COLUMN()))=\"\",\"\",\"欠\"),VLOOKUP($H$2,テストデータ!$A$4:$FO$503,163,FALSE))","v":""},{"$f":"IF(VLOOKUP($H$2,テストデータ!$A$4:$FO$503,164,FALSE)=\"\",IF(INDIRECT(ADDRESS(ROW()-1,COLUMN()))=\"\",\"\",\"欠\"),VLOOKUP($H$2,テストデータ!$A$4:$FO$503,164,FALSE))","v":""},{"$f":"IF(VLOOKUP($H$2,テストデータ!$A$4:$FO$503,165,FALSE)=\"\",IF(INDIRECT(ADDRESS(ROW()-1,COLUMN()))=\"\",\"\",\"欠\"),VLOOKUP($H$2,テストデータ!$A$4:$FO$503,165,FALSE))","v":""},{"$f":"IF(VLOOKUP($H$2,テストデータ!$A$4:$FO$503,166,FALSE)=\"\",IF(INDIRECT(ADDRESS(ROW()-1,COLUMN()))=\"\",\"\",\"欠\"),VLOOKUP($H$2,テストデータ!$A$4:$FO$503,166,FALSE))","v":""},{"$f":"IF(VLOOKUP($H$2,テストデータ!$A$4:$FO$503,167,FALSE)=\"\",IF(INDIRECT(ADDRESS(ROW()-1,COLUMN()))=\"\",\"\",\"欠\"),VLOOKUP($H$2,テストデータ!$A$4:$FO$503,167,FALSE))","v":""},{"$f":"IF(VLOOKUP($H$2,テストデータ!$A$4:$FO$503,168,FALSE)=\"\",IF(INDIRECT(ADDRESS(ROW()-1,COLUMN()))=\"\",\"\",\"欠\"),VLOOKUP($H$2,テストデータ!$A$4:$FO$503,168,FALSE))","v":""},{"$f":"IF(VLOOKUP($H$2,テストデータ!$A$4:$FO$503,169,FALSE)=\"\",IF(INDIRECT(ADDRESS(ROW()-1,COLUMN()))=\"\",\"\",\"欠\"),VLOOKUP($H$2,テストデータ!$A$4:$FO$503,169,FALSE))","v":""},{"$f":"IF(VLOOKUP($H$2,テストデータ!$A$4:$FO$503,170,FALSE)=\"\",IF(INDIRECT(ADDRESS(ROW()-1,COLUMN()))=\"\",\"\",\"欠\"),VLOOKUP($H$2,テストデータ!$A$4:$FO$503,170,FALSE))","v":""},{"$f":"IF(VLOOKUP($H$2,テストデータ!$A$4:$FO$503,171,FALSE)=\"\",IF(INDIRECT(ADDRESS(ROW()-1,COLUMN()))=\"\",\"\",\"欠\"),VLOOKUP($H$2,テストデータ!$A$4:$FO$503,171,FALSE))","v":""}]
[null,"平均点",{"$f":"IF(COUNT(OFFSET(テストデータ!$D$3,1,12*13+0):OFFSET(テストデータ!$D$3,500,12*13+0))=0,NA(),AVERAGE(OFFSET(テストデータ!$D$3,1,12*13+0):OFFSET(テストデータ!$D$3,500,12*13+0)))","v":{"$error":"#N/A"}},{"$f":"IF(COUNT(OFFSET(テストデータ!$D$3,1,12*13+1):OFFSET(テストデータ!$D$3,500,12*13+1))=0,NA(),AVERAGE(OFFSET(テストデータ!$D$3,1,12*13+1):OFFSET(テストデータ!$D$3,500,12*13+1)))","v":{"$error":"#N/A"}},{"$f":"IF(COUNT(OFFSET(テストデータ!$D$3,1,12*13+2):OFFSET(テストデータ!$D$3,500,12*13+2))=0,NA(),AVERAGE(OFFSET(テストデータ!$D$3,1,12*13+2):OFFSET(テストデータ!$D$3,500,12*13+2)))","v":{"$error":"#N/A"}},{"$f":"IF(COUNT(OFFSET(テストデータ!$D$3,1,12*13+3):OFFSET(テストデータ!$D$3,500,12*13+3))=0,NA(),AVERAGE(OFFSET(テストデータ!$D$3,1,12*13+3):OFFSET(テストデータ!$D$3,500,12*13+3)))","v":{"$error":"#N/A"}},{"$f":"IF(COUNT(OFFSET(テストデータ!$D$3,1,12*13+4):OFFSET(テストデータ!$D$3,500,12*13+4))=0,NA(),AVERAGE(OFFSET(テストデータ!$D$3,1,12*13+4):OFFSET(テストデータ!$D$3,500,12*13+4)))","v":{"$error":"#N/A"}},{"$f":"IF(COUNT(OFFSET(テストデータ!$D$3,1,12*13+5):OFFSET(テストデータ!$D$3,500,12*13+5))=0,NA(),AVERAGE(OFFSET(テストデータ!$D$3,1,12*13+5):OFFSET(テストデータ!$D$3,500,12*13+5)))","v":{"$error":"#N/A"}},{"$f":"IF(COUNT(OFFSET(テストデータ!$D$3,1,12*13+6):OFFSET(テストデータ!$D$3,500,12*13+6))=0,NA(),AVERAGE(OFFSET(テストデータ!$D$3,1,12*13+6):OFFSET(テストデータ!$D$3,500,12*13+6)))","v":{"$error":"#N/A"}},{"$f":"IF(COUNT(OFFSET(テストデータ!$D$3,1,12*13+7):OFFSET(テストデータ!$D$3,500,12*13+7))=0,NA(),AVERAGE(OFFSET(テストデータ!$D$3,1,12*13+7):OFFSET(テストデータ!$D$3,500,12*13+7)))","v":{"$error":"#N/A"}},{"$f":"IF(COUNT(OFFSET(テストデータ!$D$3,1,12*13+8):OFFSET(テストデータ!$D$3,500,12*13+8))=0,NA(),AVERAGE(OFFSET(テストデータ!$D$3,1,12*13+8):OFFSET(テストデータ!$D$3,500,12*13+8)))","v":{"$error":"#N/A"}},{"$f":"IF(COUNT(OFFSET(テストデータ!$D$3,1,12*13+9):OFFSET(テストデータ!$D$3,500,12*13+9))=0,NA(),AVERAGE(OFFSET(テストデータ!$D$3,1,12*13+9):OFFSET(テストデータ!$D$3,500,12*13+9)))","v":{"$error":"#N/A"}},{"$f":"IF(COUNT(OFFSET(テストデータ!$D$3,1,12*13+10):OFFSET(テストデータ!$D$3,500,12*13+10))=0,NA(),AVERAGE(OFFSET(テストデータ!$D$3,1,12*13+10):OFFSET(テストデータ!$D$3,500,12*13+10)))","v":{"$error":"#N/A"}},{"$f":"IF(COUNT(OFFSET(テストデータ!$D$3,1,12*13+11):OFFSET(テストデータ!$D$3,500,12*13+11))=0,NA(),AVERAGE(OFFSET(テストデータ!$D$3,1,12*13+11):OFFSET(テストデータ!$D$3,500,12*13+11)))","v":{"$error":"#N/A"}}]
[null,"校内順位",{"$f":"IF(OR(INDIRECT(ADDRESS(ROW()-2,COLUMN()))=\"欠\",INDIRECT(ADDRESS(ROW()-2,COLUMN()))=\"\"),\"\",RANK(INDIRECT(ADDRESS(ROW()-2,COLUMN())),OFFSET(テストデータ!$FD$3,1,0):OFFSET(テストデータ!$FD$3,500,0)))","v":""},{"$f":"IF(OR(INDIRECT(ADDRESS(ROW()-2,COLUMN()))=\"欠\",INDIRECT(ADDRESS(ROW()-2,COLUMN()))=\"\"),\"\",RANK(INDIRECT(ADDRESS(ROW()-2,COLUMN())),OFFSET(テストデータ!$FD$3,1,1):OFFSET(テストデータ!$FD$3,500,1)))","v":""},{"$f":"IF(OR(INDIRECT(ADDRESS(ROW()-2,COLUMN()))=\"欠\",INDIRECT(ADDRESS(ROW()-2,COLUMN()))=\"\"),\"\",RANK(INDIRECT(ADDRESS(ROW()-2,COLUMN())),OFFSET(テストデータ!$FD$3,1,2):OFFSET(テストデータ!$FD$3,500,2)))","v":""},{"$f":"IF(OR(INDIRECT(ADDRESS(ROW()-2,COLUMN()))=\"欠\",INDIRECT(ADDRESS(ROW()-2,COLUMN()))=\"\"),\"\",RANK(INDIRECT(ADDRESS(ROW()-2,COLUMN())),OFFSET(テストデータ!$FD$3,1,3):OFFSET(テストデータ!$FD$3,500,3)))","v":""},{"$f":"IF(OR(INDIRECT(ADDRESS(ROW()-2,COLUMN()))=\"欠\",INDIRECT(ADDRESS(ROW()-2,COLUMN()))=\"\"),\"\",RANK(INDIRECT(ADDRESS(ROW()-2,COLUMN())),OFFSET(テストデータ!$FD$3,1,4):OFFSET(テストデータ!$FD$3,500,4)))","v":""},{"$f":"IF(OR(INDIRECT(ADDRESS(ROW()-2,COLUMN()))=\"欠\",INDIRECT(ADDRESS(ROW()-2,COLUMN()))=\"\"),\"\",RANK(INDIRECT(ADDRESS(ROW()-2,COLUMN())),OFFSET(テストデータ!$FD$3,1,5):OFFSET(テストデータ!$FD$3,500,5)))","v":""},{"$f":"IF(OR(INDIRECT(ADDRESS(ROW()-2,COLUMN()))=\"欠\",INDIRECT(ADDRESS(ROW()-2,COLUMN()))=\"\"),\"\",RANK(INDIRECT(ADDRESS(ROW()-2,COLUMN())),OFFSET(テストデータ!$FD$3,1,6):OFFSET(テストデータ!$FD$3,500,6)))","v":""},{"$f":"IF(OR(INDIRECT(ADDRESS(ROW()-2,COLUMN()))=\"欠\",INDIRECT(ADDRESS(ROW()-2,COLUMN()))=\"\"),\"\",RANK(INDIRECT(ADDRESS(ROW()-2,COLUMN())),OFFSET(テストデータ!$FD$3,1,7):OFFSET(テストデータ!$FD$3,500,7)))","v":""},{"$f":"IF(OR(INDIRECT(ADDRESS(ROW()-2,COLUMN()))=\"欠\",INDIRECT(ADDRESS(ROW()-2,COLUMN()))=\"\"),\"\",RANK(INDIRECT(ADDRESS(ROW()-2,COLUMN())),OFFSET(テストデータ!$FD$3,1,8):OFFSET(テストデータ!$FD$3,500,8)))","v":""},{"$f":"IF(OR(INDIRECT(ADDRESS(ROW()-2,COLUMN()))=\"欠\",INDIRECT(ADDRESS(ROW()-2,COLUMN()))=\"\"),\"\",RANK(INDIRECT(ADDRESS(ROW()-2,COLUMN())),OFFSET(テストデータ!$FD$3,1,9):OFFSET(テストデータ!$FD$3,500,9)))","v":""},{"$f":"IF(OR(INDIRECT(ADDRESS(ROW()-2,COLUMN()))=\"欠\",INDIRECT(ADDRESS(ROW()-2,COLUMN()))=\"\"),\"\",RANK(INDIRECT(ADDRESS(ROW()-2,COLUMN())),OFFSET(テストデータ!$FD$3,1,10):OFFSET(テストデータ!$FD$3,500,10)))","v":""},{"$f":"IF(OR(INDIRECT(ADDRESS(ROW()-2,COLUMN()))=\"欠\",INDIRECT(ADDRESS(ROW()-2,COLUMN()))=\"\"),\"\",RANK(INDIRECT(ADDRESS(ROW()-2,COLUMN())),OFFSET(テストデータ!$FD$3,1,11):OFFSET(テストデータ!$FD$3,500,11)))","v":""}]

{"sheet":"模試・定期テスト成績表","index":2,"n_rows":71,"n_cols":19,"rows_kept":71,"cut":false,"hidden":false,"merged":[[37,18,37,21],[56,1,58,1],[38,15,38,16],[1,1,1,3],[37,1,37,3],[37,10,37,12],[3,1,6,1],[7,1,10,1],[11,1,14,1],[15,1,18,1],[19,1,22,1],[23,1,26,1],[27,1,30,1],[31,1,34,1],[37,6,37,7],[0,19,0,20],[36,19,36,20],[1,11,1,14],[2,1,2,2],[1,18,1,21],[60,1,62,1],[2,15,2,16],[64,1,66,1],[68,1,70,1],[39,1,39,2],[43,1,43,2],[51,1,51,2],[55,1,55,2],[59,1,59,2],[63,1,63,2],[67,1,67,2],[47,1,47,2],[40,1,42,1],[44,1,46,1],[48,1,50,1],[52,1,54,1]]}
[]
[null,{"$f":"IF(初期設定!$C17=\"\",\"\",初期設定!$C17)","v":"模試成績表"},null,null,null,null,null,"ID:",7,{"$f":"IF(VLOOKUP($I2,テストデータ!$A$4:$C503,2,FALSE)=\"\",\"\",VLOOKUP($I2,テストデータ!$A$4:$C503,2,FALSE))","v":"3-B"},"氏名",{"$f":"IF(VLOOKUP($I2,テストデータ!$A$4:$C503,3,FALSE)=\"\",\"\",VLOOKUP($I2,テストデータ!$A$4:$C503,3,FALSE))","v":"鈴木G男"},null,null,null,null,null,null,{"$f":"初期設定!$B65","v":"微風予備校"}]
[null,null,null,null,null,null,null,null,null,null,null,null,null,null,null,{"$f":"IF(初期設定!$C$1=\"\",\"\",初期設定!$C$1)","v":"20xx年度"}]
[null,"第1回",{"$f":"IF(テストデータ!$FP$2=\"\",\"\",テストデータ!$FP$2)","v":"2/4"},{"$f":"IF(初期設定!$C$23=\"\",\"\",初期設定!$C$23)","v":"国総"},{"$f":"IF(初期設定!$C$24=\"\",\"\",初期設定!$C$24)","v":"英表"},{"$f":"IF(初期設定!$C$25=\"\",\"\",初期設定!$C$25)","v":"コ英"},{"$f":"IF(初期設定!$C$26=\"\",\"\",初期設定!$C$26)","v":"数Ⅰ"},{"$f":"IF(初期設定!$C$27=\"\",\"\",初期設定!$C$27)","v":"数A"},{"$f":"IF(初期設定!$C$28=\"\",\"\",初期設定!$C$28)","v":"世B"},{"$f":"IF(初期設定!$C$29=\"\",\"\",初期設定!$C$29)","v":"化基"},{"$f":"IF(初期設定!$C$30=\"\",\"\",初期設定!$C$30)","v":""},{"$f":"IF(初期設定!$C$31=\"\",\"\",初期設定!$C$31)","v":""},{"$f":"IF(初期設定!$C$32=\"\",\"\",初期設定!$C$32)","v":""},{"$f":"IF(初期設定!$C$33=\"\",\"\",初期設定!$C$33)","v":""},{"$f":"IF(初期設定!$C$34=\"\",\"\",初期設定!$C$34)","v":""},{"$f":"IF(初期設定!$C$35=\"\",\"\",初期設定!$C$35)","v":""},{"$f":"IF(初期設定!$C$36=\"\",\"\",初期設定!$C$36)","v":""}]
[null,null,"得点"]
[null,null,"偏差値"]
[null,null,"校内順位"]
[null,"第2回",{"$f":"IF(テストデータ!$GR$2=\"\",\"\",テストデータ!$GR$2)","v":"3/4"},{"$f":"IF(初期設定!$C$23=\"\",\"\",初期設定!$C$23)","v":"国総"},{"$f":"IF(初期設定!$C$24=\"\",\"\",初期設定!$C$24)","v":"英表"},{"$f":"IF(初期設定!$C$25=\"\",\"\",初期設定!$C$25)","v":"コ英"},{"$f":"IF(初期設定!$C$26=\"\",\"\",初期設定!$C$26)","v":"数Ⅰ"},{"$f":"IF(初期設定!$C$27=\"\",\"\",初期設定!$C$27)","v":"数A"},{"$f":"IF(初期設定!$C$28=\"\",\"\",初期設定!$C$28)","v":"世B"},{"$f":"IF(初期設定!$C$29=\"\",\"\",初期設定!$C$29)","v":"化基"},{"$f":"IF(初期設定!$C$30=\"\",\"\",初期設定!$C$30)","v":""},{"$f":"IF(初期設定!$C$31=\"\",\"\",初期設定!$C$31)","v":""},{"$f":"IF(初期設定!$C$32=\"\",\"\",初期設定!$C$32)","v":""},{"$f":"IF(初期設定!$C$33=\"\",\"\",初期設定!$C$33)","v":""},{"$f":"IF(初期設定!$C$34=\"\",\"\",初期設定!$C$34)","v":""},{"$f":"IF(初期設定!$C$35=\"\",\"\",初期設定!$C$35)","v":""},{"$f":"IF(初期設定!$C$36=\"\",\"\",初期設定!$C$36)","v":""}]
[null,null,"得点",{"$f":"IF(VLOOKUP($I$2,テストデータ!$A$4:$OE$503,200+0,FALSE)=\"\",IF(INDIRECT(ADDRESS(ROW()-1,COLUMN()))=\"\",\"\",\"欠\"),VLOOKUP($I$2,テストデータ!$A$4:$OE$503,200+0,FALSE))","v":55},{"$f":"IF(VLOOKUP($I$2,テストデータ!$A$4:$OE$503,200+2,FALSE)=\"\",IF(INDIRECT(ADDRESS(ROW()-1,COLUMN()))=\"\",\"\",\"欠\"),VLOOKUP($I$2,テストデータ!$A$4:$OE$503,200+2,FALSE))","v":72},{"$f":"IF(VLOOKUP($I$2,テストデータ!$A$4:$OE$503,200+4,FALSE)=\"\",IF(INDIRECT(ADDRESS(ROW()-1,COLUMN()))=\"\",\"\",\"欠\"),VLOOKUP($I$2,テストデータ!$A$4:$OE$503,200+4,FALSE))","v":11},{"$f":"IF(VLOOKUP($I$2,テストデータ!$A$4:$OE$503,200+6,FALSE)=\"\",IF(INDIRECT(ADDRESS(ROW()-1,COLUMN()))=\"\",\"\",\"欠\"),VLOOKUP($I$2,テストデータ!$A$4:$OE$503,200+6,FALSE))","v":26},{"$f":"IF(VLOOKUP($I$2,テストデータ!$A$4:$OE$503,200+8,FALSE)=\"\",IF(INDIRECT(ADDRESS(ROW()-1,COLUMN()))=\"\",\"\",\"欠\"),VLOOKUP($I$2,テストデータ!$A$4:$OE$503,200+8,FALSE))","v":"欠"},{"$f":"IF(VLOOKUP($I$2,テストデータ!$A$4:$OE$503,200+10,FALSE)=\"\",IF(INDIRECT(ADDRESS(ROW()-1,COLUMN()))=\"\",\"\",\"欠\"),VLOOKUP($I$2,テストデータ!$A$4:$OE$503,200+10,FALSE))","v":27},{"$f":"IF(VLOOKUP($I$2,テストデータ!$A$4:$OE$503,200+12,FALSE)=\"\",IF(INDIRECT(ADDRESS(ROW()-1,COLUMN()))=\"\",\"\",\"欠\"),VLOOKUP($I$2,テストデータ!$A$4:$OE$503,200+12,FALSE))","v":55},{"$f":"IF(VLOOKUP($I$2,テストデータ!$A$4:$OE$503,200+14,FALSE)=\"\",IF(INDIRECT(ADDRESS(ROW()-1,COLUMN()))=\"\",\"\",\"欠\"),VLOOKUP($I$2,テストデータ!$A$4:$OE$503,200+14,FALSE))","v":""},{"$f":"IF(VLOOKUP($I$2,テストデータ!$A$4:$OE$503,200+16,FALSE)=\"\",IF(INDIRECT(ADDRESS(ROW()-1,COLUMN()))=\"\",\"\",\"欠\"),VLOOKUP($I$2,テストデータ!$A$4:$OE$503,200+16,FALSE))","v":""},{"$f":"IF(VLOOKUP($I$2,テストデータ!$A$4:$OE$503,200+18,FALSE)=\"\",IF(INDIRECT(ADDRESS(ROW()-1,COLUMN()))=\"\",\"\",\"欠\"),VLOOKUP($I$2,テストデータ!$A$4:$OE$503,200+18,FALSE))","v":""},{"$f":"IF(VLOOKUP($I$2,テストデータ!$A$4:$OE$503,200+20,FALSE)=\"\",IF(INDIRECT(ADDRESS(ROW()-1,COLUMN()))=\"\",\"\",\"欠\"),VLOOKUP($I$2,テストデータ!$A$4:$OE$503,200+20,FALSE))","v":""},{"$f":"IF(VLOOKUP($I$2,テストデータ!$A$4:$OE$503,200+22,FALSE)=\"\",IF(INDIRECT(ADDRESS(ROW()-1,COLUMN()))=\"\",\"\",\"欠\"),VLOOKUP($I$2,テストデータ!$A$4:$OE$503,200+22,FALSE))","v":""},{"$f":"IF(VLOOKUP($I$2,テストデータ!$A$4:$OE$503,200+24,FALSE)=\"\",IF(INDIRECT(ADDRESS(ROW()-1,COLUMN()))=\"\",\"\",\"欠\"),VLOOKUP($I$2,テストデータ!$A$4:$OE$503,200+24,FALSE))","v":""},{"$f":"IF(VLOOKUP($I$2,テストデータ!$A$4:$OE$503,200+26,FALSE)=\"\",IF(INDIRECT(ADDRESS(ROW()-1,COLUMN()))=\"\",\"\",\"欠\"),VLOOKUP($I$2,テストデータ!$A$4:$OE$503,200+26,FALSE))","v":""}]
[null,null,"偏差値",{"$f":"IF(VLOOKUP($I$2,テストデータ!$A$4:$OE$503,200+1,FALSE)=\"\",NA(),VLOOKUP($I$2,テストデータ!$A$4:$OE$503,200+1,FALSE))","v":54},{"$f":"IF(VLOOKUP($I$2,テストデータ!$A$4:$OE$503,200+3,FALSE)=\"\",NA(),VLOOKUP($I$2,テストデータ!$A$4:$OE$503,200+3,FALSE))","v":59},{"$f":"IF(VLOOKUP($I$2,テストデータ!$A$4:$OE$503,200+5,FALSE)=\"\",NA(),VLOOKUP($I$2,テストデータ!$A$4:$OE$503,200+5,FALSE))","v":21},{"$f":"IF(VLOOKUP($I$2,テストデータ!$A$4:$OE$503,200+7,FALSE)=\"\",NA(),VLOOKUP($I$2,テストデータ!$A$4:$OE$503,200+7,FALSE))","v":39},{"$f":"IF(VLOOKUP($I$2,テストデータ!$A$4:$OE$503,200+9,FALSE)=\"\",NA(),VLOOKUP($I$2,テストデータ!$A$4:$OE$503,200+9,FALSE))","v":{"$error":"#N/A"}},{"$f":"IF(VLOOKUP($I$2,テストデータ!$A$4:$OE$503,200+11,FALSE)=\"\",NA(),VLOOKUP($I$2,テストデータ!$A$4:$OE$503,200+11,FALSE))","v":28},{"$f":"IF(VLOOKUP($I$2,テストデータ!$A$4:$OE$503,200+13,FALSE)=\"\",NA(),VLOOKUP($I$2,テストデータ!$A$4:$OE$503,200+13,FALSE))","v":54},{"$f":"IF(VLOOKUP($I$2,テストデータ!$A$4:$OE$503,200+15,FALSE)=\"\",NA(),VLOOKUP($I$2,テストデータ!$A$4:$OE$503,200+15,FALSE))","v":{"$error":"#N/A"}},{"$f":"IF(VLOOKUP($I$2,テストデータ!$A$4:$OE$503,200+17,FALSE)=\"\",NA(),VLOOKUP($I$2,テストデータ!$A$4:$OE$503,200+17,FALSE))","v":{"$error":"#N/A"}},{"$f":"IF(VLOOKUP($I$2,テストデータ!$A$4:$OE$503,200+19,FALSE)=\"\",NA(),VLOOKUP($I$2,テストデータ!$A$4:$OE$503,200+19,FALSE))","v":{"$error":"#N/A"}},{"$f":"IF(VLOOKUP($I$2,テストデータ!$A$4:$OE$503,200+21,FALSE)=\"\",NA(),VLOOKUP($I$2,テストデータ!$A$4:$OE$503,200+21,FALSE))","v":{"$error":"#N/A"}},{"$f":"IF(VLOOKUP($I$2,テストデータ!$A$4:$OE$503,200+23,FALSE)=\"\",NA(),VLOOKUP($I$2,テストデータ!$A$4:$OE$503,200+23,FALSE))","v":{"$error":"#N/A"}},{"$f":"IF(VLOOKUP($I$2,テストデータ!$A$4:$OE$503,200+25,FALSE)=\"\",NA(),VLOOKUP($I$2,テストデータ!$A$4:$OE$503,200+25,FALSE))","v":{"$error":"#N/A"}},{"$f":"IF(VLOOKUP($I$2,テストデータ!$A$4:$OE$503,200+27,FALSE)=\"\",NA(),VLOOKUP($I$2,テストデータ!$A$4:$OE$503,200+27,FALSE))","v":{"$error":"#N/A"}}]
[null,null,"校内順位",{"$f":"IF(INDIRECT(ADDRESS(ROW()-2,COLUMN()))=\"欠\",\"\",RANK(INDIRECT(ADDRESS(ROW()-2,COLUMN())),OFFSET(テストデータ!$GR$3,1,0):OFFSET(テストデータ!$GR$3,500,0)))","v":12},{"$f":"IF(INDIRECT(ADDRESS(ROW()-2,COLUMN()))=\"欠\",\"\",RANK(INDIRECT(ADDRESS(ROW()-2,COLUMN())),OFFSET(テストデータ!$GR$3,1,2):OFFSET(テストデータ!$GR$3,500,2)))","v":9},{"$f":"IF(INDIRECT(ADDRESS(ROW()-2,COLUMN()))=\"欠\",\"\",RANK(INDIRECT(ADDRESS(ROW()-2,COLUMN())),OFFSET(テストデータ!$GR$3,1,4):OFFSET(テストデータ!$GR$3,500,4)))","v":19},{"$f":"IF(INDIRECT(ADDRESS(ROW()-2,COLUMN()))=\"欠\",\"\",RANK(INDIRECT(ADDRESS(ROW()-2,COLUMN())),OFFSET(テストデータ!$GR$3,1,6):OFFSET(テストデータ!$GR$3,500,6)))","v":15},{"$f":"IF(INDIRECT(ADDRESS(ROW()-2,COLUMN()))=\"欠\",\"\",RANK(INDIRECT(ADDRESS(ROW()-2,COLUMN())),OFFSET(テストデータ!$GR$3,1,8):OFFSET(テストデータ!$GR$3,500,8)))","v":""},{"$f":"IF(INDIRECT(ADDRESS(ROW()-2,COLUMN()))=\"欠\",\"\",RANK(INDIRECT(ADDRESS(ROW()-2,COLUMN())),OFFSET(テストデータ!$GR$3,1,10):OFFSET(テストデータ!$GR$3,500,10)))","v":15},{"$f":"IF(INDIRECT(ADDRESS(ROW()-2,COLUMN()))=\"欠\",\"\",RANK(INDIRECT(ADDRESS(ROW()-2,COLUMN())),OFFSET(テストデータ!$GR$3,1,12):OFFSET(テストデータ!$GR$3,500,12)))","v":12},{"$f":"IF(INDIRECT(ADDRESS(ROW()-2,COLUMN()))=\"欠\",\"\",RANK(INDIRECT(ADDRESS(ROW()-2,COLUMN())),OFFSET(テストデータ!$GR$3,1,14):OFFSET(テストデータ!$GR$3,500,14)))","v":{"$error":"#VALUE!"}},{"$f":"IF(INDIRECT(ADDRESS(ROW()-2,COLUMN()))=\"欠\",\"\",RANK(INDIRECT(ADDRESS(ROW()-2,COLUMN())),OFFSET(テストデータ!$GR$3,1,16):OFFSET(テストデータ!$GR$3,500,16)))","v":{"$error":"#VALUE!"}},{"$f":"IF(INDIRECT(ADDRESS(ROW()-2,COLUMN()))=\"欠\",\"\",RANK(INDIRECT(ADDRESS(ROW()-2,COLUMN())),OFFSET(テストデータ!$GR$3,1,18):OFFSET(テストデータ!$GR$3,500,18)))","v":{"$error":"#VALUE!"}},{"$f":"IF(INDIRECT(ADDRESS(ROW()-2,COLUMN()))=\"欠\",\"\",RANK(INDIRECT(ADDRESS(ROW()-2,COLUMN())),OFFSET(テストデータ!$GR$3,1,20):OFFSET(テストデータ!$GR$3,500,20)))","v":{"$error":"#VALUE!"}},{"$f":"IF(INDIRECT(ADDRESS(ROW()-2,COLUMN()))=\"欠\",\"\",RANK(INDIRECT(ADDRESS(ROW()-2,COLUMN())),OFFSET(テストデータ!$GR$3,1,22):OFFSET(テストデータ!$GR$3,500,22)))","v":{"$error":"#VALUE!"}},{"$f":"IF(INDIRECT(ADDRESS(ROW()-2,COLUMN()))=\"欠\",\"\",RANK(INDIRECT(ADDRESS(ROW()-2,COLUMN())),OFFSET(テストデータ!$GR$3,1,24):OFFSET(テストデータ!$GR$3,500,24)))","v":{"$error":"#VALUE!"}},{"$f":"IF(INDIRECT(ADDRESS(ROW()-2,COLUMN()))=\"欠\",\"\",RANK(INDIRECT(ADDRESS(ROW()-2,COLUMN())),OFFSET(テストデータ!$GR$3,1,26):OFFSET(テストデータ!$GR$3,500,26)))","v":{"$error":"#VALUE!"}}]
[null,"第3回",{"$f":"IF(テストデータ!$HT$2=\"\",\"\",テストデータ!$HT$2)","v":"4/4"},{"$f":"IF(初期設定!$C$23=\"\",\"\",初期設定!$C$23)","v":"国総"},{"$f":"IF(初期設定!$C$24=\"\",\"\",初期設定!$C$24)","v":"英表"},{"$f":"IF(初期設定!$C$25=\"\",\"\",初期設定!$C$25)","v":"コ英"},{"$f":"IF(初期設定!$C$26=\"\",\"\",初期設定!$C$26)","v":"数Ⅰ"},{"$f":"IF(初期設定!$C$27=\"\",\"\",初期設定!$C$27)","v":"数A"},{"$f":"IF(初期設定!$C$28=\"\",\"\",初期設定!$C$28)","v":"世B"},{"$f":"IF(初期設定!$C$29=\"\",\"\",初期設定!$C$29)","v":"化基"},{"$f":"IF(初期設定!$C$30=\"\",\"\",初期設定!$C$30)","v":""},{"$f":"IF(初期設定!$C$31=\"\",\"\",初期設定!$C$31)","v":""},{"$f":"IF(初期設定!$C$32=\"\",\"\",初期設定!$C$32)","v":""},{"$f":"IF(初期設定!$C$33=\"\",\"\",初期設定!$C$33)","v":""},{"$f":"IF(初期設定!$C$34=\"\",\"\",初期設定!$C$34)","v":""},{"$f":"IF(初期設定!$C$35=\"\",\"\",初期設定!$C$35)","v":""},{"$f":"IF(初期設定!$C$36=\"\",\"\",初期設定!$C$36)","v":""}]
[null,null,"得点",{"$f":"IF(VLOOKUP($I$2,テストデータ!$A$4:$OE$503,228+0,FALSE)=\"\",IF(INDIRECT(ADDRESS(ROW()-1,COLUMN()))=\"\",\"\",\"欠\"),VLOOKUP($I$2,テストデータ!$A$4:$OE$503,228+0,FALSE))","v":55},{"$f":"IF(VLOOKUP($I$2,テストデータ!$A$4:$OE$503,228+2,FALSE)=\"\",IF(INDIRECT(ADDRESS(ROW()-1,COLUMN()))=\"\",\"\",\"欠\"),VLOOKUP($I$2,テストデータ!$A$4:$OE$503,228+2,FALSE))","v":72},{"$f":"IF(VLOOKUP($I$2,テストデータ!$A$4:$OE$503,228+4,FALSE)=\"\",IF(INDIRECT(ADDRESS(ROW()-1,COLUMN()))=\"\",\"\",\"欠\"),VLOOKUP($I$2,テストデータ!$A$4:$OE$503,228+4,FALSE))","v":11},{"$f":"IF(VLOOKUP($I$2,テストデータ!$A$4:$OE$503,228+6,FALSE)=\"\",IF(INDIRECT(ADDRESS(ROW()-1,COLUMN()))=\"\",\"\",\"欠\"),VLOOKUP($I$2,テストデータ!$A$4:$OE$503,228+6,FALSE))","v":26},{"$f":"IF(VLOOKUP($I$2,テストデータ!$A$4:$OE$503,228+8,FALSE)=\"\",IF(INDIRECT(ADDRESS(ROW()-1,COLUMN()))=\"\",\"\",\"欠\"),VLOOKUP($I$2,テストデータ!$A$4:$OE$503,228+8,FALSE))","v":"欠"},{"$f":"IF(VLOOKUP($I$2,テストデータ!$A$4:$OE$503,228+10,FALSE)=\"\",IF(INDIRECT(ADDRESS(ROW()-1,COLUMN()))=\"\",\"\",\"欠\"),VLOOKUP($I$2,テストデータ!$A$4:$OE$503,228+10,FALSE))","v":27},{"$f":"IF(VLOOKUP($I$2,テストデータ!$A$4:$OE$503,228+12,FALSE)=\"\",IF(INDIRECT(ADDRESS(ROW()-1,COLUMN()))=\"\",\"\",\"欠\"),VLOOKUP($I$2,テストデータ!$A$4:$OE$503,228+12,FALSE))","v":55},{"$f":"IF(VLOOKUP($I$2,テストデータ!$A$4:$OE$503,228+14,FALSE)=\"\",IF(INDIRECT(ADDRESS(ROW()-1,COLUMN()))=\"\",\"\",\"欠\"),VLOOKUP($I$2,テストデータ!$A$4:$OE$503,228+14,FALSE))","v":""},{"$f":"IF(VLOOKUP($I$2,テストデータ!$A$4:$OE$503,228+16,FALSE)=\"\",IF(INDIRECT(ADDRESS(ROW()-1,COLUMN()))=\"\",\"\",\"欠\"),VLOOKUP($I$2,テストデータ!$A$4:$OE$503,228+16,FALSE))","v":""},{"$f":"IF(VLOOKUP($I$2,テストデータ!$A$4:$OE$503,228+18,FALSE)=\"\",IF(INDIRECT(ADDRESS(ROW()-1,COLUMN()))=\"\",\"\",\"欠\"),VLOOKUP($I$2,テストデータ!$A$4:$OE$503,228+18,FALSE))","v":""},{"$f":"IF(VLOOKUP($I$2,テストデータ!$A$4:$OE$503,228+20,FALSE)=\"\",IF(INDIRECT(ADDRESS(ROW()-1,COLUMN()))=\"\",\"\",\"欠\"),VLOOKUP($I$2,テストデータ!$A$4:$OE$503,228+20,FALSE))","v":""},{"$f":"IF(VLOOKUP($I$2,テストデータ!$A$4:$OE$503,228+22,FALSE)=\"\",IF(INDIRECT(ADDRESS(ROW()-1,COLUMN()))=\"\",\"\",\"欠\"),VLOOKUP($I$2,テストデータ!$A$4:$OE$503,228+22,FALSE))","v":""},{"$f":"IF(VLOOKUP($I$2,テストデータ!$A$4:$OE$503,228+24,FALSE)=\"\",IF(INDIRECT(ADDRESS(ROW()-1,COLUMN()))=\"\",\"\",\"欠\"),VLOOKUP($I$2,テストデータ!$A$4:$OE$503,228+24,FALSE))","v":""},{"$f":"IF(VLOOKUP($I$2,テストデータ!$A$4:$OE$503,228+26,FALSE)=\"\",IF(INDIRECT(ADDRESS(ROW()-1,COLUMN()))=\"\",\"\",\"欠\"),VLOOKUP($I$2,テストデータ!$A$4:$OE$503,228+26,FALSE))","v":""}]
[null,null,"偏差値",{"$f":"IF(VLOOKUP($I$2,テストデータ!$A$4:$OE$503,228+1,FALSE)=\"\",NA(),VLOOKUP($I$2,テストデータ!$A$4:$OE$503,228+1,FALSE))","v":54},{"$f":"IF(VLOOKUP($I$2,テストデータ!$A$4:$OE$503,228+3,FALSE)=\"\",NA(),VLOOKUP($I$2,テストデータ!$A$4:$OE$503,228+3,FALSE))","v":59},{"$f":"IF(VLOOKUP($I$2,テストデータ!$A$4:$OE$503,228+5,FALSE)=\"\",NA(),VLOOKUP($I$2,テストデータ!$A$4:$OE$503,228+5,FALSE))","v":21},{"$f":"IF(VLOOKUP($I$2,テストデータ!$A$4:$OE$503,228+7,FALSE)=\"\",NA(),VLOOKUP($I$2,テストデータ!$A$4:$OE$503,228+7,FALSE))","v":39},{"$f":"IF(VLOOKUP($I$2,テストデータ!$A$4:$OE$503,228+9,FALSE)=\"\",NA(),VLOOKUP($I$2,テストデータ!$A$4:$OE$503,228+9,FALSE))","v":{"$error":"#N/A"}},{"$f":"IF(VLOOKUP($I$2,テストデータ!$A$4:$OE$503,228+11,FALSE)=\"\",NA(),VLOOKUP($I$2,テストデータ!$A$4:$OE$503,228+11,FALSE))","v":28},{"$f":"IF(VLOOKUP($I$2,テストデータ!$A$4:$OE$503,228+13,FALSE)=\"\",NA(),VLOOKUP($I$2,テストデータ!$A$4:$OE$503,228+13,FALSE))","v":54},{"$f":"IF(VLOOKUP($I$2,テストデータ!$A$4:$OE$503,228+15,FALSE)=\"\",NA(),VLOOKUP($I$2,テストデータ!$A$4:$OE$503,228+15,FALSE))","v":{"$error":"#N/A"}},{"$f":"IF(VLOOKUP($I$2,テストデータ!$A$4:$OE$503,228+17,FALSE)=\"\",NA(),VLOOKUP($I$2,テストデータ!$A$4:$OE$503,228+17,FALSE))","v":{"$error":"#N/A"}},{"$f":"IF(VLOOKUP($I$2,テストデータ!$A$4:$OE$503,228+19,FALSE)=\"\",NA(),VLOOKUP($I$2,テストデータ!$A$4:$OE$503,228+19,FALSE))","v":{"$error":"#N/A"}},{"$f":"IF(VLOOKUP($I$2,テストデータ!$A$4:$OE$503,228+21,FALSE)=\"\",NA(),VLOOKUP($I$2,テストデータ!$A$4:$OE$503,228+21,FALSE))","v":{"$error":"#N/A"}},{"$f":"IF(VLOOKUP($I$2,テストデータ!$A$4:$OE$503,228+23,FALSE)=\"\",NA(),VLOOKUP($I$2,テストデータ!$A$4:$OE$503,228+23,FALSE))","v":{"$error":"#N/A"}},{"$f":"IF(VLOOKUP($I$2,テストデータ!$A$4:$OE$503,228+25,FALSE)=\"\",NA(),VLOOKUP($I$2,テストデータ!$A$4:$OE$503,228+25,FALSE))","v":{"$error":"#N/A"}},{"$f":"IF(VLOOKUP($I$2,テストデータ!$A$4:$OE$503,228+27,FALSE)=\"\",NA(),VLOOKUP($I$2,テストデータ!$A$4:$OE$503,228+27,FALSE))","v":{"$error":"#N/A"}}]
[null,null,"校内順位",{"$f":"IF(INDIRECT(ADDRESS(ROW()-2,COLUMN()))=\"欠\",\"\",RANK(INDIRECT(ADDRESS(ROW()-2,COLUMN())),OFFSET(テストデータ!$HT$3,1,0):OFFSET(テストデータ!$HT$3,500,0)))","v":12},{"$f":"IF(INDIRECT(ADDRESS(ROW()-2,COLUMN()))=\"欠\",\"\",RANK(INDIRECT(ADDRESS(ROW()-2,COLUMN())),OFFSET(テストデータ!$HT$3,1,2):OFFSET(テストデータ!$HT$3,500,2)))","v":9},{"$f":"IF(INDIRECT(ADDRESS(ROW()-2,COLUMN()))=\"欠\",\"\",RANK(INDIRECT(ADDRESS(ROW()-2,COLUMN())),OFFSET(テストデータ!$HT$3,1,4):OFFSET(テストデータ!$HT$3,500,4)))","v":19},{"$f":"IF(INDIRECT(ADDRESS(ROW()-2,COLUMN()))=\"欠\",\"\",RANK(INDIRECT(ADDRESS(ROW()-2,COLUMN())),OFFSET(テストデータ!$HT$3,1,6):OFFSET(テストデータ!$HT$3,500,6)))","v":15},{"$f":"IF(INDIRECT(ADDRESS(ROW()-2,COLUMN()))=\"欠\",\"\",RANK(INDIRECT(ADDRESS(ROW()-2,COLUMN())),OFFSET(テストデータ!$HT$3,1,8):OFFSET(テストデータ!$HT$3,500,8)))","v":""},{"$f":"IF(INDIRECT(ADDRESS(ROW()-2,COLUMN()))=\"欠\",\"\",RANK(INDIRECT(ADDRESS(ROW()-2,COLUMN())),OFFSET(テストデータ!$HT$3,1,10):OFFSET(テストデータ!$HT$3,500,10)))","v":15},{"$f":"IF(INDIRECT(ADDRESS(ROW()-2,COLUMN()))=\"欠\",\"\",RANK(INDIRECT(ADDRESS(ROW()-2,COLUMN())),OFFSET(テストデータ!$HT$3,1,12):OFFSET(テストデータ!$HT$3,500,12)))","v":12},{"$f":"IF(INDIRECT(ADDRESS(ROW()-2,COLUMN()))=\"欠\",\"\",RANK(INDIRECT(ADDRESS(ROW()-2,COLUMN())),OFFSET(テストデータ!$HT$3,1,14):OFFSET(テストデータ!$HT$3,500,14)))","v":{"$error":"#VALUE!"}},{"$f":"IF(INDIRECT(ADDRESS(ROW()-2,COLUMN()))=\"欠\",\"\",RANK(INDIRECT(ADDRESS(ROW()-2,COLUMN())),OFFSET(テストデータ!$HT$3,1,16):OFFSET(テストデータ!$HT$3,500,16)))","v":{"$error":"#VALUE!"}},{"$f":"IF(INDIRECT(ADDRESS(ROW()-2,COLUMN()))=\"欠\",\"\",RANK(INDIRECT(ADDRESS(ROW()-2,COLUMN())),OFFSET(テストデータ!$HT$3,1,18):OFFSET(テストデータ!$HT$3,500,18)))","v":{"$error":"#VALUE!"}},{"$f":"IF(INDIRECT(ADDRESS(ROW()-2,COLUMN()))=\"欠\",\"\",RANK(INDIRECT(ADDRESS(ROW()-2,COLUMN())),OFFSET(テストデータ!$HT$3,1,20):OFFSET(テストデータ!$HT$3,500,20)))","v":{"$error":"#VALUE!"}},{"$f":"IF(INDIRECT(ADDRESS(ROW()-2,COLUMN()))=\"欠\",\"\",RANK(INDIRECT(ADDRESS(ROW()-2,COLUMN())),OFFSET(テストデータ!$HT$3,1,22):OFFSET(テストデータ!$HT$3,500,22)))","v":{"$error":"#VALUE!"}},{"$f":"IF(INDIRECT(ADDRESS(ROW()-2,COLUMN()))=\"欠\",\"\",RANK(INDIRECT(ADDRESS(ROW()-2,COLUMN())),OFFSET(テストデータ!$HT$3,1,24):OFFSET(テストデータ!$HT$3,500,24)))","v":{"$error":"#VALUE!"}},{"$f":"IF(INDIRECT(ADDRESS(ROW()-2,COLUMN()))=\"欠\",\"\",RANK(INDIRECT(ADDRESS(ROW()-2,COLUMN())),OFFSET(テストデータ!$HT$3,1,26):OFFSET(テストデータ!$HT$3,500,26)))","v":{"$error":"#VALUE!"}}]
[null,"第4回",{"$f":"IF(テストデータ!$IV$2=\"\",\"\",テストデータ!$IV$2)","v":"5/4"},{"$f":"IF(初期設定!$C$23=\"\",\"\",初期設定!$C$23)","v":"国総"},{"$f":"IF(初期設定!$C$24=\"\",\"\",初期設定!$C$24)","v":"英表"},{"$f":"IF(初期設定!$C$25=\"\",\"\",初期設定!$C$25)","v":"コ英"},{"$f":"IF(初期設定!$C$26=\"\",\"\",初期設定!$C$26)","v":"数Ⅰ"},{"$f":"IF(初期設定!$C$27=\"\",\"\",初期設定!$C$27)","v":"数A"},{"$f":"IF(初期設定!$C$28=\"\",\"\",初期設定!$C$28)","v":"世B"},{"$f":"IF(初期設定!$C$29=\"\",\"\",初期設定!$C$29)","v":"化基"},{"$f":"IF(初期設定!$C$30=\"\",\"\",初期設定!$C$30)","v":""},{"$f":"IF(初期設定!$C$31=\"\",\"\",初期設定!$C$31)","v":""},{"$f":"IF(初期設定!$C$32=\"\",\"\",初期設定!$C$32)","v":""},{"$f":"IF(初期設定!$C$33=\"\",\"\",初期設定!$C$33)","v":""},{"$f":"IF(初期設定!$C$34=\"\",\"\",初期設定!$C$34)","v":""},{"$f":"IF(初期設定!$C$35=\"\",\"\",初期設定!$C$35)","v":""},{"$f":"IF(初期設定!$C$36=\"\",\"\",初期設定!$C$36)","v":""}]
[null,null,"得点",{"$f":"IF(VLOOKUP($I$2,テストデータ!$A$4:$OE$503,256+0,FALSE)=\"\",IF(INDIRECT(ADDRESS(ROW()-1,COLUMN()))=\"\",\"\",\"欠\"),VLOOKUP($I$2,テストデータ!$A$4:$OE$503,256+0,FALSE))","v":55},{"$f":"IF(VLOOKUP($I$2,テストデータ!$A$4:$OE$503,256+2,FALSE)=\"\",IF(INDIRECT(ADDRESS(ROW()-1,COLUMN()))=\"\",\"\",\"欠\"),VLOOKUP($I$2,テストデータ!$A$4:$OE$503,256+2,FALSE))","v":72},{"$f":"IF(VLOOKUP($I$2,テストデータ!$A$4:$OE$503,256+4,FALSE)=\"\",IF(INDIRECT(ADDRESS(ROW()-1,COLUMN()))=\"\",\"\",\"欠\"),VLOOKUP($I$2,テストデータ!$A$4:$OE$503,256+4,FALSE))","v":11},{"$f":"IF(VLOOKUP($I$2,テストデータ!$A$4:$OE$503,256+6,FALSE)=\"\",IF(INDIRECT(ADDRESS(ROW()-1,COLUMN()))=\"\",\"\",\"欠\"),VLOOKUP($I$2,テストデータ!$A$4:$OE$503,256+6,FALSE))","v":26},{"$f":"IF(VLOOKUP($I$2,テストデータ!$A$4:$OE$503,256+8,FALSE)=\"\",IF(INDIRECT(ADDRESS(ROW()-1,COLUMN()))=\"\",\"\",\"欠\"),VLOOKUP($I$2,テストデータ!$A$4:$OE$503,256+8,FALSE))","v":"欠"},{"$f":"IF(VLOOKUP($I$2,テストデータ!$A$4:$OE$503,256+10,FALSE)=\"\",IF(INDIRECT(ADDRESS(ROW()-1,COLUMN()))=\"\",\"\",\"欠\"),VLOOKUP($I$2,テストデータ!$A$4:$OE$503,256+10,FALSE))","v":27},{"$f":"IF(VLOOKUP($I$2,テストデータ!$A$4:$OE$503,256+12,FALSE)=\"\",IF(INDIRECT(ADDRESS(ROW()-1,COLUMN()))=\"\",\"\",\"欠\"),VLOOKUP($I$2,テストデータ!$A$4:$OE$503,256+12,FALSE))","v":55},{"$f":"IF(VLOOKUP($I$2,テストデータ!$A$4:$OE$503,256+14,FALSE)=\"\",IF(INDIRECT(ADDRESS(ROW()-1,COLUMN()))=\"\",\"\",\"欠\"),VLOOKUP($I$2,テストデータ!$A$4:$OE$503,256+14,FALSE))","v":""},{"$f":"IF(VLOOKUP($I$2,テストデータ!$A$4:$OE$503,256+16,FALSE)=\"\",IF(INDIRECT(ADDRESS(ROW()-1,COLUMN()))=\"\",\"\",\"欠\"),VLOOKUP($I$2,テストデータ!$A$4:$OE$503,256+16,FALSE))","v":""},{"$f":"IF(VLOOKUP($I$2,テストデータ!$A$4:$OE$503,256+18,FALSE)=\"\",IF(INDIRECT(ADDRESS(ROW()-1,COLUMN()))=\"\",\"\",\"欠\"),VLOOKUP($I$2,テストデータ!$A$4:$OE$503,256+18,FALSE))","v":""},{"$f":"IF(VLOOKUP($I$2,テストデータ!$A$4:$OE$503,256+20,FALSE)=\"\",IF(INDIRECT(ADDRESS(ROW()-1,COLUMN()))=\"\",\"\",\"欠\"),VLOOKUP($I$2,テストデータ!$A$4:$OE$503,256+20,FALSE))","v":""},{"$f":"IF(VLOOKUP($I$2,テストデータ!$A$4:$OE$503,256+22,FALSE)=\"\",IF(INDIRECT(ADDRESS(ROW()-1,COLUMN()))=\"\",\"\",\"欠\"),VLOOKUP($I$2,テストデータ!$A$4:$OE$503,256+22,FALSE))","v":""},{"$f":"IF(VLOOKUP($I$2,テストデータ!$A$4:$OE$503,256+24,FALSE)=\"\",IF(INDIRECT(ADDRESS(ROW()-1,COLUMN()))=\"\",\"\",\"欠\"),VLOOKUP($I$2,テストデータ!$A$4:$OE$503,256+24,FALSE))","v":""},{"$f":"IF(VLOOKUP($I$2,テストデータ!$A$4:$OE$503,256+26,FALSE)=\"\",IF(INDIRECT(ADDRESS(ROW()-1,COLUMN()))=\"\",\"\",\"欠\"),VLOOKUP($I$2,テストデータ!$A$4:$OE$503,256+26,FALSE))","v":""}]
[null,null,"偏差値",{"$f":"IF(VLOOKUP($I$2,テストデータ!$A$4:$OE$503,256+1,FALSE)=\"\",NA(),VLOOKUP($I$2,テストデータ!$A$4:$OE$503,256+1,FALSE))","v":54},{"$f":"IF(VLOOKUP($I$2,テストデータ!$A$4:$OE$503,256+3,FALSE)=\"\",NA(),VLOOKUP($I$2,テストデータ!$A$4:$OE$503,256+3,FALSE))","v":59},{"$f":"IF(VLOOKUP($I$2,テストデータ!$A$4:$OE$503,256+5,FALSE)=\"\",NA(),VLOOKUP($I$2,テストデータ!$A$4:$OE$503,256+5,FALSE))","v":21},{"$f":"IF(VLOOKUP($I$2,テストデータ!$A$4:$OE$503,256+7,FALSE)=\"\",NA(),VLOOKUP($I$2,テストデータ!$A$4:$OE$503,256+7,FALSE))","v":39},{"$f":"IF(VLOOKUP($I$2,テストデータ!$A$4:$OE$503,256+9,FALSE)=\"\",NA(),VLOOKUP($I$2,テストデータ!$A$4:$OE$503,256+9,FALSE))","v":{"$error":"#N/A"}},{"$f":"IF(VLOOKUP($I$2,テストデータ!$A$4:$OE$503,256+11,FALSE)=\"\",NA(),VLOOKUP($I$2,テストデータ!$A$4:$OE$503,256+11,FALSE))","v":28},{"$f":"IF(VLOOKUP($I$2,テストデータ!$A$4:$OE$503,256+13,FALSE)=\"\",NA(),VLOOKUP($I$2,テストデータ!$A$4:$OE$503,256+13,FALSE))","v":54},{"$f":"IF(VLOOKUP($I$2,テストデータ!$A$4:$OE$503,256+15,FALSE)=\"\",NA(),VLOOKUP($I$2,テストデータ!$A$4:$OE$503,256+15,FALSE))","v":{"$error":"#N/A"}},{"$f":"IF(VLOOKUP($I$2,テストデータ!$A$4:$OE$503,256+17,FALSE)=\"\",NA(),VLOOKUP($I$2,テストデータ!$A$4:$OE$503,256+17,FALSE))","v":{"$error":"#N/A"}},{"$f":"IF(VLOOKUP($I$2,テストデータ!$A$4:$OE$503,256+19,FALSE)=\"\",NA(),VLOOKUP($I$2,テストデータ!$A$4:$OE$503,256+19,FALSE))","v":{"$error":"#N/A"}},{"$f":"IF(VLOOKUP($I$2,テストデータ!$A$4:$OE$503,256+21,FALSE)=\"\",NA(),VLOOKUP($I$2,テストデータ!$A$4:$OE$503,256+21,FALSE))","v":{"$error":"#N/A"}},{"$f":"IF(VLOOKUP($I$2,テストデータ!$A$4:$OE$503,256+23,FALSE)=\"\",NA(),VLOOKUP($I$2,テストデータ!$A$4:$OE$503,256+23,FALSE))","v":{"$error":"#N/A"}},{"$f":"IF(VLOOKUP($I$2,テストデータ!$A$4:$OE$503,256+25,FALSE)=\"\",NA(),VLOOKUP($I$2,テストデータ!$A$4:$OE$503,256+25,FALSE))","v":{"$error":"#N/A"}},{"$f":"IF(VLOOKUP($I$2,テストデータ!$A$4:$OE$503,256+27,FALSE)=\"\",NA(),VLOOKUP($I$2,テストデータ!$A$4:$OE$503,256+27,FALSE))","v":{"$error":"#N/A"}}]
[null,null,"校内順位",{"$f":"IF(INDIRECT(ADDRESS(ROW()-2,COLUMN()))=\"欠\",\"\",RANK(INDIRECT(ADDRESS(ROW()-2,COLUMN())),OFFSET(テストデータ!$IV$3,1,0):OFFSET(テストデータ!$IV$3,500,0)))","v":12},{"$f":"IF(INDIRECT(ADDRESS(ROW()-2,COLUMN()))=\"欠\",\"\",RANK(INDIRECT(ADDRESS(ROW()-2,COLUMN())),OFFSET(テストデータ!$IV$3,1,2):OFFSET(テストデータ!$IV$3,500,2)))","v":9},{"$f":"IF(INDIRECT(ADDRESS(ROW()-2,COLUMN()))=\"欠\",\"\",RANK(INDIRECT(ADDRESS(ROW()-2,COLUMN())),OFFSET(テストデータ!$IV$3,1,4):OFFSET(テストデータ!$IV$3,500,4)))","v":19},{"$f":"IF(INDIRECT(ADDRESS(ROW()-2,COLUMN()))=\"欠\",\"\",RANK(INDIRECT(ADDRESS(ROW()-2,COLUMN())),OFFSET(テストデータ!$IV$3,1,6):OFFSET(テストデータ!$IV$3,500,6)))","v":15},{"$f":"IF(INDIRECT(ADDRESS(ROW()-2,COLUMN()))=\"欠\",\"\",RANK(INDIRECT(ADDRESS(ROW()-2,COLUMN())),OFFSET(テストデータ!$IV$3,1,8):OFFSET(テストデータ!$IV$3,500,8)))","v":""},{"$f":"IF(INDIRECT(ADDRESS(ROW()-2,COLUMN()))=\"欠\",\"\",RANK(INDIRECT(ADDRESS(ROW()-2,COLUMN())),OFFSET(テストデータ!$IV$3,1,10):OFFSET(テストデータ!$IV$3,500,10)))","v":15},{"$f":"IF(INDIRECT(ADDRESS(ROW()-2,COLUMN()))=\"欠\",\"\",RANK(INDIRECT(ADDRESS(ROW()-2,COLUMN())),OFFSET(テストデータ!$IV$3,1,12):OFFSET(テストデータ!$IV$3,500,12)))","v":12},{"$f":"IF(INDIRECT(ADDRESS(ROW()-2,COLUMN()))=\"欠\",\"\",RANK(INDIRECT(ADDRESS(ROW()-2,COLUMN())),OFFSET(テストデータ!$IV$3,1,14):OFFSET(テストデータ!$IV$3,500,14)))","v":{"$error":"#VALUE!"}},{"$f":"IF(INDIRECT(ADDRESS(ROW()-2,COLUMN()))=\"欠\",\"\",RANK(INDIRECT(ADDRESS(ROW()-2,COLUMN())),OFFSET(テストデータ!$IV$3,1,16):OFFSET(テストデータ!$IV$3,500,16)))","v":{"$error":"#VALUE!"}},{"$f":"IF(INDIRECT(ADDRESS(ROW()-2,COLUMN()))=\"欠\",\"\",RANK(INDIRECT(ADDRESS(ROW()-2,COLUMN())),OFFSET(テストデータ!$IV$3,1,18):OFFSET(テストデータ!$IV$3,500,18)))","v":{"$error":"#VALUE!"}},{"$f":"IF(INDIRECT(ADDRESS(ROW()-2,COLUMN()))=\"欠\",\"\",RANK(INDIRECT(ADDRESS(ROW()-2,COLUMN())),OFFSET(テストデータ!$IV$3,1,20):OFFSET(テストデータ!$IV$3,500,20)))","v":{"$error":"#VALUE!"}},{"$f":"IF(INDIRECT(ADDRESS(ROW()-2,COLUMN()))=\"欠\",\"\",RANK(INDIRECT(ADDRESS(ROW()-2,COLUMN())),OFFSET(テストデータ!$IV$3,1,22):OFFSET(テストデータ!$IV$3,500,22)))","v":{"$error":"#VALUE!"}},{"$f":"IF(INDIRECT(ADDRESS(ROW()-2,COLUMN()))=\"欠\",\"\",RANK(INDIRECT(ADDRESS(ROW()-2,COLUMN())),OFFSET(テストデータ!$IV$3,1,24):OFFSET(テストデータ!$IV$3,500,24)))","v":{"$error":"#VALUE!"}},{"$f":"IF(INDIRECT(ADDRESS(ROW()-2,COLUMN()))=\"欠\",\"\",RANK(INDIRECT(ADDRESS(ROW()-2,COLUMN())),OFFSET(テストデータ!$IV$3,1,26):OFFSET(テストデータ!$IV$3,500,26)))","v":{"$error":"#VALUE!"}}]
[null,"第5回",{"$f":"IF(テストデータ!$JX$2=\"\",\"\",テストデータ!$JX$2)","v":"6/4"},{"$f":"IF(初期設定!$C$23=\"\",\"\",初期設定!$C$23)","v":"国総"},{"$f":"IF(初期設定!$C$24=\"\",\"\",初期設定!$C$24)","v":"英表"},{"$f":"IF(初期設定!$C$25=\"\",\"\",初期設定!$C$25)","v":"コ英"},{"$f":"IF(初期設定!$C$26=\"\",\"\",初期設定!$C$26)","v":"数Ⅰ"},{"$f":"IF(初期設定!$C$27=\"\",\"\",初期設定!$C$27)","v":"数A"},{"$f":"IF(初期設定!$C$28=\"\",\"\",初期設定!$C$28)","v":"世B"},{"$f":"IF(初期設定!$C$29=\"\",\"\",初期設定!$C$29)","v":"化基"},{"$f":"IF(初期設定!$C$30=\"\",\"\",初期設定!$C$30)","v":""},{"$f":"IF(初期設定!$C$31=\"\",\"\",初期設定!$C$31)","v":""},{"$f":"IF(初期設定!$C$32=\"\",\"\",初期設定!$C$32)","v":""},{"$f":"IF(初期設定!$C$33=\"\",\"\",初期設定!$C$33)","v":""},{"$f":"IF(初期設定!$C$34=\"\",\"\",初期設定!$C$34)","v":""},{"$f":"IF(初期設定!$C$35=\"\",\"\",初期設定!$C$35)","v":""},{"$f":"IF(初期設定!$C$36=\"\",\"\",初期設定!$C$36)","v":""}]
[null,null,"得点",{"$f":"IF(VLOOKUP($I$2,テストデータ!$A$4:$OE$503,284+0,FALSE)=\"\",IF(INDIRECT(ADDRESS(ROW()-1,COLUMN()))=\"\",\"\",\"欠\"),VLOOKUP($I$2,テストデータ!$A$4:$OE$503,284+0,FALSE))","v":55},{"$f":"IF(VLOOKUP($I$2,テストデータ!$A$4:$OE$503,284+2,FALSE)=\"\",IF(INDIRECT(ADDRESS(ROW()-1,COLUMN()))=\"\",\"\",\"欠\"),VLOOKUP($I$2,テストデータ!$A$4:$OE$503,284+2,FALSE))","v":72},{"$f":"IF(VLOOKUP($I$2,テストデータ!$A$4:$OE$503,284+4,FALSE)=\"\",IF(INDIRECT(ADDRESS(ROW()-1,COLUMN()))=\"\",\"\",\"欠\"),VLOOKUP($I$2,テストデータ!$A$4:$OE$503,284+4,FALSE))","v":11},{"$f":"IF(VLOOKUP($I$2,テストデータ!$A$4:$OE$503,284+6,FALSE)=\"\",IF(INDIRECT(ADDRESS(ROW()-1,COLUMN()))=\"\",\"\",\"欠\"),VLOOKUP($I$2,テストデータ!$A$4:$OE$503,284+6,FALSE))","v":26},{"$f":"IF(VLOOKUP($I$2,テストデータ!$A$4:$OE$503,284+8,FALSE)=\"\",IF(INDIRECT(ADDRESS(ROW()-1,COLUMN()))=\"\",\"\",\"欠\"),VLOOKUP($I$2,テストデータ!$A$4:$OE$503,284+8,FALSE))","v":"欠"},{"$f":"IF(VLOOKUP($I$2,テストデータ!$A$4:$OE$503,284+10,FALSE)=\"\",IF(INDIRECT(ADDRESS(ROW()-1,COLUMN()))=\"\",\"\",\"欠\"),VLOOKUP($I$2,テストデータ!$A$4:$OE$503,284+10,FALSE))","v":27},{"$f":"IF(VLOOKUP($I$2,テストデータ!$A$4:$OE$503,284+12,FALSE)=\"\",IF(INDIRECT(ADDRESS(ROW()-1,COLUMN()))=\"\",\"\",\"欠\"),VLOOKUP($I$2,テストデータ!$A$4:$OE$503,284+12,FALSE))","v":55},{"$f":"IF(VLOOKUP($I$2,テストデータ!$A$4:$OE$503,284+14,FALSE)=\"\",IF(INDIRECT(ADDRESS(ROW()-1,COLUMN()))=\"\",\"\",\"欠\"),VLOOKUP($I$2,テストデータ!$A$4:$OE$503,284+14,FALSE))","v":""},{"$f":"IF(VLOOKUP($I$2,テストデータ!$A$4:$OE$503,284+16,FALSE)=\"\",IF(INDIRECT(ADDRESS(ROW()-1,COLUMN()))=\"\",\"\",\"欠\"),VLOOKUP($I$2,テストデータ!$A$4:$OE$503,284+16,FALSE))","v":""},{"$f":"IF(VLOOKUP($I$2,テストデータ!$A$4:$OE$503,284+18,FALSE)=\"\",IF(INDIRECT(ADDRESS(ROW()-1,COLUMN()))=\"\",\"\",\"欠\"),VLOOKUP($I$2,テストデータ!$A$4:$OE$503,284+18,FALSE))","v":""},{"$f":"IF(VLOOKUP($I$2,テストデータ!$A$4:$OE$503,284+20,FALSE)=\"\",IF(INDIRECT(ADDRESS(ROW()-1,COLUMN()))=\"\",\"\",\"欠\"),VLOOKUP($I$2,テストデータ!$A$4:$OE$503,284+20,FALSE))","v":""},{"$f":"IF(VLOOKUP($I$2,テストデータ!$A$4:$OE$503,284+22,FALSE)=\"\",IF(INDIRECT(ADDRESS(ROW()-1,COLUMN()))=\"\",\"\",\"欠\"),VLOOKUP($I$2,テストデータ!$A$4:$OE$503,284+22,FALSE))","v":""},{"$f":"IF(VLOOKUP($I$2,テストデータ!$A$4:$OE$503,284+24,FALSE)=\"\",IF(INDIRECT(ADDRESS(ROW()-1,COLUMN()))=\"\",\"\",\"欠\"),VLOOKUP($I$2,テストデータ!$A$4:$OE$503,284+24,FALSE))","v":""},{"$f":"IF(VLOOKUP($I$2,テストデータ!$A$4:$OE$503,284+26,FALSE)=\"\",IF(INDIRECT(ADDRESS(ROW()-1,COLUMN()))=\"\",\"\",\"欠\"),VLOOKUP($I$2,テストデータ!$A$4:$OE$503,284+26,FALSE))","v":""}]
[null,null,"偏差値",{"$f":"IF(VLOOKUP($I$2,テストデータ!$A$4:$OE$503,284+1,FALSE)=\"\",NA(),VLOOKUP($I$2,テストデータ!$A$4:$OE$503,284+1,FALSE))","v":54},{"$f":"IF(VLOOKUP($I$2,テストデータ!$A$4:$OE$503,284+3,FALSE)=\"\",NA(),VLOOKUP($I$2,テストデータ!$A$4:$OE$503,284+3,FALSE))","v":59},{"$f":"IF(VLOOKUP($I$2,テストデータ!$A$4:$OE$503,284+5,FALSE)=\"\",NA(),VLOOKUP($I$2,テストデータ!$A$4:$OE$503,284+5,FALSE))","v":21},{"$f":"IF(VLOOKUP($I$2,テストデータ!$A$4:$OE$503,284+7,FALSE)=\"\",NA(),VLOOKUP($I$2,テストデータ!$A$4:$OE$503,284+7,FALSE))","v":39},{"$f":"IF(VLOOKUP($I$2,テストデータ!$A$4:$OE$503,284+9,FALSE)=\"\",NA(),VLOOKUP($I$2,テストデータ!$A$4:$OE$503,284+9,FALSE))","v":{"$error":"#N/A"}},{"$f":"IF(VLOOKUP($I$2,テストデータ!$A$4:$OE$503,284+11,FALSE)=\"\",NA(),VLOOKUP($I$2,テストデータ!$A$4:$OE$503,284+11,FALSE))","v":28},{"$f":"IF(VLOOKUP($I$2,テストデータ!$A$4:$OE$503,284+13,FALSE)=\"\",NA(),VLOOKUP($I$2,テストデータ!$A$4:$OE$503,284+13,FALSE))","v":54},{"$f":"IF(VLOOKUP($I$2,テストデータ!$A$4:$OE$503,284+15,FALSE)=\"\",NA(),VLOOKUP($I$2,テストデータ!$A$4:$OE$503,284+15,FALSE))","v":{"$error":"#N/A"}},{"$f":"IF(VLOOKUP($I$2,テストデータ!$A$4:$OE$503,284+17,FALSE)=\"\",NA(),VLOOKUP($I$2,テストデータ!$A$4:$OE$503,284+17,FALSE))","v":{"$error":"#N/A"}},{"$f":"IF(VLOOKUP($I$2,テストデータ!$A$4:$OE$503,284+19,FALSE)=\"\",NA(),VLOOKUP($I$2,テストデータ!$A$4:$OE$503,284+19,FALSE))","v":{"$error":"#N/A"}},{"$f":"IF(VLOOKUP($I$2,テストデータ!$A$4:$OE$503,284+21,FALSE)=\"\",NA(),VLOOKUP($I$2,テストデータ!$A$4:$OE$503,284+21,FALSE))","v":{"$error":"#N/A"}},{"$f":"IF(VLOOKUP($I$2,テストデータ!$A$4:$OE$503,284+23,FALSE)=\"\",NA(),VLOOKUP($I$2,テストデータ!$A$4:$OE$503,284+23,FALSE))","v":{"$error":"#N/A"}},{"$f":"IF(VLOOKUP($I$2,テストデータ!$A$4:$OE$503,284+25,FALSE)=\"\",NA(),VLOOKUP($I$2,テストデータ!$A$4:$OE$503,284+25,FALSE))","v":{"$error":"#N/A"}},{"$f":"IF(VLOOKUP($I$2,テストデータ!$A$4:$OE$503,284+27,FALSE)=\"\",NA(),VLOOKUP($I$2,テストデータ!$A$4:$OE$503,284+27,FALSE))","v":{"$error":"#N/A"}}]
[null,null,"校内順位",{"$f":"IF(INDIRECT(ADDRESS(ROW()-2,COLUMN()))=\"欠\",\"\",RANK(INDIRECT(ADDRESS(ROW()-2,COLUMN())),OFFSET(テストデータ!$JX$3,1,0):OFFSET(テストデータ!$JX$3,500,0)))","v":12},{"$f":"IF(INDIRECT(ADDRESS(ROW()-2,COLUMN()))=\"欠\",\"\",RANK(INDIRECT(ADDRESS(ROW()-2,COLUMN())),OFFSET(テストデータ!$JX$3,1,2):OFFSET(テストデータ!$JX$3,500,2)))","v":9},{"$f":"IF(INDIRECT(ADDRESS(ROW()-2,COLUMN()))=\"欠\",\"\",RANK(INDIRECT(ADDRESS(ROW()-2,COLUMN())),OFFSET(テストデータ!$JX$3,1,4):OFFSET(テストデータ!$JX$3,500,4)))","v":19},{"$f":"IF(INDIRECT(ADDRESS(ROW()-2,COLUMN()))=\"欠\",\"\",RANK(INDIRECT(ADDRESS(ROW()-2,COLUMN())),OFFSET(テストデータ!$JX$3,1,6):OFFSET(テストデータ!$JX$3,500,6)))","v":15},{"$f":"IF(INDIRECT(ADDRESS(ROW()-2,COLUMN()))=\"欠\",\"\",RANK(INDIRECT(ADDRESS(ROW()-2,COLUMN())),OFFSET(テストデータ!$JX$3,1,8):OFFSET(テストデータ!$JX$3,500,8)))","v":""},{"$f":"IF(INDIRECT(ADDRESS(ROW()-2,COLUMN()))=\"欠\",\"\",RANK(INDIRECT(ADDRESS(ROW()-2,COLUMN())),OFFSET(テストデータ!$JX$3,1,10):OFFSET(テストデータ!$JX$3,500,10)))","v":15},{"$f":"IF(INDIRECT(ADDRESS(ROW()-2,COLUMN()))=\"欠\",\"\",RANK(INDIRECT(ADDRESS(ROW()-2,COLUMN())),OFFSET(テストデータ!$JX$3,1,12):OFFSET(テストデータ!$JX$3,500,12)))","v":12},{"$f":"IF(INDIRECT(ADDRESS(ROW()-2,COLUMN()))=\"欠\",\"\",RANK(INDIRECT(ADDRESS(ROW()-2,COLUMN())),OFFSET(テストデータ!$JX$3,1,14):OFFSET(テストデータ!$JX$3,500,14)))","v":{"$error":"#VALUE!"}},{"$f":"IF(INDIRECT(ADDRESS(ROW()-2,COLUMN()))=\"欠\",\"\",RANK(INDIRECT(ADDRESS(ROW()-2,COLUMN())),OFFSET(テストデータ!$JX$3,1,16):OFFSET(テストデータ!$JX$3,500,16)))","v":{"$error":"#VALUE!"}},{"$f":"IF(INDIRECT(ADDRESS(ROW()-2,COLUMN()))=\"欠\",\"\",RANK(INDIRECT(ADDRESS(ROW()-2,COLUMN())),OFFSET(テストデータ!$JX$3,1,18):OFFSET(テストデータ!$JX$3,500,18)))","v":{"$error":"#VALUE!"}},{"$f":"IF(INDIRECT(ADDRESS(ROW()-2,COLUMN()))=\"欠\",\"\",RANK(INDIRECT(ADDRESS(ROW()-2,COLUMN())),OFFSET(テストデータ!$JX$3,1,20):OFFSET(テストデータ!$JX$3,500,20)))","v":{"$error":"#VALUE!"}},{"$f":"IF(INDIRECT(ADDRESS(ROW()-2,COLUMN()))=\"欠\",\"\",RANK(INDIRECT(ADDRESS(ROW()-2,COLUMN())),OFFSET(テストデータ!$JX$3,1,22):OFFSET(テストデータ!$JX$3,500,22)))","v":{"$error":"#VALUE!"}},{"$f":"IF(INDIRECT(ADDRESS(ROW()-2,COLUMN()))=\"欠\",\"\",RANK(INDIRECT(ADDRESS(ROW()-2,COLUMN())),OFFSET(テストデータ!$JX$3,1,24):OFFSET(テストデータ!$JX$3,500,24)))","v":{"$error":"#VALUE!"}},{"$f":"IF(INDIRECT(ADDRESS(ROW()-2,COLUMN()))=\"欠\",\"\",RANK(INDIRECT(ADDRESS(ROW()-2,COLUMN())),OFFSET(テストデータ!$JX$3,1,26):OFFSET(テストデータ!$JX$3,500,26)))","v":{"$error":"#VALUE!"}}]
[null,"第6回",{"$f":"IF(テストデータ!$KZ$2=\"\",\"\",テストデータ!$KZ$2)","v":"7/4"},{"$f":"IF(初期設定!$C$23=\"\",\"\",初期設定!$C$23)","v":"国総"},{"$f":"IF(初期設定!$C$24=\"\",\"\",初期設定!$C$24)","v":"英表"},{"$f":"IF(初期設定!$C$25=\"\",\"\",初期設定!$C$25)","v":"コ英"},{"$f":"IF(初期設定!$C$26=\"\",\"\",初期設定!$C$26)","v":"数Ⅰ"},{"$f":"IF(初期設定!$C$27=\"\",\"\",初期設定!$C$27)","v":"数A"},{"$f":"IF(初期設定!$C$28=\"\",\"\",初期設定!$C$28)","v":"世B"},{"$f":"IF(初期設定!$C$29=\"\",\"\",初期設定!$C$29)","v":"化基"},{"$f":"IF(初期設定!$C$30=\"\",\"\",初期設定!$C$30)","v":""},{"$f":"IF(初期設定!$C$31=\"\",\"\",初期設定!$C$31)","v":""},{"$f":"IF(初期設定!$C$32=\"\",\"\",初期設定!$C$32)","v":""},{"$f":"IF(初期設定!$C$33=\"\",\"\",初期設定!$C$33)","v":""},{"$f":"IF(初期設定!$C$34=\"\",\"\",初期設定!$C$34)","v":""},{"$f":"IF(初期設定!$C$35=\"\",\"\",初期設定!$C$35)","v":""},{"$f":"IF(初期設定!$C$36=\"\",\"\",初期設定!$C$36)","v":""}]
[null,null,"得点",{"$f":"IF(VLOOKUP($I$2,テストデータ!$A$4:$OE$503,312+0,FALSE)=\"\",IF(INDIRECT(ADDRESS(ROW()-1,COLUMN()))=\"\",\"\",\"欠\"),VLOOKUP($I$2,テストデータ!$A$4:$OE$503,312+0,FALSE))","v":55},{"$f":"IF(VLOOKUP($I$2,テストデータ!$A$4:$OE$503,312+2,FALSE)=\"\",IF(INDIRECT(ADDRESS(ROW()-1,COLUMN()))=\"\",\"\",\"欠\"),VLOOKUP($I$2,テストデータ!$A$4:$OE$503,312+2,FALSE))","v":72},{"$f":"IF(VLOOKUP($I$2,テストデータ!$A$4:$OE$503,312+4,FALSE)=\"\",IF(INDIRECT(ADDRESS(ROW()-1,COLUMN()))=\"\",\"\",\"欠\"),VLOOKUP($I$2,テストデータ!$A$4:$OE$503,312+4,FALSE))","v":11},{"$f":"IF(VLOOKUP($I$2,テストデータ!$A$4:$OE$503,312+6,FALSE)=\"\",IF(INDIRECT(ADDRESS(ROW()-1,COLUMN()))=\"\",\"\",\"欠\"),VLOOKUP($I$2,テストデータ!$A$4:$OE$503,312+6,FALSE))","v":26},{"$f":"IF(VLOOKUP($I$2,テストデータ!$A$4:$OE$503,312+8,FALSE)=\"\",IF(INDIRECT(ADDRESS(ROW()-1,COLUMN()))=\"\",\"\",\"欠\"),VLOOKUP($I$2,テストデータ!$A$4:$OE$503,312+8,FALSE))","v":"欠"},{"$f":"IF(VLOOKUP($I$2,テストデータ!$A$4:$OE$503,312+10,FALSE)=\"\",IF(INDIRECT(ADDRESS(ROW()-1,COLUMN()))=\"\",\"\",\"欠\"),VLOOKUP($I$2,テストデータ!$A$4:$OE$503,312+10,FALSE))","v":27},{"$f":"IF(VLOOKUP($I$2,テストデータ!$A$4:$OE$503,312+12,FALSE)=\"\",IF(INDIRECT(ADDRESS(ROW()-1,COLUMN()))=\"\",\"\",\"欠\"),VLOOKUP($I$2,テストデータ!$A$4:$OE$503,312+12,FALSE))","v":55},{"$f":"IF(VLOOKUP($I$2,テストデータ!$A$4:$OE$503,312+14,FALSE)=\"\",IF(INDIRECT(ADDRESS(ROW()-1,COLUMN()))=\"\",\"\",\"欠\"),VLOOKUP($I$2,テストデータ!$A$4:$OE$503,312+14,FALSE))","v":""},{"$f":"IF(VLOOKUP($I$2,テストデータ!$A$4:$OE$503,312+16,FALSE)=\"\",IF(INDIRECT(ADDRESS(ROW()-1,COLUMN()))=\"\",\"\",\"欠\"),VLOOKUP($I$2,テストデータ!$A$4:$OE$503,312+16,FALSE))","v":""},{"$f":"IF(VLOOKUP($I$2,テストデータ!$A$4:$OE$503,312+18,FALSE)=\"\",IF(INDIRECT(ADDRESS(ROW()-1,COLUMN()))=\"\",\"\",\"欠\"),VLOOKUP($I$2,テストデータ!$A$4:$OE$503,312+18,FALSE))","v":""},{"$f":"IF(VLOOKUP($I$2,テストデータ!$A$4:$OE$503,312+20,FALSE)=\"\",IF(INDIRECT(ADDRESS(ROW()-1,COLUMN()))=\"\",\"\",\"欠\"),VLOOKUP($I$2,テストデータ!$A$4:$OE$503,312+20,FALSE))","v":""},{"$f":"IF(VLOOKUP($I$2,テストデータ!$A$4:$OE$503,312+22,FALSE)=\"\",IF(INDIRECT(ADDRESS(ROW()-1,COLUMN()))=\"\",\"\",\"欠\"),VLOOKUP($I$2,テストデータ!$A$4:$OE$503,312+22,FALSE))","v":""},{"$f":"IF(VLOOKUP($I$2,テストデータ!$A$4:$OE$503,312+24,FALSE)=\"\",IF(INDIRECT(ADDRESS(ROW()-1,COLUMN()))=\"\",\"\",\"欠\"),VLOOKUP($I$2,テストデータ!$A$4:$OE$503,312+24,FALSE))","v":""},{"$f":"IF(VLOOKUP($I$2,テストデータ!$A$4:$OE$503,312+26,FALSE)=\"\",IF(INDIRECT(ADDRESS(ROW()-1,COLUMN()))=\"\",\"\",\"欠\"),VLOOKUP($I$2,テストデータ!$A$4:$OE$503,312+26,FALSE))","v":""}]
[null,null,"偏差値",{"$f":"IF(VLOOKUP($I$2,テストデータ!$A$4:$OE$503,312+1,FALSE)=\"\",NA(),VLOOKUP($I$2,テストデータ!$A$4:$OE$503,312+1,FALSE))","v":54},{"$f":"IF(VLOOKUP($I$2,テストデータ!$A$4:$OE$503,312+3,FALSE)=\"\",NA(),VLOOKUP($I$2,テストデータ!$A$4:$OE$503,312+3,FALSE))","v":59},{"$f":"IF(VLOOKUP($I$2,テストデータ!$A$4:$OE$503,312+5,FALSE)=\"\",NA(),VLOOKUP($I$2,テストデータ!$A$4:$OE$503,312+5,FALSE))","v":21},{"$f":"IF(VLOOKUP($I$2,テストデータ!$A$4:$OE$503,312+7,FALSE)=\"\",NA(),VLOOKUP($I$2,テストデータ!$A$4:$OE$503,312+7,FALSE))","v":39},{"$f":"IF(VLOOKUP($I$2,テストデータ!$A$4:$OE$503,312+9,FALSE)=\"\",NA(),VLOOKUP($I$2,テストデータ!$A$4:$OE$503,312+9,FALSE))","v":{"$error":"#N/A"}},{"$f":"IF(VLOOKUP($I$2,テストデータ!$A$4:$OE$503,312+11,FALSE)=\"\",NA(),VLOOKUP($I$2,テストデータ!$A$4:$OE$503,312+11,FALSE))","v":28},{"$f":"IF(VLOOKUP($I$2,テストデータ!$A$4:$OE$503,312+13,FALSE)=\"\",NA(),VLOOKUP($I$2,テストデータ!$A$4:$OE$503,312+13,FALSE))","v":54},{"$f":"IF(VLOOKUP($I$2,テストデータ!$A$4:$OE$503,312+15,FALSE)=\"\",NA(),VLOOKUP($I$2,テストデータ!$A$4:$OE$503,312+15,FALSE))","v":{"$error":"#N/A"}},{"$f":"IF(VLOOKUP($I$2,テストデータ!$A$4:$OE$503,312+17,FALSE)=\"\",NA(),VLOOKUP($I$2,テストデータ!$A$4:$OE$503,312+17,FALSE))","v":{"$error":"#N/A"}},{"$f":"IF(VLOOKUP($I$2,テストデータ!$A$4:$OE$503,312+19,FALSE)=\"\",NA(),VLOOKUP($I$2,テストデータ!$A$4:$OE$503,312+19,FALSE))","v":{"$error":"#N/A"}},{"$f":"IF(VLOOKUP($I$2,テストデータ!$A$4:$OE$503,312+21,FALSE)=\"\",NA(),VLOOKUP($I$2,テストデータ!$A$4:$OE$503,312+21,FALSE))","v":{"$error":"#N/A"}},{"$f":"IF(VLOOKUP($I$2,テストデータ!$A$4:$OE$503,312+23,FALSE)=\"\",NA(),VLOOKUP($I$2,テストデータ!$A$4:$OE$503,312+23,FALSE))","v":{"$error":"#N/A"}},{"$f":"IF(VLOOKUP($I$2,テストデータ!$A$4:$OE$503,312+25,FALSE)=\"\",NA(),VLOOKUP($I$2,テストデータ!$A$4:$OE$503,312+25,FALSE))","v":{"$error":"#N/A"}},{"$f":"IF(VLOOKUP($I$2,テストデータ!$A$4:$OE$503,312+27,FALSE)=\"\",NA(),VLOOKUP($I$2,テストデータ!$A$4:$OE$503,312+27,FALSE))","v":{"$error":"#N/A"}}]
[null,null,"校内順位",{"$f":"IF(INDIRECT(ADDRESS(ROW()-2,COLUMN()))=\"欠\",\"\",RANK(INDIRECT(ADDRESS(ROW()-2,COLUMN())),OFFSET(テストデータ!$KZ$3,1,0):OFFSET(テストデータ!$KZ$3,500,0)))","v":12},{"$f":"IF(INDIRECT(ADDRESS(ROW()-2,COLUMN()))=\"欠\",\"\",RANK(INDIRECT(ADDRESS(ROW()-2,COLUMN())),OFFSET(テストデータ!$KZ$3,1,2):OFFSET(テストデータ!$KZ$3,500,2)))","v":9},{"$f":"IF(INDIRECT(ADDRESS(ROW()-2,COLUMN()))=\"欠\",\"\",RANK(INDIRECT(ADDRESS(ROW()-2,COLUMN())),OFFSET(テストデータ!$KZ$3,1,4):OFFSET(テストデータ!$KZ$3,500,4)))","v":19},{"$f":"IF(INDIRECT(ADDRESS(ROW()-2,COLUMN()))=\"欠\",\"\",RANK(INDIRECT(ADDRESS(ROW()-2,COLUMN())),OFFSET(テストデータ!$KZ$3,1,6):OFFSET(テストデータ!$KZ$3,500,6)))","v":15},{"$f":"IF(INDIRECT(ADDRESS(ROW()-2,COLUMN()))=\"欠\",\"\",RANK(INDIRECT(ADDRESS(ROW()-2,COLUMN())),OFFSET(テストデータ!$KZ$3,1,8):OFFSET(テストデータ!$KZ$3,500,8)))","v":""},{"$f":"IF(INDIRECT(ADDRESS(ROW()-2,COLUMN()))=\"欠\",\"\",RANK(INDIRECT(ADDRESS(ROW()-2,COLUMN())),OFFSET(テストデータ!$KZ$3,1,10):OFFSET(テストデータ!$KZ$3,500,10)))","v":15},{"$f":"IF(INDIRECT(ADDRESS(ROW()-2,COLUMN()))=\"欠\",\"\",RANK(INDIRECT(ADDRESS(ROW()-2,COLUMN())),OFFSET(テストデータ!$KZ$3,1,12):OFFSET(テストデータ!$KZ$3,500,12)))","v":12},{"$f":"IF(INDIRECT(ADDRESS(ROW()-2,COLUMN()))=\"欠\",\"\",RANK(INDIRECT(ADDRESS(ROW()-2,COLUMN())),OFFSET(テストデータ!$KZ$3,1,14):OFFSET(テストデータ!$KZ$3,500,14)))","v":{"$error":"#VALUE!"}},{"$f":"IF(INDIRECT(ADDRESS(ROW()-2,COLUMN()))=\"欠\",\"\",RANK(INDIRECT(ADDRESS(ROW()-2,COLUMN())),OFFSET(テストデータ!$KZ$3,1,16):OFFSET(テストデータ!$KZ$3,500,16)))","v":{"$error":"#VALUE!"}},{"$f":"IF(INDIRECT(ADDRESS(ROW()-2,COLUMN()))=\"欠\",\"\",RANK(INDIRECT(ADDRESS(ROW()-2,COLUMN())),OFFSET(テストデータ!$KZ$3,1,18):OFFSET(テストデータ!$KZ$3,500,18)))","v":{"$error":"#VALUE!"}},{"$f":"IF(INDIRECT(ADDRESS(ROW()-2,COLUMN()))=\"欠\",\"\",RANK(INDIRECT(ADDRESS(ROW()-2,COLUMN())),OFFSET(テストデータ!$KZ$3,1,20):OFFSET(テストデータ!$KZ$3,500,20)))","v":{"$error":"#VALUE!"}},{"$f":"IF(INDIRECT(ADDRESS(ROW()-2,COLUMN()))=\"欠\",\"\",RANK(INDIRECT(ADDRESS(ROW()-2,COLUMN())),OFFSET(テストデータ!$KZ$3,1,22):OFFSET(テストデータ!$KZ$3,500,22)))","v":{"$error":"#VALUE!"}},{"$f":"IF(INDIRECT(ADDRESS(ROW()-2,COLUMN()))=\"欠\",\"\",RANK(INDIRECT(ADDRESS(ROW()-2,COLUMN())),OFFSET(テストデータ!$KZ$3,1,24):OFFSET(テストデータ!$KZ$3,500,24)))","v":{"$error":"#VALUE!"}},{"$f":"IF(INDIRECT(ADDRESS(ROW()-2,COLUMN()))=\"欠\",\"\",RANK(INDIRECT(ADDRESS(ROW()-2,COLUMN())),OFFSET(テストデータ!$KZ$3,1,26):OFFSET(テストデータ!$KZ$3,500,26)))","v":{"$error":"#VALUE!"}}]
[null,"第7回",{"$f":"IF(テストデータ!$MB$2=\"\",\"\",テストデータ!$MB$2)","v":"8/4"},{"$f":"IF(初期設定!$C$23=\"\",\"\",初期設定!$C$23)","v":"国総"},{"$f":"IF(初期設定!$C$24=\"\",\"\",初期設定!$C$24)","v":"英表"},{"$f":"IF(初期設定!$C$25=\"\",\"\",初期設定!$C$25)","v":"コ英"},{"$f":"IF(初期設定!$C$26=\"\",\"\",初期設定!$C$26)","v":"数Ⅰ"},{"$f":"IF(初期設定!$C$27=\"\",\"\",初期設定!$C$27)","v":"数A"},{"$f":"IF(初期設定!$C$28=\"\",\"\",初期設定!$C$28)","v":"世B"},{"$f":"IF(初期設定!$C$29=\"\",\"\",初期設定!$C$29)","v":"化基"},{"$f":"IF(初期設定!$C$30=\"\",\"\",初期設定!$C$30)","v":""},{"$f":"IF(初期設定!$C$31=\"\",\"\",初期設定!$C$31)","v":""},{"$f":"IF(初期設定!$C$32=\"\",\"\",初期設定!$C$32)","v":""},{"$f":"IF(初期設定!$C$33=\"\",\"\",初期設定!$C$33)","v":""},{"$f":"IF(初期設定!$C$34=\"\",\"\",初期設定!$C$34)","v":""},{"$f":"IF(初期設定!$C$35=\"\",\"\",初期設定!$C$35)","v":""},{"$f":"IF(初期設定!$C$36=\"\",\"\",初期設定!$C$36)","v":""}]
[null,null,"得点",{"$f":"IF(VLOOKUP($I$2,テストデータ!$A$4:$OE$503,340+0,FALSE)=\"\",IF(INDIRECT(ADDRESS(ROW()-1,COLUMN()))=\"\",\"\",\"欠\"),VLOOKUP($I$2,テストデータ!$A$4:$OE$503,340+0,FALSE))","v":55},{"$f":"IF(VLOOKUP($I$2,テストデータ!$A$4:$OE$503,340+2,FALSE)=\"\",IF(INDIRECT(ADDRESS(ROW()-1,COLUMN()))=\"\",\"\",\"欠\"),VLOOKUP($I$2,テストデータ!$A$4:$OE$503,340+2,FALSE))","v":72},{"$f":"IF(VLOOKUP($I$2,テストデータ!$A$4:$OE$503,340+4,FALSE)=\"\",IF(INDIRECT(ADDRESS(ROW()-1,COLUMN()))=\"\",\"\",\"欠\"),VLOOKUP($I$2,テストデータ!$A$4:$OE$503,340+4,FALSE))","v":11},{"$f":"IF(VLOOKUP($I$2,テストデータ!$A$4:$OE$503,340+6,FALSE)=\"\",IF(INDIRECT(ADDRESS(ROW()-1,COLUMN()))=\"\",\"\",\"欠\"),VLOOKUP($I$2,テストデータ!$A$4:$OE$503,340+6,FALSE))","v":26},{"$f":"IF(VLOOKUP($I$2,テストデータ!$A$4:$OE$503,340+8,FALSE)=\"\",IF(INDIRECT(ADDRESS(ROW()-1,COLUMN()))=\"\",\"\",\"欠\"),VLOOKUP($I$2,テストデータ!$A$4:$OE$503,340+8,FALSE))","v":"欠"},{"$f":"IF(VLOOKUP($I$2,テストデータ!$A$4:$OE$503,340+10,FALSE)=\"\",IF(INDIRECT(ADDRESS(ROW()-1,COLUMN()))=\"\",\"\",\"欠\"),VLOOKUP($I$2,テストデータ!$A$4:$OE$503,340+10,FALSE))","v":27},{"$f":"IF(VLOOKUP($I$2,テストデータ!$A$4:$OE$503,340+12,FALSE)=\"\",IF(INDIRECT(ADDRESS(ROW()-1,COLUMN()))=\"\",\"\",\"欠\"),VLOOKUP($I$2,テストデータ!$A$4:$OE$503,340+12,FALSE))","v":55},{"$f":"IF(VLOOKUP($I$2,テストデータ!$A$4:$OE$503,340+14,FALSE)=\"\",IF(INDIRECT(ADDRESS(ROW()-1,COLUMN()))=\"\",\"\",\"欠\"),VLOOKUP($I$2,テストデータ!$A$4:$OE$503,340+14,FALSE))","v":""},{"$f":"IF(VLOOKUP($I$2,テストデータ!$A$4:$OE$503,340+16,FALSE)=\"\",IF(INDIRECT(ADDRESS(ROW()-1,COLUMN()))=\"\",\"\",\"欠\"),VLOOKUP($I$2,テストデータ!$A$4:$OE$503,340+16,FALSE))","v":""},{"$f":"IF(VLOOKUP($I$2,テストデータ!$A$4:$OE$503,340+18,FALSE)=\"\",IF(INDIRECT(ADDRESS(ROW()-1,COLUMN()))=\"\",\"\",\"欠\"),VLOOKUP($I$2,テストデータ!$A$4:$OE$503,340+18,FALSE))","v":""},{"$f":"IF(VLOOKUP($I$2,テストデータ!$A$4:$OE$503,340+20,FALSE)=\"\",IF(INDIRECT(ADDRESS(ROW()-1,COLUMN()))=\"\",\"\",\"欠\"),VLOOKUP($I$2,テストデータ!$A$4:$OE$503,340+20,FALSE))","v":""},{"$f":"IF(VLOOKUP($I$2,テストデータ!$A$4:$OE$503,340+22,FALSE)=\"\",IF(INDIRECT(ADDRESS(ROW()-1,COLUMN()))=\"\",\"\",\"欠\"),VLOOKUP($I$2,テストデータ!$A$4:$OE$503,340+22,FALSE))","v":""},{"$f":"IF(VLOOKUP($I$2,テストデータ!$A$4:$OE$503,340+24,FALSE)=\"\",IF(INDIRECT(ADDRESS(ROW()-1,COLUMN()))=\"\",\"\",\"欠\"),VLOOKUP($I$2,テストデータ!$A$4:$OE$503,340+24,FALSE))","v":""},{"$f":"IF(VLOOKUP($I$2,テストデータ!$A$4:$OE$503,340+26,FALSE)=\"\",IF(INDIRECT(ADDRESS(ROW()-1,COLUMN()))=\"\",\"\",\"欠\"),VLOOKUP($I$2,テストデータ!$A$4:$OE$503,340+26,FALSE))","v":""}]
[null,null,"偏差値",{"$f":"IF(VLOOKUP($I$2,テストデータ!$A$4:$OE$503,340+1,FALSE)=\"\",NA(),VLOOKUP($I$2,テストデータ!$A$4:$OE$503,340+1,FALSE))","v":54},{"$f":"IF(VLOOKUP($I$2,テストデータ!$A$4:$OE$503,340+3,FALSE)=\"\",NA(),VLOOKUP($I$2,テストデータ!$A$4:$OE$503,340+3,FALSE))","v":59},{"$f":"IF(VLOOKUP($I$2,テストデータ!$A$4:$OE$503,340+5,FALSE)=\"\",NA(),VLOOKUP($I$2,テストデータ!$A$4:$OE$503,340+5,FALSE))","v":21},{"$f":"IF(VLOOKUP($I$2,テストデータ!$A$4:$OE$503,340+7,FALSE)=\"\",NA(),VLOOKUP($I$2,テストデータ!$A$4:$OE$503,340+7,FALSE))","v":39},{"$f":"IF(VLOOKUP($I$2,テストデータ!$A$4:$OE$503,340+9,FALSE)=\"\",NA(),VLOOKUP($I$2,テストデータ!$A$4:$OE$503,340+9,FALSE))","v":{"$error":"#N/A"}},{"$f":"IF(VLOOKUP($I$2,テストデータ!$A$4:$OE$503,340+11,FALSE)=\"\",NA(),VLOOKUP($I$2,テストデータ!$A$4:$OE$503,340+11,FALSE))","v":28},{"$f":"IF(VLOOKUP($I$2,テストデータ!$A$4:$OE$503,340+13,FALSE)=\"\",NA(),VLOOKUP($I$2,テストデータ!$A$4:$OE$503,340+13,FALSE))","v":54},{"$f":"IF(VLOOKUP($I$2,テストデータ!$A$4:$OE$503,340+15,FALSE)=\"\",NA(),VLOOKUP($I$2,テストデータ!$A$4:$OE$503,340+15,FALSE))","v":{"$error":"#N/A"}},{"$f":"IF(VLOOKUP($I$2,テストデータ!$A$4:$OE$503,340+17,FALSE)=\"\",NA(),VLOOKUP($I$2,テストデータ!$A$4:$OE$503,340+17,FALSE))","v":{"$error":"#N/A"}},{"$f":"IF(VLOOKUP($I$2,テストデータ!$A$4:$OE$503,340+19,FALSE)=\"\",NA(),VLOOKUP($I$2,テストデータ!$A$4:$OE$503,340+19,FALSE))","v":{"$error":"#N/A"}},{"$f":"IF(VLOOKUP($I$2,テストデータ!$A$4:$OE$503,340+21,FALSE)=\"\",NA(),VLOOKUP($I$2,テストデータ!$A$4:$OE$503,340+21,FALSE))","v":{"$error":"#N/A"}},{"$f":"IF(VLOOKUP($I$2,テストデータ!$A$4:$OE$503,340+23,FALSE)=\"\",NA(),VLOOKUP($I$2,テストデータ!$A$4:$OE$503,340+23,FALSE))","v":{"$error":"#N/A"}},{"$f":"IF(VLOOKUP($I$2,テストデータ!$A$4:$OE$503,340+25,FALSE)=\"\",NA(),VLOOKUP($I$2,テストデータ!$A$4:$OE$503,340+25,FALSE))","v":{"$error":"#N/A"}},{"$f":"IF(VLOOKUP($I$2,テストデータ!$A$4:$OE$503,340+27,FALSE)=\"\",NA(),VLOOKUP($I$2,テストデータ!$A$4:$OE$503,340+27,FALSE))","v":{"$error":"#N/A"}}]
[null,null,"校内順位",{"$f":"IF(INDIRECT(ADDRESS(ROW()-2,COLUMN()))=\"欠\",\"\",RANK(INDIRECT(ADDRESS(ROW()-2,COLUMN())),OFFSET(テストデータ!$MB$3,1,0):OFFSET(テストデータ!$MB$3,500,0)))","v":12},{"$f":"IF(INDIRECT(ADDRESS(ROW()-2,COLUMN()))=\"欠\",\"\",RANK(INDIRECT(ADDRESS(ROW()-2,COLUMN())),OFFSET(テストデータ!$MB$3,1,2):OFFSET(テストデータ!$MB$3,500,2)))","v":9},{"$f":"IF(INDIRECT(ADDRESS(ROW()-2,COLUMN()))=\"欠\",\"\",RANK(INDIRECT(ADDRESS(ROW()-2,COLUMN())),OFFSET(テストデータ!$MB$3,1,4):OFFSET(テストデータ!$MB$3,500,4)))","v":19},{"$f":"IF(INDIRECT(ADDRESS(ROW()-2,COLUMN()))=\"欠\",\"\",RANK(INDIRECT(ADDRESS(ROW()-2,COLUMN())),OFFSET(テストデータ!$MB$3,1,6):OFFSET(テストデータ!$MB$3,500,6)))","v":15},{"$f":"IF(INDIRECT(ADDRESS(ROW()-2,COLUMN()))=\"欠\",\"\",RANK(INDIRECT(ADDRESS(ROW()-2,COLUMN())),OFFSET(テストデータ!$MB$3,1,8):OFFSET(テストデータ!$MB$3,500,8)))","v":""},{"$f":"IF(INDIRECT(ADDRESS(ROW()-2,COLUMN()))=\"欠\",\"\",RANK(INDIRECT(ADDRESS(ROW()-2,COLUMN())),OFFSET(テストデータ!$MB$3,1,10):OFFSET(テストデータ!$MB$3,500,10)))","v":15},{"$f":"IF(INDIRECT(ADDRESS(ROW()-2,COLUMN()))=\"欠\",\"\",RANK(INDIRECT(ADDRESS(ROW()-2,COLUMN())),OFFSET(テストデータ!$MB$3,1,12):OFFSET(テストデータ!$MB$3,500,12)))","v":12},{"$f":"IF(INDIRECT(ADDRESS(ROW()-2,COLUMN()))=\"欠\",\"\",RANK(INDIRECT(ADDRESS(ROW()-2,COLUMN())),OFFSET(テストデータ!$MB$3,1,14):OFFSET(テストデータ!$MB$3,500,14)))","v":{"$error":"#VALUE!"}},{"$f":"IF(INDIRECT(ADDRESS(ROW()-2,COLUMN()))=\"欠\",\"\",RANK(INDIRECT(ADDRESS(ROW()-2,COLUMN())),OFFSET(テストデータ!$MB$3,1,16):OFFSET(テストデータ!$MB$3,500,16)))","v":{"$error":"#VALUE!"}},{"$f":"IF(INDIRECT(ADDRESS(ROW()-2,COLUMN()))=\"欠\",\"\",RANK(INDIRECT(ADDRESS(ROW()-2,COLUMN())),OFFSET(テストデータ!$MB$3,1,18):OFFSET(テストデータ!$MB$3,500,18)))","v":{"$error":"#VALUE!"}},{"$f":"IF(INDIRECT(ADDRESS(ROW()-2,COLUMN()))=\"欠\",\"\",RANK(INDIRECT(ADDRESS(ROW()-2,COLUMN())),OFFSET(テストデータ!$MB$3,1,20):OFFSET(テストデータ!$MB$3,500,20)))","v":{"$error":"#VALUE!"}},{"$f":"IF(INDIRECT(ADDRESS(ROW()-2,COLUMN()))=\"欠\",\"\",RANK(INDIRECT(ADDRESS(ROW()-2,COLUMN())),OFFSET(テストデータ!$MB$3,1,22):OFFSET(テストデータ!$MB$3,500,22)))","v":{"$error":"#VALUE!"}},{"$f":"IF(INDIRECT(ADDRESS(ROW()-2,COLUMN()))=\"欠\",\"\",RANK(INDIRECT(ADDRESS(ROW()-2,COLUMN())),OFFSET(テストデータ!$MB$3,1,24):OFFSET(テストデータ!$MB$3,500,24)))","v":{"$error":"#VALUE!"}},{"$f":"IF(INDIRECT(ADDRESS(ROW()-2,COLUMN()))=\"欠\",\"\",RANK(INDIRECT(ADDRESS(ROW()-2,COLUMN())),OFFSET(テストデータ!$MB$3,1,26):OFFSET(テストデータ!$MB$3,500,26)))","v":{"$error":"#VALUE!"}}]
[null,"第8回",{"$f":"IF(テストデータ!$ND$2=\"\",\"\",テストデータ!$ND$2)","v":"9/4"},{"$f":"IF(初期設定!$C$23=\"\",\"\",初期設定!$C$23)","v":"国総"},{"$f":"IF(初期設定!$C$24=\"\",\"\",初期設定!$C$24)","v":"英表"},{"$f":"IF(初期設定!$C$25=\"\",\"\",初期設定!$C$25)","v":"コ英"},{"$f":"IF(初期設定!$C$26=\"\",\"\",初期設定!$C$26)","v":"数Ⅰ"},{"$f":"IF(初期設定!$C$27=\"\",\"\",初期設定!$C$27)","v":"数A"},{"$f":"IF(初期設定!$C$28=\"\",\"\",初期設定!$C$28)","v":"世B"},{"$f":"IF(初期設定!$C$29=\"\",\"\",初期設定!$C$29)","v":"化基"},{"$f":"IF(初期設定!$C$30=\"\",\"\",初期設定!$C$30)","v":""},{"$f":"IF(初期設定!$C$31=\"\",\"\",初期設定!$C$31)","v":""},{"$f":"IF(初期設定!$C$32=\"\",\"\",初期設定!$C$32)","v":""},{"$f":"IF(初期設定!$C$33=\"\",\"\",初期設定!$C$33)","v":""},{"$f":"IF(初期設定!$C$34=\"\",\"\",初期設定!$C$34)","v":""},{"$f":"IF(初期設定!$C$35=\"\",\"\",初期設定!$C$35)","v":""},{"$f":"IF(初期設定!$C$36=\"\",\"\",初期設定!$C$36)","v":""}]
[null,null,"得点",{"$f":"IF(VLOOKUP($I$2,テストデータ!$A$4:$OE$503,368+0,FALSE)=\"\",IF(INDIRECT(ADDRESS(ROW()-1,COLUMN()))=\"\",\"\",\"欠\"),VLOOKUP($I$2,テストデータ!$A$4:$OE$503,368+0,FALSE))","v":55},{"$f":"IF(VLOOKUP($I$2,テストデータ!$A$4:$OE$503,368+2,FALSE)=\"\",IF(INDIRECT(ADDRESS(ROW()-1,COLUMN()))=\"\",\"\",\"欠\"),VLOOKUP($I$2,テストデータ!$A$4:$OE$503,368+2,FALSE))","v":72},{"$f":"IF(VLOOKUP($I$2,テストデータ!$A$4:$OE$503,368+4,FALSE)=\"\",IF(INDIRECT(ADDRESS(ROW()-1,COLUMN()))=\"\",\"\",\"欠\"),VLOOKUP($I$2,テストデータ!$A$4:$OE$503,368+4,FALSE))","v":11},{"$f":"IF(VLOOKUP($I$2,テストデータ!$A$4:$OE$503,368+6,FALSE)=\"\",IF(INDIRECT(ADDRESS(ROW()-1,COLUMN()))=\"\",\"\",\"欠\"),VLOOKUP($I$2,テストデータ!$A$4:$OE$503,368+6,FALSE))","v":26},{"$f":"IF(VLOOKUP($I$2,テストデータ!$A$4:$OE$503,368+8,FALSE)=\"\",IF(INDIRECT(ADDRESS(ROW()-1,COLUMN()))=\"\",\"\",\"欠\"),VLOOKUP($I$2,テストデータ!$A$4:$OE$503,368+8,FALSE))","v":"欠"},{"$f":"IF(VLOOKUP($I$2,テストデータ!$A$4:$OE$503,368+10,FALSE)=\"\",IF(INDIRECT(ADDRESS(ROW()-1,COLUMN()))=\"\",\"\",\"欠\"),VLOOKUP($I$2,テストデータ!$A$4:$OE$503,368+10,FALSE))","v":27},{"$f":"IF(VLOOKUP($I$2,テストデータ!$A$4:$OE$503,368+12,FALSE)=\"\",IF(INDIRECT(ADDRESS(ROW()-1,COLUMN()))=\"\",\"\",\"欠\"),VLOOKUP($I$2,テストデータ!$A$4:$OE$503,368+12,FALSE))","v":55},{"$f":"IF(VLOOKUP($I$2,テストデータ!$A$4:$OE$503,368+14,FALSE)=\"\",IF(INDIRECT(ADDRESS(ROW()-1,COLUMN()))=\"\",\"\",\"欠\"),VLOOKUP($I$2,テストデータ!$A$4:$OE$503,368+14,FALSE))","v":""},{"$f":"IF(VLOOKUP($I$2,テストデータ!$A$4:$OE$503,368+16,FALSE)=\"\",IF(INDIRECT(ADDRESS(ROW()-1,COLUMN()))=\"\",\"\",\"欠\"),VLOOKUP($I$2,テストデータ!$A$4:$OE$503,368+16,FALSE))","v":""},{"$f":"IF(VLOOKUP($I$2,テストデータ!$A$4:$OE$503,368+18,FALSE)=\"\",IF(INDIRECT(ADDRESS(ROW()-1,COLUMN()))=\"\",\"\",\"欠\"),VLOOKUP($I$2,テストデータ!$A$4:$OE$503,368+18,FALSE))","v":""},{"$f":"IF(VLOOKUP($I$2,テストデータ!$A$4:$OE$503,368+20,FALSE)=\"\",IF(INDIRECT(ADDRESS(ROW()-1,COLUMN()))=\"\",\"\",\"欠\"),VLOOKUP($I$2,テストデータ!$A$4:$OE$503,368+20,FALSE))","v":""},{"$f":"IF(VLOOKUP($I$2,テストデータ!$A$4:$OE$503,368+22,FALSE)=\"\",IF(INDIRECT(ADDRESS(ROW()-1,COLUMN()))=\"\",\"\",\"欠\"),VLOOKUP($I$2,テストデータ!$A$4:$OE$503,368+22,FALSE))","v":""},{"$f":"IF(VLOOKUP($I$2,テストデータ!$A$4:$OE$503,368+24,FALSE)=\"\",IF(INDIRECT(ADDRESS(ROW()-1,COLUMN()))=\"\",\"\",\"欠\"),VLOOKUP($I$2,テストデータ!$A$4:$OE$503,368+24,FALSE))","v":""},{"$f":"IF(VLOOKUP($I$2,テストデータ!$A$4:$OE$503,368+26,FALSE)=\"\",IF(INDIRECT(ADDRESS(ROW()-1,COLUMN()))=\"\",\"\",\"欠\"),VLOOKUP($I$2,テストデータ!$A$4:$OE$503,368+26,FALSE))","v":""}]
[null,null,"偏差値",{"$f":"IF(VLOOKUP($I$2,テストデータ!$A$4:$OE$503,368+1,FALSE)=\"\",NA(),VLOOKUP($I$2,テストデータ!$A$4:$OE$503,368+1,FALSE))","v":54},{"$f":"IF(VLOOKUP($I$2,テストデータ!$A$4:$OE$503,368+3,FALSE)=\"\",NA(),VLOOKUP($I$2,テストデータ!$A$4:$OE$503,368+3,FALSE))","v":59},{"$f":"IF(VLOOKUP($I$2,テストデータ!$A$4:$OE$503,368+5,FALSE)=\"\",NA(),VLOOKUP($I$2,テストデータ!$A$4:$OE$503,368+5,FALSE))","v":21},{"$f":"IF(VLOOKUP($I$2,テストデータ!$A$4:$OE$503,368+7,FALSE)=\"\",NA(),VLOOKUP($I$2,テストデータ!$A$4:$OE$503,368+7,FALSE))","v":39},{"$f":"IF(VLOOKUP($I$2,テストデータ!$A$4:$OE$503,368+9,FALSE)=\"\",NA(),VLOOKUP($I$2,テストデータ!$A$4:$OE$503,368+9,FALSE))","v":{"$error":"#N/A"}},{"$f":"IF(VLOOKUP($I$2,テストデータ!$A$4:$OE$503,368+11,FALSE)=\"\",NA(),VLOOKUP($I$2,テストデータ!$A$4:$OE$503,368+11,FALSE))","v":28},{"$f":"IF(VLOOKUP($I$2,テストデータ!$A$4:$OE$503,368+13,FALSE)=\"\",NA(),VLOOKUP($I$2,テストデータ!$A$4:$OE$503,368+13,FALSE))","v":54},{"$f":"IF(VLOOKUP($I$2,テストデータ!$A$4:$OE$503,368+15,FALSE)=\"\",NA(),VLOOKUP($I$2,テストデータ!$A$4:$OE$503,368+15,FALSE))","v":{"$error":"#N/A"}},{"$f":"IF(VLOOKUP($I$2,テストデータ!$A$4:$OE$503,368+17,FALSE)=\"\",NA(),VLOOKUP($I$2,テストデータ!$A$4:$OE$503,368+17,FALSE))","v":{"$error":"#N/A"}},{"$f":"IF(VLOOKUP($I$2,テストデータ!$A$4:$OE$503,368+19,FALSE)=\"\",NA(),VLOOKUP($I$2,テストデータ!$A$4:$OE$503,368+19,FALSE))","v":{"$error":"#N/A"}},{"$f":"IF(VLOOKUP($I$2,テストデータ!$A$4:$OE$503,368+21,FALSE)=\"\",NA(),VLOOKUP($I$2,テストデータ!$A$4:$OE$503,368+21,FALSE))","v":{"$error":"#N/A"}},{"$f":"IF(VLOOKUP($I$2,テストデータ!$A$4:$OE$503,368+23,FALSE)=\"\",NA(),VLOOKUP($I$2,テストデータ!$A$4:$OE$503,368+23,FALSE))","v":{"$error":"#N/A"}},{"$f":"IF(VLOOKUP($I$2,テストデータ!$A$4:$OE$503,368+25,FALSE)=\"\",NA(),VLOOKUP($I$2,テストデータ!$A$4:$OE$503,368+25,FALSE))","v":{"$error":"#N/A"}},{"$f":"IF(VLOOKUP($I$2,テストデータ!$A$4:$OE$503,368+27,FALSE)=\"\",NA(),VLOOKUP($I$2,テストデータ!$A$4:$OE$503,368+27,FALSE))","v":{"$error":"#N/A"}}]
[null,null,"校内順位",{"$f":"IF(INDIRECT(ADDRESS(ROW()-2,COLUMN()))=\"欠\",\"\",RANK(INDIRECT(ADDRESS(ROW()-2,COLUMN())),OFFSET(テストデータ!$ND$3,1,0):OFFSET(テストデータ!$ND$3,500,0)))","v":12},{"$f":"IF(INDIRECT(ADDRESS(ROW()-2,COLUMN()))=\"欠\",\"\",RANK(INDIRECT(ADDRESS(ROW()-2,COLUMN())),OFFSET(テストデータ!$ND$3,1,2):OFFSET(テストデータ!$ND$3,500,2)))","v":9},{"$f":"IF(INDIRECT(ADDRESS(ROW()-2,COLUMN()))=\"欠\",\"\",RANK(INDIRECT(ADDRESS(ROW()-2,COLUMN())),OFFSET(テストデータ!$ND$3,1,4):OFFSET(テストデータ!$ND$3,500,4)))","v":19},{"$f":"IF(INDIRECT(ADDRESS(ROW()-2,COLUMN()))=\"欠\",\"\",RANK(INDIRECT(ADDRESS(ROW()-2,COLUMN())),OFFSET(テストデータ!$ND$3,1,6):OFFSET(テストデータ!$ND$3,500,6)))","v":15},{"$f":"IF(INDIRECT(ADDRESS(ROW()-2,COLUMN()))=\"欠\",\"\",RANK(INDIRECT(ADDRESS(ROW()-2,COLUMN())),OFFSET(テストデータ!$ND$3,1,8):OFFSET(テストデータ!$ND$3,500,8)))","v":""},{"$f":"IF(INDIRECT(ADDRESS(ROW()-2,COLUMN()))=\"欠\",\"\",RANK(INDIRECT(ADDRESS(ROW()-2,COLUMN())),OFFSET(テストデータ!$ND$3,1,10):OFFSET(テストデータ!$ND$3,500,10)))","v":15},{"$f":"IF(INDIRECT(ADDRESS(ROW()-2,COLUMN()))=\"欠\",\"\",RANK(INDIRECT(ADDRESS(ROW()-2,COLUMN())),OFFSET(テストデータ!$ND$3,1,12):OFFSET(テストデータ!$ND$3,500,12)))","v":12},{"$f":"IF(INDIRECT(ADDRESS(ROW()-2,COLUMN()))=\"欠\",\"\",RANK(INDIRECT(ADDRESS(ROW()-2,COLUMN())),OFFSET(テストデータ!$ND$3,1,14):OFFSET(テストデータ!$ND$3,500,14)))","v":{"$error":"#VALUE!"}},{"$f":"IF(INDIRECT(ADDRESS(ROW()-2,COLUMN()))=\"欠\",\"\",RANK(INDIRECT(ADDRESS(ROW()-2,COLUMN())),OFFSET(テストデータ!$ND$3,1,16):OFFSET(テストデータ!$ND$3,500,16)))","v":{"$error":"#VALUE!"}},{"$f":"IF(INDIRECT(ADDRESS(ROW()-2,COLUMN()))=\"欠\",\"\",RANK(INDIRECT(ADDRESS(ROW()-2,COLUMN())),OFFSET(テストデータ!$ND$3,1,18):OFFSET(テストデータ!$ND$3,500,18)))","v":{"$error":"#VALUE!"}},{"$f":"IF(INDIRECT(ADDRESS(ROW()-2,COLUMN()))=\"欠\",\"\",RANK(INDIRECT(ADDRESS(ROW()-2,COLUMN())),OFFSET(テストデータ!$ND$3,1,20):OFFSET(テストデータ!$ND$3,500,20)))","v":{"$error":"#VALUE!"}},{"$f":"IF(INDIRECT(ADDRESS(ROW()-2,COLUMN()))=\"欠\",\"\",RANK(INDIRECT(ADDRESS(ROW()-2,COLUMN())),OFFSET(テストデータ!$ND$3,1,22):OFFSET(テストデータ!$ND$3,500,22)))","v":{"$error":"#VALUE!"}},{"$f":"IF(INDIRECT(ADDRESS(ROW()-2,COLUMN()))=\"欠\",\"\",RANK(INDIRECT(ADDRESS(ROW()-2,COLUMN())),OFFSET(テストデータ!$ND$3,1,24):OFFSET(テストデータ!$ND$3,500,24)))","v":{"$error":"#VALUE!"}},{"$f":"IF(INDIRECT(ADDRESS(ROW()-2,COLUMN()))=\"欠\",\"\",RANK(INDIRECT(ADDRESS(ROW()-2,COLUMN())),OFFSET(テストデータ!$ND$3,1,26):OFFSET(テストデータ!$ND$3,500,26)))","v":{"$error":"#VALUE!"}}]
[]
[]
[null,{"$f":"IF(初期設定!$C37=\"\",\"\",初期設定!$C37)","v":"定期テスト"},null,null,null,null,{"$f":"\"ID:\"&I2","v":"ID:7"},null,{"$f":"IF(J2=\"\",\"\",J2)","v":"3-B"},"氏名",{"$f":"IF(L2=\"\",\"\",L2)","v":"鈴木G男"},null,null,null,null,null,null,null,{"$f":"初期設定!$B65","v":"微風予備校"}]
[null,null,null,null,null,null,null,null,null,null,null,null,null,null,null,{"$f":"IF(初期設定!$C$1=\"\",\"\",初期設定!$C$1)","v":"20xx年度"}]
[null,{"$f":"IF(テストデータ!$OF$2=\"\",\"\",テストデータ!$OF$2)","v":"2/3"},null,{"$f":"IF(初期設定!$C$38=\"\",\"\",初期設定!$C$38)","v":"国総"},{"$f":"IF(初期設定!$C$39=\"\",\"\",初期設定!$C$39)","v":"英表"},{"$f":"IF(初期設定!$C$40=\"\",\"\",初期設定!$C$40)","v":"コ英"},{"$f":"IF(初期設定!$C$41=\"\",\"\",初期設定!$C$41)","v":"数Ⅰ"},{"$f":"IF(初期設定!$C$42=\"\",\"\",初期設定!$C$42)","v":"数A"},{"$f":"IF(初期設定!$C$43=\"\",\"\",初期設定!$C$43)","v":"世B"},{"$f":"IF(初期設定!$C$44=\"\",\"\",初期設定!$C$44)","v":"化基"},{"$f":"IF(初期設定!$C$45=\"\",\"\",初期設定!$C$45)","v":"情報"},{"$f":"IF(初期設定!$C$46=\"\",\"\",初期設定!$C$46)","v":"芸術"},{"$f":"IF(初期設定!$C$47=\"\",\"\",初期設定!$C$47)","v":"体育"},{"$f":"IF(初期設定!$C$48=\"\",\"\",初期設定!$C$48)","v":"保健"},{"$f":"IF(初期設定!$C$49=\"\",\"\",初期設定!$C$49)","v":""},{"$f":"IF(初期設定!$C$50=\"\",\"\",初期設定!$C$50)","v":""},{"$f":"IF(初期設定!$C$51=\"\",\"\",初期設定!$C$51)","v":""}]
[null,"第1回","得点"]
[null,null,"平均点"]
[null,null,"校内順位"]
[null,{"$f":"IF(テストデータ!$OT$2=\"\",\"\",テストデータ!$OT$2)","v":"3/8"},null,{"$f":"IF(初期設定!$C$38=\"\",\"\",初期設定!$C$38)","v":"国総"},{"$f":"IF(初期設定!$C$39=\"\",\"\",初期設定!$C$39)","v":"英表"},{"$f":"IF(初期設定!$C$40=\"\",\"\",初期設定!$C$40)","v":"コ英"},{"$f":"IF(初期設定!$C$41=\"\",\"\",初期設定!$C$41)","v":"数Ⅰ"},{"$f":"IF(初期設定!$C$42=\"\",\"\",初期設定!$C$42)","v":"数A"},{"$f":"IF(初期設定!$C$43=\"\",\"\",初期設定!$C$43)","v":"世B"},{"$f":"IF(初期設定!$C$44=\"\",\"\",初期設定!$C$44)","v":"化基"},{"$f":"IF(初期設定!$C$45=\"\",\"\",初期設定!$C$45)","v":"情報"},{"$f":"IF(初期設定!$C$46=\"\",\"\",初期設定!$C$46)","v":"芸術"},{"$f":"IF(初期設定!$C$47=\"\",\"\",初期設定!$C$47)","v":"体育"},{"$f":"IF(初期設定!$C$48=\"\",\"\",初期設定!$C$48)","v":"保健"},{"$f":"IF(初期設定!$C$49=\"\",\"\",初期設定!$C$49)","v":""},{"$f":"IF(初期設定!$C$50=\"\",\"\",初期設定!$C$50)","v":""},{"$f":"IF(初期設定!$C$51=\"\",\"\",初期設定!$C$51)","v":""}]
[null,"第2回","得点",{"$f":"IF(VLOOKUP($I$2,テストデータ!$A$4:$SM$503,410+0,FALSE)=\"\",IF(INDIRECT(ADDRESS(ROW()-1,COLUMN()))=\"\",\"\",\"欠\"),VLOOKUP($I$2,テストデータ!$A$4:$SM$503,410+0,FALSE))","v":69},{"$f":"IF(VLOOKUP($I$2,テストデータ!$A$4:$SM$503,410+1,FALSE)=\"\",IF(INDIRECT(ADDRESS(ROW()-1,COLUMN()))=\"\",\"\",\"欠\"),VLOOKUP($I$2,テストデータ!$A$4:$SM$503,410+1,FALSE))","v":80},{"$f":"IF(VLOOKUP($I$2,テストデータ!$A$4:$SM$503,410+2,FALSE)=\"\",IF(INDIRECT(ADDRESS(ROW()-1,COLUMN()))=\"\",\"\",\"欠\"),VLOOKUP($I$2,テストデータ!$A$4:$SM$503,410+2,FALSE))","v":51},{"$f":"IF(VLOOKUP($I$2,テストデータ!$A$4:$SM$503,410+3,FALSE)=\"\",IF(INDIRECT(ADDRESS(ROW()-1,COLUMN()))=\"\",\"\",\"欠\"),VLOOKUP($I$2,テストデータ!$A$4:$SM$503,410+3,FALSE))","v":35},{"$f":"IF(VLOOKUP($I$2,テストデータ!$A$4:$SM$503,410+4,FALSE)=\"\",IF(INDIRECT(ADDRESS(ROW()-1,COLUMN()))=\"\",\"\",\"欠\"),VLOOKUP($I$2,テストデータ!$A$4:$SM$503,410+4,FALSE))","v":55},{"$f":"IF(VLOOKUP($I$2,テストデータ!$A$4:$SM$503,410+5,FALSE)=\"\",IF(INDIRECT(ADDRESS(ROW()-1,COLUMN()))=\"\",\"\",\"欠\"),VLOOKUP($I$2,テストデータ!$A$4:$SM$503,410+5,FALSE))","v":11},{"$f":"IF(VLOOKUP($I$2,テストデータ!$A$4:$SM$503,410+6,FALSE)=\"\",IF(INDIRECT(ADDRESS(ROW()-1,COLUMN()))=\"\",\"\",\"欠\"),VLOOKUP($I$2,テストデータ!$A$4:$SM$503,410+6,FALSE))","v":54},{"$f":"IF(VLOOKUP($I$2,テストデータ!$A$4:$SM$503,410+7,FALSE)=\"\",IF(INDIRECT(ADDRESS(ROW()-1,COLUMN()))=\"\",\"\",\"欠\"),VLOOKUP($I$2,テストデータ!$A$4:$SM$503,410+7,FALSE))","v":33},{"$f":"IF(VLOOKUP($I$2,テストデータ!$A$4:$SM$503,410+8,FALSE)=\"\",IF(INDIRECT(ADDRESS(ROW()-1,COLUMN()))=\"\",\"\",\"欠\"),VLOOKUP($I$2,テストデータ!$A$4:$SM$503,410+8,FALSE))","v":88},{"$f":"IF(VLOOKUP($I$2,テストデータ!$A$4:$SM$503,410+9,FALSE)=\"\",IF(INDIRECT(ADDRESS(ROW()-1,COLUMN()))=\"\",\"\",\"欠\"),VLOOKUP($I$2,テストデータ!$A$4:$SM$503,410+9,FALSE))","v":32},{"$f":"IF(VLOOKUP($I$2,テストデータ!$A$4:$SM$503,410+10,FALSE)=\"\",IF(INDIRECT(ADDRESS(ROW()-1,COLUMN()))=\"\",\"\",\"欠\"),VLOOKUP($I$2,テストデータ!$A$4:$SM$503,410+10,FALSE))","v":55},{"$f":"IF(VLOOKUP($I$2,テストデータ!$A$4:$SM$503,410+11,FALSE)=\"\",IF(INDIRECT(ADDRESS(ROW()-1,COLUMN()))=\"\",\"\",\"欠\"),VLOOKUP($I$2,テストデータ!$A$4:$SM$503,410+11,FALSE))","v":""},{"$f":"IF(VLOOKUP($I$2,テストデータ!$A$4:$SM$503,410+12,FALSE)=\"\",IF(INDIRECT(ADDRESS(ROW()-1,COLUMN()))=\"\",\"\",\"欠\"),VLOOKUP($I$2,テストデータ!$A$4:$SM$503,410+12,FALSE))","v":""},{"$f":"IF(VLOOKUP($I$2,テストデータ!$A$4:$SM$503,410+13,FALSE)=\"\",IF(INDIRECT(ADDRESS(ROW()-1,COLUMN()))=\"\",\"\",\"欠\"),VLOOKUP($I$2,テストデータ!$A$4:$SM$503,410+13,FALSE))","v":""}]
[null,null,"平均点",{"$f":"IF(COUNT(テストデータ!OT$4:OT$503)=0,NA(),AVERAGE(テストデータ!OT$4:OT$503))","v":55.722222222222221},{"$f":"IF(COUNT(テストデータ!OU$4:OU$503)=0,NA(),AVERAGE(テストデータ!OU$4:OU$503))","v":48.35},{"$f":"IF(COUNT(テストデータ!OV$4:OV$503)=0,NA(),AVERAGE(テストデータ!OV$4:OV$503))","v":47},{"$f":"IF(COUNT(テストデータ!OW$4:OW$503)=0,NA(),AVERAGE(テストデータ!OW$4:OW$503))","v":46.7},{"$f":"IF(COUNT(テストデータ!OX$4:OX$503)=0,NA(),AVERAGE(テストデータ!OX$4:OX$503))","v":52.55},{"$f":"IF(COUNT(テストデータ!OY$4:OY$503)=0,NA(),AVERAGE(テストデータ!OY$4:OY$503))","v":52},{"$f":"IF(COUNT(テストデータ!OZ$4:OZ$503)=0,NA(),AVERAGE(テストデータ!OZ$4:OZ$503))","v":56.25},{"$f":"IF(COUNT(テストデータ!PA$4:PA$503)=0,NA(),AVERAGE(テストデータ!PA$4:PA$503))","v":61.736842105263158},{"$f":"IF(COUNT(テストデータ!PB$4:PB$503)=0,NA(),AVERAGE(テストデータ!PB$4:PB$503))","v":60.2},{"$f":"IF(COUNT(テストデータ!PC$4:PC$503)=0,NA(),AVERAGE(テストデータ!PC$4:PC$503))","v":53.842105263157897},{"$f":"IF(COUNT(テストデータ!PD$4:PD$503)=0,NA(),AVERAGE(テストデータ!PD$4:PD$503))","v":52.55},{"$f":"IF(COUNT(テストデータ!PE$4:PE$503)=0,NA(),AVERAGE(テストデータ!PE$4:PE$503))","v":{"$error":"#N/A"}},{"$f":"IF(COUNT(テストデータ!PF$4:PF$503)=0,NA(),AVERAGE(テストデータ!PF$4:PF$503))","v":{"$error":"#N/A"}},{"$f":"IF(COUNT(テストデータ!PG$4:PG$503)=0,NA(),AVERAGE(テストデータ!PG$4:PG$503))","v":{"$error":"#N/A"}}]
[null,null,"校内順位",{"$f":"IF(OR(INDIRECT(ADDRESS(ROW()-2,COLUMN()))=\"欠\",INDIRECT(ADDRESS(ROW()-2,COLUMN()))=\"\"),\"\",RANK(INDIRECT(ADDRESS(ROW()-2,COLUMN())),OFFSET(テストデータ!$OT$3,1,0):OFFSET(テストデータ!$OT$3,500,0)))","v":6},{"$f":"IF(OR(INDIRECT(ADDRESS(ROW()-2,COLUMN()))=\"欠\",INDIRECT(ADDRESS(ROW()-2,COLUMN()))=\"\"),\"\",RANK(INDIRECT(ADDRESS(ROW()-2,COLUMN())),OFFSET(テストデータ!$OT$3,1,1):OFFSET(テストデータ!$OT$3,500,1)))","v":5},{"$f":"IF(OR(INDIRECT(ADDRESS(ROW()-2,COLUMN()))=\"欠\",INDIRECT(ADDRESS(ROW()-2,COLUMN()))=\"\"),\"\",RANK(INDIRECT(ADDRESS(ROW()-2,COLUMN())),OFFSET(テストデータ!$OT$3,1,2):OFFSET(テストデータ!$OT$3,500,2)))","v":9},{"$f":"IF(OR(INDIRECT(ADDRESS(ROW()-2,COLUMN()))=\"欠\",INDIRECT(ADDRESS(ROW()-2,COLUMN()))=\"\"),\"\",RANK(INDIRECT(ADDRESS(ROW()-2,COLUMN())),OFFSET(テストデータ!$OT$3,1,3):OFFSET(テストデータ!$OT$3,500,3)))","v":9},{"$f":"IF(OR(INDIRECT(ADDRESS(ROW()-2,COLUMN()))=\"欠\",INDIRECT(ADDRESS(ROW()-2,COLUMN()))=\"\"),\"\",RANK(INDIRECT(ADDRESS(ROW()-2,COLUMN())),OFFSET(テストデータ!$OT$3,1,4):OFFSET(テストデータ!$OT$3,500,4)))","v":10},{"$f":"IF(OR(INDIRECT(ADDRESS(ROW()-2,COLUMN()))=\"欠\",INDIRECT(ADDRESS(ROW()-2,COLUMN()))=\"\"),\"\",RANK(INDIRECT(ADDRESS(ROW()-2,COLUMN())),OFFSET(テストデータ!$OT$3,1,5):OFFSET(テストデータ!$OT$3,500,5)))","v":19},{"$f":"IF(OR(INDIRECT(ADDRESS(ROW()-2,COLUMN()))=\"欠\",INDIRECT(ADDRESS(ROW()-2,COLUMN()))=\"\"),\"\",RANK(INDIRECT(ADDRESS(ROW()-2,COLUMN())),OFFSET(テストデータ!$OT$3,1,6):OFFSET(テストデータ!$OT$3,500,6)))","v":11},{"$f":"IF(OR(INDIRECT(ADDRESS(ROW()-2,COLUMN()))=\"欠\",INDIRECT(ADDRESS(ROW()-2,COLUMN()))=\"\"),\"\",RANK(INDIRECT(ADDRESS(ROW()-2,COLUMN())),OFFSET(テストデータ!$OT$3,1,7):OFFSET(テストデータ!$OT$3,500,7)))","v":16},{"$f":"IF(OR(INDIRECT(ADDRESS(ROW()-2,COLUMN()))=\"欠\",INDIRECT(ADDRESS(ROW()-2,COLUMN()))=\"\"),\"\",RANK(INDIRECT(ADDRESS(ROW()-2,COLUMN())),OFFSET(テストデータ!$OT$3,1,8):OFFSET(テストデータ!$OT$3,500,8)))","v":6},{"$f":"IF(OR(INDIRECT(ADDRESS(ROW()-2,COLUMN()))=\"欠\",INDIRECT(ADDRESS(ROW()-2,COLUMN()))=\"\"),\"\",RANK(INDIRECT(ADDRESS(ROW()-2,COLUMN())),OFFSET(テストデータ!$OT$3,1,9):OFFSET(テストデータ!$OT$3,500,9)))","v":15},{"$f":"IF(OR(INDIRECT(ADDRESS(ROW()-2,COLUMN()))=\"欠\",INDIRECT(ADDRESS(ROW()-2,COLUMN()))=\"\"),\"\",RANK(INDIRECT(ADDRESS(ROW()-2,COLUMN())),OFFSET(テストデータ!$OT$3,1,10):OFFSET(テストデータ!$OT$3,500,10)))","v":10},{"$f":"IF(OR(INDIRECT(ADDRESS(ROW()-2,COLUMN()))=\"欠\",INDIRECT(ADDRESS(ROW()-2,COLUMN()))=\"\"),\"\",RANK(INDIRECT(ADDRESS(ROW()-2,COLUMN())),OFFSET(テストデータ!$OT$3,1,11):OFFSET(テストデータ!$OT$3,500,11)))","v":""},{"$f":"IF(OR(INDIRECT(ADDRESS(ROW()-2,COLUMN()))=\"欠\",INDIRECT(ADDRESS(ROW()-2,COLUMN()))=\"\"),\"\",RANK(INDIRECT(ADDRESS(ROW()-2,COLUMN())),OFFSET(テストデータ!$OT$3,1,12):OFFSET(テストデータ!$OT$3,500,12)))","v":""},{"$f":"IF(OR(INDIRECT(ADDRESS(ROW()-2,COLUMN()))=\"欠\",INDIRECT(ADDRESS(ROW()-2,COLUMN()))=\"\"),\"\",RANK(INDIRECT(ADDRESS(ROW()-2,COLUMN())),OFFSET(テストデータ!$OT$3,1,13):OFFSET(テストデータ!$OT$3,500,13)))","v":""}]
[null,{"$f":"IF(テストデータ!$PH$2=\"\",\"\",テストデータ!$PH$2)","v":"4/9"},null,{"$f":"IF(初期設定!$C$38=\"\",\"\",初期設定!$C$38)","v":"国総"},{"$f":"IF(初期設定!$C$39=\"\",\"\",初期設定!$C$39)","v":"英表"},{"$f":"IF(初期設定!$C$40=\"\",\"\",初期設定!$C$40)","v":"コ英"},{"$f":"IF(初期設定!$C$41=\"\",\"\",初期設定!$C$41)","v":"数Ⅰ"},{"$f":"IF(初期設定!$C$42=\"\",\"\",初期設定!$C$42)","v":"数A"},{"$f":"IF(初期設定!$C$43=\"\",\"\",初期設定!$C$43)","v":"世B"},{"$f":"IF(初期設定!$C$44=\"\",\"\",初期設定!$C$44)","v":"化基"},{"$f":"IF(初期設定!$C$45=\"\",\"\",初期設定!$C$45)","v":"情報"},{"$f":"IF(初期設定!$C$46=\"\",\"\",初期設定!$C$46)","v":"芸術"},{"$f":"IF(初期設定!$C$47=\"\",\"\",初期設定!$C$47)","v":"体育"},{"$f":"IF(初期設定!$C$48=\"\",\"\",初期設定!$C$48)","v":"保健"},{"$f":"IF(初期設定!$C$49=\"\",\"\",初期設定!$C$49)","v":""},{"$f":"IF(初期設定!$C$50=\"\",\"\",初期設定!$C$50)","v":""},{"$f":"IF(初期設定!$C$51=\"\",\"\",初期設定!$C$51)","v":""}]
[null,"第3回","得点",{"$f":"IF(VLOOKUP($I$2,テストデータ!$A$4:$SM$503,424+0,FALSE)=\"\",IF(INDIRECT(ADDRESS(ROW()-1,COLUMN()))=\"\",\"\",\"欠\"),VLOOKUP($I$2,テストデータ!$A$4:$SM$503,424+0,FALSE))","v":69},{"$f":"IF(VLOOKUP($I$2,テストデータ!$A$4:$SM$503,424+1,FALSE)=\"\",IF(INDIRECT(ADDRESS(ROW()-1,COLUMN()))=\"\",\"\",\"欠\"),VLOOKUP($I$2,テストデータ!$A$4:$SM$503,424+1,FALSE))","v":80},{"$f":"IF(VLOOKUP($I$2,テストデータ!$A$4:$SM$503,424+2,FALSE)=\"\",IF(INDIRECT(ADDRESS(ROW()-1,COLUMN()))=\"\",\"\",\"欠\"),VLOOKUP($I$2,テストデータ!$A$4:$SM$503,424+2,FALSE))","v":51},{"$f":"IF(VLOOKUP($I$2,テストデータ!$A$4:$SM$503,424+3,FALSE)=\"\",IF(INDIRECT(ADDRESS(ROW()-1,COLUMN()))=\"\",\"\",\"欠\"),VLOOKUP($I$2,テストデータ!$A$4:$SM$503,424+3,FALSE))","v":35},{"$f":"IF(VLOOKUP($I$2,テストデータ!$A$4:$SM$503,424+4,FALSE)=\"\",IF(INDIRECT(ADDRESS(ROW()-1,COLUMN()))=\"\",\"\",\"欠\"),VLOOKUP($I$2,テストデータ!$A$4:$SM$503,424+4,FALSE))","v":55},{"$f":"IF(VLOOKUP($I$2,テストデータ!$A$4:$SM$503,424+5,FALSE)=\"\",IF(INDIRECT(ADDRESS(ROW()-1,COLUMN()))=\"\",\"\",\"欠\"),VLOOKUP($I$2,テストデータ!$A$4:$SM$503,424+5,FALSE))","v":11},{"$f":"IF(VLOOKUP($I$2,テストデータ!$A$4:$SM$503,424+6,FALSE)=\"\",IF(INDIRECT(ADDRESS(ROW()-1,COLUMN()))=\"\",\"\",\"欠\"),VLOOKUP($I$2,テストデータ!$A$4:$SM$503,424+6,FALSE))","v":54},{"$f":"IF(VLOOKUP($I$2,テストデータ!$A$4:$SM$503,424+7,FALSE)=\"\",IF(INDIRECT(ADDRESS(ROW()-1,COLUMN()))=\"\",\"\",\"欠\"),VLOOKUP($I$2,テストデータ!$A$4:$SM$503,424+7,FALSE))","v":33},{"$f":"IF(VLOOKUP($I$2,テストデータ!$A$4:$SM$503,424+8,FALSE)=\"\",IF(INDIRECT(ADDRESS(ROW()-1,COLUMN()))=\"\",\"\",\"欠\"),VLOOKUP($I$2,テストデータ!$A$4:$SM$503,424+8,FALSE))","v":88},{"$f":"IF(VLOOKUP($I$2,テストデータ!$A$4:$SM$503,424+9,FALSE)=\"\",IF(INDIRECT(ADDRESS(ROW()-1,COLUMN()))=\"\",\"\",\"欠\"),VLOOKUP($I$2,テストデータ!$A$4:$SM$503,424+9,FALSE))","v":32},{"$f":"IF(VLOOKUP($I$2,テストデータ!$A$4:$SM$503,424+10,FALSE)=\"\",IF(INDIRECT(ADDRESS(ROW()-1,COLUMN()))=\"\",\"\",\"欠\"),VLOOKUP($I$2,テストデータ!$A$4:$SM$503,424+10,FALSE))","v":55},{"$f":"IF(VLOOKUP($I$2,テストデータ!$A$4:$SM$503,424+11,FALSE)=\"\",IF(INDIRECT(ADDRESS(ROW()-1,COLUMN()))=\"\",\"\",\"欠\"),VLOOKUP($I$2,テストデータ!$A$4:$SM$503,424+11,FALSE))","v":""},{"$f":"IF(VLOOKUP($I$2,テストデータ!$A$4:$SM$503,424+12,FALSE)=\"\",IF(INDIRECT(ADDRESS(ROW()-1,COLUMN()))=\"\",\"\",\"欠\"),VLOOKUP($I$2,テストデータ!$A$4:$SM$503,424+12,FALSE))","v":""},{"$f":"IF(VLOOKUP($I$2,テストデータ!$A$4:$SM$503,424+13,FALSE)=\"\",IF(INDIRECT(ADDRESS(ROW()-1,COLUMN()))=\"\",\"\",\"欠\"),VLOOKUP($I$2,テストデータ!$A$4:$SM$503,424+13,FALSE))","v":""}]
[null,null,"平均点",{"$f":"IF(COUNT(テストデータ!PH$4:PH$503)=0,NA(),AVERAGE(テストデータ!PH$4:PH$503))","v":55.722222222222221},{"$f":"IF(COUNT(テストデータ!PI$4:PI$503)=0,NA(),AVERAGE(テストデータ!PI$4:PI$503))","v":48.35},{"$f":"IF(COUNT(テストデータ!PJ$4:PJ$503)=0,NA(),AVERAGE(テストデータ!PJ$4:PJ$503))","v":47},{"$f":"IF(COUNT(テストデータ!PK$4:PK$503)=0,NA(),AVERAGE(テストデータ!PK$4:PK$503))","v":46.7},{"$f":"IF(COUNT(テストデータ!PL$4:PL$503)=0,NA(),AVERAGE(テストデータ!PL$4:PL$503))","v":52.55},{"$f":"IF(COUNT(テストデータ!PM$4:PM$503)=0,NA(),AVERAGE(テストデータ!PM$4:PM$503))","v":52},{"$f":"IF(COUNT(テストデータ!PN$4:PN$503)=0,NA(),AVERAGE(テストデータ!PN$4:PN$503))","v":56.25},{"$f":"IF(COUNT(テストデータ!PO$4:PO$503)=0,NA(),AVERAGE(テストデータ!PO$4:PO$503))","v":61.736842105263158},{"$f":"IF(COUNT(テストデータ!PP$4:PP$503)=0,NA(),AVERAGE(テストデータ!PP$4:PP$503))","v":60.2},{"$f":"IF(COUNT(テストデータ!PQ$4:PQ$503)=0,NA(),AVERAGE(テストデータ!PQ$4:PQ$503))","v":53.842105263157897},{"$f":"IF(COUNT(テストデータ!PR$4:PR$503)=0,NA(),AVERAGE(テストデータ!PR$4:PR$503))","v":52.45},{"$f":"IF(COUNT(テストデータ!PS$4:PS$503)=0,NA(),AVERAGE(テストデータ!PS$4:PS$503))","v":{"$error":"#N/A"}},{"$f":"IF(COUNT(テストデータ!PT$4:PT$503)=0,NA(),AVERAGE(テストデータ!PT$4:PT$503))","v":{"$error":"#N/A"}},{"$f":"IF(COUNT(テストデータ!PU$4:PU$503)=0,NA(),AVERAGE(テストデータ!PU$4:PU$503))","v":{"$error":"#N/A"}}]
[null,null,"校内順位",{"$f":"IF(OR(INDIRECT(ADDRESS(ROW()-2,COLUMN()))=\"欠\",INDIRECT(ADDRESS(ROW()-2,COLUMN()))=\"\"),\"\",RANK(INDIRECT(ADDRESS(ROW()-2,COLUMN())),OFFSET(テストデータ!$PH$3,1,0):OFFSET(テストデータ!$PH$3,500,0)))","v":6},{"$f":"IF(OR(INDIRECT(ADDRESS(ROW()-2,COLUMN()))=\"欠\",INDIRECT(ADDRESS(ROW()-2,COLUMN()))=\"\"),\"\",RANK(INDIRECT(ADDRESS(ROW()-2,COLUMN())),OFFSET(テストデータ!$PH$3,1,1):OFFSET(テストデータ!$PH$3,500,1)))","v":5},{"$f":"IF(OR(INDIRECT(ADDRESS(ROW()-2,COLUMN()))=\"欠\",INDIRECT(ADDRESS(ROW()-2,COLUMN()))=\"\"),\"\",RANK(INDIRECT(ADDRESS(ROW()-2,COLUMN())),OFFSET(テストデータ!$PH$3,1,2):OFFSET(テストデータ!$PH$3,500,2)))","v":9},{"$f":"IF(OR(INDIRECT(ADDRESS(ROW()-2,COLUMN()))=\"欠\",INDIRECT(ADDRESS(ROW()-2,COLUMN()))=\"\"),\"\",RANK(INDIRECT(ADDRESS(ROW()-2,COLUMN())),OFFSET(テストデータ!$PH$3,1,3):OFFSET(テストデータ!$PH$3,500,3)))","v":9},{"$f":"IF(OR(INDIRECT(ADDRESS(ROW()-2,COLUMN()))=\"欠\",INDIRECT(ADDRESS(ROW()-2,COLUMN()))=\"\"),\"\",RANK(INDIRECT(ADDRESS(ROW()-2,COLUMN())),OFFSET(テストデータ!$PH$3,1,4):OFFSET(テストデータ!$PH$3,500,4)))","v":10},{"$f":"IF(OR(INDIRECT(ADDRESS(ROW()-2,COLUMN()))=\"欠\",INDIRECT(ADDRESS(ROW()-2,COLUMN()))=\"\"),\"\",RANK(INDIRECT(ADDRESS(ROW()-2,COLUMN())),OFFSET(テストデータ!$PH$3,1,5):OFFSET(テストデータ!$PH$3,500,5)))","v":19},{"$f":"IF(OR(INDIRECT(ADDRESS(ROW()-2,COLUMN()))=\"欠\",INDIRECT(ADDRESS(ROW()-2,COLUMN()))=\"\"),\"\",RANK(INDIRECT(ADDRESS(ROW()-2,COLUMN())),OFFSET(テストデータ!$PH$3,1,6):OFFSET(テストデータ!$PH$3,500,6)))","v":11},{"$f":"IF(OR(INDIRECT(ADDRESS(ROW()-2,COLUMN()))=\"欠\",INDIRECT(ADDRESS(ROW()-2,COLUMN()))=\"\"),\"\",RANK(INDIRECT(ADDRESS(ROW()-2,COLUMN())),OFFSET(テストデータ!$PH$3,1,7):OFFSET(テストデータ!$PH$3,500,7)))","v":16},{"$f":"IF(OR(INDIRECT(ADDRESS(ROW()-2,COLUMN()))=\"欠\",INDIRECT(ADDRESS(ROW()-2,COLUMN()))=\"\"),\"\",RANK(INDIRECT(ADDRESS(ROW()-2,COLUMN())),OFFSET(テストデータ!$PH$3,1,8):OFFSET(テストデータ!$PH$3,500,8)))","v":6},{"$f":"IF(OR(INDIRECT(ADDRESS(ROW()-2,COLUMN()))=\"欠\",INDIRECT(ADDRESS(ROW()-2,COLUMN()))=\"\"),\"\",RANK(INDIRECT(ADDRESS(ROW()-2,COLUMN())),OFFSET(テストデータ!$PH$3,1,9):OFFSET(テストデータ!$PH$3,500,9)))","v":15},{"$f":"IF(OR(INDIRECT(ADDRESS(ROW()-2,COLUMN()))=\"欠\",INDIRECT(ADDRESS(ROW()-2,COLUMN()))=\"\"),\"\",RANK(INDIRECT(ADDRESS(ROW()-2,COLUMN())),OFFSET(テストデータ!$PH$3,1,10):OFFSET(テストデータ!$PH$3,500,10)))","v":10},{"$f":"IF(OR(INDIRECT(ADDRESS(ROW()-2,COLUMN()))=\"欠\",INDIRECT(ADDRESS(ROW()-2,COLUMN()))=\"\"),\"\",RANK(INDIRECT(ADDRESS(ROW()-2,COLUMN())),OFFSET(テストデータ!$PH$3,1,11):OFFSET(テストデータ!$PH$3,500,11)))","v":""},{"$f":"IF(OR(INDIRECT(ADDRESS(ROW()-2,COLUMN()))=\"欠\",INDIRECT(ADDRESS(ROW()-2,COLUMN()))=\"\"),\"\",RANK(INDIRECT(ADDRESS(ROW()-2,COLUMN())),OFFSET(テストデータ!$PH$3,1,12):OFFSET(テストデータ!$PH$3,500,12)))","v":""},{"$f":"IF(OR(INDIRECT(ADDRESS(ROW()-2,COLUMN()))=\"欠\",INDIRECT(ADDRESS(ROW()-2,COLUMN()))=\"\"),\"\",RANK(INDIRECT(ADDRESS(ROW()-2,COLUMN())),OFFSET(テストデータ!$PH$3,1,13):OFFSET(テストデータ!$PH$3,500,13)))","v":""}]
[null,{"$f":"IF(テストデータ!$PV$2=\"\",\"\",テストデータ!$PV$2)","v":"5/25"},null,{"$f":"IF(初期設定!$C$38=\"\",\"\",初期設定!$C$38)","v":"国総"},{"$f":"IF(初期設定!$C$39=\"\",\"\",初期設定!$C$39)","v":"英表"},{"$f":"IF(初期設定!$C$40=\"\",\"\",初期設定!$C$40)","v":"コ英"},{"$f":"IF(初期設定!$C$41=\"\",\"\",初期設定!$C$41)","v":"数Ⅰ"},{"$f":"IF(初期設定!$C$42=\"\",\"\",初期設定!$C$42)","v":"数A"},{"$f":"IF(初期設定!$C$43=\"\",\"\",初期設定!$C$43)","v":"世B"},{"$f":"IF(初期設定!$C$44=\"\",\"\",初期設定!$C$44)","v":"化基"},{"$f":"IF(初期設定!$C$45=\"\",\"\",初期設定!$C$45)","v":"情報"},{"$f":"IF(初期設定!$C$46=\"\",\"\",初期設定!$C$46)","v":"芸術"},{"$f":"IF(初期設定!$C$47=\"\",\"\",初期設定!$C$47)","v":"体育"},{"$f":"IF(初期設定!$C$48=\"\",\"\",初期設定!$C$48)","v":"保健"},{"$f":"IF(初期設定!$C$49=\"\",\"\",初期設定!$C$49)","v":""},{"$f":"IF(初期設定!$C$50=\"\",\"\",初期設定!$C$50)","v":""},{"$f":"IF(初期設定!$C$51=\"\",\"\",初期設定!$C$51)","v":""}]
[null,"第4回","得点",{"$f":"IF(VLOOKUP($I$2,テストデータ!$A$4:$SM$503,438+0,FALSE)=\"\",IF(INDIRECT(ADDRESS(ROW()-1,COLUMN()))=\"\",\"\",\"欠\"),VLOOKUP($I$2,テストデータ!$A$4:$SM$503,438+0,FALSE))","v":69},{"$f":"IF(VLOOKUP($I$2,テストデータ!$A$4:$SM$503,438+1,FALSE)=\"\",IF(INDIRECT(ADDRESS(ROW()-1,COLUMN()))=\"\",\"\",\"欠\"),VLOOKUP($I$2,テストデータ!$A$4:$SM$503,438+1,FALSE))","v":80},{"$f":"IF(VLOOKUP($I$2,テストデータ!$A$4:$SM$503,438+2,FALSE)=\"\",IF(INDIRECT(ADDRESS(ROW()-1,COLUMN()))=\"\",\"\",\"欠\"),VLOOKUP($I$2,テストデータ!$A$4:$SM$503,438+2,FALSE))","v":51},{"$f":"IF(VLOOKUP($I$2,テストデータ!$A$4:$SM$503,438+3,FALSE)=\"\",IF(INDIRECT(ADDRESS(ROW()-1,COLUMN()))=\"\",\"\",\"欠\"),VLOOKUP($I$2,テストデータ!$A$4:$SM$503,438+3,FALSE))","v":35},{"$f":"IF(VLOOKUP($I$2,テストデータ!$A$4:$SM$503,438+4,FALSE)=\"\",IF(INDIRECT(ADDRESS(ROW()-1,COLUMN()))=\"\",\"\",\"欠\"),VLOOKUP($I$2,テストデータ!$A$4:$SM$503,438+4,FALSE))","v":55},{"$f":"IF(VLOOKUP($I$2,テストデータ!$A$4:$SM$503,438+5,FALSE)=\"\",IF(INDIRECT(ADDRESS(ROW()-1,COLUMN()))=\"\",\"\",\"欠\"),VLOOKUP($I$2,テストデータ!$A$4:$SM$503,438+5,FALSE))","v":11},{"$f":"IF(VLOOKUP($I$2,テストデータ!$A$4:$SM$503,438+6,FALSE)=\"\",IF(INDIRECT(ADDRESS(ROW()-1,COLUMN()))=\"\",\"\",\"欠\"),VLOOKUP($I$2,テストデータ!$A$4:$SM$503,438+6,FALSE))","v":54},{"$f":"IF(VLOOKUP($I$2,テストデータ!$A$4:$SM$503,438+7,FALSE)=\"\",IF(INDIRECT(ADDRESS(ROW()-1,COLUMN()))=\"\",\"\",\"欠\"),VLOOKUP($I$2,テストデータ!$A$4:$SM$503,438+7,FALSE))","v":33},{"$f":"IF(VLOOKUP($I$2,テストデータ!$A$4:$SM$503,438+8,FALSE)=\"\",IF(INDIRECT(ADDRESS(ROW()-1,COLUMN()))=\"\",\"\",\"欠\"),VLOOKUP($I$2,テストデータ!$A$4:$SM$503,438+8,FALSE))","v":88},{"$f":"IF(VLOOKUP($I$2,テストデータ!$A$4:$SM$503,438+9,FALSE)=\"\",IF(INDIRECT(ADDRESS(ROW()-1,COLUMN()))=\"\",\"\",\"欠\"),VLOOKUP($I$2,テストデータ!$A$4:$SM$503,438+9,FALSE))","v":32},{"$f":"IF(VLOOKUP($I$2,テストデータ!$A$4:$SM$503,438+10,FALSE)=\"\",IF(INDIRECT(ADDRESS(ROW()-1,COLUMN()))=\"\",\"\",\"欠\"),VLOOKUP($I$2,テストデータ!$A$4:$SM$503,438+10,FALSE))","v":55},{"$f":"IF(VLOOKUP($I$2,テストデータ!$A$4:$SM$503,438+11,FALSE)=\"\",IF(INDIRECT(ADDRESS(ROW()-1,COLUMN()))=\"\",\"\",\"欠\"),VLOOKUP($I$2,テストデータ!$A$4:$SM$503,438+11,FALSE))","v":""},{"$f":"IF(VLOOKUP($I$2,テストデータ!$A$4:$SM$503,438+12,FALSE)=\"\",IF(INDIRECT(ADDRESS(ROW()-1,COLUMN()))=\"\",\"\",\"欠\"),VLOOKUP($I$2,テストデータ!$A$4:$SM$503,438+12,FALSE))","v":""},{"$f":"IF(VLOOKUP($I$2,テストデータ!$A$4:$SM$503,438+13,FALSE)=\"\",IF(INDIRECT(ADDRESS(ROW()-1,COLUMN()))=\"\",\"\",\"欠\"),VLOOKUP($I$2,テストデータ!$A$4:$SM$503,438+13,FALSE))","v":""}]
[null,null,"平均点",{"$f":"IF(COUNT(テストデータ!PV$4:PV$503)=0,NA(),AVERAGE(テストデータ!PV$4:PV$503))","v":55.722222222222221},{"$f":"IF(COUNT(テストデータ!PW$4:PW$503)=0,NA(),AVERAGE(テストデータ!PW$4:PW$503))","v":48.35},{"$f":"IF(COUNT(テストデータ!PX$4:PX$503)=0,NA(),AVERAGE(テストデータ!PX$4:PX$503))","v":47},{"$f":"IF(COUNT(テストデータ!PY$4:PY$503)=0,NA(),AVERAGE(テストデータ!PY$4:PY$503))","v":46.7},{"$f":"IF(COUNT(テストデータ!PZ$4:PZ$503)=0,NA(),AVERAGE(テストデータ!PZ$4:PZ$503))","v":52.55},{"$f":"IF(COUNT(テストデータ!QA$4:QA$503)=0,NA(),AVERAGE(テストデータ!QA$4:QA$503))","v":52},{"$f":"IF(COUNT(テストデータ!QB$4:QB$503)=0,NA(),AVERAGE(テストデータ!QB$4:QB$503))","v":56.25},{"$f":"IF(COUNT(テストデータ!QC$4:QC$503)=0,NA(),AVERAGE(テストデータ!QC$4:QC$503))","v":61.736842105263158},{"$f":"IF(COUNT(テストデータ!QD$4:QD$503)=0,NA(),AVERAGE(テストデータ!QD$4:QD$503))","v":60.2},{"$f":"IF(COUNT(テストデータ!QE$4:QE$503)=0,NA(),AVERAGE(テストデータ!QE$4:QE$503))","v":53.842105263157897},{"$f":"IF(COUNT(テストデータ!QF$4:QF$503)=0,NA(),AVERAGE(テストデータ!QF$4:QF$503))","v":52.55},{"$f":"IF(COUNT(テストデータ!QG$4:QG$503)=0,NA(),AVERAGE(テストデータ!QG$4:QG$503))","v":{"$error":"#N/A"}},{"$f":"IF(COUNT(テストデータ!QH$4:QH$503)=0,NA(),AVERAGE(テストデータ!QH$4:QH$503))","v":{"$error":"#N/A"}},{"$f":"IF(COUNT(テストデータ!QI$4:QI$503)=0,NA(),AVERAGE(テストデータ!QI$4:QI$503))","v":{"$error":"#N/A"}}]
[null,null,"校内順位",{"$f":"IF(OR(INDIRECT(ADDRESS(ROW()-2,COLUMN()))=\"欠\",INDIRECT(ADDRESS(ROW()-2,COLUMN()))=\"\"),\"\",RANK(INDIRECT(ADDRESS(ROW()-2,COLUMN())),OFFSET(テストデータ!$PV$3,1,0):OFFSET(テストデータ!$PV$3,500,0)))","v":6},{"$f":"IF(OR(INDIRECT(ADDRESS(ROW()-2,COLUMN()))=\"欠\",INDIRECT(ADDRESS(ROW()-2,COLUMN()))=\"\"),\"\",RANK(INDIRECT(ADDRESS(ROW()-2,COLUMN())),OFFSET(テストデータ!$PV$3,1,1):OFFSET(テストデータ!$PV$3,500,1)))","v":5},{"$f":"IF(OR(INDIRECT(ADDRESS(ROW()-2,COLUMN()))=\"欠\",INDIRECT(ADDRESS(ROW()-2,COLUMN()))=\"\"),\"\",RANK(INDIRECT(ADDRESS(ROW()-2,COLUMN())),OFFSET(テストデータ!$PV$3,1,2):OFFSET(テストデータ!$PV$3,500,2)))","v":9},{"$f":"IF(OR(INDIRECT(ADDRESS(ROW()-2,COLUMN()))=\"欠\",INDIRECT(ADDRESS(ROW()-2,COLUMN()))=\"\"),\"\",RANK(INDIRECT(ADDRESS(ROW()-2,COLUMN())),OFFSET(テストデータ!$PV$3,1,3):OFFSET(テストデータ!$PV$3,500,3)))","v":9},{"$f":"IF(OR(INDIRECT(ADDRESS(ROW()-2,COLUMN()))=\"欠\",INDIRECT(ADDRESS(ROW()-2,COLUMN()))=\"\"),\"\",RANK(INDIRECT(ADDRESS(ROW()-2,COLUMN())),OFFSET(テストデータ!$PV$3,1,4):OFFSET(テストデータ!$PV$3,500,4)))","v":10},{"$f":"IF(OR(INDIRECT(ADDRESS(ROW()-2,COLUMN()))=\"欠\",INDIRECT(ADDRESS(ROW()-2,COLUMN()))=\"\"),\"\",RANK(INDIRECT(ADDRESS(ROW()-2,COLUMN())),OFFSET(テストデータ!$PV$3,1,5):OFFSET(テストデータ!$PV$3,500,5)))","v":19},{"$f":"IF(OR(INDIRECT(ADDRESS(ROW()-2,COLUMN()))=\"欠\",INDIRECT(ADDRESS(ROW()-2,COLUMN()))=\"\"),\"\",RANK(INDIRECT(ADDRESS(ROW()-2,COLUMN())),OFFSET(テストデータ!$PV$3,1,6):OFFSET(テストデータ!$PV$3,500,6)))","v":11},{"$f":"IF(OR(INDIRECT(ADDRESS(ROW()-2,COLUMN()))=\"欠\",INDIRECT(ADDRESS(ROW()-2,COLUMN()))=\"\"),\"\",RANK(INDIRECT(ADDRESS(ROW()-2,COLUMN())),OFFSET(テストデータ!$PV$3,1,7):OFFSET(テストデータ!$PV$3,500,7)))","v":16},{"$f":"IF(OR(INDIRECT(ADDRESS(ROW()-2,COLUMN()))=\"欠\",INDIRECT(ADDRESS(ROW()-2,COLUMN()))=\"\"),\"\",RANK(INDIRECT(ADDRESS(ROW()-2,COLUMN())),OFFSET(テストデータ!$PV$3,1,8):OFFSET(テストデータ!$PV$3,500,8)))","v":6},{"$f":"IF(OR(INDIRECT(ADDRESS(ROW()-2,COLUMN()))=\"欠\",INDIRECT(ADDRESS(ROW()-2,COLUMN()))=\"\"),\"\",RANK(INDIRECT(ADDRESS(ROW()-2,COLUMN())),OFFSET(テストデータ!$PV$3,1,9):OFFSET(テストデータ!$PV$3,500,9)))","v":15},{"$f":"IF(OR(INDIRECT(ADDRESS(ROW()-2,COLUMN()))=\"欠\",INDIRECT(ADDRESS(ROW()-2,COLUMN()))=\"\"),\"\",RANK(INDIRECT(ADDRESS(ROW()-2,COLUMN())),OFFSET(テストデータ!$PV$3,1,10):OFFSET(テストデータ!$PV$3,500,10)))","v":10},{"$f":"IF(OR(INDIRECT(ADDRESS(ROW()-2,COLUMN()))=\"欠\",INDIRECT(ADDRESS(ROW()-2,COLUMN()))=\"\"),\"\",RANK(INDIRECT(ADDRESS(ROW()-2,COLUMN())),OFFSET(テストデータ!$PV$3,1,11):OFFSET(テストデータ!$PV$3,500,11)))","v":""},{"$f":"IF(OR(INDIRECT(ADDRESS(ROW()-2,COLUMN()))=\"欠\",INDIRECT(ADDRESS(ROW()-2,COLUMN()))=\"\"),\"\",RANK(INDIRECT(ADDRESS(ROW()-2,COLUMN())),OFFSET(テストデータ!$PV$3,1,12):OFFSET(テストデータ!$PV$3,500,12)))","v":""},{"$f":"IF(OR(INDIRECT(ADDRESS(ROW()-2,COLUMN()))=\"欠\",INDIRECT(ADDRESS(ROW()-2,COLUMN()))=\"\"),\"\",RANK(INDIRECT(ADDRESS(ROW()-2,COLUMN())),OFFSET(テストデータ!$PV$3,1,13):OFFSET(テストデータ!$PV$3,500,13)))","v":""}]
[null,{"$f":"IF(テストデータ!$QJ$2=\"\",\"\",テストデータ!$QJ$2)","v":"6/15"},null,{"$f":"IF(初期設定!$C$38=\"\",\"\",初期設定!$C$38)","v":"国総"},{"$f":"IF(初期設定!$C$39=\"\",\"\",初期設定!$C$39)","v":"英表"},{"$f":"IF(初期設定!$C$40=\"\",\"\",初期設定!$C$40)","v":"コ英"},{"$f":"IF(初期設定!$C$41=\"\",\"\",初期設定!$C$41)","v":"数Ⅰ"},{"$f":"IF(初期設定!$C$42=\"\",\"\",初期設定!$C$42)","v":"数A"},{"$f":"IF(初期設定!$C$43=\"\",\"\",初期設定!$C$43)","v":"世B"},{"$f":"IF(初期設定!$C$44=\"\",\"\",初期設定!$C$44)","v":"化基"},{"$f":"IF(初期設定!$C$45=\"\",\"\",初期設定!$C$45)","v":"情報"},{"$f":"IF(初期設定!$C$46=\"\",\"\",初期設定!$C$46)","v":"芸術"},{"$f":"IF(初期設定!$C$47=\"\",\"\",初期設定!$C$47)","v":"体育"},{"$f":"IF(初期設定!$C$48=\"\",\"\",初期設定!$C$48)","v":"保健"},{"$f":"IF(初期設定!$C$49=\"\",\"\",初期設定!$C$49)","v":""},{"$f":"IF(初期設定!$C$50=\"\",\"\",初期設定!$C$50)","v":""},{"$f":"IF(初期設定!$C$51=\"\",\"\",初期設定!$C$51)","v":""}]
[null,"第5回","得点",{"$f":"IF(VLOOKUP($I$2,テストデータ!$A$4:$SM$503,452+0,FALSE)=\"\",IF(INDIRECT(ADDRESS(ROW()-1,COLUMN()))=\"\",\"\",\"欠\"),VLOOKUP($I$2,テストデータ!$A$4:$SM$503,452+0,FALSE))","v":69},{"$f":"IF(VLOOKUP($I$2,テストデータ!$A$4:$SM$503,452+1,FALSE)=\"\",IF(INDIRECT(ADDRESS(ROW()-1,COLUMN()))=\"\",\"\",\"欠\"),VLOOKUP($I$2,テストデータ!$A$4:$SM$503,452+1,FALSE))","v":80},{"$f":"IF(VLOOKUP($I$2,テストデータ!$A$4:$SM$503,452+2,FALSE)=\"\",IF(INDIRECT(ADDRESS(ROW()-1,COLUMN()))=\"\",\"\",\"欠\"),VLOOKUP($I$2,テストデータ!$A$4:$SM$503,452+2,FALSE))","v":51},{"$f":"IF(VLOOKUP($I$2,テストデータ!$A$4:$SM$503,452+3,FALSE)=\"\",IF(INDIRECT(ADDRESS(ROW()-1,COLUMN()))=\"\",\"\",\"欠\"),VLOOKUP($I$2,テストデータ!$A$4:$SM$503,452+3,FALSE))","v":35},{"$f":"IF(VLOOKUP($I$2,テストデータ!$A$4:$SM$503,452+4,FALSE)=\"\",IF(INDIRECT(ADDRESS(ROW()-1,COLUMN()))=\"\",\"\",\"欠\"),VLOOKUP($I$2,テストデータ!$A$4:$SM$503,452+4,FALSE))","v":55},{"$f":"IF(VLOOKUP($I$2,テストデータ!$A$4:$SM$503,452+5,FALSE)=\"\",IF(INDIRECT(ADDRESS(ROW()-1,COLUMN()))=\"\",\"\",\"欠\"),VLOOKUP($I$2,テストデータ!$A$4:$SM$503,452+5,FALSE))","v":11},{"$f":"IF(VLOOKUP($I$2,テストデータ!$A$4:$SM$503,452+6,FALSE)=\"\",IF(INDIRECT(ADDRESS(ROW()-1,COLUMN()))=\"\",\"\",\"欠\"),VLOOKUP($I$2,テストデータ!$A$4:$SM$503,452+6,FALSE))","v":54},{"$f":"IF(VLOOKUP($I$2,テストデータ!$A$4:$SM$503,452+7,FALSE)=\"\",IF(INDIRECT(ADDRESS(ROW()-1,COLUMN()))=\"\",\"\",\"欠\"),VLOOKUP($I$2,テストデータ!$A$4:$SM$503,452+7,FALSE))","v":33},{"$f":"IF(VLOOKUP($I$2,テストデータ!$A$4:$SM$503,452+8,FALSE)=\"\",IF(INDIRECT(ADDRESS(ROW()-1,COLUMN()))=\"\",\"\",\"欠\"),VLOOKUP($I$2,テストデータ!$A$4:$SM$503,452+8,FALSE))","v":88},{"$f":"IF(VLOOKUP($I$2,テストデータ!$A$4:$SM$503,452+9,FALSE)=\"\",IF(INDIRECT(ADDRESS(ROW()-1,COLUMN()))=\"\",\"\",\"欠\"),VLOOKUP($I$2,テストデータ!$A$4:$SM$503,452+9,FALSE))","v":32},{"$f":"IF(VLOOKUP($I$2,テストデータ!$A$4:$SM$503,452+10,FALSE)=\"\",IF(INDIRECT(ADDRESS(ROW()-1,COLUMN()))=\"\",\"\",\"欠\"),VLOOKUP($I$2,テストデータ!$A$4:$SM$503,452+10,FALSE))","v":55},{"$f":"IF(VLOOKUP($I$2,テストデータ!$A$4:$SM$503,452+11,FALSE)=\"\",IF(INDIRECT(ADDRESS(ROW()-1,COLUMN()))=\"\",\"\",\"欠\"),VLOOKUP($I$2,テストデータ!$A$4:$SM$503,452+11,FALSE))","v":""},{"$f":"IF(VLOOKUP($I$2,テストデータ!$A$4:$SM$503,452+12,FALSE)=\"\",IF(INDIRECT(ADDRESS(ROW()-1,COLUMN()))=\"\",\"\",\"欠\"),VLOOKUP($I$2,テストデータ!$A$4:$SM$503,452+12,FALSE))","v":""},{"$f":"IF(VLOOKUP($I$2,テストデータ!$A$4:$SM$503,452+13,FALSE)=\"\",IF(INDIRECT(ADDRESS(ROW()-1,COLUMN()))=\"\",\"\",\"欠\"),VLOOKUP($I$2,テストデータ!$A$4:$SM$503,452+13,FALSE))","v":""}]
[null,null,"平均点",{"$f":"IF(COUNT(テストデータ!QJ$4:QJ$503)=0,NA(),AVERAGE(テストデータ!QJ$4:QJ$503))","v":55.722222222222221},{"$f":"IF(COUNT(テストデータ!QK$4:QK$503)=0,NA(),AVERAGE(テストデータ!QK$4:QK$503))","v":48.35},{"$f":"IF(COUNT(テストデータ!QL$4:QL$503)=0,NA(),AVERAGE(テストデータ!QL$4:QL$503))","v":47},{"$f":"IF(COUNT(テストデータ!QM$4:QM$503)=0,NA(),AVERAGE(テストデータ!QM$4:QM$503))","v":46.7},{"$f":"IF(COUNT(テストデータ!QN$4:QN$503)=0,NA(),AVERAGE(テストデータ!QN$4:QN$503))","v":52.55},{"$f":"IF(COUNT(テストデータ!QO$4:QO$503)=0,NA(),AVERAGE(テストデータ!QO$4:QO$503))","v":52},{"$f":"IF(COUNT(テストデータ!QP$4:QP$503)=0,NA(),AVERAGE(テストデータ!QP$4:QP$503))","v":56.25},{"$f":"IF(COUNT(テストデータ!QQ$4:QQ$503)=0,NA(),AVERAGE(テストデータ!QQ$4:QQ$503))","v":61.736842105263158},{"$f":"IF(COUNT(テストデータ!QR$4:QR$503)=0,NA(),AVERAGE(テストデータ!QR$4:QR$503))","v":60.2},{"$f":"IF(COUNT(テストデータ!QS$4:QS$503)=0,NA(),AVERAGE(テストデータ!QS$4:QS$503))","v":53.842105263157897},{"$f":"IF(COUNT(テストデータ!QT$4:QT$503)=0,NA(),AVERAGE(テストデータ!QT$4:QT$503))","v":52.55},{"$f":"IF(COUNT(テストデータ!QU$4:QU$503)=0,NA(),AVERAGE(テストデータ!QU$4:QU$503))","v":{"$error":"#N/A"}},{"$f":"IF(COUNT(テストデータ!QV$4:QV$503)=0,NA(),AVERAGE(テストデータ!QV$4:QV$503))","v":{"$error":"#N/A"}},{"$f":"IF(COUNT(テストデータ!QW$4:QW$503)=0,NA(),AVERAGE(テストデータ!QW$4:QW$503))","v":{"$error":"#N/A"}}]
[null,null,"校内順位",{"$f":"IF(OR(INDIRECT(ADDRESS(ROW()-2,COLUMN()))=\"欠\",INDIRECT(ADDRESS(ROW()-2,COLUMN()))=\"\"),\"\",RANK(INDIRECT(ADDRESS(ROW()-2,COLUMN())),OFFSET(テストデータ!$QJ$3,1,0):OFFSET(テストデータ!$QJ$3,500,0)))","v":6},{"$f":"IF(OR(INDIRECT(ADDRESS(ROW()-2,COLUMN()))=\"欠\",INDIRECT(ADDRESS(ROW()-2,COLUMN()))=\"\"),\"\",RANK(INDIRECT(ADDRESS(ROW()-2,COLUMN())),OFFSET(テストデータ!$QJ$3,1,1):OFFSET(テストデータ!$QJ$3,500,1)))","v":5},{"$f":"IF(OR(INDIRECT(ADDRESS(ROW()-2,COLUMN()))=\"欠\",INDIRECT(ADDRESS(ROW()-2,COLUMN()))=\"\"),\"\",RANK(INDIRECT(ADDRESS(ROW()-2,COLUMN())),OFFSET(テストデータ!$QJ$3,1,2):OFFSET(テストデータ!$QJ$3,500,2)))","v":9},{"$f":"IF(OR(INDIRECT(ADDRESS(ROW()-2,COLUMN()))=\"欠\",INDIRECT(ADDRESS(ROW()-2,COLUMN()))=\"\"),\"\",RANK(INDIRECT(ADDRESS(ROW()-2,COLUMN())),OFFSET(テストデータ!$QJ$3,1,3):OFFSET(テストデータ!$QJ$3,500,3)))","v":9},{"$f":"IF(OR(INDIRECT(ADDRESS(ROW()-2,COLUMN()))=\"欠\",INDIRECT(ADDRESS(ROW()-2,COLUMN()))=\"\"),\"\",RANK(INDIRECT(ADDRESS(ROW()-2,COLUMN())),OFFSET(テストデータ!$QJ$3,1,4):OFFSET(テストデータ!$QJ$3,500,4)))","v":10},{"$f":"IF(OR(INDIRECT(ADDRESS(ROW()-2,COLUMN()))=\"欠\",INDIRECT(ADDRESS(ROW()-2,COLUMN()))=\"\"),\"\",RANK(INDIRECT(ADDRESS(ROW()-2,COLUMN())),OFFSET(テストデータ!$QJ$3,1,5):OFFSET(テストデータ!$QJ$3,500,5)))","v":19},{"$f":"IF(OR(INDIRECT(ADDRESS(ROW()-2,COLUMN()))=\"欠\",INDIRECT(ADDRESS(ROW()-2,COLUMN()))=\"\"),\"\",RANK(INDIRECT(ADDRESS(ROW()-2,COLUMN())),OFFSET(テストデータ!$QJ$3,1,6):OFFSET(テストデータ!$QJ$3,500,6)))","v":11},{"$f":"IF(OR(INDIRECT(ADDRESS(ROW()-2,COLUMN()))=\"欠\",INDIRECT(ADDRESS(ROW()-2,COLUMN()))=\"\"),\"\",RANK(INDIRECT(ADDRESS(ROW()-2,COLUMN())),OFFSET(テストデータ!$QJ$3,1,7):OFFSET(テストデータ!$QJ$3,500,7)))","v":16},{"$f":"IF(OR(INDIRECT(ADDRESS(ROW()-2,COLUMN()))=\"欠\",INDIRECT(ADDRESS(ROW()-2,COLUMN()))=\"\"),\"\",RANK(INDIRECT(ADDRESS(ROW()-2,COLUMN())),OFFSET(テストデータ!$QJ$3,1,8):OFFSET(テストデータ!$QJ$3,500,8)))","v":6},{"$f":"IF(OR(INDIRECT(ADDRESS(ROW()-2,COLUMN()))=\"欠\",INDIRECT(ADDRESS(ROW()-2,COLUMN()))=\"\"),\"\",RANK(INDIRECT(ADDRESS(ROW()-2,COLUMN())),OFFSET(テストデータ!$QJ$3,1,9):OFFSET(テストデータ!$QJ$3,500,9)))","v":15},{"$f":"IF(OR(INDIRECT(ADDRESS(ROW()-2,COLUMN()))=\"欠\",INDIRECT(ADDRESS(ROW()-2,COLUMN()))=\"\"),\"\",RANK(INDIRECT(ADDRESS(ROW()-2,COLUMN())),OFFSET(テストデータ!$QJ$3,1,10):OFFSET(テストデータ!$QJ$3,500,10)))","v":10},{"$f":"IF(OR(INDIRECT(ADDRESS(ROW()-2,COLUMN()))=\"欠\",INDIRECT(ADDRESS(ROW()-2,COLUMN()))=\"\"),\"\",RANK(INDIRECT(ADDRESS(ROW()-2,COLUMN())),OFFSET(テストデータ!$QJ$3,1,11):OFFSET(テストデータ!$QJ$3,500,11)))","v":""},{"$f":"IF(OR(INDIRECT(ADDRESS(ROW()-2,COLUMN()))=\"欠\",INDIRECT(ADDRESS(ROW()-2,COLUMN()))=\"\"),\"\",RANK(INDIRECT(ADDRESS(ROW()-2,COLUMN())),OFFSET(テストデータ!$QJ$3,1,12):OFFSET(テストデータ!$QJ$3,500,12)))","v":""},{"$f":"IF(OR(INDIRECT(ADDRESS(ROW()-2,COLUMN()))=\"欠\",INDIRECT(ADDRESS(ROW()-2,COLUMN()))=\"\"),\"\",RANK(INDIRECT(ADDRESS(ROW()-2,COLUMN())),OFFSET(テストデータ!$QJ$3,1,13):OFFSET(テストデータ!$QJ$3,500,13)))","v":""}]
[null,{"$f":"IF(テストデータ!$QX$2=\"\",\"\",テストデータ!$QX$2)","v":"7/5"},null,{"$f":"IF(初期設定!$C$38=\"\",\"\",初期設定!$C$38)","v":"国総"},{"$f":"IF(初期設定!$C$39=\"\",\"\",初期設定!$C$39)","v":"英表"},{"$f":"IF(初期設定!$C$40=\"\",\"\",初期設定!$C$40)","v":"コ英"},{"$f":"IF(初期設定!$C$41=\"\",\"\",初期設定!$C$41)","v":"数Ⅰ"},{"$f":"IF(初期設定!$C$42=\"\",\"\",初期設定!$C$42)","v":"数A"},{"$f":"IF(初期設定!$C$43=\"\",\"\",初期設定!$C$43)","v":"世B"},{"$f":"IF(初期設定!$C$44=\"\",\"\",初期設定!$C$44)","v":"化基"},{"$f":"IF(初期設定!$C$45=\"\",\"\",初期設定!$C$45)","v":"情報"},{"$f":"IF(初期設定!$C$46=\"\",\"\",初期設定!$C$46)","v":"芸術"},{"$f":"IF(初期設定!$C$47=\"\",\"\",初期設定!$C$47)","v":"体育"},{"$f":"IF(初期設定!$C$48=\"\",\"\",初期設定!$C$48)","v":"保健"},{"$f":"IF(初期設定!$C$49=\"\",\"\",初期設定!$C$49)","v":""},{"$f":"IF(初期設定!$C$50=\"\",\"\",初期設定!$C$50)","v":""},{"$f":"IF(初期設定!$C$51=\"\",\"\",初期設定!$C$51)","v":""}]
[null,"第6回","得点",{"$f":"IF(VLOOKUP($I$2,テストデータ!$A$4:$SM$503,466+0,FALSE)=\"\",IF(INDIRECT(ADDRESS(ROW()-1,COLUMN()))=\"\",\"\",\"欠\"),VLOOKUP($I$2,テストデータ!$A$4:$SM$503,466+0,FALSE))","v":69},{"$f":"IF(VLOOKUP($I$2,テストデータ!$A$4:$SM$503,466+1,FALSE)=\"\",IF(INDIRECT(ADDRESS(ROW()-1,COLUMN()))=\"\",\"\",\"欠\"),VLOOKUP($I$2,テストデータ!$A$4:$SM$503,466+1,FALSE))","v":80},{"$f":"IF(VLOOKUP($I$2,テストデータ!$A$4:$SM$503,466+2,FALSE)=\"\",IF(INDIRECT(ADDRESS(ROW()-1,COLUMN()))=\"\",\"\",\"欠\"),VLOOKUP($I$2,テストデータ!$A$4:$SM$503,466+2,FALSE))","v":51},{"$f":"IF(VLOOKUP($I$2,テストデータ!$A$4:$SM$503,466+3,FALSE)=\"\",IF(INDIRECT(ADDRESS(ROW()-1,COLUMN()))=\"\",\"\",\"欠\"),VLOOKUP($I$2,テストデータ!$A$4:$SM$503,466+3,FALSE))","v":35},{"$f":"IF(VLOOKUP($I$2,テストデータ!$A$4:$SM$503,466+4,FALSE)=\"\",IF(INDIRECT(ADDRESS(ROW()-1,COLUMN()))=\"\",\"\",\"欠\"),VLOOKUP($I$2,テストデータ!$A$4:$SM$503,466+4,FALSE))","v":55},{"$f":"IF(VLOOKUP($I$2,テストデータ!$A$4:$SM$503,466+5,FALSE)=\"\",IF(INDIRECT(ADDRESS(ROW()-1,COLUMN()))=\"\",\"\",\"欠\"),VLOOKUP($I$2,テストデータ!$A$4:$SM$503,466+5,FALSE))","v":11},{"$f":"IF(VLOOKUP($I$2,テストデータ!$A$4:$SM$503,466+6,FALSE)=\"\",IF(INDIRECT(ADDRESS(ROW()-1,COLUMN()))=\"\",\"\",\"欠\"),VLOOKUP($I$2,テストデータ!$A$4:$SM$503,466+6,FALSE))","v":54},{"$f":"IF(VLOOKUP($I$2,テストデータ!$A$4:$SM$503,466+7,FALSE)=\"\",IF(INDIRECT(ADDRESS(ROW()-1,COLUMN()))=\"\",\"\",\"欠\"),VLOOKUP($I$2,テストデータ!$A$4:$SM$503,466+7,FALSE))","v":33},{"$f":"IF(VLOOKUP($I$2,テストデータ!$A$4:$SM$503,466+8,FALSE)=\"\",IF(INDIRECT(ADDRESS(ROW()-1,COLUMN()))=\"\",\"\",\"欠\"),VLOOKUP($I$2,テストデータ!$A$4:$SM$503,466+8,FALSE))","v":88},{"$f":"IF(VLOOKUP($I$2,テストデータ!$A$4:$SM$503,466+9,FALSE)=\"\",IF(INDIRECT(ADDRESS(ROW()-1,COLUMN()))=\"\",\"\",\"欠\"),VLOOKUP($I$2,テストデータ!$A$4:$SM$503,466+9,FALSE))","v":32},{"$f":"IF(VLOOKUP($I$2,テストデータ!$A$4:$SM$503,466+10,FALSE)=\"\",IF(INDIRECT(ADDRESS(ROW()-1,COLUMN()))=\"\",\"\",\"欠\"),VLOOKUP($I$2,テストデータ!$A$4:$SM$503,466+10,FALSE))","v":55},{"$f":"IF(VLOOKUP($I$2,テストデータ!$A$4:$SM$503,466+11,FALSE)=\"\",IF(INDIRECT(ADDRESS(ROW()-1,COLUMN()))=\"\",\"\",\"欠\"),VLOOKUP($I$2,テストデータ!$A$4:$SM$503,466+11,FALSE))","v":""},{"$f":"IF(VLOOKUP($I$2,テストデータ!$A$4:$SM$503,466+12,FALSE)=\"\",IF(INDIRECT(ADDRESS(ROW()-1,COLUMN()))=\"\",\"\",\"欠\"),VLOOKUP($I$2,テストデータ!$A$4:$SM$503,466+12,FALSE))","v":""},{"$f":"IF(VLOOKUP($I$2,テストデータ!$A$4:$SM$503,466+13,FALSE)=\"\",IF(INDIRECT(ADDRESS(ROW()-1,COLUMN()))=\"\",\"\",\"欠\"),VLOOKUP($I$2,テストデータ!$A$4:$SM$503,466+13,FALSE))","v":""}]
[null,null,"平均点",{"$f":"IF(COUNT(テストデータ!QX$4:QX$503)=0,NA(),AVERAGE(テストデータ!QX$4:QX$503))","v":55.722222222222221},{"$f":"IF(COUNT(テストデータ!QY$4:QY$503)=0,NA(),AVERAGE(テストデータ!QY$4:QY$503))","v":48.35},{"$f":"IF(COUNT(テストデータ!QZ$4:QZ$503)=0,NA(),AVERAGE(テストデータ!QZ$4:QZ$503))","v":47},{"$f":"IF(COUNT(テストデータ!RA$4:RA$503)=0,NA(),AVERAGE(テストデータ!RA$4:RA$503))","v":46.7},{"$f":"IF(COUNT(テストデータ!RB$4:RB$503)=0,NA(),AVERAGE(テストデータ!RB$4:RB$503))","v":52.55},{"$f":"IF(COUNT(テストデータ!RC$4:RC$503)=0,NA(),AVERAGE(テストデータ!RC$4:RC$503))","v":52},{"$f":"IF(COUNT(テストデータ!RD$4:RD$503)=0,NA(),AVERAGE(テストデータ!RD$4:RD$503))","v":56.25},{"$f":"IF(COUNT(テストデータ!RE$4:RE$503)=0,NA(),AVERAGE(テストデータ!RE$4:RE$503))","v":61.736842105263158},{"$f":"IF(COUNT(テストデータ!RF$4:RF$503)=0,NA(),AVERAGE(テストデータ!RF$4:RF$503))","v":60.2},{"$f":"IF(COUNT(テストデータ!RG$4:RG$503)=0,NA(),AVERAGE(テストデータ!RG$4:RG$503))","v":53.842105263157897},{"$f":"IF(COUNT(テストデータ!RH$4:RH$503)=0,NA(),AVERAGE(テストデータ!RH$4:RH$503))","v":52.55},{"$f":"IF(COUNT(テストデータ!RI$4:RI$503)=0,NA(),AVERAGE(テストデータ!RI$4:RI$503))","v":{"$error":"#N/A"}},{"$f":"IF(COUNT(テストデータ!RJ$4:RJ$503)=0,NA(),AVERAGE(テストデータ!RJ$4:RJ$503))","v":{"$error":"#N/A"}},{"$f":"IF(COUNT(テストデータ!RK$4:RK$503)=0,NA(),AVERAGE(テストデータ!RK$4:RK$503))","v":{"$error":"#N/A"}}]
[null,null,"校内順位",{"$f":"IF(OR(INDIRECT(ADDRESS(ROW()-2,COLUMN()))=\"欠\",INDIRECT(ADDRESS(ROW()-2,COLUMN()))=\"\"),\"\",RANK(INDIRECT(ADDRESS(ROW()-2,COLUMN())),OFFSET(テストデータ!$QX$3,1,0):OFFSET(テストデータ!$QX$3,500,0)))","v":6},{"$f":"IF(OR(INDIRECT(ADDRESS(ROW()-2,COLUMN()))=\"欠\",INDIRECT(ADDRESS(ROW()-2,COLUMN()))=\"\"),\"\",RANK(INDIRECT(ADDRESS(ROW()-2,COLUMN())),OFFSET(テストデータ!$QX$3,1,1):OFFSET(テストデータ!$QX$3,500,1)))","v":5},{"$f":"IF(OR(INDIRECT(ADDRESS(ROW()-2,COLUMN()))=\"欠\",INDIRECT(ADDRESS(ROW()-2,COLUMN()))=\"\"),\"\",RANK(INDIRECT(ADDRESS(ROW()-2,COLUMN())),OFFSET(テストデータ!$QX$3,1,2):OFFSET(テストデータ!$QX$3,500,2)))","v":9},{"$f":"IF(OR(INDIRECT(ADDRESS(ROW()-2,COLUMN()))=\"欠\",INDIRECT(ADDRESS(ROW()-2,COLUMN()))=\"\"),\"\",RANK(INDIRECT(ADDRESS(ROW()-2,COLUMN())),OFFSET(テストデータ!$QX$3,1,3):OFFSET(テストデータ!$QX$3,500,3)))","v":9},{"$f":"IF(OR(INDIRECT(ADDRESS(ROW()-2,COLUMN()))=\"欠\",INDIRECT(ADDRESS(ROW()-2,COLUMN()))=\"\"),\"\",RANK(INDIRECT(ADDRESS(ROW()-2,COLUMN())),OFFSET(テストデータ!$QX$3,1,4):OFFSET(テストデータ!$QX$3,500,4)))","v":10},{"$f":"IF(OR(INDIRECT(ADDRESS(ROW()-2,COLUMN()))=\"欠\",INDIRECT(ADDRESS(ROW()-2,COLUMN()))=\"\"),\"\",RANK(INDIRECT(ADDRESS(ROW()-2,COLUMN())),OFFSET(テストデータ!$QX$3,1,5):OFFSET(テストデータ!$QX$3,500,5)))","v":19},{"$f":"IF(OR(INDIRECT(ADDRESS(ROW()-2,COLUMN()))=\"欠\",INDIRECT(ADDRESS(ROW()-2,COLUMN()))=\"\"),\"\",RANK(INDIRECT(ADDRESS(ROW()-2,COLUMN())),OFFSET(テストデータ!$QX$3,1,6):OFFSET(テストデータ!$QX$3,500,6)))","v":11},{"$f":"IF(OR(INDIRECT(ADDRESS(ROW()-2,COLUMN()))=\"欠\",INDIRECT(ADDRESS(ROW()-2,COLUMN()))=\"\"),\"\",RANK(INDIRECT(ADDRESS(ROW()-2,COLUMN())),OFFSET(テストデータ!$QX$3,1,7):OFFSET(テストデータ!$QX$3,500,7)))","v":16},{"$f":"IF(OR(INDIRECT(ADDRESS(ROW()-2,COLUMN()))=\"欠\",INDIRECT(ADDRESS(ROW()-2,COLUMN()))=\"\"),\"\",RANK(INDIRECT(ADDRESS(ROW()-2,COLUMN())),OFFSET(テストデータ!$QX$3,1,8):OFFSET(テストデータ!$QX$3,500,8)))","v":6},{"$f":"IF(OR(INDIRECT(ADDRESS(ROW()-2,COLUMN()))=\"欠\",INDIRECT(ADDRESS(ROW()-2,COLUMN()))=\"\"),\"\",RANK(INDIRECT(ADDRESS(ROW()-2,COLUMN())),OFFSET(テストデータ!$QX$3,1,9):OFFSET(テストデータ!$QX$3,500,9)))","v":15},{"$f":"IF(OR(INDIRECT(ADDRESS(ROW()-2,COLUMN()))=\"欠\",INDIRECT(ADDRESS(ROW()-2,COLUMN()))=\"\"),\"\",RANK(INDIRECT(ADDRESS(ROW()-2,COLUMN())),OFFSET(テストデータ!$QX$3,1,10):OFFSET(テストデータ!$QX$3,500,10)))","v":10},{"$f":"IF(OR(INDIRECT(ADDRESS(ROW()-2,COLUMN()))=\"欠\",INDIRECT(ADDRESS(ROW()-2,COLUMN()))=\"\"),\"\",RANK(INDIRECT(ADDRESS(ROW()-2,COLUMN())),OFFSET(テストデータ!$QX$3,1,11):OFFSET(テストデータ!$QX$3,500,11)))","v":""},{"$f":"IF(OR(INDIRECT(ADDRESS(ROW()-2,COLUMN()))=\"欠\",INDIRECT(ADDRESS(ROW()-2,COLUMN()))=\"\"),\"\",RANK(INDIRECT(ADDRESS(ROW()-2,COLUMN())),OFFSET(テストデータ!$QX$3,1,12):OFFSET(テストデータ!$QX$3,500,12)))","v":""},{"$f":"IF(OR(INDIRECT(ADDRESS(ROW()-2,COLUMN()))=\"欠\",INDIRECT(ADDRESS(ROW()-2,COLUMN()))=\"\"),\"\",RANK(INDIRECT(ADDRESS(ROW()-2,COLUMN())),OFFSET(テストデータ!$QX$3,1,13):OFFSET(テストデータ!$QX$3,500,13)))","v":""}]
[null,{"$f":"IF(テストデータ!$RL$2=\"\",\"\",テストデータ!$RL$2)","v":"9/16"},null,{"$f":"IF(初期設定!$C$38=\"\",\"\",初期設定!$C$38)","v":"国総"},{"$f":"IF(初期設定!$C$39=\"\",\"\",初期設定!$C$39)","v":"英表"},{"$f":"IF(初期設定!$C$40=\"\",\"\",初期設定!$C$40)","v":"コ英"},{"$f":"IF(初期設定!$C$41=\"\",\"\",初期設定!$C$41)","v":"数Ⅰ"},{"$f":"IF(初期設定!$C$42=\"\",\"\",初期設定!$C$42)","v":"数A"},{"$f":"IF(初期設定!$C$43=\"\",\"\",初期設定!$C$43)","v":"世B"},{"$f":"IF(初期設定!$C$44=\"\",\"\",初期設定!$C$44)","v":"化基"},{"$f":"IF(初期設定!$C$45=\"\",\"\",初期設定!$C$45)","v":"情報"},{"$f":"IF(初期設定!$C$46=\"\",\"\",初期設定!$C$46)","v":"芸術"},{"$f":"IF(初期設定!$C$47=\"\",\"\",初期設定!$C$47)","v":"体育"},{"$f":"IF(初期設定!$C$48=\"\",\"\",初期設定!$C$48)","v":"保健"},{"$f":"IF(初期設定!$C$49=\"\",\"\",初期設定!$C$49)","v":""},{"$f":"IF(初期設定!$C$50=\"\",\"\",初期設定!$C$50)","v":""},{"$f":"IF(初期設定!$C$51=\"\",\"\",初期設定!$C$51)","v":""}]
[null,"第7回","得点",{"$f":"IF(VLOOKUP($I$2,テストデータ!$A$4:$SM$503,480+0,FALSE)=\"\",IF(INDIRECT(ADDRESS(ROW()-1,COLUMN()))=\"\",\"\",\"欠\"),VLOOKUP($I$2,テストデータ!$A$4:$SM$503,480+0,FALSE))","v":69},{"$f":"IF(VLOOKUP($I$2,テストデータ!$A$4:$SM$503,480+1,FALSE)=\"\",IF(INDIRECT(ADDRESS(ROW()-1,COLUMN()))=\"\",\"\",\"欠\"),VLOOKUP($I$2,テストデータ!$A$4:$SM$503,480+1,FALSE))","v":80},{"$f":"IF(VLOOKUP($I$2,テストデータ!$A$4:$SM$503,480+2,FALSE)=\"\",IF(INDIRECT(ADDRESS(ROW()-1,COLUMN()))=\"\",\"\",\"欠\"),VLOOKUP($I$2,テストデータ!$A$4:$SM$503,480+2,FALSE))","v":51},{"$f":"IF(VLOOKUP($I$2,テストデータ!$A$4:$SM$503,480+3,FALSE)=\"\",IF(INDIRECT(ADDRESS(ROW()-1,COLUMN()))=\"\",\"\",\"欠\"),VLOOKUP($I$2,テストデータ!$A$4:$SM$503,480+3,FALSE))","v":35},{"$f":"IF(VLOOKUP($I$2,テストデータ!$A$4:$SM$503,480+4,FALSE)=\"\",IF(INDIRECT(ADDRESS(ROW()-1,COLUMN()))=\"\",\"\",\"欠\"),VLOOKUP($I$2,テストデータ!$A$4:$SM$503,480+4,FALSE))","v":55},{"$f":"IF(VLOOKUP($I$2,テストデータ!$A$4:$SM$503,480+5,FALSE)=\"\",IF(INDIRECT(ADDRESS(ROW()-1,COLUMN()))=\"\",\"\",\"欠\"),VLOOKUP($I$2,テストデータ!$A$4:$SM$503,480+5,FALSE))","v":11},{"$f":"IF(VLOOKUP($I$2,テストデータ!$A$4:$SM$503,480+6,FALSE)=\"\",IF(INDIRECT(ADDRESS(ROW()-1,COLUMN()))=\"\",\"\",\"欠\"),VLOOKUP($I$2,テストデータ!$A$4:$SM$503,480+6,FALSE))","v":54},{"$f":"IF(VLOOKUP($I$2,テストデータ!$A$4:$SM$503,480+7,FALSE)=\"\",IF(INDIRECT(ADDRESS(ROW()-1,COLUMN()))=\"\",\"\",\"欠\"),VLOOKUP($I$2,テストデータ!$A$4:$SM$503,480+7,FALSE))","v":33},{"$f":"IF(VLOOKUP($I$2,テストデータ!$A$4:$SM$503,480+8,FALSE)=\"\",IF(INDIRECT(ADDRESS(ROW()-1,COLUMN()))=\"\",\"\",\"欠\"),VLOOKUP($I$2,テストデータ!$A$4:$SM$503,480+8,FALSE))","v":88},{"$f":"IF(VLOOKUP($I$2,テストデータ!$A$4:$SM$503,480+9,FALSE)=\"\",IF(INDIRECT(ADDRESS(ROW()-1,COLUMN()))=\"\",\"\",\"欠\"),VLOOKUP($I$2,テストデータ!$A$4:$SM$503,480+9,FALSE))","v":32},{"$f":"IF(VLOOKUP($I$2,テストデータ!$A$4:$SM$503,480+10,FALSE)=\"\",IF(INDIRECT(ADDRESS(ROW()-1,COLUMN()))=\"\",\"\",\"欠\"),VLOOKUP($I$2,テストデータ!$A$4:$SM$503,480+10,FALSE))","v":55},{"$f":"IF(VLOOKUP($I$2,テストデータ!$A$4:$SM$503,480+11,FALSE)=\"\",IF(INDIRECT(ADDRESS(ROW()-1,COLUMN()))=\"\",\"\",\"欠\"),VLOOKUP($I$2,テストデータ!$A$4:$SM$503,480+11,FALSE))","v":""},{"$f":"IF(VLOOKUP($I$2,テストデータ!$A$4:$SM$503,480+12,FALSE)=\"\",IF(INDIRECT(ADDRESS(ROW()-1,COLUMN()))=\"\",\"\",\"欠\"),VLOOKUP($I$2,テストデータ!$A$4:$SM$503,480+12,FALSE))","v":""},{"$f":"IF(VLOOKUP($I$2,テストデータ!$A$4:$SM$503,480+13,FALSE)=\"\",IF(INDIRECT(ADDRESS(ROW()-1,COLUMN()))=\"\",\"\",\"欠\"),VLOOKUP($I$2,テストデータ!$A$4:$SM$503,480+13,FALSE))","v":""}]
[null,null,"平均点",{"$f":"IF(COUNT(テストデータ!RL$4:RL$503)=0,NA(),AVERAGE(テストデータ!RL$4:RL$503))","v":55.722222222222221},{"$f":"IF(COUNT(テストデータ!RM$4:RM$503)=0,NA(),AVERAGE(テストデータ!RM$4:RM$503))","v":48.35},{"$f":"IF(COUNT(テストデータ!RN$4:RN$503)=0,NA(),AVERAGE(テストデータ!RN$4:RN$503))","v":47},{"$f":"IF(COUNT(テストデータ!RO$4:RO$503)=0,NA(),AVERAGE(テストデータ!RO$4:RO$503))","v":46.7},{"$f":"IF(COUNT(テストデータ!RP$4:RP$503)=0,NA(),AVERAGE(テストデータ!RP$4:RP$503))","v":52.55},{"$f":"IF(COUNT(テストデータ!RQ$4:RQ$503)=0,NA(),AVERAGE(テストデータ!RQ$4:RQ$503))","v":52},{"$f":"IF(COUNT(テストデータ!RR$4:RR$503)=0,NA(),AVERAGE(テストデータ!RR$4:RR$503))","v":56.25},{"$f":"IF(COUNT(テストデータ!RS$4:RS$503)=0,NA(),AVERAGE(テストデータ!RS$4:RS$503))","v":61.736842105263158},{"$f":"IF(COUNT(テストデータ!RT$4:RT$503)=0,NA(),AVERAGE(テストデータ!RT$4:RT$503))","v":60.2},{"$f":"IF(COUNT(テストデータ!RU$4:RU$503)=0,NA(),AVERAGE(テストデータ!RU$4:RU$503))","v":53.842105263157897},{"$f":"IF(COUNT(テストデータ!RV$4:RV$503)=0,NA(),AVERAGE(テストデータ!RV$4:RV$503))","v":52.55},{"$f":"IF(COUNT(テストデータ!RW$4:RW$503)=0,NA(),AVERAGE(テストデータ!RW$4:RW$503))","v":{"$error":"#N/A"}},{"$f":"IF(COUNT(テストデータ!RX$4:RX$503)=0,NA(),AVERAGE(テストデータ!RX$4:RX$503))","v":{"$error":"#N/A"}},{"$f":"IF(COUNT(テストデータ!RY$4:RY$503)=0,NA(),AVERAGE(テストデータ!RY$4:RY$503))","v":{"$error":"#N/A"}}]
[null,null,"校内順位",{"$f":"IF(OR(INDIRECT(ADDRESS(ROW()-2,COLUMN()))=\"欠\",INDIRECT(ADDRESS(ROW()-2,COLUMN()))=\"\"),\"\",RANK(INDIRECT(ADDRESS(ROW()-2,COLUMN())),OFFSET(テストデータ!$RL$3,1,0):OFFSET(テストデータ!$RL$3,500,0)))","v":6},{"$f":"IF(OR(INDIRECT(ADDRESS(ROW()-2,COLUMN()))=\"欠\",INDIRECT(ADDRESS(ROW()-2,COLUMN()))=\"\"),\"\",RANK(INDIRECT(ADDRESS(ROW()-2,COLUMN())),OFFSET(テストデータ!$RL$3,1,1):OFFSET(テストデータ!$RL$3,500,1)))","v":5},{"$f":"IF(OR(INDIRECT(ADDRESS(ROW()-2,COLUMN()))=\"欠\",INDIRECT(ADDRESS(ROW()-2,COLUMN()))=\"\"),\"\",RANK(INDIRECT(ADDRESS(ROW()-2,COLUMN())),OFFSET(テストデータ!$RL$3,1,2):OFFSET(テストデータ!$RL$3,500,2)))","v":9},{"$f":"IF(OR(INDIRECT(ADDRESS(ROW()-2,COLUMN()))=\"欠\",INDIRECT(ADDRESS(ROW()-2,COLUMN()))=\"\"),\"\",RANK(INDIRECT(ADDRESS(ROW()-2,COLUMN())),OFFSET(テストデータ!$RL$3,1,3):OFFSET(テストデータ!$RL$3,500,3)))","v":9},{"$f":"IF(OR(INDIRECT(ADDRESS(ROW()-2,COLUMN()))=\"欠\",INDIRECT(ADDRESS(ROW()-2,COLUMN()))=\"\"),\"\",RANK(INDIRECT(ADDRESS(ROW()-2,COLUMN())),OFFSET(テストデータ!$RL$3,1,4):OFFSET(テストデータ!$RL$3,500,4)))","v":10},{"$f":"IF(OR(INDIRECT(ADDRESS(ROW()-2,COLUMN()))=\"欠\",INDIRECT(ADDRESS(ROW()-2,COLUMN()))=\"\"),\"\",RANK(INDIRECT(ADDRESS(ROW()-2,COLUMN())),OFFSET(テストデータ!$RL$3,1,5):OFFSET(テストデータ!$RL$3,500,5)))","v":19},{"$f":"IF(OR(INDIRECT(ADDRESS(ROW()-2,COLUMN()))=\"欠\",INDIRECT(ADDRESS(ROW()-2,COLUMN()))=\"\"),\"\",RANK(INDIRECT(ADDRESS(ROW()-2,COLUMN())),OFFSET(テストデータ!$RL$3,1,6):OFFSET(テストデータ!$RL$3,500,6)))","v":11},{"$f":"IF(OR(INDIRECT(ADDRESS(ROW()-2,COLUMN()))=\"欠\",INDIRECT(ADDRESS(ROW()-2,COLUMN()))=\"\"),\"\",RANK(INDIRECT(ADDRESS(ROW()-2,COLUMN())),OFFSET(テストデータ!$RL$3,1,7):OFFSET(テストデータ!$RL$3,500,7)))","v":16},{"$f":"IF(OR(INDIRECT(ADDRESS(ROW()-2,COLUMN()))=\"欠\",INDIRECT(ADDRESS(ROW()-2,COLUMN()))=\"\"),\"\",RANK(INDIRECT(ADDRESS(ROW()-2,COLUMN())),OFFSET(テストデータ!$RL$3,1,8):OFFSET(テストデータ!$RL$3,500,8)))","v":6},{"$f":"IF(OR(INDIRECT(ADDRESS(ROW()-2,COLUMN()))=\"欠\",INDIRECT(ADDRESS(ROW()-2,COLUMN()))=\"\"),\"\",RANK(INDIRECT(ADDRESS(ROW()-2,COLUMN())),OFFSET(テストデータ!$RL$3,1,9):OFFSET(テストデータ!$RL$3,500,9)))","v":15},{"$f":"IF(OR(INDIRECT(ADDRESS(ROW()-2,COLUMN()))=\"欠\",INDIRECT(ADDRESS(ROW()-2,COLUMN()))=\"\"),\"\",RANK(INDIRECT(ADDRESS(ROW()-2,COLUMN())),OFFSET(テストデータ!$RL$3,1,10):OFFSET(テストデータ!$RL$3,500,10)))","v":10},{"$f":"IF(OR(INDIRECT(ADDRESS(ROW()-2,COLUMN()))=\"欠\",INDIRECT(ADDRESS(ROW()-2,COLUMN()))=\"\"),\"\",RANK(INDIRECT(ADDRESS(ROW()-2,COLUMN())),OFFSET(テストデータ!$RL$3,1,11):OFFSET(テストデータ!$RL$3,500,11)))","v":""},{"$f":"IF(OR(INDIRECT(ADDRESS(ROW()-2,COLUMN()))=\"欠\",INDIRECT(ADDRESS(ROW()-2,COLUMN()))=\"\"),\"\",RANK(INDIRECT(ADDRESS(ROW()-2,COLUMN())),OFFSET(テストデータ!$RL$3,1,12):OFFSET(テストデータ!$RL$3,500,12)))","v":""},{"$f":"IF(OR(INDIRECT(ADDRESS(ROW()-2,COLUMN()))=\"欠\",INDIRECT(ADDRESS(ROW()-2,COLUMN()))=\"\"),\"\",RANK(INDIRECT(ADDRESS(ROW()-2,COLUMN())),OFFSET(テストデータ!$RL$3,1,13):OFFSET(テストデータ!$RL$3,500,13)))","v":""}]
[null,{"$f":"IF(テストデータ!$RZ$2=\"\",\"\",テストデータ!$RZ$2)","v":"10/12～10/13"},null,{"$f":"IF(初期設定!$C$38=\"\",\"\",初期設定!$C$38)","v":"国総"},{"$f":"IF(初期設定!$C$39=\"\",\"\",初期設定!$C$39)","v":"英表"},{"$f":"IF(初期設定!$C$40=\"\",\"\",初期設定!$C$40)","v":"コ英"},{"$f":"IF(初期設定!$C$41=\"\",\"\",初期設定!$C$41)","v":"数Ⅰ"},{"$f":"IF(初期設定!$C$42=\"\",\"\",初期設定!$C$42)","v":"数A"},{"$f":"IF(初期設定!$C$43=\"\",\"\",初期設定!$C$43)","v":"世B"},{"$f":"IF(初期設定!$C$44=\"\",\"\",初期設定!$C$44)","v":"化基"},{"$f":"IF(初期設定!$C$45=\"\",\"\",初期設定!$C$45)","v":"情報"},{"$f":"IF(初期設定!$C$46=\"\",\"\",初期設定!$C$46)","v":"芸術"},{"$f":"IF(初期設定!$C$47=\"\",\"\",初期設定!$C$47)","v":"体育"},{"$f":"IF(初期設定!$C$48=\"\",\"\",初期設定!$C$48)","v":"保健"},{"$f":"IF(初期設定!$C$49=\"\",\"\",初期設定!$C$49)","v":""},{"$f":"IF(初期設定!$C$50=\"\",\"\",初期設定!$C$50)","v":""},{"$f":"IF(初期設定!$C$51=\"\",\"\",初期設定!$C$51)","v":""}]
[null,"第8回","得点",{"$f":"IF(VLOOKUP($I$2,テストデータ!$A$4:$SM$503,494+0,FALSE)=\"\",IF(INDIRECT(ADDRESS(ROW()-1,COLUMN()))=\"\",\"\",\"欠\"),VLOOKUP($I$2,テストデータ!$A$4:$SM$503,494+0,FALSE))","v":69},{"$f":"IF(VLOOKUP($I$2,テストデータ!$A$4:$SM$503,494+1,FALSE)=\"\",IF(INDIRECT(ADDRESS(ROW()-1,COLUMN()))=\"\",\"\",\"欠\"),VLOOKUP($I$2,テストデータ!$A$4:$SM$503,494+1,FALSE))","v":80},{"$f":"IF(VLOOKUP($I$2,テストデータ!$A$4:$SM$503,494+2,FALSE)=\"\",IF(INDIRECT(ADDRESS(ROW()-1,COLUMN()))=\"\",\"\",\"欠\"),VLOOKUP($I$2,テストデータ!$A$4:$SM$503,494+2,FALSE))","v":51},{"$f":"IF(VLOOKUP($I$2,テストデータ!$A$4:$SM$503,494+3,FALSE)=\"\",IF(INDIRECT(ADDRESS(ROW()-1,COLUMN()))=\"\",\"\",\"欠\"),VLOOKUP($I$2,テストデータ!$A$4:$SM$503,494+3,FALSE))","v":35},{"$f":"IF(VLOOKUP($I$2,テストデータ!$A$4:$SM$503,494+4,FALSE)=\"\",IF(INDIRECT(ADDRESS(ROW()-1,COLUMN()))=\"\",\"\",\"欠\"),VLOOKUP($I$2,テストデータ!$A$4:$SM$503,494+4,FALSE))","v":55},{"$f":"IF(VLOOKUP($I$2,テストデータ!$A$4:$SM$503,494+5,FALSE)=\"\",IF(INDIRECT(ADDRESS(ROW()-1,COLUMN()))=\"\",\"\",\"欠\"),VLOOKUP($I$2,テストデータ!$A$4:$SM$503,494+5,FALSE))","v":11},{"$f":"IF(VLOOKUP($I$2,テストデータ!$A$4:$SM$503,494+6,FALSE)=\"\",IF(INDIRECT(ADDRESS(ROW()-1,COLUMN()))=\"\",\"\",\"欠\"),VLOOKUP($I$2,テストデータ!$A$4:$SM$503,494+6,FALSE))","v":54},{"$f":"IF(VLOOKUP($I$2,テストデータ!$A$4:$SM$503,494+7,FALSE)=\"\",IF(INDIRECT(ADDRESS(ROW()-1,COLUMN()))=\"\",\"\",\"欠\"),VLOOKUP($I$2,テストデータ!$A$4:$SM$503,494+7,FALSE))","v":33},{"$f":"IF(VLOOKUP($I$2,テストデータ!$A$4:$SM$503,494+8,FALSE)=\"\",IF(INDIRECT(ADDRESS(ROW()-1,COLUMN()))=\"\",\"\",\"欠\"),VLOOKUP($I$2,テストデータ!$A$4:$SM$503,494+8,FALSE))","v":88},{"$f":"IF(VLOOKUP($I$2,テストデータ!$A$4:$SM$503,494+9,FALSE)=\"\",IF(INDIRECT(ADDRESS(ROW()-1,COLUMN()))=\"\",\"\",\"欠\"),VLOOKUP($I$2,テストデータ!$A$4:$SM$503,494+9,FALSE))","v":32},{"$f":"IF(VLOOKUP($I$2,テストデータ!$A$4:$SM$503,494+10,FALSE)=\"\",IF(INDIRECT(ADDRESS(ROW()-1,COLUMN()))=\"\",\"\",\"欠\"),VLOOKUP($I$2,テストデータ!$A$4:$SM$503,494+10,FALSE))","v":55},{"$f":"IF(VLOOKUP($I$2,テストデータ!$A$4:$SM$503,494+11,FALSE)=\"\",IF(INDIRECT(ADDRESS(ROW()-1,COLUMN()))=\"\",\"\",\"欠\"),VLOOKUP($I$2,テストデータ!$A$4:$SM$503,494+11,FALSE))","v":""},{"$f":"IF(VLOOKUP($I$2,テストデータ!$A$4:$SM$503,494+12,FALSE)=\"\",IF(INDIRECT(ADDRESS(ROW()-1,COLUMN()))=\"\",\"\",\"欠\"),VLOOKUP($I$2,テストデータ!$A$4:$SM$503,494+12,FALSE))","v":""},{"$f":"IF(VLOOKUP($I$2,テストデータ!$A$4:$SM$503,494+13,FALSE)=\"\",IF(INDIRECT(ADDRESS(ROW()-1,COLUMN()))=\"\",\"\",\"欠\"),VLOOKUP($I$2,テストデータ!$A$4:$SM$503,494+13,FALSE))","v":""}]
[null,null,"平均点",{"$f":"IF(COUNT(テストデータ!RZ$4:RZ$503)=0,NA(),AVERAGE(テストデータ!RZ$4:RZ$503))","v":55.722222222222221},{"$f":"IF(COUNT(テストデータ!SA$4:SA$503)=0,NA(),AVERAGE(テストデータ!SA$4:SA$503))","v":48.35},{"$f":"IF(COUNT(テストデータ!SB$4:SB$503)=0,NA(),AVERAGE(テストデータ!SB$4:SB$503))","v":47},{"$f":"IF(COUNT(テストデータ!SC$4:SC$503)=0,NA(),AVERAGE(テストデータ!SC$4:SC$503))","v":46.7},{"$f":"IF(COUNT(テストデータ!SD$4:SD$503)=0,NA(),AVERAGE(テストデータ!SD$4:SD$503))","v":52.55},{"$f":"IF(COUNT(テストデータ!SE$4:SE$503)=0,NA(),AVERAGE(テストデータ!SE$4:SE$503))","v":52},{"$f":"IF(COUNT(テストデータ!SF$4:SF$503)=0,NA(),AVERAGE(テストデータ!SF$4:SF$503))","v":56.25},{"$f":"IF(COUNT(テストデータ!SG$4:SG$503)=0,NA(),AVERAGE(テストデータ!SG$4:SG$503))","v":61.736842105263158},{"$f":"IF(COUNT(テストデータ!SH$4:SH$503)=0,NA(),AVERAGE(テストデータ!SH$4:SH$503))","v":60.2},{"$f":"IF(COUNT(テストデータ!SI$4:SI$503)=0,NA(),AVERAGE(テストデータ!SI$4:SI$503))","v":53.842105263157897},{"$f":"IF(COUNT(テストデータ!SJ$4:SJ$503)=0,NA(),AVERAGE(テストデータ!SJ$4:SJ$503))","v":52.55},{"$f":"IF(COUNT(テストデータ!SK$4:SK$503)=0,NA(),AVERAGE(テストデータ!SK$4:SK$503))","v":{"$error":"#N/A"}},{"$f":"IF(COUNT(テストデータ!SL$4:SL$503)=0,NA(),AVERAGE(テストデータ!SL$4:SL$503))","v":{"$error":"#N/A"}},{"$f":"IF(COUNT(テストデータ!SM$4:SM$503)=0,NA(),AVERAGE(テストデータ!SM$4:SM$503))","v":{"$error":"#N/A"}}]
[null,null,"校内順位",{"$f":"IF(OR(INDIRECT(ADDRESS(ROW()-2,COLUMN()))=\"欠\",INDIRECT(ADDRESS(ROW()-2,COLUMN()))=\"\"),\"\",RANK(INDIRECT(ADDRESS(ROW()-2,COLUMN())),OFFSET(テストデータ!$RZ$3,1,0):OFFSET(テストデータ!$RZ$3,500,0)))","v":6},{"$f":"IF(OR(INDIRECT(ADDRESS(ROW()-2,COLUMN()))=\"欠\",INDIRECT(ADDRESS(ROW()-2,COLUMN()))=\"\"),\"\",RANK(INDIRECT(ADDRESS(ROW()-2,COLUMN())),OFFSET(テストデータ!$RZ$3,1,1):OFFSET(テストデータ!$RZ$3,500,1)))","v":5},{"$f":"IF(OR(INDIRECT(ADDRESS(ROW()-2,COLUMN()))=\"欠\",INDIRECT(ADDRESS(ROW()-2,COLUMN()))=\"\"),\"\",RANK(INDIRECT(ADDRESS(ROW()-2,COLUMN())),OFFSET(テストデータ!$RZ$3,1,2):OFFSET(テストデータ!$RZ$3,500,2)))","v":9},{"$f":"IF(OR(INDIRECT(ADDRESS(ROW()-2,COLUMN()))=\"欠\",INDIRECT(ADDRESS(ROW()-2,COLUMN()))=\"\"),\"\",RANK(INDIRECT(ADDRESS(ROW()-2,COLUMN())),OFFSET(テストデータ!$RZ$3,1,3):OFFSET(テストデータ!$RZ$3,500,3)))","v":9},{"$f":"IF(OR(INDIRECT(ADDRESS(ROW()-2,COLUMN()))=\"欠\",INDIRECT(ADDRESS(ROW()-2,COLUMN()))=\"\"),\"\",RANK(INDIRECT(ADDRESS(ROW()-2,COLUMN())),OFFSET(テストデータ!$RZ$3,1,4):OFFSET(テストデータ!$RZ$3,500,4)))","v":10},{"$f":"IF(OR(INDIRECT(ADDRESS(ROW()-2,COLUMN()))=\"欠\",INDIRECT(ADDRESS(ROW()-2,COLUMN()))=\"\"),\"\",RANK(INDIRECT(ADDRESS(ROW()-2,COLUMN())),OFFSET(テストデータ!$RZ$3,1,5):OFFSET(テストデータ!$RZ$3,500,5)))","v":19},{"$f":"IF(OR(INDIRECT(ADDRESS(ROW()-2,COLUMN()))=\"欠\",INDIRECT(ADDRESS(ROW()-2,COLUMN()))=\"\"),\"\",RANK(INDIRECT(ADDRESS(ROW()-2,COLUMN())),OFFSET(テストデータ!$RZ$3,1,6):OFFSET(テストデータ!$RZ$3,500,6)))","v":11},{"$f":"IF(OR(INDIRECT(ADDRESS(ROW()-2,COLUMN()))=\"欠\",INDIRECT(ADDRESS(ROW()-2,COLUMN()))=\"\"),\"\",RANK(INDIRECT(ADDRESS(ROW()-2,COLUMN())),OFFSET(テストデータ!$RZ$3,1,7):OFFSET(テストデータ!$RZ$3,500,7)))","v":16},{"$f":"IF(OR(INDIRECT(ADDRESS(ROW()-2,COLUMN()))=\"欠\",INDIRECT(ADDRESS(ROW()-2,COLUMN()))=\"\"),\"\",RANK(INDIRECT(ADDRESS(ROW()-2,COLUMN())),OFFSET(テストデータ!$RZ$3,1,8):OFFSET(テストデータ!$RZ$3,500,8)))","v":6},{"$f":"IF(OR(INDIRECT(ADDRESS(ROW()-2,COLUMN()))=\"欠\",INDIRECT(ADDRESS(ROW()-2,COLUMN()))=\"\"),\"\",RANK(INDIRECT(ADDRESS(ROW()-2,COLUMN())),OFFSET(テストデータ!$RZ$3,1,9):OFFSET(テストデータ!$RZ$3,500,9)))","v":15},{"$f":"IF(OR(INDIRECT(ADDRESS(ROW()-2,COLUMN()))=\"欠\",INDIRECT(ADDRESS(ROW()-2,COLUMN()))=\"\"),\"\",RANK(INDIRECT(ADDRESS(ROW()-2,COLUMN())),OFFSET(テストデータ!$RZ$3,1,10):OFFSET(テストデータ!$RZ$3,500,10)))","v":10},{"$f":"IF(OR(INDIRECT(ADDRESS(ROW()-2,COLUMN()))=\"欠\",INDIRECT(ADDRESS(ROW()-2,COLUMN()))=\"\"),\"\",RANK(INDIRECT(ADDRESS(ROW()-2,COLUMN())),OFFSET(テストデータ!$RZ$3,1,11):OFFSET(テストデータ!$RZ$3,500,11)))","v":""},{"$f":"IF(OR(INDIRECT(ADDRESS(ROW()-2,COLUMN()))=\"欠\",INDIRECT(ADDRESS(ROW()-2,COLUMN()))=\"\"),\"\",RANK(INDIRECT(ADDRESS(ROW()-2,COLUMN())),OFFSET(テストデータ!$RZ$3,1,12):OFFSET(テストデータ!$RZ$3,500,12)))","v":""},{"$f":"IF(OR(INDIRECT(ADDRESS(ROW()-2,COLUMN()))=\"欠\",INDIRECT(ADDRESS(ROW()-2,COLUMN()))=\"\"),\"\",RANK(INDIRECT(ADDRESS(ROW()-2,COLUMN())),OFFSET(テストデータ!$RZ$3,1,13):OFFSET(テストデータ!$RZ$3,500,13)))","v":""}]

{"sheet":"科目別テスト集計","index":3,"n_rows":505,"n_cols":9,"rows_kept":505,"cut":false,"hidden":false,"merged":[[5,7,5,8],[2,1,2,2]]}
[]
[null,"科目別テスト集計"]
[null,"科目：",null,"国総","クラス：","全クラス","実施日：","4/3"]
[]
[null,"ID","クラス","氏名","点数","順位",null,"平均点：","48.4点"]
[null,1,"3-A","鈴木A男",50,{"$f":"IF(E6=\"\",\"\",RANK(E6,$E$6:$E$505))","v":9},null,"クラス別平均点"]
[null,2,"3-A","鈴木B男",24,{"$f":"IF(E7=\"\",\"\",RANK(E7,$E$6:$E$505))","v":14},null,"3-A：","27.3点"]
[null,3,"3-A","鈴木C男",23,15,null,"3-B：","67.3点"]
[null,4,"3-A","鈴木D男",35,12,null,"3-C：","47.4点"]
[null,5,"3-A","鈴木E男",11,19]
[null,6,"3-A","鈴木F男",21,17]
[null,7,"3-B","鈴木G男",80,5]
[null,8,"3-B","鈴木H男",23,15]
[null,9,"3-B","鈴木I男",54,8]
[null,10,"3-B","鈴木J男",80,5]
[null,11,"3-B","鈴木K男",90,2]
[null,12,"3-B","鈴木L男",87,3]
[null,13,"3-B","鈴木M男",57,7]
[null,14,"3-C","鈴木N男",50,9]
[null,15,"3-C","鈴木O男",86,4]
[null,16,"3-C","鈴木P男",44,11]
[null,17,"3-C","鈴木Q男",10,20]
[null,18,"3-C","鈴木R男",12,18]
[null,19,"3-C","鈴木S男",31,13]
[null,20,"3-C","鈴木T男",99,1]
[null,null,null,null,null,""]
[null,null,null,null,null,""]
[null,null,null,null,null,""]
[null,null,null,null,null,""]
[null,null,null,null,null,""]
[null,null,null,null,null,{"$f":"IF(E31=\"\",\"\",RANK(E31,$E$6:$E$505))","v":""}]
[null,null,null,null,null,""]
[null,null,null,null,null,""]
[null,null,null,null,null,""]
[null,null,null,null,null,""]
[null,null,null,null,null,""]
[null,null,null,null,null,""]
[null,null,null,null,null,""]
[null,null,null,null,null,""]
[null,null,null,null,null,""]
[null,null,null,null,null,""]
[null,null,null,null,null,""]
[null,null,null,null,null,""]
[null,null,null,null,null,""]
[null,null,null,null,null,""]
[null,null,null,null,null,""]
[null,null,null,null,null,""]
[null,null,null,null,null,""]
[null,null,null,null,null,""]
[null,null,null,null,null,""]
[null,null,null,null,null,""]
[null,null,null,null,null,""]
[null,null,null,null,null,""]
[null,null,null,null,null,""]
[null,null,null,null,null,""]
[null,null,null,null,null,""]
[null,null,null,null,null,""]
[null,null,null,null,null,""]
[null,null,null,null,null,""]
[null,null,null,null,null,""]
[null,null,null,null,null,""]
[null,null,null,null,null,""]
[null,null,null,null,null,""]
[null,null,null,null,null,""]
[null,null,null,null,null,""]
[null,null,null,null,null,""]
[null,null,null,null,null,""]
[null,null,null,null,null,""]
[null,null,null,null,null,""]
[null,null,null,null,null,""]
[null,null,null,null,null,{"$f":"IF(E71=\"\",\"\",RANK(E71,$E$6:$E$505))","v":""}]
[null,null,null,null,null,""]
[null,null,null,null,null,""]
[null,null,null,null,null,""]
[null,null,null,null,null,""]
[null,null,null,null,null,""]
[null,null,null,null,null,""]
[null,null,null,null,null,""]
[null,null,null,null,null,""]
[null,null,null,null,null,""]
[null,null,null,null,null,""]
[null,null,null,null,null,""]
[null,null,null,null,null,""]
[null,null,null,null,null,""]
[null,null,null,null,null,""]
[null,null,null,null,null,""]
[null,null,null,null,null,""]
[null,null,null,null,null,""]
[null,null,null,null,null,""]
[null,null,null,null,null,""]
[null,null,null,null,null,""]
[null,null,null,null,null,""]
[null,null,null,null,null,""]
[null,null,null,null,null,""]
[null,null,null,null,null,""]
[null,null,null,null,null,""]
[null,null,null,null,null,""]
[null,null,null,null,null,""]
[null,null,null,null,null,""]
[null,null,null,null,null,""]
[null,null,null,null,null,""]
[null,null,null,null,null,""]
[null,null,null,null,null,""]
[null,null,null,null,null,""]
[null,null,null,null,null,""]
[null,null,null,null,null,""]
[null,null,null,null,null,""]
[null,null,null,null,null,""]
[null,null,null,null,null,""]
[null,null,null,null,null,""]
[null,null,null,null,null,""]
[null,null,null,null,null,""]
[null,null,null,null,null,""]
[null,null,null,null,null,""]
[null,null,null,null,null,""]
[null,null,null,null,null,""]
[null,null,null,null,null,""]
[null,null,null,null,null,""]
[null,null,null,null,null,""]
[null,null,null,null,null,""]
[null,null,null,null,null,""]
[null,null,null,null,null,""]
[null,null,null,null,null,""]
[null,null,null,null,null,""]
[null,null,null,null,null,""]
[null,null,null,null,null,""]
[null,null,null,null,null,""]
[null,null,null,null,null,""]
[null,null,null,null,null,""]
[null,null,null,null,null,""]
[null,null,null,null,null,""]
[null,null,null,null,null,""]
[null,null,null,null,null,""]
[null,null,null,null,null,""]
[null,null,null,null,null,{"$f":"IF(E135=\"\",\"\",RANK(E135,$E$6:$E$505))","v":""}]
[null,null,null,null,null,""]
[null,null,null,null,null,""]
[null,null,null,null,null,""]
[null,null,null,null,null,""]
[null,null,null,null,null,""]
[null,null,null,null,null,""]
[null,null,null,null,null,""]
[null,null,null,null,null,""]
[null,null,null,null,null,""]
[null,null,null,null,null,""]
[null,null,null,null,null,""]
[null,null,null,null,null,""]
[null,null,null,null,null,""]
[null,null,null,null,null,""]
[null,null,null,null,null,""]
[null,null,null,null,null,""]
[null,null,null,null,null,""]
[null,null,null,null,null,""]
[null,null,null,null,null,""]
[null,null,null,null,null,""]
[null,null,null,null,null,""]
[null,null,null,null,null,""]
[null,null,null,null,null,""]
[null,null,null,null,null,""]
[null,null,null,null,null,""]
[null,null,null,null,null,""]
[null,null,null,null,null,""]
[null,null,null,null,null,""]
[null,null,null,null,null,""]
[null,null,null,null,null,""]
[null,null,null,null,null,""]
[null,null,null,null,null,""]
[null,null,null,null,null,""]
[null,null,null,null,null,""]
[null,null,null,null,null,""]
[null,null,null,null,null,""]
[null,null,null,null,null,""]
[null,null,null,null,null,""]
[null,null,null,null,null,""]
[null,null,null,null,null,""]
[null,null,null,null,null,""]
[null,null,null,null,null,""]
[null,null,null,null,null,""]
[null,null,null,null,null,""]
[null,null,null,null,null,""]
[null,null,null,null,null,""]
[null,null,null,null,null,""]
[null,null,null,null,null,""]
[null,null,null,null,null,""]
[null,null,null,null,null,""]
[null,null,null,null,null,""]
[null,null,null,null,null,""]
[null,null,null,null,null,""]
[null,null,null,null,null,""]
[null,null,null,null,null,""]
[null,null,null,null,null,""]
[null,null,null,null,null,""]
[null,null,null,null,null,""]
[null,null,null,null,null,""]
[null,null,null,null,null,""]
[null,null,null,null,null,""]
[null,null,null,null,null,""]
[null,null,null,null,null,""]
[null,null,null,null,null,{"$f":"IF(E199=\"\",\"\",RANK(E199,$E$6:$E$505))","v":""}]
[null,null,null,null,null,""]
[null,null,null,null,null,""]
[null,null,null,null,null,""]
[null,null,null,null,null,""]
[null,null,null,null,null,""]
[null,null,null,null,null,""]
[null,null,null,null,null,""]
[null,null,null,null,null,""]
[null,null,null,null,null,""]
[null,null,null,null,null,""]
[null,null,null,null,null,""]
[null,null,null,null,null,""]
[null,null,null,null,null,""]
[null,null,null,null,null,""]
[null,null,null,null,null,""]
[null,null,null,null,null,""]
[null,null,null,null,null,""]
[null,null,null,null,null,""]
[null,null,null,null,null,""]
[null,null,null,null,null,""]
[null,null,null,null,null,""]
[null,null,null,null,null,""]
[null,null,null,null,null,""]
[null,null,null,null,null,""]
[null,null,null,null,null,""]
[null,null,null,null,null,""]
[null,null,null,null,null,""]
[null,null,null,null,null,""]
[null,null,null,null,null,""]
[null,null,null,null,null,""]
[null,null,null,null,null,""]
[null,null,null,null,null,""]
[null,null,null,null,null,""]
[null,null,null,null,null,""]
[null,null,null,null,null,""]
[null,null,null,null,null,""]
[null,null,null,null,null,""]
[null,null,null,null,null,""]
[null,null,null,null,null,""]
[null,null,null,null,null,""]
[null,null,null,null,null,""]
[null,null,null,null,null,""]
[null,null,null,null,null,""]
[null,null,null,null,null,""]
[null,null,null,null,null,""]
[null,null,null,null,null,""]
[null,null,null,null,null,""]
[null,null,null,null,null,""]
[null,null,null,null,null,""]
[null,null,null,null,null,""]
[null,null,null,null,null,""]
[null,null,null,null,null,""]
[null,null,null,null,null,""]
[null,null,null,null,null,""]
[null,null,null,null,null,""]
[null,null,null,null,null,""]
[null,null,null,null,null,""]
[null,null,null,null,null,""]
[null,null,null,null,null,""]
[null,null,null,null,null,""]
[null,null,null,null,null,""]
[null,null,null,null,null,""]
[null,null,null,null,null,""]
[null,null,null,null,null,{"$f":"IF(E263=\"\",\"\",RANK(E263,$E$6:$E$505))","v":""}]
[null,null,null,null,null,""]
[null,null,null,null,null,""]
[null,null,null,null,null,""]
[null,null,null,null,null,""]
[null,null,null,null,null,""]
[null,null,null,null,null,""]
[null,null,null,null,null,""]
[null,null,null,null,null,""]
[null,null,null,null,null,""]
[null,null,null,null,null,""]
[null,null,null,null,null,""]
[null,null,null,null,null,""]
[null,null,null,null,null,""]
[null,null,null,null,null,""]
[null,null,null,null,null,""]
[null,null,null,null,null,""]
[null,null,null,null,null,""]
[null,null,null,null,null,""]
[null,null,null,null,null,""]
[null,null,null,null,null,""]
[null,null,null,null,null,""]
[null,null,null,null,null,""]
[null,null,null,null,null,""]
[null,null,null,null,null,""]
[null,null,null,null,null,""]
[null,null,null,null,null,""]
[null,null,null,null,null,""]
[null,null,null,null,null,""]
[null,null,null,null,null,""]
[null,null,null,null,null,""]
[null,null,null,null,null,""]
[null,null,null,null,null,""]
[null,null,null,null,null,""]
[null,null,null,null,null,""]
[null,null,null,null,null,""]
[null,null,null,null,null,""]
[null,null,null,null,null,""]
[null,null,null,null,null,""]
[null,null,null,null,null,""]
[null,null,null,null,null,""]
[null,null,null,null,null,""]
[null,null,null,null,null,""]
[null,null,null,null,null,""]
[null,null,null,null,null,""]
[null,null,null,null,null,""]
[null,null,null,null,null,""]
[null,null,null,null,null,""]
[null,null,null,null,null,""]
[null,null,null,null,null,""]
[null,null,null,null,null,""]
[null,null,null,null,null,""]
[null,null,null,null,null,""]
[null,null,null,null,null,""]
[null,null,null,null,null,""]
[null,null,null,null,null,""]
[null,null,null,null,null,""]
[null,null,null,null,null,""]
[null,null,null,null,null,""]
[null,null,null,null,null,""]
[null,null,null,null,null,""]
[null,null,null,null,null,""]
[null,null,null,null,null,""]
[null,null,null,null,null,""]
[null,null,null,null,null,{"$f":"IF(E327=\"\",\"\",RANK(E327,$E$6:$E$505))","v":""}]
[null,null,null,null,null,""]
[null,null,null,null,null,""]
[null,null,null,null,null,""]
[null,null,null,null,null,""]
[null,null,null,null,null,""]
[null,null,null,null,null,""]
[null,null,null,null,null,""]
[null,null,null,null,null,""]
[null,null,null,null,null,""]
[null,null,null,null,null,""]
[null,null,null,null,null,""]
[null,null,null,null,null,""]
[null,null,null,null,null,""]
[null,null,null,null,null,""]
[null,null,null,null,null,""]
[null,null,null,null,null,""]
[null,null,null,null,null,""]
[null,null,null,null,null,""]
[null,null,null,null,null,""]
[null,null,null,null,null,""]
[null,null,null,null,null,""]
[null,null,null,null,null,""]
[null,null,null,null,null,""]
[null,null,null,null,null,""]
[null,null,null,null,null,""]
[null,null,null,null,null,""]
[null,null,null,null,null,""]
[null,null,null,null,null,""]
[null,null,null,null,null,""]
[null,null,null,null,null,""]
[null,null,null,null,null,""]
[null,null,null,null,null,""]
[null,null,null,null,null,""]
[null,null,null,null,null,""]
[null,null,null,null,null,""]
[null,null,null,null,null,""]
[null,null,null,null,null,""]
[null,null,null,null,null,""]
[null,null,null,null,null,""]
[null,null,null,null,null,""]
[null,null,null,null,null,""]
[null,null,null,null,null,""]
[null,null,null,null,null,""]
[null,null,null,null,null,""]
[null,null,null,null,null,""]
[null,null,null,null,null,""]
[null,null,null,null,null,""]
[null,null,null,null,null,""]
[null,null,null,null,null,""]
[null,null,null,null,null,""]
[null,null,null,null,null,""]
[null,null,null,null,null,""]
[null,null,null,null,null,""]
[null,null,null,null,null,""]
[null,null,null,null,null,""]
[null,null,null,null,null,""]
[null,null,null,null,null,""]
[null,null,null,null,null,""]
[null,null,null,null,null,""]
[null,null,null,null,null,""]
[null,null,null,null,null,""]
[null,null,null,null,null,""]
[null,null,null,null,null,""]
[null,null,null,null,null,{"$f":"IF(E391=\"\",\"\",RANK(E391,$E$6:$E$505))","v":""}]
[null,null,null,null,null,""]
[null,null,null,null,null,""]
[null,null,null,null,null,""]
[null,null,null,null,null,""]
[null,null,null,null,null,""]
[null,null,null,null,null,""]
[null,null,null,null,null,""]
[null,null,null,null,null,""]
[null,null,null,null,null,""]
[null,null,null,null,null,""]
[null,null,null,null,null,""]
[null,null,null,null,null,""]
[null,null,null,null,null,""]
[null,null,null,null,null,""]
[null,null,null,null,null,""]
[null,null,null,null,null,""]
[null,null,null,null,null,""]
[null,null,null,null,null,""]
[null,null,null,null,null,""]
[null,null,null,null,null,""]
[null,null,null,null,null,""]
[null,null,null,null,null,""]
[null,null,null,null,null,""]
[null,null,null,null,null,""]
[null,null,null,null,null,""]
[null,null,null,null,null,""]
[null,null,null,null,null,""]
[null,null,null,null,null,""]
[null,null,null,null,null,""]
[null,null,null,null,null,""]
[null,null,null,null,null,""]
[null,null,null,null,null,""]
[null,null,null,null,null,""]
[null,null,null,null,null,""]
[null,null,null,null,null,""]
[null,null,null,null,null,""]
[null,null,null,null,null,""]
[null,null,null,null,null,""]
[null,null,null,null,null,""]
[null,null,null,null,null,""]
[null,null,null,null,null,""]
[null,null,null,null,null,""]
[null,null,null,null,null,""]
[null,null,null,null,null,""]
[null,null,null,null,null,""]
[null,null,null,null,null,""]
[null,null,null,null,null,""]
[null,null,null,null,null,""]
[null,null,null,null,null,""]
[null,null,null,null,null,""]
[null,null,null,null,null,""]
[null,null,null,null,null,""]
[null,null,null,null,null,""]
[null,null,null,null,null,""]
[null,null,null,null,null,""]
[null,null,null,null,null,""]
[null,null,null,null,null,""]
[null,null,null,null,null,""]
[null,null,null,null,null,""]
[null,null,null,null,null,""]
[null,null,null,null,null,""]
[null,null,null,null,null,""]
[null,null,null,null,null,""]
[null,null,null,null,null,{"$f":"IF(E455=\"\",\"\",RANK(E455,$E$6:$E$505))","v":""}]
[null,null,null,null,null,""]
[null,null,null,null,null,""]
[null,null,null,null,null,""]
[null,null,null,null,null,""]
[null,null,null,null,null,""]
[null,null,null,null,null,""]
[null,null,null,null,null,""]
[null,null,null,null,null,""]
[null,null,null,null,null,""]
[null,null,null,null,null,""]
[null,null,null,null,null,""]
[null,null,null,null,null,""]
[null,null,null,null,null,""]
[null,null,null,null,null,""]
[null,null,null,null,null,""]
[null,null,null,null,null,""]
[null,null,null,null,null,""]
[null,null,null,null,null,""]
[null,null,null,null,null,""]
[null,null,null,null,null,""]
[null,null,null,null,null,""]
[null,null,null,null,null,""]
[null,null,null,null,null,""]
[null,null,null,null,null,""]
[null,null,null,null,null,""]
[null,null,null,null,null,""]
[null,null,null,null,null,""]
[null,null,null,null,null,""]
[null,null,null,null,null,""]
[null,null,null,null,null,""]
[null,null,null,null,null,""]
[null,null,null,null,null,""]
[null,null,null,null,null,""]
[null,null,null,null,null,""]
[null,null,null,null,null,""]
[null,null,null,null,null,""]
[null,null,null,null,null,""]
[null,null,null,null,null,""]
[null,null,null,null,null,""]
[null,null,null,null,null,""]
[null,null,null,null,null,""]
[null,null,null,null,null,""]
[null,null,null,null,null,""]
[null,null,null,null,null,""]
[null,null,null,null,null,""]
[null,null,null,null,null,""]
[null,null,null,null,null,""]
[null,null,null,null,null,""]
[null,null,null,null,null,""]
[null,null,null,null,null,""]

{"sheet":"模試集計","index":4,"n_rows":505,"n_cols":9,"rows_kept":505,"cut":false,"hidden":false,"merged":[[2,13,2,14],[2,1,2,2],[5,7,5,8]]}
[]
[null,"模試・実力テスト集計"]
[null,"実施：",null,"第４回","科目：","コ英","クラス：","全クラス"]
[]
[null,"ID","クラス","氏名","得点","偏差値","順位","平均点：","52.6点"]
[null,1,"3-A","鈴木A男",90,25,{"$f":"IF(E6=\"\",\"\",RANK(E6,$E$6:$E$505))","v":2},"クラス別平均点"]
[null,2,"3-A","鈴木B男",25,51,{"$f":"IF(E7=\"\",\"\",RANK(E7,$E$6:$E$505))","v":16},"3-A：","49.8点"]
[null,3,"3-A","鈴木C男",70,18,6,"3-B：","51.7点"]
[null,4,"3-A","鈴木D男",82,96,4,"3-C：","55.7点"]
[null,5,"3-A","鈴木E男",14,59,20]
[null,6,"3-A","鈴木F男",18,98,18]
[null,7,"3-B","鈴木G男",55,11,10]
[null,8,"3-B","鈴木H男",88,13,3]
[null,9,"3-B","鈴木I男",49,92,11]
[null,10,"3-B","鈴木J男",47,28,12]
[null,11,"3-B","鈴木K男",41,65,14]
[null,12,"3-B","鈴木L男",18,72,18]
[null,13,"3-B","鈴木M男",64,96,7]
[null,14,"3-C","鈴木N男",58,42,9]
[null,15,"3-C","鈴木O男",44,59,13]
[null,16,"3-C","鈴木P男",19,null,17]
[null,17,"3-C","鈴木Q男",61,46,8]
[null,18,"3-C","鈴木R男",97,83,1]
[null,19,"3-C","鈴木S男",40,14,15]
[null,20,"3-C","鈴木T男",71,20,5]
[]
[null,null,null,null,null,null,""]
[null,null,null,null,null,null,""]
[null,null,null,null,null,null,""]
[null,null,null,null,null,null,""]
[null,null,null,null,null,null,""]
[null,null,null,null,null,null,""]
[null,null,null,null,null,null,""]
[null,null,null,null,null,null,""]
[null,null,null,null,null,null,""]
[null,null,null,null,null,null,""]
[null,null,null,null,null,null,""]
[null,null,null,null,null,null,""]
[null,null,null,null,null,null,""]
[null,null,null,null,null,null,""]
[null,null,null,null,null,null,""]
[null,null,null,null,null,null,""]
[null,null,null,null,null,null,""]
[null,null,null,null,null,null,""]
[null,null,null,null,null,null,""]
[null,null,null,null,null,null,""]
[null,null,null,null,null,null,""]
[null,null,null,null,null,null,""]
[null,null,null,null,null,null,""]
[null,null,null,null,null,null,""]
[null,null,null,null,null,null,""]
[null,null,null,null,null,null,""]
[null,null,null,null,null,null,""]
[null,null,null,null,null,null,""]
[null,null,null,null,null,null,""]
[null,null,null,null,null,null,""]
[null,null,null,null,null,null,""]
[null,null,null,null,null,null,""]
[null,null,null,null,null,null,""]
[null,null,null,null,null,null,""]
[null,null,null,null,null,null,""]
[null,null,null,null,null,null,""]
[null,null,null,null,null,null,""]
[null,null,null,null,null,null,""]
[null,null,null,null,null,null,""]
[null,null,null,null,null,null,""]
[null,null,null,null,null,null,""]
[null,null,null,null,null,null,""]
[null,null,null,null,null,null,""]
[null,null,null,null,null,null,""]
[null,null,null,null,null,null,{"$f":"IF(E71=\"\",\"\",RANK(E71,$E$6:$E$505))","v":""}]
[null,null,null,null,null,null,""]
[null,null,null,null,null,null,""]
[null,null,null,null,null,null,""]
[null,null,null,null,null,null,""]
[null,null,null,null,null,null,""]
[null,null,null,null,null,null,""]
[null,null,null,null,null,null,""]
[null,null,null,null,null,null,""]
[null,null,null,null,null,null,""]
[null,null,null,null,null,null,""]
[null,null,null,null,null,null,""]
[null,null,null,null,null,null,""]
[null,null,null,null,null,null,""]
[null,null,null,null,null,null,""]
[null,null,null,null,null,null,""]
[null,null,null,null,null,null,""]
[null,null,null,null,null,null,""]
[null,null,null,null,null,null,""]
[null,null,null,null,null,null,""]
[null,null,null,null,null,null,""]
[null,null,null,null,null,null,""]
[null,null,null,null,null,null,""]
[null,null,null,null,null,null,""]
[null,null,null,null,null,null,""]
[null,null,null,null,null,null,""]
[null,null,null,null,null,null,""]
[null,null,null,null,null,null,""]
[null,null,null,null,null,null,""]
[null,null,null,null,null,null,""]
[null,null,null,null,null,null,""]
[null,null,null,null,null,null,""]
[null,null,null,null,null,null,""]
[null,null,null,null,null,null,""]
[null,null,null,null,null,null,""]
[null,null,null,null,null,null,""]
[null,null,null,null,null,null,""]
[null,null,null,null,null,null,""]
[null,null,null,null,null,null,""]
[null,null,null,null,null,null,""]
[null,null,null,null,null,null,""]
[null,null,null,null,null,null,""]
[null,null,null,null,null,null,""]
[null,null,null,null,null,null,""]
[null,null,null,null,null,null,""]
[null,null,null,null,null,null,""]
[null,null,null,null,null,null,""]
[null,null,null,null,null,null,""]
[null,null,null,null,null,null,""]
[null,null,null,null,null,null,""]
[null,null,null,null,null,null,""]
[null,null,null,null,null,null,""]
[null,null,null,null,null,null,""]
[null,null,null,null,null,null,""]
[null,null,null,null,null,null,""]
[null,null,null,null,null,null,""]
[null,null,null,null,null,null,""]
[null,null,null,null,null,null,""]
[null,null,null,null,null,null,""]
[null,null,null,null,null,null,""]
[null,null,null,null,null,null,""]
[null,null,null,null,null,null,""]
[null,null,null,null,null,null,""]
[null,null,null,null,null,null,""]
[null,null,null,null,null,null,{"$f":"IF(E135=\"\",\"\",RANK(E135,$E$6:$E$505))","v":""}]
[null,null,null,null,null,null,""]
[null,null,null,null,null,null,""]
[null,null,null,null,null,null,""]
[null,null,null,null,null,null,""]
[null,null,null,null,null,null,""]
[null,null,null,null,null,null,""]
[null,null,null,null,null,null,""]
[null,null,null,null,null,null,""]
[null,null,null,null,null,null,""]
[null,null,null,null,null,null,""]
[null,null,null,null,null,null,""]
[null,null,null,null,null,null,""]
[null,null,null,null,null,null,""]
[null,null,null,null,null,null,""]
[null,null,null,null,null,null,""]
[null,null,null,null,null,null,""]
[null,null,null,null,null,null,""]
[null,null,null,null,null,null,""]
[null,null,null,null,null,null,""]
[null,null,null,null,null,null,""]
[null,null,null,null,null,null,""]
[null,null,null,null,null,null,""]
[null,null,null,null,null,null,""]
[null,null,null,null,null,null,""]
[null,null,null,null,null,null,""]
[null,null,null,null,null,null,""]
[null,null,null,null,null,null,""]
[null,null,null,null,null,null,""]
[null,null,null,null,null,null,""]
[null,null,null,null,null,null,""]
[null,null,null,null,null,null,""]
[null,null,null,null,null,null,""]
[null,null,null,null,null,null,""]
[null,null,null,null,null,null,""]
[null,null,null,null,null,null,""]
[null,null,null,null,null,null,""]
[null,null,null,null,null,null,""]
[null,null,null,null,null,null,""]
[null,null,null,null,null,null,""]
[null,null,null,null,null,null,""]
[null,null,null,null,null,null,""]
[null,null,null,null,null,null,""]
[null,null,null,null,null,null,""]
[null,null,null,null,null,null,""]
[null,null,null,null,null,null,""]
[null,null,null,null,null,null,""]
[null,null,null,null,null,null,""]
[null,null,null,null,null,null,""]
[null,null,null,null,null,null,""]
[null,null,null,null,null,null,""]
[null,null,null,null,null,null,""]
[null,null,null,null,null,null,""]
[null,null,null,null,null,null,""]
[null,null,null,null,null,null,""]
[null,null,null,null,null,null,""]
[null,null,null,null,null,null,""]
[null,null,null,null,null,null,""]
[null,null,null,null,null,null,""]
[null,null,null,null,null,null,""]
[null,null,null,null,null,null,""]
[null,null,null,null,null,null,""]
[null,null,null,null,null,null,""]
[null,null,null,null,null,null,""]
[null,null,null,null,null,null,{"$f":"IF(E199=\"\",\"\",RANK(E199,$E$6:$E$505))","v":""}]
[null,null,null,null,null,null,""]
[null,null,null,null,null,null,""]
[null,null,null,null,null,null,""]
[null,null,null,null,null,null,""]
[null,null,null,null,null,null,""]
[null,null,null,null,null,null,""]
[null,null,null,null,null,null,""]
[null,null,null,null,null,null,""]
[null,null,null,null,null,null,""]
[null,null,null,null,null,null,""]
[null,null,null,null,null,null,""]
[null,null,null,null,null,null,""]
[null,null,null,null,null,null,""]
[null,null,null,null,null,null,""]
[null,null,null,null,null,null,""]
[null,null,null,null,null,null,""]
[null,null,null,null,null,null,""]
[null,null,null,null,null,null,""]
[null,null,null,null,null,null,""]
[null,null,null,null,null,null,""]
[null,null,null,null,null,null,""]
[null,null,null,null,null,null,""]
[null,null,null,null,null,null,""]
[null,null,null,null,null,null,""]
[null,null,null,null,null,null,""]
[null,null,null,null,null,null,""]
[null,null,null,null,null,null,""]
[null,null,null,null,null,null,""]
[null,null,null,null,null,null,""]
[null,null,null,null,null,null,""]
[null,null,null,null,null,null,""]
[null,null,null,null,null,null,""]
[null,null,null,null,null,null,""]
[null,null,null,null,null,null,""]
[null,null,null,null,null,null,""]
[null,null,null,null,null,null,""]
[null,null,null,null,null,null,""]
[null,null,null,null,null,null,""]
[null,null,null,null,null,null,""]
[null,null,null,null,null,null,""]
[null,null,null,null,null,null,""]
[null,null,null,null,null,null,""]
[null,null,null,null,null,null,""]
[null,null,null,null,null,null,""]
[null,null,null,null,null,null,""]
[null,null,null,null,null,null,""]
[null,null,null,null,null,null,""]
[null,null,null,null,null,null,""]
[null,null,null,null,null,null,""]
[null,null,null,null,null,null,""]
[null,null,null,null,null,null,""]
[null,null,null,null,null,null,""]
[null,null,null,null,null,null,""]
[null,null,null,null,null,null,""]
[null,null,null,null,null,null,""]
[null,null,null,null,null,null,""]
[null,null,null,null,null,null,""]
[null,null,null,null,null,null,""]
[null,null,null,null,null,null,""]
[null,null,null,null,null,null,""]
[null,null,null,null,null,null,""]
[null,null,null,null,null,null,""]
[null,null,null,null,null,null,""]
[null,null,null,null,null,null,{"$f":"IF(E263=\"\",\"\",RANK(E263,$E$6:$E$505))","v":""}]
[null,null,null,null,null,null,""]
[null,null,null,null,null,null,""]
[null,null,null,null,null,null,""]
[null,null,null,null,null,null,""]
[null,null,null,null,null,null,""]
[null,null,null,null,null,null,""]
[null,null,null,null,null,null,""]
[null,null,null,null,null,null,""]
[null,null,null,null,null,null,""]
[null,null,null,null,null,null,""]
[null,null,null,null,null,null,""]
[null,null,null,null,null,null,""]
[null,null,null,null,null,null,""]
[null,null,null,null,null,null,""]
[null,null,null,null,null,null,""]
[null,null,null,null,null,null,""]
[null,null,null,null,null,null,""]
[null,null,null,null,null,null,""]
[null,null,null,null,null,null,""]
[null,null,null,null,null,null,""]
[null,null,null,null,null,null,""]
[null,null,null,null,null,null,""]
[null,null,null,null,null,null,""]
[null,null,null,null,null,null,""]
[null,null,null,null,null,null,""]
[null,null,null,null,null,null,""]
[null,null,null,null,null,null,""]
[null,null,null,null,null,null,""]
[null,null,null,null,null,null,""]
[null,null,null,null,null,null,""]
[null,null,null,null,null,null,""]
[null,null,null,null,null,null,""]
[null,null,null,null,null,null,""]
[null,null,null,null,null,null,""]
[null,null,null,null,null,null,""]
[null,null,null,null,null,null,""]
[null,null,null,null,null,null,""]
[null,null,null,null,null,null,""]
[null,null,null,null,null,null,""]
[null,null,null,null,null,null,""]
[null,null,null,null,null,null,""]
[null,null,null,null,null,null,""]
[null,null,null,null,null,null,""]
[null,null,null,null,null,null,""]
[null,null,null,null,null,null,""]
[null,null,null,null,null,null,""]
[null,null,null,null,null,null,""]
[null,null,null,null,null,null,""]
[null,null,null,null,null,null,""]
[null,null,null,null,null,null,""]
[null,null,null,null,null,null,""]
[null,null,null,null,null,null,""]
[null,null,null,null,null,null,""]
[null,null,null,null,null,null,""]
[null,null,null,null,null,null,""]
[null,null,null,null,null,null,""]
[null,null,null,null,null,null,""]
[null,null,null,null,null,null,""]
[null,null,null,null,null,null,""]
[null,null,null,null,null,null,""]
[null,null,null,null,null,null,""]
[null,null,null,null,null,null,""]
[null,null,null,null,null,null,""]
[null,null,null,null,null,null,{"$f":"IF(E327=\"\",\"\",RANK(E327,$E$6:$E$505))","v":""}]
[null,null,null,null,null,null,""]
[null,null,null,null,null,null,""]
[null,null,null,null,null,null,""]
[null,null,null,null,null,null,""]
[null,null,null,null,null,null,""]
[null,null,null,null,null,null,""]
[null,null,null,null,null,null,""]
[null,null,null,null,null,null,""]
[null,null,null,null,null,null,""]
[null,null,null,null,null,null,""]
[null,null,null,null,null,null,""]
[null,null,null,null,null,null,""]
[null,null,null,null,null,null,""]
[null,null,null,null,null,null,""]
[null,null,null,null,null,null,""]
[null,null,null,null,null,null,""]
[null,null,null,null,null,null,""]
[null,null,null,null,null,null,""]
[null,null,null,null,null,null,""]
[null,null,null,null,null,null,""]
[null,null,null,null,null,null,""]
[null,null,null,null,null,null,""]
[null,null,null,null,null,null,""]
[null,null,null,null,null,null,""]
[null,null,null,null,null,null,""]
[null,null,null,null,null,null,""]
[null,null,null,null,null,null,""]
[null,null,null,null,null,null,""]
[null,null,null,null,null,null,""]
[null,null,null,null,null,null,""]
[null,null,null,null,null,null,""]
[null,null,null,null,null,null,""]
[null,null,null,null,null,null,""]
[null,null,null,null,null,null,""]
[null,null,null,null,null,null,""]
[null,null,null,null,null,null,""]
[null,null,null,null,null,null,""]
[null,null,null,null,null,null,""]
[null,null,null,null,null,null,""]
[null,null,null,null,null,null,""]
[null,null,null,null,null,null,""]
[null,null,null,null,null,null,""]
[null,null,null,null,null,null,""]
[null,null,null,null,null,null,""]
[null,null,null,null,null,null,""]
[null,null,null,null,null,null,""]
[null,null,null,null,null,null,""]
[null,null,null,null,null,null,""]
[null,null,null,null,null,null,""]
[null,null,null,null,null,null,""]
[null,null,null,null,null,null,""]
[null,null,null,null,null,null,""]
[null,null,null,null,null,null,""]
[null,null,null,null,null,null,""]
[null,null,null,null,null,null,""]
[null,null,null,null,null,null,""]
[null,null,null,null,null,null,""]
[null,null,null,null,null,null,""]
[null,null,null,null,null,null,""]
[null,null,null,null,null,null,""]
[null,null,null,null,null,null,""]
[null,null,null,null,null,null,""]
[null,null,null,null,null,null,""]
[null,null,null,null,null,null,{"$f":"IF(E391=\"\",\"\",RANK(E391,$E$6:$E$505))","v":""}]
[null,null,null,null,null,null,""]
[null,null,null,null,null,null,""]
[null,null,null,null,null,null,""]
[null,null,null,null,null,null,""]
[null,null,null,null,null,null,""]
[null,null,null,null,null,null,""]
[null,null,null,null,null,null,""]
[null,null,null,null,null,null,""]
[null,null,null,null,null,null,""]
[null,null,null,null,null,null,""]
[null,null,null,null,null,null,""]
[null,null,null,null,null,null,""]
[null,null,null,null,null,null,""]
[null,null,null,null,null,null,""]
[null,null,null,null,null,null,""]
[null,null,null,null,null,null,""]
[null,null,null,null,null,null,""]
[null,null,null,null,null,null,""]
[null,null,null,null,null,null,""]
[null,null,null,null,null,null,""]
[null,null,null,null,null,null,""]
[null,null,null,null,null,null,""]
[null,null,null,null,null,null,""]
[null,null,null,null,null,null,""]
[null,null,null,null,null,null,""]
[null,null,null,null,null,null,""]
[null,null,null,null,null,null,""]
[null,null,null,null,null,null,""]
[null,null,null,null,null,null,""]
[null,null,null,null,null,null,""]
[null,null,null,null,null,null,""]
[null,null,null,null,null,null,""]
[null,null,null,null,null,null,""]
[null,null,null,null,null,null,""]
[null,null,null,null,null,null,""]
[null,null,null,null,null,null,""]
[null,null,null,null,null,null,""]
[null,null,null,null,null,null,""]
[null,null,null,null,null,null,""]
[null,null,null,null,null,null,""]
[null,null,null,null,null,null,""]
[null,null,null,null,null,null,""]
[null,null,null,null,null,null,""]
[null,null,null,null,null,null,""]
[null,null,null,null,null,null,""]
[null,null,null,null,null,null,""]
[null,null,null,null,null,null,""]
[null,null,null,null,null,null,""]
[null,null,null,null,null,null,""]
[null,null,null,null,null,null,""]
[null,null,null,null,null,null,""]
[null,null,null,null,null,null,""]
[null,null,null,null,null,null,""]
[null,null,null,null,null,null,""]
[null,null,null,null,null,null,""]
[null,null,null,null,null,null,""]
[null,null,null,null,null,null,""]
[null,null,null,null,null,null,""]
[null,null,null,null,null,null,""]
[null,null,null,null,null,null,""]
[null,null,null,null,null,null,""]
[null,null,null,null,null,null,""]
[null,null,null,null,null,null,""]
[null,null,null,null,null,null,{"$f":"IF(E455=\"\",\"\",RANK(E455,$E$6:$E$505))","v":""}]
[null,null,null,null,null,null,""]
[null,null,null,null,null,null,""]
[null,null,null,null,null,null,""]
[null,null,null,null,null,null,""]
[null,null,null,null,null,null,""]
[null,null,null,null,null,null,""]
[null,null,null,null,null,null,""]
[null,null,null,null,null,null,""]
[null,null,null,null,null,null,""]
[null,null,null,null,null,null,""]
[null,null,null,null,null,null,""]
[null,null,null,null,null,null,""]
[null,null,null,null,null,null,""]
[null,null,null,null,null,null,""]
[null,null,null,null,null,null,""]
[null,null,null,null,null,null,""]
[null,null,null,null,null,null,""]
[null,null,null,null,null,null,""]
[null,null,null,null,null,null,""]
[null,null,null,null,null,null,""]
[null,null,null,null,null,null,""]
[null,null,null,null,null,null,""]
[null,null,null,null,null,null,""]
[null,null,null,null,null,null,""]
[null,null,null,null,null,null,""]
[null,null,null,null,null,null,""]
[null,null,null,null,null,null,""]
[null,null,null,null,null,null,""]
[null,null,null,null,null,null,""]
[null,null,null,null,null,null,""]
[null,null,null,null,null,null,""]
[null,null,null,null,null,null,""]
[null,null,null,null,null,null,""]
[null,null,null,null,null,null,""]
[null,null,null,null,null,null,""]
[null,null,null,null,null,null,""]
[null,null,null,null,null,null,""]
[null,null,null,null,null,null,""]
[null,null,null,null,null,null,""]
[null,null,null,null,null,null,""]
[null,null,null,null,null,null,""]
[null,null,null,null,null,null,""]
[null,null,null,null,null,null,""]
[null,null,null,null,null,null,""]
[null,null,null,null,null,null,""]
[null,null,null,null,null,null,""]
[null,null,null,null,null,null,""]
[null,null,null,null,null,null,""]
[null,null,null,null,null,null,""]
[null,null,null,null,null,null,""]

{"sheet":"定期テスト集計","index":5,"n_rows":505,"n_cols":9,"rows_kept":505,"cut":false,"hidden":false,"merged":[[2,1,2,2],[2,13,2,14],[5,7,5,8]]}
[]
[null,"定期テスト"]
[null,"実施：",null,"第２回","科目：","コ英","クラス：","3-A"]
[]
[null,"ID","クラス","氏名","得点","順位",null,"平均点：","51点"]
[null,1,"3-A","鈴木A男",97,{"$f":"IF(E6=\"\",\"\",RANK(E6,$E$6:$E$505))","v":1},null,"クラス別平均点"]
[null,2,"3-A","鈴木B男",94,{"$f":"IF(E7=\"\",\"\",RANK(E7,$E$6:$E$505))","v":2},null,"3-A：","51点"]
[null,3,"3-A","鈴木C男",31,4]
[null,4,"3-A","鈴木D男",20,5]
[null,5,"3-A","鈴木E男",54,3]
[null,6,"3-A","鈴木F男",10,6]
[null,null,null,null,null,""]
[null,null,null,null,null,""]
[null,null,null,null,null,""]
[null,null,null,null,null,""]
[null,null,null,null,null,""]
[null,null,null,null,null,""]
[null,null,null,null,null,""]
[null,null,null,null,null,""]
[null,null,null,null,null,""]
[null,null,null,null,null,""]
[null,null,null,null,null,""]
[null,null,null,null,null,""]
[null,null,null,null,null,""]
[null,null,null,null,null,""]
[null,null,null,null,null,""]
[null,null,null,null,null,""]
[null,null,null,null,null,""]
[null,null,null,null,null,""]
[null,null,null,null,null,""]
[null,null,null,null,null,""]
[null,null,null,null,null,""]
[null,null,null,null,null,""]
[null,null,null,null,null,""]
[null,null,null,null,null,""]
[null,null,null,null,null,""]
[null,null,null,null,null,""]
[null,null,null,null,null,""]
[null,null,null,null,null,""]
[null,null,null,null,null,""]
[null,null,null,null,null,""]
[null,null,null,null,null,""]
[null,null,null,null,null,""]
[null,null,null,null,null,""]
[null,null,null,null,null,""]
[null,null,null,null,null,""]
[null,null,null,null,null,""]
[null,null,null,null,null,""]
[null,null,null,null,null,""]
[null,null,null,null,null,""]
[null,null,null,null,null,""]
[null,null,null,null,null,""]
[null,null,null,null,null,""]
[null,null,null,null,null,""]
[null,null,null,null,null,""]
[null,null,null,null,null,""]
[null,null,null,null,null,""]
[null,null,null,null,null,""]
[null,null,null,null,null,""]
[null,null,null,null,null,""]
[null,null,null,null,null,""]
[null,null,null,null,null,""]
[null,null,null,null,null,""]
[null,null,null,null,null,""]
[null,null,null,null,null,""]
[null,null,null,null,null,""]
[null,null,null,null,null,""]
[null,null,null,null,null,""]
[null,null,null,null,null,""]
[null,null,null,null,null,""]
[null,null,null,null,null,{"$f":"IF(E71=\"\",\"\",RANK(E71,$E$6:$E$505))","v":""}]
[null,null,null,null,null,""]
[null,null,null,null,null,""]
[null,null,null,null,null,""]
[null,null,null,null,null,""]
[null,null,null,null,null,""]
[null,null,null,null,null,""]
[null,null,null,null,null,""]
[null,null,null,null,null,""]
[null,null,null,null,null,""]
[null,null,null,null,null,""]
[null,null,null,null,null,""]
[null,null,null,null,null,""]
[null,null,null,null,null,""]
[null,null,null,null,null,""]
[null,null,null,null,null,""]
[null,null,null,null,null,""]
[null,null,null,null,null,""]
[null,null,null,null,null,""]
[null,null,null,null,null,""]
[null,null,null,null,null,""]
[null,null,null,null,null,""]
[null,null,null,null,null,""]
[null,null,null,null,null,""]
[null,null,null,null,null,""]
[null,null,null,null,null,""]
[null,null,null,null,null,""]
[null,null,null,null,null,""]
[null,null,null,null,null,""]
[null,null,null,null,null,""]
[null,null,null,null,null,""]
[null,null,null,null,null,""]
[null,null,null,null,null,""]
[null,null,null,null,null,""]
[null,null,null,null,null,""]
[null,null,null,null,null,""]
[null,null,null,null,null,""]
[null,null,null,null,null,""]
[null,null,null,null,null,""]
[null,null,null,null,null,""]
[null,null,null,null,null,""]
[null,null,null,null,null,""]
[null,null,null,null,null,""]
[null,null,null,null,null,""]
[null,null,null,null,null,""]
[null,null,null,null,null,""]
[null,null,null,null,null,""]
[null,null,null,null,null,""]
[null,null,null,null,null,""]
[null,null,null,null,null,""]
[null,null,null,null,null,""]
[null,null,null,null,null,""]
[null,null,null,null,null,""]
[null,null,null,null,null,""]
[null,null,null,null,null,""]
[null,null,null,null,null,""]
[null,null,null,null,null,""]
[null,null,null,null,null,""]
[null,null,null,null,null,""]
[null,null,null,null,null,""]
[null,null,null,null,null,""]
[null,null,null,null,null,""]
[null,null,null,null,null,""]
[null,null,null,null,null,""]
[null,null,null,null,null,{"$f":"IF(E135=\"\",\"\",RANK(E135,$E$6:$E$505))","v":""}]
[null,null,null,null,null,""]
[null,null,null,null,null,""]
[null,null,null,null,null,""]
[null,null,null,null,null,""]
[null,null,null,null,null,""]
[null,null,null,null,null,""]
[null,null,null,null,null,""]
[null,null,null,null,null,""]
[null,null,null,null,null,""]
[null,null,null,null,null,""]
[null,null,null,null,null,""]
[null,null,null,null,null,""]
[null,null,null,null,null,""]
[null,null,null,null,null,""]
[null,null,null,null,null,""]
[null,null,null,null,null,""]
[null,null,null,null,null,""]
[null,null,null,null,null,""]
[null,null,null,null,null,""]
[null,null,null,null,null,""]
[null,null,null,null,null,""]
[null,null,null,null,null,""]
[null,null,null,null,null,""]
[null,null,null,null,null,""]
[null,null,null,null,null,""]
[null,null,null,null,null,""]
[null,null,null,null,null,""]
[null,null,null,null,null,""]
[null,null,null,null,null,""]
[null,null,null,null,null,""]
[null,null,null,null,null,""]
[null,null,null,null,null,""]
[null,null,null,null,null,""]
[null,null,null,null,null,""]
[null,null,null,null,null,""]
[null,null,null,null,null,""]
[null,null,null,null,null,""]
[null,null,null,null,null,""]
[null,null,null,null,null,""]
[null,null,null,null,null,""]
[null,null,null,null,null,""]
[null,null,null,null,null,""]
[null,null,null,null,null,""]
[null,null,null,null,null,""]
[null,null,null,null,null,""]
[null,null,null,null,null,""]
[null,null,null,null,null,""]
[null,null,null,null,null,""]
[null,null,null,null,null,""]
[null,null,null,null,null,""]
[null,null,null,null,null,""]
[null,null,null,null,null,""]
[null,null,null,null,null,""]
[null,null,null,null,null,""]
[null,null,null,null,null,""]
[null,null,null,null,null,""]
[null,null,null,null,null,""]
[null,null,null,null,null,""]
[null,null,null,null,null,""]
[null,null,null,null,null,""]
[null,null,null,null,null,""]
[null,null,null,null,null,""]
[null,null,null,null,null,""]
[null,null,null,null,null,{"$f":"IF(E199=\"\",\"\",RANK(E199,$E$6:$E$505))","v":""}]
[null,null,null,null,null,""]
[null,null,null,null,null,""]
[null,null,null,null,null,""]
[null,null,null,null,null,""]
[null,null,null,null,null,""]
[null,null,null,null,null,""]
[null,null,null,null,null,""]
[null,null,null,null,null,""]
[null,null,null,null,null,""]
[null,null,null,null,null,""]
[null,null,null,null,null,""]
[null,null,null,null,null,""]
[null,null,null,null,null,""]
[null,null,null,null,null,""]
[null,null,null,null,null,""]
[null,null,null,null,null,""]
[null,null,null,null,null,""]
[null,null,null,null,null,""]
[null,null,null,null,null,""]
[null,null,null,null,null,""]
[null,null,null,null,null,""]
[null,null,null,null,null,""]
[null,null,null,null,null,""]
[null,null,null,null,null,""]
[null,null,null,null,null,""]
[null,null,null,null,null,""]
[null,null,null,null,null,""]
[null,null,null,null,null,""]
[null,null,null,null,null,""]
[null,null,null,null,null,""]
[null,null,null,null,null,""]
[null,null,null,null,null,""]
[null,null,null,null,null,""]
[null,null,null,null,null,""]
[null,null,null,null,null,""]
[null,null,null,null,null,""]
[null,null,null,null,null,""]
[null,null,null,null,null,""]
[null,null,null,null,null,""]
[null,null,null,null,null,""]
[null,null,null,null,null,""]
[null,null,null,null,null,""]
[null,null,null,null,null,""]
[null,null,null,null,null,""]
[null,null,null,null,null,""]
[null,null,null,null,null,""]
[null,null,null,null,null,""]
[null,null,null,null,null,""]
[null,null,null,null,null,""]
[null,null,null,null,null,""]
[null,null,null,null,null,""]
[null,null,null,null,null,""]
[null,null,null,null,null,""]
[null,null,null,null,null,""]
[null,null,null,null,null,""]
[null,null,null,null,null,""]
[null,null,null,null,null,""]
[null,null,null,null,null,""]
[null,null,null,null,null,""]
[null,null,null,null,null,""]
[null,null,null,null,null,""]
[null,null,null,null,null,""]
[null,null,null,null,null,""]
[null,null,null,null,null,{"$f":"IF(E263=\"\",\"\",RANK(E263,$E$6:$E$505))","v":""}]
[null,null,null,null,null,""]
[null,null,null,null,null,""]
[null,null,null,null,null,""]
[null,null,null,null,null,""]
[null,null,null,null,null,""]
[null,null,null,null,null,""]
[null,null,null,null,null,""]
[null,null,null,null,null,""]
[null,null,null,null,null,""]
[null,null,null,null,null,""]
[null,null,null,null,null,""]
[null,null,null,null,null,""]
[null,null,null,null,null,""]
[null,null,null,null,null,""]
[null,null,null,null,null,""]
[null,null,null,null,null,""]
[null,null,null,null,null,""]
[null,null,null,null,null,""]
[null,null,null,null,null,""]
[null,null,null,null,null,""]
[null,null,null,null,null,""]
[null,null,null,null,null,""]
[null,null,null,null,null,""]
[null,null,null,null,null,""]
[null,null,null,null,null,""]
[null,null,null,null,null,""]
[null,null,null,null,null,""]
[null,null,null,null,null,""]
[null,null,null,null,null,""]
[null,null,null,null,null,""]
[null,null,null,null,null,""]
[null,null,null,null,null,""]
[null,null,null,null,null,""]
[null,null,null,null,null,""]
[null,null,null,null,null,""]
[null,null,null,null,null,""]
[null,null,null,null,null,""]
[null,null,null,null,null,""]
[null,null,null,null,null,""]
[null,null,null,null,null,""]
[null,null,null,null,null,""]
[null,null,null,null,null,""]
[null,null,null,null,null,""]
[null,null,null,null,null,""]
[null,null,null,null,null,""]
[null,null,null,null,null,""]
[null,null,null,null,null,""]
[null,null,null,null,null,""]
[null,null,null,null,null,""]
[null,null,null,null,null,""]
[null,null,null,null,null,""]
[null,null,null,null,null,""]
[null,null,null,null,null,""]
[null,null,null,null,null,""]
[null,null,null,null,null,""]
[null,null,null,null,null,""]
[null,null,null,null,null,""]
[null,null,null,null,null,""]
[null,null,null,null,null,""]
[null,null,null,null,null,""]
[null,null,null,null,null,""]
[null,null,null,null,null,""]
[null,null,null,null,null,""]
[null,null,null,null,null,{"$f":"IF(E327=\"\",\"\",RANK(E327,$E$6:$E$505))","v":""}]
[null,null,null,null,null,""]
[null,null,null,null,null,""]
[null,null,null,null,null,""]
[null,null,null,null,null,""]
[null,null,null,null,null,""]
[null,null,null,null,null,""]
[null,null,null,null,null,""]
[null,null,null,null,null,""]
[null,null,null,null,null,""]
[null,null,null,null,null,""]
[null,null,null,null,null,""]
[null,null,null,null,null,""]
[null,null,null,null,null,""]
[null,null,null,null,null,""]
[null,null,null,null,null,""]
[null,null,null,null,null,""]
[null,null,null,null,null,""]
[null,null,null,null,null,""]
[null,null,null,null,null,""]
[null,null,null,null,null,""]
[null,null,null,null,null,""]
[null,null,null,null,null,""]
[null,null,null,null,null,""]
[null,null,null,null,null,""]
[null,null,null,null,null,""]
[null,null,null,null,null,""]
[null,null,null,null,null,""]
[null,null,null,null,null,""]
[null,null,null,null,null,""]
[null,null,null,null,null,""]
[null,null,null,null,null,""]
[null,null,null,null,null,""]
[null,null,null,null,null,""]
[null,null,null,null,null,""]
[null,null,null,null,null,""]
[null,null,null,null,null,""]
[null,null,null,null,null,""]
[null,null,null,null,null,""]
[null,null,null,null,null,""]
[null,null,null,null,null,""]
[null,null,null,null,null,""]
[null,null,null,null,null,""]
[null,null,null,null,null,""]
[null,null,null,null,null,""]
[null,null,null,null,null,""]
[null,null,null,null,null,""]
[null,null,null,null,null,""]
[null,null,null,null,null,""]
[null,null,null,null,null,""]
[null,null,null,null,null,""]
[null,null,null,null,null,""]
[null,null,null,null,null,""]
[null,null,null,null,null,""]
[null,null,null,null,null,""]
[null,null,null,null,null,""]
[null,null,null,null,null,""]
[null,null,null,null,null,""]
[null,null,null,null,null,""]
[null,null,null,null,null,""]
[null,null,null,null,null,""]
[null,null,null,null,null,""]
[null,null,null,null,null,""]
[null,null,null,null,null,""]
[null,null,null,null,null,{"$f":"IF(E391=\"\",\"\",RANK(E391,$E$6:$E$505))","v":""}]
[null,null,null,null,null,""]
[null,null,null,null,null,""]
[null,null,null,null,null,""]
[null,null,null,null,null,""]
[null,null,null,null,null,""]
[null,null,null,null,null,""]
[null,null,null,null,null,""]
[null,null,null,null,null,""]
[null,null,null,null,null,""]
[null,null,null,null,null,""]
[null,null,null,null,null,""]
[null,null,null,null,null,""]
[null,null,null,null,null,""]
[null,null,null,null,null,""]
[null,null,null,null,null,""]
[null,null,null,null,null,""]
[null,null,null,null,null,""]
[null,null,null,null,null,""]
[null,null,null,null,null,""]
[null,null,null,null,null,""]
[null,null,null,null,null,""]
[null,null,null,null,null,""]
[null,null,null,null,null,""]
[null,null,null,null,null,""]
[null,null,null,null,null,""]
[null,null,null,null,null,""]
[null,null,null,null,null,""]
[null,null,null,null,null,""]
[null,null,null,null,null,""]
[null,null,null,null,null,""]
[null,null,null,null,null,""]
[null,null,null,null,null,""]
[null,null,null,null,null,""]
[null,null,null,null,null,""]
[null,null,null,null,null,""]
[null,null,null,null,null,""]
[null,null,null,null,null,""]
[null,null,null,null,null,""]
[null,null,null,null,null,""]
[null,null,null,null,null,""]
[null,null,null,null,null,""]
[null,null,null,null,null,""]
[null,null,null,null,null,""]
[null,null,null,null,null,""]
[null,null,null,null,null,""]
[null,null,null,null,null,""]
[null,null,null,null,null,""]
[null,null,null,null,null,""]
[null,null,null,null,null,""]
[null,null,null,null,null,""]
[null,null,null,null,null,""]
[null,null,null,null,null,""]
[null,null,null,null,null,""]
[null,null,null,null,null,""]
[null,null,null,null,null,""]
[null,null,null,null,null,""]
[null,null,null,null,null,""]
[null,null,null,null,null,""]
[null,null,null,null,null,""]
[null,null,null,null,null,""]
[null,null,null,null,null,""]
[null,null,null,null,null,""]
[null,null,null,null,null,""]
[null,null,null,null,null,{"$f":"IF(E455=\"\",\"\",RANK(E455,$E$6:$E$505))","v":""}]
[null,null,null,null,null,""]
[null,null,null,null,null,""]
[null,null,null,null,null,""]
[null,null,null,null,null,""]
[null,null,null,null,null,""]
[null,null,null,null,null,""]
[null,null,null,null,null,""]
[null,null,null,null,null,""]
[null,null,null,null,null,""]
[null,null,null,null,null,""]
[null,null,null,null,null,""]
[null,null,null,null,null,""]
[null,null,null,null,null,""]
[null,null,null,null,null,""]
[null,null,null,null,null,""]
[null,null,null,null,null,""]
[null,null,null,null,null,""]
[null,null,null,null,null,""]
[null,null,null,null,null,""]
[null,null,null,null,null,""]
[null,null,null,null,null,""]
[null,null,null,null,null,""]
[null,null,null,null,null,""]
[null,null,null,null,null,""]
[null,null,null,null,null,""]
[null,null,null,null,null,""]
[null,null,null,null,null,""]
[null,null,null,null,null,""]
[null,null,null,null,null,""]
[null,null,null,null,null,""]
[null,null,null,null,null,""]
[null,null,null,null,null,""]
[null,null,null,null,null,""]
[null,null,null,null,null,""]
[null,null,null,null,null,""]
[null,null,null,null,null,""]
[null,null,null,null,null,""]
[null,null,null,null,null,""]
[null,null,null,null,null,""]
[null,null,null,null,null,""]
[null,null,null,null,null,""]
[null,null,null,null,null,""]
[null,null,null,null,null,""]
[null,null,null,null,null,""]
[null,null,null,null,null,""]
[null,null,null,null,null,""]
[null,null,null,null,null,""]
[null,null,null,null,null,""]
[null,null,null,null,null,""]
[null,null,null,null,null,""]

{"sheet":"連続印刷","index":6,"n_rows":17,"n_cols":18,"rows_kept":17,"cut":false,"hidden":false,"merged":[]}
[]
["ID","class","氏名",null,"●名簿出力"]
[1,"3-A","鈴木A男"]
[2,"3-A","鈴木B男",null,"印刷するclass:","3-A",null,"→"]
[3,"3-A","鈴木C男",null,null,"↑選択してください"]
[4,"3-A","鈴木D男"]
[5,"3-A","鈴木E男",null,"●科目別テスト成績表印刷",null,"■範囲指定印刷",null,null,null,null,null,"■番号指定印刷"]
[6,"3-A","鈴木F男",null,null,null,"from",null,"to"]
[null,null,null,null,"1ページ目のみ",null,null,"～",null,"→",null,null,null,null,null,null,null,"→"]
[null,null,null,null,"↑",null,"↑",null,"↑",null,null,null,"↑","↑","↑","↑","↑"]
[null,null,null,null,"選択してください",null,"ID番号を選択してください",null,null,null,null,null,"ID番号を選択してください"]
[]
[null,null,null,null,"●模試・定期テスト成績表印刷",null,"■範囲指定印刷",null,null,null,null,null,"■番号指定印刷"]
[]
[null,null,null,null,"1・2ページ両方",null,null,"～",null,"→",null,null,null,null,null,null,null,"→"]
[null,null,null,null,"↑",null,"↑",null,"↑",null,null,null,"↑","↑","↑","↑","↑"]
[null,null,null,null,"選択してください",null,"ID番号を選択してください",null,null,null,null,null,"ID番号を選択してください"]

{"sheet":"初期設定","index":7,"n_rows":65,"n_cols":7,"rows_kept":65,"cut":false,"hidden":false,"merged":[]}
[null,"本年度","20xx年度"]
[null,"科目別テストタイトル","月例テスト"]
[null,"科目1","国総"]
[null,"科目2","英表"]
[null,"科目3","コ英"]
[null,"科目4","数Ⅰ"]
[null,"科目5","数A"]
[null,"科目6","世B"]
[null,"科目7","化基",null,null,"模試","定期"]
[null,"科目8","情報",null,null,{"$f":"C23","v":"国総"},{"$f":"C29","v":"化基"}]
[null,"科目9","芸術",null,null,{"$f":"C24","v":"英表"},{"$f":"C30","v":0}]
[null,"科目10","体育",null,null,{"$f":"C25","v":"コ英"},{"$f":"C31","v":0}]
[null,"科目11","保健"]
[null,"科目12"]
[null,"科目13"]
[null,"科目14"]
[null,"模試成績表タイトル","模試成績表"]
[null,"模試名1","国立難関模試",null,null,{"$f":"C26","v":"数Ⅰ"},{"$f":"C32","v":0}]
[null,"模試名2","私立難関模試"]
[null,"模試名3","全国統一模試"]
[null,"模試名4"]
[null,"模試名5",null,null,"全科目"]
[null,"科目1","国総",null,{"$f":"IF(C23=\"\",\"\",C23)","v":"国総"},{"$f":"C28","v":"世B"},{"$f":"C33","v":0}]
[null,"科目2","英表",null,"英表","３科目","３科目"]
[null,"科目3","コ英",null,"コ英","５科目","５科目"]
[null,"科目4","数Ⅰ",null,"数Ⅰ"]
[null,"科目5","数A",null,"数A"]
[null,"科目6","世B",null,"世B"]
[null,"科目7","化基",null,"化基"]
[null,"科目8",null,null,""]
[null,"科目9",null,null,""]
[null,"科目10",null,null,""]
[null,"科目11",null,null,""]
[null,"科目12",null,null,""]
[null,"科目13",null,null,""]
[null,"科目14",null,null,""]
[null,"定期テスト名","定期テスト"]
[null,"科目1","国総",null,"全科目"]
[null,"科目2","英表",null,{"$f":"IF(C38=\"\",\"\",C38)","v":"国総"}]
[null,"科目3","コ英",null,{"$f":"IF(C39=\"\",\"\",C39)","v":"英表"}]
[null,"科目4","数Ⅰ",null,"コ英"]
[null,"科目5","数A",null,"数Ⅰ"]
[null,"科目6","世B",null,"数A"]
[null,"科目7","化基",null,"世B"]
[null,"科目8","情報",null,"化基"]
[null,"科目9","芸術",null,"情報"]
[null,"科目10","体育",null,"芸術"]
[null,"科目11","保健",null,"体育"]
[null,"科目12",null,null,"保健"]
[null,"科目13",null,null,""]
[null,"科目14",null,null,""]
[null,"クラス名","全クラス",null,""]
[null,"クラス1","3-A"]
[null,"クラス2","3-B"]
[null,"クラス3","3-C"]
[null,"クラス4"]
[null,"クラス5"]
[null,"クラス6"]
[null,"クラス7"]
[null,"クラス8"]
[null,"クラス9"]
[null,"クラス10"]
[null,"クラス11"]
[null,"クラス12"]
[null,"微風予備校"]