{"text_format":"1","workbook":"xlsx","n_sheets":9,"sheets":["テストデータ","成績表1","成績表2","成績表3","定期テスト集計","科目別テスト集計","模試集計","連続印刷","初期設定"],"not_rendered":{"charts":32,"images":1,"macros":1,"external_links":1,"defined_names":9,"comments":0,"pivot_tables":0},"unopened":[],"bounds":{"document_bytes":16777216,"sheet_cells":100000,"rows_first":2000,"rows_last":500,"rows_between":2000,"halvings":0,"cell_chars":16384,"cell_head_chars":4096},"cells_cut":0,"cells_raw":0,"read":"whole","date_system":"1900"}

{"sheet":"テストデータ","index":0,"n_rows":503,"n_cols":455,"rows_kept":503,"cut":false,"hidden":false,"merged":[[0,74,0,80],[0,81,0,87],[1,4,1,17],[1,18,1,31],[1,32,1,45],[1,46,1,59],[1,60,1,73],[1,74,1,87],[0,46,0,52],[0,53,0,59],[0,60,0,66],[0,67,0,73],[0,25,0,31],[0,32,0,38],[0,39,0,45],[0,11,0,17],[0,18,0,24],[0,4,0,10],[1,288,1,315],[0,316,0,328],[0,329,0,343],[1,316,1,343],[0,344,0,356],[0,357,0,371],[1,344,1,371],[0,372,0,384],[0,385,0,399],[1,372,1,399],[0,288,0,300],[0,301,0,315],[0,400,0,412],[0,413,0,427],[2,238,2,239],[2,252,2,253],[2,254,2,255],[2,256,2,257],[1,400,1,427],[0,428,0,440],[0,441,0,455],[1,428,1,455],[0,245,0,259],[0,260,0,272],[0,273,0,287],[1,260,1,287],[2,260,2,261],[2,262,2,263],[2,264,2,265],[2,266,2,267],[2,268,2,269],[2,270,2,271],[2,272,2,273],[2,274,2,275],[2,276,2,277],[2,278,2,279],[2,280,2,281],[2,282,2,283],[0,160,0,171],[0,172,0,183],[0,184,0,195],[2,136,2,147],[0,136,0,147],[2,148,2,159],[2,160,2,171],[2,172,2,183],[2,184,2,195],[2,242,2,243],[2,244,2,245],[2,246,2,247],[2,248,2,249],[2,250,2,251],[2,196,2,207],[0,208,0,219],[2,208,2,219],[2,220,2,231],[0,196,0,207],[0,220,0,231],[2,240,2,241],[0,232,0,244],[2,232,2,233],[2,234,2,235],[2,236,2,237],[2,258,2,259],[1,232,1,259],[2,100,2,111],[0,88,0,99],[0,100,0,111],[0,112,0,123],[0,124,0,135],[2,88,2,99],[2,112,2,123],[2,124,2,135],[0,148,0,159],[2,318,2,319],[2,320,2,321],[2,322,2,323],[2,324,2,325],[2,326,2,327],[2,312,2,313],[2,314,2,315],[2,316,2,317],[2,284,2,285],[2,286,2,287],[2,288,2,289],[2,290,2,291],[2,292,2,293],[2,294,2,295],[2,296,2,297],[2,298,2,299],[2,300,2,301],[2,302,2,303],[2,304,2,305],[2,306,2,307],[2,308,2,309],[2,310,2,311],[2,338,2,339],[2,340,2,341],[2,342,2,343],[2,344,2,345],[2,346,2,347],[2,328,2,329],[2,330,2,331],[2,332,2,333],[2,334,2,335],[2,336,2,337],[2,358,2,359],[2,360,2,361],[2,362,2,363],[2,364,2,365],[2,366,2,367],[2,348,2,349],[2,350,2,351],[2,352,2,353],[2,354,2,355],[2,356,2,357],[2,402,2,403],[2,404,2,405],[2,406,2,407],[2,408,2,409],[2,410,2,411],[2,368,2,369],[2,370,2,371],[2,372,2,373],[2,374,2,375],[2,376,2,377],[2,438,2,439],[2,440,2,441],[2,422,2,423],[2,444,2,445],[2,446,2,447],[2,448,2,449],[2,414,2,415],[2,416,2,417],[2,418,2,419],[2,420,2,421],[2,452,2,453],[2,454,2,455],[2,442,2,443],[2,450,2,451],[2,378,2,379],[2,380,2,381],[2,382,2,383],[2,384,2,385],[2,386,2,387],[2,388,2,389],[2,390,2,391],[2,392,2,393],[2,394,2,395],[2,396,2,397],[2,398,2,399],[2,400,2,401],[2,412,2,413],[2,424,2,425],[2,426,2,427],[2,428,2,429],[2,430,2,431],[2,432,2,433],[2,434,2,435],[2,436,2,437]]}
["ｶｰｿﾙ方向切り替え",null,null,null,"第１回",null,null,null,null,null,null,{"$f":"IF(初期設定!$C$2=\"\",\"\",初期設定!$C$2)","v":"学力考査"},null,null,null,null,null,null,"第2回",null,null,null,null,null,null,{"$f":"IF(初期設定!$C2=\"\",\"\",初期設定!$C2)","v":"学力考査"},null,null,null,null,null,null,"第3回",null,null,null,null,null,null,{"$f":"IF(初期設定!$C2=\"\",\"\",初期設定!$C2)","v":"学力考査"},null,null,null,null,null,null,"第4回",null,null,null,null,null,null,{"$f":"IF(初期設定!$C2=\"\",\"\",初期設定!$C2)","v":"学力考査"},null,null,null,null,null,null,"第5回",null,null,null,null,null,null,{"$f":"IF(初期設定!$C2=\"\",\"\",初期設定!$C2)","v":"学力考査"},null,null,null,null,null,null,"第6回",null,null,null,null,null,null,{"$f":"IF(初期設定!$C2=\"\",\"\",初期設定!$C2)","v":"学力考査"},null,null,null,null,null,null,{"$f":"IF(初期設定!$C17=\"\",\"\",初期設定!$C17)","v":"到達度テスト"},null,null,null,null,null,null,null,null,null,null,null,{"$f":"IF(初期設定!$C17=\"\",\"\",初期設定!$C17)","v":"到達度テスト"},null,null,null,null,null,null,null,null,null,null,null,{"$f":"IF(初期設定!$C17=\"\",\"\",初期設定!$C17)","v":"到達度テスト"},null,null,null,null,null,null,null,null,null,null,null,{"$f":"IF(初期設定!$C17=\"\",\"\",初期設定!$C17)","v":"到達度テスト"},null,null,null,null,null,null,null,null,null,null,null,{"$f":"IF(初期設定!$C17=\"\",\"\",初期設定!$C17)","v":"到達度テスト"},null,null,null,null,null,null,null,null,null,null,null,{"$f":"IF(初期設定!$C17=\"\",\"\",初期設定!$C17)","v":"到達度テスト"},null,null,null,null,null,null,null,null,null,null,null,{"$f":"IF(初期設定!$C17=\"\",\"\",初期設定!$C17)","v":"到達度テスト"},null,null,null,null,null,null,null,null,null,null,null,{"$f":"IF(初期設定!$C17=\"\",\"\",初期設定!$C17)","v":"到達度テスト"},null,null,null,null,null,null,null,null,null,null,null,{"$f":"IF(初期設定!$C17=\"\",\"\",初期設定!$C17)","v":"到達度テスト"},null,null,null,null,null,null,null,null,null,null,null,{"$f":"IF(初期設定!$C17=\"\",\"\",初期設定!$C17)","v":"到達度テスト"},null,null,null,null,null,null,null,null,null,null,null,{"$f":"IF(初期設定!$C17=\"\",\"\",初期設定!$C17)","v":"到達度テスト"},null,null,null,null,null,null,null,null,null,null,null,{"$f":"IF(初期設定!$C17=\"\",\"\",初期設定!$C17)","v":"到達度テスト"},null,null,null,null,null,null,null,null,null,null,null,"第1回",null,null,null,null,null,null,null,null,null,null,null,null,"駿台模試",null,null,null,null,null,null,null,null,null,null,null,null,null,null,"第2回",null,null,null,null,null,null,null,null,null,null,null,null,"駿台模試",null,null,null,null,null,null,null,null,null,null,null,null,null,null,"第3回",null,null,null,null,null,null,null,null,null,null,null,null,"東進模試",null,null,null,null,null,null,null,null,null,null,null,null,null,null,"第4回",null,null,null,null,null,null,null,null,null,null,null,null,"河合塾模試",null,null,null,null,null,null,null,null,null,null,null,null,null,null,"第5回",null,null,null,null,null,null,null,null,null,null,null,null,"河合塾模試",null,null,null,null,null,null,null,null,null,null,null,null,null,null,"第6回",null,null,null,null,null,null,null,null,null,null,null,null,"河合塾模試",null,null,null,null,null,null,null,null,null,null,null,null,null,null,"第7回",null,null,null,null,null,null,null,null,null,null,null,null,"河合塾模試",null,null,null,null,null,null,null,null,null,null,null,null,null,null,"第8回",null,null,null,null,null,null,null,null,null,null,null,null,"東進模試"]
[null,null,null,"実施日→","2/3",null,null,null,null,null,null,null,null,null,null,null,null,null,"3/8",null,null,null,null,null,null,null,null,null,null,null,null,null,"4/9",null,null,null,null,null,null,null,null,null,null,null,null,null,"5/25",null,null,null,null,null,null,null,null,null,null,null,null,null,"6/15",null,null,null,null,null,null,null,null,null,null,null,null,null,"7/5",null,null,null,null,null,null,null,null,null,null,null,null,null,"3/2","4/3","5/4","6/5","7/6","8/7","9/8","10/9","11/10","12/11",null,null,"4/2","5/8","6/8","7/8","8/8","9/8","10/8","11/8","12/8","1/8",null,null,"4/9","5/12","6/15","7/18","8/5","9/7","10/11","11/30","12/2","1/9",null,null,"4/5","5/2","6/5","7/18","8/5","9/7","10/5","11/30","12/4","1/9",null,null,"4/5","5/2","6/4","7/18","8/10","9/7","10/5","11/21","12/4","1/25",null,null,"3/2","4/3","5/4","6/5","7/6","8/7","9/8","10/9","11/10","12/11",null,null,"3/2","4/3","5/4","6/5","7/6","8/7","9/8","10/9","11/10","12/11",null,null,"3/2","4/3","5/4","6/5","7/6","8/7","9/8","10/9","11/10","12/11",null,null,"3/2","4/3","5/4","6/5","7/6","8/7","9/8","10/9","11/10","12/11",null,null,"3/2","4/3","5/4","6/5","7/6","8/7","9/8","10/9","11/10","12/11",null,null,"3/2","4/3","5/4","6/5","7/6","8/7","9/8","10/9","11/10","12/11",null,null,null,null,null,null,null,null,null,null,null,null,null,null,"2/4",null,null,null,null,null,null,null,null,null,null,null,null,null,null,null,null,null,null,null,null,null,null,null,null,null,null,null,"3/6",null,null,null,null,null,null,null,null,null,null,null,null,null,null,null,null,null,null,null,null,null,null,null,null,null,null,null,"4/4",null,null,null,null,null,null,null,null,null,null,null,null,null,null,null,null,null,null,null,null,null,null,null,null,null,null,null,"5/4",null,null,null,null,null,null,null,null,null,null,null,null,null,null,null,null,null,null,null,null,null,null,null,null,null,null,null,"6/4",null,null,null,null,null,null,null,null,null,null,null,null,null,null,null,null,null,null,null,null,null,null,null,null,null,null,null,"7/4",null,null,null,null,null,null,null,null,null,null,null,null,null,null,null,null,null,null,null,null,null,null,null,null,null,null,null,"8/4",null,null,null,null,null,null,null,null,null,null,null,null,null,null,null,null,null,null,null,null,null,null,null,null,null,null,null,"9/4"]
["ID","class","No.","氏名",{"$f":"IF(初期設定!$C3=\"\",\"\",初期設定!$C3)","v":"国総"},{"$f":"IF(初期設定!$C4=\"\",\"\",初期設定!$C4)","v":"英表"},{"$f":"IF(初期設定!$C5=\"\",\"\",初期設定!$C5)","v":"コ英"},{"$f":"IF(初期設定!$C6=\"\",\"\",初期設定!$C6)","v":"数Ⅰ"},{"$f":"IF(初期設定!$C7=\"\",\"\",初期設定!$C7)","v":"数A"},{"$f":"IF(初期設定!$C8=\"\",\"\",初期設定!$C8)","v":"世B"},{"$f":"IF(初期設定!$C9=\"\",\"\",初期設定!$C9)","v":"化基"},{"$f":"IF(初期設定!$C10=\"\",\"\",初期設定!$C10)","v":"情報"},{"$f":"IF(初期設定!$C11=\"\",\"\",初期設定!$C11)","v":"芸術"},{"$f":"IF(初期設定!$C12=\"\",\"\",初期設定!$C12)","v":"体育"},{"$f":"IF(初期設定!$C13=\"\",\"\",初期設定!$C13)","v":"保健"},{"$f":"IF(初期設定!$C14=\"\",\"\",初期設定!$C14)","v":""},{"$f":"IF(初期設定!$C15=\"\",\"\",初期設定!$C15)","v":""},{"$f":"IF(初期設定!$C16=\"\",\"\",初期設定!$C16)","v":""},{"$f":"IF(初期設定!$C3=\"\",\"\",初期設定!$C3)","v":"国総"},{"$f":"IF(初期設定!$C4=\"\",\"\",初期設定!$C4)","v":"英表"},{"$f":"IF(初期設定!$C5=\"\",\"\",初期設定!$C5)","v":"コ英"},{"$f":"IF(初期設定!$C6=\"\",\"\",初期設定!$C6)","v":"数Ⅰ"},{"$f":"IF(初期設定!$C7=\"\",\"\",初期設定!$C7)","v":"数A"},{"$f":"IF(初期設定!$C8=\"\",\"\",初期設定!$C8)","v":"世B"},{"$f":"IF(初期設定!$C9=\"\",\"\",初期設定!$C9)","v":"化基"},{"$f":"IF(初期設定!$C10=\"\",\"\",初期設定!$C10)","v":"情報"},{"$f":"IF(初期設定!$C11=\"\",\"\",初期設定!$C11)","v":"芸術"},{"$f":"IF(初期設定!$C12=\"\",\"\",初期設定!$C12)","v":"体育"},{"$f":"IF(初期設定!$C13=\"\",\"\",初期設定!$C13)","v":"保健"},{"$f":"IF(初期設定!$C14=\"\",\"\",初期設定!$C14)","v":""},{"$f":"IF(初期設定!$C15=\"\",\"\",初期設定!$C15)","v":""},{"$f":"IF(初期設定!$C16=\"\",\"\",初期設定!$C16)","v":""},{"$f":"IF(初期設定!$C3=\"\",\"\",初期設定!$C3)","v":"国総"},{"$f":"IF(初期設定!$C4=\"\",\"\",初期設定!$C4)","v":"英表"},{"$f":"IF(初期設定!$C5=\"\",\"\",初期設定!$C5)","v":"コ英"},{"$f":"IF(初期設定!$C6=\"\",\"\",初期設定!$C6)","v":"数Ⅰ"},{"$f":"IF(初期設定!$C7=\"\",\"\",初期設定!$C7)","v":"数A"},{"$f":"IF(初期設定!$C8=\"\",\"\",初期設定!$C8)","v":"世B"},{"$f":"IF(初期設定!$C9=\"\",\"\",初期設定!$C9)","v":"化基"},{"$f":"IF(初期設定!$C10=\"\",\"\",初期設定!$C10)","v":"情報"},{"$f":"IF(初期設定!$C11=\"\",\"\",初期設定!$C11)","v":"芸術"},{"$f":"IF(初期設定!$C12=\"\",\"\",初期設定!$C12)","v":"体育"},{"$f":"IF(初期設定!$C13=\"\",\"\",初期設定!$C13)","v":"保健"},{"$f":"IF(初期設定!$C14=\"\",\"\",初期設定!$C14)","v":""},{"$f":"IF(初期設定!$C15=\"\",\"\",初期設定!$C15)","v":""},{"$f":"IF(初期設定!$C16=\"\",\"\",初期設定!$C16)","v":""},{"$f":"IF(初期設定!$C3=\"\",\"\",初期設定!$C3)","v":"国総"},{"$f":"IF(初期設定!$C4=\"\",\"\",初期設定!$C4)","v":"英表"},{"$f":"IF(初期設定!$C5=\"\",\"\",初期設定!$C5)","v":"コ英"},{"$f":"IF(初期設定!$C6=\"\",\"\",初期設定!$C6)","v":"数Ⅰ"},{"$f":"IF(初期設定!$C7=\"\",\"\",初期設定!$C7)","v":"数A"},{"$f":"IF(初期設定!$C8=\"\",\"\",初期設定!$C8)","v":"世B"},{"$f":"IF(初期設定!$C9=\"\",\"\",初期設定!$C9)","v":"化基"},{"$f":"IF(初期設定!$C10=\"\",\"\",初期設定!$C10)","v":"情報"},{"$f":"IF(初期設定!$C11=\"\",\"\",初期設定!$C11)","v":"芸術"},{"$f":"IF(初期設定!$C12=\"\",\"\",初期設定!$C12)","v":"体育"},{"$f":"IF(初期設定!$C13=\"\",\"\",初期設定!$C13)","v":"保健"},{"$f":"IF(初期設定!$C14=\"\",\"\",初期設定!$C14)","v":""},{"$f":"IF(初期設定!$C15=\"\",\"\",初期設定!$C15)","v":""},{"$f":"IF(初期設定!$C16=\"\",\"\",初期設定!$C16)","v":""},{"$f":"IF(初期設定!$C3=\"\",\"\",初期設定!$C3)","v":"国総"},{"$f":"IF(初期設定!$C4=\"\",\"\",初期設定!$C4)","v":"英表"},{"$f":"IF(初期設定!$C5=\"\",\"\",初期設定!$C5)","v":"コ英"},{"$f":"IF(初期設定!$C6=\"\",\"\",初期設定!$C6)","v":"数Ⅰ"},{"$f":"IF(初期設定!$C7=\"\",\"\",初期設定!$C7)","v":"数A"},{"$f":"IF(初期設定!$C8=\"\",\"\",初期設定!$C8)","v":"世B"},{"$f":"IF(初期設定!$C9=\"\",\"\",初期設定!$C9)","v":"化基"},{"$f":"IF(初期設定!$C10=\"\",\"\",初期設定!$C10)","v":"情報"},{"$f":"IF(初期設定!$C11=\"\",\"\",初期設定!$C11)","v":"芸術"},{"$f":"IF(初期設定!$C12=\"\",\"\",初期設定!$C12)","v":"体育"},{"$f":"IF(初期設定!$C13=\"\",\"\",初期設定!$C13)","v":"保健"},{"$f":"IF(初期設定!$C14=\"\",\"\",初期設定!$C14)","v":""},{"$f":"IF(初期設定!$C15=\"\",\"\",初期設定!$C15)","v":""},{"$f":"IF(初期設定!$C16=\"\",\"\",初期設定!$C16)","v":""},{"$f":"IF(初期設定!$C3=\"\",\"\",初期設定!$C3)","v":"国総"},{"$f":"IF(初期設定!$C4=\"\",\"\",初期設定!$C4)","v":"英表"},{"$f":"IF(初期設定!$C5=\"\",\"\",初期設定!$C5)","v":"コ英"},{"$f":"IF(初期設定!$C6=\"\",\"\",初期設定!$C6)","v":"数Ⅰ"},{"$f":"IF(初期設定!$C7=\"\",\"\",初期設定!$C7)","v":"数A"},{"$f":"IF(初期設定!$C8=\"\",\"\",初期設定!$C8)","v":"世B"},{"$f":"IF(初期設定!$C9=\"\",\"\",初期設定!$C9)","v":"化基"},{"$f":"IF(初期設定!$C10=\"\",\"\",初期設定!$C10)","v":"情報"},{"$f":"IF(初期設定!$C11=\"\",\"\",初期設定!$C11)","v":"芸術"},{"$f":"IF(初期設定!$C12=\"\",\"\",初期設定!$C12)","v":"体育"},{"$f":"IF(初期設定!$C13=\"\",\"\",初期設定!$C13)","v":"保健"},{"$f":"IF(初期設定!$C14=\"\",\"\",初期設定!$C14)","v":""},{"$f":"IF(初期設定!$C15=\"\",\"\",初期設定!$C15)","v":""},{"$f":"IF(初期設定!$C16=\"\",\"\",初期設定!$C16)","v":""},{"$f":"IF(初期設定!$C18=\"\",\"\",初期設定!$C18)","v":"国総"},null,null,null,null,null,null,null,null,null,null,null,{"$f":"IF(初期設定!$C19=\"\",\"\",初期設定!$C19)","v":"英表"},null,null,null,null,null,null,null,null,null,null,null,{"$f":"IF(初期設定!$C20=\"\",\"\",初期設定!$C20)","v":"コ英"},null,null,null,null,null,null,null,null,null,null,null,{"$f":"IF(初期設定!$C21=\"\",\"\",初期設定!$C21)","v":"数Ⅰ"},null,null,null,null,null,null,null,null,null,null,null,{"$f":"IF(初期設定!$C22=\"\",\"\",初期設定!$C22)","v":"数A"},null,null,null,null,null,null,null,null,null,null,null,{"$f":"IF(初期設定!$C23=\"\",\"\",初期設定!$C23)","v":"世B"},null,null,null,null,null,null,null,null,null,null,null,{"$f":"IF(初期設定!$C24=\"\",\"\",初期設定!$C24)","v":"化基"},null,null,null,null,null,null,null,null,null,null,null,{"$f":"IF(初期設定!$C25=\"\",\"\",初期設定!$C25)","v":"情報"},null,null,null,null,null,null,null,null,null,null,null,{"$f":"IF(初期設定!$C26=\"\",\"\",初期設定!$C26)","v":"芸術"},null,null,null,null,null,null,null,null,null,null,null,{"$f":"IF(初期設定!$C27=\"\",\"\",初期設定!$C27)","v":"体育"},null,null,null,null,null,null,null,null,null,null,null,{"$f":"IF(初期設定!$C28=\"\",\"\",初期設定!$C28)","v":"保健"},null,null,null,null,null,null,null,null,null,null,null,{"$f":"IF(初期設定!$C29=\"\",\"\",初期設定!$C29)","v":""},null,null,null,null,null,null,null,null,null,null,null,{"$f":"IF(初期設定!$C36=\"\",\"\",初期設定!$C36&\"/偏\")","v":"国総/偏"},null,{"$f":"IF(初期設定!$C37=\"\",\"\",初期設定!$C37&\"/偏\")","v":"英表/偏"},null,{"$f":"IF(初期設定!$C38=\"\",\"\",初期設定!$C38&\"/偏\")","v":"コ英/偏"},null,{"$f":"IF(初期設定!$C39=\"\",\"\",初期設定!$C39&\"/偏\")","v":"数Ⅰ/偏"},null,{"$f":"IF(初期設定!$C40=\"\",\"\",初期設定!$C40&\"/偏\")","v":"数A/偏"},null,{"$f":"IF(初期設定!$C41=\"\",\"\",初期設定!$C41&\"/偏\")","v":"世B/偏"},null,{"$f":"IF(初期設定!$C42=\"\",\"\",初期設定!$C42&\"/偏\")","v":"化基/偏"},null,{"$f":"IF(初期設定!$C43=\"\",\"\",初期設定!$C43&\"/偏\")","v":""},null,{"$f":"IF(初期設定!$C44=\"\",\"\",初期設定!$C44&\"/偏\")","v":""},null,{"$f":"IF(初期設定!$C45=\"\",\"\",初期設定!$C45&\"/偏\")","v":""},null,{"$f":"IF(初期設定!$C46=\"\",\"\",初期設定!$C46&\"/偏\")","v":""},null,{"$f":"IF(初期設定!$C47=\"\",\"\",初期設定!$C47&\"/偏\")","v":""},null,{"$f":"IF(初期設定!$C48=\"\",\"\",初期設定!$C48&\"/偏\")","v":""},null,{"$f":"IF(初期設定!$C49=\"\",\"\",初期設定!$C49&\"/偏\")","v":""},null,{"$f":"IF(初期設定!$C36=\"\",\"\",初期設定!$C36&\"/偏\")","v":"国総/偏"},null,{"$f":"IF(初期設定!$C37=\"\",\"\",初期設定!$C37&\"/偏\")","v":"英表/偏"},null,{"$f":"IF(初期設定!$C38=\"\",\"\",初期設定!$C38&\"/偏\")","v":"コ英/偏"},null,{"$f":"IF(初期設定!$C39=\"\",\"\",初期設定!$C39&\"/偏\")","v":"数Ⅰ/偏"},null,{"$f":"IF(初期設定!$C40=\"\",\"\",初期設定!$C40&\"/偏\")","v":"数A/偏"},null,{"$f":"IF(初期設定!$C41=\"\",\"\",初期設定!$C41&\"/偏\")","v":"世B/偏"},null,{"$f":"IF(初期設定!$C42=\"\",\"\",初期設定!$C42&\"/偏\")","v":"化基/偏"},null,{"$f":"IF(初期設定!$C43=\"\",\"\",初期設定!$C43&\"/偏\")","v":""},null,{"$f":"IF(初期設定!$C44=\"\",\"\",初期設定!$C44&\"/偏\")","v":""},null,{"$f":"IF(初期設定!$C45=\"\",\"\",初期設定!$C45&\"/偏\")","v":""},null,{"$f":"IF(初期設定!$C46=\"\",\"\",初期設定!$C46&\"/偏\")","v":""},null,{"$f":"IF(初期設定!$C47=\"\",\"\",初期設定!$C47&\"/偏\")","v":""},null,{"$f":"IF(初期設定!$C48=\"\",\"\",初期設定!$C48&\"/偏\")","v":""},null,{"$f":"IF(初期設定!$C49=\"\",\"\",初期設定!$C49&\"/偏\")","v":""},null,{"$f":"IF(初期設定!$C36=\"\",\"\",初期設定!$C36&\"/偏\")","v":"国総/偏"},null,{"$f":"IF(初期設定!$C37=\"\",\"\",初期設定!$C37&\"/偏\")","v":"英表/偏"},null,{"$f":"IF(初期設定!$C38=\"\",\"\",初期設定!$C38&\"/偏\")","v":"コ英/偏"},null,{"$f":"IF(初期設定!$C39=\"\",\"\",初期設定!$C39&\"/偏\")","v":"数Ⅰ/偏"},null,{"$f":"IF(初期設定!$C40=\"\",\"\",初期設定!$C40&\"/偏\")","v":"数A/偏"},null,{"$f":"IF(初期設定!$C41=\"\",\"\",初期設定!$C41&\"/偏\")","v":"世B/偏"},null,{"$f":"IF(初期設定!$C42=\"\",\"\",初期設定!$C42&\"/偏\")","v":"化基/偏"},null,{"$f":"IF(初期設定!$C43=\"\",\"\",初期設定!$C43&\"/偏\")","v":""},null,{"$f":"IF(初期設定!$C44=\"\",\"\",初期設定!$C44&\"/偏\")","v":""},null,{"$f":"IF(初期設定!$C45=\"\",\"\",初期設定!$C45&\"/偏\")","v":""},null,{"$f":"IF(初期設定!$C46=\"\",\"\",初期設定!$C46&\"/偏\")","v":""},null,{"$f":"IF(初期設定!$C47=\"\",\"\",初期設定!$C47&\"/偏\")","v":""},null,{"$f":"IF(初期設定!$C48=\"\",\"\",初期設定!$C48&\"/偏\")","v":""},null,{"$f":"IF(初期設定!$C49=\"\",\"\",初期設定!$C49&\"/偏\")","v":""},null,{"$f":"IF(初期設定!$C36=\"\",\"\",初期設定!$C36&\"/偏\")","v":"国総/偏"},null,{"$f":"IF(初期設定!$C37=\"\",\"\",初期設定!$C37&\"/偏\")","v":"英表/偏"},null,{"$f":"IF(初期設定!$C38=\"\",\"\",初期設定!$C38&\"/偏\")","v":"コ英/偏"},null,{"$f":"IF(初期設定!$C39=\"\",\"\",初期設定!$C39&\"/偏\")","v":"数Ⅰ/偏"},null,{"$f":"IF(初期設定!$C40=\"\",\"\",初期設定!$C40&\"/偏\")","v":"数A/偏"},null,{"$f":"IF(初期設定!$C41=\"\",\"\",初期設定!$C41&\"/偏\")","v":"世B/偏"},null,{"$f":"IF(初期設定!$C42=\"\",\"\",初期設定!$C42&\"/偏\")","v":"化基/偏"},null,{"$f":"IF(初期設定!$C43=\"\",\"\",初期設定!$C43&\"/偏\")","v":""},null,{"$f":"IF(初期設定!$C44=\"\",\"\",初期設定!$C44&\"/偏\")","v":""},null,{"$f":"IF(初期設定!$C45=\"\",\"\",初期設定!$C45&\"/偏\")","v":""},null,{"$f":"IF(初期設定!$C46=\"\",\"\",初期設定!$C46&\"/偏\")","v":""},null,{"$f":"IF(初期設定!$C47=\"\",\"\",初期設定!$C47&\"/偏\")","v":""},null,{"$f":"IF(初期設定!$C48=\"\",\"\",初期設定!$C48&\"/偏\")","v":""},null,{"$f":"IF(初期設定!$C49=\"\",\"\",初期設定!$C49&\"/偏\")","v":""},null,{"$f":"IF(初期設定!$C36=\"\",\"\",初期設定!$C36&\"/偏\")","v":"国総/偏"},null,{"$f":"IF(初期設定!$C37=\"\",\"\",初期設定!$C37&\"/偏\")","v":"英表/偏"},null,{"$f":"IF(初期設定!$C38=\"\",\"\",初期設定!$C38&\"/偏\")","v":"コ英/偏"},null,{"$f":"IF(初期設定!$C39=\"\",\"\",初期設定!$C39&\"/偏\")","v":"数Ⅰ/偏"},null,{"$f":"IF(初期設定!$C40=\"\",\"\",初期設定!$C40&\"/偏\")","v":"数A/偏"},null,{"$f":"IF(初期設定!$C41=\"\",\"\",初期設定!$C41&\"/偏\")","v":"世B/偏"},null,{"$f":"IF(初期設定!$C42=\"\",\"\",初期設定!$C42&\"/偏\")","v":"化基/偏"},null,{"$f":"IF(初期設定!$C43=\"\",\"\",初期設定!$C43&\"/偏\")","v":""},null,{"$f":"IF(初期設定!$C44=\"\",\"\",初期設定!$C44&\"/偏\")","v":""},null,{"$f":"IF(初期設定!$C45=\"\",\"\",初期設定!$C45&\"/偏\")","v":""},null,{"$f":"IF(初期設定!$C46=\"\",\"\",初期設定!$C46&\"/偏\")","v":""},null,{"$f":"IF(初期設定!$C47=\"\",\"\",初期設定!$C47&\"/偏\")","v":""},null,{"$f":"IF(初期設定!$C48=\"\",\"\",初期設定!$C48&\"/偏\")","v":""},null,{"$f":"IF(初期設定!$C49=\"\",\"\",初期設定!$C49&\"/偏\")","v":""},null,{"$f":"IF(初期設定!$C36=\"\",\"\",初期設定!$C36&\"/偏\")","v":"国総/偏"},null,{"$f":"IF(初期設定!$C37=\"\",\"\",初期設定!$C37&\"/偏\")","v":"英表/偏"},null,{"$f":"IF(初期設定!$C38=\"\",\"\",初期設定!$C38&\"/偏\")","v":"コ英/偏"},null,{"$f":"IF(初期設定!$C39=\"\",\"\",初期設定!$C39&\"/偏\")","v":"数Ⅰ/偏"},null,{"$f":"IF(初期設定!$C40=\"\",\"\",初期設定!$C40&\"/偏\")","v":"数A/偏"},null,{"$f":"IF(初期設定!$C41=\"\",\"\",初期設定!$C41&\"/偏\")","v":"世B/偏"},null,{"$f":"IF(初期設定!$C42=\"\",\"\",初期設定!$C42&\"/偏\")","v":"化基/偏"},null,{"$f":"IF(初期設定!$C43=\"\",\"\",初期設定!$C43&\"/偏\")","v":""},null,{"$f":"IF(初期設定!$C44=\"\",\"\",初期設定!$C44&\"/偏\")","v":""},null,{"$f":"IF(初期設定!$C45=\"\",\"\",初期設定!$C45&\"/偏\")","v":""},null,{"$f":"IF(初期設定!$C46=\"\",\"\",初期設定!$C46&\"/偏\")","v":""},null,{"$f":"IF(初期設定!$C47=\"\",\"\",初期設定!$C47&\"/偏\")","v":""},null,{"$f":"IF(初期設定!$C48=\"\",\"\",初期設定!$C48&\"/偏\")","v":""},null,{"$f":"IF(初期設定!$C49=\"\",\"\",初期設定!$C49&\"/偏\")","v":""},null,{"$f":"IF(初期設定!$C36=\"\",\"\",初期設定!$C36&\"/偏\")","v":"国総/偏"},null,{"$f":"IF(初期設定!$C37=\"\",\"\",初期設定!$C37&\"/偏\")","v":"英表/偏"},null,{"$f":"IF(初期設定!$C38=\"\",\"\",初期設定!$C38&\"/偏\")","v":"コ英/偏"},null,{"$f":"IF(初期設定!$C39=\"\",\"\",初期設定!$C39&\"/偏\")","v":"数Ⅰ/偏"},null,{"$f":"IF(初期設定!$C40=\"\",\"\",初期設定!$C40&\"/偏\")","v":"数A/偏"},null,{"$f":"IF(初期設定!$C41=\"\",\"\",初期設定!$C41&\"/偏\")","v":"世B/偏"},null,{"$f":"IF(初期設定!$C42=\"\",\"\",初期設定!$C42&\"/偏\")","v":"化基/偏"},null,{"$f":"IF(初期設定!$C43=\"\",\"\",初期設定!$C43&\"/偏\")","v":""},null,{"$f":"IF(初期設定!$C44=\"\",\"\",初期設定!$C44&\"/偏\")","v":""},null,{"$f":"IF(初期設定!$C45=\"\",\"\",初期設定!$C45&\"/偏\")","v":""},null,{"$f":"IF(初期設定!$C46=\"\",\"\",初期設定!$C46&\"/偏\")","v":""},null,{"$f":"IF(初期設定!$C47=\"\",\"\",初期設定!$C47&\"/偏\")","v":""},null,{"$f":"IF(初期設定!$C48=\"\",\"\",初期設定!$C48&\"/偏\")","v":""},null,{"$f":"IF(初期設定!$C49=\"\",\"\",初期設定!$C49&\"/偏\")","v":""},null,{"$f":"IF(初期設定!$C36=\"\",\"\",初期設定!$C36&\"/偏\")","v":"国総/偏"},null,{"$f":"IF(初期設定!$C37=\"\",\"\",初期設定!$C37&\"/偏\")","v":"英表/偏"},null,{"$f":"IF(初期設定!$C38=\"\",\"\",初期設定!$C38&\"/偏\")","v":"コ英/偏"},null,{"$f":"IF(初期設定!$C39=\"\",\"\",初期設定!$C39&\"/偏\")","v":"数Ⅰ/偏"},null,{"$f":"IF(初期設定!$C40=\"\",\"\",初期設定!$C40&\"/偏\")","v":"数A/偏"},null,{"$f":"IF(初期設定!$C41=\"\",\"\",初期設定!$C41&\"/偏\")","v":"世B/偏"},null,{"$f":"IF(初期設定!$C42=\"\",\"\",初期設定!$C42&\"/偏\")","v":"化基/偏"},null,{"$f":"IF(初期設定!$C43=\"\",\"\",初期設定!$C43&\"/偏\")","v":""},null,{"$f":"IF(初期設定!$C44=\"\",\"\",初期設定!$C44&\"/偏\")","v":""},null,{"$f":"IF(初期設定!$C45=\"\",\"\",初期設定!$C45&\"/偏\")","v":""},null,{"$f":"IF(初期設定!$C46=\"\",\"\",初期設定!$C46&\"/偏\")","v":""},null,{"$f":"IF(初期設定!$C47=\"\",\"\",初期設定!$C47&\"/偏\")","v":""},null,{"$f":"IF(初期設定!$C48=\"\",\"\",初期設定!$C48&\"/偏\")","v":""},null,{"$f":"IF(初期設定!$C49=\"\",\"\",初期設定!$C49&\"/偏\")","v":""}]
[1,"3-A","1","鈴木A男",null,99,97,72,90,25,90,50,97,77,90,null,null,null,82,34,57,54,55,68,82,41,22,54,77,null,null,null,99,50,97,72,90,25,90,50,97,93,88,null,null,null,55,50,97,72,90,25,90,50,97,93,90,null,null,null,66,50,97,72,90,25,90,50,97,93,90,null,null,null,55,50,97,72,90,25,90,50,97,91,66,null,null,null,99,50,97,72,90,25,90,50,97,72,null,null,null,50,97,72,90,25,90,50,97,72,null,null,null,50,97,72,25,25,90,50,97,72,null,null,90,50,12,72,31,60,13,86,66,23,null,null,78,94,10,88,35,27,87,44,17,81,null,null,null,50,97,72,90,25,90,50,97,78,null,null,null,50,97,72,90,25,90,50,97,71,null,null,null,50,97,72,25,25,90,50,97,72,null,null,null,50,97,72,90,25,90,50,97,72,null,null,null,50,97,72,90,25,90,50,97,72,null,null,null,50,97,72,25,25,90,50,97,72,null,null,null,null,null,null,null,null,null,null,null,null,null,null,66,49,35,45,82,66,92,71,null,null,79,61,52,50,null,null,null,null,null,null,null,null,null,null,null,null,null,null,89,50,40,44,82,66,92,71,null,null,79,61,62,55,null,null,null,null,null,null,null,null,null,null,null,null,null,null,52,50,35,41,82,66,92,71,null,null,79,61,52,50,null,null,null,null,null,null,null,null,null,null,null,null,null,null,60,56,35,41,82,66,90,70,null,null,79,61,52,50,null,null,null,null,null,null,null,null,null,null,null,null,null,null,52,50,35,41,82,66,92,71,null,null,79,61,52,50,null,null,null,null,null,null,null,null,null,null,null,null,null,null,52,50,35,41,82,66,40,45,null,null,79,61,52,50,null,null,null,null,null,null,null,null,null,null,null,null,null,null,52,50,35,41,82,66,92,71,null,null,79,61,52,50,null,null,null,null,null,null,null,null,null,null,null,null,null,null,66,52,35,41,82,66,92,71,null,null,79,61,94,63]
[2,"3-A","2","鈴木B男",49,24,94,22,25,51,55,69,76,35,25,null,null,null,11,24,94,22,25,51,55,69,76,35,25,null,null,null,11,24,94,22,25,51,55,69,76,35,25,null,null,null,11,24,94,22,25,51,55,69,76,35,25,null,null,null,15,24,94,22,25,51,55,69,76,35,32,null,null,null,22,24,94,22,25,51,55,69,76,35,27,null,null,null,22,24,94,22,25,51,55,69,76,35,null,null,86,31,75,64,93,100,47,65,34,16,null,null,48,72,99,40,75,85,95,91,67,75,null,null,10,48,82,42,93,67,70,35,69,77,null,null,24,74,37,44,56,80,64,16,42,77,null,null,11,24,94,22,25,51,55,69,76,35,null,null,86,31,75,64,93,100,47,65,34,16,null,null,48,72,99,40,75,85,95,91,67,75,null,null,11,24,94,22,25,51,55,69,76,35,null,null,86,31,75,64,93,100,47,65,34,16,null,null,48,72,99,40,75,85,95,91,67,75]
[3,"3-A","3","鈴木C男",47,23,31,66,70,18,39,15,92,46,70,null,null,null,83,23,31,66,70,18,39,15,92,46,70,null,null,null,83,23,31,66,70,18,39,15,92,46,70,null,null,null,83,23,31,66,70,18,39,15,92,46,70,null,null,null,83,23,31,66,70,18,39,15,92,46,70,null,null,null,83,23,31,66,70,18,39,15,92,46,70,null,null,null,83,23,31,66,70,18,39,15,92,46,null,null,31,12,97,76,32,98,91,28,91,87,null,null,67,64,16,95,53,62,93,96,96,68,null,null,70,90,32,99,34,41,12,45,42,66,null,null,69,100,100,16,80,37,69,36,49,52,null,null,83,23,31,66,70,18,39,15,92,46,null,null,31,12,97,76,32,98,91,28,91,87,null,null,67,64,16,95,53,62,93,96,96,68,null,null,83,23,31,66,70,18,39,15,92,46,null,null,31,12,97,76,32,98,91,28,91,87,null,null,67,64,16,95,53,62,93,96,96,68,null,null,null,null,null,null,null,null,null,null,null,null,null,null,62,58,68,63,57,60,69,59,null,null,58,55,62,58,null,null,null,null,null,null,null,null,null,null,null,null,null,null,62,58,68,63,57,60,69,59,null,null,58,55,62,58,null,null,null,null,null,null,null,null,null,null,null,null,null,null,62,58,68,63,57,60,69,59,null,null,58,55,62,58,null,null,null,null,null,null,null,null,null,null,null,null,null,null,61,53,68,63,57,60,69,59,null,null,58,55,62,58,null,null,null,null,null,null,null,null,null,null,null,null,null,null,62,58,68,63,57,60,69,59,null,null,58,55,62,58,null,null,null,null,null,null,null,null,null,null,null,null,null,null,62,58,68,63,57,60,69,59,null,null,58,55,62,58,null,null,null,null,null,null,null,null,null,null,null,null,null,null,62,58,68,63,57,60,69,59,null,null,58,55,62,58,null,null,null,null,null,null,null,null,null,null,null,null,null,null,62,58,68,63,57,60,69,59,null,null,58,55,62,58]
[4,"3-A","4","鈴木D男",41,35,20,24,82,96,49,90,45,null,82,null,null,null,40,35,20,24,82,96,49,90,45,null,82,null,null,null,40,35,20,24,82,96,49,90,45,null,82,null,null,null,40,35,20,24,82,96,49,90,45,null,82,null,null,null,40,35,20,24,82,96,49,90,45,null,82,null,null,null,40,35,20,24,82,96,49,90,45,null,82,null,null,null,40,35,20,24,82,96,49,90,45,null,null,null,51,36,71,42,62,88,83,51,60,91,null,null,97,16,91,69,36,97,25,69,32,62,null,null,23,32,56,79,53,81,66,34,35,91,null,null,50,74,66,69,65,40,14,26,98,65,null,null,40,35,20,24,82,96,49,90,45,null,null,null,51,36,71,42,62,88,83,51,60,91,null,null,97,16,91,69,36,97,25,69,32,62,null,null,40,35,20,24,82,96,49,90,45,null,null,null,51,36,71,42,62,88,83,51,60,91,null,null,97,16,91,69,36,97,25,69,32,62,null,null,null,null,null,null,null,null,null,null,null,null,null,null,58,52,77,58,49,60,46,49,null,null,78,58,58,52,null,null,null,null,null,null,null,null,null,null,null,null,null,null,58,52,77,58,49,60,46,49,null,null,78,58,58,52,null,null,null,null,null,null,null,null,null,null,null,null,null,null,58,52,77,58,49,60,46,49,null,null,78,58,58,52,null,null,null,null,null,null,null,null,null,null,null,null,null,null,58,52,77,58,49,60,46,49,null,null,78,58,58,52,null,null,null,null,null,null,null,null,null,null,null,null,null,null,58,52,77,58,49,60,46,49,null,null,78,58,58,52,null,null,null,null,null,null,null,null,null,null,null,null,null,null,58,52,77,58,49,60,46,49,null,null,78,58,58,52,null,null,null,null,null,null,null,null,null,null,null,null,null,null,58,52,77,58,49,60,46,49,null,null,78,58,58,52,null,null,null,null,null,null,null,null,null,null,null,null,null,null,58,52,77,58,49,60,46,49,null,null,78,58,58,52]
[5,"3-A","5","鈴木E男",66,11,54,100,14,59,80,80,41,36,14,null,null,null,56,11,54,100,14,59,80,80,41,36,14,null,null,null,56,11,54,100,14,59,80,80,41,36,14,null,null,null,56,11,54,100,14,59,80,80,41,36,14,null,null,null,56,11,54,100,14,59,80,80,41,36,14,null,null,null,56,11,54,100,14,59,80,80,41,36,14,null,null,null,56,11,54,100,14,59,80,80,41,36,null,null,100,14,null,87,20,21,48,100,49,18,null,null,59,49,60,48,98,43,35,46,12,16,null,null,77,38,36,86,80,49,54,70,null,84,null,null,91,59,36,67,88,16,85,53,81,86,null,null,56,11,54,100,14,59,80,80,41,36,null,null,100,14,null,87,20,21,48,100,49,18,null,null,59,49,60,48,98,43,35,46,12,16,null,null,56,11,54,100,14,59,80,80,41,36,null,null,100,14,null,87,20,21,48,100,49,18,null,null,59,49,60,48,98,43,35,46,12,16,null,null,null,null,null,null,null,null,null,null,null,null,null,null,38,44,98,66,21,12,12,30,null,null,33,21,38,44,null,null,null,null,null,null,null,null,null,null,null,null,null,null,38,44,98,66,21,12,12,30,null,null,33,21,38,44,null,null,null,null,null,null,null,null,null,null,null,null,null,null,38,44,98,66,21,12,12,30,null,null,33,21,38,44,null,null,null,null,null,null,null,null,null,null,null,null,null,null,38,44,98,66,21,12,12,30,null,null,33,21,38,44,null,null,null,null,null,null,null,null,null,null,null,null,null,null,38,44,98,66,21,12,12,30,null,null,33,21,38,44,null,null,null,null,null,null,null,null,null,null,null,null,null,null,38,44,98,66,21,12,12,30,null,null,33,21,38,44,null,null,null,null,null,null,null,null,null,null,null,null,null,null,38,44,98,66,21,12,12,30,null,null,33,21,38,44,null,null,null,null,null,null,null,null,null,null,null,null,null,null,38,44,98,66,21,12,12,30,null,null,33,21,38,44]
[6,"3-A","6","鈴木F男",64,21,10,85,18,98,47,69,93,83,18,null,null,null,42,21,10,85,18,98,47,69,93,83,18,null,null,null,42,21,10,85,18,98,47,69,93,83,18,null,null,null,42,21,10,85,18,98,47,69,93,83,18,null,null,null,42,21,10,85,18,98,47,69,93,83,18,null,null,null,42,21,10,85,18,98,47,69,93,83,18,null,null,null,42,21,10,85,18,98,47,69,93,83,null,null,47,82,35,90,68,34,null,22,90,24,null,null,83,75,86,22,35,21,11,32,47,44,null,null,54,39,89,18,null,56,93,36,10,28,null,null,12,14,64,53,null,33,56,69,99,23,null,null,42,21,10,85,18,98,47,69,93,83,null,null,47,82,35,90,68,34,null,22,90,24,null,null,83,75,86,22,35,21,11,32,47,44,null,null,42,21,10,85,18,98,47,69,93,83,null,null,47,82,35,90,68,34,null,22,90,24,null,null,83,75,86,22,35,21,11,32,47,44,null,null,null,null,null,null,null,null,null,null,null,null,null,null,86,66,69,42,14,51,31,42,null,null,64,61,86,66,null,null,null,null,null,null,null,null,null,null,null,null,null,null,86,66,69,42,14,51,31,42,null,null,64,61,86,66,null,null,null,null,null,null,null,null,null,null,null,null,null,null,86,66,69,42,14,51,31,42,null,null,64,61,86,66,null,null,null,null,null,null,null,null,null,null,null,null,null,null,86,66,69,42,14,51,31,42,null,null,64,61,86,66,null,null,null,null,null,null,null,null,null,null,null,null,null,null,86,66,69,42,14,51,31,42,null,null,64,61,86,66,null,null,null,null,null,null,null,null,null,null,null,null,null,null,86,66,69,42,14,51,31,42,null,null,64,61,86,66,null,null,null,null,null,null,null,null,null,null,null,null,null,null,86,66,69,42,14,51,31,42,null,null,64,61,86,66,null,null,null,null,null,null,null,null,null,null,null,null,null,null,86,66,69,42,14,51,31,42,null,null,64,61,86,66]
[7,"3-B","1","小池A男",58,44,55,78,54,12,78,98,45,55,37]
[8,"3-B","2","鈴木G男",44,80,51,35,55,11,54,33,88,32,55,null,null,null,69,80,51,35,55,11,54,33,88,32,55,null,null,null,69,80,51,35,55,11,54,33,88,32,55,null,null,null,69,80,51,35,55,11,54,33,88,32,55,null,null,null,69,80,51,35,55,11,54,33,88,32,55,null,null,null,69,80,51,35,55,11,54,33,88,32,55,null,null,null,69,80,51,35,55,11,54,33,88,32,null,null,97,null,85,30,55,98,23,46,26,87,null,null,97,71,28,85,29,83,62,45,null,99,null,null,60,66,38,84,88,47,76,20,52,81,null,null,45,67,92,79,29,67,62,26,null,48,null,null,69,80,51,35,55,11,54,33,88,32,null,null,97,null,85,30,55,98,23,46,26,87,null,null,97,71,28,85,29,83,62,45,null,99,null,null,69,80,51,35,55,11,54,33,88,32,null,null,97,null,85,30,55,98,23,46,26,87,null,null,97,71,28,85,29,83,62,45,null,99,null,null,null,null,null,null,null,null,null,null,null,null,null,null,55,54,72,59,11,21,26,39,null,null,27,28,55,54,null,null,null,null,null,null,null,null,null,null,null,null,null,null,55,54,72,59,11,21,26,39,null,null,27,28,55,54,null,null,null,null,null,null,null,null,null,null,null,null,null,null,55,54,72,59,11,21,26,39,null,null,27,28,55,54,null,null,null,null,null,null,null,null,null,null,null,null,null,null,55,54,72,59,11,21,26,39,null,null,27,28,55,54,null,null,null,null,null,null,null,null,null,null,null,null,null,null,55,54,72,59,11,21,26,39,null,null,27,28,55,54,null,null,null,null,null,null,null,null,null,null,null,null,null,null,55,54,72,59,11,21,45,42,null,null,27,28,55,54,null,null,null,null,null,null,null,null,null,null,null,null,null,null,55,54,72,59,11,21,26,39,null,null,27,28,55,54,null,null,null,null,null,null,null,null,null,null,null,null,null,null,55,54,72,59,11,21,26,39,null,null,27,28,55,54]
[9,"3-B","3","鈴木H男",19,23,null,32,88,13,49,98,28,26,88,null,null,null,50,23,null,32,88,13,49,98,28,26,88,null,null,null,50,23,null,32,88,13,49,98,28,26,88,null,null,null,50,23,null,32,88,13,49,98,28,26,88,null,null,null,50,23,null,32,88,13,49,98,28,26,88,null,null,null,50,23,null,32,88,13,49,98,28,26,88,null,null,null,50,23,null,32,88,13,49,98,28,26,null,null,18,84,null,17,83,70,74,74,null,37,null,null,85,59,69,45,15,19,76,19,34,81,null,null,69,100,66,45,91,75,45,12,79,34,null,null,52,14,79,89,83,25,52,92,99,48,null,null,50,23,null,32,88,13,49,98,28,26,null,null,18,84,null,17,83,70,74,74,null,37,null,null,85,59,69,45,15,19,76,19,34,81,null,null,50,23,null,32,88,13,49,98,28,26,null,null,18,84,null,17,83,70,74,74,null,37,null,null,85,59,69,45,15,19,76,19,34,81,null,null,null,null,null,null,null,null,null,null,null,null,null,null,52,50,86,55,56,70,21,57,null,null,11,56,52,50,null,null,null,null,null,null,null,null,null,null,null,null,null,null,52,50,86,55,56,70,21,57,null,null,11,56,52,50,null,null,null,null,null,null,null,null,null,null,null,null,null,null,52,50,86,55,56,70,21,57,null,null,11,56,52,50,null,null,null,null,null,null,null,null,null,null,null,null,null,null,52,50,86,55,56,70,21,57,null,null,11,56,52,50,null,null,null,null,null,null,null,null,null,null,null,null,null,null,52,50,86,55,56,70,21,57,null,null,11,56,52,50,null,null,null,null,null,null,null,null,null,null,null,null,null,null,52,50,86,55,56,70,21,57,null,null,11,56,52,50,null,null,null,null,null,null,null,null,null,null,null,null,null,null,52,50,86,55,56,70,21,57,null,null,11,56,52,50,null,null,null,null,null,null,null,null,null,null,null,null,null,null,52,50,86,55,56,70,21,57,null,null,11,56,52,50]
[10,"3-B","4","鈴木I男",61,54,64,87,49,92,58,null,17,12,49,null,null,null,60,54,64,87,49,92,58,null,17,12,49,null,null,null,60,54,64,87,49,92,58,null,17,12,49,null,null,null,60,54,64,87,49,92,58,null,17,12,49,null,null,null,60,54,64,87,49,92,58,null,17,12,49,null,null,null,60,54,64,87,49,92,58,null,17,12,49,null,null,null,60,54,64,87,49,92,58,null,17,12,null,null,85,11,57,34,77,63,97,null,20,84,null,null,76,24,21,33,13,70,34,95,91,99,null,null,96,61,35,85,22,52,84,89,57,83,null,null,54,10,58,43,93,39,32,53,48,72,null,null,60,54,64,87,49,92,58,null,17,12,null,null,85,11,57,34,77,63,97,null,20,84,null,null,76,24,21,33,13,70,34,95,91,99,null,null,60,54,64,87,49,92,58,null,17,12,null,null,85,11,57,34,77,63,97,null,20,84,null,null,76,24,21,33,13,70,34,95,91,99,null,null,null,null,null,null,null,null,null,null,null,null,null,null,58,52,42,80,57,72,64,45,null,null,49,65,58,52,null,null,null,null,null,null,null,null,null,null,null,null,null,null,58,52,42,80,57,72,64,45,null,null,49,65,58,52,null,null,null,null,null,null,null,null,null,null,null,null,null,null,58,52,42,80,57,72,64,45,null,null,49,65,58,52,null,null,null,null,null,null,null,null,null,null,null,null,null,null,58,52,42,80,57,72,64,45,null,null,49,65,58,52,null,null,null,null,null,null,null,null,null,null,null,null,null,null,58,52,42,80,57,72,64,45,null,null,49,65,58,52,null,null,null,null,null,null,null,null,null,null,null,null,null,null,58,52,42,80,57,72,64,45,null,null,49,65,58,52,null,null,null,null,null,null,null,null,null,null,null,null,null,null,58,52,42,80,57,72,64,45,null,null,49,65,58,52,null,null,null,null,null,null,null,null,null,null,null,null,null,null,58,52,42,80,57,72,64,45,null,null,49,65,58,52]
[11,"3-B","5","鈴木J男",97,80,92,27,47,28,19,73,48,26,47,null,null,null,100,80,92,27,47,28,19,73,48,26,47,null,null,null,100,80,92,27,47,28,19,73,48,26,47,null,null,null,100,80,92,27,47,28,19,73,48,26,47,null,null,null,100,80,92,27,47,28,19,73,48,26,47,null,null,null,100,80,92,27,47,28,19,73,48,26,47,null,null,null,99,80,92,27,47,28,19,73,48,26,null,null,94,53,81,20,15,56,15,66,22,44,null,null,21,44,92,71,null,40,40,29,32,31,null,null,96,48,30,null,39,19,33,53,32,22,null,null,59,50,25,46,88,53,55,53,33,11,null,null,100,80,92,27,47,28,19,73,48,26,null,null,94,53,81,20,15,56,15,66,22,44,null,null,21,44,92,71,null,40,40,29,32,31,null,null,100,80,92,27,47,28,19,73,48,26,null,null,94,53,81,20,15,56,15,66,22,44,null,null,21,44,92,71,null,40,40,29,32,31,null,null,null,null,null,null,null,null,null,null,null,null,null,null,75,60,80,55,93,81,23,28,null,null,51,23,75,60,null,null,null,null,null,null,null,null,null,null,null,null,null,null,75,60,80,55,93,81,23,28,null,null,51,23,75,60,null,null,null,null,null,null,null,null,null,null,null,null,null,null,75,60,80,55,93,81,23,28,null,null,51,23,75,60,null,null,null,null,null,null,null,null,null,null,null,null,null,null,75,60,80,55,93,81,23,28,null,null,51,23,75,60,null,null,null,null,null,null,null,null,null,null,null,null,null,null,75,60,80,55,93,81,23,28,null,null,51,23,75,60,null,null,null,null,null,null,null,null,null,null,null,null,null,null,75,60,80,55,93,81,23,28,null,null,51,23,75,60,null,null,null,null,null,null,null,null,null,null,null,null,null,null,75,60,80,55,93,81,23,28,null,null,51,23,75,60,null,null,null,null,null,null,null,null,null,null,null,null,null,null,75,60,80,55,93,81,23,28,null,null,51,23,75,60]
[12,"3-B","6","鈴木K男",40,90,42,65,41,65,75,33,42,64,41,null,null,null,66,90,42,65,41,65,75,33,42,64,41,null,null,null,66,90,42,65,41,65,75,33,42,64,41,null,null,null,66,90,42,65,41,65,75,33,42,64,41,null,null,null,66,90,42,65,41,65,75,33,42,64,41,null,null,null,66,90,42,65,41,65,75,33,42,64,41,null,null,null,66,90,42,65,41,65,75,33,42,64,null,null,71,null,79,37,73,67,21,49,83,37,null,null,59,58,91,32,99,28,98,97,null,92,null,null,30,10,55,38,26,80,93,45,33,56,null,null,27,49,63,null,47,41,25,53,56,84,null,null,66,90,42,65,41,65,75,33,42,64,null,null,71,null,79,37,73,67,21,49,83,37,null,null,59,58,91,32,99,28,98,97,null,92,null,null,66,90,42,65,41,65,75,33,42,64,null,null,71,null,79,37,73,67,21,49,83,37,null,null,59,58,91,32,99,28,98,97,null,92,null,null,null,null,null,null,null,null,null,null,null,null,null,null,58,52,80,65,70,30,85,68,null,null,72,35,58,52,null,null,null,null,null,null,null,null,null,null,null,null,null,null,58,52,80,65,70,30,85,68,null,null,72,35,58,52,null,null,null,null,null,null,null,null,null,null,null,null,null,null,58,52,80,65,70,30,85,68,null,null,72,35,58,52,null,null,null,null,null,null,null,null,null,null,null,null,null,null,58,52,80,65,70,30,85,68,null,null,72,35,58,52,null,null,null,null,null,null,null,null,null,null,null,null,null,null,58,52,80,65,70,30,85,68,null,null,72,35,58,52,null,null,null,null,null,null,null,null,null,null,null,null,null,null,58,52,80,65,70,30,88,63,null,null,72,35,58,52,null,null,null,null,null,null,null,null,null,null,null,null,null,null,58,52,80,65,70,30,85,68,null,null,72,35,58,52,null,null,null,null,null,null,null,null,null,null,null,null,null,null,58,52,80,65,70,30,85,68,null,null,72,35,58,52]
[13,"3-B","7","鈴木L男",71,87,17,29,18,72,19,86,92,94,18,null,null,null,28,87,17,29,18,72,19,86,92,94,18,null,null,null,28,87,17,29,18,72,19,86,92,94,18,null,null,null,28,87,17,29,18,72,19,86,92,94,18,null,null,null,28,87,17,29,18,72,19,86,92,94,18,null,null,null,28,87,17,29,18,72,19,86,92,94,18,null,null,null,28,87,17,29,18,72,19,86,92,94,null,null,59,70,null,79,26,81,15,47,81,94,null,null,73,82,20,33,79,21,77,25,35,89,null,null,76,99,59,92,84,53,55,97,15,80,null,null,35,99,76,89,12,28,35,86,100,54,null,null,28,87,17,29,18,72,19,86,92,94,null,null,59,70,null,79,26,81,15,47,81,94,null,null,73,82,20,33,79,21,77,25,35,89,null,null,28,87,17,29,18,72,19,86,92,94,null,null,59,70,null,79,26,81,15,47,81,94,null,null,73,82,20,33,79,21,77,25,35,89,null,null,null,null,null,null,null,null,null,null,null,null,null,null,36,40,54,63,14,24,33,18,null,null,58,19,36,40,null,null,null,null,null,null,null,null,null,null,null,null,null,null,36,40,54,63,14,24,33,18,null,null,58,19,36,40,null,null,null,null,null,null,null,null,null,null,null,null,null,null,36,40,54,63,14,24,33,18,null,null,58,19,36,40,null,null,null,null,null,null,null,null,null,null,null,null,null,null,36,40,54,63,14,24,33,18,null,null,58,19,36,40,null,null,null,null,null,null,null,null,null,null,null,null,null,null,36,40,54,63,14,24,33,18,null,null,58,19,36,40,null,null,null,null,null,null,null,null,null,null,null,null,null,null,36,40,54,63,14,24,34,40,null,null,58,19,36,40,null,null,null,null,null,null,null,null,null,null,null,null,null,null,36,40,54,63,14,24,33,18,null,null,58,19,36,40,null,null,null,null,null,null,null,null,null,null,null,null,null,null,36,40,54,63,14,24,33,18,null,null,58,19,36,40]
[14,"3-C","1","鈴木M男",17,57,18,35,64,96,73,77,71,64,64,null,null,null,55,57,18,35,64,96,73,77,71,64,64,null,null,null,55,57,18,35,64,96,73,77,71,64,64,null,null,null,55,57,18,35,64,96,73,77,71,64,64,null,null,null,55,57,18,35,64,96,73,77,71,64,64,null,null,null,55,57,18,35,64,96,73,77,71,64,64,null,null,null,55,57,18,35,64,96,73,77,71,64,null,null,11,89,81,81,100,28,40,72,39,30,null,null,57,29,35,54,22,30,87,70,90,49,null,null,69,41,36,62,10,90,78,10,80,53,null,null,63,48,82,15,16,96,33,44,53,97,null,null,55,57,18,35,64,96,73,77,71,64,null,null,11,89,81,81,100,28,40,72,39,30,null,null,57,29,35,54,22,30,87,70,90,49,null,null,55,57,18,35,64,96,73,77,71,64,null,null,11,89,81,81,100,28,40,72,39,30,null,null,57,29,35,54,22,30,87,70,90,49,null,null,null,null,null,null,null,null,null,null,null,null,null,null,24,36,92,67,79,32,30,22,null,null,18,35,24,36,null,null,null,null,null,null,null,null,null,null,null,null,null,null,24,36,92,67,79,32,30,22,null,null,18,35,24,36,null,null,null,null,null,null,null,null,null,null,null,null,null,null,24,36,92,67,79,32,30,22,null,null,18,35,24,36,null,null,null,null,null,null,null,null,null,null,null,null,null,null,24,36,92,67,79,32,30,22,null,null,18,35,24,36,null,null,null,null,null,null,null,null,null,null,null,null,null,null,24,36,92,67,79,32,30,22,null,null,18,35,24,36,null,null,null,null,null,null,null,null,null,null,null,null,null,null,24,36,92,67,79,32,30,22,null,null,18,35,24,36,null,null,null,null,null,null,null,null,null,null,null,null,null,null,24,36,92,67,79,32,30,22,null,null,18,35,24,36,null,null,null,null,null,null,null,null,null,null,null,null,null,null,24,36,92,67,79,32,30,22,null,null,18,35,24,36]
[15,"3-C","2","鈴木N男",18,50,24,26,58,42,43,78,82,33,58,null,null,null,30,50,24,26,58,42,43,78,82,33,58,null,null,null,30,50,24,26,58,42,43,78,82,33,58,null,null,null,30,50,24,26,58,42,43,78,82,33,58,null,null,null,30,50,24,26,58,42,43,78,82,33,58,null,null,null,30,50,24,26,58,42,43,78,82,33,58,null,null,null,30,50,24,26,58,42,43,78,82,33,null,null,12,100,null,22,53,99,11,92,95,55,null,null,90,13,14,74,62,100,98,57,46,11,null,null,31,17,20,88,14,17,89,59,33,81,null,null,90,86,18,50,31,73,44,85,22,10,null,null,30,50,24,26,58,42,43,78,82,33,null,null,12,100,null,22,53,99,11,92,95,55,null,null,90,13,14,74,62,100,98,57,46,11,null,null,30,50,24,26,58,42,43,78,82,33,null,null,12,100,null,22,53,99,11,92,95,55,null,null,90,13,14,74,62,100,98,57,46,11,null,null,null,null,null,null,null,null,null,null,null,null,null,null,60,56,92,60,65,38,57,78,null,null,16,19,60,56,null,null,null,null,null,null,null,null,null,null,null,null,null,null,60,56,92,60,65,38,57,78,null,null,16,19,60,56,null,null,null,null,null,null,null,null,null,null,null,null,null,null,60,56,92,60,65,38,57,78,null,null,16,19,60,56,null,null,null,null,null,null,null,null,null,null,null,null,null,null,60,56,92,60,65,38,57,78,null,null,16,19,60,56,null,null,null,null,null,null,null,null,null,null,null,null,null,null,60,56,92,60,65,38,57,78,null,null,16,19,60,56,null,null,null,null,null,null,null,null,null,null,null,null,null,null,60,56,92,60,65,38,57,78,null,null,16,19,60,56,null,null,null,null,null,null,null,null,null,null,null,null,null,null,60,56,92,60,65,38,57,78,null,null,16,19,60,56,null,null,null,null,null,null,null,null,null,null,null,null,null,null,60,56,92,60,65,38,57,78,null,null,16,19,60,56]
[16,"3-C","3","鈴木O男",24,86,68,18,44,59,94,52,19,29,44,null,null,null,19,86,68,18,44,59,94,52,19,29,44,null,null,null,19,86,68,18,44,59,94,52,19,29,44,null,null,null,19,86,68,18,44,59,94,52,19,29,44,null,null,null,19,86,68,18,44,59,94,52,19,29,44,null,null,null,19,86,68,18,44,59,94,52,19,29,44,null,null,null,19,86,68,18,44,59,94,52,19,29,null,null,68,null,30,81,28,51,43,16,43,22,null,null,29,35,86,33,49,49,24,86,null,51,null,null,48,38,43,12,39,51,15,21,25,85,null,null,59,61,91,72,17,68,12,53,null,75,null,null,19,86,68,18,44,59,94,52,19,29,null,null,68,null,30,81,28,51,43,16,43,22,null,null,29,35,86,33,49,49,24,86,null,51,null,null,19,86,68,18,44,59,94,52,19,29,null,null,68,null,30,81,28,51,43,16,43,22,null,null,29,35,86,33,49,49,24,86,null,51,null,null,null,null,null,null,null,null,null,null,null,null,null,null,40,46,38,25,80,34,30,47,null,null,41,40,40,46,null,null,null,null,null,null,null,null,null,null,null,null,null,null,40,46,38,25,80,34,30,47,null,null,41,40,40,46,null,null,null,null,null,null,null,null,null,null,null,null,null,null,40,46,38,25,80,34,30,47,null,null,41,40,40,46,null,null,null,null,null,null,null,null,null,null,null,null,null,null,40,46,38,25,80,34,30,47,null,null,41,40,40,46,null,null,null,null,null,null,null,null,null,null,null,null,null,null,40,46,38,25,80,34,30,47,null,null,41,40,40,46,null,null,null,null,null,null,null,null,null,null,null,null,null,null,40,46,38,25,80,34,30,47,null,null,41,40,40,46,null,null,null,null,null,null,null,null,null,null,null,null,null,null,40,46,38,25,80,34,30,47,null,null,41,40,40,46,null,null,null,null,null,null,null,null,null,null,null,null,null,null,40,46,38,25,80,34,30,47,null,null,41,40,40,46]
[17,"3-C","4","鈴木P男",68,44,44,77,19,null,81,39,47,79,19,null,null,null,null,44,44,77,19,null,81,39,47,79,19,null,null,null,null,44,44,77,19,null,81,39,47,79,19,null,null,null,null,44,44,77,19,null,81,39,47,79,19,null,null,null,null,44,44,77,19,null,81,39,47,79,19,null,null,null,null,44,44,77,19,null,81,39,47,79,19,null,null,null,null,44,44,77,19,null,81,39,47,79,null,null,10,24,65,94,72,80,35,35,57,11,null,null,23,59,41,25,null,14,22,43,99,76,null,null,31,59,71,71,76,86,40,25,null,37,null,null,37,88,85,24,96,68,60,97,30,51,null,null,null,44,44,77,19,null,81,39,47,79,null,null,10,24,65,94,72,80,35,35,57,11,null,null,23,59,41,25,null,14,22,43,99,76,null,null,null,44,44,77,19,null,81,39,47,79,null,null,10,24,65,94,72,80,35,35,57,11,null,null,23,59,41,25,null,14,22,43,99,76,null,null,null,null,null,null,null,null,null,null,null,null,null,null,42,48,37,62,81,43,84,55,null,null,35,26,42,48,null,null,null,null,null,null,null,null,null,null,null,null,null,null,42,48,37,62,81,43,84,55,null,null,35,26,42,48,null,null,null,null,null,null,null,null,null,null,null,null,null,null,42,48,37,62,81,43,84,55,null,null,35,26,42,48,null,null,null,null,null,null,null,null,null,null,null,null,null,null,42,48,37,62,81,43,84,55,null,null,35,26,42,48,null,null,null,null,null,null,null,null,null,null,null,null,null,null,42,48,37,62,81,43,84,55,null,null,35,26,42,48,null,null,null,null,null,null,null,null,null,null,null,null,null,null,42,48,37,62,81,43,84,55,null,null,35,26,42,48,null,null,null,null,null,null,null,null,null,null,null,null,null,null,42,48,37,62,81,43,84,55,null,null,35,26,42,48,null,null,null,null,null,null,null,null,null,null,null,null,null,null,42,48,37,62,81,43,84,55,null,null,35,26,42,48]
[18,"3-C","5","鈴木Q男",44,10,13,12,61,46,14,31,30,40,61,null,null,null,88,10,13,12,61,46,14,31,30,40,61,null,null,null,88,10,13,12,61,46,14,31,30,40,61,null,null,null,88,10,13,12,61,46,14,31,30,40,61,null,null,null,88,10,13,12,61,46,14,31,30,40,61,null,null,null,88,10,13,12,61,46,14,31,30,40,61,null,null,null,88,10,13,12,61,46,14,31,30,40,null,null,78,52,39,67,71,21,12,100,25,49,null,null,95,32,70,28,71,83,16,85,77,60,null,null,22,57,96,80,56,88,78,41,71,77,null,null,58,31,80,84,84,87,null,91,84,39,null,null,88,10,13,12,61,46,14,31,30,40,null,null,78,52,39,67,71,21,12,100,25,49,null,null,95,32,70,28,71,83,16,85,77,60,null,null,88,10,13,12,61,46,14,31,30,40,null,null,78,52,39,67,71,21,12,100,25,49,null,null,95,32,70,28,71,83,16,85,77,60,null,null,null,null,null,null,null,null,null,null,null,null,null,null,80,62,40,31,63,62,59,35,null,null,25,13,80,62,null,null,null,null,null,null,null,null,null,null,null,null,null,null,80,62,40,31,63,62,59,35,null,null,25,13,80,62,null,null,null,null,null,null,null,null,null,null,null,null,null,null,80,62,40,31,63,62,59,35,null,null,25,13,80,62,null,null,null,null,null,null,null,null,null,null,null,null,null,null,80,62,40,31,63,62,59,35,null,null,25,13,80,62,null,null,null,null,null,null,null,null,null,null,null,null,null,null,80,62,40,31,63,62,59,35,null,null,25,13,80,62,null,null,null,null,null,null,null,null,null,null,null,null,null,null,80,62,40,31,63,62,59,35,null,null,25,13,80,62,null,null,null,null,null,null,null,null,null,null,null,null,null,null,80,62,40,31,63,62,59,35,null,null,25,13,80,62,null,null,null,null,null,null,null,null,null,null,null,null,null,null,80,62,40,31,63,62,59,35,null,null,25,13,80,62]
[19,"3-C","6","鈴木R男",13,12,22,19,97,83,48,76,31,66,97,null,null,null,95,12,22,19,97,83,48,76,31,66,97,null,null,null,95,12,22,19,97,83,48,76,31,66,97,null,null,null,95,12,22,19,97,83,48,76,31,66,97,null,null,null,95,12,22,19,97,83,48,76,31,66,97,null,null,null,95,12,22,19,97,83,48,76,31,66,97,null,null,null,95,12,22,19,97,83,48,76,31,66,null,null,71,36,35,83,12,84,14,51,61,76,null,null,56,42,93,55,66,49,40,97,33,86,null,null,16,34,28,99,18,24,73,90,82,76,null,null,37,29,68,63,72,57,53,92,33,45,null,null,95,12,22,19,97,83,48,76,31,66,null,null,71,36,35,83,12,84,14,51,61,76,null,null,56,42,93,55,66,49,40,97,33,86,null,null,95,12,22,19,97,83,48,76,31,66,null,null,71,36,35,83,12,84,14,51,61,76,null,null,56,42,93,55,66,49,40,97,33,86,null,null,null,null,null,null,null,null,null,null,null,null,null,null,85,65,28,67,61,76,78,58,null,null,36,12,85,65,null,null,null,null,null,null,null,null,null,null,null,null,null,null,85,65,28,67,61,76,78,58,null,null,36,12,85,65,null,null,null,null,null,null,null,null,null,null,null,null,null,null,85,65,28,67,61,76,78,58,null,null,36,12,85,65,null,null,null,null,null,null,null,null,null,null,null,null,null,null,85,65,28,67,61,76,78,58,null,null,36,12,85,65,null,null,null,null,null,null,null,null,null,null,null,null,null,null,85,65,28,67,61,76,78,58,null,null,36,12,85,65,null,null,null,null,null,null,null,null,null,null,null,null,null,null,85,65,28,67,61,76,78,58,null,null,36,12,85,65,null,null,null,null,null,null,null,null,null,null,null,null,null,null,85,65,28,67,61,76,78,58,null,null,36,12,85,65,null,null,null,null,null,null,null,null,null,null,null,null,null,null,85,65,28,67,61,76,78,58,null,null,36,12,85,65]
[20,"3-C","7","鈴木S男",44,31,53,15,40,14,78,53,76,73,40,null,null,null,81,31,53,15,40,14,78,53,76,73,40,null,null,null,81,31,53,15,40,14,78,53,76,73,40,null,null,null,81,31,53,15,40,14,78,53,76,73,40,null,null,null,81,31,53,15,40,14,78,53,76,73,40,null,null,null,81,31,53,15,40,14,78,53,76,73,55,null,null,null,81,31,53,15,40,14,78,53,76,73,null,null,44,54,17,43,91,49,20,32,38,20,null,null,93,42,52,44,67,84,33,99,32,69,null,null,34,89,25,80,74,45,52,29,97,13,null,null,83,26,16,28,89,84,27,64,49,41,null,null,81,31,53,15,40,14,78,53,76,73,null,null,44,54,17,43,91,49,20,32,38,20,null,null,93,42,52,44,67,84,33,99,32,69,null,null,81,31,53,15,40,14,78,53,76,73,null,null,44,54,17,43,91,49,20,32,38,20,null,null,93,42,52,44,67,84,33,99,32,69,null,null,null,null,null,null,null,null,null,null,null,null,null,null,75,60,92,54,76,58,27,33,null,null,46,42,75,60,null,null,null,null,null,null,null,null,null,null,null,null,null,null,75,60,92,54,76,58,27,33,null,null,46,42,75,60,null,null,null,null,null,null,null,null,null,null,null,null,null,null,75,60,92,54,76,58,27,33,null,null,46,42,75,60,null,null,null,null,null,null,null,null,null,null,null,null,null,null,75,60,92,54,76,58,27,33,null,null,46,42,75,60,null,null,null,null,null,null,null,null,null,null,null,null,null,null,75,60,92,54,76,58,27,33,null,null,46,42,75,60,null,null,null,null,null,null,null,null,null,null,null,null,null,null,75,60,92,54,76,58,27,33,null,null,46,42,75,60,null,null,null,null,null,null,null,null,null,null,null,null,null,null,75,60,92,54,76,58,27,33,null,null,46,42,75,60,null,null,null,null,null,null,null,null,null,null,null,null,null,null,75,60,92,54,76,58,27,33,null,null,46,42,75,60]
[21,"3-C","8","鈴木T男",77,99,79,88,71,20,60,71,89,92,71,null,null,null,30,99,79,88,71,20,60,71,89,92,71,null,null,null,30,99,79,88,71,20,60,71,89,92,71,null,null,null,30,99,79,88,71,20,60,71,89,92,71,null,null,null,30,99,79,88,71,20,60,71,89,92,71,null,null,null,30,99,79,88,71,20,60,71,89,92,77,null,null,null,30,99,79,88,71,20,60,71,89,92,null,null,11,16,86,65,75,74,77,63,49,44,null,null,51,61,18,64,33,11,62,88,86,47,null,null,83,72,37,39,27,81,78,83,40,76,null,null,32,99,16,10,46,49,93,85,86,52,null,null,30,99,79,88,71,20,60,71,89,92,null,null,11,16,86,65,75,74,77,63,49,44,null,null,51,61,18,64,33,11,62,88,86,47,null,null,30,99,79,88,71,20,60,71,89,92,null,null,11,16,86,65,75,74,77,63,49,44,null,null,51,61,18,64,33,11,62,88,86,47,null,null,null,null,null,null,null,null,null,null,null,null,null,null,75,60,41,28,45,51,23,25,null,null,45,48,75,60,null,null,null,null,null,null,null,null,null,null,null,null,null,null,75,60,41,28,45,51,23,25,null,null,45,48,75,60,null,null,null,null,null,null,null,null,null,null,null,null,null,null,75,60,41,28,45,51,23,25,null,null,45,48,75,60,null,null,null,null,null,null,null,null,null,null,null,null,null,null,75,60,41,28,45,51,24,26,null,null,45,48,75,60,null,null,null,null,null,null,null,null,null,null,null,null,null,null,75,60,41,28,45,51,23,25,null,null,45,48,75,60,null,null,null,null,null,null,null,null,null,null,null,null,null,null,75,60,41,28,45,51,45,55,null,null,45,48,75,60,null,null,null,null,null,null,null,null,null,null,null,null,null,null,75,60,41,28,45,51,23,25,null,null,45,48,75,60,null,null,null,null,null,null,null,null,null,null,null,null,null,null,75,60,41,28,45,51,23,25,null,null,45,48,75,60]
[22]
[23]
[24]
[25]
[26]
[27]
[28]
[29]
[30]
[31]
[32]
[33]
[34]
[35]
[36]
[37]
[38]
[39]
[40]
[41]
[42]
[43]
[44]
[45]
[46]
[47]
[48]
[49]
[50]
[51]
[52]
[53]
[54]
[55]
[56]
[57]
[58]
[59]
[60]
[61]
[62]
[63]
[64]
[65]
[66]
[67]
[68]
[69]
[70]
[71]
[72]
[73]
[74]
[75]
[76]
[77]
[78]
[79]
[80]
[81]
[82]
[83]
[84]
[85]
[86]
[87]
[88]
[89]
[90]
[91]
[92]
[93]
[94]
[95]
[96]
[97]
[98]
[99]
[100]
[101]
[102]
[103]
[104]
[105]
[106]
[107]
[108]
[109]
[110]
[111]
[112]
[113]
[114]
[115]
[116]
[117]
[118]
[119]
[120]
[121]
[122]
[123]
[124]
[125]
[126]
[127]
[128]
[129]
[130]
[131]
[132]
[133]
[134]
[135]
[136]
[137]
[138]
[139]
[140]
[141]
[142]
[143]
[144]
[145]
[146]
[147]
[148]
[149]
[150]
[151]
[152]
[153]
[154]
[155]
[156]
[157]
[158]
[159]
[160]
[161]
[162]
[163]
[164]
[165]
[166]
[167]
[168]
[169]
[170]
[171]
[172]
[173]
[174]
[175]
[176]
[177]
[178]
[179]
[180]
[181]
[182]
[183]
[184]
[185]
[186]
[187]
[188]
[189]
[190]
[191]
[192]
[193]
[194]
[195]
[196]
[197]
[198]
[199]
[200]
[201]
[202]
[203]
[204]
[205]
[206]
[207]
[208]
[209]
[210]
[211]
[212]
[213]
[214]
[215]
[216]
[217]
[218]
[219]
[220]
[221]
[222]
[223]
[224]
[225]
[226]
[227]
[228]
[229]
[230]
[231]
[232]
[233]
[234]
[235]
[236]
[237]
[238]
[239]
[240]
[241]
[242]
[243]
[244]
[245]
[246]
[247]
[248]
[249]
[250]
[251]
[252]
[253]
[254]
[255]
[256]
[257]
[258]
[259]
[260]
[261]
[262]
[263]
[264]
[265]
[266]
[267]
[268]
[269]
[270]
[271]
[272]
[273]
[274]
[275]
[276]
[277]
[278]
[279]
[280]
[281]
[282]
[283]
[284]
[285]
[286]
[287]
[288]
[289]
[290]
[291]
[292]
[293]
[294]
[295]
[296]
[297]
[298]
[299]
[300]
[301]
[302]
[303]
[304]
[305]
[306]
[307]
[308]
[309]
[310]
[311]
[312]
[313]
[314]
[315]
[316]
[317]
[318]
[319]
[320]
[321]
[322]
[323]
[324]
[325]
[326]
[327]
[328]
[329]
[330]
[331]
[332]
[333]
[334]
[335]
[336]
[337]
[338]
[339]
[340]
[341]
[342]
[343]
[344]
[345]
[346]
[347]
[348]
[349]
[350]
[351]
[352]
[353]
[354]
[355]
[356]
[357]
[358]
[359]
[360]
[361]
[362]
[363]
[364]
[365]
[366]
[367]
[368]
[369]
[370]
[371]
[372]
[373]
[374]
[375]
[376]
[377]
[378]
[379]
[380]
[381]
[382]
[383]
[384]
[385]
[386]
[387]
[388]
[389]
[390]
[391]
[392]
[393]
[394]
[395]
[396]
[397]
[398]
[399]
[400]
[401]
[402]
[403]
[404]
[405]
[406]
[407]
[408]
[409]
[410]
[411]
[412]
[413]
[414]
[415]
[416]
[417]
[418]
[419]
[420]
[421]
[422]
[423]
[424]
[425]
[426]
[427]
[428]
[429]
[430]
[431]
[432]
[433]
[434]
[435]
[436]
[437]
[438]
[439]
[440]
[441]
[442]
[443]
[444]
[445]
[446]
[447]
[448]
[449]
[450]
[451]
[452]
[453]
[454]
[455]
[456]
[457]
[458]
[459]
[460]
[461]
[462]
[463]
[464]
[465]
[466]
[467]
[468]
[469]
[470]
[471]
[472]
[473]
[474]
[475]
[476]
[477]
[478]
[479]
[480]
[481]
[482]
[483]
[484]
[485]
[486]
[487]
[488]
[489]
[490]
[491]
[492]
[493]
[494]
[495]
[496]
[497]
[498]
[499]
[500]

{"sheet":"成績表1","index":1,"n_rows":33,"n_cols":19,"rows_kept":33,"cut":false,"hidden":false,"merged":[[28,1,32,1],[1,18,1,20],[3,1,7,1],[8,1,12,1],[13,1,17,1],[18,1,22,1],[23,1,27,1],[0,1,0,4],[1,14,1,16],[0,19,0,20],[1,1,1,3],[2,15,2,16],[1,9,1,10]]}
[]
[null,{"$f":"IF(初期設定!$C2=\"\",\"\",初期設定!$C2)","v":"学力考査"},null,null,null,null,"ID:",6,"class",{"$f":"IF(VLOOKUP($H$2,テストデータ!$A$4:$D503,2,FALSE)=\"\",\"\",VLOOKUP($H$2,テストデータ!$A$4:$D503,2,FALSE))","v":"3-A"},null,"No.",{"$f":"VLOOKUP($H$2,テストデータ!$A$4:$D503,3,FALSE)","v":"6"},"氏名",{"$f":"IF(VLOOKUP($H$2,テストデータ!$A$4:$D503,4,FALSE)=\"\",\"\",VLOOKUP($H$2,テストデータ!$A$4:$D503,4,FALSE))","v":"鈴木F男"},null,null,null,{"$f":"初期設定!C63","v":"微風高校"}]
[null,null,null,null,null,null,null,null,null,null,null,null,null,null,null,{"$f":"IF(初期設定!$C$1=\"\",\"\",初期設定!$C$1)","v":"20xx年度"}]
[null,"第1回",{"$f":"IF(テストデータ!$E$2=\"\",\"\",テストデータ!$E$2)","v":"2/3"},{"$f":"IF(初期設定!$C$3=\"\",\"\",初期設定!$C$3)","v":"国総"},{"$f":"IF(初期設定!$C$4=\"\",\"\",初期設定!$C$4)","v":"英表"},{"$f":"IF(初期設定!$C$5=\"\",\"\",初期設定!$C$5)","v":"コ英"},{"$f":"IF(初期設定!$C$6=\"\",\"\",初期設定!$C$6)","v":"数Ⅰ"},{"$f":"IF(初期設定!$C$7=\"\",\"\",初期設定!$C$7)","v":"数A"},{"$f":"IF(初期設定!$C$8=\"\",\"\",初期設定!$C$8)","v":"世B"},{"$f":"IF(初期設定!$C$9=\"\",\"\",初期設定!$C$9)","v":"化基"},{"$f":"IF(初期設定!$C$10=\"\",\"\",初期設定!$C$10)","v":"情報"},{"$f":"IF(初期設定!$C$11=\"\",\"\",初期設定!$C$11)","v":"芸術"},{"$f":"IF(初期設定!$C$12=\"\",\"\",初期設定!$C$12)","v":"体育"},{"$f":"IF(初期設定!$C$13=\"\",\"\",初期設定!$C$13)","v":"保健"},{"$f":"IF(初期設定!$C$14=\"\",\"\",初期設定!$C$14)","v":""},{"$f":"IF(初期設定!$C$15=\"\",\"\",初期設定!$C$15)","v":""},{"$f":"IF(初期設定!$C$16=\"\",\"\",初期設定!$C$16)","v":""}]
[null,null,"得点",{"$f":"IF(VLOOKUP($H$2,テストデータ!$A$4:$QN$503,14*0+5,FALSE)=\"\",IF(INDIRECT(ADDRESS(ROW()-1,COLUMN()))=\"\",\"\",\"欠\"),VLOOKUP($H$2,テストデータ!$A$4:$QN$503,14*0+5,FALSE))","v":64},{"$f":"IF(VLOOKUP($H$2,テストデータ!$A$4:$QN$503,14*0+6,FALSE)=\"\",IF(INDIRECT(ADDRESS(ROW()-1,COLUMN()))=\"\",\"\",\"欠\"),VLOOKUP($H$2,テストデータ!$A$4:$QN$503,14*0+6,FALSE))","v":21},{"$f":"IF(VLOOKUP($H$2,テストデータ!$A$4:$QN$503,14*0+7,FALSE)=\"\",IF(INDIRECT(ADDRESS(ROW()-1,COLUMN()))=\"\",\"\",\"欠\"),VLOOKUP($H$2,テストデータ!$A$4:$QN$503,14*0+7,FALSE))","v":10},{"$f":"IF(VLOOKUP($H$2,テストデータ!$A$4:$QN$503,14*0+8,FALSE)=\"\",IF(INDIRECT(ADDRESS(ROW()-1,COLUMN()))=\"\",\"\",\"欠\"),VLOOKUP($H$2,テストデータ!$A$4:$QN$503,14*0+8,FALSE))","v":85},{"$f":"IF(VLOOKUP($H$2,テストデータ!$A$4:$QN$503,14*0+9,FALSE)=\"\",IF(INDIRECT(ADDRESS(ROW()-1,COLUMN()))=\"\",\"\",\"欠\"),VLOOKUP($H$2,テストデータ!$A$4:$QN$503,14*0+9,FALSE))","v":18},{"$f":"IF(VLOOKUP($H$2,テストデータ!$A$4:$QN$503,14*0+10,FALSE)=\"\",IF(INDIRECT(ADDRESS(ROW()-1,COLUMN()))=\"\",\"\",\"欠\"),VLOOKUP($H$2,テストデータ!$A$4:$QN$503,14*0+10,FALSE))","v":98},{"$f":"IF(VLOOKUP($H$2,テストデータ!$A$4:$QN$503,14*0+11,FALSE)=\"\",IF(INDIRECT(ADDRESS(ROW()-1,COLUMN()))=\"\",\"\",\"欠\"),VLOOKUP($H$2,テストデータ!$A$4:$QN$503,14*0+11,FALSE))","v":47},{"$f":"IF(VLOOKUP($H$2,テストデータ!$A$4:$QN$503,14*0+12,FALSE)=\"\",IF(INDIRECT(ADDRESS(ROW()-1,COLUMN()))=\"\",\"\",\"欠\"),VLOOKUP($H$2,テストデータ!$A$4:$QN$503,14*0+12,FALSE))","v":69},{"$f":"IF(VLOOKUP($H$2,テストデータ!$A$4:$QN$503,14*0+13,FALSE)=\"\",IF(INDIRECT(ADDRESS(ROW()-1,COLUMN()))=\"\",\"\",\"欠\"),VLOOKUP($H$2,テストデータ!$A$4:$QN$503,14*0+13,FALSE))","v":93},{"$f":"IF(VLOOKUP($H$2,テストデータ!$A$4:$QN$503,14*0+14,FALSE)=\"\",IF(INDIRECT(ADDRESS(ROW()-1,COLUMN()))=\"\",\"\",\"欠\"),VLOOKUP($H$2,テストデータ!$A$4:$QN$503,14*0+14,FALSE))","v":83},{"$f":"IF(VLOOKUP($H$2,テストデータ!$A$4:$QN$503,14*0+15,FALSE)=\"\",IF(INDIRECT(ADDRESS(ROW()-1,COLUMN()))=\"\",\"\",\"欠\"),VLOOKUP($H$2,テストデータ!$A$4:$QN$503,14*0+15,FALSE))","v":18},{"$f":"IF(VLOOKUP($H$2,テストデータ!$A$4:$QN$503,14*0+16,FALSE)=\"\",IF(INDIRECT(ADDRESS(ROW()-1,COLUMN()))=\"\",\"\",\"欠\"),VLOOKUP($H$2,テストデータ!$A$4:$QN$503,14*0+16,FALSE))","v":""},{"$f":"IF(VLOOKUP($H$2,テストデータ!$A$4:$QN$503,14*0+17,FALSE)=\"\",IF(INDIRECT(ADDRESS(ROW()-1,COLUMN()))=\"\",\"\",\"欠\"),VLOOKUP($H$2,テストデータ!$A$4:$QN$503,14*0+17,FALSE))","v":""},{"$f":"IF(VLOOKUP($H$2,テストデータ!$A$4:$QN$503,14*0+18,FALSE)=\"\",IF(INDIRECT(ADDRESS(ROW()-1,COLUMN()))=\"\",\"\",\"欠\"),VLOOKUP($H$2,テストデータ!$A$4:$QN$503,14*0+18,FALSE))","v":""}]
[null,null,"平均点",{"$f":"IF(COUNT(INDIRECT(\"テストデータ!E$4:E$503\"))=0,NA(),AVERAGE(INDIRECT(\"テストデータ!E$4:E$503\")))","v":48.1},{"$f":"IF(COUNT(INDIRECT(\"テストデータ!F$4:F$503\"))=0,NA(),AVERAGE(INDIRECT(\"テストデータ!F$4:F$503\")))","v":50.476190476190474},{"$f":"IF(COUNT(INDIRECT(\"テストデータ!G$4:G$503\"))=0,NA(),AVERAGE(INDIRECT(\"テストデータ!G$4:G$503\")))","v":47.4},{"$f":"IF(COUNT(INDIRECT(\"テストデータ!H$4:H$503\"))=0,NA(),AVERAGE(INDIRECT(\"テストデータ!H$4:H$503\")))","v":48.19047619047619},{"$f":"IF(COUNT(INDIRECT(\"テストデータ!I$4:I$503\"))=0,NA(),AVERAGE(INDIRECT(\"テストデータ!I$4:I$503\")))","v":52.61904761904762},{"$f":"IF(COUNT(INDIRECT(\"テストデータ!J$4:J$503\"))=0,NA(),AVERAGE(INDIRECT(\"テストデータ!J$4:J$503\")))","v":50},{"$f":"IF(COUNT(INDIRECT(\"テストデータ!K$4:K$503\"))=0,NA(),AVERAGE(INDIRECT(\"テストデータ!K$4:K$503\")))","v":57.285714285714285},{"$f":"IF(COUNT(INDIRECT(\"テストデータ!L$4:L$503\"))=0,NA(),AVERAGE(INDIRECT(\"テストデータ!L$4:L$503\")))","v":63.55},{"$f":"IF(COUNT(INDIRECT(\"テストデータ!M$4:M$503\"))=0,NA(),AVERAGE(INDIRECT(\"テストデータ!M$4:M$503\")))","v":59.476190476190474},{"$f":"IF(COUNT(INDIRECT(\"テストデータ!N$4:N$503\"))=0,NA(),AVERAGE(INDIRECT(\"テストデータ!N$4:N$503\")))","v":53.1},{"$f":"IF(COUNT(INDIRECT(\"テストデータ!O$4:O$503\"))=0,NA(),AVERAGE(INDIRECT(\"テストデータ!O$4:O$503\")))","v":51.80952380952381},{"$f":"IF(COUNT(INDIRECT(\"テストデータ!P$4:P$503\"))=0,NA(),AVERAGE(INDIRECT(\"テストデータ!P$4:P$503\")))","v":{"$error":"#N/A"}},{"$f":"IF(COUNT(INDIRECT(\"テストデータ!Q$4:Q$503\"))=0,NA(),AVERAGE(INDIRECT(\"テストデータ!Q$4:Q$503\")))","v":{"$error":"#N/A"}},{"$f":"IF(COUNT(INDIRECT(\"テストデータ!R$4:R$503\"))=0,NA(),AVERAGE(INDIRECT(\"テストデータ!R$4:R$503\")))","v":{"$error":"#N/A"}}]
[null,null,"クラス順位",{"$f":"IF(OR(INDIRECT(ADDRESS(ROW()-2,COLUMN()))=\"欠\",INDIRECT(ADDRESS(ROW()-2,COLUMN()))=\"\"),\"\",SUMPRODUCT((INDIRECT(\"テストデータ!$B$4:$B$503\")=$J$2)*(INDIRECT(\"テストデータ!E$4:E$503\")>D$5))+1)","v":2},{"$f":"IF(OR(INDIRECT(ADDRESS(ROW()-2,COLUMN()))=\"欠\",INDIRECT(ADDRESS(ROW()-2,COLUMN()))=\"\"),\"\",SUMPRODUCT((INDIRECT(\"テストデータ!$B$4:$B$503\")=$J$2)*(INDIRECT(\"テストデータ!$F$4:$F$503\")>E$5))+1)","v":5},{"$f":"IF(OR(INDIRECT(ADDRESS(ROW()-2,COLUMN()))=\"欠\",INDIRECT(ADDRESS(ROW()-2,COLUMN()))=\"\"),\"\",SUMPRODUCT((INDIRECT(\"テストデータ!$B$4:$B$503\")=$J$2)*(INDIRECT(\"テストデータ!$G$4:$G$503\")>F$5))+1)","v":6},{"$f":"IF(OR(INDIRECT(ADDRESS(ROW()-2,COLUMN()))=\"欠\",INDIRECT(ADDRESS(ROW()-2,COLUMN()))=\"\"),\"\",SUMPRODUCT((INDIRECT(\"テストデータ!$B$4:$B$503\")=$J$2)*(INDIRECT(\"テストデータ!$H$4:$H$503\")>G$5))+1)","v":2},{"$f":"IF(OR(INDIRECT(ADDRESS(ROW()-2,COLUMN()))=\"欠\",INDIRECT(ADDRESS(ROW()-2,COLUMN()))=\"\"),\"\",SUMPRODUCT((INDIRECT(\"テストデータ!$B$4:$B$503\")=$J$2)*(INDIRECT(\"テストデータ!$I$4:$I$503\")>H$5))+1)","v":5},{"$f":"IF(OR(INDIRECT(ADDRESS(ROW()-2,COLUMN()))=\"欠\",INDIRECT(ADDRESS(ROW()-2,COLUMN()))=\"\"),\"\",SUMPRODUCT((INDIRECT(\"テストデータ!$B$4:$B$503\")=$J$2)*(INDIRECT(\"テストデータ!$J$4:$J$503\")>I$5))+1)","v":1},{"$f":"IF(OR(INDIRECT(ADDRESS(ROW()-2,COLUMN()))=\"欠\",INDIRECT(ADDRESS(ROW()-2,COLUMN()))=\"\"),\"\",SUMPRODUCT((INDIRECT(\"テストデータ!$B$4:$B$503\")=$J$2)*(INDIRECT(\"テストデータ!$K$4:$K$503\")>J$5))+1)","v":5},{"$f":"IF(OR(INDIRECT(ADDRESS(ROW()-2,COLUMN()))=\"欠\",INDIRECT(ADDRESS(ROW()-2,COLUMN()))=\"\"),\"\",SUMPRODUCT((INDIRECT(\"テストデータ!$B$4:$B$503\")=$J$2)*(INDIRECT(\"テストデータ!$L$4:$L$503\")>K$5))+1)","v":3},{"$f":"IF(OR(INDIRECT(ADDRESS(ROW()-2,COLUMN()))=\"欠\",INDIRECT(ADDRESS(ROW()-2,COLUMN()))=\"\"),\"\",SUMPRODUCT((INDIRECT(\"テストデータ!$B$4:$B$503\")=$J$2)*(INDIRECT(\"テストデータ!$M$4:$M$503\")>L$5))+1)","v":2},{"$f":"IF(OR(INDIRECT(ADDRESS(ROW()-2,COLUMN()))=\"欠\",INDIRECT(ADDRESS(ROW()-2,COLUMN()))=\"\"),\"\",SUMPRODUCT((INDIRECT(\"テストデータ!$B$4:$B$503\")=$J$2)*(INDIRECT(\"テストデータ!$N$4:$N$503\")>M$5))+1)","v":1},{"$f":"IF(OR(INDIRECT(ADDRESS(ROW()-2,COLUMN()))=\"欠\",INDIRECT(ADDRESS(ROW()-2,COLUMN()))=\"\"),\"\",SUMPRODUCT((INDIRECT(\"テストデータ!$B$4:$B$503\")=$J$2)*(INDIRECT(\"テストデータ!$O$4:$O$503\")>N$5))+1)","v":5},{"$f":"IF(OR(INDIRECT(ADDRESS(ROW()-2,COLUMN()))=\"欠\",INDIRECT(ADDRESS(ROW()-2,COLUMN()))=\"\"),\"\",SUMPRODUCT((INDIRECT(\"テストデータ!$B$4:$B$503\")=$J$2)*(INDIRECT(\"テストデータ!$P$4:$P$503\")>O$5))+1)","v":""},{"$f":"IF(OR(INDIRECT(ADDRESS(ROW()-2,COLUMN()))=\"欠\",INDIRECT(ADDRESS(ROW()-2,COLUMN()))=\"\"),\"\",SUMPRODUCT((INDIRECT(\"テストデータ!$B$4:$B$503\")=$J$2)*(INDIRECT(\"テストデータ!$Q$4:$Q$503\")>P$5))+1)","v":""},{"$f":"IF(OR(INDIRECT(ADDRESS(ROW()-2,COLUMN()))=\"欠\",INDIRECT(ADDRESS(ROW()-2,COLUMN()))=\"\"),\"\",SUMPRODUCT((INDIRECT(\"テストデータ!$B$4:$B$503\")=$J$2)*(INDIRECT(\"テストデータ!$R$4:$R$503\")>Q$5))+1)","v":""}]
[null,null,"校内順位",{"$f":"IF(OR(INDIRECT(ADDRESS(ROW()-3,COLUMN()))=\"欠\",INDIRECT(ADDRESS(ROW()-3,COLUMN()))=\"\"),\"\",RANK(INDIRECT(ADDRESS(ROW()-3,COLUMN())),INDIRECT(\"テストデータ!E$4:E$503\")))","v":6},{"$f":"IF(OR(INDIRECT(ADDRESS(ROW()-3,COLUMN()))=\"欠\",INDIRECT(ADDRESS(ROW()-3,COLUMN()))=\"\"),\"\",RANK(INDIRECT(ADDRESS(ROW()-3,COLUMN())),INDIRECT(\"テストデータ!F$4:F$503\")))","v":18},{"$f":"IF(OR(INDIRECT(ADDRESS(ROW()-3,COLUMN()))=\"欠\",INDIRECT(ADDRESS(ROW()-3,COLUMN()))=\"\"),\"\",RANK(INDIRECT(ADDRESS(ROW()-3,COLUMN())),INDIRECT(\"テストデータ!G$4:G$503\")))","v":20},{"$f":"IF(OR(INDIRECT(ADDRESS(ROW()-3,COLUMN()))=\"欠\",INDIRECT(ADDRESS(ROW()-3,COLUMN()))=\"\"),\"\",RANK(INDIRECT(ADDRESS(ROW()-3,COLUMN())),INDIRECT(\"テストデータ!H$4:H$503\")))","v":4},{"$f":"IF(OR(INDIRECT(ADDRESS(ROW()-3,COLUMN()))=\"欠\",INDIRECT(ADDRESS(ROW()-3,COLUMN()))=\"\"),\"\",RANK(INDIRECT(ADDRESS(ROW()-3,COLUMN())),INDIRECT(\"テストデータ!I$4:I$503\")))","v":19},{"$f":"IF(OR(INDIRECT(ADDRESS(ROW()-3,COLUMN()))=\"欠\",INDIRECT(ADDRESS(ROW()-3,COLUMN()))=\"\"),\"\",RANK(INDIRECT(ADDRESS(ROW()-3,COLUMN())),INDIRECT(\"テストデータ!J$4:J$503\")))","v":1},{"$f":"IF(OR(INDIRECT(ADDRESS(ROW()-3,COLUMN()))=\"欠\",INDIRECT(ADDRESS(ROW()-3,COLUMN()))=\"\"),\"\",RANK(INDIRECT(ADDRESS(ROW()-3,COLUMN())),INDIRECT(\"テストデータ!K$4:K$503\")))","v":16},{"$f":"IF(OR(INDIRECT(ADDRESS(ROW()-3,COLUMN()))=\"欠\",INDIRECT(ADDRESS(ROW()-3,COLUMN()))=\"\"),\"\",RANK(INDIRECT(ADDRESS(ROW()-3,COLUMN())),INDIRECT(\"テストデータ!L$4:L$503\")))","v":11},{"$f":"IF(OR(INDIRECT(ADDRESS(ROW()-3,COLUMN()))=\"欠\",INDIRECT(ADDRESS(ROW()-3,COLUMN()))=\"\"),\"\",RANK(INDIRECT(ADDRESS(ROW()-3,COLUMN())),INDIRECT(\"テストデータ!M$4:M$503\")))","v":2},{"$f":"IF(OR(INDIRECT(ADDRESS(ROW()-3,COLUMN()))=\"欠\",INDIRECT(ADDRESS(ROW()-3,COLUMN()))=\"\"),\"\",RANK(INDIRECT(ADDRESS(ROW()-3,COLUMN())),INDIRECT(\"テストデータ!N$4:N$503\")))","v":3},{"$f":"IF(OR(INDIRECT(ADDRESS(ROW()-3,COLUMN()))=\"欠\",INDIRECT(ADDRESS(ROW()-3,COLUMN()))=\"\"),\"\",RANK(INDIRECT(ADDRESS(ROW()-3,COLUMN())),INDIRECT(\"テストデータ!O$4:O$503\")))","v":19},{"$f":"IF(OR(INDIRECT(ADDRESS(ROW()-3,COLUMN()))=\"欠\",INDIRECT(ADDRESS(ROW()-3,COLUMN()))=\"\"),\"\",RANK(INDIRECT(ADDRESS(ROW()-3,COLUMN())),INDIRECT(\"テストデータ!P$4:P$503\")))","v":""},{"$f":"IF(OR(INDIRECT(ADDRESS(ROW()-3,COLUMN()))=\"欠\",INDIRECT(ADDRESS(ROW()-3,COLUMN()))=\"\"),\"\",RANK(INDIRECT(ADDRESS(ROW()-3,COLUMN())),INDIRECT(\"テストデータ!Q$4:Q$503\")))","v":""},{"$f":"IF(OR(INDIRECT(ADDRESS(ROW()-3,COLUMN()))=\"欠\",INDIRECT(ADDRESS(ROW()-3,COLUMN()))=\"\"),\"\",RANK(INDIRECT(ADDRESS(ROW()-3,COLUMN())),INDIRECT(\"テストデータ!R$4:R$503\")))","v":""}]
[null,"第2回",{"$f":"IF(テストデータ!$S$2=\"\",\"\",テストデータ!$S$2)","v":"3/8"},{"$f":"IF(初期設定!$C$3=\"\",\"\",初期設定!$C$3)","v":"国総"},{"$f":"IF(初期設定!$C$4=\"\",\"\",初期設定!$C$4)","v":"英表"},{"$f":"IF(初期設定!$C$5=\"\",\"\",初期設定!$C$5)","v":"コ英"},{"$f":"IF(初期設定!$C$6=\"\",\"\",初期設定!$C$6)","v":"数Ⅰ"},{"$f":"IF(初期設定!$C$7=\"\",\"\",初期設定!$C$7)","v":"数A"},{"$f":"IF(初期設定!$C$8=\"\",\"\",初期設定!$C$8)","v":"世B"},{"$f":"IF(初期設定!$C$9=\"\",\"\",初期設定!$C$9)","v":"化基"},{"$f":"IF(初期設定!$C$10=\"\",\"\",初期設定!$C$10)","v":"情報"},{"$f":"IF(初期設定!$C$11=\"\",\"\",初期設定!$C$11)","v":"芸術"},{"$f":"IF(初期設定!$C$12=\"\",\"\",初期設定!$C$12)","v":"体育"},{"$f":"IF(初期設定!$C$13=\"\",\"\",初期設定!$C$13)","v":"保健"},{"$f":"IF(初期設定!$C$14=\"\",\"\",初期設定!$C$14)","v":""},{"$f":"IF(初期設定!$C$15=\"\",\"\",初期設定!$C$15)","v":""},{"$f":"IF(初期設定!$C$16=\"\",\"\",初期設定!$C$16)","v":""}]
[null,null,"得点",{"$f":"IF(VLOOKUP($H$2,テストデータ!$A$4:$QN$503,14*1+5,FALSE)=\"\",IF(INDIRECT(ADDRESS(ROW()-1,COLUMN()))=\"\",\"\",\"欠\"),VLOOKUP($H$2,テストデータ!$A$4:$QN$503,14*1+5,FALSE))","v":42},{"$f":"IF(VLOOKUP($H$2,テストデータ!$A$4:$QN$503,14*1+6,FALSE)=\"\",IF(INDIRECT(ADDRESS(ROW()-1,COLUMN()))=\"\",\"\",\"欠\"),VLOOKUP($H$2,テストデータ!$A$4:$QN$503,14*1+6,FALSE))","v":21},{"$f":"IF(VLOOKUP($H$2,テストデータ!$A$4:$QN$503,14*1+7,FALSE)=\"\",IF(INDIRECT(ADDRESS(ROW()-1,COLUMN()))=\"\",\"\",\"欠\"),VLOOKUP($H$2,テストデータ!$A$4:$QN$503,14*1+7,FALSE))","v":10},{"$f":"IF(VLOOKUP($H$2,テストデータ!$A$4:$QN$503,14*1+8,FALSE)=\"\",IF(INDIRECT(ADDRESS(ROW()-1,COLUMN()))=\"\",\"\",\"欠\"),VLOOKUP($H$2,テストデータ!$A$4:$QN$503,14*1+8,FALSE))","v":85},{"$f":"IF(VLOOKUP($H$2,テストデータ!$A$4:$QN$503,14*1+9,FALSE)=\"\",IF(INDIRECT(ADDRESS(ROW()-1,COLUMN()))=\"\",\"\",\"欠\"),VLOOKUP($H$2,テストデータ!$A$4:$QN$503,14*1+9,FALSE))","v":18},{"$f":"IF(VLOOKUP($H$2,テストデータ!$A$4:$QN$503,14*1+10,FALSE)=\"\",IF(INDIRECT(ADDRESS(ROW()-1,COLUMN()))=\"\",\"\",\"欠\"),VLOOKUP($H$2,テストデータ!$A$4:$QN$503,14*1+10,FALSE))","v":98},{"$f":"IF(VLOOKUP($H$2,テストデータ!$A$4:$QN$503,14*1+11,FALSE)=\"\",IF(INDIRECT(ADDRESS(ROW()-1,COLUMN()))=\"\",\"\",\"欠\"),VLOOKUP($H$2,テストデータ!$A$4:$QN$503,14*1+11,FALSE))","v":47},{"$f":"IF(VLOOKUP($H$2,テストデータ!$A$4:$QN$503,14*1+12,FALSE)=\"\",IF(INDIRECT(ADDRESS(ROW()-1,COLUMN()))=\"\",\"\",\"欠\"),VLOOKUP($H$2,テストデータ!$A$4:$QN$503,14*1+12,FALSE))","v":69},{"$f":"IF(VLOOKUP($H$2,テストデータ!$A$4:$QN$503,14*1+13,FALSE)=\"\",IF(INDIRECT(ADDRESS(ROW()-1,COLUMN()))=\"\",\"\",\"欠\"),VLOOKUP($H$2,テストデータ!$A$4:$QN$503,14*1+13,FALSE))","v":93},{"$f":"IF(VLOOKUP($H$2,テストデータ!$A$4:$QN$503,14*1+14,FALSE)=\"\",IF(INDIRECT(ADDRESS(ROW()-1,COLUMN()))=\"\",\"\",\"欠\"),VLOOKUP($H$2,テストデータ!$A$4:$QN$503,14*1+14,FALSE))","v":83},{"$f":"IF(VLOOKUP($H$2,テストデータ!$A$4:$QN$503,14*1+15,FALSE)=\"\",IF(INDIRECT(ADDRESS(ROW()-1,COLUMN()))=\"\",\"\",\"欠\"),VLOOKUP($H$2,テストデータ!$A$4:$QN$503,14*1+15,FALSE))","v":18},{"$f":"IF(VLOOKUP($H$2,テストデータ!$A$4:$QN$503,14*1+16,FALSE)=\"\",IF(INDIRECT(ADDRESS(ROW()-1,COLUMN()))=\"\",\"\",\"欠\"),VLOOKUP($H$2,テストデータ!$A$4:$QN$503,14*1+16,FALSE))","v":""},{"$f":"IF(VLOOKUP($H$2,テストデータ!$A$4:$QN$503,14*1+17,FALSE)=\"\",IF(INDIRECT(ADDRESS(ROW()-1,COLUMN()))=\"\",\"\",\"欠\"),VLOOKUP($H$2,テストデータ!$A$4:$QN$503,14*1+17,FALSE))","v":""},{"$f":"IF(VLOOKUP($H$2,テストデータ!$A$4:$QN$503,14*1+18,FALSE)=\"\",IF(INDIRECT(ADDRESS(ROW()-1,COLUMN()))=\"\",\"\",\"欠\"),VLOOKUP($H$2,テストデータ!$A$4:$QN$503,14*1+18,FALSE))","v":""}]
[null,null,"平均点",{"$f":"IF(COUNT(INDIRECT(\"テストデータ!S$4:S$503\"))=0,NA(),AVERAGE(INDIRECT(\"テストデータ!S$4:S$503\")))","v":57.10526315789474},{"$f":"IF(COUNT(INDIRECT(\"テストデータ!T$4:T$503\"))=0,NA(),AVERAGE(INDIRECT(\"テストデータ!T$4:T$503\")))","v":47.55},{"$f":"IF(COUNT(INDIRECT(\"テストデータ!U$4:U$503\"))=0,NA(),AVERAGE(INDIRECT(\"テストデータ!U$4:U$503\")))","v":44.89473684210526},{"$f":"IF(COUNT(INDIRECT(\"テストデータ!V$4:V$503\"))=0,NA(),AVERAGE(INDIRECT(\"テストデータ!V$4:V$503\")))","v":45.8},{"$f":"IF(COUNT(INDIRECT(\"テストデータ!W$4:W$503\"))=0,NA(),AVERAGE(INDIRECT(\"テストデータ!W$4:W$503\")))","v":50.8},{"$f":"IF(COUNT(INDIRECT(\"テストデータ!X$4:X$503\"))=0,NA(),AVERAGE(INDIRECT(\"テストデータ!X$4:X$503\")))","v":54.263157894736842},{"$f":"IF(COUNT(INDIRECT(\"テストデータ!Y$4:Y$503\"))=0,NA(),AVERAGE(INDIRECT(\"テストデータ!Y$4:Y$503\")))","v":55.85},{"$f":"IF(COUNT(INDIRECT(\"テストデータ!Z$4:Z$503\"))=0,NA(),AVERAGE(INDIRECT(\"テストデータ!Z$4:Z$503\")))","v":61.263157894736842},{"$f":"IF(COUNT(INDIRECT(\"テストデータ!AA$4:AA$503\"))=0,NA(),AVERAGE(INDIRECT(\"テストデータ!AA$4:AA$503\")))","v":56.45},{"$f":"IF(COUNT(INDIRECT(\"テストデータ!AB$4:AB$503\"))=0,NA(),AVERAGE(INDIRECT(\"テストデータ!AB$4:AB$503\")))","v":51.789473684210527},{"$f":"IF(COUNT(INDIRECT(\"テストデータ!AC$4:AC$503\"))=0,NA(),AVERAGE(INDIRECT(\"テストデータ!AC$4:AC$503\")))","v":51.9},{"$f":"IF(COUNT(INDIRECT(\"テストデータ!AD$4:AD$503\"))=0,NA(),AVERAGE(INDIRECT(\"テストデータ!AD$4:AD$503\")))","v":{"$error":"#N/A"}},{"$f":"IF(COUNT(INDIRECT(\"テストデータ!AE$4:AE$503\"))=0,NA(),AVERAGE(INDIRECT(\"テストデータ!AE$4:AE$503\")))","v":{"$error":"#N/A"}},{"$f":"IF(COUNT(INDIRECT(\"テストデータ!AF$4:AF$503\"))=0,NA(),AVERAGE(INDIRECT(\"テストデータ!AF$4:AF$503\")))","v":{"$error":"#N/A"}}]
[null,null,"クラス順位",{"$f":"IF(OR(INDIRECT(ADDRESS(ROW()-2,COLUMN()))=\"欠\",INDIRECT(ADDRESS(ROW()-2,COLUMN()))=\"\"),\"\",SUMPRODUCT((INDIRECT(\"テストデータ!$B$4:$B$503\")=$J$2)*(INDIRECT(\"テストデータ!$S$4:$S$503\")>D$10))+1)","v":4},{"$f":"IF(OR(INDIRECT(ADDRESS(ROW()-2,COLUMN()))=\"欠\",INDIRECT(ADDRESS(ROW()-2,COLUMN()))=\"\"),\"\",SUMPRODUCT((INDIRECT(\"テストデータ!$B$4:$B$503\")=$J$2)*(INDIRECT(\"テストデータ!$T$4:$T$503\")>E$10))+1)","v":5},{"$f":"IF(OR(INDIRECT(ADDRESS(ROW()-2,COLUMN()))=\"欠\",INDIRECT(ADDRESS(ROW()-2,COLUMN()))=\"\"),\"\",SUMPRODUCT((INDIRECT(\"テストデータ!$B$4:$B$503\")=$J$2)*(INDIRECT(\"テストデータ!$U$4:$U$503\")>F$10))+1)","v":6},{"$f":"IF(OR(INDIRECT(ADDRESS(ROW()-2,COLUMN()))=\"欠\",INDIRECT(ADDRESS(ROW()-2,COLUMN()))=\"\"),\"\",SUMPRODUCT((INDIRECT(\"テストデータ!$B$4:$B$503\")=$J$2)*(INDIRECT(\"テストデータ!$V$4:$V$503\")>G$10))+1)","v":2},{"$f":"IF(OR(INDIRECT(ADDRESS(ROW()-2,COLUMN()))=\"欠\",INDIRECT(ADDRESS(ROW()-2,COLUMN()))=\"\"),\"\",SUMPRODUCT((INDIRECT(\"テストデータ!$B$4:$B$503\")=$J$2)*(INDIRECT(\"テストデータ!$W$4:$W$503\")>H$10))+1)","v":5},{"$f":"IF(OR(INDIRECT(ADDRESS(ROW()-2,COLUMN()))=\"欠\",INDIRECT(ADDRESS(ROW()-2,COLUMN()))=\"\"),\"\",SUMPRODUCT((INDIRECT(\"テストデータ!$B$4:$B$503\")=$J$2)*(INDIRECT(\"テストデータ!$X$4:$X$503\")>I$10))+1)","v":1},{"$f":"IF(OR(INDIRECT(ADDRESS(ROW()-2,COLUMN()))=\"欠\",INDIRECT(ADDRESS(ROW()-2,COLUMN()))=\"\"),\"\",SUMPRODUCT((INDIRECT(\"テストデータ!$B$4:$B$503\")=$J$2)*(INDIRECT(\"テストデータ!$Y$4:$Y$503\")>J$10))+1)","v":5},{"$f":"IF(OR(INDIRECT(ADDRESS(ROW()-2,COLUMN()))=\"欠\",INDIRECT(ADDRESS(ROW()-2,COLUMN()))=\"\"),\"\",SUMPRODUCT((INDIRECT(\"テストデータ!$B$4:$B$503\")=$J$2)*(INDIRECT(\"テストデータ!$Z$4:$Z$503\")>K$10))+1)","v":3},{"$f":"IF(OR(INDIRECT(ADDRESS(ROW()-2,COLUMN()))=\"欠\",INDIRECT(ADDRESS(ROW()-2,COLUMN()))=\"\"),\"\",SUMPRODUCT((INDIRECT(\"テストデータ!$B$4:$B$503\")=$J$2)*(INDIRECT(\"テストデータ!$AA$4:$AA$503\")>L$10))+1)","v":1},{"$f":"IF(OR(INDIRECT(ADDRESS(ROW()-2,COLUMN()))=\"欠\",INDIRECT(ADDRESS(ROW()-2,COLUMN()))=\"\"),\"\",SUMPRODUCT((INDIRECT(\"テストデータ!$B$4:$B$503\")=$J$2)*(INDIRECT(\"テストデータ!$AB$4:$AB$503\")>M$10))+1)","v":1},{"$f":"IF(OR(INDIRECT(ADDRESS(ROW()-2,COLUMN()))=\"欠\",INDIRECT(ADDRESS(ROW()-2,COLUMN()))=\"\"),\"\",SUMPRODUCT((INDIRECT(\"テストデータ!$B$4:$B$503\")=$J$2)*(INDIRECT(\"テストデータ!$AC$4:$AC$503\")>N$10))+1)","v":5},{"$f":"IF(OR(INDIRECT(ADDRESS(ROW()-2,COLUMN()))=\"欠\",INDIRECT(ADDRESS(ROW()-2,COLUMN()))=\"\"),\"\",SUMPRODUCT((INDIRECT(\"テストデータ!$B$4:$B$503\")=$J$2)*(INDIRECT(\"テストデータ!$AD$4:$AD$503\")>O$10))+1)","v":""},{"$f":"IF(OR(INDIRECT(ADDRESS(ROW()-2,COLUMN()))=\"欠\",INDIRECT(ADDRESS(ROW()-2,COLUMN()))=\"\"),\"\",SUMPRODUCT((INDIRECT(\"テストデータ!$B$4:$B$503\")=$J$2)*(INDIRECT(\"テストデータ!$AE$4:$AE$503\")>P$10))+1)","v":""},{"$f":"IF(OR(INDIRECT(ADDRESS(ROW()-2,COLUMN()))=\"欠\",INDIRECT(ADDRESS(ROW()-2,COLUMN()))=\"\"),\"\",SUMPRODUCT((INDIRECT(\"テストデータ!$B$4:$B$503\")=$J$2)*(INDIRECT(\"テストデータ!$AF$4:$AF$503\")>Q$10))+1)","v":""}]
[null,null,"校内順位",{"$f":"IF(OR(INDIRECT(ADDRESS(ROW()-3,COLUMN()))=\"欠\",INDIRECT(ADDRESS(ROW()-3,COLUMN()))=\"\"),\"\",RANK(INDIRECT(ADDRESS(ROW()-3,COLUMN())),INDIRECT(\"テストデータ!S$4:S$503\")))","v":13},{"$f":"IF(OR(INDIRECT(ADDRESS(ROW()-3,COLUMN()))=\"欠\",INDIRECT(ADDRESS(ROW()-3,COLUMN()))=\"\"),\"\",RANK(INDIRECT(ADDRESS(ROW()-3,COLUMN())),INDIRECT(\"テストデータ!T$4:T$503\")))","v":17},{"$f":"IF(OR(INDIRECT(ADDRESS(ROW()-3,COLUMN()))=\"欠\",INDIRECT(ADDRESS(ROW()-3,COLUMN()))=\"\"),\"\",RANK(INDIRECT(ADDRESS(ROW()-3,COLUMN())),INDIRECT(\"テストデータ!U$4:U$503\")))","v":19},{"$f":"IF(OR(INDIRECT(ADDRESS(ROW()-3,COLUMN()))=\"欠\",INDIRECT(ADDRESS(ROW()-3,COLUMN()))=\"\"),\"\",RANK(INDIRECT(ADDRESS(ROW()-3,COLUMN())),INDIRECT(\"テストデータ!V$4:V$503\")))","v":4},{"$f":"IF(OR(INDIRECT(ADDRESS(ROW()-3,COLUMN()))=\"欠\",INDIRECT(ADDRESS(ROW()-3,COLUMN()))=\"\"),\"\",RANK(INDIRECT(ADDRESS(ROW()-3,COLUMN())),INDIRECT(\"テストデータ!W$4:W$503\")))","v":18},{"$f":"IF(OR(INDIRECT(ADDRESS(ROW()-3,COLUMN()))=\"欠\",INDIRECT(ADDRESS(ROW()-3,COLUMN()))=\"\"),\"\",RANK(INDIRECT(ADDRESS(ROW()-3,COLUMN())),INDIRECT(\"テストデータ!X$4:X$503\")))","v":1},{"$f":"IF(OR(INDIRECT(ADDRESS(ROW()-3,COLUMN()))=\"欠\",INDIRECT(ADDRESS(ROW()-3,COLUMN()))=\"\"),\"\",RANK(INDIRECT(ADDRESS(ROW()-3,COLUMN())),INDIRECT(\"テストデータ!Y$4:Y$503\")))","v":15},{"$f":"IF(OR(INDIRECT(ADDRESS(ROW()-3,COLUMN()))=\"欠\",INDIRECT(ADDRESS(ROW()-3,COLUMN()))=\"\"),\"\",RANK(INDIRECT(ADDRESS(ROW()-3,COLUMN())),INDIRECT(\"テストデータ!Z$4:Z$503\")))","v":10},{"$f":"IF(OR(INDIRECT(ADDRESS(ROW()-3,COLUMN()))=\"欠\",INDIRECT(ADDRESS(ROW()-3,COLUMN()))=\"\"),\"\",RANK(INDIRECT(ADDRESS(ROW()-3,COLUMN())),INDIRECT(\"テストデータ!AA$4:AA$503\")))","v":1},{"$f":"IF(OR(INDIRECT(ADDRESS(ROW()-3,COLUMN()))=\"欠\",INDIRECT(ADDRESS(ROW()-3,COLUMN()))=\"\"),\"\",RANK(INDIRECT(ADDRESS(ROW()-3,COLUMN())),INDIRECT(\"テストデータ!AB$4:AB$503\")))","v":3},{"$f":"IF(OR(INDIRECT(ADDRESS(ROW()-3,COLUMN()))=\"欠\",INDIRECT(ADDRESS(ROW()-3,COLUMN()))=\"\"),\"\",RANK(INDIRECT(ADDRESS(ROW()-3,COLUMN())),INDIRECT(\"テストデータ!AC$4:AC$503\")))","v":18},{"$f":"IF(OR(INDIRECT(ADDRESS(ROW()-3,COLUMN()))=\"欠\",INDIRECT(ADDRESS(ROW()-3,COLUMN()))=\"\"),\"\",RANK(INDIRECT(ADDRESS(ROW()-3,COLUMN())),INDIRECT(\"テストデータ!AD$4:AD$503\")))","v":""},{"$f":"IF(OR(INDIRECT(ADDRESS(ROW()-3,COLUMN()))=\"欠\",INDIRECT(ADDRESS(ROW()-3,COLUMN()))=\"\"),\"\",RANK(INDIRECT(ADDRESS(ROW()-3,COLUMN())),INDIRECT(\"テストデータ!AE$4:AE$503\")))","v":""},{"$f":"IF(OR(INDIRECT(ADDRESS(ROW()-3,COLUMN()))=\"欠\",INDIRECT(ADDRESS(ROW()-3,COLUMN()))=\"\"),\"\",RANK(INDIRECT(ADDRESS(ROW()-3,COLUMN())),INDIRECT(\"テストデータ!AF$4:AF$503\")))","v":""}]
[null,"第3回",{"$f":"IF(テストデータ!$AG$2=\"\",\"\",テストデータ!$AG$2)","v":"4/9"},{"$f":"IF(初期設定!$C$3=\"\",\"\",初期設定!$C$3)","v":"国総"},{"$f":"IF(初期設定!$C$4=\"\",\"\",初期設定!$C$4)","v":"英表"},{"$f":"IF(初期設定!$C$5=\"\",\"\",初期設定!$C$5)","v":"コ英"},{"$f":"IF(初期設定!$C$6=\"\",\"\",初期設定!$C$6)","v":"数Ⅰ"},{"$f":"IF(初期設定!$C$7=\"\",\"\",初期設定!$C$7)","v":"数A"},{"$f":"IF(初期設定!$C$8=\"\",\"\",初期設定!$C$8)","v":"世B"},{"$f":"IF(初期設定!$C$9=\"\",\"\",初期設定!$C$9)","v":"化基"},{"$f":"IF(初期設定!$C$10=\"\",\"\",初期設定!$C$10)","v":"情報"},{"$f":"IF(初期設定!$C$11=\"\",\"\",初期設定!$C$11)","v":"芸術"},{"$f":"IF(初期設定!$C$12=\"\",\"\",初期設定!$C$12)","v":"体育"},{"$f":"IF(初期設定!$C$13=\"\",\"\",初期設定!$C$13)","v":"保健"},{"$f":"IF(初期設定!$C$14=\"\",\"\",初期設定!$C$14)","v":""},{"$f":"IF(初期設定!$C$15=\"\",\"\",初期設定!$C$15)","v":""},{"$f":"IF(初期設定!$C$16=\"\",\"\",初期設定!$C$16)","v":""}]
[null,null,"得点"]
[null,null,"平均点"]
[null,null,"クラス順位"]
[null,null,"校内順位"]
[null,"第4回",{"$f":"IF(テストデータ!$AU$2=\"\",\"\",テストデータ!$AU$2)","v":"5/25"},{"$f":"IF(初期設定!$C$3=\"\",\"\",初期設定!$C$3)","v":"国総"},{"$f":"IF(初期設定!$C$4=\"\",\"\",初期設定!$C$4)","v":"英表"},{"$f":"IF(初期設定!$C$5=\"\",\"\",初期設定!$C$5)","v":"コ英"},{"$f":"IF(初期設定!$C$6=\"\",\"\",初期設定!$C$6)","v":"数Ⅰ"},{"$f":"IF(初期設定!$C$7=\"\",\"\",初期設定!$C$7)","v":"数A"},{"$f":"IF(初期設定!$C$8=\"\",\"\",初期設定!$C$8)","v":"世B"},{"$f":"IF(初期設定!$C$9=\"\",\"\",初期設定!$C$9)","v":"化基"},{"$f":"IF(初期設定!$C$10=\"\",\"\",初期設定!$C$10)","v":"情報"},{"$f":"IF(初期設定!$C$11=\"\",\"\",初期設定!$C$11)","v":"芸術"},{"$f":"IF(初期設定!$C$12=\"\",\"\",初期設定!$C$12)","v":"体育"},{"$f":"IF(初期設定!$C$13=\"\",\"\",初期設定!$C$13)","v":"保健"},{"$f":"IF(初期設定!$C$14=\"\",\"\",初期設定!$C$14)","v":""},{"$f":"IF(初期設定!$C$15=\"\",\"\",初期設定!$C$15)","v":""},{"$f":"IF(初期設定!$C$16=\"\",\"\",初期設定!$C$16)","v":""}]
[null,null,"得点",{"$f":"IF(VLOOKUP($H$2,テストデータ!$A$4:$QN$503,14*3+5,FALSE)=\"\",IF(INDIRECT(ADDRESS(ROW()-1,COLUMN()))=\"\",\"\",\"欠\"),VLOOKUP($H$2,テストデータ!$A$4:$QN$503,14*3+5,FALSE))","v":42},{"$f":"IF(VLOOKUP($H$2,テストデータ!$A$4:$QN$503,14*3+6,FALSE)=\"\",IF(INDIRECT(ADDRESS(ROW()-1,COLUMN()))=\"\",\"\",\"欠\"),VLOOKUP($H$2,テストデータ!$A$4:$QN$503,14*3+6,FALSE))","v":21},{"$f":"IF(VLOOKUP($H$2,テストデータ!$A$4:$QN$503,14*3+7,FALSE)=\"\",IF(INDIRECT(ADDRESS(ROW()-1,COLUMN()))=\"\",\"\",\"欠\"),VLOOKUP($H$2,テストデータ!$A$4:$QN$503,14*3+7,FALSE))","v":10},{"$f":"IF(VLOOKUP($H$2,テストデータ!$A$4:$QN$503,14*3+8,FALSE)=\"\",IF(INDIRECT(ADDRESS(ROW()-1,COLUMN()))=\"\",\"\",\"欠\"),VLOOKUP($H$2,テストデータ!$A$4:$QN$503,14*3+8,FALSE))","v":85},{"$f":"IF(VLOOKUP($H$2,テストデータ!$A$4:$QN$503,14*3+9,FALSE)=\"\",IF(INDIRECT(ADDRESS(ROW()-1,COLUMN()))=\"\",\"\",\"欠\"),VLOOKUP($H$2,テストデータ!$A$4:$QN$503,14*3+9,FALSE))","v":18},{"$f":"IF(VLOOKUP($H$2,テストデータ!$A$4:$QN$503,14*3+10,FALSE)=\"\",IF(INDIRECT(ADDRESS(ROW()-1,COLUMN()))=\"\",\"\",\"欠\"),VLOOKUP($H$2,テストデータ!$A$4:$QN$503,14*3+10,FALSE))","v":98},{"$f":"IF(VLOOKUP($H$2,テストデータ!$A$4:$QN$503,14*3+11,FALSE)=\"\",IF(INDIRECT(ADDRESS(ROW()-1,COLUMN()))=\"\",\"\",\"欠\"),VLOOKUP($H$2,テストデータ!$A$4:$QN$503,14*3+11,FALSE))","v":47},{"$f":"IF(VLOOKUP($H$2,テストデータ!$A$4:$QN$503,14*3+12,FALSE)=\"\",IF(INDIRECT(ADDRESS(ROW()-1,COLUMN()))=\"\",\"\",\"欠\"),VLOOKUP($H$2,テストデータ!$A$4:$QN$503,14*3+12,FALSE))","v":69},{"$f":"IF(VLOOKUP($H$2,テストデータ!$A$4:$QN$503,14*3+13,FALSE)=\"\",IF(INDIRECT(ADDRESS(ROW()-1,COLUMN()))=\"\",\"\",\"欠\"),VLOOKUP($H$2,テストデータ!$A$4:$QN$503,14*3+13,FALSE))","v":93},{"$f":"IF(VLOOKUP($H$2,テストデータ!$A$4:$QN$503,14*3+14,FALSE)=\"\",IF(INDIRECT(ADDRESS(ROW()-1,COLUMN()))=\"\",\"\",\"欠\"),VLOOKUP($H$2,テストデータ!$A$4:$QN$503,14*3+14,FALSE))","v":83},{"$f":"IF(VLOOKUP($H$2,テストデータ!$A$4:$QN$503,14*3+15,FALSE)=\"\",IF(INDIRECT(ADDRESS(ROW()-1,COLUMN()))=\"\",\"\",\"欠\"),VLOOKUP($H$2,テストデータ!$A$4:$QN$503,14*3+15,FALSE))","v":18},{"$f":"IF(VLOOKUP($H$2,テストデータ!$A$4:$QN$503,14*3+16,FALSE)=\"\",IF(INDIRECT(ADDRESS(ROW()-1,COLUMN()))=\"\",\"\",\"欠\"),VLOOKUP($H$2,テストデータ!$A$4:$QN$503,14*3+16,FALSE))","v":""},{"$f":"IF(VLOOKUP($H$2,テストデータ!$A$4:$QN$503,14*3+17,FALSE)=\"\",IF(INDIRECT(ADDRESS(ROW()-1,COLUMN()))=\"\",\"\",\"欠\"),VLOOKUP($H$2,テストデータ!$A$4:$QN$503,14*3+17,FALSE))","v":""},{"$f":"IF(VLOOKUP($H$2,テストデータ!$A$4:$QN$503,14*3+18,FALSE)=\"\",IF(INDIRECT(ADDRESS(ROW()-1,COLUMN()))=\"\",\"\",\"欠\"),VLOOKUP($H$2,テストデータ!$A$4:$QN$503,14*3+18,FALSE))","v":""}]
[null,null,"平均点",{"$f":"IF(COUNT(INDIRECT(\"テストデータ!AU$4:AU$503\"))=0,NA(),AVERAGE(INDIRECT(\"テストデータ!AU$4:AU$503\")))","v":55.684210526315788},{"$f":"IF(COUNT(INDIRECT(\"テストデータ!AV$4:AV$503\"))=0,NA(),AVERAGE(INDIRECT(\"テストデータ!AV$4:AV$503\")))","v":48.35},{"$f":"IF(COUNT(INDIRECT(\"テストデータ!AW$4:AW$503\"))=0,NA(),AVERAGE(INDIRECT(\"テストデータ!AW$4:AW$503\")))","v":47},{"$f":"IF(COUNT(INDIRECT(\"テストデータ!AX$4:AX$503\"))=0,NA(),AVERAGE(INDIRECT(\"テストデータ!AX$4:AX$503\")))","v":46.7},{"$f":"IF(COUNT(INDIRECT(\"テストデータ!AY$4:AY$503\"))=0,NA(),AVERAGE(INDIRECT(\"テストデータ!AY$4:AY$503\")))","v":52.55},{"$f":"IF(COUNT(INDIRECT(\"テストデータ!AZ$4:AZ$503\"))=0,NA(),AVERAGE(INDIRECT(\"テストデータ!AZ$4:AZ$503\")))","v":52},{"$f":"IF(COUNT(INDIRECT(\"テストデータ!BA$4:BA$503\"))=0,NA(),AVERAGE(INDIRECT(\"テストデータ!BA$4:BA$503\")))","v":56.25},{"$f":"IF(COUNT(INDIRECT(\"テストデータ!BB$4:BB$503\"))=0,NA(),AVERAGE(INDIRECT(\"テストデータ!BB$4:BB$503\")))","v":61.736842105263158},{"$f":"IF(COUNT(INDIRECT(\"テストデータ!BC$4:BC$503\"))=0,NA(),AVERAGE(INDIRECT(\"テストデータ!BC$4:BC$503\")))","v":60.2},{"$f":"IF(COUNT(INDIRECT(\"テストデータ!BD$4:BD$503\"))=0,NA(),AVERAGE(INDIRECT(\"テストデータ!BD$4:BD$503\")))","v":53.842105263157897},{"$f":"IF(COUNT(INDIRECT(\"テストデータ!BE$4:BE$503\"))=0,NA(),AVERAGE(INDIRECT(\"テストデータ!BE$4:BE$503\")))","v":52.55},{"$f":"IF(COUNT(INDIRECT(\"テストデータ!BF$4:BF$503\"))=0,NA(),AVERAGE(INDIRECT(\"テストデータ!BF$4:BF$503\")))","v":{"$error":"#N/A"}},{"$f":"IF(COUNT(INDIRECT(\"テストデータ!BG$4:BG$503\"))=0,NA(),AVERAGE(INDIRECT(\"テストデータ!BG$4:BG$503\")))","v":{"$error":"#N/A"}},{"$f":"IF(COUNT(INDIRECT(\"テストデータ!BH$4:BH$503\"))=0,NA(),AVERAGE(INDIRECT(\"テストデータ!BH$4:BH$503\")))","v":{"$error":"#N/A"}}]
[null,null,"クラス順位",{"$f":"IF(OR(INDIRECT(ADDRESS(ROW()-2,COLUMN()))=\"欠\",INDIRECT(ADDRESS(ROW()-2,COLUMN()))=\"\"),\"\",SUMPRODUCT((INDIRECT(\"テストデータ!$B$4:$B$503\")=$J$2)*(INDIRECT(\"テストデータ!$AU$4:$AU$503\")>D$20))+1)","v":4},{"$f":"IF(OR(INDIRECT(ADDRESS(ROW()-2,COLUMN()))=\"欠\",INDIRECT(ADDRESS(ROW()-2,COLUMN()))=\"\"),\"\",SUMPRODUCT((INDIRECT(\"テストデータ!$B$4:$B$503\")=$J$2)*(INDIRECT(\"テストデータ!$AV$4:$AV$503\")>E$20))+1)","v":5},{"$f":"IF(OR(INDIRECT(ADDRESS(ROW()-2,COLUMN()))=\"欠\",INDIRECT(ADDRESS(ROW()-2,COLUMN()))=\"\"),\"\",SUMPRODUCT((INDIRECT(\"テストデータ!$B$4:$B$503\")=$J$2)*(INDIRECT(\"テストデータ!$AW$4:$AW$503\")>F$20))+1)","v":6},{"$f":"IF(OR(INDIRECT(ADDRESS(ROW()-2,COLUMN()))=\"欠\",INDIRECT(ADDRESS(ROW()-2,COLUMN()))=\"\"),\"\",SUMPRODUCT((INDIRECT(\"テストデータ!$B$4:$B$503\")=$J$2)*(INDIRECT(\"テストデータ!$AX$4:$AX$503\")>G$20))+1)","v":2},{"$f":"IF(OR(INDIRECT(ADDRESS(ROW()-2,COLUMN()))=\"欠\",INDIRECT(ADDRESS(ROW()-2,COLUMN()))=\"\"),\"\",SUMPRODUCT((INDIRECT(\"テストデータ!$B$4:$B$503\")=$J$2)*(INDIRECT(\"テストデータ!$AY$4:$AY$503\")>H$20))+1)","v":5},{"$f":"IF(OR(INDIRECT(ADDRESS(ROW()-2,COLUMN()))=\"欠\",INDIRECT(ADDRESS(ROW()-2,COLUMN()))=\"\"),\"\",SUMPRODUCT((INDIRECT(\"テストデータ!$B$4:$B$503\")=$J$2)*(INDIRECT(\"テストデータ!$AZ$4:$AZ$503\")>I$20))+1)","v":1},{"$f":"IF(OR(INDIRECT(ADDRESS(ROW()-2,COLUMN()))=\"欠\",INDIRECT(ADDRESS(ROW()-2,COLUMN()))=\"\"),\"\",SUMPRODUCT((INDIRECT(\"テストデータ!$B$4:$B$503\")=$J$2)*(INDIRECT(\"テストデータ!$BA$4:$BA$503\")>J$20))+1)","v":5},{"$f":"IF(OR(INDIRECT(ADDRESS(ROW()-2,COLUMN()))=\"欠\",INDIRECT(ADDRESS(ROW()-2,COLUMN()))=\"\"),\"\",SUMPRODUCT((INDIRECT(\"テストデータ!$B$4:$B$503\")=$J$2)*(INDIRECT(\"テストデータ!$BB$4:$BB$503\")>K$20))+1)","v":3},{"$f":"IF(OR(INDIRECT(ADDRESS(ROW()-2,COLUMN()))=\"欠\",INDIRECT(ADDRESS(ROW()-2,COLUMN()))=\"\"),\"\",SUMPRODUCT((INDIRECT(\"テストデータ!$B$4:$B$503\")=$J$2)*(INDIRECT(\"テストデータ!$BC$4:$BC$503\")>L$20))+1)","v":2},{"$f":"IF(OR(INDIRECT(ADDRESS(ROW()-2,COLUMN()))=\"欠\",INDIRECT(ADDRESS(ROW()-2,COLUMN()))=\"\"),\"\",SUMPRODUCT((INDIRECT(\"テストデータ!$B$4:$B$503\")=$J$2)*(INDIRECT(\"テストデータ!$BD$4:$BD$503\")>M$20))+1)","v":2},{"$f":"IF(OR(INDIRECT(ADDRESS(ROW()-2,COLUMN()))=\"欠\",INDIRECT(ADDRESS(ROW()-2,COLUMN()))=\"\"),\"\",SUMPRODUCT((INDIRECT(\"テストデータ!$B$4:$B$503\")=$J$2)*(INDIRECT(\"テストデータ!$BE$4:$BE$503\")>N$20))+1)","v":5},{"$f":"IF(OR(INDIRECT(ADDRESS(ROW()-2,COLUMN()))=\"欠\",INDIRECT(ADDRESS(ROW()-2,COLUMN()))=\"\"),\"\",SUMPRODUCT((INDIRECT(\"テストデータ!$B$4:$B$503\")=$J$2)*(INDIRECT(\"テストデータ!$BF$4:$BF$503\")>O$20))+1)","v":""},{"$f":"IF(OR(INDIRECT(ADDRESS(ROW()-2,COLUMN()))=\"欠\",INDIRECT(ADDRESS(ROW()-2,COLUMN()))=\"\"),\"\",SUMPRODUCT((INDIRECT(\"テストデータ!$B$4:$B$503\")=$J$2)*(INDIRECT(\"テストデータ!$BG$4:$BG$503\")>P$20))+1)","v":""},{"$f":"IF(OR(INDIRECT(ADDRESS(ROW()-2,COLUMN()))=\"欠\",INDIRECT(ADDRESS(ROW()-2,COLUMN()))=\"\"),\"\",SUMPRODUCT((INDIRECT(\"テストデータ!$B$4:$B$503\")=$J$2)*(INDIRECT(\"テストデータ!$BH$4:$BH$503\")>Q$20))+1)","v":""}]
[null,null,"校内順位",{"$f":"IF(OR(INDIRECT(ADDRESS(ROW()-3,COLUMN()))=\"欠\",INDIRECT(ADDRESS(ROW()-3,COLUMN()))=\"\"),\"\",RANK(INDIRECT(ADDRESS(ROW()-3,COLUMN())),INDIRECT(\"テストデータ!AU$4:AU$503\")))","v":13},{"$f":"IF(OR(INDIRECT(ADDRESS(ROW()-3,COLUMN()))=\"欠\",INDIRECT(ADDRESS(ROW()-3,COLUMN()))=\"\"),\"\",RANK(INDIRECT(ADDRESS(ROW()-3,COLUMN())),INDIRECT(\"テストデータ!AV$4:AV$503\")))","v":17},{"$f":"IF(OR(INDIRECT(ADDRESS(ROW()-3,COLUMN()))=\"欠\",INDIRECT(ADDRESS(ROW()-3,COLUMN()))=\"\"),\"\",RANK(INDIRECT(ADDRESS(ROW()-3,COLUMN())),INDIRECT(\"テストデータ!AW$4:AW$503\")))","v":19},{"$f":"IF(OR(INDIRECT(ADDRESS(ROW()-3,COLUMN()))=\"欠\",INDIRECT(ADDRESS(ROW()-3,COLUMN()))=\"\"),\"\",RANK(INDIRECT(ADDRESS(ROW()-3,COLUMN())),INDIRECT(\"テストデータ!AX$4:AX$503\")))","v":4},{"$f":"IF(OR(INDIRECT(ADDRESS(ROW()-3,COLUMN()))=\"欠\",INDIRECT(ADDRESS(ROW()-3,COLUMN()))=\"\"),\"\",RANK(INDIRECT(ADDRESS(ROW()-3,COLUMN())),INDIRECT(\"テストデータ!AY$4:AY$503\")))","v":18},{"$f":"IF(OR(INDIRECT(ADDRESS(ROW()-3,COLUMN()))=\"欠\",INDIRECT(ADDRESS(ROW()-3,COLUMN()))=\"\"),\"\",RANK(INDIRECT(ADDRESS(ROW()-3,COLUMN())),INDIRECT(\"テストデータ!AZ$4:AZ$503\")))","v":1},{"$f":"IF(OR(INDIRECT(ADDRESS(ROW()-3,COLUMN()))=\"欠\",INDIRECT(ADDRESS(ROW()-3,COLUMN()))=\"\"),\"\",RANK(INDIRECT(ADDRESS(ROW()-3,COLUMN())),INDIRECT(\"テストデータ!BA$4:BA$503\")))","v":15},{"$f":"IF(OR(INDIRECT(ADDRESS(ROW()-3,COLUMN()))=\"欠\",INDIRECT(ADDRESS(ROW()-3,COLUMN()))=\"\"),\"\",RANK(INDIRECT(ADDRESS(ROW()-3,COLUMN())),INDIRECT(\"テストデータ!BB$4:BB$503\")))","v":10},{"$f":"IF(OR(INDIRECT(ADDRESS(ROW()-3,COLUMN()))=\"欠\",INDIRECT(ADDRESS(ROW()-3,COLUMN()))=\"\"),\"\",RANK(INDIRECT(ADDRESS(ROW()-3,COLUMN())),INDIRECT(\"テストデータ!BC$4:BC$503\")))","v":2},{"$f":"IF(OR(INDIRECT(ADDRESS(ROW()-3,COLUMN()))=\"欠\",INDIRECT(ADDRESS(ROW()-3,COLUMN()))=\"\"),\"\",RANK(INDIRECT(ADDRESS(ROW()-3,COLUMN())),INDIRECT(\"テストデータ!BD$4:BD$503\")))","v":4},{"$f":"IF(OR(INDIRECT(ADDRESS(ROW()-3,COLUMN()))=\"欠\",INDIRECT(ADDRESS(ROW()-3,COLUMN()))=\"\"),\"\",RANK(INDIRECT(ADDRESS(ROW()-3,COLUMN())),INDIRECT(\"テストデータ!BE$4:BE$503\")))","v":18},{"$f":"IF(OR(INDIRECT(ADDRESS(ROW()-3,COLUMN()))=\"欠\",INDIRECT(ADDRESS(ROW()-3,COLUMN()))=\"\"),\"\",RANK(INDIRECT(ADDRESS(ROW()-3,COLUMN())),INDIRECT(\"テストデータ!BF$4:BF$503\")))","v":""},{"$f":"IF(OR(INDIRECT(ADDRESS(ROW()-3,COLUMN()))=\"欠\",INDIRECT(ADDRESS(ROW()-3,COLUMN()))=\"\"),\"\",RANK(INDIRECT(ADDRESS(ROW()-3,COLUMN())),INDIRECT(\"テストデータ!BG$4:BG$503\")))","v":""},{"$f":"IF(OR(INDIRECT(ADDRESS(ROW()-3,COLUMN()))=\"欠\",INDIRECT(ADDRESS(ROW()-3,COLUMN()))=\"\"),\"\",RANK(INDIRECT(ADDRESS(ROW()-3,COLUMN())),INDIRECT(\"テストデータ!BH$4:BH$503\")))","v":""}]
[null,"第5回",{"$f":"IF(テストデータ!$BI$2=\"\",\"\",テストデータ!$BI$2)","v":"6/15"},{"$f":"IF(初期設定!$C$3=\"\",\"\",初期設定!$C$3)","v":"国総"},{"$f":"IF(初期設定!$C$4=\"\",\"\",初期設定!$C$4)","v":"英表"},{"$f":"IF(初期設定!$C$5=\"\",\"\",初期設定!$C$5)","v":"コ英"},{"$f":"IF(初期設定!$C$6=\"\",\"\",初期設定!$C$6)","v":"数Ⅰ"},{"$f":"IF(初期設定!$C$7=\"\",\"\",初期設定!$C$7)","v":"数A"},{"$f":"IF(初期設定!$C$8=\"\",\"\",初期設定!$C$8)","v":"世B"},{"$f":"IF(初期設定!$C$9=\"\",\"\",初期設定!$C$9)","v":"化基"},{"$f":"IF(初期設定!$C$10=\"\",\"\",初期設定!$C$10)","v":"情報"},{"$f":"IF(初期設定!$C$11=\"\",\"\",初期設定!$C$11)","v":"芸術"},{"$f":"IF(初期設定!$C$12=\"\",\"\",初期設定!$C$12)","v":"体育"},{"$f":"IF(初期設定!$C$13=\"\",\"\",初期設定!$C$13)","v":"保健"},{"$f":"IF(初期設定!$C$14=\"\",\"\",初期設定!$C$14)","v":""},{"$f":"IF(初期設定!$C$15=\"\",\"\",初期設定!$C$15)","v":""},{"$f":"IF(初期設定!$C$16=\"\",\"\",初期設定!$C$16)","v":""}]
[null,null,"得点",{"$f":"IF(VLOOKUP($H$2,テストデータ!$A$4:$QN$503,14*4+5,FALSE)=\"\",IF(INDIRECT(ADDRESS(ROW()-1,COLUMN()))=\"\",\"\",\"欠\"),VLOOKUP($H$2,テストデータ!$A$4:$QN$503,14*4+5,FALSE))","v":42},{"$f":"IF(VLOOKUP($H$2,テストデータ!$A$4:$QN$503,14*4+6,FALSE)=\"\",IF(INDIRECT(ADDRESS(ROW()-1,COLUMN()))=\"\",\"\",\"欠\"),VLOOKUP($H$2,テストデータ!$A$4:$QN$503,14*4+6,FALSE))","v":21},{"$f":"IF(VLOOKUP($H$2,テストデータ!$A$4:$QN$503,14*4+7,FALSE)=\"\",IF(INDIRECT(ADDRESS(ROW()-1,COLUMN()))=\"\",\"\",\"欠\"),VLOOKUP($H$2,テストデータ!$A$4:$QN$503,14*4+7,FALSE))","v":10},{"$f":"IF(VLOOKUP($H$2,テストデータ!$A$4:$QN$503,14*4+8,FALSE)=\"\",IF(INDIRECT(ADDRESS(ROW()-1,COLUMN()))=\"\",\"\",\"欠\"),VLOOKUP($H$2,テストデータ!$A$4:$QN$503,14*4+8,FALSE))","v":85},{"$f":"IF(VLOOKUP($H$2,テストデータ!$A$4:$QN$503,14*4+9,FALSE)=\"\",IF(INDIRECT(ADDRESS(ROW()-1,COLUMN()))=\"\",\"\",\"欠\"),VLOOKUP($H$2,テストデータ!$A$4:$QN$503,14*4+9,FALSE))","v":18},{"$f":"IF(VLOOKUP($H$2,テストデータ!$A$4:$QN$503,14*4+10,FALSE)=\"\",IF(INDIRECT(ADDRESS(ROW()-1,COLUMN()))=\"\",\"\",\"欠\"),VLOOKUP($H$2,テストデータ!$A$4:$QN$503,14*4+10,FALSE))","v":98},{"$f":"IF(VLOOKUP($H$2,テストデータ!$A$4:$QN$503,14*4+11,FALSE)=\"\",IF(INDIRECT(ADDRESS(ROW()-1,COLUMN()))=\"\",\"\",\"欠\"),VLOOKUP($H$2,テストデータ!$A$4:$QN$503,14*4+11,FALSE))","v":47},{"$f":"IF(VLOOKUP($H$2,テストデータ!$A$4:$QN$503,14*4+12,FALSE)=\"\",IF(INDIRECT(ADDRESS(ROW()-1,COLUMN()))=\"\",\"\",\"欠\"),VLOOKUP($H$2,テストデータ!$A$4:$QN$503,14*4+12,FALSE))","v":69},{"$f":"IF(VLOOKUP($H$2,テストデータ!$A$4:$QN$503,14*4+13,FALSE)=\"\",IF(INDIRECT(ADDRESS(ROW()-1,COLUMN()))=\"\",\"\",\"欠\"),VLOOKUP($H$2,テストデータ!$A$4:$QN$503,14*4+13,FALSE))","v":93},{"$f":"IF(VLOOKUP($H$2,テストデータ!$A$4:$QN$503,14*4+14,FALSE)=\"\",IF(INDIRECT(ADDRESS(ROW()-1,COLUMN()))=\"\",\"\",\"欠\"),VLOOKUP($H$2,テストデータ!$A$4:$QN$503,14*4+14,FALSE))","v":83},{"$f":"IF(VLOOKUP($H$2,テストデータ!$A$4:$QN$503,14*4+15,FALSE)=\"\",IF(INDIRECT(ADDRESS(ROW()-1,COLUMN()))=\"\",\"\",\"欠\"),VLOOKUP($H$2,テストデータ!$A$4:$QN$503,14*4+15,FALSE))","v":18},{"$f":"IF(VLOOKUP($H$2,テストデータ!$A$4:$QN$503,14*4+16,FALSE)=\"\",IF(INDIRECT(ADDRESS(ROW()-1,COLUMN()))=\"\",\"\",\"欠\"),VLOOKUP($H$2,テストデータ!$A$4:$QN$503,14*4+16,FALSE))","v":""},{"$f":"IF(VLOOKUP($H$2,テストデータ!$A$4:$QN$503,14*4+17,FALSE)=\"\",IF(INDIRECT(ADDRESS(ROW()-1,COLUMN()))=\"\",\"\",\"欠\"),VLOOKUP($H$2,テストデータ!$A$4:$QN$503,14*4+17,FALSE))","v":""},{"$f":"IF(VLOOKUP($H$2,テストデータ!$A$4:$QN$503,14*4+18,FALSE)=\"\",IF(INDIRECT(ADDRESS(ROW()-1,COLUMN()))=\"\",\"\",\"欠\"),VLOOKUP($H$2,テストデータ!$A$4:$QN$503,14*4+18,FALSE))","v":""}]
[null,null,"平均点",{"$f":"IF(COUNT(INDIRECT(\"テストデータ!BI$4:BI$503\"))=0,NA(),AVERAGE(INDIRECT(\"テストデータ!BI$4:BI$503\")))","v":56.473684210526315},{"$f":"IF(COUNT(INDIRECT(\"テストデータ!BJ$4:BJ$503\"))=0,NA(),AVERAGE(INDIRECT(\"テストデータ!BJ$4:BJ$503\")))","v":48.35},{"$f":"IF(COUNT(INDIRECT(\"テストデータ!BK$4:BK$503\"))=0,NA(),AVERAGE(INDIRECT(\"テストデータ!BK$4:BK$503\")))","v":47},{"$f":"IF(COUNT(INDIRECT(\"テストデータ!BL$4:BL$503\"))=0,NA(),AVERAGE(INDIRECT(\"テストデータ!BL$4:BL$503\")))","v":46.7},{"$f":"IF(COUNT(INDIRECT(\"テストデータ!BM$4:BM$503\"))=0,NA(),AVERAGE(INDIRECT(\"テストデータ!BM$4:BM$503\")))","v":52.55},{"$f":"IF(COUNT(INDIRECT(\"テストデータ!BN$4:BN$503\"))=0,NA(),AVERAGE(INDIRECT(\"テストデータ!BN$4:BN$503\")))","v":52},{"$f":"IF(COUNT(INDIRECT(\"テストデータ!BO$4:BO$503\"))=0,NA(),AVERAGE(INDIRECT(\"テストデータ!BO$4:BO$503\")))","v":56.25},{"$f":"IF(COUNT(INDIRECT(\"テストデータ!BP$4:BP$503\"))=0,NA(),AVERAGE(INDIRECT(\"テストデータ!BP$4:BP$503\")))","v":61.736842105263158},{"$f":"IF(COUNT(INDIRECT(\"テストデータ!BQ$4:BQ$503\"))=0,NA(),AVERAGE(INDIRECT(\"テストデータ!BQ$4:BQ$503\")))","v":60.2},{"$f":"IF(COUNT(INDIRECT(\"テストデータ!BR$4:BR$503\"))=0,NA(),AVERAGE(INDIRECT(\"テストデータ!BR$4:BR$503\")))","v":53.842105263157897},{"$f":"IF(COUNT(INDIRECT(\"テストデータ!BS$4:BS$503\"))=0,NA(),AVERAGE(INDIRECT(\"テストデータ!BS$4:BS$503\")))","v":52.9},{"$f":"IF(COUNT(INDIRECT(\"テストデータ!BT$4:BT$503\"))=0,NA(),AVERAGE(INDIRECT(\"テストデータ!BT$4:BT$503\")))","v":{"$error":"#N/A"}},{"$f":"IF(COUNT(INDIRECT(\"テストデータ!BU$4:BU$503\"))=0,NA(),AVERAGE(INDIRECT(\"テストデータ!BU$4:BU$503\")))","v":{"$error":"#N/A"}},{"$f":"IF(COUNT(INDIRECT(\"テストデータ!BV$4:BV$503\"))=0,NA(),AVERAGE(INDIRECT(\"テストデータ!BV$4:BV$503\")))","v":{"$error":"#N/A"}}]
[null,null,"クラス順位",{"$f":"IF(OR(INDIRECT(ADDRESS(ROW()-2,COLUMN()))=\"欠\",INDIRECT(ADDRESS(ROW()-2,COLUMN()))=\"\"),\"\",SUMPRODUCT((INDIRECT(\"テストデータ!$B$4:$B$503\")=$J$2)*(INDIRECT(\"テストデータ!$BI$4:$BI$503\")>D$25))+1)","v":4},{"$f":"IF(OR(INDIRECT(ADDRESS(ROW()-2,COLUMN()))=\"欠\",INDIRECT(ADDRESS(ROW()-2,COLUMN()))=\"\"),\"\",SUMPRODUCT((INDIRECT(\"テストデータ!$B$4:$B$503\")=$J$2)*(INDIRECT(\"テストデータ!$BJ$4:$BJ$503\")>E$25))+1)","v":5},{"$f":"IF(OR(INDIRECT(ADDRESS(ROW()-2,COLUMN()))=\"欠\",INDIRECT(ADDRESS(ROW()-2,COLUMN()))=\"\"),\"\",SUMPRODUCT((INDIRECT(\"テストデータ!$B$4:$B$503\")=$J$2)*(INDIRECT(\"テストデータ!$BK$4:$BK$503\")>F$25))+1)","v":6},{"$f":"IF(OR(INDIRECT(ADDRESS(ROW()-2,COLUMN()))=\"欠\",INDIRECT(ADDRESS(ROW()-2,COLUMN()))=\"\"),\"\",SUMPRODUCT((INDIRECT(\"テストデータ!$B$4:$B$503\")=$J$2)*(INDIRECT(\"テストデータ!$BL$4:$BL$503\")>G$25))+1)","v":2},{"$f":"IF(OR(INDIRECT(ADDRESS(ROW()-2,COLUMN()))=\"欠\",INDIRECT(ADDRESS(ROW()-2,COLUMN()))=\"\"),\"\",SUMPRODUCT((INDIRECT(\"テストデータ!$B$4:$B$503\")=$J$2)*(INDIRECT(\"テストデータ!$BM$4:$BM$503\")>H$25))+1)","v":5},{"$f":"IF(OR(INDIRECT(ADDRESS(ROW()-2,COLUMN()))=\"欠\",INDIRECT(ADDRESS(ROW()-2,COLUMN()))=\"\"),\"\",SUMPRODUCT((INDIRECT(\"テストデータ!$B$4:$B$503\")=$J$2)*(INDIRECT(\"テストデータ!$BN$4:$BN$503\")>I$25))+1)","v":1},{"$f":"IF(OR(INDIRECT(ADDRESS(ROW()-2,COLUMN()))=\"欠\",INDIRECT(ADDRESS(ROW()-2,COLUMN()))=\"\"),\"\",SUMPRODUCT((INDIRECT(\"テストデータ!$B$4:$B$503\")=$J$2)*(INDIRECT(\"テストデータ!$BO$4:$BO$503\")>J$25))+1)","v":5},{"$f":"IF(OR(INDIRECT(ADDRESS(ROW()-2,COLUMN()))=\"欠\",INDIRECT(ADDRESS(ROW()-2,COLUMN()))=\"\"),\"\",SUMPRODUCT((INDIRECT(\"テストデータ!$B$4:$B$503\")=$J$2)*(INDIRECT(\"テストデータ!$BP$4:$BP$503\")>K$25))+1)","v":3},{"$f":"IF(OR(INDIRECT(ADDRESS(ROW()-2,COLUMN()))=\"欠\",INDIRECT(ADDRESS(ROW()-2,COLUMN()))=\"\"),\"\",SUMPRODUCT((INDIRECT(\"テストデータ!$B$4:$B$503\")=$J$2)*(INDIRECT(\"テストデータ!$BQ$4:$BQ$503\")>L$25))+1)","v":2},{"$f":"IF(OR(INDIRECT(ADDRESS(ROW()-2,COLUMN()))=\"欠\",INDIRECT(ADDRESS(ROW()-2,COLUMN()))=\"\"),\"\",SUMPRODUCT((INDIRECT(\"テストデータ!$B$4:$B$503\")=$J$2)*(INDIRECT(\"テストデータ!$BR$4:$BR$503\")>M$25))+1)","v":2},{"$f":"IF(OR(INDIRECT(ADDRESS(ROW()-2,COLUMN()))=\"欠\",INDIRECT(ADDRESS(ROW()-2,COLUMN()))=\"\"),\"\",SUMPRODUCT((INDIRECT(\"テストデータ!$B$4:$B$503\")=$J$2)*(INDIRECT(\"テストデータ!$BS$4:$BS$503\")>N$25))+1)","v":5},{"$f":"IF(OR(INDIRECT(ADDRESS(ROW()-2,COLUMN()))=\"欠\",INDIRECT(ADDRESS(ROW()-2,COLUMN()))=\"\"),\"\",SUMPRODUCT((INDIRECT(\"テストデータ!$B$4:$B$503\")=$J$2)*(INDIRECT(\"テストデータ!$BT$4:$BT$503\")>O$25))+1)","v":""},{"$f":"IF(OR(INDIRECT(ADDRESS(ROW()-2,COLUMN()))=\"欠\",INDIRECT(ADDRESS(ROW()-2,COLUMN()))=\"\"),\"\",SUMPRODUCT((INDIRECT(\"テストデータ!$B$4:$B$503\")=$J$2)*(INDIRECT(\"テストデータ!$BU$4:$BU$503\")>P$25))+1)","v":""},{"$f":"IF(OR(INDIRECT(ADDRESS(ROW()-2,COLUMN()))=\"欠\",INDIRECT(ADDRESS(ROW()-2,COLUMN()))=\"\"),\"\",SUMPRODUCT((INDIRECT(\"テストデータ!$B$4:$B$503\")=$J$2)*(INDIRECT(\"テストデータ!$BV$4:$BV$503\")>Q$25))+1)","v":""}]
[null,null,"校内順位",{"$f":"IF(OR(INDIRECT(ADDRESS(ROW()-3,COLUMN()))=\"欠\",INDIRECT(ADDRESS(ROW()-3,COLUMN()))=\"\"),\"\",RANK(INDIRECT(ADDRESS(ROW()-3,COLUMN())),INDIRECT(\"テストデータ!BI$4:BI$503\")))","v":13},{"$f":"IF(OR(INDIRECT(ADDRESS(ROW()-3,COLUMN()))=\"欠\",INDIRECT(ADDRESS(ROW()-3,COLUMN()))=\"\"),\"\",RANK(INDIRECT(ADDRESS(ROW()-3,COLUMN())),INDIRECT(\"テストデータ!BJ$4:BJ$503\")))","v":17},{"$f":"IF(OR(INDIRECT(ADDRESS(ROW()-3,COLUMN()))=\"欠\",INDIRECT(ADDRESS(ROW()-3,COLUMN()))=\"\"),\"\",RANK(INDIRECT(ADDRESS(ROW()-3,COLUMN())),INDIRECT(\"テストデータ!BK$4:BK$503\")))","v":19},{"$f":"IF(OR(INDIRECT(ADDRESS(ROW()-3,COLUMN()))=\"欠\",INDIRECT(ADDRESS(ROW()-3,COLUMN()))=\"\"),\"\",RANK(INDIRECT(ADDRESS(ROW()-3,COLUMN())),INDIRECT(\"テストデータ!BL$4:BL$503\")))","v":4},{"$f":"IF(OR(INDIRECT(ADDRESS(ROW()-3,COLUMN()))=\"欠\",INDIRECT(ADDRESS(ROW()-3,COLUMN()))=\"\"),\"\",RANK(INDIRECT(ADDRESS(ROW()-3,COLUMN())),INDIRECT(\"テストデータ!BM$4:BM$503\")))","v":18},{"$f":"IF(OR(INDIRECT(ADDRESS(ROW()-3,COLUMN()))=\"欠\",INDIRECT(ADDRESS(ROW()-3,COLUMN()))=\"\"),\"\",RANK(INDIRECT(ADDRESS(ROW()-3,COLUMN())),INDIRECT(\"テストデータ!BN$4:BN$503\")))","v":1},{"$f":"IF(OR(INDIRECT(ADDRESS(ROW()-3,COLUMN()))=\"欠\",INDIRECT(ADDRESS(ROW()-3,COLUMN()))=\"\"),\"\",RANK(INDIRECT(ADDRESS(ROW()-3,COLUMN())),INDIRECT(\"テストデータ!BO$4:BO$503\")))","v":15},{"$f":"IF(OR(INDIRECT(ADDRESS(ROW()-3,COLUMN()))=\"欠\",INDIRECT(ADDRESS(ROW()-3,COLUMN()))=\"\"),\"\",RANK(INDIRECT(ADDRESS(ROW()-3,COLUMN())),INDIRECT(\"テストデータ!BP$4:BP$503\")))","v":10},{"$f":"IF(OR(INDIRECT(ADDRESS(ROW()-3,COLUMN()))=\"欠\",INDIRECT(ADDRESS(ROW()-3,COLUMN()))=\"\"),\"\",RANK(INDIRECT(ADDRESS(ROW()-3,COLUMN())),INDIRECT(\"テストデータ!BQ$4:BQ$503\")))","v":2},{"$f":"IF(OR(INDIRECT(ADDRESS(ROW()-3,COLUMN()))=\"欠\",INDIRECT(ADDRESS(ROW()-3,COLUMN()))=\"\"),\"\",RANK(INDIRECT(ADDRESS(ROW()-3,COLUMN())),INDIRECT(\"テストデータ!BR$4:BR$503\")))","v":4},{"$f":"IF(OR(INDIRECT(ADDRESS(ROW()-3,COLUMN()))=\"欠\",INDIRECT(ADDRESS(ROW()-3,COLUMN()))=\"\"),\"\",RANK(INDIRECT(ADDRESS(ROW()-3,COLUMN())),INDIRECT(\"テストデータ!BS$4:BS$503\")))","v":18},{"$f":"IF(OR(INDIRECT(ADDRESS(ROW()-3,COLUMN()))=\"欠\",INDIRECT(ADDRESS(ROW()-3,COLUMN()))=\"\"),\"\",RANK(INDIRECT(ADDRESS(ROW()-3,COLUMN())),INDIRECT(\"テストデータ!BT$4:BT$503\")))","v":""},{"$f":"IF(OR(INDIRECT(ADDRESS(ROW()-3,COLUMN()))=\"欠\",INDIRECT(ADDRESS(ROW()-3,COLUMN()))=\"\"),\"\",RANK(INDIRECT(ADDRESS(ROW()-3,COLUMN())),INDIRECT(\"テストデータ!BU$4:BU$503\")))","v":""},{"$f":"IF(OR(INDIRECT(ADDRESS(ROW()-3,COLUMN()))=\"欠\",INDIRECT(ADDRESS(ROW()-3,COLUMN()))=\"\"),\"\",RANK(INDIRECT(ADDRESS(ROW()-3,COLUMN())),INDIRECT(\"テストデータ!BV$4:BV$503\")))","v":""}]
[null,"第6回",{"$f":"IF(テストデータ!$BW$2=\"\",\"\",テストデータ!$BW$2)","v":"7/5"},{"$f":"IF(初期設定!$C$3=\"\",\"\",初期設定!$C$3)","v":"国総"},{"$f":"IF(初期設定!$C$4=\"\",\"\",初期設定!$C$4)","v":"英表"},{"$f":"IF(初期設定!$C$5=\"\",\"\",初期設定!$C$5)","v":"コ英"},{"$f":"IF(初期設定!$C$6=\"\",\"\",初期設定!$C$6)","v":"数Ⅰ"},{"$f":"IF(初期設定!$C$7=\"\",\"\",初期設定!$C$7)","v":"数A"},{"$f":"IF(初期設定!$C$8=\"\",\"\",初期設定!$C$8)","v":"世B"},{"$f":"IF(初期設定!$C$9=\"\",\"\",初期設定!$C$9)","v":"化基"},{"$f":"IF(初期設定!$C$10=\"\",\"\",初期設定!$C$10)","v":"情報"},{"$f":"IF(初期設定!$C$11=\"\",\"\",初期設定!$C$11)","v":"芸術"},{"$f":"IF(初期設定!$C$12=\"\",\"\",初期設定!$C$12)","v":"体育"},{"$f":"IF(初期設定!$C$13=\"\",\"\",初期設定!$C$13)","v":"保健"},{"$f":"IF(初期設定!$C$14=\"\",\"\",初期設定!$C$14)","v":""},{"$f":"IF(初期設定!$C$15=\"\",\"\",初期設定!$C$15)","v":""},{"$f":"IF(初期設定!$C$16=\"\",\"\",初期設定!$C$16)","v":""}]
[null,null,"得点",{"$f":"IF(VLOOKUP($H$2,テストデータ!$A$4:$QN$503,14*5+5,FALSE)=\"\",IF(INDIRECT(ADDRESS(ROW()-1,COLUMN()))=\"\",\"\",\"欠\"),VLOOKUP($H$2,テストデータ!$A$4:$QN$503,14*5+5,FALSE))","v":42},{"$f":"IF(VLOOKUP($H$2,テストデータ!$A$4:$QN$503,14*5+6,FALSE)=\"\",IF(INDIRECT(ADDRESS(ROW()-1,COLUMN()))=\"\",\"\",\"欠\"),VLOOKUP($H$2,テストデータ!$A$4:$QN$503,14*5+6,FALSE))","v":21},{"$f":"IF(VLOOKUP($H$2,テストデータ!$A$4:$QN$503,14*5+7,FALSE)=\"\",IF(INDIRECT(ADDRESS(ROW()-1,COLUMN()))=\"\",\"\",\"欠\"),VLOOKUP($H$2,テストデータ!$A$4:$QN$503,14*5+7,FALSE))","v":10},{"$f":"IF(VLOOKUP($H$2,テストデータ!$A$4:$QN$503,14*5+8,FALSE)=\"\",IF(INDIRECT(ADDRESS(ROW()-1,COLUMN()))=\"\",\"\",\"欠\"),VLOOKUP($H$2,テストデータ!$A$4:$QN$503,14*5+8,FALSE))","v":85},{"$f":"IF(VLOOKUP($H$2,テストデータ!$A$4:$QN$503,14*5+9,FALSE)=\"\",IF(INDIRECT(ADDRESS(ROW()-1,COLUMN()))=\"\",\"\",\"欠\"),VLOOKUP($H$2,テストデータ!$A$4:$QN$503,14*5+9,FALSE))","v":18},{"$f":"IF(VLOOKUP($H$2,テストデータ!$A$4:$QN$503,14*5+10,FALSE)=\"\",IF(INDIRECT(ADDRESS(ROW()-1,COLUMN()))=\"\",\"\",\"欠\"),VLOOKUP($H$2,テストデータ!$A$4:$QN$503,14*5+10,FALSE))","v":98},{"$f":"IF(VLOOKUP($H$2,テストデータ!$A$4:$QN$503,14*5+11,FALSE)=\"\",IF(INDIRECT(ADDRESS(ROW()-1,COLUMN()))=\"\",\"\",\"欠\"),VLOOKUP($H$2,テストデータ!$A$4:$QN$503,14*5+11,FALSE))","v":47},{"$f":"IF(VLOOKUP($H$2,テストデータ!$A$4:$QN$503,14*5+12,FALSE)=\"\",IF(INDIRECT(ADDRESS(ROW()-1,COLUMN()))=\"\",\"\",\"欠\"),VLOOKUP($H$2,テストデータ!$A$4:$QN$503,14*5+12,FALSE))","v":69},{"$f":"IF(VLOOKUP($H$2,テストデータ!$A$4:$QN$503,14*5+13,FALSE)=\"\",IF(INDIRECT(ADDRESS(ROW()-1,COLUMN()))=\"\",\"\",\"欠\"),VLOOKUP($H$2,テストデータ!$A$4:$QN$503,14*5+13,FALSE))","v":93},{"$f":"IF(VLOOKUP($H$2,テストデータ!$A$4:$QN$503,14*5+14,FALSE)=\"\",IF(INDIRECT(ADDRESS(ROW()-1,COLUMN()))=\"\",\"\",\"欠\"),VLOOKUP($H$2,テストデータ!$A$4:$QN$503,14*5+14,FALSE))","v":83},{"$f":"IF(VLOOKUP($H$2,テストデータ!$A$4:$QN$503,14*5+15,FALSE)=\"\",IF(INDIRECT(ADDRESS(ROW()-1,COLUMN()))=\"\",\"\",\"欠\"),VLOOKUP($H$2,テストデータ!$A$4:$QN$503,14*5+15,FALSE))","v":18},{"$f":"IF(VLOOKUP($H$2,テストデータ!$A$4:$QN$503,14*5+16,FALSE)=\"\",IF(INDIRECT(ADDRESS(ROW()-1,COLUMN()))=\"\",\"\",\"欠\"),VLOOKUP($H$2,テストデータ!$A$4:$QN$503,14*5+16,FALSE))","v":""},{"$f":"IF(VLOOKUP($H$2,テストデータ!$A$4:$QN$503,14*5+17,FALSE)=\"\",IF(INDIRECT(ADDRESS(ROW()-1,COLUMN()))=\"\",\"\",\"欠\"),VLOOKUP($H$2,テストデータ!$A$4:$QN$503,14*5+17,FALSE))","v":""},{"$f":"IF(VLOOKUP($H$2,テストデータ!$A$4:$QN$503,14*5+18,FALSE)=\"\",IF(INDIRECT(ADDRESS(ROW()-1,COLUMN()))=\"\",\"\",\"欠\"),VLOOKUP($H$2,テストデータ!$A$4:$QN$503,14*5+18,FALSE))","v":""}]
[null,null,"平均点",{"$f":"IF(COUNT(INDIRECT(\"テストデータ!BW$4:BW$503\"))=0,NA(),AVERAGE(INDIRECT(\"テストデータ!BW$4:BW$503\")))","v":56.263157894736842},{"$f":"IF(COUNT(INDIRECT(\"テストデータ!BX$4:BX$503\"))=0,NA(),AVERAGE(INDIRECT(\"テストデータ!BX$4:BX$503\")))","v":48.35},{"$f":"IF(COUNT(INDIRECT(\"テストデータ!BY$4:BY$503\"))=0,NA(),AVERAGE(INDIRECT(\"テストデータ!BY$4:BY$503\")))","v":47},{"$f":"IF(COUNT(INDIRECT(\"テストデータ!BZ$4:BZ$503\"))=0,NA(),AVERAGE(INDIRECT(\"テストデータ!BZ$4:BZ$503\")))","v":46.7},{"$f":"IF(COUNT(INDIRECT(\"テストデータ!CA$4:CA$503\"))=0,NA(),AVERAGE(INDIRECT(\"テストデータ!CA$4:CA$503\")))","v":52.55},{"$f":"IF(COUNT(INDIRECT(\"テストデータ!CB$4:CB$503\"))=0,NA(),AVERAGE(INDIRECT(\"テストデータ!CB$4:CB$503\")))","v":52},{"$f":"IF(COUNT(INDIRECT(\"テストデータ!CC$4:CC$503\"))=0,NA(),AVERAGE(INDIRECT(\"テストデータ!CC$4:CC$503\")))","v":56.25},{"$f":"IF(COUNT(INDIRECT(\"テストデータ!CD$4:CD$503\"))=0,NA(),AVERAGE(INDIRECT(\"テストデータ!CD$4:CD$503\")))","v":61.736842105263158},{"$f":"IF(COUNT(INDIRECT(\"テストデータ!CE$4:CE$503\"))=0,NA(),AVERAGE(INDIRECT(\"テストデータ!CE$4:CE$503\")))","v":60.2},{"$f":"IF(COUNT(INDIRECT(\"テストデータ!CF$4:CF$503\"))=0,NA(),AVERAGE(INDIRECT(\"テストデータ!CF$4:CF$503\")))","v":53.736842105263158},{"$f":"IF(COUNT(INDIRECT(\"テストデータ!CG$4:CG$503\"))=0,NA(),AVERAGE(INDIRECT(\"テストデータ!CG$4:CG$503\")))","v":52.5},{"$f":"IF(COUNT(INDIRECT(\"テストデータ!CH$4:CH$503\"))=0,NA(),AVERAGE(INDIRECT(\"テストデータ!CH$4:CH$503\")))","v":{"$error":"#N/A"}},{"$f":"IF(COUNT(INDIRECT(\"テストデータ!CI$4:CI$503\"))=0,NA(),AVERAGE(INDIRECT(\"テストデータ!CI$4:CI$503\")))","v":{"$error":"#N/A"}},{"$f":"IF(COUNT(INDIRECT(\"テストデータ!CJ$4:CJ$503\"))=0,NA(),AVERAGE(INDIRECT(\"テストデータ!CJ$4:CJ$503\")))","v":{"$error":"#N/A"}}]
[null,null,"クラス順位",{"$f":"IF(OR(INDIRECT(ADDRESS(ROW()-2,COLUMN()))=\"欠\",INDIRECT(ADDRESS(ROW()-2,COLUMN()))=\"\"),\"\",SUMPRODUCT((INDIRECT(\"テストデータ!$B$4:$B$503\")=$J$2)*(INDIRECT(\"テストデータ!$BW$4:$BW$503\")>D$30))+1)","v":4},{"$f":"IF(OR(INDIRECT(ADDRESS(ROW()-2,COLUMN()))=\"欠\",INDIRECT(ADDRESS(ROW()-2,COLUMN()))=\"\"),\"\",SUMPRODUCT((INDIRECT(\"テストデータ!$B$4:$B$503\")=$J$2)*(INDIRECT(\"テストデータ!$BX$4:$BX$503\")>E$30))+1)","v":5},{"$f":"IF(OR(INDIRECT(ADDRESS(ROW()-2,COLUMN()))=\"欠\",INDIRECT(ADDRESS(ROW()-2,COLUMN()))=\"\"),\"\",SUMPRODUCT((INDIRECT(\"テストデータ!$B$4:$B$503\")=$J$2)*(INDIRECT(\"テストデータ!$BY$4:$BY$503\")>F$30))+1)","v":6},{"$f":"IF(OR(INDIRECT(ADDRESS(ROW()-2,COLUMN()))=\"欠\",INDIRECT(ADDRESS(ROW()-2,COLUMN()))=\"\"),\"\",SUMPRODUCT((INDIRECT(\"テストデータ!$B$4:$B$503\")=$J$2)*(INDIRECT(\"テストデータ!$BZ$4:$BZ$503\")>G$30))+1)","v":2},{"$f":"IF(OR(INDIRECT(ADDRESS(ROW()-2,COLUMN()))=\"欠\",INDIRECT(ADDRESS(ROW()-2,COLUMN()))=\"\"),\"\",SUMPRODUCT((INDIRECT(\"テストデータ!$B$4:$B$503\")=$J$2)*(INDIRECT(\"テストデータ!$CA$4:$CA$503\")>H$30))+1)","v":5},{"$f":"IF(OR(INDIRECT(ADDRESS(ROW()-2,COLUMN()))=\"欠\",INDIRECT(ADDRESS(ROW()-2,COLUMN()))=\"\"),\"\",SUMPRODUCT((INDIRECT(\"テストデータ!$B$4:$B$503\")=$J$2)*(INDIRECT(\"テストデータ!$CB$4:$CB$503\")>I$30))+1)","v":1},{"$f":"IF(OR(INDIRECT(ADDRESS(ROW()-2,COLUMN()))=\"欠\",INDIRECT(ADDRESS(ROW()-2,COLUMN()))=\"\"),\"\",SUMPRODUCT((INDIRECT(\"テストデータ!$B$4:$B$503\")=$J$2)*(INDIRECT(\"テストデータ!$CC$4:$CC$503\")>J$30))+1)","v":5},{"$f":"IF(OR(INDIRECT(ADDRESS(ROW()-2,COLUMN()))=\"欠\",INDIRECT(ADDRESS(ROW()-2,COLUMN()))=\"\"),\"\",SUMPRODUCT((INDIRECT(\"テストデータ!$B$4:$B$503\")=$J$2)*(INDIRECT(\"テストデータ!$CD$4:$CD$503\")>K$30))+1)","v":3},{"$f":"IF(OR(INDIRECT(ADDRESS(ROW()-2,COLUMN()))=\"欠\",INDIRECT(ADDRESS(ROW()-2,COLUMN()))=\"\"),\"\",SUMPRODUCT((INDIRECT(\"テストデータ!$B$4:$B$503\")=$J$2)*(INDIRECT(\"テストデータ!$CE$4:$CE$503\")>L$30))+1)","v":2},{"$f":"IF(OR(INDIRECT(ADDRESS(ROW()-2,COLUMN()))=\"欠\",INDIRECT(ADDRESS(ROW()-2,COLUMN()))=\"\"),\"\",SUMPRODUCT((INDIRECT(\"テストデータ!$B$4:$B$503\")=$J$2)*(INDIRECT(\"テストデータ!$CF$4:$CF$503\")>M$30))+1)","v":2},{"$f":"IF(OR(INDIRECT(ADDRESS(ROW()-2,COLUMN()))=\"欠\",INDIRECT(ADDRESS(ROW()-2,COLUMN()))=\"\"),\"\",SUMPRODUCT((INDIRECT(\"テストデータ!$B$4:$B$503\")=$J$2)*(INDIRECT(\"テストデータ!$CG$4:$CG$503\")>N$30))+1)","v":5},{"$f":"IF(OR(INDIRECT(ADDRESS(ROW()-2,COLUMN()))=\"欠\",INDIRECT(ADDRESS(ROW()-2,COLUMN()))=\"\"),\"\",SUMPRODUCT((INDIRECT(\"テストデータ!$B$4:$B$503\")=$J$2)*(INDIRECT(\"テストデータ!$CH$4:$CH$503\")>O$30))+1)","v":""},{"$f":"IF(OR(INDIRECT(ADDRESS(ROW()-2,COLUMN()))=\"欠\",INDIRECT(ADDRESS(ROW()-2,COLUMN()))=\"\"),\"\",SUMPRODUCT((INDIRECT(\"テストデータ!$B$4:$B$503\")=$J$2)*(INDIRECT(\"テストデータ!$CI$4:$CI$503\")>P$30))+1)","v":""},{"$f":"IF(OR(INDIRECT(ADDRESS(ROW()-2,COLUMN()))=\"欠\",INDIRECT(ADDRESS(ROW()-2,COLUMN()))=\"\"),\"\",SUMPRODUCT((INDIRECT(\"テストデータ!$B$4:$B$503\")=$J$2)*(INDIRECT(\"テストデータ!$CJ$4:$CJ$503\")>Q$30))+1)","v":""}]
[null,null,"校内順位",{"$f":"IF(OR(INDIRECT(ADDRESS(ROW()-3,COLUMN()))=\"欠\",INDIRECT(ADDRESS(ROW()-3,COLUMN()))=\"\"),\"\",RANK(INDIRECT(ADDRESS(ROW()-3,COLUMN())),INDIRECT(\"テストデータ!BW$4:BW$503\")))","v":13},{"$f":"IF(OR(INDIRECT(ADDRESS(ROW()-3,COLUMN()))=\"欠\",INDIRECT(ADDRESS(ROW()-3,COLUMN()))=\"\"),\"\",RANK(INDIRECT(ADDRESS(ROW()-3,COLUMN())),INDIRECT(\"テストデータ!BX$4:BX$503\")))","v":17},{"$f":"IF(OR(INDIRECT(ADDRESS(ROW()-3,COLUMN()))=\"欠\",INDIRECT(ADDRESS(ROW()-3,COLUMN()))=\"\"),\"\",RANK(INDIRECT(ADDRESS(ROW()-3,COLUMN())),INDIRECT(\"テストデータ!BY$4:BY$503\")))","v":19},{"$f":"IF(OR(INDIRECT(ADDRESS(ROW()-3,COLUMN()))=\"欠\",INDIRECT(ADDRESS(ROW()-3,COLUMN()))=\"\"),\"\",RANK(INDIRECT(ADDRESS(ROW()-3,COLUMN())),INDIRECT(\"テストデータ!BZ$4:BZ$503\")))","v":4},{"$f":"IF(OR(INDIRECT(ADDRESS(ROW()-3,COLUMN()))=\"欠\",INDIRECT(ADDRESS(ROW()-3,COLUMN()))=\"\"),\"\",RANK(INDIRECT(ADDRESS(ROW()-3,COLUMN())),INDIRECT(\"テストデータ!CA$4:CA$503\")))","v":18},{"$f":"IF(OR(INDIRECT(ADDRESS(ROW()-3,COLUMN()))=\"欠\",INDIRECT(ADDRESS(ROW()-3,COLUMN()))=\"\"),\"\",RANK(INDIRECT(ADDRESS(ROW()-3,COLUMN())),INDIRECT(\"テストデータ!CB$4:CB$503\")))","v":1},{"$f":"IF(OR(INDIRECT(ADDRESS(ROW()-3,COLUMN()))=\"欠\",INDIRECT(ADDRESS(ROW()-3,COLUMN()))=\"\"),\"\",RANK(INDIRECT(ADDRESS(ROW()-3,COLUMN())),INDIRECT(\"テストデータ!CC$4:CC$503\")))","v":15},{"$f":"IF(OR(INDIRECT(ADDRESS(ROW()-3,COLUMN()))=\"欠\",INDIRECT(ADDRESS(ROW()-3,COLUMN()))=\"\"),\"\",RANK(INDIRECT(ADDRESS(ROW()-3,COLUMN())),INDIRECT(\"テストデータ!CD$4:CD$503\")))","v":10},{"$f":"IF(OR(INDIRECT(ADDRESS(ROW()-3,COLUMN()))=\"欠\",INDIRECT(ADDRESS(ROW()-3,COLUMN()))=\"\"),\"\",RANK(INDIRECT(ADDRESS(ROW()-3,COLUMN())),INDIRECT(\"テストデータ!CE$4:CE$503\")))","v":2},{"$f":"IF(OR(INDIRECT(ADDRESS(ROW()-3,COLUMN()))=\"欠\",INDIRECT(ADDRESS(ROW()-3,COLUMN()))=\"\"),\"\",RANK(INDIRECT(ADDRESS(ROW()-3,COLUMN())),INDIRECT(\"テストデータ!CF$4:CF$503\")))","v":4},{"$f":"IF(OR(INDIRECT(ADDRESS(ROW()-3,COLUMN()))=\"欠\",INDIRECT(ADDRESS(ROW()-3,COLUMN()))=\"\"),\"\",RANK(INDIRECT(ADDRESS(ROW()-3,COLUMN())),INDIRECT(\"テストデータ!CG$4:CG$503\")))","v":18},{"$f":"IF(OR(INDIRECT(ADDRESS(ROW()-3,COLUMN()))=\"欠\",INDIRECT(ADDRESS(ROW()-3,COLUMN()))=\"\"),\"\",RANK(INDIRECT(ADDRESS(ROW()-3,COLUMN())),INDIRECT(\"テストデータ!CH$4:CH$503\")))","v":""},{"$f":"IF(OR(INDIRECT(ADDRESS(ROW()-3,COLUMN()))=\"欠\",INDIRECT(ADDRESS(ROW()-3,COLUMN()))=\"\"),\"\",RANK(INDIRECT(ADDRESS(ROW()-3,COLUMN())),INDIRECT(\"テストデータ!CI$4:CI$503\")))","v":""},{"$f":"IF(OR(INDIRECT(ADDRESS(ROW()-3,COLUMN()))=\"欠\",INDIRECT(ADDRESS(ROW()-3,COLUMN()))=\"\"),\"\",RANK(INDIRECT(ADDRESS(ROW()-3,COLUMN())),INDIRECT(\"テストデータ!CJ$4:CJ$503\")))","v":""}]

{"sheet":"成績表2","index":2,"n_rows":79,"n_cols":17,"rows_kept":79,"cut":false,"hidden":false,"merged":[[40,1,41,4],[0,1,1,4],[0,16,1,19],[40,16,41,19],[41,6,41,7],[0,8,0,9],[0,11,0,13],[42,12,42,13],[2,12,2,13],[1,8,1,9],[41,8,41,9],[1,11,1,13],[41,11,41,13],[40,8,40,9],[40,11,40,13]]}
[null,{"$f":"IF(初期設定!$C17=\"\",\"\",初期設定!$C17)","v":"到達度テスト"},null,null,null,null,null,null,"class",null,"No.","氏名",null,null,null,null,{"$f":"初期設定!C63","v":"微風高校"}]
[null,null,null,null,null,null,"ID:",2,{"$f":"IF(VLOOKUP($H$2,テストデータ!$A$4:$D503,2,FALSE)=\"\",\"\",VLOOKUP($H$2,テストデータ!$A$4:$D503,2,FALSE))","v":"3-A"},null,{"$f":"VLOOKUP($H$2,テストデータ!$A$4:$D503,3,FALSE)","v":"2"},{"$f":"IF(VLOOKUP($H2,テストデータ!$A$4:$D503,4,FALSE)=\"\",\"\",VLOOKUP($H2,テストデータ!$A$4:$D503,4,FALSE))","v":"鈴木B男"}]
[null,null,null,null,null,null,null,null,null,null,null,null,{"$f":"IF(初期設定!$C$1=\"\",\"\",初期設定!$C$1)","v":"20xx年度"}]
[null,{"$f":"IF(初期設定!$C18=\"\",\"\",初期設定!$C18)","v":"国総"},"1回","2回","3回","4回","5回","6回","7回","8回","9回","10回","11回","12回"]
[null,"実施日"]
[null,"得点"]
[null,"平均点"]
[null,"クラス順位"]
[null,"校内順位"]
[null,{"$f":"IF(初期設定!$C19=\"\",\"\",初期設定!$C19)","v":"英表"},"1回","2回","3回","4回","5回","6回","7回","8回","9回","10回","11回","12回"]
[null,"実施日",{"$f":"IF(テストデータ!CW$2=\"\",\"\",テストデータ!CW$2)","v":"4/2"},{"$f":"IF(テストデータ!CX$2=\"\",\"\",テストデータ!CX$2)","v":"5/8"},{"$f":"IF(テストデータ!CY$2=\"\",\"\",テストデータ!CY$2)","v":"6/8"},{"$f":"IF(テストデータ!CZ$2=\"\",\"\",テストデータ!CZ$2)","v":"7/8"},{"$f":"IF(テストデータ!DA$2=\"\",\"\",テストデータ!DA$2)","v":"8/8"},{"$f":"IF(テストデータ!DB$2=\"\",\"\",テストデータ!DB$2)","v":"9/8"},{"$f":"IF(テストデータ!DC$2=\"\",\"\",テストデータ!DC$2)","v":"10/8"},{"$f":"IF(テストデータ!DD$2=\"\",\"\",テストデータ!DD$2)","v":"11/8"},{"$f":"IF(テストデータ!DE$2=\"\",\"\",テストデータ!DE$2)","v":"12/8"},{"$f":"IF(テストデータ!DF$2=\"\",\"\",テストデータ!DF$2)","v":"1/8"},{"$f":"IF(テストデータ!DG$2=\"\",\"\",テストデータ!DG$2)","v":""},{"$f":"IF(テストデータ!DH$2=\"\",\"\",テストデータ!DH$2)","v":""}]
[null,"得点",{"$f":"IF(VLOOKUP($H$2,テストデータ!$A$4:$HX$503,12*1+89,FALSE)=\"\",IF(INDIRECT(ADDRESS(ROW()-1,COLUMN()))=\"\",\"\",\"欠\"),VLOOKUP($H$2,テストデータ!$A$4:$HX$503,12*1+89,FALSE))","v":86},{"$f":"IF(VLOOKUP($H$2,テストデータ!$A$4:$HX$503,12*1+90,FALSE)=\"\",IF(INDIRECT(ADDRESS(ROW()-1,COLUMN()))=\"\",\"\",\"欠\"),VLOOKUP($H$2,テストデータ!$A$4:$HX$503,12*1+90,FALSE))","v":31},{"$f":"IF(VLOOKUP($H$2,テストデータ!$A$4:$HX$503,12*1+91,FALSE)=\"\",IF(INDIRECT(ADDRESS(ROW()-1,COLUMN()))=\"\",\"\",\"欠\"),VLOOKUP($H$2,テストデータ!$A$4:$HX$503,12*1+91,FALSE))","v":75},{"$f":"IF(VLOOKUP($H$2,テストデータ!$A$4:$HX$503,12*1+92,FALSE)=\"\",IF(INDIRECT(ADDRESS(ROW()-1,COLUMN()))=\"\",\"\",\"欠\"),VLOOKUP($H$2,テストデータ!$A$4:$HX$503,12*1+92,FALSE))","v":64},{"$f":"IF(VLOOKUP($H$2,テストデータ!$A$4:$HX$503,12*1+93,FALSE)=\"\",IF(INDIRECT(ADDRESS(ROW()-1,COLUMN()))=\"\",\"\",\"欠\"),VLOOKUP($H$2,テストデータ!$A$4:$HX$503,12*1+93,FALSE))","v":93},{"$f":"IF(VLOOKUP($H$2,テストデータ!$A$4:$HX$503,12*1+94,FALSE)=\"\",IF(INDIRECT(ADDRESS(ROW()-1,COLUMN()))=\"\",\"\",\"欠\"),VLOOKUP($H$2,テストデータ!$A$4:$HX$503,12*1+94,FALSE))","v":100},{"$f":"IF(VLOOKUP($H$2,テストデータ!$A$4:$HX$503,12*1+95,FALSE)=\"\",IF(INDIRECT(ADDRESS(ROW()-1,COLUMN()))=\"\",\"\",\"欠\"),VLOOKUP($H$2,テストデータ!$A$4:$HX$503,12*1+95,FALSE))","v":47},{"$f":"IF(VLOOKUP($H$2,テストデータ!$A$4:$HX$503,12*1+96,FALSE)=\"\",IF(INDIRECT(ADDRESS(ROW()-1,COLUMN()))=\"\",\"\",\"欠\"),VLOOKUP($H$2,テストデータ!$A$4:$HX$503,12*1+96,FALSE))","v":65},{"$f":"IF(VLOOKUP($H$2,テストデータ!$A$4:$HX$503,12*1+97,FALSE)=\"\",IF(INDIRECT(ADDRESS(ROW()-1,COLUMN()))=\"\",\"\",\"欠\"),VLOOKUP($H$2,テストデータ!$A$4:$HX$503,12*1+97,FALSE))","v":34},{"$f":"IF(VLOOKUP($H$2,テストデータ!$A$4:$HX$503,12*1+98,FALSE)=\"\",IF(INDIRECT(ADDRESS(ROW()-1,COLUMN()))=\"\",\"\",\"欠\"),VLOOKUP($H$2,テストデータ!$A$4:$HX$503,12*1+98,FALSE))","v":16},{"$f":"IF(VLOOKUP($H$2,テストデータ!$A$4:$HX$503,12*1+99,FALSE)=\"\",IF(INDIRECT(ADDRESS(ROW()-1,COLUMN()))=\"\",\"\",\"欠\"),VLOOKUP($H$2,テストデータ!$A$4:$HX$503,12*1+99,FALSE))","v":""},{"$f":"IF(VLOOKUP($H$2,テストデータ!$A$4:$HX$503,12*1+100,FALSE)=\"\",IF(INDIRECT(ADDRESS(ROW()-1,COLUMN()))=\"\",\"\",\"欠\"),VLOOKUP($H$2,テストデータ!$A$4:$HX$503,12*1+100,FALSE))","v":""}]
[null,"平均点",{"$f":"IF(COUNT(OFFSET(テストデータ!$CK$3,1,12*1+0):OFFSET(テストデータ!$CK$3,500,12*1+0))=0,NA(),AVERAGE(OFFSET(テストデータ!$CK$3,1,12*1+0):OFFSET(テストデータ!$CK$3,500,12*1+0)))","v":54.94736842105263},{"$f":"IF(COUNT(OFFSET(テストデータ!$CK$3,1,12*1+1):OFFSET(テストデータ!$CK$3,500,12*1+1))=0,NA(),AVERAGE(OFFSET(テストデータ!$CK$3,1,12*1+1):OFFSET(テストデータ!$CK$3,500,12*1+1)))","v":47.882352941176471},{"$f":"IF(COUNT(OFFSET(テストデータ!$CK$3,1,12*1+2):OFFSET(テストデータ!$CK$3,500,12*1+2))=0,NA(),AVERAGE(OFFSET(テストデータ!$CK$3,1,12*1+2):OFFSET(テストデータ!$CK$3,500,12*1+2)))","v":64.375},{"$f":"IF(COUNT(OFFSET(テストデータ!$CK$3,1,12*1+3):OFFSET(テストデータ!$CK$3,500,12*1+3))=0,NA(),AVERAGE(OFFSET(テストデータ!$CK$3,1,12*1+3):OFFSET(テストデータ!$CK$3,500,12*1+3)))","v":59.2},{"$f":"IF(COUNT(OFFSET(テストデータ!$CK$3,1,12*1+4):OFFSET(テストデータ!$CK$3,500,12*1+4))=0,NA(),AVERAGE(OFFSET(テストデータ!$CK$3,1,12*1+4):OFFSET(テストデータ!$CK$3,500,12*1+4)))","v":59.8},{"$f":"IF(COUNT(OFFSET(テストデータ!$CK$3,1,12*1+5):OFFSET(テストデータ!$CK$3,500,12*1+5))=0,NA(),AVERAGE(OFFSET(テストデータ!$CK$3,1,12*1+5):OFFSET(テストデータ!$CK$3,500,12*1+5)))","v":64.349999999999994},{"$f":"IF(COUNT(OFFSET(テストデータ!$CK$3,1,12*1+6):OFFSET(テストデータ!$CK$3,500,12*1+6))=0,NA(),AVERAGE(OFFSET(テストデータ!$CK$3,1,12*1+6):OFFSET(テストデータ!$CK$3,500,12*1+6)))","v":45.05263157894737},{"$f":"IF(COUNT(OFFSET(テストデータ!$CK$3,1,12*1+7):OFFSET(テストデータ!$CK$3,500,12*1+7))=0,NA(),AVERAGE(OFFSET(テストデータ!$CK$3,1,12*1+7):OFFSET(テストデータ!$CK$3,500,12*1+7)))","v":55.736842105263158},{"$f":"IF(COUNT(OFFSET(テストデータ!$CK$3,1,12*1+8):OFFSET(テストデータ!$CK$3,500,12*1+8))=0,NA(),AVERAGE(OFFSET(テストデータ!$CK$3,1,12*1+8):OFFSET(テストデータ!$CK$3,500,12*1+8)))","v":55.789473684210527},{"$f":"IF(COUNT(OFFSET(テストデータ!$CK$3,1,12*1+9):OFFSET(テストデータ!$CK$3,500,12*1+9))=0,NA(),AVERAGE(OFFSET(テストデータ!$CK$3,1,12*1+9):OFFSET(テストデータ!$CK$3,500,12*1+9)))","v":49.9},{"$f":"IF(COUNT(OFFSET(テストデータ!$CK$3,1,12*1+10):OFFSET(テストデータ!$CK$3,500,12*1+10))=0,NA(),AVERAGE(OFFSET(テストデータ!$CK$3,1,12*1+10):OFFSET(テストデータ!$CK$3,500,12*1+10)))","v":{"$error":"#N/A"}},{"$f":"IF(COUNT(OFFSET(テストデータ!$CK$3,1,12*1+11):OFFSET(テストデータ!$CK$3,500,12*1+11))=0,NA(),AVERAGE(OFFSET(テストデータ!$CK$3,1,12*1+11):OFFSET(テストデータ!$CK$3,500,12*1+11)))","v":{"$error":"#N/A"}}]
[null,"クラス順位",{"$f":"IF(OR(INDIRECT(ADDRESS(ROW()-2,COLUMN()))=\"欠\",INDIRECT(ADDRESS(ROW()-2,COLUMN()))=\"\"),\"\",SUMPRODUCT((INDIRECT(\"テストデータ!$B$4:$B$503\")=$I$2)*(OFFSET(テストデータ!CW$3,1,0):OFFSET(テストデータ!CW$3,500,0)>C$12))+1)","v":2},{"$f":"IF(OR(INDIRECT(ADDRESS(ROW()-2,COLUMN()))=\"欠\",INDIRECT(ADDRESS(ROW()-2,COLUMN()))=\"\"),\"\",SUMPRODUCT((INDIRECT(\"テストデータ!$B$4:$B$503\")=$I$2)*(OFFSET(テストデータ!CX$3,1,0):OFFSET(テストデータ!CX$3,500,0)>D$12))+1)","v":4},{"$f":"IF(OR(INDIRECT(ADDRESS(ROW()-2,COLUMN()))=\"欠\",INDIRECT(ADDRESS(ROW()-2,COLUMN()))=\"\"),\"\",SUMPRODUCT((INDIRECT(\"テストデータ!$B$4:$B$503\")=$I$2)*(OFFSET(テストデータ!CY$3,1,0):OFFSET(テストデータ!CY$3,500,0)>E$12))+1)","v":3},{"$f":"IF(OR(INDIRECT(ADDRESS(ROW()-2,COLUMN()))=\"欠\",INDIRECT(ADDRESS(ROW()-2,COLUMN()))=\"\"),\"\",SUMPRODUCT((INDIRECT(\"テストデータ!$B$4:$B$503\")=$I$2)*(OFFSET(テストデータ!CZ$3,1,0):OFFSET(テストデータ!CZ$3,500,0)>F$12))+1)","v":5},{"$f":"IF(OR(INDIRECT(ADDRESS(ROW()-2,COLUMN()))=\"欠\",INDIRECT(ADDRESS(ROW()-2,COLUMN()))=\"\"),\"\",SUMPRODUCT((INDIRECT(\"テストデータ!$B$4:$B$503\")=$I$2)*(OFFSET(テストデータ!DA$3,1,0):OFFSET(テストデータ!DA$3,500,0)>G$12))+1)","v":1},{"$f":"IF(OR(INDIRECT(ADDRESS(ROW()-2,COLUMN()))=\"欠\",INDIRECT(ADDRESS(ROW()-2,COLUMN()))=\"\"),\"\",SUMPRODUCT((INDIRECT(\"テストデータ!$B$4:$B$503\")=$I$2)*(OFFSET(テストデータ!DB$3,1,0):OFFSET(テストデータ!DB$3,500,0)>H$12))+1)","v":1},{"$f":"IF(OR(INDIRECT(ADDRESS(ROW()-2,COLUMN()))=\"欠\",INDIRECT(ADDRESS(ROW()-2,COLUMN()))=\"\"),\"\",SUMPRODUCT((INDIRECT(\"テストデータ!$B$4:$B$503\")=$I$2)*(OFFSET(テストデータ!DC$3,1,0):OFFSET(テストデータ!DC$3,500,0)>I$12))+1)","v":5},{"$f":"IF(OR(INDIRECT(ADDRESS(ROW()-2,COLUMN()))=\"欠\",INDIRECT(ADDRESS(ROW()-2,COLUMN()))=\"\"),\"\",SUMPRODUCT((INDIRECT(\"テストデータ!$B$4:$B$503\")=$I$2)*(OFFSET(テストデータ!DD$3,1,0):OFFSET(テストデータ!DD$3,500,0)>J$12))+1)","v":2},{"$f":"IF(OR(INDIRECT(ADDRESS(ROW()-2,COLUMN()))=\"欠\",INDIRECT(ADDRESS(ROW()-2,COLUMN()))=\"\"),\"\",SUMPRODUCT((INDIRECT(\"テストデータ!$B$4:$B$503\")=$I$2)*(OFFSET(テストデータ!DE$3,1,0):OFFSET(テストデータ!DE$3,500,0)>K$12))+1)","v":6},{"$f":"IF(OR(INDIRECT(ADDRESS(ROW()-2,COLUMN()))=\"欠\",INDIRECT(ADDRESS(ROW()-2,COLUMN()))=\"\"),\"\",SUMPRODUCT((INDIRECT(\"テストデータ!$B$4:$B$503\")=$I$2)*(OFFSET(テストデータ!DF$3,1,0):OFFSET(テストデータ!DF$3,500,0)>L$12))+1)","v":6},{"$f":"IF(OR(INDIRECT(ADDRESS(ROW()-2,COLUMN()))=\"欠\",INDIRECT(ADDRESS(ROW()-2,COLUMN()))=\"\"),\"\",SUMPRODUCT((INDIRECT(\"テストデータ!$B$4:$B$503\")=$I$2)*(OFFSET(テストデータ!DG$3,1,0):OFFSET(テストデータ!DG$3,500,0)>M$12))+1)","v":""},{"$f":"IF(OR(INDIRECT(ADDRESS(ROW()-2,COLUMN()))=\"欠\",INDIRECT(ADDRESS(ROW()-2,COLUMN()))=\"\"),\"\",SUMPRODUCT((INDIRECT(\"テストデータ!$B$4:$B$503\")=$I$2)*(OFFSET(テストデータ!DH$3,1,0):OFFSET(テストデータ!DH$3,500,0)>N$12))+1)","v":""}]
[null,"校内順位",{"$f":"IF(OR(INDIRECT(ADDRESS(ROW()-3,COLUMN()))=\"欠\",INDIRECT(ADDRESS(ROW()-3,COLUMN()))=\"\"),\"\",RANK(INDIRECT(ADDRESS(ROW()-3,COLUMN())),OFFSET(テストデータ!CW$3,1,0):OFFSET(テストデータ!CW$3,501,0)))","v":4},{"$f":"IF(OR(INDIRECT(ADDRESS(ROW()-3,COLUMN()))=\"欠\",INDIRECT(ADDRESS(ROW()-3,COLUMN()))=\"\"),\"\",RANK(INDIRECT(ADDRESS(ROW()-3,COLUMN())),OFFSET(テストデータ!CX$3,1,0):OFFSET(テストデータ!CX$3,501,0)))","v":12},{"$f":"IF(OR(INDIRECT(ADDRESS(ROW()-3,COLUMN()))=\"欠\",INDIRECT(ADDRESS(ROW()-3,COLUMN()))=\"\"),\"\",RANK(INDIRECT(ADDRESS(ROW()-3,COLUMN())),OFFSET(テストデータ!CY$3,1,0):OFFSET(テストデータ!CY$3,501,0)))","v":8},{"$f":"IF(OR(INDIRECT(ADDRESS(ROW()-3,COLUMN()))=\"欠\",INDIRECT(ADDRESS(ROW()-3,COLUMN()))=\"\"),\"\",RANK(INDIRECT(ADDRESS(ROW()-3,COLUMN())),OFFSET(テストデータ!CZ$3,1,0):OFFSET(テストデータ!CZ$3,501,0)))","v":12},{"$f":"IF(OR(INDIRECT(ADDRESS(ROW()-3,COLUMN()))=\"欠\",INDIRECT(ADDRESS(ROW()-3,COLUMN()))=\"\"),\"\",RANK(INDIRECT(ADDRESS(ROW()-3,COLUMN())),OFFSET(テストデータ!DA$3,1,0):OFFSET(テストデータ!DA$3,501,0)))","v":2},{"$f":"IF(OR(INDIRECT(ADDRESS(ROW()-3,COLUMN()))=\"欠\",INDIRECT(ADDRESS(ROW()-3,COLUMN()))=\"\"),\"\",RANK(INDIRECT(ADDRESS(ROW()-3,COLUMN())),OFFSET(テストデータ!DB$3,1,0):OFFSET(テストデータ!DB$3,501,0)))","v":1},{"$f":"IF(OR(INDIRECT(ADDRESS(ROW()-3,COLUMN()))=\"欠\",INDIRECT(ADDRESS(ROW()-3,COLUMN()))=\"\"),\"\",RANK(INDIRECT(ADDRESS(ROW()-3,COLUMN())),OFFSET(テストデータ!DC$3,1,0):OFFSET(テストデータ!DC$3,501,0)))","v":8},{"$f":"IF(OR(INDIRECT(ADDRESS(ROW()-3,COLUMN()))=\"欠\",INDIRECT(ADDRESS(ROW()-3,COLUMN()))=\"\"),\"\",RANK(INDIRECT(ADDRESS(ROW()-3,COLUMN())),OFFSET(テストデータ!DD$3,1,0):OFFSET(テストデータ!DD$3,501,0)))","v":7},{"$f":"IF(OR(INDIRECT(ADDRESS(ROW()-3,COLUMN()))=\"欠\",INDIRECT(ADDRESS(ROW()-3,COLUMN()))=\"\"),\"\",RANK(INDIRECT(ADDRESS(ROW()-3,COLUMN())),OFFSET(テストデータ!DE$3,1,0):OFFSET(テストデータ!DE$3,501,0)))","v":15},{"$f":"IF(OR(INDIRECT(ADDRESS(ROW()-3,COLUMN()))=\"欠\",INDIRECT(ADDRESS(ROW()-3,COLUMN()))=\"\"),\"\",RANK(INDIRECT(ADDRESS(ROW()-3,COLUMN())),OFFSET(テストデータ!DF$3,1,0):OFFSET(テストデータ!DF$3,501,0)))","v":19},{"$f":"IF(OR(INDIRECT(ADDRESS(ROW()-3,COLUMN()))=\"欠\",INDIRECT(ADDRESS(ROW()-3,COLUMN()))=\"\"),\"\",RANK(INDIRECT(ADDRESS(ROW()-3,COLUMN())),OFFSET(テストデータ!DG$3,1,0):OFFSET(テストデータ!DG$3,501,0)))","v":""},{"$f":"IF(OR(INDIRECT(ADDRESS(ROW()-3,COLUMN()))=\"欠\",INDIRECT(ADDRESS(ROW()-3,COLUMN()))=\"\"),\"\",RANK(INDIRECT(ADDRESS(ROW()-3,COLUMN())),OFFSET(テストデータ!DH$3,1,0):OFFSET(テストデータ!DH$3,501,0)))","v":""}]
[null,{"$f":"IF(初期設定!$C20=\"\",\"\",初期設定!$C20)","v":"コ英"},"1回","2回","3回","4回","5回","6回","7回","8回","9回","10回","11回","12回"]
[null,"実施日",{"$f":"IF(テストデータ!DI$2=\"\",\"\",テストデータ!DI$2)","v":"4/9"},{"$f":"IF(テストデータ!DJ$2=\"\",\"\",テストデータ!DJ$2)","v":"5/12"},{"$f":"IF(テストデータ!DK$2=\"\",\"\",テストデータ!DK$2)","v":"6/15"},{"$f":"IF(テストデータ!DL$2=\"\",\"\",テストデータ!DL$2)","v":"7/18"},{"$f":"IF(テストデータ!DM$2=\"\",\"\",テストデータ!DM$2)","v":"8/5"},{"$f":"IF(テストデータ!DN$2=\"\",\"\",テストデータ!DN$2)","v":"9/7"},{"$f":"IF(テストデータ!DO$2=\"\",\"\",テストデータ!DO$2)","v":"10/11"},{"$f":"IF(テストデータ!DP$2=\"\",\"\",テストデータ!DP$2)","v":"11/30"},{"$f":"IF(テストデータ!DQ$2=\"\",\"\",テストデータ!DQ$2)","v":"12/2"},{"$f":"IF(テストデータ!DR$2=\"\",\"\",テストデータ!DR$2)","v":"1/9"},{"$f":"IF(テストデータ!DS$2=\"\",\"\",テストデータ!DS$2)","v":""},{"$f":"IF(テストデータ!DT$2=\"\",\"\",テストデータ!DT$2)","v":""}]
[null,"得点",{"$f":"IF(VLOOKUP($H$2,テストデータ!$A$4:$HX$503,12*2+89,FALSE)=\"\",IF(INDIRECT(ADDRESS(ROW()-1,COLUMN()))=\"\",\"\",\"欠\"),VLOOKUP($H$2,テストデータ!$A$4:$HX$503,12*2+89,FALSE))","v":48},{"$f":"IF(VLOOKUP($H$2,テストデータ!$A$4:$HX$503,12*2+90,FALSE)=\"\",IF(INDIRECT(ADDRESS(ROW()-1,COLUMN()))=\"\",\"\",\"欠\"),VLOOKUP($H$2,テストデータ!$A$4:$HX$503,12*2+90,FALSE))","v":72},{"$f":"IF(VLOOKUP($H$2,テストデータ!$A$4:$HX$503,12*2+91,FALSE)=\"\",IF(INDIRECT(ADDRESS(ROW()-1,COLUMN()))=\"\",\"\",\"欠\"),VLOOKUP($H$2,テストデータ!$A$4:$HX$503,12*2+91,FALSE))","v":99},{"$f":"IF(VLOOKUP($H$2,テストデータ!$A$4:$HX$503,12*2+92,FALSE)=\"\",IF(INDIRECT(ADDRESS(ROW()-1,COLUMN()))=\"\",\"\",\"欠\"),VLOOKUP($H$2,テストデータ!$A$4:$HX$503,12*2+92,FALSE))","v":40},{"$f":"IF(VLOOKUP($H$2,テストデータ!$A$4:$HX$503,12*2+93,FALSE)=\"\",IF(INDIRECT(ADDRESS(ROW()-1,COLUMN()))=\"\",\"\",\"欠\"),VLOOKUP($H$2,テストデータ!$A$4:$HX$503,12*2+93,FALSE))","v":75},{"$f":"IF(VLOOKUP($H$2,テストデータ!$A$4:$HX$503,12*2+94,FALSE)=\"\",IF(INDIRECT(ADDRESS(ROW()-1,COLUMN()))=\"\",\"\",\"欠\"),VLOOKUP($H$2,テストデータ!$A$4:$HX$503,12*2+94,FALSE))","v":85},{"$f":"IF(VLOOKUP($H$2,テストデータ!$A$4:$HX$503,12*2+95,FALSE)=\"\",IF(INDIRECT(ADDRESS(ROW()-1,COLUMN()))=\"\",\"\",\"欠\"),VLOOKUP($H$2,テストデータ!$A$4:$HX$503,12*2+95,FALSE))","v":95},{"$f":"IF(VLOOKUP($H$2,テストデータ!$A$4:$HX$503,12*2+96,FALSE)=\"\",IF(INDIRECT(ADDRESS(ROW()-1,COLUMN()))=\"\",\"\",\"欠\"),VLOOKUP($H$2,テストデータ!$A$4:$HX$503,12*2+96,FALSE))","v":91},{"$f":"IF(VLOOKUP($H$2,テストデータ!$A$4:$HX$503,12*2+97,FALSE)=\"\",IF(INDIRECT(ADDRESS(ROW()-1,COLUMN()))=\"\",\"\",\"欠\"),VLOOKUP($H$2,テストデータ!$A$4:$HX$503,12*2+97,FALSE))","v":67},{"$f":"IF(VLOOKUP($H$2,テストデータ!$A$4:$HX$503,12*2+98,FALSE)=\"\",IF(INDIRECT(ADDRESS(ROW()-1,COLUMN()))=\"\",\"\",\"欠\"),VLOOKUP($H$2,テストデータ!$A$4:$HX$503,12*2+98,FALSE))","v":75},{"$f":"IF(VLOOKUP($H$2,テストデータ!$A$4:$HX$503,12*2+99,FALSE)=\"\",IF(INDIRECT(ADDRESS(ROW()-1,COLUMN()))=\"\",\"\",\"欠\"),VLOOKUP($H$2,テストデータ!$A$4:$HX$503,12*2+99,FALSE))","v":""},{"$f":"IF(VLOOKUP($H$2,テストデータ!$A$4:$HX$503,12*2+100,FALSE)=\"\",IF(INDIRECT(ADDRESS(ROW()-1,COLUMN()))=\"\",\"\",\"欠\"),VLOOKUP($H$2,テストデータ!$A$4:$HX$503,12*2+100,FALSE))","v":""}]
[null,"平均点",{"$f":"IF(COUNT(OFFSET(テストデータ!$CK$3,1,12*2+0):OFFSET(テストデータ!$CK$3,500,12*2+0))=0,NA(),AVERAGE(OFFSET(テストデータ!$CK$3,1,12*2+0):OFFSET(テストデータ!$CK$3,500,12*2+0)))","v":66.263157894736835},{"$f":"IF(COUNT(OFFSET(テストデータ!$CK$3,1,12*2+1):OFFSET(テストデータ!$CK$3,500,12*2+1))=0,NA(),AVERAGE(OFFSET(テストデータ!$CK$3,1,12*2+1):OFFSET(テストデータ!$CK$3,500,12*2+1)))","v":48.85},{"$f":"IF(COUNT(OFFSET(テストデータ!$CK$3,1,12*2+2):OFFSET(テストデータ!$CK$3,500,12*2+2))=0,NA(),AVERAGE(OFFSET(テストデータ!$CK$3,1,12*2+2):OFFSET(テストデータ!$CK$3,500,12*2+2)))","v":58.95},{"$f":"IF(COUNT(OFFSET(テストデータ!$CK$3,1,12*2+3):OFFSET(テストデータ!$CK$3,500,12*2+3))=0,NA(),AVERAGE(OFFSET(テストデータ!$CK$3,1,12*2+3):OFFSET(テストデータ!$CK$3,500,12*2+3)))","v":51.1},{"$f":"IF(COUNT(OFFSET(テストデータ!$CK$3,1,12*2+4):OFFSET(テストデータ!$CK$3,500,12*2+4))=0,NA(),AVERAGE(OFFSET(テストデータ!$CK$3,1,12*2+4):OFFSET(テストデータ!$CK$3,500,12*2+4)))","v":51.5},{"$f":"IF(COUNT(OFFSET(テストデータ!$CK$3,1,12*2+5):OFFSET(テストデータ!$CK$3,500,12*2+5))=0,NA(),AVERAGE(OFFSET(テストデータ!$CK$3,1,12*2+5):OFFSET(テストデータ!$CK$3,500,12*2+5)))","v":50.7},{"$f":"IF(COUNT(OFFSET(テストデータ!$CK$3,1,12*2+6):OFFSET(テストデータ!$CK$3,500,12*2+6))=0,NA(),AVERAGE(OFFSET(テストデータ!$CK$3,1,12*2+6):OFFSET(テストデータ!$CK$3,500,12*2+6)))","v":55.9},{"$f":"IF(COUNT(OFFSET(テストデータ!$CK$3,1,12*2+7):OFFSET(テストデータ!$CK$3,500,12*2+7))=0,NA(),AVERAGE(OFFSET(テストデータ!$CK$3,1,12*2+7):OFFSET(テストデータ!$CK$3,500,12*2+7)))","v":65.95},{"$f":"IF(COUNT(OFFSET(テストデータ!$CK$3,1,12*2+8):OFFSET(テストデータ!$CK$3,500,12*2+8))=0,NA(),AVERAGE(OFFSET(テストデータ!$CK$3,1,12*2+8):OFFSET(テストデータ!$CK$3,500,12*2+8)))","v":59.176470588235297},{"$f":"IF(COUNT(OFFSET(テストデータ!$CK$3,1,12*2+9):OFFSET(テストデータ!$CK$3,500,12*2+9))=0,NA(),AVERAGE(OFFSET(テストデータ!$CK$3,1,12*2+9):OFFSET(テストデータ!$CK$3,500,12*2+9)))","v":63.85},{"$f":"IF(COUNT(OFFSET(テストデータ!$CK$3,1,12*2+10):OFFSET(テストデータ!$CK$3,500,12*2+10))=0,NA(),AVERAGE(OFFSET(テストデータ!$CK$3,1,12*2+10):OFFSET(テストデータ!$CK$3,500,12*2+10)))","v":{"$error":"#N/A"}},{"$f":"IF(COUNT(OFFSET(テストデータ!$CK$3,1,12*2+11):OFFSET(テストデータ!$CK$3,500,12*2+11))=0,NA(),AVERAGE(OFFSET(テストデータ!$CK$3,1,12*2+11):OFFSET(テストデータ!$CK$3,500,12*2+11)))","v":{"$error":"#N/A"}}]
[null,"クラス順位",{"$f":"IF(OR(INDIRECT(ADDRESS(ROW()-2,COLUMN()))=\"欠\",INDIRECT(ADDRESS(ROW()-2,COLUMN()))=\"\"),\"\",SUMPRODUCT((INDIRECT(\"テストデータ!$B$4:$B$503\")=$I$2)*(OFFSET(テストデータ!DI$3,1,0):OFFSET(テストデータ!DI$3,500,0)>C$18))+1)","v":5},{"$f":"IF(OR(INDIRECT(ADDRESS(ROW()-2,COLUMN()))=\"欠\",INDIRECT(ADDRESS(ROW()-2,COLUMN()))=\"\"),\"\",SUMPRODUCT((INDIRECT(\"テストデータ!$B$4:$B$503\")=$I$2)*(OFFSET(テストデータ!DJ$3,1,0):OFFSET(テストデータ!DJ$3,500,0)>D$18))+1)","v":2},{"$f":"IF(OR(INDIRECT(ADDRESS(ROW()-2,COLUMN()))=\"欠\",INDIRECT(ADDRESS(ROW()-2,COLUMN()))=\"\"),\"\",SUMPRODUCT((INDIRECT(\"テストデータ!$B$4:$B$503\")=$I$2)*(OFFSET(テストデータ!DK$3,1,0):OFFSET(テストデータ!DK$3,500,0)>E$18))+1)","v":1},{"$f":"IF(OR(INDIRECT(ADDRESS(ROW()-2,COLUMN()))=\"欠\",INDIRECT(ADDRESS(ROW()-2,COLUMN()))=\"\"),\"\",SUMPRODUCT((INDIRECT(\"テストデータ!$B$4:$B$503\")=$I$2)*(OFFSET(テストデータ!DL$3,1,0):OFFSET(テストデータ!DL$3,500,0)>F$18))+1)","v":5},{"$f":"IF(OR(INDIRECT(ADDRESS(ROW()-2,COLUMN()))=\"欠\",INDIRECT(ADDRESS(ROW()-2,COLUMN()))=\"\"),\"\",SUMPRODUCT((INDIRECT(\"テストデータ!$B$4:$B$503\")=$I$2)*(OFFSET(テストデータ!DM$3,1,0):OFFSET(テストデータ!DM$3,500,0)>G$18))+1)","v":2},{"$f":"IF(OR(INDIRECT(ADDRESS(ROW()-2,COLUMN()))=\"欠\",INDIRECT(ADDRESS(ROW()-2,COLUMN()))=\"\"),\"\",SUMPRODUCT((INDIRECT(\"テストデータ!$B$4:$B$503\")=$I$2)*(OFFSET(テストデータ!DN$3,1,0):OFFSET(テストデータ!DN$3,500,0)>H$18))+1)","v":2},{"$f":"IF(OR(INDIRECT(ADDRESS(ROW()-2,COLUMN()))=\"欠\",INDIRECT(ADDRESS(ROW()-2,COLUMN()))=\"\"),\"\",SUMPRODUCT((INDIRECT(\"テストデータ!$B$4:$B$503\")=$I$2)*(OFFSET(テストデータ!DO$3,1,0):OFFSET(テストデータ!DO$3,500,0)>I$18))+1)","v":1},{"$f":"IF(OR(INDIRECT(ADDRESS(ROW()-2,COLUMN()))=\"欠\",INDIRECT(ADDRESS(ROW()-2,COLUMN()))=\"\"),\"\",SUMPRODUCT((INDIRECT(\"テストデータ!$B$4:$B$503\")=$I$2)*(OFFSET(テストデータ!DP$3,1,0):OFFSET(テストデータ!DP$3,500,0)>J$18))+1)","v":2},{"$f":"IF(OR(INDIRECT(ADDRESS(ROW()-2,COLUMN()))=\"欠\",INDIRECT(ADDRESS(ROW()-2,COLUMN()))=\"\"),\"\",SUMPRODUCT((INDIRECT(\"テストデータ!$B$4:$B$503\")=$I$2)*(OFFSET(テストデータ!DQ$3,1,0):OFFSET(テストデータ!DQ$3,500,0)>K$18))+1)","v":3},{"$f":"IF(OR(INDIRECT(ADDRESS(ROW()-2,COLUMN()))=\"欠\",INDIRECT(ADDRESS(ROW()-2,COLUMN()))=\"\"),\"\",SUMPRODUCT((INDIRECT(\"テストデータ!$B$4:$B$503\")=$I$2)*(OFFSET(テストデータ!DR$3,1,0):OFFSET(テストデータ!DR$3,500,0)>L$18))+1)","v":1},{"$f":"IF(OR(INDIRECT(ADDRESS(ROW()-2,COLUMN()))=\"欠\",INDIRECT(ADDRESS(ROW()-2,COLUMN()))=\"\"),\"\",SUMPRODUCT((INDIRECT(\"テストデータ!$B$4:$B$503\")=$I$2)*(OFFSET(テストデータ!DS$3,1,0):OFFSET(テストデータ!DS$3,500,0)>M$18))+1)","v":""},{"$f":"IF(OR(INDIRECT(ADDRESS(ROW()-2,COLUMN()))=\"欠\",INDIRECT(ADDRESS(ROW()-2,COLUMN()))=\"\"),\"\",SUMPRODUCT((INDIRECT(\"テストデータ!$B$4:$B$503\")=$I$2)*(OFFSET(テストデータ!DT$3,1,0):OFFSET(テストデータ!DT$3,500,0)>N$18))+1)","v":""}]
[null,"校内順位",{"$f":"IF(OR(INDIRECT(ADDRESS(ROW()-3,COLUMN()))=\"欠\",INDIRECT(ADDRESS(ROW()-3,COLUMN()))=\"\"),\"\",RANK(INDIRECT(ADDRESS(ROW()-3,COLUMN())),OFFSET(テストデータ!DI$3,1,0):OFFSET(テストデータ!DI$3,501,0)))","v":16},{"$f":"IF(OR(INDIRECT(ADDRESS(ROW()-3,COLUMN()))=\"欠\",INDIRECT(ADDRESS(ROW()-3,COLUMN()))=\"\"),\"\",RANK(INDIRECT(ADDRESS(ROW()-3,COLUMN())),OFFSET(テストデータ!DJ$3,1,0):OFFSET(テストデータ!DJ$3,501,0)))","v":3},{"$f":"IF(OR(INDIRECT(ADDRESS(ROW()-3,COLUMN()))=\"欠\",INDIRECT(ADDRESS(ROW()-3,COLUMN()))=\"\"),\"\",RANK(INDIRECT(ADDRESS(ROW()-3,COLUMN())),OFFSET(テストデータ!DK$3,1,0):OFFSET(テストデータ!DK$3,501,0)))","v":1},{"$f":"IF(OR(INDIRECT(ADDRESS(ROW()-3,COLUMN()))=\"欠\",INDIRECT(ADDRESS(ROW()-3,COLUMN()))=\"\"),\"\",RANK(INDIRECT(ADDRESS(ROW()-3,COLUMN())),OFFSET(テストデータ!DL$3,1,0):OFFSET(テストデータ!DL$3,501,0)))","v":13},{"$f":"IF(OR(INDIRECT(ADDRESS(ROW()-3,COLUMN()))=\"欠\",INDIRECT(ADDRESS(ROW()-3,COLUMN()))=\"\"),\"\",RANK(INDIRECT(ADDRESS(ROW()-3,COLUMN())),OFFSET(テストデータ!DM$3,1,0):OFFSET(テストデータ!DM$3,501,0)))","v":4},{"$f":"IF(OR(INDIRECT(ADDRESS(ROW()-3,COLUMN()))=\"欠\",INDIRECT(ADDRESS(ROW()-3,COLUMN()))=\"\"),\"\",RANK(INDIRECT(ADDRESS(ROW()-3,COLUMN())),OFFSET(テストデータ!DN$3,1,0):OFFSET(テストデータ!DN$3,501,0)))","v":3},{"$f":"IF(OR(INDIRECT(ADDRESS(ROW()-3,COLUMN()))=\"欠\",INDIRECT(ADDRESS(ROW()-3,COLUMN()))=\"\"),\"\",RANK(INDIRECT(ADDRESS(ROW()-3,COLUMN())),OFFSET(テストデータ!DO$3,1,0):OFFSET(テストデータ!DO$3,501,0)))","v":3},{"$f":"IF(OR(INDIRECT(ADDRESS(ROW()-3,COLUMN()))=\"欠\",INDIRECT(ADDRESS(ROW()-3,COLUMN()))=\"\"),\"\",RANK(INDIRECT(ADDRESS(ROW()-3,COLUMN())),OFFSET(テストデータ!DP$3,1,0):OFFSET(テストデータ!DP$3,501,0)))","v":6},{"$f":"IF(OR(INDIRECT(ADDRESS(ROW()-3,COLUMN()))=\"欠\",INDIRECT(ADDRESS(ROW()-3,COLUMN()))=\"\"),\"\",RANK(INDIRECT(ADDRESS(ROW()-3,COLUMN())),OFFSET(テストデータ!DQ$3,1,0):OFFSET(テストデータ!DQ$3,501,0)))","v":8},{"$f":"IF(OR(INDIRECT(ADDRESS(ROW()-3,COLUMN()))=\"欠\",INDIRECT(ADDRESS(ROW()-3,COLUMN()))=\"\"),\"\",RANK(INDIRECT(ADDRESS(ROW()-3,COLUMN())),OFFSET(テストデータ!DR$3,1,0):OFFSET(テストデータ!DR$3,501,0)))","v":8},{"$f":"IF(OR(INDIRECT(ADDRESS(ROW()-3,COLUMN()))=\"欠\",INDIRECT(ADDRESS(ROW()-3,COLUMN()))=\"\"),\"\",RANK(INDIRECT(ADDRESS(ROW()-3,COLUMN())),OFFSET(テストデータ!DS$3,1,0):OFFSET(テストデータ!DS$3,501,0)))","v":""},{"$f":"IF(OR(INDIRECT(ADDRESS(ROW()-3,COLUMN()))=\"欠\",INDIRECT(ADDRESS(ROW()-3,COLUMN()))=\"\"),\"\",RANK(INDIRECT(ADDRESS(ROW()-3,COLUMN())),OFFSET(テストデータ!DT$3,1,0):OFFSET(テストデータ!DT$3,501,0)))","v":""}]
[null,{"$f":"IF(初期設定!$C21=\"\",\"\",初期設定!$C21)","v":"数Ⅰ"},"1回","2回","3回","4回","5回","6回","7回","8回","9回","10回","11回","12回"]
[null,"実施日",{"$f":"IF(テストデータ!DU$2=\"\",\"\",テストデータ!DU$2)","v":"4/5"},{"$f":"IF(テストデータ!DV$2=\"\",\"\",テストデータ!DV$2)","v":"5/2"},{"$f":"IF(テストデータ!DW$2=\"\",\"\",テストデータ!DW$2)","v":"6/5"},{"$f":"IF(テストデータ!DX$2=\"\",\"\",テストデータ!DX$2)","v":"7/18"},{"$f":"IF(テストデータ!DY$2=\"\",\"\",テストデータ!DY$2)","v":"8/5"},{"$f":"IF(テストデータ!DZ$2=\"\",\"\",テストデータ!DZ$2)","v":"9/7"},{"$f":"IF(テストデータ!EA$2=\"\",\"\",テストデータ!EA$2)","v":"10/5"},{"$f":"IF(テストデータ!EB$2=\"\",\"\",テストデータ!EB$2)","v":"11/30"},{"$f":"IF(テストデータ!EC$2=\"\",\"\",テストデータ!EC$2)","v":"12/4"},{"$f":"IF(テストデータ!ED$2=\"\",\"\",テストデータ!ED$2)","v":"1/9"},{"$f":"IF(テストデータ!EE$2=\"\",\"\",テストデータ!EE$2)","v":""},{"$f":"IF(テストデータ!EF$2=\"\",\"\",テストデータ!EF$2)","v":""}]
[null,"得点",{"$f":"IF(VLOOKUP($H$2,テストデータ!$A$4:$HX$503,12*3+89,FALSE)=\"\",IF(INDIRECT(ADDRESS(ROW()-1,COLUMN()))=\"\",\"\",\"欠\"),VLOOKUP($H$2,テストデータ!$A$4:$HX$503,12*3+89,FALSE))","v":10},{"$f":"IF(VLOOKUP($H$2,テストデータ!$A$4:$HX$503,12*3+90,FALSE)=\"\",IF(INDIRECT(ADDRESS(ROW()-1,COLUMN()))=\"\",\"\",\"欠\"),VLOOKUP($H$2,テストデータ!$A$4:$HX$503,12*3+90,FALSE))","v":48},{"$f":"IF(VLOOKUP($H$2,テストデータ!$A$4:$HX$503,12*3+91,FALSE)=\"\",IF(INDIRECT(ADDRESS(ROW()-1,COLUMN()))=\"\",\"\",\"欠\"),VLOOKUP($H$2,テストデータ!$A$4:$HX$503,12*3+91,FALSE))","v":82},{"$f":"IF(VLOOKUP($H$2,テストデータ!$A$4:$HX$503,12*3+92,FALSE)=\"\",IF(INDIRECT(ADDRESS(ROW()-1,COLUMN()))=\"\",\"\",\"欠\"),VLOOKUP($H$2,テストデータ!$A$4:$HX$503,12*3+92,FALSE))","v":42},{"$f":"IF(VLOOKUP($H$2,テストデータ!$A$4:$HX$503,12*3+93,FALSE)=\"\",IF(INDIRECT(ADDRESS(ROW()-1,COLUMN()))=\"\",\"\",\"欠\"),VLOOKUP($H$2,テストデータ!$A$4:$HX$503,12*3+93,FALSE))","v":93},{"$f":"IF(VLOOKUP($H$2,テストデータ!$A$4:$HX$503,12*3+94,FALSE)=\"\",IF(INDIRECT(ADDRESS(ROW()-1,COLUMN()))=\"\",\"\",\"欠\"),VLOOKUP($H$2,テストデータ!$A$4:$HX$503,12*3+94,FALSE))","v":67},{"$f":"IF(VLOOKUP($H$2,テストデータ!$A$4:$HX$503,12*3+95,FALSE)=\"\",IF(INDIRECT(ADDRESS(ROW()-1,COLUMN()))=\"\",\"\",\"欠\"),VLOOKUP($H$2,テストデータ!$A$4:$HX$503,12*3+95,FALSE))","v":70},{"$f":"IF(VLOOKUP($H$2,テストデータ!$A$4:$HX$503,12*3+96,FALSE)=\"\",IF(INDIRECT(ADDRESS(ROW()-1,COLUMN()))=\"\",\"\",\"欠\"),VLOOKUP($H$2,テストデータ!$A$4:$HX$503,12*3+96,FALSE))","v":35},{"$f":"IF(VLOOKUP($H$2,テストデータ!$A$4:$HX$503,12*3+97,FALSE)=\"\",IF(INDIRECT(ADDRESS(ROW()-1,COLUMN()))=\"\",\"\",\"欠\"),VLOOKUP($H$2,テストデータ!$A$4:$HX$503,12*3+97,FALSE))","v":69},{"$f":"IF(VLOOKUP($H$2,テストデータ!$A$4:$HX$503,12*3+98,FALSE)=\"\",IF(INDIRECT(ADDRESS(ROW()-1,COLUMN()))=\"\",\"\",\"欠\"),VLOOKUP($H$2,テストデータ!$A$4:$HX$503,12*3+98,FALSE))","v":77},{"$f":"IF(VLOOKUP($H$2,テストデータ!$A$4:$HX$503,12*3+99,FALSE)=\"\",IF(INDIRECT(ADDRESS(ROW()-1,COLUMN()))=\"\",\"\",\"欠\"),VLOOKUP($H$2,テストデータ!$A$4:$HX$503,12*3+99,FALSE))","v":""},{"$f":"IF(VLOOKUP($H$2,テストデータ!$A$4:$HX$503,12*3+100,FALSE)=\"\",IF(INDIRECT(ADDRESS(ROW()-1,COLUMN()))=\"\",\"\",\"欠\"),VLOOKUP($H$2,テストデータ!$A$4:$HX$503,12*3+100,FALSE))","v":""}]
[null,"平均点",{"$f":"IF(COUNT(OFFSET(テストデータ!$CK$3,1,12*3+0):OFFSET(テストデータ!$CK$3,500,12*3+0))=0,NA(),AVERAGE(OFFSET(テストデータ!$CK$3,1,12*3+0):OFFSET(テストデータ!$CK$3,500,12*3+0)))","v":54.25},{"$f":"IF(COUNT(OFFSET(テストデータ!$CK$3,1,12*3+1):OFFSET(テストデータ!$CK$3,500,12*3+1))=0,NA(),AVERAGE(OFFSET(テストデータ!$CK$3,1,12*3+1):OFFSET(テストデータ!$CK$3,500,12*3+1)))","v":54.4},{"$f":"IF(COUNT(OFFSET(テストデータ!$CK$3,1,12*3+2):OFFSET(テストデータ!$CK$3,500,12*3+2))=0,NA(),AVERAGE(OFFSET(テストデータ!$CK$3,1,12*3+2):OFFSET(テストデータ!$CK$3,500,12*3+2)))","v":47.3},{"$f":"IF(COUNT(OFFSET(テストデータ!$CK$3,1,12*3+3):OFFSET(テストデータ!$CK$3,500,12*3+3))=0,NA(),AVERAGE(OFFSET(テストデータ!$CK$3,1,12*3+3):OFFSET(テストデータ!$CK$3,500,12*3+3)))","v":66.89473684210526},{"$f":"IF(COUNT(OFFSET(テストデータ!$CK$3,1,12*3+4):OFFSET(テストデータ!$CK$3,500,12*3+4))=0,NA(),AVERAGE(OFFSET(テストデータ!$CK$3,1,12*3+4):OFFSET(テストデータ!$CK$3,500,12*3+4)))","v":50.263157894736842},{"$f":"IF(COUNT(OFFSET(テストデータ!$CK$3,1,12*3+5):OFFSET(テストデータ!$CK$3,500,12*3+5))=0,NA(),AVERAGE(OFFSET(テストデータ!$CK$3,1,12*3+5):OFFSET(テストデータ!$CK$3,500,12*3+5)))","v":58.1},{"$f":"IF(COUNT(OFFSET(テストデータ!$CK$3,1,12*3+6):OFFSET(テストデータ!$CK$3,500,12*3+6))=0,NA(),AVERAGE(OFFSET(テストデータ!$CK$3,1,12*3+6):OFFSET(テストデータ!$CK$3,500,12*3+6)))","v":59.85},{"$f":"IF(COUNT(OFFSET(テストデータ!$CK$3,1,12*3+7):OFFSET(テストデータ!$CK$3,500,12*3+7))=0,NA(),AVERAGE(OFFSET(テストデータ!$CK$3,1,12*3+7):OFFSET(テストデータ!$CK$3,500,12*3+7)))","v":49},{"$f":"IF(COUNT(OFFSET(テストデータ!$CK$3,1,12*3+8):OFFSET(テストデータ!$CK$3,500,12*3+8))=0,NA(),AVERAGE(OFFSET(テストデータ!$CK$3,1,12*3+8):OFFSET(テストデータ!$CK$3,500,12*3+8)))","v":51},{"$f":"IF(COUNT(OFFSET(テストデータ!$CK$3,1,12*3+9):OFFSET(テストデータ!$CK$3,500,12*3+9))=0,NA(),AVERAGE(OFFSET(テストデータ!$CK$3,1,12*3+9):OFFSET(テストデータ!$CK$3,500,12*3+9)))","v":61.15},{"$f":"IF(COUNT(OFFSET(テストデータ!$CK$3,1,12*3+10):OFFSET(テストデータ!$CK$3,500,12*3+10))=0,NA(),AVERAGE(OFFSET(テストデータ!$CK$3,1,12*3+10):OFFSET(テストデータ!$CK$3,500,12*3+10)))","v":{"$error":"#N/A"}},{"$f":"IF(COUNT(OFFSET(テストデータ!$CK$3,1,12*3+11):OFFSET(テストデータ!$CK$3,500,12*3+11))=0,NA(),AVERAGE(OFFSET(テストデータ!$CK$3,1,12*3+11):OFFSET(テストデータ!$CK$3,500,12*3+11)))","v":{"$error":"#N/A"}}]
[null,"クラス順位",{"$f":"IF(OR(INDIRECT(ADDRESS(ROW()-2,COLUMN()))=\"欠\",INDIRECT(ADDRESS(ROW()-2,COLUMN()))=\"\"),\"\",SUMPRODUCT((INDIRECT(\"テストデータ!$B$4:$B$503\")=$I$2)*(OFFSET(テストデータ!DU$3,1,0):OFFSET(テストデータ!DU$3,500,0)>C$24))+1)","v":6},{"$f":"IF(OR(INDIRECT(ADDRESS(ROW()-2,COLUMN()))=\"欠\",INDIRECT(ADDRESS(ROW()-2,COLUMN()))=\"\"),\"\",SUMPRODUCT((INDIRECT(\"テストデータ!$B$4:$B$503\")=$I$2)*(OFFSET(テストデータ!DV$3,1,0):OFFSET(テストデータ!DV$3,500,0)>D$24))+1)","v":3},{"$f":"IF(OR(INDIRECT(ADDRESS(ROW()-2,COLUMN()))=\"欠\",INDIRECT(ADDRESS(ROW()-2,COLUMN()))=\"\"),\"\",SUMPRODUCT((INDIRECT(\"テストデータ!$B$4:$B$503\")=$I$2)*(OFFSET(テストデータ!DW$3,1,0):OFFSET(テストデータ!DW$3,500,0)>E$24))+1)","v":2},{"$f":"IF(OR(INDIRECT(ADDRESS(ROW()-2,COLUMN()))=\"欠\",INDIRECT(ADDRESS(ROW()-2,COLUMN()))=\"\"),\"\",SUMPRODUCT((INDIRECT(\"テストデータ!$B$4:$B$503\")=$I$2)*(OFFSET(テストデータ!DX$3,1,0):OFFSET(テストデータ!DX$3,500,0)>F$24))+1)","v":5},{"$f":"IF(OR(INDIRECT(ADDRESS(ROW()-2,COLUMN()))=\"欠\",INDIRECT(ADDRESS(ROW()-2,COLUMN()))=\"\"),\"\",SUMPRODUCT((INDIRECT(\"テストデータ!$B$4:$B$503\")=$I$2)*(OFFSET(テストデータ!DY$3,1,0):OFFSET(テストデータ!DY$3,500,0)>G$24))+1)","v":1},{"$f":"IF(OR(INDIRECT(ADDRESS(ROW()-2,COLUMN()))=\"欠\",INDIRECT(ADDRESS(ROW()-2,COLUMN()))=\"\"),\"\",SUMPRODUCT((INDIRECT(\"テストデータ!$B$4:$B$503\")=$I$2)*(OFFSET(テストデータ!DZ$3,1,0):OFFSET(テストデータ!DZ$3,500,0)>H$24))+1)","v":2},{"$f":"IF(OR(INDIRECT(ADDRESS(ROW()-2,COLUMN()))=\"欠\",INDIRECT(ADDRESS(ROW()-2,COLUMN()))=\"\"),\"\",SUMPRODUCT((INDIRECT(\"テストデータ!$B$4:$B$503\")=$I$2)*(OFFSET(テストデータ!EA$3,1,0):OFFSET(テストデータ!EA$3,500,0)>I$24))+1)","v":2},{"$f":"IF(OR(INDIRECT(ADDRESS(ROW()-2,COLUMN()))=\"欠\",INDIRECT(ADDRESS(ROW()-2,COLUMN()))=\"\"),\"\",SUMPRODUCT((INDIRECT(\"テストデータ!$B$4:$B$503\")=$I$2)*(OFFSET(テストデータ!EB$3,1,0):OFFSET(テストデータ!EB$3,500,0)>J$24))+1)","v":5},{"$f":"IF(OR(INDIRECT(ADDRESS(ROW()-2,COLUMN()))=\"欠\",INDIRECT(ADDRESS(ROW()-2,COLUMN()))=\"\"),\"\",SUMPRODUCT((INDIRECT(\"テストデータ!$B$4:$B$503\")=$I$2)*(OFFSET(テストデータ!EC$3,1,0):OFFSET(テストデータ!EC$3,500,0)>K$24))+1)","v":1},{"$f":"IF(OR(INDIRECT(ADDRESS(ROW()-2,COLUMN()))=\"欠\",INDIRECT(ADDRESS(ROW()-2,COLUMN()))=\"\"),\"\",SUMPRODUCT((INDIRECT(\"テストデータ!$B$4:$B$503\")=$I$2)*(OFFSET(テストデータ!ED$3,1,0):OFFSET(テストデータ!ED$3,500,0)>L$24))+1)","v":3},{"$f":"IF(OR(INDIRECT(ADDRESS(ROW()-2,COLUMN()))=\"欠\",INDIRECT(ADDRESS(ROW()-2,COLUMN()))=\"\"),\"\",SUMPRODUCT((INDIRECT(\"テストデータ!$B$4:$B$503\")=$I$2)*(OFFSET(テストデータ!EE$3,1,0):OFFSET(テストデータ!EE$3,500,0)>M$24))+1)","v":""},{"$f":"IF(OR(INDIRECT(ADDRESS(ROW()-2,COLUMN()))=\"欠\",INDIRECT(ADDRESS(ROW()-2,COLUMN()))=\"\"),\"\",SUMPRODUCT((INDIRECT(\"テストデータ!$B$4:$B$503\")=$I$2)*(OFFSET(テストデータ!EF$3,1,0):OFFSET(テストデータ!EF$3,500,0)>N$24))+1)","v":""}]
[null,"校内順位",{"$f":"IF(OR(INDIRECT(ADDRESS(ROW()-3,COLUMN()))=\"欠\",INDIRECT(ADDRESS(ROW()-3,COLUMN()))=\"\"),\"\",RANK(INDIRECT(ADDRESS(ROW()-3,COLUMN())),OFFSET(テストデータ!DU$3,1,0):OFFSET(テストデータ!DU$3,501,0)))","v":20},{"$f":"IF(OR(INDIRECT(ADDRESS(ROW()-3,COLUMN()))=\"欠\",INDIRECT(ADDRESS(ROW()-3,COLUMN()))=\"\"),\"\",RANK(INDIRECT(ADDRESS(ROW()-3,COLUMN())),OFFSET(テストデータ!DV$3,1,0):OFFSET(テストデータ!DV$3,501,0)))","v":11},{"$f":"IF(OR(INDIRECT(ADDRESS(ROW()-3,COLUMN()))=\"欠\",INDIRECT(ADDRESS(ROW()-3,COLUMN()))=\"\"),\"\",RANK(INDIRECT(ADDRESS(ROW()-3,COLUMN())),OFFSET(テストデータ!DW$3,1,0):OFFSET(テストデータ!DW$3,501,0)))","v":3},{"$f":"IF(OR(INDIRECT(ADDRESS(ROW()-3,COLUMN()))=\"欠\",INDIRECT(ADDRESS(ROW()-3,COLUMN()))=\"\"),\"\",RANK(INDIRECT(ADDRESS(ROW()-3,COLUMN())),OFFSET(テストデータ!DX$3,1,0):OFFSET(テストデータ!DX$3,501,0)))","v":15},{"$f":"IF(OR(INDIRECT(ADDRESS(ROW()-3,COLUMN()))=\"欠\",INDIRECT(ADDRESS(ROW()-3,COLUMN()))=\"\"),\"\",RANK(INDIRECT(ADDRESS(ROW()-3,COLUMN())),OFFSET(テストデータ!DY$3,1,0):OFFSET(テストデータ!DY$3,501,0)))","v":1},{"$f":"IF(OR(INDIRECT(ADDRESS(ROW()-3,COLUMN()))=\"欠\",INDIRECT(ADDRESS(ROW()-3,COLUMN()))=\"\"),\"\",RANK(INDIRECT(ADDRESS(ROW()-3,COLUMN())),OFFSET(テストデータ!DZ$3,1,0):OFFSET(テストデータ!DZ$3,501,0)))","v":8},{"$f":"IF(OR(INDIRECT(ADDRESS(ROW()-3,COLUMN()))=\"欠\",INDIRECT(ADDRESS(ROW()-3,COLUMN()))=\"\"),\"\",RANK(INDIRECT(ADDRESS(ROW()-3,COLUMN())),OFFSET(テストデータ!EA$3,1,0):OFFSET(テストデータ!EA$3,501,0)))","v":10},{"$f":"IF(OR(INDIRECT(ADDRESS(ROW()-3,COLUMN()))=\"欠\",INDIRECT(ADDRESS(ROW()-3,COLUMN()))=\"\"),\"\",RANK(INDIRECT(ADDRESS(ROW()-3,COLUMN())),OFFSET(テストデータ!EB$3,1,0):OFFSET(テストデータ!EB$3,501,0)))","v":13},{"$f":"IF(OR(INDIRECT(ADDRESS(ROW()-3,COLUMN()))=\"欠\",INDIRECT(ADDRESS(ROW()-3,COLUMN()))=\"\"),\"\",RANK(INDIRECT(ADDRESS(ROW()-3,COLUMN())),OFFSET(テストデータ!EC$3,1,0):OFFSET(テストデータ!EC$3,501,0)))","v":6},{"$f":"IF(OR(INDIRECT(ADDRESS(ROW()-3,COLUMN()))=\"欠\",INDIRECT(ADDRESS(ROW()-3,COLUMN()))=\"\"),\"\",RANK(INDIRECT(ADDRESS(ROW()-3,COLUMN())),OFFSET(テストデータ!ED$3,1,0):OFFSET(テストデータ!ED$3,501,0)))","v":8},{"$f":"IF(OR(INDIRECT(ADDRESS(ROW()-3,COLUMN()))=\"欠\",INDIRECT(ADDRESS(ROW()-3,COLUMN()))=\"\"),\"\",RANK(INDIRECT(ADDRESS(ROW()-3,COLUMN())),OFFSET(テストデータ!EE$3,1,0):OFFSET(テストデータ!EE$3,501,0)))","v":""},{"$f":"IF(OR(INDIRECT(ADDRESS(ROW()-3,COLUMN()))=\"欠\",INDIRECT(ADDRESS(ROW()-3,COLUMN()))=\"\"),\"\",RANK(INDIRECT(ADDRESS(ROW()-3,COLUMN())),OFFSET(テストデータ!EF$3,1,0):OFFSET(テストデータ!EF$3,501,0)))","v":""}]
[null,{"$f":"IF(初期設定!$C22=\"\",\"\",初期設定!$C22)","v":"数A"},"1回","2回","3回","4回","5回","6回","7回","8回","9回","10回","11回","12回"]
[null,"実施日",{"$f":"IF(テストデータ!EG$2=\"\",\"\",テストデータ!EG$2)","v":"4/5"},{"$f":"IF(テストデータ!EH$2=\"\",\"\",テストデータ!EH$2)","v":"5/2"},{"$f":"IF(テストデータ!EI$2=\"\",\"\",テストデータ!EI$2)","v":"6/4"},{"$f":"IF(テストデータ!EJ$2=\"\",\"\",テストデータ!EJ$2)","v":"7/18"},{"$f":"IF(テストデータ!EK$2=\"\",\"\",テストデータ!EK$2)","v":"8/10"},{"$f":"IF(テストデータ!EL$2=\"\",\"\",テストデータ!EL$2)","v":"9/7"},{"$f":"IF(テストデータ!EM$2=\"\",\"\",テストデータ!EM$2)","v":"10/5"},{"$f":"IF(テストデータ!EN$2=\"\",\"\",テストデータ!EN$2)","v":"11/21"},{"$f":"IF(テストデータ!EO$2=\"\",\"\",テストデータ!EO$2)","v":"12/4"},{"$f":"IF(テストデータ!EP$2=\"\",\"\",テストデータ!EP$2)","v":"1/25"},{"$f":"IF(テストデータ!EQ$2=\"\",\"\",テストデータ!EQ$2)","v":""},{"$f":"IF(テストデータ!ER$2=\"\",\"\",テストデータ!ER$2)","v":""}]
[null,"得点",{"$f":"IF(VLOOKUP($H$2,テストデータ!$A$4:$HX$503,12*4+89,FALSE)=\"\",IF(INDIRECT(ADDRESS(ROW()-1,COLUMN()))=\"\",\"\",\"欠\"),VLOOKUP($H$2,テストデータ!$A$4:$HX$503,12*4+89,FALSE))","v":24},{"$f":"IF(VLOOKUP($H$2,テストデータ!$A$4:$HX$503,12*4+90,FALSE)=\"\",IF(INDIRECT(ADDRESS(ROW()-1,COLUMN()))=\"\",\"\",\"欠\"),VLOOKUP($H$2,テストデータ!$A$4:$HX$503,12*4+90,FALSE))","v":74},{"$f":"IF(VLOOKUP($H$2,テストデータ!$A$4:$HX$503,12*4+91,FALSE)=\"\",IF(INDIRECT(ADDRESS(ROW()-1,COLUMN()))=\"\",\"\",\"欠\"),VLOOKUP($H$2,テストデータ!$A$4:$HX$503,12*4+91,FALSE))","v":37},{"$f":"IF(VLOOKUP($H$2,テストデータ!$A$4:$HX$503,12*4+92,FALSE)=\"\",IF(INDIRECT(ADDRESS(ROW()-1,COLUMN()))=\"\",\"\",\"欠\"),VLOOKUP($H$2,テストデータ!$A$4:$HX$503,12*4+92,FALSE))","v":44},{"$f":"IF(VLOOKUP($H$2,テストデータ!$A$4:$HX$503,12*4+93,FALSE)=\"\",IF(INDIRECT(ADDRESS(ROW()-1,COLUMN()))=\"\",\"\",\"欠\"),VLOOKUP($H$2,テストデータ!$A$4:$HX$503,12*4+93,FALSE))","v":56},{"$f":"IF(VLOOKUP($H$2,テストデータ!$A$4:$HX$503,12*4+94,FALSE)=\"\",IF(INDIRECT(ADDRESS(ROW()-1,COLUMN()))=\"\",\"\",\"欠\"),VLOOKUP($H$2,テストデータ!$A$4:$HX$503,12*4+94,FALSE))","v":80},{"$f":"IF(VLOOKUP($H$2,テストデータ!$A$4:$HX$503,12*4+95,FALSE)=\"\",IF(INDIRECT(ADDRESS(ROW()-1,COLUMN()))=\"\",\"\",\"欠\"),VLOOKUP($H$2,テストデータ!$A$4:$HX$503,12*4+95,FALSE))","v":64},{"$f":"IF(VLOOKUP($H$2,テストデータ!$A$4:$HX$503,12*4+96,FALSE)=\"\",IF(INDIRECT(ADDRESS(ROW()-1,COLUMN()))=\"\",\"\",\"欠\"),VLOOKUP($H$2,テストデータ!$A$4:$HX$503,12*4+96,FALSE))","v":16},{"$f":"IF(VLOOKUP($H$2,テストデータ!$A$4:$HX$503,12*4+97,FALSE)=\"\",IF(INDIRECT(ADDRESS(ROW()-1,COLUMN()))=\"\",\"\",\"欠\"),VLOOKUP($H$2,テストデータ!$A$4:$HX$503,12*4+97,FALSE))","v":42},{"$f":"IF(VLOOKUP($H$2,テストデータ!$A$4:$HX$503,12*4+98,FALSE)=\"\",IF(INDIRECT(ADDRESS(ROW()-1,COLUMN()))=\"\",\"\",\"欠\"),VLOOKUP($H$2,テストデータ!$A$4:$HX$503,12*4+98,FALSE))","v":77},{"$f":"IF(VLOOKUP($H$2,テストデータ!$A$4:$HX$503,12*4+99,FALSE)=\"\",IF(INDIRECT(ADDRESS(ROW()-1,COLUMN()))=\"\",\"\",\"欠\"),VLOOKUP($H$2,テストデータ!$A$4:$HX$503,12*4+99,FALSE))","v":""},{"$f":"IF(VLOOKUP($H$2,テストデータ!$A$4:$HX$503,12*4+100,FALSE)=\"\",IF(INDIRECT(ADDRESS(ROW()-1,COLUMN()))=\"\",\"\",\"欠\"),VLOOKUP($H$2,テストデータ!$A$4:$HX$503,12*4+100,FALSE))","v":""}]
[null,"平均点",{"$f":"IF(COUNT(OFFSET(テストデータ!$CK$3,1,12*4+0):OFFSET(テストデータ!$CK$3,500,12*4+0))=0,NA(),AVERAGE(OFFSET(テストデータ!$CK$3,1,12*4+0):OFFSET(テストデータ!$CK$3,500,12*4+0)))","v":52.75},{"$f":"IF(COUNT(OFFSET(テストデータ!$CK$3,1,12*4+1):OFFSET(テストデータ!$CK$3,500,12*4+1))=0,NA(),AVERAGE(OFFSET(テストデータ!$CK$3,1,12*4+1):OFFSET(テストデータ!$CK$3,500,12*4+1)))","v":58.6},{"$f":"IF(COUNT(OFFSET(テストデータ!$CK$3,1,12*4+2):OFFSET(テストデータ!$CK$3,500,12*4+2))=0,NA(),AVERAGE(OFFSET(テストデータ!$CK$3,1,12*4+2):OFFSET(テストデータ!$CK$3,500,12*4+2)))","v":58.1},{"$f":"IF(COUNT(OFFSET(テストデータ!$CK$3,1,12*4+3):OFFSET(テストデータ!$CK$3,500,12*4+3))=0,NA(),AVERAGE(OFFSET(テストデータ!$CK$3,1,12*4+3):OFFSET(テストデータ!$CK$3,500,12*4+3)))","v":54.157894736842103},{"$f":"IF(COUNT(OFFSET(テストデータ!$CK$3,1,12*4+4):OFFSET(テストデータ!$CK$3,500,12*4+4))=0,NA(),AVERAGE(OFFSET(テストデータ!$CK$3,1,12*4+4):OFFSET(テストデータ!$CK$3,500,12*4+4)))","v":59.315789473684212},{"$f":"IF(COUNT(OFFSET(テストデータ!$CK$3,1,12*4+5):OFFSET(テストデータ!$CK$3,500,12*4+5))=0,NA(),AVERAGE(OFFSET(テストデータ!$CK$3,1,12*4+5):OFFSET(テストデータ!$CK$3,500,12*4+5)))","v":53.4},{"$f":"IF(COUNT(OFFSET(テストデータ!$CK$3,1,12*4+6):OFFSET(テストデータ!$CK$3,500,12*4+6))=0,NA(),AVERAGE(OFFSET(テストデータ!$CK$3,1,12*4+6):OFFSET(テストデータ!$CK$3,500,12*4+6)))","v":50.421052631578945},{"$f":"IF(COUNT(OFFSET(テストデータ!$CK$3,1,12*4+7):OFFSET(テストデータ!$CK$3,500,12*4+7))=0,NA(),AVERAGE(OFFSET(テストデータ!$CK$3,1,12*4+7):OFFSET(テストデータ!$CK$3,500,12*4+7)))","v":60.9},{"$f":"IF(COUNT(OFFSET(テストデータ!$CK$3,1,12*4+8):OFFSET(テストデータ!$CK$3,500,12*4+8))=0,NA(),AVERAGE(OFFSET(テストデータ!$CK$3,1,12*4+8):OFFSET(テストデータ!$CK$3,500,12*4+8)))","v":59.944444444444443},{"$f":"IF(COUNT(OFFSET(テストデータ!$CK$3,1,12*4+9):OFFSET(テストデータ!$CK$3,500,12*4+9))=0,NA(),AVERAGE(OFFSET(テストデータ!$CK$3,1,12*4+9):OFFSET(テストデータ!$CK$3,500,12*4+9)))","v":55.55},{"$f":"IF(COUNT(OFFSET(テストデータ!$CK$3,1,12*4+10):OFFSET(テストデータ!$CK$3,500,12*4+10))=0,NA(),AVERAGE(OFFSET(テストデータ!$CK$3,1,12*4+10):OFFSET(テストデータ!$CK$3,500,12*4+10)))","v":{"$error":"#N/A"}},{"$f":"IF(COUNT(OFFSET(テストデータ!$CK$3,1,12*4+11):OFFSET(テストデータ!$CK$3,500,12*4+11))=0,NA(),AVERAGE(OFFSET(テストデータ!$CK$3,1,12*4+11):OFFSET(テストデータ!$CK$3,500,12*4+11)))","v":{"$error":"#N/A"}}]
[null,"クラス順位",{"$f":"IF(OR(INDIRECT(ADDRESS(ROW()-2,COLUMN()))=\"欠\",INDIRECT(ADDRESS(ROW()-2,COLUMN()))=\"\"),\"\",SUMPRODUCT((INDIRECT(\"テストデータ!$B$4:$B$503\")=$I$2)*(OFFSET(テストデータ!EG$3,1,0):OFFSET(テストデータ!EG$3,500,0)>C$30))+1)","v":5},{"$f":"IF(OR(INDIRECT(ADDRESS(ROW()-2,COLUMN()))=\"欠\",INDIRECT(ADDRESS(ROW()-2,COLUMN()))=\"\"),\"\",SUMPRODUCT((INDIRECT(\"テストデータ!$B$4:$B$503\")=$I$2)*(OFFSET(テストデータ!EH$3,1,0):OFFSET(テストデータ!EH$3,500,0)>D$30))+1)","v":3},{"$f":"IF(OR(INDIRECT(ADDRESS(ROW()-2,COLUMN()))=\"欠\",INDIRECT(ADDRESS(ROW()-2,COLUMN()))=\"\"),\"\",SUMPRODUCT((INDIRECT(\"テストデータ!$B$4:$B$503\")=$I$2)*(OFFSET(テストデータ!EI$3,1,0):OFFSET(テストデータ!EI$3,500,0)>E$30))+1)","v":4},{"$f":"IF(OR(INDIRECT(ADDRESS(ROW()-2,COLUMN()))=\"欠\",INDIRECT(ADDRESS(ROW()-2,COLUMN()))=\"\"),\"\",SUMPRODUCT((INDIRECT(\"テストデータ!$B$4:$B$503\")=$I$2)*(OFFSET(テストデータ!EJ$3,1,0):OFFSET(テストデータ!EJ$3,500,0)>F$30))+1)","v":5},{"$f":"IF(OR(INDIRECT(ADDRESS(ROW()-2,COLUMN()))=\"欠\",INDIRECT(ADDRESS(ROW()-2,COLUMN()))=\"\"),\"\",SUMPRODUCT((INDIRECT(\"テストデータ!$B$4:$B$503\")=$I$2)*(OFFSET(テストデータ!EK$3,1,0):OFFSET(テストデータ!EK$3,500,0)>G$30))+1)","v":4},{"$f":"IF(OR(INDIRECT(ADDRESS(ROW()-2,COLUMN()))=\"欠\",INDIRECT(ADDRESS(ROW()-2,COLUMN()))=\"\"),\"\",SUMPRODUCT((INDIRECT(\"テストデータ!$B$4:$B$503\")=$I$2)*(OFFSET(テストデータ!EL$3,1,0):OFFSET(テストデータ!EL$3,500,0)>H$30))+1)","v":1},{"$f":"IF(OR(INDIRECT(ADDRESS(ROW()-2,COLUMN()))=\"欠\",INDIRECT(ADDRESS(ROW()-2,COLUMN()))=\"\"),\"\",SUMPRODUCT((INDIRECT(\"テストデータ!$B$4:$B$503\")=$I$2)*(OFFSET(テストデータ!EM$3,1,0):OFFSET(テストデータ!EM$3,500,0)>I$30))+1)","v":4},{"$f":"IF(OR(INDIRECT(ADDRESS(ROW()-2,COLUMN()))=\"欠\",INDIRECT(ADDRESS(ROW()-2,COLUMN()))=\"\"),\"\",SUMPRODUCT((INDIRECT(\"テストデータ!$B$4:$B$503\")=$I$2)*(OFFSET(テストデータ!EN$3,1,0):OFFSET(テストデータ!EN$3,500,0)>J$30))+1)","v":6},{"$f":"IF(OR(INDIRECT(ADDRESS(ROW()-2,COLUMN()))=\"欠\",INDIRECT(ADDRESS(ROW()-2,COLUMN()))=\"\"),\"\",SUMPRODUCT((INDIRECT(\"テストデータ!$B$4:$B$503\")=$I$2)*(OFFSET(テストデータ!EO$3,1,0):OFFSET(テストデータ!EO$3,500,0)>K$30))+1)","v":5},{"$f":"IF(OR(INDIRECT(ADDRESS(ROW()-2,COLUMN()))=\"欠\",INDIRECT(ADDRESS(ROW()-2,COLUMN()))=\"\"),\"\",SUMPRODUCT((INDIRECT(\"テストデータ!$B$4:$B$503\")=$I$2)*(OFFSET(テストデータ!EP$3,1,0):OFFSET(テストデータ!EP$3,500,0)>L$30))+1)","v":3},{"$f":"IF(OR(INDIRECT(ADDRESS(ROW()-2,COLUMN()))=\"欠\",INDIRECT(ADDRESS(ROW()-2,COLUMN()))=\"\"),\"\",SUMPRODUCT((INDIRECT(\"テストデータ!$B$4:$B$503\")=$I$2)*(OFFSET(テストデータ!EQ$3,1,0):OFFSET(テストデータ!EQ$3,500,0)>M$30))+1)","v":""},{"$f":"IF(OR(INDIRECT(ADDRESS(ROW()-2,COLUMN()))=\"欠\",INDIRECT(ADDRESS(ROW()-2,COLUMN()))=\"\"),\"\",SUMPRODUCT((INDIRECT(\"テストデータ!$B$4:$B$503\")=$I$2)*(OFFSET(テストデータ!ER$3,1,0):OFFSET(テストデータ!ER$3,500,0)>N$30))+1)","v":""}]
[null,"校内順位",{"$f":"IF(OR(INDIRECT(ADDRESS(ROW()-3,COLUMN()))=\"欠\",INDIRECT(ADDRESS(ROW()-3,COLUMN()))=\"\"),\"\",RANK(INDIRECT(ADDRESS(ROW()-3,COLUMN())),OFFSET(テストデータ!EG$3,1,0):OFFSET(テストデータ!EG$3,501,0)))","v":19},{"$f":"IF(OR(INDIRECT(ADDRESS(ROW()-3,COLUMN()))=\"欠\",INDIRECT(ADDRESS(ROW()-3,COLUMN()))=\"\"),\"\",RANK(INDIRECT(ADDRESS(ROW()-3,COLUMN())),OFFSET(テストデータ!EH$3,1,0):OFFSET(テストデータ!EH$3,501,0)))","v":7},{"$f":"IF(OR(INDIRECT(ADDRESS(ROW()-3,COLUMN()))=\"欠\",INDIRECT(ADDRESS(ROW()-3,COLUMN()))=\"\"),\"\",RANK(INDIRECT(ADDRESS(ROW()-3,COLUMN())),OFFSET(テストデータ!EI$3,1,0):OFFSET(テストデータ!EI$3,501,0)))","v":14},{"$f":"IF(OR(INDIRECT(ADDRESS(ROW()-3,COLUMN()))=\"欠\",INDIRECT(ADDRESS(ROW()-3,COLUMN()))=\"\"),\"\",RANK(INDIRECT(ADDRESS(ROW()-3,COLUMN())),OFFSET(テストデータ!EJ$3,1,0):OFFSET(テストデータ!EJ$3,501,0)))","v":13},{"$f":"IF(OR(INDIRECT(ADDRESS(ROW()-3,COLUMN()))=\"欠\",INDIRECT(ADDRESS(ROW()-3,COLUMN()))=\"\"),\"\",RANK(INDIRECT(ADDRESS(ROW()-3,COLUMN())),OFFSET(テストデータ!EK$3,1,0):OFFSET(テストデータ!EK$3,501,0)))","v":11},{"$f":"IF(OR(INDIRECT(ADDRESS(ROW()-3,COLUMN()))=\"欠\",INDIRECT(ADDRESS(ROW()-3,COLUMN()))=\"\"),\"\",RANK(INDIRECT(ADDRESS(ROW()-3,COLUMN())),OFFSET(テストデータ!EL$3,1,0):OFFSET(テストデータ!EL$3,501,0)))","v":4},{"$f":"IF(OR(INDIRECT(ADDRESS(ROW()-3,COLUMN()))=\"欠\",INDIRECT(ADDRESS(ROW()-3,COLUMN()))=\"\"),\"\",RANK(INDIRECT(ADDRESS(ROW()-3,COLUMN())),OFFSET(テストデータ!EM$3,1,0):OFFSET(テストデータ!EM$3,501,0)))","v":5},{"$f":"IF(OR(INDIRECT(ADDRESS(ROW()-3,COLUMN()))=\"欠\",INDIRECT(ADDRESS(ROW()-3,COLUMN()))=\"\"),\"\",RANK(INDIRECT(ADDRESS(ROW()-3,COLUMN())),OFFSET(テストデータ!EN$3,1,0):OFFSET(テストデータ!EN$3,501,0)))","v":20},{"$f":"IF(OR(INDIRECT(ADDRESS(ROW()-3,COLUMN()))=\"欠\",INDIRECT(ADDRESS(ROW()-3,COLUMN()))=\"\"),\"\",RANK(INDIRECT(ADDRESS(ROW()-3,COLUMN())),OFFSET(テストデータ!EO$3,1,0):OFFSET(テストデータ!EO$3,501,0)))","v":13},{"$f":"IF(OR(INDIRECT(ADDRESS(ROW()-3,COLUMN()))=\"欠\",INDIRECT(ADDRESS(ROW()-3,COLUMN()))=\"\"),\"\",RANK(INDIRECT(ADDRESS(ROW()-3,COLUMN())),OFFSET(テストデータ!EP$3,1,0):OFFSET(テストデータ!EP$3,501,0)))","v":5},{"$f":"IF(OR(INDIRECT(ADDRESS(ROW()-3,COLUMN()))=\"欠\",INDIRECT(ADDRESS(ROW()-3,COLUMN()))=\"\"),\"\",RANK(INDIRECT(ADDRESS(ROW()-3,COLUMN())),OFFSET(テストデータ!EQ$3,1,0):OFFSET(テストデータ!EQ$3,501,0)))","v":""},{"$f":"IF(OR(INDIRECT(ADDRESS(ROW()-3,COLUMN()))=\"欠\",INDIRECT(ADDRESS(ROW()-3,COLUMN()))=\"\"),\"\",RANK(INDIRECT(ADDRESS(ROW()-3,COLUMN())),OFFSET(テストデータ!ER$3,1,0):OFFSET(テストデータ!ER$3,501,0)))","v":""}]
[null,{"$f":"IF(初期設定!$C23=\"\",\"\",初期設定!$C23)","v":"世B"},"1回","2回","3回","4回","5回","6回","7回","8回","9回","10回","11回","12回"]
[null,"実施日",{"$f":"IF(テストデータ!ES$2=\"\",\"\",テストデータ!ES$2)","v":"3/2"},{"$f":"IF(テストデータ!ET$2=\"\",\"\",テストデータ!ET$2)","v":"4/3"},{"$f":"IF(テストデータ!EU$2=\"\",\"\",テストデータ!EU$2)","v":"5/4"},{"$f":"IF(テストデータ!EV$2=\"\",\"\",テストデータ!EV$2)","v":"6/5"},{"$f":"IF(テストデータ!EW$2=\"\",\"\",テストデータ!EW$2)","v":"7/6"},{"$f":"IF(テストデータ!EX$2=\"\",\"\",テストデータ!EX$2)","v":"8/7"},{"$f":"IF(テストデータ!EY$2=\"\",\"\",テストデータ!EY$2)","v":"9/8"},{"$f":"IF(テストデータ!EZ$2=\"\",\"\",テストデータ!EZ$2)","v":"10/9"},{"$f":"IF(テストデータ!FA$2=\"\",\"\",テストデータ!FA$2)","v":"11/10"},{"$f":"IF(テストデータ!FB$2=\"\",\"\",テストデータ!FB$2)","v":"12/11"},{"$f":"IF(テストデータ!FC$2=\"\",\"\",テストデータ!FC$2)","v":""},{"$f":"IF(テストデータ!FD$2=\"\",\"\",テストデータ!FD$2)","v":""}]
[null,"得点",{"$f":"IF(VLOOKUP($H$2,テストデータ!$A$4:$HX$503,12*5+89,FALSE)=\"\",IF(INDIRECT(ADDRESS(ROW()-1,COLUMN()))=\"\",\"\",\"欠\"),VLOOKUP($H$2,テストデータ!$A$4:$HX$503,12*5+89,FALSE))","v":11},{"$f":"IF(VLOOKUP($H$2,テストデータ!$A$4:$HX$503,12*5+90,FALSE)=\"\",IF(INDIRECT(ADDRESS(ROW()-1,COLUMN()))=\"\",\"\",\"欠\"),VLOOKUP($H$2,テストデータ!$A$4:$HX$503,12*5+90,FALSE))","v":24},{"$f":"IF(VLOOKUP($H$2,テストデータ!$A$4:$HX$503,12*5+91,FALSE)=\"\",IF(INDIRECT(ADDRESS(ROW()-1,COLUMN()))=\"\",\"\",\"欠\"),VLOOKUP($H$2,テストデータ!$A$4:$HX$503,12*5+91,FALSE))","v":94},{"$f":"IF(VLOOKUP($H$2,テストデータ!$A$4:$HX$503,12*5+92,FALSE)=\"\",IF(INDIRECT(ADDRESS(ROW()-1,COLUMN()))=\"\",\"\",\"欠\"),VLOOKUP($H$2,テストデータ!$A$4:$HX$503,12*5+92,FALSE))","v":22},{"$f":"IF(VLOOKUP($H$2,テストデータ!$A$4:$HX$503,12*5+93,FALSE)=\"\",IF(INDIRECT(ADDRESS(ROW()-1,COLUMN()))=\"\",\"\",\"欠\"),VLOOKUP($H$2,テストデータ!$A$4:$HX$503,12*5+93,FALSE))","v":25},{"$f":"IF(VLOOKUP($H$2,テストデータ!$A$4:$HX$503,12*5+94,FALSE)=\"\",IF(INDIRECT(ADDRESS(ROW()-1,COLUMN()))=\"\",\"\",\"欠\"),VLOOKUP($H$2,テストデータ!$A$4:$HX$503,12*5+94,FALSE))","v":51},{"$f":"IF(VLOOKUP($H$2,テストデータ!$A$4:$HX$503,12*5+95,FALSE)=\"\",IF(INDIRECT(ADDRESS(ROW()-1,COLUMN()))=\"\",\"\",\"欠\"),VLOOKUP($H$2,テストデータ!$A$4:$HX$503,12*5+95,FALSE))","v":55},{"$f":"IF(VLOOKUP($H$2,テストデータ!$A$4:$HX$503,12*5+96,FALSE)=\"\",IF(INDIRECT(ADDRESS(ROW()-1,COLUMN()))=\"\",\"\",\"欠\"),VLOOKUP($H$2,テストデータ!$A$4:$HX$503,12*5+96,FALSE))","v":69},{"$f":"IF(VLOOKUP($H$2,テストデータ!$A$4:$HX$503,12*5+97,FALSE)=\"\",IF(INDIRECT(ADDRESS(ROW()-1,COLUMN()))=\"\",\"\",\"欠\"),VLOOKUP($H$2,テストデータ!$A$4:$HX$503,12*5+97,FALSE))","v":76},{"$f":"IF(VLOOKUP($H$2,テストデータ!$A$4:$HX$503,12*5+98,FALSE)=\"\",IF(INDIRECT(ADDRESS(ROW()-1,COLUMN()))=\"\",\"\",\"欠\"),VLOOKUP($H$2,テストデータ!$A$4:$HX$503,12*5+98,FALSE))","v":35},{"$f":"IF(VLOOKUP($H$2,テストデータ!$A$4:$HX$503,12*5+99,FALSE)=\"\",IF(INDIRECT(ADDRESS(ROW()-1,COLUMN()))=\"\",\"\",\"欠\"),VLOOKUP($H$2,テストデータ!$A$4:$HX$503,12*5+99,FALSE))","v":""},{"$f":"IF(VLOOKUP($H$2,テストデータ!$A$4:$HX$503,12*5+100,FALSE)=\"\",IF(INDIRECT(ADDRESS(ROW()-1,COLUMN()))=\"\",\"\",\"欠\"),VLOOKUP($H$2,テストデータ!$A$4:$HX$503,12*5+100,FALSE))","v":""}]
[null,"平均点",{"$f":"IF(COUNT(OFFSET(テストデータ!$CK$3,1,12*5+0):OFFSET(テストデータ!$CK$3,500,12*5+0))=0,NA(),AVERAGE(OFFSET(テストデータ!$CK$3,1,12*5+0):OFFSET(テストデータ!$CK$3,500,12*5+0)))","v":55.722222222222221},{"$f":"IF(COUNT(OFFSET(テストデータ!$CK$3,1,12*5+1):OFFSET(テストデータ!$CK$3,500,12*5+1))=0,NA(),AVERAGE(OFFSET(テストデータ!$CK$3,1,12*5+1):OFFSET(テストデータ!$CK$3,500,12*5+1)))","v":48.35},{"$f":"IF(COUNT(OFFSET(テストデータ!$CK$3,1,12*5+2):OFFSET(テストデータ!$CK$3,500,12*5+2))=0,NA(),AVERAGE(OFFSET(テストデータ!$CK$3,1,12*5+2):OFFSET(テストデータ!$CK$3,500,12*5+2)))","v":47},{"$f":"IF(COUNT(OFFSET(テストデータ!$CK$3,1,12*5+3):OFFSET(テストデータ!$CK$3,500,12*5+3))=0,NA(),AVERAGE(OFFSET(テストデータ!$CK$3,1,12*5+3):OFFSET(テストデータ!$CK$3,500,12*5+3)))","v":46.7},{"$f":"IF(COUNT(OFFSET(テストデータ!$CK$3,1,12*5+4):OFFSET(テストデータ!$CK$3,500,12*5+4))=0,NA(),AVERAGE(OFFSET(テストデータ!$CK$3,1,12*5+4):OFFSET(テストデータ!$CK$3,500,12*5+4)))","v":52.55},{"$f":"IF(COUNT(OFFSET(テストデータ!$CK$3,1,12*5+5):OFFSET(テストデータ!$CK$3,500,12*5+5))=0,NA(),AVERAGE(OFFSET(テストデータ!$CK$3,1,12*5+5):OFFSET(テストデータ!$CK$3,500,12*5+5)))","v":52},{"$f":"IF(COUNT(OFFSET(テストデータ!$CK$3,1,12*5+6):OFFSET(テストデータ!$CK$3,500,12*5+6))=0,NA(),AVERAGE(OFFSET(テストデータ!$CK$3,1,12*5+6):OFFSET(テストデータ!$CK$3,500,12*5+6)))","v":56.25},{"$f":"IF(COUNT(OFFSET(テストデータ!$CK$3,1,12*5+7):OFFSET(テストデータ!$CK$3,500,12*5+7))=0,NA(),AVERAGE(OFFSET(テストデータ!$CK$3,1,12*5+7):OFFSET(テストデータ!$CK$3,500,12*5+7)))","v":61.736842105263158},{"$f":"IF(COUNT(OFFSET(テストデータ!$CK$3,1,12*5+8):OFFSET(テストデータ!$CK$3,500,12*5+8))=0,NA(),AVERAGE(OFFSET(テストデータ!$CK$3,1,12*5+8):OFFSET(テストデータ!$CK$3,500,12*5+8)))","v":60.2},{"$f":"IF(COUNT(OFFSET(テストデータ!$CK$3,1,12*5+9):OFFSET(テストデータ!$CK$3,500,12*5+9))=0,NA(),AVERAGE(OFFSET(テストデータ!$CK$3,1,12*5+9):OFFSET(テストデータ!$CK$3,500,12*5+9)))","v":53.05263157894737},{"$f":"IF(COUNT(OFFSET(テストデータ!$CK$3,1,12*5+10):OFFSET(テストデータ!$CK$3,500,12*5+10))=0,NA(),AVERAGE(OFFSET(テストデータ!$CK$3,1,12*5+10):OFFSET(テストデータ!$CK$3,500,12*5+10)))","v":{"$error":"#N/A"}},{"$f":"IF(COUNT(OFFSET(テストデータ!$CK$3,1,12*5+11):OFFSET(テストデータ!$CK$3,500,12*5+11))=0,NA(),AVERAGE(OFFSET(テストデータ!$CK$3,1,12*5+11):OFFSET(テストデータ!$CK$3,500,12*5+11)))","v":{"$error":"#N/A"}}]
[null,"クラス順位",{"$f":"IF(OR(INDIRECT(ADDRESS(ROW()-2,COLUMN()))=\"欠\",INDIRECT(ADDRESS(ROW()-2,COLUMN()))=\"\"),\"\",SUMPRODUCT((INDIRECT(\"テストデータ!$B$4:$B$503\")=$I$2)*(OFFSET(テストデータ!ES$3,1,0):OFFSET(テストデータ!ES$3,500,0)>C$36))+1)","v":5},{"$f":"IF(OR(INDIRECT(ADDRESS(ROW()-2,COLUMN()))=\"欠\",INDIRECT(ADDRESS(ROW()-2,COLUMN()))=\"\"),\"\",SUMPRODUCT((INDIRECT(\"テストデータ!$B$4:$B$503\")=$I$2)*(OFFSET(テストデータ!ET$3,1,0):OFFSET(テストデータ!ET$3,500,0)>D$36))+1)","v":3},{"$f":"IF(OR(INDIRECT(ADDRESS(ROW()-2,COLUMN()))=\"欠\",INDIRECT(ADDRESS(ROW()-2,COLUMN()))=\"\"),\"\",SUMPRODUCT((INDIRECT(\"テストデータ!$B$4:$B$503\")=$I$2)*(OFFSET(テストデータ!EU$3,1,0):OFFSET(テストデータ!EU$3,500,0)>E$36))+1)","v":2},{"$f":"IF(OR(INDIRECT(ADDRESS(ROW()-2,COLUMN()))=\"欠\",INDIRECT(ADDRESS(ROW()-2,COLUMN()))=\"\"),\"\",SUMPRODUCT((INDIRECT(\"テストデータ!$B$4:$B$503\")=$I$2)*(OFFSET(テストデータ!EV$3,1,0):OFFSET(テストデータ!EV$3,500,0)>F$36))+1)","v":6},{"$f":"IF(OR(INDIRECT(ADDRESS(ROW()-2,COLUMN()))=\"欠\",INDIRECT(ADDRESS(ROW()-2,COLUMN()))=\"\"),\"\",SUMPRODUCT((INDIRECT(\"テストデータ!$B$4:$B$503\")=$I$2)*(OFFSET(テストデータ!EW$3,1,0):OFFSET(テストデータ!EW$3,500,0)>G$36))+1)","v":4},{"$f":"IF(OR(INDIRECT(ADDRESS(ROW()-2,COLUMN()))=\"欠\",INDIRECT(ADDRESS(ROW()-2,COLUMN()))=\"\"),\"\",SUMPRODUCT((INDIRECT(\"テストデータ!$B$4:$B$503\")=$I$2)*(OFFSET(テストデータ!EX$3,1,0):OFFSET(テストデータ!EX$3,500,0)>H$36))+1)","v":4},{"$f":"IF(OR(INDIRECT(ADDRESS(ROW()-2,COLUMN()))=\"欠\",INDIRECT(ADDRESS(ROW()-2,COLUMN()))=\"\"),\"\",SUMPRODUCT((INDIRECT(\"テストデータ!$B$4:$B$503\")=$I$2)*(OFFSET(テストデータ!EY$3,1,0):OFFSET(テストデータ!EY$3,500,0)>I$36))+1)","v":3},{"$f":"IF(OR(INDIRECT(ADDRESS(ROW()-2,COLUMN()))=\"欠\",INDIRECT(ADDRESS(ROW()-2,COLUMN()))=\"\"),\"\",SUMPRODUCT((INDIRECT(\"テストデータ!$B$4:$B$503\")=$I$2)*(OFFSET(テストデータ!EZ$3,1,0):OFFSET(テストデータ!EZ$3,500,0)>J$36))+1)","v":3},{"$f":"IF(OR(INDIRECT(ADDRESS(ROW()-2,COLUMN()))=\"欠\",INDIRECT(ADDRESS(ROW()-2,COLUMN()))=\"\"),\"\",SUMPRODUCT((INDIRECT(\"テストデータ!$B$4:$B$503\")=$I$2)*(OFFSET(テストデータ!FA$3,1,0):OFFSET(テストデータ!FA$3,500,0)>K$36))+1)","v":4},{"$f":"IF(OR(INDIRECT(ADDRESS(ROW()-2,COLUMN()))=\"欠\",INDIRECT(ADDRESS(ROW()-2,COLUMN()))=\"\"),\"\",SUMPRODUCT((INDIRECT(\"テストデータ!$B$4:$B$503\")=$I$2)*(OFFSET(テストデータ!FB$3,1,0):OFFSET(テストデータ!FB$3,500,0)>L$36))+1)","v":5},{"$f":"IF(OR(INDIRECT(ADDRESS(ROW()-2,COLUMN()))=\"欠\",INDIRECT(ADDRESS(ROW()-2,COLUMN()))=\"\"),\"\",SUMPRODUCT((INDIRECT(\"テストデータ!$B$4:$B$503\")=$I$2)*(OFFSET(テストデータ!FC$3,1,0):OFFSET(テストデータ!FC$3,500,0)>M$36))+1)","v":""},{"$f":"IF(OR(INDIRECT(ADDRESS(ROW()-2,COLUMN()))=\"欠\",INDIRECT(ADDRESS(ROW()-2,COLUMN()))=\"\"),\"\",SUMPRODUCT((INDIRECT(\"テストデータ!$B$4:$B$503\")=$I$2)*(OFFSET(テストデータ!FD$3,1,0):OFFSET(テストデータ!FD$3,500,0)>N$36))+1)","v":""}]
[null,"校内順位",{"$f":"IF(OR(INDIRECT(ADDRESS(ROW()-3,COLUMN()))=\"欠\",INDIRECT(ADDRESS(ROW()-3,COLUMN()))=\"\"),\"\",RANK(INDIRECT(ADDRESS(ROW()-3,COLUMN())),OFFSET(テストデータ!ES$3,1,0):OFFSET(テストデータ!ES$3,501,0)))","v":18},{"$f":"IF(OR(INDIRECT(ADDRESS(ROW()-3,COLUMN()))=\"欠\",INDIRECT(ADDRESS(ROW()-3,COLUMN()))=\"\"),\"\",RANK(INDIRECT(ADDRESS(ROW()-3,COLUMN())),OFFSET(テストデータ!ET$3,1,0):OFFSET(テストデータ!ET$3,501,0)))","v":14},{"$f":"IF(OR(INDIRECT(ADDRESS(ROW()-3,COLUMN()))=\"欠\",INDIRECT(ADDRESS(ROW()-3,COLUMN()))=\"\"),\"\",RANK(INDIRECT(ADDRESS(ROW()-3,COLUMN())),OFFSET(テストデータ!EU$3,1,0):OFFSET(テストデータ!EU$3,501,0)))","v":2},{"$f":"IF(OR(INDIRECT(ADDRESS(ROW()-3,COLUMN()))=\"欠\",INDIRECT(ADDRESS(ROW()-3,COLUMN()))=\"\"),\"\",RANK(INDIRECT(ADDRESS(ROW()-3,COLUMN())),OFFSET(テストデータ!EV$3,1,0):OFFSET(テストデータ!EV$3,501,0)))","v":16},{"$f":"IF(OR(INDIRECT(ADDRESS(ROW()-3,COLUMN()))=\"欠\",INDIRECT(ADDRESS(ROW()-3,COLUMN()))=\"\"),\"\",RANK(INDIRECT(ADDRESS(ROW()-3,COLUMN())),OFFSET(テストデータ!EW$3,1,0):OFFSET(テストデータ!EW$3,501,0)))","v":16},{"$f":"IF(OR(INDIRECT(ADDRESS(ROW()-3,COLUMN()))=\"欠\",INDIRECT(ADDRESS(ROW()-3,COLUMN()))=\"\"),\"\",RANK(INDIRECT(ADDRESS(ROW()-3,COLUMN())),OFFSET(テストデータ!EX$3,1,0):OFFSET(テストデータ!EX$3,501,0)))","v":10},{"$f":"IF(OR(INDIRECT(ADDRESS(ROW()-3,COLUMN()))=\"欠\",INDIRECT(ADDRESS(ROW()-3,COLUMN()))=\"\"),\"\",RANK(INDIRECT(ADDRESS(ROW()-3,COLUMN())),OFFSET(テストデータ!EY$3,1,0):OFFSET(テストデータ!EY$3,501,0)))","v":10},{"$f":"IF(OR(INDIRECT(ADDRESS(ROW()-3,COLUMN()))=\"欠\",INDIRECT(ADDRESS(ROW()-3,COLUMN()))=\"\"),\"\",RANK(INDIRECT(ADDRESS(ROW()-3,COLUMN())),OFFSET(テストデータ!EZ$3,1,0):OFFSET(テストデータ!EZ$3,501,0)))","v":10},{"$f":"IF(OR(INDIRECT(ADDRESS(ROW()-3,COLUMN()))=\"欠\",INDIRECT(ADDRESS(ROW()-3,COLUMN()))=\"\"),\"\",RANK(INDIRECT(ADDRESS(ROW()-3,COLUMN())),OFFSET(テストデータ!FA$3,1,0):OFFSET(テストデータ!FA$3,501,0)))","v":8},{"$f":"IF(OR(INDIRECT(ADDRESS(ROW()-3,COLUMN()))=\"欠\",INDIRECT(ADDRESS(ROW()-3,COLUMN()))=\"\"),\"\",RANK(INDIRECT(ADDRESS(ROW()-3,COLUMN())),OFFSET(テストデータ!FB$3,1,0):OFFSET(テストデータ!FB$3,501,0)))","v":13},{"$f":"IF(OR(INDIRECT(ADDRESS(ROW()-3,COLUMN()))=\"欠\",INDIRECT(ADDRESS(ROW()-3,COLUMN()))=\"\"),\"\",RANK(INDIRECT(ADDRESS(ROW()-3,COLUMN())),OFFSET(テストデータ!FC$3,1,0):OFFSET(テストデータ!FC$3,501,0)))","v":""},{"$f":"IF(OR(INDIRECT(ADDRESS(ROW()-3,COLUMN()))=\"欠\",INDIRECT(ADDRESS(ROW()-3,COLUMN()))=\"\"),\"\",RANK(INDIRECT(ADDRESS(ROW()-3,COLUMN())),OFFSET(テストデータ!FD$3,1,0):OFFSET(テストデータ!FD$3,501,0)))","v":""}]
[]
[null,{"$f":"IF(B1=\"\",\"\",B1)","v":"到達度テスト"},null,null,null,null,null,null,"class",null,"No.","氏名",null,null,null,null,{"$f":"初期設定!C63","v":"微風高校"}]
[null,null,null,null,null,null,{"$f":"\"ID:\"&H2","v":"ID:2"},null,{"$f":"IF(I2=\"\",\"\",I2)","v":"3-A"},null,{"$f":"IF(K2=\"\",\"\",K2)","v":"2"},{"$f":"IF(L2=\"\",\"\",L2)","v":"鈴木B男"}]
[null,null,null,null,null,null,null,null,null,null,null,null,{"$f":"IF(初期設定!$C$1=\"\",\"\",初期設定!$C$1)","v":"20xx年度"}]
[null,{"$f":"IF(初期設定!$C24=\"\",\"\",初期設定!$C24)","v":"化基"},"1回","2回","3回","4回","5回","6回","7回","8回","9回","10回","11回","12回"]
[null,"実施日"]
[null,"得点"]
[null,"平均点"]
[null,"クラス順位"]
[null,"校内順位"]
[null,{"$f":"IF(初期設定!$C25=\"\",\"\",初期設定!$C25)","v":"情報"},"1回","2回","3回","4回","5回","6回","7回","8回","9回","10回","11回","12回"]
[null,"実施日",{"$f":"IF(テストデータ!FQ$2=\"\",\"\",テストデータ!FQ$2)","v":"3/2"},{"$f":"IF(テストデータ!FR$2=\"\",\"\",テストデータ!FR$2)","v":"4/3"},{"$f":"IF(テストデータ!FS$2=\"\",\"\",テストデータ!FS$2)","v":"5/4"},{"$f":"IF(テストデータ!FT$2=\"\",\"\",テストデータ!FT$2)","v":"6/5"},{"$f":"IF(テストデータ!FU$2=\"\",\"\",テストデータ!FU$2)","v":"7/6"},{"$f":"IF(テストデータ!FV$2=\"\",\"\",テストデータ!FV$2)","v":"8/7"},{"$f":"IF(テストデータ!FW$2=\"\",\"\",テストデータ!FW$2)","v":"9/8"},{"$f":"IF(テストデータ!FX$2=\"\",\"\",テストデータ!FX$2)","v":"10/9"},{"$f":"IF(テストデータ!FY$2=\"\",\"\",テストデータ!FY$2)","v":"11/10"},{"$f":"IF(テストデータ!FZ$2=\"\",\"\",テストデータ!FZ$2)","v":"12/11"},{"$f":"IF(テストデータ!GA$2=\"\",\"\",テストデータ!GA$2)","v":""},{"$f":"IF(テストデータ!GB$2=\"\",\"\",テストデータ!GB$2)","v":""}]
[null,"得点",{"$f":"IF(VLOOKUP($H$2,テストデータ!$A$4:$HX$503,12*7+89,FALSE)=\"\",IF(INDIRECT(ADDRESS(ROW()-1,COLUMN()))=\"\",\"\",\"欠\"),VLOOKUP($H$2,テストデータ!$A$4:$HX$503,12*7+89,FALSE))","v":48},{"$f":"IF(VLOOKUP($H$2,テストデータ!$A$4:$HX$503,12*7+90,FALSE)=\"\",IF(INDIRECT(ADDRESS(ROW()-1,COLUMN()))=\"\",\"\",\"欠\"),VLOOKUP($H$2,テストデータ!$A$4:$HX$503,12*7+90,FALSE))","v":72},{"$f":"IF(VLOOKUP($H$2,テストデータ!$A$4:$HX$503,12*7+91,FALSE)=\"\",IF(INDIRECT(ADDRESS(ROW()-1,COLUMN()))=\"\",\"\",\"欠\"),VLOOKUP($H$2,テストデータ!$A$4:$HX$503,12*7+91,FALSE))","v":99},{"$f":"IF(VLOOKUP($H$2,テストデータ!$A$4:$HX$503,12*7+92,FALSE)=\"\",IF(INDIRECT(ADDRESS(ROW()-1,COLUMN()))=\"\",\"\",\"欠\"),VLOOKUP($H$2,テストデータ!$A$4:$HX$503,12*7+92,FALSE))","v":40},{"$f":"IF(VLOOKUP($H$2,テストデータ!$A$4:$HX$503,12*7+93,FALSE)=\"\",IF(INDIRECT(ADDRESS(ROW()-1,COLUMN()))=\"\",\"\",\"欠\"),VLOOKUP($H$2,テストデータ!$A$4:$HX$503,12*7+93,FALSE))","v":75},{"$f":"IF(VLOOKUP($H$2,テストデータ!$A$4:$HX$503,12*7+94,FALSE)=\"\",IF(INDIRECT(ADDRESS(ROW()-1,COLUMN()))=\"\",\"\",\"欠\"),VLOOKUP($H$2,テストデータ!$A$4:$HX$503,12*7+94,FALSE))","v":85},{"$f":"IF(VLOOKUP($H$2,テストデータ!$A$4:$HX$503,12*7+95,FALSE)=\"\",IF(INDIRECT(ADDRESS(ROW()-1,COLUMN()))=\"\",\"\",\"欠\"),VLOOKUP($H$2,テストデータ!$A$4:$HX$503,12*7+95,FALSE))","v":95},{"$f":"IF(VLOOKUP($H$2,テストデータ!$A$4:$HX$503,12*7+96,FALSE)=\"\",IF(INDIRECT(ADDRESS(ROW()-1,COLUMN()))=\"\",\"\",\"欠\"),VLOOKUP($H$2,テストデータ!$A$4:$HX$503,12*7+96,FALSE))","v":91},{"$f":"IF(VLOOKUP($H$2,テストデータ!$A$4:$HX$503,12*7+97,FALSE)=\"\",IF(INDIRECT(ADDRESS(ROW()-1,COLUMN()))=\"\",\"\",\"欠\"),VLOOKUP($H$2,テストデータ!$A$4:$HX$503,12*7+97,FALSE))","v":67},{"$f":"IF(VLOOKUP($H$2,テストデータ!$A$4:$HX$503,12*7+98,FALSE)=\"\",IF(INDIRECT(ADDRESS(ROW()-1,COLUMN()))=\"\",\"\",\"欠\"),VLOOKUP($H$2,テストデータ!$A$4:$HX$503,12*7+98,FALSE))","v":75},{"$f":"IF(VLOOKUP($H$2,テストデータ!$A$4:$HX$503,12*7+99,FALSE)=\"\",IF(INDIRECT(ADDRESS(ROW()-1,COLUMN()))=\"\",\"\",\"欠\"),VLOOKUP($H$2,テストデータ!$A$4:$HX$503,12*7+99,FALSE))","v":""},{"$f":"IF(VLOOKUP($H$2,テストデータ!$A$4:$HX$503,12*7+100,FALSE)=\"\",IF(INDIRECT(ADDRESS(ROW()-1,COLUMN()))=\"\",\"\",\"欠\"),VLOOKUP($H$2,テストデータ!$A$4:$HX$503,12*7+100,FALSE))","v":""}]
[null,"平均点",{"$f":"IF(COUNT(OFFSET(テストデータ!$CK$3,1,12*7+0):OFFSET(テストデータ!$CK$3,500,12*7+0))=0,NA(),AVERAGE(OFFSET(テストデータ!$CK$3,1,12*7+0):OFFSET(テストデータ!$CK$3,500,12*7+0)))","v":66.263157894736835},{"$f":"IF(COUNT(OFFSET(テストデータ!$CK$3,1,12*7+1):OFFSET(テストデータ!$CK$3,500,12*7+1))=0,NA(),AVERAGE(OFFSET(テストデータ!$CK$3,1,12*7+1):OFFSET(テストデータ!$CK$3,500,12*7+1)))","v":48.85},{"$f":"IF(COUNT(OFFSET(テストデータ!$CK$3,1,12*7+2):OFFSET(テストデータ!$CK$3,500,12*7+2))=0,NA(),AVERAGE(OFFSET(テストデータ!$CK$3,1,12*7+2):OFFSET(テストデータ!$CK$3,500,12*7+2)))","v":58.95},{"$f":"IF(COUNT(OFFSET(テストデータ!$CK$3,1,12*7+3):OFFSET(テストデータ!$CK$3,500,12*7+3))=0,NA(),AVERAGE(OFFSET(テストデータ!$CK$3,1,12*7+3):OFFSET(テストデータ!$CK$3,500,12*7+3)))","v":51.1},{"$f":"IF(COUNT(OFFSET(テストデータ!$CK$3,1,12*7+4):OFFSET(テストデータ!$CK$3,500,12*7+4))=0,NA(),AVERAGE(OFFSET(テストデータ!$CK$3,1,12*7+4):OFFSET(テストデータ!$CK$3,500,12*7+4)))","v":51.5},{"$f":"IF(COUNT(OFFSET(テストデータ!$CK$3,1,12*7+5):OFFSET(テストデータ!$CK$3,500,12*7+5))=0,NA(),AVERAGE(OFFSET(テストデータ!$CK$3,1,12*7+5):OFFSET(テストデータ!$CK$3,500,12*7+5)))","v":50.7},{"$f":"IF(COUNT(OFFSET(テストデータ!$CK$3,1,12*7+6):OFFSET(テストデータ!$CK$3,500,12*7+6))=0,NA(),AVERAGE(OFFSET(テストデータ!$CK$3,1,12*7+6):OFFSET(テストデータ!$CK$3,500,12*7+6)))","v":55.9},{"$f":"IF(COUNT(OFFSET(テストデータ!$CK$3,1,12*7+7):OFFSET(テストデータ!$CK$3,500,12*7+7))=0,NA(),AVERAGE(OFFSET(テストデータ!$CK$3,1,12*7+7):OFFSET(テストデータ!$CK$3,500,12*7+7)))","v":65.95},{"$f":"IF(COUNT(OFFSET(テストデータ!$CK$3,1,12*7+8):OFFSET(テストデータ!$CK$3,500,12*7+8))=0,NA(),AVERAGE(OFFSET(テストデータ!$CK$3,1,12*7+8):OFFSET(テストデータ!$CK$3,500,12*7+8)))","v":59.176470588235297},{"$f":"IF(COUNT(OFFSET(テストデータ!$CK$3,1,12*7+9):OFFSET(テストデータ!$CK$3,500,12*7+9))=0,NA(),AVERAGE(OFFSET(テストデータ!$CK$3,1,12*7+9):OFFSET(テストデータ!$CK$3,500,12*7+9)))","v":63.85},{"$f":"IF(COUNT(OFFSET(テストデータ!$CK$3,1,12*7+10):OFFSET(テストデータ!$CK$3,500,12*7+10))=0,NA(),AVERAGE(OFFSET(テストデータ!$CK$3,1,12*7+10):OFFSET(テストデータ!$CK$3,500,12*7+10)))","v":{"$error":"#N/A"}},{"$f":"IF(COUNT(OFFSET(テストデータ!$CK$3,1,12*7+11):OFFSET(テストデータ!$CK$3,500,12*7+11))=0,NA(),AVERAGE(OFFSET(テストデータ!$CK$3,1,12*7+11):OFFSET(テストデータ!$CK$3,500,12*7+11)))","v":{"$error":"#N/A"}}]
[null,"クラス順位",{"$f":"IF(OR(INDIRECT(ADDRESS(ROW()-2,COLUMN()))=\"欠\",INDIRECT(ADDRESS(ROW()-2,COLUMN()))=\"\"),\"\",SUMPRODUCT((INDIRECT(\"テストデータ!$B$4:$B$503\")=$I$2)*(OFFSET(テストデータ!FQ$3,1,0):OFFSET(テストデータ!FQ$3,500,0)>C$52))+1)","v":5},{"$f":"IF(OR(INDIRECT(ADDRESS(ROW()-2,COLUMN()))=\"欠\",INDIRECT(ADDRESS(ROW()-2,COLUMN()))=\"\"),\"\",SUMPRODUCT((INDIRECT(\"テストデータ!$B$4:$B$503\")=$I$2)*(OFFSET(テストデータ!FR$3,1,0):OFFSET(テストデータ!FR$3,500,0)>D$52))+1)","v":2},{"$f":"IF(OR(INDIRECT(ADDRESS(ROW()-2,COLUMN()))=\"欠\",INDIRECT(ADDRESS(ROW()-2,COLUMN()))=\"\"),\"\",SUMPRODUCT((INDIRECT(\"テストデータ!$B$4:$B$503\")=$I$2)*(OFFSET(テストデータ!FS$3,1,0):OFFSET(テストデータ!FS$3,500,0)>E$52))+1)","v":1},{"$f":"IF(OR(INDIRECT(ADDRESS(ROW()-2,COLUMN()))=\"欠\",INDIRECT(ADDRESS(ROW()-2,COLUMN()))=\"\"),\"\",SUMPRODUCT((INDIRECT(\"テストデータ!$B$4:$B$503\")=$I$2)*(OFFSET(テストデータ!FT$3,1,0):OFFSET(テストデータ!FT$3,500,0)>F$52))+1)","v":5},{"$f":"IF(OR(INDIRECT(ADDRESS(ROW()-2,COLUMN()))=\"欠\",INDIRECT(ADDRESS(ROW()-2,COLUMN()))=\"\"),\"\",SUMPRODUCT((INDIRECT(\"テストデータ!$B$4:$B$503\")=$I$2)*(OFFSET(テストデータ!FU$3,1,0):OFFSET(テストデータ!FU$3,500,0)>G$52))+1)","v":2},{"$f":"IF(OR(INDIRECT(ADDRESS(ROW()-2,COLUMN()))=\"欠\",INDIRECT(ADDRESS(ROW()-2,COLUMN()))=\"\"),\"\",SUMPRODUCT((INDIRECT(\"テストデータ!$B$4:$B$503\")=$I$2)*(OFFSET(テストデータ!FV$3,1,0):OFFSET(テストデータ!FV$3,500,0)>H$52))+1)","v":2},{"$f":"IF(OR(INDIRECT(ADDRESS(ROW()-2,COLUMN()))=\"欠\",INDIRECT(ADDRESS(ROW()-2,COLUMN()))=\"\"),\"\",SUMPRODUCT((INDIRECT(\"テストデータ!$B$4:$B$503\")=$I$2)*(OFFSET(テストデータ!FW$3,1,0):OFFSET(テストデータ!FW$3,500,0)>I$52))+1)","v":1},{"$f":"IF(OR(INDIRECT(ADDRESS(ROW()-2,COLUMN()))=\"欠\",INDIRECT(ADDRESS(ROW()-2,COLUMN()))=\"\"),\"\",SUMPRODUCT((INDIRECT(\"テストデータ!$B$4:$B$503\")=$I$2)*(OFFSET(テストデータ!FX$3,1,0):OFFSET(テストデータ!FX$3,500,0)>J$52))+1)","v":2},{"$f":"IF(OR(INDIRECT(ADDRESS(ROW()-2,COLUMN()))=\"欠\",INDIRECT(ADDRESS(ROW()-2,COLUMN()))=\"\"),\"\",SUMPRODUCT((INDIRECT(\"テストデータ!$B$4:$B$503\")=$I$2)*(OFFSET(テストデータ!FY$3,1,0):OFFSET(テストデータ!FY$3,500,0)>K$52))+1)","v":3},{"$f":"IF(OR(INDIRECT(ADDRESS(ROW()-2,COLUMN()))=\"欠\",INDIRECT(ADDRESS(ROW()-2,COLUMN()))=\"\"),\"\",SUMPRODUCT((INDIRECT(\"テストデータ!$B$4:$B$503\")=$I$2)*(OFFSET(テストデータ!FZ$3,1,0):OFFSET(テストデータ!FZ$3,500,0)>L$52))+1)","v":1},{"$f":"IF(OR(INDIRECT(ADDRESS(ROW()-2,COLUMN()))=\"欠\",INDIRECT(ADDRESS(ROW()-2,COLUMN()))=\"\"),\"\",SUMPRODUCT((INDIRECT(\"テストデータ!$B$4:$B$503\")=$I$2)*(OFFSET(テストデータ!GA$3,1,0):OFFSET(テストデータ!GA$3,500,0)>M$52))+1)","v":""},{"$f":"IF(OR(INDIRECT(ADDRESS(ROW()-2,COLUMN()))=\"欠\",INDIRECT(ADDRESS(ROW()-2,COLUMN()))=\"\"),\"\",SUMPRODUCT((INDIRECT(\"テストデータ!$B$4:$B$503\")=$I$2)*(OFFSET(テストデータ!GB$3,1,0):OFFSET(テストデータ!GB$3,500,0)>N$52))+1)","v":""}]
[null,"校内順位",{"$f":"IF(OR(INDIRECT(ADDRESS(ROW()-3,COLUMN()))=\"欠\",INDIRECT(ADDRESS(ROW()-3,COLUMN()))=\"\"),\"\",RANK(INDIRECT(ADDRESS(ROW()-3,COLUMN())),OFFSET(テストデータ!FQ$3,1,0):OFFSET(テストデータ!FQ$3,501,0)))","v":16},{"$f":"IF(OR(INDIRECT(ADDRESS(ROW()-3,COLUMN()))=\"欠\",INDIRECT(ADDRESS(ROW()-3,COLUMN()))=\"\"),\"\",RANK(INDIRECT(ADDRESS(ROW()-3,COLUMN())),OFFSET(テストデータ!FR$3,1,0):OFFSET(テストデータ!FR$3,501,0)))","v":3},{"$f":"IF(OR(INDIRECT(ADDRESS(ROW()-3,COLUMN()))=\"欠\",INDIRECT(ADDRESS(ROW()-3,COLUMN()))=\"\"),\"\",RANK(INDIRECT(ADDRESS(ROW()-3,COLUMN())),OFFSET(テストデータ!FS$3,1,0):OFFSET(テストデータ!FS$3,501,0)))","v":1},{"$f":"IF(OR(INDIRECT(ADDRESS(ROW()-3,COLUMN()))=\"欠\",INDIRECT(ADDRESS(ROW()-3,COLUMN()))=\"\"),\"\",RANK(INDIRECT(ADDRESS(ROW()-3,COLUMN())),OFFSET(テストデータ!FT$3,1,0):OFFSET(テストデータ!FT$3,501,0)))","v":13},{"$f":"IF(OR(INDIRECT(ADDRESS(ROW()-3,COLUMN()))=\"欠\",INDIRECT(ADDRESS(ROW()-3,COLUMN()))=\"\"),\"\",RANK(INDIRECT(ADDRESS(ROW()-3,COLUMN())),OFFSET(テストデータ!FU$3,1,0):OFFSET(テストデータ!FU$3,501,0)))","v":4},{"$f":"IF(OR(INDIRECT(ADDRESS(ROW()-3,COLUMN()))=\"欠\",INDIRECT(ADDRESS(ROW()-3,COLUMN()))=\"\"),\"\",RANK(INDIRECT(ADDRESS(ROW()-3,COLUMN())),OFFSET(テストデータ!FV$3,1,0):OFFSET(テストデータ!FV$3,501,0)))","v":3},{"$f":"IF(OR(INDIRECT(ADDRESS(ROW()-3,COLUMN()))=\"欠\",INDIRECT(ADDRESS(ROW()-3,COLUMN()))=\"\"),\"\",RANK(INDIRECT(ADDRESS(ROW()-3,COLUMN())),OFFSET(テストデータ!FW$3,1,0):OFFSET(テストデータ!FW$3,501,0)))","v":3},{"$f":"IF(OR(INDIRECT(ADDRESS(ROW()-3,COLUMN()))=\"欠\",INDIRECT(ADDRESS(ROW()-3,COLUMN()))=\"\"),\"\",RANK(INDIRECT(ADDRESS(ROW()-3,COLUMN())),OFFSET(テストデータ!FX$3,1,0):OFFSET(テストデータ!FX$3,501,0)))","v":6},{"$f":"IF(OR(INDIRECT(ADDRESS(ROW()-3,COLUMN()))=\"欠\",INDIRECT(ADDRESS(ROW()-3,COLUMN()))=\"\"),\"\",RANK(INDIRECT(ADDRESS(ROW()-3,COLUMN())),OFFSET(テストデータ!FY$3,1,0):OFFSET(テストデータ!FY$3,501,0)))","v":8},{"$f":"IF(OR(INDIRECT(ADDRESS(ROW()-3,COLUMN()))=\"欠\",INDIRECT(ADDRESS(ROW()-3,COLUMN()))=\"\"),\"\",RANK(INDIRECT(ADDRESS(ROW()-3,COLUMN())),OFFSET(テストデータ!FZ$3,1,0):OFFSET(テストデータ!FZ$3,501,0)))","v":8},{"$f":"IF(OR(INDIRECT(ADDRESS(ROW()-3,COLUMN()))=\"欠\",INDIRECT(ADDRESS(ROW()-3,COLUMN()))=\"\"),\"\",RANK(INDIRECT(ADDRESS(ROW()-3,COLUMN())),OFFSET(テストデータ!GA$3,1,0):OFFSET(テストデータ!GA$3,501,0)))","v":""},{"$f":"IF(OR(INDIRECT(ADDRESS(ROW()-3,COLUMN()))=\"欠\",INDIRECT(ADDRESS(ROW()-3,COLUMN()))=\"\"),\"\",RANK(INDIRECT(ADDRESS(ROW()-3,COLUMN())),OFFSET(テストデータ!GB$3,1,0):OFFSET(テストデータ!GB$3,501,0)))","v":""}]
[null,{"$f":"IF(初期設定!$C26=\"\",\"\",初期設定!$C26)","v":"芸術"},"1回","2回","3回","4回","5回","6回","7回","8回","9回","10回","11回","12回"]
[null,"実施日",{"$f":"IF(テストデータ!GC$2=\"\",\"\",テストデータ!GC$2)","v":"3/2"},{"$f":"IF(テストデータ!GD$2=\"\",\"\",テストデータ!GD$2)","v":"4/3"},{"$f":"IF(テストデータ!GE$2=\"\",\"\",テストデータ!GE$2)","v":"5/4"},{"$f":"IF(テストデータ!GF$2=\"\",\"\",テストデータ!GF$2)","v":"6/5"},{"$f":"IF(テストデータ!GG$2=\"\",\"\",テストデータ!GG$2)","v":"7/6"},{"$f":"IF(テストデータ!GH$2=\"\",\"\",テストデータ!GH$2)","v":"8/7"},{"$f":"IF(テストデータ!GI$2=\"\",\"\",テストデータ!GI$2)","v":"9/8"},{"$f":"IF(テストデータ!GJ$2=\"\",\"\",テストデータ!GJ$2)","v":"10/9"},{"$f":"IF(テストデータ!GK$2=\"\",\"\",テストデータ!GK$2)","v":"11/10"},{"$f":"IF(テストデータ!GL$2=\"\",\"\",テストデータ!GL$2)","v":"12/11"},{"$f":"IF(テストデータ!GM$2=\"\",\"\",テストデータ!GM$2)","v":""},{"$f":"IF(テストデータ!GN$2=\"\",\"\",テストデータ!GN$2)","v":""}]
[null,"得点",{"$f":"IF(VLOOKUP($H$2,テストデータ!$A$4:$HX$503,12*8+89,FALSE)=\"\",IF(INDIRECT(ADDRESS(ROW()-1,COLUMN()))=\"\",\"\",\"欠\"),VLOOKUP($H$2,テストデータ!$A$4:$HX$503,12*8+89,FALSE))","v":11},{"$f":"IF(VLOOKUP($H$2,テストデータ!$A$4:$HX$503,12*8+90,FALSE)=\"\",IF(INDIRECT(ADDRESS(ROW()-1,COLUMN()))=\"\",\"\",\"欠\"),VLOOKUP($H$2,テストデータ!$A$4:$HX$503,12*8+90,FALSE))","v":24},{"$f":"IF(VLOOKUP($H$2,テストデータ!$A$4:$HX$503,12*8+91,FALSE)=\"\",IF(INDIRECT(ADDRESS(ROW()-1,COLUMN()))=\"\",\"\",\"欠\"),VLOOKUP($H$2,テストデータ!$A$4:$HX$503,12*8+91,FALSE))","v":94},{"$f":"IF(VLOOKUP($H$2,テストデータ!$A$4:$HX$503,12*8+92,FALSE)=\"\",IF(INDIRECT(ADDRESS(ROW()-1,COLUMN()))=\"\",\"\",\"欠\"),VLOOKUP($H$2,テストデータ!$A$4:$HX$503,12*8+92,FALSE))","v":22},{"$f":"IF(VLOOKUP($H$2,テストデータ!$A$4:$HX$503,12*8+93,FALSE)=\"\",IF(INDIRECT(ADDRESS(ROW()-1,COLUMN()))=\"\",\"\",\"欠\"),VLOOKUP($H$2,テストデータ!$A$4:$HX$503,12*8+93,FALSE))","v":25},{"$f":"IF(VLOOKUP($H$2,テストデータ!$A$4:$HX$503,12*8+94,FALSE)=\"\",IF(INDIRECT(ADDRESS(ROW()-1,COLUMN()))=\"\",\"\",\"欠\"),VLOOKUP($H$2,テストデータ!$A$4:$HX$503,12*8+94,FALSE))","v":51},{"$f":"IF(VLOOKUP($H$2,テストデータ!$A$4:$HX$503,12*8+95,FALSE)=\"\",IF(INDIRECT(ADDRESS(ROW()-1,COLUMN()))=\"\",\"\",\"欠\"),VLOOKUP($H$2,テストデータ!$A$4:$HX$503,12*8+95,FALSE))","v":55},{"$f":"IF(VLOOKUP($H$2,テストデータ!$A$4:$HX$503,12*8+96,FALSE)=\"\",IF(INDIRECT(ADDRESS(ROW()-1,COLUMN()))=\"\",\"\",\"欠\"),VLOOKUP($H$2,テストデータ!$A$4:$HX$503,12*8+96,FALSE))","v":69},{"$f":"IF(VLOOKUP($H$2,テストデータ!$A$4:$HX$503,12*8+97,FALSE)=\"\",IF(INDIRECT(ADDRESS(ROW()-1,COLUMN()))=\"\",\"\",\"欠\"),VLOOKUP($H$2,テストデータ!$A$4:$HX$503,12*8+97,FALSE))","v":76},{"$f":"IF(VLOOKUP($H$2,テストデータ!$A$4:$HX$503,12*8+98,FALSE)=\"\",IF(INDIRECT(ADDRESS(ROW()-1,COLUMN()))=\"\",\"\",\"欠\"),VLOOKUP($H$2,テストデータ!$A$4:$HX$503,12*8+98,FALSE))","v":35},{"$f":"IF(VLOOKUP($H$2,テストデータ!$A$4:$HX$503,12*8+99,FALSE)=\"\",IF(INDIRECT(ADDRESS(ROW()-1,COLUMN()))=\"\",\"\",\"欠\"),VLOOKUP($H$2,テストデータ!$A$4:$HX$503,12*8+99,FALSE))","v":""},{"$f":"IF(VLOOKUP($H$2,テストデータ!$A$4:$HX$503,12*8+100,FALSE)=\"\",IF(INDIRECT(ADDRESS(ROW()-1,COLUMN()))=\"\",\"\",\"欠\"),VLOOKUP($H$2,テストデータ!$A$4:$HX$503,12*8+100,FALSE))","v":""}]
[null,"平均点",{"$f":"IF(COUNT(OFFSET(テストデータ!$CK$3,1,12*8+0):OFFSET(テストデータ!$CK$3,500,12*8+0))=0,NA(),AVERAGE(OFFSET(テストデータ!$CK$3,1,12*8+0):OFFSET(テストデータ!$CK$3,500,12*8+0)))","v":55.722222222222221},{"$f":"IF(COUNT(OFFSET(テストデータ!$CK$3,1,12*8+1):OFFSET(テストデータ!$CK$3,500,12*8+1))=0,NA(),AVERAGE(OFFSET(テストデータ!$CK$3,1,12*8+1):OFFSET(テストデータ!$CK$3,500,12*8+1)))","v":48.35},{"$f":"IF(COUNT(OFFSET(テストデータ!$CK$3,1,12*8+2):OFFSET(テストデータ!$CK$3,500,12*8+2))=0,NA(),AVERAGE(OFFSET(テストデータ!$CK$3,1,12*8+2):OFFSET(テストデータ!$CK$3,500,12*8+2)))","v":47},{"$f":"IF(COUNT(OFFSET(テストデータ!$CK$3,1,12*8+3):OFFSET(テストデータ!$CK$3,500,12*8+3))=0,NA(),AVERAGE(OFFSET(テストデータ!$CK$3,1,12*8+3):OFFSET(テストデータ!$CK$3,500,12*8+3)))","v":46.7},{"$f":"IF(COUNT(OFFSET(テストデータ!$CK$3,1,12*8+4):OFFSET(テストデータ!$CK$3,500,12*8+4))=0,NA(),AVERAGE(OFFSET(テストデータ!$CK$3,1,12*8+4):OFFSET(テストデータ!$CK$3,500,12*8+4)))","v":52.55},{"$f":"IF(COUNT(OFFSET(テストデータ!$CK$3,1,12*8+5):OFFSET(テストデータ!$CK$3,500,12*8+5))=0,NA(),AVERAGE(OFFSET(テストデータ!$CK$3,1,12*8+5):OFFSET(テストデータ!$CK$3,500,12*8+5)))","v":52},{"$f":"IF(COUNT(OFFSET(テストデータ!$CK$3,1,12*8+6):OFFSET(テストデータ!$CK$3,500,12*8+6))=0,NA(),AVERAGE(OFFSET(テストデータ!$CK$3,1,12*8+6):OFFSET(テストデータ!$CK$3,500,12*8+6)))","v":56.25},{"$f":"IF(COUNT(OFFSET(テストデータ!$CK$3,1,12*8+7):OFFSET(テストデータ!$CK$3,500,12*8+7))=0,NA(),AVERAGE(OFFSET(テストデータ!$CK$3,1,12*8+7):OFFSET(テストデータ!$CK$3,500,12*8+7)))","v":61.736842105263158},{"$f":"IF(COUNT(OFFSET(テストデータ!$CK$3,1,12*8+8):OFFSET(テストデータ!$CK$3,500,12*8+8))=0,NA(),AVERAGE(OFFSET(テストデータ!$CK$3,1,12*8+8):OFFSET(テストデータ!$CK$3,500,12*8+8)))","v":60.2},{"$f":"IF(COUNT(OFFSET(テストデータ!$CK$3,1,12*8+9):OFFSET(テストデータ!$CK$3,500,12*8+9))=0,NA(),AVERAGE(OFFSET(テストデータ!$CK$3,1,12*8+9):OFFSET(テストデータ!$CK$3,500,12*8+9)))","v":52.736842105263158},{"$f":"IF(COUNT(OFFSET(テストデータ!$CK$3,1,12*8+10):OFFSET(テストデータ!$CK$3,500,12*8+10))=0,NA(),AVERAGE(OFFSET(テストデータ!$CK$3,1,12*8+10):OFFSET(テストデータ!$CK$3,500,12*8+10)))","v":{"$error":"#N/A"}},{"$f":"IF(COUNT(OFFSET(テストデータ!$CK$3,1,12*8+11):OFFSET(テストデータ!$CK$3,500,12*8+11))=0,NA(),AVERAGE(OFFSET(テストデータ!$CK$3,1,12*8+11):OFFSET(テストデータ!$CK$3,500,12*8+11)))","v":{"$error":"#N/A"}}]
[null,"クラス順位",{"$f":"IF(OR(INDIRECT(ADDRESS(ROW()-2,COLUMN()))=\"欠\",INDIRECT(ADDRESS(ROW()-2,COLUMN()))=\"\"),\"\",SUMPRODUCT((INDIRECT(\"テストデータ!$B$4:$B$503\")=$I$2)*(OFFSET(テストデータ!GC$3,1,0):OFFSET(テストデータ!GC$3,500,0)>C$58))+1)","v":5},{"$f":"IF(OR(INDIRECT(ADDRESS(ROW()-2,COLUMN()))=\"欠\",INDIRECT(ADDRESS(ROW()-2,COLUMN()))=\"\"),\"\",SUMPRODUCT((INDIRECT(\"テストデータ!$B$4:$B$503\")=$I$2)*(OFFSET(テストデータ!GD$3,1,0):OFFSET(テストデータ!GD$3,500,0)>D$58))+1)","v":3},{"$f":"IF(OR(INDIRECT(ADDRESS(ROW()-2,COLUMN()))=\"欠\",INDIRECT(ADDRESS(ROW()-2,COLUMN()))=\"\"),\"\",SUMPRODUCT((INDIRECT(\"テストデータ!$B$4:$B$503\")=$I$2)*(OFFSET(テストデータ!GE$3,1,0):OFFSET(テストデータ!GE$3,500,0)>E$58))+1)","v":2},{"$f":"IF(OR(INDIRECT(ADDRESS(ROW()-2,COLUMN()))=\"欠\",INDIRECT(ADDRESS(ROW()-2,COLUMN()))=\"\"),\"\",SUMPRODUCT((INDIRECT(\"テストデータ!$B$4:$B$503\")=$I$2)*(OFFSET(テストデータ!GF$3,1,0):OFFSET(テストデータ!GF$3,500,0)>F$58))+1)","v":6},{"$f":"IF(OR(INDIRECT(ADDRESS(ROW()-2,COLUMN()))=\"欠\",INDIRECT(ADDRESS(ROW()-2,COLUMN()))=\"\"),\"\",SUMPRODUCT((INDIRECT(\"テストデータ!$B$4:$B$503\")=$I$2)*(OFFSET(テストデータ!GG$3,1,0):OFFSET(テストデータ!GG$3,500,0)>G$58))+1)","v":4},{"$f":"IF(OR(INDIRECT(ADDRESS(ROW()-2,COLUMN()))=\"欠\",INDIRECT(ADDRESS(ROW()-2,COLUMN()))=\"\"),\"\",SUMPRODUCT((INDIRECT(\"テストデータ!$B$4:$B$503\")=$I$2)*(OFFSET(テストデータ!GH$3,1,0):OFFSET(テストデータ!GH$3,500,0)>H$58))+1)","v":4},{"$f":"IF(OR(INDIRECT(ADDRESS(ROW()-2,COLUMN()))=\"欠\",INDIRECT(ADDRESS(ROW()-2,COLUMN()))=\"\"),\"\",SUMPRODUCT((INDIRECT(\"テストデータ!$B$4:$B$503\")=$I$2)*(OFFSET(テストデータ!GI$3,1,0):OFFSET(テストデータ!GI$3,500,0)>I$58))+1)","v":3},{"$f":"IF(OR(INDIRECT(ADDRESS(ROW()-2,COLUMN()))=\"欠\",INDIRECT(ADDRESS(ROW()-2,COLUMN()))=\"\"),\"\",SUMPRODUCT((INDIRECT(\"テストデータ!$B$4:$B$503\")=$I$2)*(OFFSET(テストデータ!GJ$3,1,0):OFFSET(テストデータ!GJ$3,500,0)>J$58))+1)","v":3},{"$f":"IF(OR(INDIRECT(ADDRESS(ROW()-2,COLUMN()))=\"欠\",INDIRECT(ADDRESS(ROW()-2,COLUMN()))=\"\"),\"\",SUMPRODUCT((INDIRECT(\"テストデータ!$B$4:$B$503\")=$I$2)*(OFFSET(テストデータ!GK$3,1,0):OFFSET(テストデータ!GK$3,500,0)>K$58))+1)","v":4},{"$f":"IF(OR(INDIRECT(ADDRESS(ROW()-2,COLUMN()))=\"欠\",INDIRECT(ADDRESS(ROW()-2,COLUMN()))=\"\"),\"\",SUMPRODUCT((INDIRECT(\"テストデータ!$B$4:$B$503\")=$I$2)*(OFFSET(テストデータ!GL$3,1,0):OFFSET(テストデータ!GL$3,500,0)>L$58))+1)","v":5},{"$f":"IF(OR(INDIRECT(ADDRESS(ROW()-2,COLUMN()))=\"欠\",INDIRECT(ADDRESS(ROW()-2,COLUMN()))=\"\"),\"\",SUMPRODUCT((INDIRECT(\"テストデータ!$B$4:$B$503\")=$I$2)*(OFFSET(テストデータ!GM$3,1,0):OFFSET(テストデータ!GM$3,500,0)>M$58))+1)","v":""},{"$f":"IF(OR(INDIRECT(ADDRESS(ROW()-2,COLUMN()))=\"欠\",INDIRECT(ADDRESS(ROW()-2,COLUMN()))=\"\"),\"\",SUMPRODUCT((INDIRECT(\"テストデータ!$B$4:$B$503\")=$I$2)*(OFFSET(テストデータ!GN$3,1,0):OFFSET(テストデータ!GN$3,500,0)>N$58))+1)","v":""}]
[null,"校内順位",{"$f":"IF(OR(INDIRECT(ADDRESS(ROW()-3,COLUMN()))=\"欠\",INDIRECT(ADDRESS(ROW()-3,COLUMN()))=\"\"),\"\",RANK(INDIRECT(ADDRESS(ROW()-3,COLUMN())),OFFSET(テストデータ!GC$3,1,0):OFFSET(テストデータ!GC$3,501,0)))","v":18},{"$f":"IF(OR(INDIRECT(ADDRESS(ROW()-3,COLUMN()))=\"欠\",INDIRECT(ADDRESS(ROW()-3,COLUMN()))=\"\"),\"\",RANK(INDIRECT(ADDRESS(ROW()-3,COLUMN())),OFFSET(テストデータ!GD$3,1,0):OFFSET(テストデータ!GD$3,501,0)))","v":14},{"$f":"IF(OR(INDIRECT(ADDRESS(ROW()-3,COLUMN()))=\"欠\",INDIRECT(ADDRESS(ROW()-3,COLUMN()))=\"\"),\"\",RANK(INDIRECT(ADDRESS(ROW()-3,COLUMN())),OFFSET(テストデータ!GE$3,1,0):OFFSET(テストデータ!GE$3,501,0)))","v":2},{"$f":"IF(OR(INDIRECT(ADDRESS(ROW()-3,COLUMN()))=\"欠\",INDIRECT(ADDRESS(ROW()-3,COLUMN()))=\"\"),\"\",RANK(INDIRECT(ADDRESS(ROW()-3,COLUMN())),OFFSET(テストデータ!GF$3,1,0):OFFSET(テストデータ!GF$3,501,0)))","v":16},{"$f":"IF(OR(INDIRECT(ADDRESS(ROW()-3,COLUMN()))=\"欠\",INDIRECT(ADDRESS(ROW()-3,COLUMN()))=\"\"),\"\",RANK(INDIRECT(ADDRESS(ROW()-3,COLUMN())),OFFSET(テストデータ!GG$3,1,0):OFFSET(テストデータ!GG$3,501,0)))","v":16},{"$f":"IF(OR(INDIRECT(ADDRESS(ROW()-3,COLUMN()))=\"欠\",INDIRECT(ADDRESS(ROW()-3,COLUMN()))=\"\"),\"\",RANK(INDIRECT(ADDRESS(ROW()-3,COLUMN())),OFFSET(テストデータ!GH$3,1,0):OFFSET(テストデータ!GH$3,501,0)))","v":10},{"$f":"IF(OR(INDIRECT(ADDRESS(ROW()-3,COLUMN()))=\"欠\",INDIRECT(ADDRESS(ROW()-3,COLUMN()))=\"\"),\"\",RANK(INDIRECT(ADDRESS(ROW()-3,COLUMN())),OFFSET(テストデータ!GI$3,1,0):OFFSET(テストデータ!GI$3,501,0)))","v":10},{"$f":"IF(OR(INDIRECT(ADDRESS(ROW()-3,COLUMN()))=\"欠\",INDIRECT(ADDRESS(ROW()-3,COLUMN()))=\"\"),\"\",RANK(INDIRECT(ADDRESS(ROW()-3,COLUMN())),OFFSET(テストデータ!GJ$3,1,0):OFFSET(テストデータ!GJ$3,501,0)))","v":10},{"$f":"IF(OR(INDIRECT(ADDRESS(ROW()-3,COLUMN()))=\"欠\",INDIRECT(ADDRESS(ROW()-3,COLUMN()))=\"\"),\"\",RANK(INDIRECT(ADDRESS(ROW()-3,COLUMN())),OFFSET(テストデータ!GK$3,1,0):OFFSET(テストデータ!GK$3,501,0)))","v":8},{"$f":"IF(OR(INDIRECT(ADDRESS(ROW()-3,COLUMN()))=\"欠\",INDIRECT(ADDRESS(ROW()-3,COLUMN()))=\"\"),\"\",RANK(INDIRECT(ADDRESS(ROW()-3,COLUMN())),OFFSET(テストデータ!GL$3,1,0):OFFSET(テストデータ!GL$3,501,0)))","v":13},{"$f":"IF(OR(INDIRECT(ADDRESS(ROW()-3,COLUMN()))=\"欠\",INDIRECT(ADDRESS(ROW()-3,COLUMN()))=\"\"),\"\",RANK(INDIRECT(ADDRESS(ROW()-3,COLUMN())),OFFSET(テストデータ!GM$3,1,0):OFFSET(テストデータ!GM$3,501,0)))","v":""},{"$f":"IF(OR(INDIRECT(ADDRESS(ROW()-3,COLUMN()))=\"欠\",INDIRECT(ADDRESS(ROW()-3,COLUMN()))=\"\"),\"\",RANK(INDIRECT(ADDRESS(ROW()-3,COLUMN())),OFFSET(テストデータ!GN$3,1,0):OFFSET(テストデータ!GN$3,501,0)))","v":""}]
[null,{"$f":"IF(初期設定!$C27=\"\",\"\",初期設定!$C27)","v":"体育"},"1回","2回","3回","4回","5回","6回","7回","8回","9回","10回","11回","12回"]
[null,"実施日",{"$f":"IF(テストデータ!GO$2=\"\",\"\",テストデータ!GO$2)","v":"3/2"},{"$f":"IF(テストデータ!GP$2=\"\",\"\",テストデータ!GP$2)","v":"4/3"},{"$f":"IF(テストデータ!GQ$2=\"\",\"\",テストデータ!GQ$2)","v":"5/4"},{"$f":"IF(テストデータ!GR$2=\"\",\"\",テストデータ!GR$2)","v":"6/5"},{"$f":"IF(テストデータ!GS$2=\"\",\"\",テストデータ!GS$2)","v":"7/6"},{"$f":"IF(テストデータ!GT$2=\"\",\"\",テストデータ!GT$2)","v":"8/7"},{"$f":"IF(テストデータ!GU$2=\"\",\"\",テストデータ!GU$2)","v":"9/8"},{"$f":"IF(テストデータ!GV$2=\"\",\"\",テストデータ!GV$2)","v":"10/9"},{"$f":"IF(テストデータ!GW$2=\"\",\"\",テストデータ!GW$2)","v":"11/10"},{"$f":"IF(テストデータ!GX$2=\"\",\"\",テストデータ!GX$2)","v":"12/11"},{"$f":"IF(テストデータ!GY$2=\"\",\"\",テストデータ!GY$2)","v":""},{"$f":"IF(テストデータ!GZ$2=\"\",\"\",テストデータ!GZ$2)","v":""}]
[null,"得点",{"$f":"IF(VLOOKUP($H$2,テストデータ!$A$4:$HX$503,12*9+89,FALSE)=\"\",IF(INDIRECT(ADDRESS(ROW()-1,COLUMN()))=\"\",\"\",\"欠\"),VLOOKUP($H$2,テストデータ!$A$4:$HX$503,12*9+89,FALSE))","v":86},{"$f":"IF(VLOOKUP($H$2,テストデータ!$A$4:$HX$503,12*9+90,FALSE)=\"\",IF(INDIRECT(ADDRESS(ROW()-1,COLUMN()))=\"\",\"\",\"欠\"),VLOOKUP($H$2,テストデータ!$A$4:$HX$503,12*9+90,FALSE))","v":31},{"$f":"IF(VLOOKUP($H$2,テストデータ!$A$4:$HX$503,12*9+91,FALSE)=\"\",IF(INDIRECT(ADDRESS(ROW()-1,COLUMN()))=\"\",\"\",\"欠\"),VLOOKUP($H$2,テストデータ!$A$4:$HX$503,12*9+91,FALSE))","v":75},{"$f":"IF(VLOOKUP($H$2,テストデータ!$A$4:$HX$503,12*9+92,FALSE)=\"\",IF(INDIRECT(ADDRESS(ROW()-1,COLUMN()))=\"\",\"\",\"欠\"),VLOOKUP($H$2,テストデータ!$A$4:$HX$503,12*9+92,FALSE))","v":64},{"$f":"IF(VLOOKUP($H$2,テストデータ!$A$4:$HX$503,12*9+93,FALSE)=\"\",IF(INDIRECT(ADDRESS(ROW()-1,COLUMN()))=\"\",\"\",\"欠\"),VLOOKUP($H$2,テストデータ!$A$4:$HX$503,12*9+93,FALSE))","v":93},{"$f":"IF(VLOOKUP($H$2,テストデータ!$A$4:$HX$503,12*9+94,FALSE)=\"\",IF(INDIRECT(ADDRESS(ROW()-1,COLUMN()))=\"\",\"\",\"欠\"),VLOOKUP($H$2,テストデータ!$A$4:$HX$503,12*9+94,FALSE))","v":100},{"$f":"IF(VLOOKUP($H$2,テストデータ!$A$4:$HX$503,12*9+95,FALSE)=\"\",IF(INDIRECT(ADDRESS(ROW()-1,COLUMN()))=\"\",\"\",\"欠\"),VLOOKUP($H$2,テストデータ!$A$4:$HX$503,12*9+95,FALSE))","v":47},{"$f":"IF(VLOOKUP($H$2,テストデータ!$A$4:$HX$503,12*9+96,FALSE)=\"\",IF(INDIRECT(ADDRESS(ROW()-1,COLUMN()))=\"\",\"\",\"欠\"),VLOOKUP($H$2,テストデータ!$A$4:$HX$503,12*9+96,FALSE))","v":65},{"$f":"IF(VLOOKUP($H$2,テストデータ!$A$4:$HX$503,12*9+97,FALSE)=\"\",IF(INDIRECT(ADDRESS(ROW()-1,COLUMN()))=\"\",\"\",\"欠\"),VLOOKUP($H$2,テストデータ!$A$4:$HX$503,12*9+97,FALSE))","v":34},{"$f":"IF(VLOOKUP($H$2,テストデータ!$A$4:$HX$503,12*9+98,FALSE)=\"\",IF(INDIRECT(ADDRESS(ROW()-1,COLUMN()))=\"\",\"\",\"欠\"),VLOOKUP($H$2,テストデータ!$A$4:$HX$503,12*9+98,FALSE))","v":16},{"$f":"IF(VLOOKUP($H$2,テストデータ!$A$4:$HX$503,12*9+99,FALSE)=\"\",IF(INDIRECT(ADDRESS(ROW()-1,COLUMN()))=\"\",\"\",\"欠\"),VLOOKUP($H$2,テストデータ!$A$4:$HX$503,12*9+99,FALSE))","v":""},{"$f":"IF(VLOOKUP($H$2,テストデータ!$A$4:$HX$503,12*9+100,FALSE)=\"\",IF(INDIRECT(ADDRESS(ROW()-1,COLUMN()))=\"\",\"\",\"欠\"),VLOOKUP($H$2,テストデータ!$A$4:$HX$503,12*9+100,FALSE))","v":""}]
[null,"平均点",{"$f":"IF(COUNT(OFFSET(テストデータ!$CK$3,1,12*9+0):OFFSET(テストデータ!$CK$3,500,12*9+0))=0,NA(),AVERAGE(OFFSET(テストデータ!$CK$3,1,12*9+0):OFFSET(テストデータ!$CK$3,500,12*9+0)))","v":54.94736842105263},{"$f":"IF(COUNT(OFFSET(テストデータ!$CK$3,1,12*9+1):OFFSET(テストデータ!$CK$3,500,12*9+1))=0,NA(),AVERAGE(OFFSET(テストデータ!$CK$3,1,12*9+1):OFFSET(テストデータ!$CK$3,500,12*9+1)))","v":47.882352941176471},{"$f":"IF(COUNT(OFFSET(テストデータ!$CK$3,1,12*9+2):OFFSET(テストデータ!$CK$3,500,12*9+2))=0,NA(),AVERAGE(OFFSET(テストデータ!$CK$3,1,12*9+2):OFFSET(テストデータ!$CK$3,500,12*9+2)))","v":64.375},{"$f":"IF(COUNT(OFFSET(テストデータ!$CK$3,1,12*9+3):OFFSET(テストデータ!$CK$3,500,12*9+3))=0,NA(),AVERAGE(OFFSET(テストデータ!$CK$3,1,12*9+3):OFFSET(テストデータ!$CK$3,500,12*9+3)))","v":59.2},{"$f":"IF(COUNT(OFFSET(テストデータ!$CK$3,1,12*9+4):OFFSET(テストデータ!$CK$3,500,12*9+4))=0,NA(),AVERAGE(OFFSET(テストデータ!$CK$3,1,12*9+4):OFFSET(テストデータ!$CK$3,500,12*9+4)))","v":59.8},{"$f":"IF(COUNT(OFFSET(テストデータ!$CK$3,1,12*9+5):OFFSET(テストデータ!$CK$3,500,12*9+5))=0,NA(),AVERAGE(OFFSET(テストデータ!$CK$3,1,12*9+5):OFFSET(テストデータ!$CK$3,500,12*9+5)))","v":64.349999999999994},{"$f":"IF(COUNT(OFFSET(テストデータ!$CK$3,1,12*9+6):OFFSET(テストデータ!$CK$3,500,12*9+6))=0,NA(),AVERAGE(OFFSET(テストデータ!$CK$3,1,12*9+6):OFFSET(テストデータ!$CK$3,500,12*9+6)))","v":45.05263157894737},{"$f":"IF(COUNT(OFFSET(テストデータ!$CK$3,1,12*9+7):OFFSET(テストデータ!$CK$3,500,12*9+7))=0,NA(),AVERAGE(OFFSET(テストデータ!$CK$3,1,12*9+7):OFFSET(テストデータ!$CK$3,500,12*9+7)))","v":55.736842105263158},{"$f":"IF(COUNT(OFFSET(テストデータ!$CK$3,1,12*9+8):OFFSET(テストデータ!$CK$3,500,12*9+8))=0,NA(),AVERAGE(OFFSET(テストデータ!$CK$3,1,12*9+8):OFFSET(テストデータ!$CK$3,500,12*9+8)))","v":55.789473684210527},{"$f":"IF(COUNT(OFFSET(テストデータ!$CK$3,1,12*9+9):OFFSET(テストデータ!$CK$3,500,12*9+9))=0,NA(),AVERAGE(OFFSET(テストデータ!$CK$3,1,12*9+9):OFFSET(テストデータ!$CK$3,500,12*9+9)))","v":49.9},{"$f":"IF(COUNT(OFFSET(テストデータ!$CK$3,1,12*9+10):OFFSET(テストデータ!$CK$3,500,12*9+10))=0,NA(),AVERAGE(OFFSET(テストデータ!$CK$3,1,12*9+10):OFFSET(テストデータ!$CK$3,500,12*9+10)))","v":{"$error":"#N/A"}},{"$f":"IF(COUNT(OFFSET(テストデータ!$CK$3,1,12*9+11):OFFSET(テストデータ!$CK$3,500,12*9+11))=0,NA(),AVERAGE(OFFSET(テストデータ!$CK$3,1,12*9+11):OFFSET(テストデータ!$CK$3,500,12*9+11)))","v":{"$error":"#N/A"}}]
[null,"クラス順位",{"$f":"IF(OR(INDIRECT(ADDRESS(ROW()-2,COLUMN()))=\"欠\",INDIRECT(ADDRESS(ROW()-2,COLUMN()))=\"\"),\"\",SUMPRODUCT((INDIRECT(\"テストデータ!$B$4:$B$503\")=$I$2)*(OFFSET(テストデータ!GO$3,1,0):OFFSET(テストデータ!GO$3,500,0)>C$64))+1)","v":2},{"$f":"IF(OR(INDIRECT(ADDRESS(ROW()-2,COLUMN()))=\"欠\",INDIRECT(ADDRESS(ROW()-2,COLUMN()))=\"\"),\"\",SUMPRODUCT((INDIRECT(\"テストデータ!$B$4:$B$503\")=$I$2)*(OFFSET(テストデータ!GP$3,1,0):OFFSET(テストデータ!GP$3,500,0)>D$64))+1)","v":4},{"$f":"IF(OR(INDIRECT(ADDRESS(ROW()-2,COLUMN()))=\"欠\",INDIRECT(ADDRESS(ROW()-2,COLUMN()))=\"\"),\"\",SUMPRODUCT((INDIRECT(\"テストデータ!$B$4:$B$503\")=$I$2)*(OFFSET(テストデータ!GQ$3,1,0):OFFSET(テストデータ!GQ$3,500,0)>E$64))+1)","v":3},{"$f":"IF(OR(INDIRECT(ADDRESS(ROW()-2,COLUMN()))=\"欠\",INDIRECT(ADDRESS(ROW()-2,COLUMN()))=\"\"),\"\",SUMPRODUCT((INDIRECT(\"テストデータ!$B$4:$B$503\")=$I$2)*(OFFSET(テストデータ!GR$3,1,0):OFFSET(テストデータ!GR$3,500,0)>F$64))+1)","v":5},{"$f":"IF(OR(INDIRECT(ADDRESS(ROW()-2,COLUMN()))=\"欠\",INDIRECT(ADDRESS(ROW()-2,COLUMN()))=\"\"),\"\",SUMPRODUCT((INDIRECT(\"テストデータ!$B$4:$B$503\")=$I$2)*(OFFSET(テストデータ!GS$3,1,0):OFFSET(テストデータ!GS$3,500,0)>G$64))+1)","v":1},{"$f":"IF(OR(INDIRECT(ADDRESS(ROW()-2,COLUMN()))=\"欠\",INDIRECT(ADDRESS(ROW()-2,COLUMN()))=\"\"),\"\",SUMPRODUCT((INDIRECT(\"テストデータ!$B$4:$B$503\")=$I$2)*(OFFSET(テストデータ!GT$3,1,0):OFFSET(テストデータ!GT$3,500,0)>H$64))+1)","v":1},{"$f":"IF(OR(INDIRECT(ADDRESS(ROW()-2,COLUMN()))=\"欠\",INDIRECT(ADDRESS(ROW()-2,COLUMN()))=\"\"),\"\",SUMPRODUCT((INDIRECT(\"テストデータ!$B$4:$B$503\")=$I$2)*(OFFSET(テストデータ!GU$3,1,0):OFFSET(テストデータ!GU$3,500,0)>I$64))+1)","v":5},{"$f":"IF(OR(INDIRECT(ADDRESS(ROW()-2,COLUMN()))=\"欠\",INDIRECT(ADDRESS(ROW()-2,COLUMN()))=\"\"),\"\",SUMPRODUCT((INDIRECT(\"テストデータ!$B$4:$B$503\")=$I$2)*(OFFSET(テストデータ!GV$3,1,0):OFFSET(テストデータ!GV$3,500,0)>J$64))+1)","v":2},{"$f":"IF(OR(INDIRECT(ADDRESS(ROW()-2,COLUMN()))=\"欠\",INDIRECT(ADDRESS(ROW()-2,COLUMN()))=\"\"),\"\",SUMPRODUCT((INDIRECT(\"テストデータ!$B$4:$B$503\")=$I$2)*(OFFSET(テストデータ!GW$3,1,0):OFFSET(テストデータ!GW$3,500,0)>K$64))+1)","v":6},{"$f":"IF(OR(INDIRECT(ADDRESS(ROW()-2,COLUMN()))=\"欠\",INDIRECT(ADDRESS(ROW()-2,COLUMN()))=\"\"),\"\",SUMPRODUCT((INDIRECT(\"テストデータ!$B$4:$B$503\")=$I$2)*(OFFSET(テストデータ!GX$3,1,0):OFFSET(テストデータ!GX$3,500,0)>L$64))+1)","v":6},{"$f":"IF(OR(INDIRECT(ADDRESS(ROW()-2,COLUMN()))=\"欠\",INDIRECT(ADDRESS(ROW()-2,COLUMN()))=\"\"),\"\",SUMPRODUCT((INDIRECT(\"テストデータ!$B$4:$B$503\")=$I$2)*(OFFSET(テストデータ!GY$3,1,0):OFFSET(テストデータ!GY$3,500,0)>M$64))+1)","v":""},{"$f":"IF(OR(INDIRECT(ADDRESS(ROW()-2,COLUMN()))=\"欠\",INDIRECT(ADDRESS(ROW()-2,COLUMN()))=\"\"),\"\",SUMPRODUCT((INDIRECT(\"テストデータ!$B$4:$B$503\")=$I$2)*(OFFSET(テストデータ!GZ$3,1,0):OFFSET(テストデータ!GZ$3,500,0)>N$64))+1)","v":""}]
[null,"校内順位",{"$f":"IF(OR(INDIRECT(ADDRESS(ROW()-3,COLUMN()))=\"欠\",INDIRECT(ADDRESS(ROW()-3,COLUMN()))=\"\"),\"\",RANK(INDIRECT(ADDRESS(ROW()-3,COLUMN())),OFFSET(テストデータ!GO$3,1,0):OFFSET(テストデータ!GO$3,501,0)))","v":4},{"$f":"IF(OR(INDIRECT(ADDRESS(ROW()-3,COLUMN()))=\"欠\",INDIRECT(ADDRESS(ROW()-3,COLUMN()))=\"\"),\"\",RANK(INDIRECT(ADDRESS(ROW()-3,COLUMN())),OFFSET(テストデータ!GP$3,1,0):OFFSET(テストデータ!GP$3,501,0)))","v":12},{"$f":"IF(OR(INDIRECT(ADDRESS(ROW()-3,COLUMN()))=\"欠\",INDIRECT(ADDRESS(ROW()-3,COLUMN()))=\"\"),\"\",RANK(INDIRECT(ADDRESS(ROW()-3,COLUMN())),OFFSET(テストデータ!GQ$3,1,0):OFFSET(テストデータ!GQ$3,501,0)))","v":8},{"$f":"IF(OR(INDIRECT(ADDRESS(ROW()-3,COLUMN()))=\"欠\",INDIRECT(ADDRESS(ROW()-3,COLUMN()))=\"\"),\"\",RANK(INDIRECT(ADDRESS(ROW()-3,COLUMN())),OFFSET(テストデータ!GR$3,1,0):OFFSET(テストデータ!GR$3,501,0)))","v":12},{"$f":"IF(OR(INDIRECT(ADDRESS(ROW()-3,COLUMN()))=\"欠\",INDIRECT(ADDRESS(ROW()-3,COLUMN()))=\"\"),\"\",RANK(INDIRECT(ADDRESS(ROW()-3,COLUMN())),OFFSET(テストデータ!GS$3,1,0):OFFSET(テストデータ!GS$3,501,0)))","v":2},{"$f":"IF(OR(INDIRECT(ADDRESS(ROW()-3,COLUMN()))=\"欠\",INDIRECT(ADDRESS(ROW()-3,COLUMN()))=\"\"),\"\",RANK(INDIRECT(ADDRESS(ROW()-3,COLUMN())),OFFSET(テストデータ!GT$3,1,0):OFFSET(テストデータ!GT$3,501,0)))","v":1},{"$f":"IF(OR(INDIRECT(ADDRESS(ROW()-3,COLUMN()))=\"欠\",INDIRECT(ADDRESS(ROW()-3,COLUMN()))=\"\"),\"\",RANK(INDIRECT(ADDRESS(ROW()-3,COLUMN())),OFFSET(テストデータ!GU$3,1,0):OFFSET(テストデータ!GU$3,501,0)))","v":8},{"$f":"IF(OR(INDIRECT(ADDRESS(ROW()-3,COLUMN()))=\"欠\",INDIRECT(ADDRESS(ROW()-3,COLUMN()))=\"\"),\"\",RANK(INDIRECT(ADDRESS(ROW()-3,COLUMN())),OFFSET(テストデータ!GV$3,1,0):OFFSET(テストデータ!GV$3,501,0)))","v":7},{"$f":"IF(OR(INDIRECT(ADDRESS(ROW()-3,COLUMN()))=\"欠\",INDIRECT(ADDRESS(ROW()-3,COLUMN()))=\"\"),\"\",RANK(INDIRECT(ADDRESS(ROW()-3,COLUMN())),OFFSET(テストデータ!GW$3,1,0):OFFSET(テストデータ!GW$3,501,0)))","v":15},{"$f":"IF(OR(INDIRECT(ADDRESS(ROW()-3,COLUMN()))=\"欠\",INDIRECT(ADDRESS(ROW()-3,COLUMN()))=\"\"),\"\",RANK(INDIRECT(ADDRESS(ROW()-3,COLUMN())),OFFSET(テストデータ!GX$3,1,0):OFFSET(テストデータ!GX$3,501,0)))","v":19},{"$f":"IF(OR(INDIRECT(ADDRESS(ROW()-3,COLUMN()))=\"欠\",INDIRECT(ADDRESS(ROW()-3,COLUMN()))=\"\"),\"\",RANK(INDIRECT(ADDRESS(ROW()-3,COLUMN())),OFFSET(テストデータ!GY$3,1,0):OFFSET(テストデータ!GY$3,501,0)))","v":""},{"$f":"IF(OR(INDIRECT(ADDRESS(ROW()-3,COLUMN()))=\"欠\",INDIRECT(ADDRESS(ROW()-3,COLUMN()))=\"\"),\"\",RANK(INDIRECT(ADDRESS(ROW()-3,COLUMN())),OFFSET(テストデータ!GZ$3,1,0):OFFSET(テストデータ!GZ$3,501,0)))","v":""}]
[null,{"$f":"IF(初期設定!$C28=\"\",\"\",初期設定!$C28)","v":"保健"},"1回","2回","3回","4回","5回","6回","7回","8回","9回","10回","11回","12回"]
[null,"実施日",{"$f":"IF(テストデータ!HA$2=\"\",\"\",テストデータ!HA$2)","v":"3/2"},{"$f":"IF(テストデータ!HB$2=\"\",\"\",テストデータ!HB$2)","v":"4/3"},{"$f":"IF(テストデータ!HC$2=\"\",\"\",テストデータ!HC$2)","v":"5/4"},{"$f":"IF(テストデータ!HD$2=\"\",\"\",テストデータ!HD$2)","v":"6/5"},{"$f":"IF(テストデータ!HE$2=\"\",\"\",テストデータ!HE$2)","v":"7/6"},{"$f":"IF(テストデータ!HF$2=\"\",\"\",テストデータ!HF$2)","v":"8/7"},{"$f":"IF(テストデータ!HG$2=\"\",\"\",テストデータ!HG$2)","v":"9/8"},{"$f":"IF(テストデータ!HH$2=\"\",\"\",テストデータ!HH$2)","v":"10/9"},{"$f":"IF(テストデータ!HI$2=\"\",\"\",テストデータ!HI$2)","v":"11/10"},{"$f":"IF(テストデータ!HJ$2=\"\",\"\",テストデータ!HJ$2)","v":"12/11"},{"$f":"IF(テストデータ!HK$2=\"\",\"\",テストデータ!HK$2)","v":""},{"$f":"IF(テストデータ!HL$2=\"\",\"\",テストデータ!HL$2)","v":""}]
[null,"得点",{"$f":"IF(VLOOKUP($H$2,テストデータ!$A$4:$HX$503,12*10+89,FALSE)=\"\",IF(INDIRECT(ADDRESS(ROW()-1,COLUMN()))=\"\",\"\",\"欠\"),VLOOKUP($H$2,テストデータ!$A$4:$HX$503,12*10+89,FALSE))","v":48},{"$f":"IF(VLOOKUP($H$2,テストデータ!$A$4:$HX$503,12*10+90,FALSE)=\"\",IF(INDIRECT(ADDRESS(ROW()-1,COLUMN()))=\"\",\"\",\"欠\"),VLOOKUP($H$2,テストデータ!$A$4:$HX$503,12*10+90,FALSE))","v":72},{"$f":"IF(VLOOKUP($H$2,テストデータ!$A$4:$HX$503,12*10+91,FALSE)=\"\",IF(INDIRECT(ADDRESS(ROW()-1,COLUMN()))=\"\",\"\",\"欠\"),VLOOKUP($H$2,テストデータ!$A$4:$HX$503,12*10+91,FALSE))","v":99},{"$f":"IF(VLOOKUP($H$2,テストデータ!$A$4:$HX$503,12*10+92,FALSE)=\"\",IF(INDIRECT(ADDRESS(ROW()-1,COLUMN()))=\"\",\"\",\"欠\"),VLOOKUP($H$2,テストデータ!$A$4:$HX$503,12*10+92,FALSE))","v":40},{"$f":"IF(VLOOKUP($H$2,テストデータ!$A$4:$HX$503,12*10+93,FALSE)=\"\",IF(INDIRECT(ADDRESS(ROW()-1,COLUMN()))=\"\",\"\",\"欠\"),VLOOKUP($H$2,テストデータ!$A$4:$HX$503,12*10+93,FALSE))","v":75},{"$f":"IF(VLOOKUP($H$2,テストデータ!$A$4:$HX$503,12*10+94,FALSE)=\"\",IF(INDIRECT(ADDRESS(ROW()-1,COLUMN()))=\"\",\"\",\"欠\"),VLOOKUP($H$2,テストデータ!$A$4:$HX$503,12*10+94,FALSE))","v":85},{"$f":"IF(VLOOKUP($H$2,テストデータ!$A$4:$HX$503,12*10+95,FALSE)=\"\",IF(INDIRECT(ADDRESS(ROW()-1,COLUMN()))=\"\",\"\",\"欠\"),VLOOKUP($H$2,テストデータ!$A$4:$HX$503,12*10+95,FALSE))","v":95},{"$f":"IF(VLOOKUP($H$2,テストデータ!$A$4:$HX$503,12*10+96,FALSE)=\"\",IF(INDIRECT(ADDRESS(ROW()-1,COLUMN()))=\"\",\"\",\"欠\"),VLOOKUP($H$2,テストデータ!$A$4:$HX$503,12*10+96,FALSE))","v":91},{"$f":"IF(VLOOKUP($H$2,テストデータ!$A$4:$HX$503,12*10+97,FALSE)=\"\",IF(INDIRECT(ADDRESS(ROW()-1,COLUMN()))=\"\",\"\",\"欠\"),VLOOKUP($H$2,テストデータ!$A$4:$HX$503,12*10+97,FALSE))","v":67},{"$f":"IF(VLOOKUP($H$2,テストデータ!$A$4:$HX$503,12*10+98,FALSE)=\"\",IF(INDIRECT(ADDRESS(ROW()-1,COLUMN()))=\"\",\"\",\"欠\"),VLOOKUP($H$2,テストデータ!$A$4:$HX$503,12*10+98,FALSE))","v":75},{"$f":"IF(VLOOKUP($H$2,テストデータ!$A$4:$HX$503,12*10+99,FALSE)=\"\",IF(INDIRECT(ADDRESS(ROW()-1,COLUMN()))=\"\",\"\",\"欠\"),VLOOKUP($H$2,テストデータ!$A$4:$HX$503,12*10+99,FALSE))","v":""},{"$f":"IF(VLOOKUP($H$2,テストデータ!$A$4:$HX$503,12*10+100,FALSE)=\"\",IF(INDIRECT(ADDRESS(ROW()-1,COLUMN()))=\"\",\"\",\"欠\"),VLOOKUP($H$2,テストデータ!$A$4:$HX$503,12*10+100,FALSE))","v":""}]
[null,"平均点",{"$f":"IF(COUNT(OFFSET(テストデータ!$CK$3,1,12*10+0):OFFSET(テストデータ!$CK$3,500,12*10+0))=0,NA(),AVERAGE(OFFSET(テストデータ!$CK$3,1,12*10+0):OFFSET(テストデータ!$CK$3,500,12*10+0)))","v":66.263157894736835},{"$f":"IF(COUNT(OFFSET(テストデータ!$CK$3,1,12*10+1):OFFSET(テストデータ!$CK$3,500,12*10+1))=0,NA(),AVERAGE(OFFSET(テストデータ!$CK$3,1,12*10+1):OFFSET(テストデータ!$CK$3,500,12*10+1)))","v":48.85},{"$f":"IF(COUNT(OFFSET(テストデータ!$CK$3,1,12*10+2):OFFSET(テストデータ!$CK$3,500,12*10+2))=0,NA(),AVERAGE(OFFSET(テストデータ!$CK$3,1,12*10+2):OFFSET(テストデータ!$CK$3,500,12*10+2)))","v":58.95},{"$f":"IF(COUNT(OFFSET(テストデータ!$CK$3,1,12*10+3):OFFSET(テストデータ!$CK$3,500,12*10+3))=0,NA(),AVERAGE(OFFSET(テストデータ!$CK$3,1,12*10+3):OFFSET(テストデータ!$CK$3,500,12*10+3)))","v":51.1},{"$f":"IF(COUNT(OFFSET(テストデータ!$CK$3,1,12*10+4):OFFSET(テストデータ!$CK$3,500,12*10+4))=0,NA(),AVERAGE(OFFSET(テストデータ!$CK$3,1,12*10+4):OFFSET(テストデータ!$CK$3,500,12*10+4)))","v":51.5},{"$f":"IF(COUNT(OFFSET(テストデータ!$CK$3,1,12*10+5):OFFSET(テストデータ!$CK$3,500,12*10+5))=0,NA(),AVERAGE(OFFSET(テストデータ!$CK$3,1,12*10+5):OFFSET(テストデータ!$CK$3,500,12*10+5)))","v":50.7},{"$f":"IF(COUNT(OFFSET(テストデータ!$CK$3,1,12*10+6):OFFSET(テストデータ!$CK$3,500,12*10+6))=0,NA(),AVERAGE(OFFSET(テストデータ!$CK$3,1,12*10+6):OFFSET(テストデータ!$CK$3,500,12*10+6)))","v":55.9},{"$f":"IF(COUNT(OFFSET(テストデータ!$CK$3,1,12*10+7):OFFSET(テストデータ!$CK$3,500,12*10+7))=0,NA(),AVERAGE(OFFSET(テストデータ!$CK$3,1,12*10+7):OFFSET(テストデータ!$CK$3,500,12*10+7)))","v":65.95},{"$f":"IF(COUNT(OFFSET(テストデータ!$CK$3,1,12*10+8):OFFSET(テストデータ!$CK$3,500,12*10+8))=0,NA(),AVERAGE(OFFSET(テストデータ!$CK$3,1,12*10+8):OFFSET(テストデータ!$CK$3,500,12*10+8)))","v":59.176470588235297},{"$f":"IF(COUNT(OFFSET(テストデータ!$CK$3,1,12*10+9):OFFSET(テストデータ!$CK$3,500,12*10+9))=0,NA(),AVERAGE(OFFSET(テストデータ!$CK$3,1,12*10+9):OFFSET(テストデータ!$CK$3,500,12*10+9)))","v":63.85},{"$f":"IF(COUNT(OFFSET(テストデータ!$CK$3,1,12*10+10):OFFSET(テストデータ!$CK$3,500,12*10+10))=0,NA(),AVERAGE(OFFSET(テストデータ!$CK$3,1,12*10+10):OFFSET(テストデータ!$CK$3,500,12*10+10)))","v":{"$error":"#N/A"}},{"$f":"IF(COUNT(OFFSET(テストデータ!$CK$3,1,12*10+11):OFFSET(テストデータ!$CK$3,500,12*10+11))=0,NA(),AVERAGE(OFFSET(テストデータ!$CK$3,1,12*10+11):OFFSET(テストデータ!$CK$3,500,12*10+11)))","v":{"$error":"#N/A"}}]
[null,"クラス順位",{"$f":"IF(OR(INDIRECT(ADDRESS(ROW()-2,COLUMN()))=\"欠\",INDIRECT(ADDRESS(ROW()-2,COLUMN()))=\"\"),\"\",SUMPRODUCT((INDIRECT(\"テストデータ!$B$4:$B$503\")=$I$2)*(OFFSET(テストデータ!HA$3,1,0):OFFSET(テストデータ!HA$3,500,0)>C$70))+1)","v":5},{"$f":"IF(OR(INDIRECT(ADDRESS(ROW()-2,COLUMN()))=\"欠\",INDIRECT(ADDRESS(ROW()-2,COLUMN()))=\"\"),\"\",SUMPRODUCT((INDIRECT(\"テストデータ!$B$4:$B$503\")=$I$2)*(OFFSET(テストデータ!HB$3,1,0):OFFSET(テストデータ!HB$3,500,0)>D$70))+1)","v":2},{"$f":"IF(OR(INDIRECT(ADDRESS(ROW()-2,COLUMN()))=\"欠\",INDIRECT(ADDRESS(ROW()-2,COLUMN()))=\"\"),\"\",SUMPRODUCT((INDIRECT(\"テストデータ!$B$4:$B$503\")=$I$2)*(OFFSET(テストデータ!HC$3,1,0):OFFSET(テストデータ!HC$3,500,0)>E$70))+1)","v":1},{"$f":"IF(OR(INDIRECT(ADDRESS(ROW()-2,COLUMN()))=\"欠\",INDIRECT(ADDRESS(ROW()-2,COLUMN()))=\"\"),\"\",SUMPRODUCT((INDIRECT(\"テストデータ!$B$4:$B$503\")=$I$2)*(OFFSET(テストデータ!HD$3,1,0):OFFSET(テストデータ!HD$3,500,0)>F$70))+1)","v":5},{"$f":"IF(OR(INDIRECT(ADDRESS(ROW()-2,COLUMN()))=\"欠\",INDIRECT(ADDRESS(ROW()-2,COLUMN()))=\"\"),\"\",SUMPRODUCT((INDIRECT(\"テストデータ!$B$4:$B$503\")=$I$2)*(OFFSET(テストデータ!HE$3,1,0):OFFSET(テストデータ!HE$3,500,0)>G$70))+1)","v":2},{"$f":"IF(OR(INDIRECT(ADDRESS(ROW()-2,COLUMN()))=\"欠\",INDIRECT(ADDRESS(ROW()-2,COLUMN()))=\"\"),\"\",SUMPRODUCT((INDIRECT(\"テストデータ!$B$4:$B$503\")=$I$2)*(OFFSET(テストデータ!HF$3,1,0):OFFSET(テストデータ!HF$3,500,0)>H$70))+1)","v":2},{"$f":"IF(OR(INDIRECT(ADDRESS(ROW()-2,COLUMN()))=\"欠\",INDIRECT(ADDRESS(ROW()-2,COLUMN()))=\"\"),\"\",SUMPRODUCT((INDIRECT(\"テストデータ!$B$4:$B$503\")=$I$2)*(OFFSET(テストデータ!HG$3,1,0):OFFSET(テストデータ!HG$3,500,0)>I$70))+1)","v":1},{"$f":"IF(OR(INDIRECT(ADDRESS(ROW()-2,COLUMN()))=\"欠\",INDIRECT(ADDRESS(ROW()-2,COLUMN()))=\"\"),\"\",SUMPRODUCT((INDIRECT(\"テストデータ!$B$4:$B$503\")=$I$2)*(OFFSET(テストデータ!HH$3,1,0):OFFSET(テストデータ!HH$3,500,0)>J$70))+1)","v":2},{"$f":"IF(OR(INDIRECT(ADDRESS(ROW()-2,COLUMN()))=\"欠\",INDIRECT(ADDRESS(ROW()-2,COLUMN()))=\"\"),\"\",SUMPRODUCT((INDIRECT(\"テストデータ!$B$4:$B$503\")=$I$2)*(OFFSET(テストデータ!HI$3,1,0):OFFSET(テストデータ!HI$3,500,0)>K$70))+1)","v":3},{"$f":"IF(OR(INDIRECT(ADDRESS(ROW()-2,COLUMN()))=\"欠\",INDIRECT(ADDRESS(ROW()-2,COLUMN()))=\"\"),\"\",SUMPRODUCT((INDIRECT(\"テストデータ!$B$4:$B$503\")=$I$2)*(OFFSET(テストデータ!HJ$3,1,0):OFFSET(テストデータ!HJ$3,500,0)>L$70))+1)","v":1},{"$f":"IF(OR(INDIRECT(ADDRESS(ROW()-2,COLUMN()))=\"欠\",INDIRECT(ADDRESS(ROW()-2,COLUMN()))=\"\"),\"\",SUMPRODUCT((INDIRECT(\"テストデータ!$B$4:$B$503\")=$I$2)*(OFFSET(テストデータ!HK$3,1,0):OFFSET(テストデータ!HK$3,500,0)>M$70))+1)","v":""},{"$f":"IF(OR(INDIRECT(ADDRESS(ROW()-2,COLUMN()))=\"欠\",INDIRECT(ADDRESS(ROW()-2,COLUMN()))=\"\"),\"\",SUMPRODUCT((INDIRECT(\"テストデータ!$B$4:$B$503\")=$I$2)*(OFFSET(テストデータ!HL$3,1,0):OFFSET(テストデータ!HL$3,500,0)>N$70))+1)","v":""}]
[null,"校内順位",{"$f":"IF(OR(INDIRECT(ADDRESS(ROW()-3,COLUMN()))=\"欠\",INDIRECT(ADDRESS(ROW()-3,COLUMN()))=\"\"),\"\",RANK(INDIRECT(ADDRESS(ROW()-3,COLUMN())),OFFSET(テストデータ!HA$3,1,0):OFFSET(テストデータ!HA$3,501,0)))","v":16},{"$f":"IF(OR(INDIRECT(ADDRESS(ROW()-3,COLUMN()))=\"欠\",INDIRECT(ADDRESS(ROW()-3,COLUMN()))=\"\"),\"\",RANK(INDIRECT(ADDRESS(ROW()-3,COLUMN())),OFFSET(テストデータ!HB$3,1,0):OFFSET(テストデータ!HB$3,501,0)))","v":3},{"$f":"IF(OR(INDIRECT(ADDRESS(ROW()-3,COLUMN()))=\"欠\",INDIRECT(ADDRESS(ROW()-3,COLUMN()))=\"\"),\"\",RANK(INDIRECT(ADDRESS(ROW()-3,COLUMN())),OFFSET(テストデータ!HC$3,1,0):OFFSET(テストデータ!HC$3,501,0)))","v":1},{"$f":"IF(OR(INDIRECT(ADDRESS(ROW()-3,COLUMN()))=\"欠\",INDIRECT(ADDRESS(ROW()-3,COLUMN()))=\"\"),\"\",RANK(INDIRECT(ADDRESS(ROW()-3,COLUMN())),OFFSET(テストデータ!HD$3,1,0):OFFSET(テストデータ!HD$3,501,0)))","v":13},{"$f":"IF(OR(INDIRECT(ADDRESS(ROW()-3,COLUMN()))=\"欠\",INDIRECT(ADDRESS(ROW()-3,COLUMN()))=\"\"),\"\",RANK(INDIRECT(ADDRESS(ROW()-3,COLUMN())),OFFSET(テストデータ!HE$3,1,0):OFFSET(テストデータ!HE$3,501,0)))","v":4},{"$f":"IF(OR(INDIRECT(ADDRESS(ROW()-3,COLUMN()))=\"欠\",INDIRECT(ADDRESS(ROW()-3,COLUMN()))=\"\"),\"\",RANK(INDIRECT(ADDRESS(ROW()-3,COLUMN())),OFFSET(テストデータ!HF$3,1,0):OFFSET(テストデータ!HF$3,501,0)))","v":3},{"$f":"IF(OR(INDIRECT(ADDRESS(ROW()-3,COLUMN()))=\"欠\",INDIRECT(ADDRESS(ROW()-3,COLUMN()))=\"\"),\"\",RANK(INDIRECT(ADDRESS(ROW()-3,COLUMN())),OFFSET(テストデータ!HG$3,1,0):OFFSET(テストデータ!HG$3,501,0)))","v":3},{"$f":"IF(OR(INDIRECT(ADDRESS(ROW()-3,COLUMN()))=\"欠\",INDIRECT(ADDRESS(ROW()-3,COLUMN()))=\"\"),\"\",RANK(INDIRECT(ADDRESS(ROW()-3,COLUMN())),OFFSET(テストデータ!HH$3,1,0):OFFSET(テストデータ!HH$3,501,0)))","v":6},{"$f":"IF(OR(INDIRECT(ADDRESS(ROW()-3,COLUMN()))=\"欠\",INDIRECT(ADDRESS(ROW()-3,COLUMN()))=\"\"),\"\",RANK(INDIRECT(ADDRESS(ROW()-3,COLUMN())),OFFSET(テストデータ!HI$3,1,0):OFFSET(テストデータ!HI$3,501,0)))","v":8},{"$f":"IF(OR(INDIRECT(ADDRESS(ROW()-3,COLUMN()))=\"欠\",INDIRECT(ADDRESS(ROW()-3,COLUMN()))=\"\"),\"\",RANK(INDIRECT(ADDRESS(ROW()-3,COLUMN())),OFFSET(テストデータ!HJ$3,1,0):OFFSET(テストデータ!HJ$3,501,0)))","v":8},{"$f":"IF(OR(INDIRECT(ADDRESS(ROW()-3,COLUMN()))=\"欠\",INDIRECT(ADDRESS(ROW()-3,COLUMN()))=\"\"),\"\",RANK(INDIRECT(ADDRESS(ROW()-3,COLUMN())),OFFSET(テストデータ!HK$3,1,0):OFFSET(テストデータ!HK$3,501,0)))","v":""},{"$f":"IF(OR(INDIRECT(ADDRESS(ROW()-3,COLUMN()))=\"欠\",INDIRECT(ADDRESS(ROW()-3,COLUMN()))=\"\"),\"\",RANK(INDIRECT(ADDRESS(ROW()-3,COLUMN())),OFFSET(テストデータ!HL$3,1,0):OFFSET(テストデータ!HL$3,501,0)))","v":""}]
[null,{"$f":"IF(初期設定!$C29=\"\",\"\",初期設定!$C29)","v":""},"1回","2回","3回","4回","5回","6回","7回","8回","9回","10回","11回","12回"]
[null,"実施日",{"$f":"IF(テストデータ!HM$2=\"\",\"\",テストデータ!HM$2)","v":""},{"$f":"IF(テストデータ!HN$2=\"\",\"\",テストデータ!HN$2)","v":""},{"$f":"IF(テストデータ!HO$2=\"\",\"\",テストデータ!HO$2)","v":""},{"$f":"IF(テストデータ!HP$2=\"\",\"\",テストデータ!HP$2)","v":""},{"$f":"IF(テストデータ!HQ$2=\"\",\"\",テストデータ!HQ$2)","v":""},{"$f":"IF(テストデータ!HR$2=\"\",\"\",テストデータ!HR$2)","v":""},{"$f":"IF(テストデータ!HS$2=\"\",\"\",テストデータ!HS$2)","v":""},{"$f":"IF(テストデータ!HT$2=\"\",\"\",テストデータ!HT$2)","v":""},{"$f":"IF(テストデータ!HU$2=\"\",\"\",テストデータ!HU$2)","v":""},{"$f":"IF(テストデータ!HV$2=\"\",\"\",テストデータ!HV$2)","v":""},{"$f":"IF(テストデータ!HW$2=\"\",\"\",テストデータ!HW$2)","v":""},{"$f":"IF(テストデータ!HX$2=\"\",\"\",テストデータ!HX$2)","v":""}]
[null,"得点",{"$f":"IF(VLOOKUP($H$2,テストデータ!$A$4:$HX$503,12*11+89,FALSE)=\"\",IF(INDIRECT(ADDRESS(ROW()-1,COLUMN()))=\"\",\"\",\"欠\"),VLOOKUP($H$2,テストデータ!$A$4:$HX$503,12*11+89,FALSE))","v":""},{"$f":"IF(VLOOKUP($H$2,テストデータ!$A$4:$HX$503,12*11+90,FALSE)=\"\",IF(INDIRECT(ADDRESS(ROW()-1,COLUMN()))=\"\",\"\",\"欠\"),VLOOKUP($H$2,テストデータ!$A$4:$HX$503,12*11+90,FALSE))","v":""},{"$f":"IF(VLOOKUP($H$2,テストデータ!$A$4:$HX$503,12*11+91,FALSE)=\"\",IF(INDIRECT(ADDRESS(ROW()-1,COLUMN()))=\"\",\"\",\"欠\"),VLOOKUP($H$2,テストデータ!$A$4:$HX$503,12*11+91,FALSE))","v":""},{"$f":"IF(VLOOKUP($H$2,テストデータ!$A$4:$HX$503,12*11+92,FALSE)=\"\",IF(INDIRECT(ADDRESS(ROW()-1,COLUMN()))=\"\",\"\",\"欠\"),VLOOKUP($H$2,テストデータ!$A$4:$HX$503,12*11+92,FALSE))","v":""},{"$f":"IF(VLOOKUP($H$2,テストデータ!$A$4:$HX$503,12*11+93,FALSE)=\"\",IF(INDIRECT(ADDRESS(ROW()-1,COLUMN()))=\"\",\"\",\"欠\"),VLOOKUP($H$2,テストデータ!$A$4:$HX$503,12*11+93,FALSE))","v":""},{"$f":"IF(VLOOKUP($H$2,テストデータ!$A$4:$HX$503,12*11+94,FALSE)=\"\",IF(INDIRECT(ADDRESS(ROW()-1,COLUMN()))=\"\",\"\",\"欠\"),VLOOKUP($H$2,テストデータ!$A$4:$HX$503,12*11+94,FALSE))","v":""},{"$f":"IF(VLOOKUP($H$2,テストデータ!$A$4:$HX$503,12*11+95,FALSE)=\"\",IF(INDIRECT(ADDRESS(ROW()-1,COLUMN()))=\"\",\"\",\"欠\"),VLOOKUP($H$2,テストデータ!$A$4:$HX$503,12*11+95,FALSE))","v":""},{"$f":"IF(VLOOKUP($H$2,テストデータ!$A$4:$HX$503,12*11+96,FALSE)=\"\",IF(INDIRECT(ADDRESS(ROW()-1,COLUMN()))=\"\",\"\",\"欠\"),VLOOKUP($H$2,テストデータ!$A$4:$HX$503,12*11+96,FALSE))","v":""},{"$f":"IF(VLOOKUP($H$2,テストデータ!$A$4:$HX$503,12*11+97,FALSE)=\"\",IF(INDIRECT(ADDRESS(ROW()-1,COLUMN()))=\"\",\"\",\"欠\"),VLOOKUP($H$2,テストデータ!$A$4:$HX$503,12*11+97,FALSE))","v":""},{"$f":"IF(VLOOKUP($H$2,テストデータ!$A$4:$HX$503,12*11+98,FALSE)=\"\",IF(INDIRECT(ADDRESS(ROW()-1,COLUMN()))=\"\",\"\",\"欠\"),VLOOKUP($H$2,テストデータ!$A$4:$HX$503,12*11+98,FALSE))","v":""},{"$f":"IF(VLOOKUP($H$2,テストデータ!$A$4:$HX$503,12*11+99,FALSE)=\"\",IF(INDIRECT(ADDRESS(ROW()-1,COLUMN()))=\"\",\"\",\"欠\"),VLOOKUP($H$2,テストデータ!$A$4:$HX$503,12*11+99,FALSE))","v":""},{"$f":"IF(VLOOKUP($H$2,テストデータ!$A$4:$HX$503,12*11+100,FALSE)=\"\",IF(INDIRECT(ADDRESS(ROW()-1,COLUMN()))=\"\",\"\",\"欠\"),VLOOKUP($H$2,テストデータ!$A$4:$HX$503,12*11+100,FALSE))","v":""}]
[null,"平均点",{"$f":"IF(COUNT(OFFSET(テストデータ!$CK$3,1,12*11+0):OFFSET(テストデータ!$CK$3,500,12*11+0))=0,NA(),AVERAGE(OFFSET(テストデータ!$CK$3,1,12*11+0):OFFSET(テストデータ!$CK$3,500,12*11+0)))","v":{"$error":"#N/A"}},{"$f":"IF(COUNT(OFFSET(テストデータ!$CK$3,1,12*11+1):OFFSET(テストデータ!$CK$3,500,12*11+1))=0,NA(),AVERAGE(OFFSET(テストデータ!$CK$3,1,12*11+1):OFFSET(テストデータ!$CK$3,500,12*11+1)))","v":{"$error":"#N/A"}},{"$f":"IF(COUNT(OFFSET(テストデータ!$CK$3,1,12*11+2):OFFSET(テストデータ!$CK$3,500,12*11+2))=0,NA(),AVERAGE(OFFSET(テストデータ!$CK$3,1,12*11+2):OFFSET(テストデータ!$CK$3,500,12*11+2)))","v":{"$error":"#N/A"}},{"$f":"IF(COUNT(OFFSET(テストデータ!$CK$3,1,12*11+3):OFFSET(テストデータ!$CK$3,500,12*11+3))=0,NA(),AVERAGE(OFFSET(テストデータ!$CK$3,1,12*11+3):OFFSET(テストデータ!$CK$3,500,12*11+3)))","v":{"$error":"#N/A"}},{"$f":"IF(COUNT(OFFSET(テストデータ!$CK$3,1,12*11+4):OFFSET(テストデータ!$CK$3,500,12*11+4))=0,NA(),AVERAGE(OFFSET(テストデータ!$CK$3,1,12*11+4):OFFSET(テストデータ!$CK$3,500,12*11+4)))","v":{"$error":"#N/A"}},{"$f":"IF(COUNT(OFFSET(テストデータ!$CK$3,1,12*11+5):OFFSET(テストデータ!$CK$3,500,12*11+5))=0,NA(),AVERAGE(OFFSET(テストデータ!$CK$3,1,12*11+5):OFFSET(テストデータ!$CK$3,500,12*11+5)))","v":{"$error":"#N/A"}},{"$f":"IF(COUNT(OFFSET(テストデータ!$CK$3,1,12*11+6):OFFSET(テストデータ!$CK$3,500,12*11+6))=0,NA(),AVERAGE(OFFSET(テストデータ!$CK$3,1,12*11+6):OFFSET(テストデータ!$CK$3,500,12*11+6)))","v":{"$error":"#N/A"}},{"$f":"IF(COUNT(OFFSET(テストデータ!$CK$3,1,12*11+7):OFFSET(テストデータ!$CK$3,500,12*11+7))=0,NA(),AVERAGE(OFFSET(テストデータ!$CK$3,1,12*11+7):OFFSET(テストデータ!$CK$3,500,12*11+7)))","v":{"$error":"#N/A"}},{"$f":"IF(COUNT(OFFSET(テストデータ!$CK$3,1,12*11+8):OFFSET(テストデータ!$CK$3,500,12*11+8))=0,NA(),AVERAGE(OFFSET(テストデータ!$CK$3,1,12*11+8):OFFSET(テストデータ!$CK$3,500,12*11+8)))","v":{"$error":"#N/A"}},{"$f":"IF(COUNT(OFFSET(テストデータ!$CK$3,1,12*11+9):OFFSET(テストデータ!$CK$3,500,12*11+9))=0,NA(),AVERAGE(OFFSET(テストデータ!$CK$3,1,12*11+9):OFFSET(テストデータ!$CK$3,500,12*11+9)))","v":{"$error":"#N/A"}},{"$f":"IF(COUNT(OFFSET(テストデータ!$CK$3,1,12*11+10):OFFSET(テストデータ!$CK$3,500,12*11+10))=0,NA(),AVERAGE(OFFSET(テストデータ!$CK$3,1,12*11+10):OFFSET(テストデータ!$CK$3,500,12*11+10)))","v":{"$error":"#N/A"}},{"$f":"IF(COUNT(OFFSET(テストデータ!$CK$3,1,12*11+11):OFFSET(テストデータ!$CK$3,500,12*11+11))=0,NA(),AVERAGE(OFFSET(テストデータ!$CK$3,1,12*11+11):OFFSET(テストデータ!$CK$3,500,12*11+11)))","v":{"$error":"#N/A"}}]
[null,"クラス順位",{"$f":"IF(OR(INDIRECT(ADDRESS(ROW()-2,COLUMN()))=\"欠\",INDIRECT(ADDRESS(ROW()-2,COLUMN()))=\"\"),\"\",SUMPRODUCT((INDIRECT(\"テストデータ!$B$4:$B$503\")=$I$2)*(OFFSET(テストデータ!HM$3,1,0):OFFSET(テストデータ!HM$3,500,0)>N$76))+1)","v":""},{"$f":"IF(OR(INDIRECT(ADDRESS(ROW()-2,COLUMN()))=\"欠\",INDIRECT(ADDRESS(ROW()-2,COLUMN()))=\"\"),\"\",SUMPRODUCT((INDIRECT(\"テストデータ!$B$4:$B$503\")=$I$2)*(OFFSET(テストデータ!HN$3,1,0):OFFSET(テストデータ!HN$3,500,0)>O$76))+1)","v":""},{"$f":"IF(OR(INDIRECT(ADDRESS(ROW()-2,COLUMN()))=\"欠\",INDIRECT(ADDRESS(ROW()-2,COLUMN()))=\"\"),\"\",SUMPRODUCT((INDIRECT(\"テストデータ!$B$4:$B$503\")=$I$2)*(OFFSET(テストデータ!HO$3,1,0):OFFSET(テストデータ!HO$3,500,0)>P$76))+1)","v":""},{"$f":"IF(OR(INDIRECT(ADDRESS(ROW()-2,COLUMN()))=\"欠\",INDIRECT(ADDRESS(ROW()-2,COLUMN()))=\"\"),\"\",SUMPRODUCT((INDIRECT(\"テストデータ!$B$4:$B$503\")=$I$2)*(OFFSET(テストデータ!HP$3,1,0):OFFSET(テストデータ!HP$3,500,0)>Q$76))+1)","v":""},{"$f":"IF(OR(INDIRECT(ADDRESS(ROW()-2,COLUMN()))=\"欠\",INDIRECT(ADDRESS(ROW()-2,COLUMN()))=\"\"),\"\",SUMPRODUCT((INDIRECT(\"テストデータ!$B$4:$B$503\")=$I$2)*(OFFSET(テストデータ!HQ$3,1,0):OFFSET(テストデータ!HQ$3,500,0)>R$76))+1)","v":""},{"$f":"IF(OR(INDIRECT(ADDRESS(ROW()-2,COLUMN()))=\"欠\",INDIRECT(ADDRESS(ROW()-2,COLUMN()))=\"\"),\"\",SUMPRODUCT((INDIRECT(\"テストデータ!$B$4:$B$503\")=$I$2)*(OFFSET(テストデータ!HR$3,1,0):OFFSET(テストデータ!HR$3,500,0)>S$76))+1)","v":""},{"$f":"IF(OR(INDIRECT(ADDRESS(ROW()-2,COLUMN()))=\"欠\",INDIRECT(ADDRESS(ROW()-2,COLUMN()))=\"\"),\"\",SUMPRODUCT((INDIRECT(\"テストデータ!$B$4:$B$503\")=$I$2)*(OFFSET(テストデータ!HS$3,1,0):OFFSET(テストデータ!HS$3,500,0)>T$76))+1)","v":""},{"$f":"IF(OR(INDIRECT(ADDRESS(ROW()-2,COLUMN()))=\"欠\",INDIRECT(ADDRESS(ROW()-2,COLUMN()))=\"\"),\"\",SUMPRODUCT((INDIRECT(\"テストデータ!$B$4:$B$503\")=$I$2)*(OFFSET(テストデータ!HT$3,1,0):OFFSET(テストデータ!HT$3,500,0)>U$76))+1)","v":""},{"$f":"IF(OR(INDIRECT(ADDRESS(ROW()-2,COLUMN()))=\"欠\",INDIRECT(ADDRESS(ROW()-2,COLUMN()))=\"\"),\"\",SUMPRODUCT((INDIRECT(\"テストデータ!$B$4:$B$503\")=$I$2)*(OFFSET(テストデータ!HU$3,1,0):OFFSET(テストデータ!HU$3,500,0)>V$76))+1)","v":""},{"$f":"IF(OR(INDIRECT(ADDRESS(ROW()-2,COLUMN()))=\"欠\",INDIRECT(ADDRESS(ROW()-2,COLUMN()))=\"\"),\"\",SUMPRODUCT((INDIRECT(\"テストデータ!$B$4:$B$503\")=$I$2)*(OFFSET(テストデータ!HV$3,1,0):OFFSET(テストデータ!HV$3,500,0)>W$76))+1)","v":""},{"$f":"IF(OR(INDIRECT(ADDRESS(ROW()-2,COLUMN()))=\"欠\",INDIRECT(ADDRESS(ROW()-2,COLUMN()))=\"\"),\"\",SUMPRODUCT((INDIRECT(\"テストデータ!$B$4:$B$503\")=$I$2)*(OFFSET(テストデータ!HW$3,1,0):OFFSET(テストデータ!HW$3,500,0)>X$76))+1)","v":""},{"$f":"IF(OR(INDIRECT(ADDRESS(ROW()-2,COLUMN()))=\"欠\",INDIRECT(ADDRESS(ROW()-2,COLUMN()))=\"\"),\"\",SUMPRODUCT((INDIRECT(\"テストデータ!$B$4:$B$503\")=$I$2)*(OFFSET(テストデータ!HX$3,1,0):OFFSET(テストデータ!HX$3,500,0)>Y$76))+1)","v":""}]
[null,"校内順位",{"$f":"IF(OR(INDIRECT(ADDRESS(ROW()-3,COLUMN()))=\"欠\",INDIRECT(ADDRESS(ROW()-3,COLUMN()))=\"\"),\"\",RANK(INDIRECT(ADDRESS(ROW()-3,COLUMN())),OFFSET(テストデータ!HL$3,1,0):OFFSET(テストデータ!HL$3,501,0)))","v":""},{"$f":"IF(OR(INDIRECT(ADDRESS(ROW()-3,COLUMN()))=\"欠\",INDIRECT(ADDRESS(ROW()-3,COLUMN()))=\"\"),\"\",RANK(INDIRECT(ADDRESS(ROW()-3,COLUMN())),OFFSET(テストデータ!HM$3,1,0):OFFSET(テストデータ!HM$3,501,0)))","v":""},{"$f":"IF(OR(INDIRECT(ADDRESS(ROW()-3,COLUMN()))=\"欠\",INDIRECT(ADDRESS(ROW()-3,COLUMN()))=\"\"),\"\",RANK(INDIRECT(ADDRESS(ROW()-3,COLUMN())),OFFSET(テストデータ!HN$3,1,0):OFFSET(テストデータ!HN$3,501,0)))","v":""},{"$f":"IF(OR(INDIRECT(ADDRESS(ROW()-3,COLUMN()))=\"欠\",INDIRECT(ADDRESS(ROW()-3,COLUMN()))=\"\"),\"\",RANK(INDIRECT(ADDRESS(ROW()-3,COLUMN())),OFFSET(テストデータ!HO$3,1,0):OFFSET(テストデータ!HO$3,501,0)))","v":""},{"$f":"IF(OR(INDIRECT(ADDRESS(ROW()-3,COLUMN()))=\"欠\",INDIRECT(ADDRESS(ROW()-3,COLUMN()))=\"\"),\"\",RANK(INDIRECT(ADDRESS(ROW()-3,COLUMN())),OFFSET(テストデータ!HP$3,1,0):OFFSET(テストデータ!HP$3,501,0)))","v":""},{"$f":"IF(OR(INDIRECT(ADDRESS(ROW()-3,COLUMN()))=\"欠\",INDIRECT(ADDRESS(ROW()-3,COLUMN()))=\"\"),\"\",RANK(INDIRECT(ADDRESS(ROW()-3,COLUMN())),OFFSET(テストデータ!HQ$3,1,0):OFFSET(テストデータ!HQ$3,501,0)))","v":""},{"$f":"IF(OR(INDIRECT(ADDRESS(ROW()-3,COLUMN()))=\"欠\",INDIRECT(ADDRESS(ROW()-3,COLUMN()))=\"\"),\"\",RANK(INDIRECT(ADDRESS(ROW()-3,COLUMN())),OFFSET(テストデータ!HR$3,1,0):OFFSET(テストデータ!HR$3,501,0)))","v":""},{"$f":"IF(OR(INDIRECT(ADDRESS(ROW()-3,COLUMN()))=\"欠\",INDIRECT(ADDRESS(ROW()-3,COLUMN()))=\"\"),\"\",RANK(INDIRECT(ADDRESS(ROW()-3,COLUMN())),OFFSET(テストデータ!HS$3,1,0):OFFSET(テストデータ!HS$3,501,0)))","v":""},{"$f":"IF(OR(INDIRECT(ADDRESS(ROW()-3,COLUMN()))=\"欠\",INDIRECT(ADDRESS(ROW()-3,COLUMN()))=\"\"),\"\",RANK(INDIRECT(ADDRESS(ROW()-3,COLUMN())),OFFSET(テストデータ!HT$3,1,0):OFFSET(テストデータ!HT$3,501,0)))","v":""},{"$f":"IF(OR(INDIRECT(ADDRESS(ROW()-3,COLUMN()))=\"欠\",INDIRECT(ADDRESS(ROW()-3,COLUMN()))=\"\"),\"\",RANK(INDIRECT(ADDRESS(ROW()-3,COLUMN())),OFFSET(テストデータ!HU$3,1,0):OFFSET(テストデータ!HU$3,501,0)))","v":""},{"$f":"IF(OR(INDIRECT(ADDRESS(ROW()-3,COLUMN()))=\"欠\",INDIRECT(ADDRESS(ROW()-3,COLUMN()))=\"\"),\"\",RANK(INDIRECT(ADDRESS(ROW()-3,COLUMN())),OFFSET(テストデータ!HV$3,1,0):OFFSET(テストデータ!HV$3,501,0)))","v":""},{"$f":"IF(OR(INDIRECT(ADDRESS(ROW()-3,COLUMN()))=\"欠\",INDIRECT(ADDRESS(ROW()-3,COLUMN()))=\"\"),\"\",RANK(INDIRECT(ADDRESS(ROW()-3,COLUMN())),OFFSET(テストデータ!HW$3,1,0):OFFSET(テストデータ!HW$3,501,0)))","v":""}]

{"sheet":"成績表3","index":3,"n_rows":35,"n_cols":19,"rows_kept":35,"cut":false,"hidden":false,"merged":[[31,1,34,1],[19,1,22,1],[0,18,1,21],[11,1,14,1],[15,1,18,1],[23,1,26,1],[27,1,30,1],[3,1,6,1],[7,1,10,1],[2,15,2,16],[2,1,2,2],[1,1,1,3],[1,9,1,10],[1,14,1,16]]}
[null,null,null,null,null,null,null,null,null,null,null,null,null,null,null,null,null,null,{"$f":"初期設定!C63","v":"微風高校"}]
[null,{"$f":"IF(初期設定!$C30=\"\",\"\",初期設定!$C30)","v":"実力模試"},null,null,null,null,"ID:",1,"class",{"$f":"IF(VLOOKUP($H$2,テストデータ!$A$4:$D503,2,FALSE)=\"\",\"\",VLOOKUP($H$2,テストデータ!$A$4:$D503,2,FALSE))","v":"3-A"},null,"No.",{"$f":"VLOOKUP($H$2,テストデータ!$A$4:$D503,3,FALSE)","v":"1"},"氏名",{"$f":"IF(VLOOKUP($H2,テストデータ!$A$4:$D504,4,FALSE)=\"\",\"\",VLOOKUP($H2,テストデータ!$A$4:$D504,4,FALSE))","v":"鈴木A男"}]
[null,null,null,null,null,null,null,null,null,null,null,null,null,null,null,{"$f":"IF(初期設定!$C$1=\"\",\"\",初期設定!$C$1)","v":"20xx年度"}]
[null,"第1回",{"$f":"IF(テストデータ!$HY$2=\"\",\"\",テストデータ!$HY$2)","v":"2/4"},{"$f":"IF(初期設定!$C$36=\"\",\"\",初期設定!$C$36)","v":"国総"},{"$f":"IF(初期設定!$C$37=\"\",\"\",初期設定!$C$37)","v":"英表"},{"$f":"IF(初期設定!$C$38=\"\",\"\",初期設定!$C$38)","v":"コ英"},{"$f":"IF(初期設定!$C$39=\"\",\"\",初期設定!$C$39)","v":"数Ⅰ"},{"$f":"IF(初期設定!$C$40=\"\",\"\",初期設定!$C$40)","v":"数A"},{"$f":"IF(初期設定!$C$41=\"\",\"\",初期設定!$C$41)","v":"世B"},{"$f":"IF(初期設定!$C$42=\"\",\"\",初期設定!$C$42)","v":"化基"},{"$f":"IF(初期設定!$C$43=\"\",\"\",初期設定!$C$43)","v":""},{"$f":"IF(初期設定!$C$44=\"\",\"\",初期設定!$C$44)","v":""},{"$f":"IF(初期設定!$C$45=\"\",\"\",初期設定!$C$45)","v":""},{"$f":"IF(初期設定!$C$46=\"\",\"\",初期設定!$C$46)","v":""},{"$f":"IF(初期設定!$C$47=\"\",\"\",初期設定!$C$47)","v":""},{"$f":"IF(初期設定!$C$48=\"\",\"\",初期設定!$C$48)","v":""},{"$f":"IF(初期設定!$C$49=\"\",\"\",初期設定!$C$49)","v":""}]
[null,null,"得点"]
[null,null,"偏差値"]
[null,null,"校内順位"]
[null,"第2回",{"$f":"IF(テストデータ!$JA$2=\"\",\"\",テストデータ!$JA$2)","v":"3/6"},{"$f":"IF(初期設定!$C$36=\"\",\"\",初期設定!$C$36)","v":"国総"},{"$f":"IF(初期設定!$C$37=\"\",\"\",初期設定!$C$37)","v":"英表"},{"$f":"IF(初期設定!$C$38=\"\",\"\",初期設定!$C$38)","v":"コ英"},{"$f":"IF(初期設定!$C$39=\"\",\"\",初期設定!$C$39)","v":"数Ⅰ"},{"$f":"IF(初期設定!$C$40=\"\",\"\",初期設定!$C$40)","v":"数A"},{"$f":"IF(初期設定!$C$41=\"\",\"\",初期設定!$C$41)","v":"世B"},{"$f":"IF(初期設定!$C$42=\"\",\"\",初期設定!$C$42)","v":"化基"},{"$f":"IF(初期設定!$C$43=\"\",\"\",初期設定!$C$43)","v":""},{"$f":"IF(初期設定!$C$44=\"\",\"\",初期設定!$C$44)","v":""},{"$f":"IF(初期設定!$C$45=\"\",\"\",初期設定!$C$45)","v":""},{"$f":"IF(初期設定!$C$46=\"\",\"\",初期設定!$C$46)","v":""},{"$f":"IF(初期設定!$C$47=\"\",\"\",初期設定!$C$47)","v":""},{"$f":"IF(初期設定!$C$48=\"\",\"\",初期設定!$C$48)","v":""},{"$f":"IF(初期設定!$C$49=\"\",\"\",初期設定!$C$49)","v":""}]
[null,null,"得点",{"$f":"IF(VLOOKUP($H$2,テストデータ!$A$4:$QN$503,28*1+233,FALSE)=\"\",IF(INDIRECT(ADDRESS(ROW()-1,COLUMN()))=\"\",\"\",\"欠\"),VLOOKUP($H$2,テストデータ!$A$4:$QN$503,28*1+233,FALSE))","v":89},{"$f":"IF(VLOOKUP($H$2,テストデータ!$A$4:$QN$503,28*1+235,FALSE)=\"\",IF(INDIRECT(ADDRESS(ROW()-1,COLUMN()))=\"\",\"\",\"欠\"),VLOOKUP($H$2,テストデータ!$A$4:$QN$503,28*1+235,FALSE))","v":40},{"$f":"IF(VLOOKUP($H$2,テストデータ!$A$4:$QN$503,28*1+237,FALSE)=\"\",IF(INDIRECT(ADDRESS(ROW()-1,COLUMN()))=\"\",\"\",\"欠\"),VLOOKUP($H$2,テストデータ!$A$4:$QN$503,28*1+237,FALSE))","v":82},{"$f":"IF(VLOOKUP($H$2,テストデータ!$A$4:$QN$503,28*1+239,FALSE)=\"\",IF(INDIRECT(ADDRESS(ROW()-1,COLUMN()))=\"\",\"\",\"欠\"),VLOOKUP($H$2,テストデータ!$A$4:$QN$503,28*1+239,FALSE))","v":92},{"$f":"IF(VLOOKUP($H$2,テストデータ!$A$4:$QN$503,28*1+241,FALSE)=\"\",IF(INDIRECT(ADDRESS(ROW()-1,COLUMN()))=\"\",\"\",\"欠\"),VLOOKUP($H$2,テストデータ!$A$4:$QN$503,28*1+241,FALSE))","v":"欠"},{"$f":"IF(VLOOKUP($H$2,テストデータ!$A$4:$QN$503,28*1+243,FALSE)=\"\",IF(INDIRECT(ADDRESS(ROW()-1,COLUMN()))=\"\",\"\",\"欠\"),VLOOKUP($H$2,テストデータ!$A$4:$QN$503,28*1+243,FALSE))","v":79},{"$f":"IF(VLOOKUP($H$2,テストデータ!$A$4:$QN$503,28*1+245,FALSE)=\"\",IF(INDIRECT(ADDRESS(ROW()-1,COLUMN()))=\"\",\"\",\"欠\"),VLOOKUP($H$2,テストデータ!$A$4:$QN$503,28*1+245,FALSE))","v":62},{"$f":"IF(VLOOKUP($H$2,テストデータ!$A$4:$QN$503,28*1+247,FALSE)=\"\",IF(INDIRECT(ADDRESS(ROW()-1,COLUMN()))=\"\",\"\",\"欠\"),VLOOKUP($H$2,テストデータ!$A$4:$QN$503,28*1+247,FALSE))","v":""},{"$f":"IF(VLOOKUP($H$2,テストデータ!$A$4:$QN$503,28*1+249,FALSE)=\"\",IF(INDIRECT(ADDRESS(ROW()-1,COLUMN()))=\"\",\"\",\"欠\"),VLOOKUP($H$2,テストデータ!$A$4:$QN$503,28*1+249,FALSE))","v":""},{"$f":"IF(VLOOKUP($H$2,テストデータ!$A$4:$QN$503,28*1+251,FALSE)=\"\",IF(INDIRECT(ADDRESS(ROW()-1,COLUMN()))=\"\",\"\",\"欠\"),VLOOKUP($H$2,テストデータ!$A$4:$QN$503,28*1+251,FALSE))","v":""},{"$f":"IF(VLOOKUP($H$2,テストデータ!$A$4:$QN$503,28*1+253,FALSE)=\"\",IF(INDIRECT(ADDRESS(ROW()-1,COLUMN()))=\"\",\"\",\"欠\"),VLOOKUP($H$2,テストデータ!$A$4:$QN$503,28*1+253,FALSE))","v":""},{"$f":"IF(VLOOKUP($H$2,テストデータ!$A$4:$QN$503,28*1+255,FALSE)=\"\",IF(INDIRECT(ADDRESS(ROW()-1,COLUMN()))=\"\",\"\",\"欠\"),VLOOKUP($H$2,テストデータ!$A$4:$QN$503,28*1+255,FALSE))","v":""},{"$f":"IF(VLOOKUP($H$2,テストデータ!$A$4:$QN$503,28*1+257,FALSE)=\"\",IF(INDIRECT(ADDRESS(ROW()-1,COLUMN()))=\"\",\"\",\"欠\"),VLOOKUP($H$2,テストデータ!$A$4:$QN$503,28*1+257,FALSE))","v":""},{"$f":"IF(VLOOKUP($H$2,テストデータ!$A$4:$QN$503,28*1+259,FALSE)=\"\",IF(INDIRECT(ADDRESS(ROW()-1,COLUMN()))=\"\",\"\",\"欠\"),VLOOKUP($H$2,テストデータ!$A$4:$QN$503,28*1+259,FALSE))","v":""}]
[null,null,"偏差値",{"$f":"IF(OR(INDIRECT(ADDRESS(ROW()-1,COLUMN()))=\"欠\",INDIRECT(ADDRESS(ROW()-1,COLUMN()))=\"\"),NA(),VLOOKUP($H$2,テストデータ!$A$4:$QN$503,28*1+234,FALSE))","v":50},{"$f":"IF(OR(INDIRECT(ADDRESS(ROW()-1,COLUMN()))=\"欠\",INDIRECT(ADDRESS(ROW()-1,COLUMN()))=\"\"),NA(),VLOOKUP($H$2,テストデータ!$A$4:$QN$503,28*1+236,FALSE))","v":44},{"$f":"IF(OR(INDIRECT(ADDRESS(ROW()-1,COLUMN()))=\"欠\",INDIRECT(ADDRESS(ROW()-1,COLUMN()))=\"\"),NA(),VLOOKUP($H$2,テストデータ!$A$4:$QN$503,28*1+238,FALSE))","v":66},{"$f":"IF(OR(INDIRECT(ADDRESS(ROW()-1,COLUMN()))=\"欠\",INDIRECT(ADDRESS(ROW()-1,COLUMN()))=\"\"),NA(),VLOOKUP($H$2,テストデータ!$A$4:$QN$503,28*1+240,FALSE))","v":71},{"$f":"IF(OR(INDIRECT(ADDRESS(ROW()-1,COLUMN()))=\"欠\",INDIRECT(ADDRESS(ROW()-1,COLUMN()))=\"\"),NA(),VLOOKUP($H$2,テストデータ!$A$4:$QN$503,28*1+242,FALSE))","v":{"$error":"#N/A"}},{"$f":"IF(OR(INDIRECT(ADDRESS(ROW()-1,COLUMN()))=\"欠\",INDIRECT(ADDRESS(ROW()-1,COLUMN()))=\"\"),NA(),VLOOKUP($H$2,テストデータ!$A$4:$QN$503,28*1+244,FALSE))","v":61},{"$f":"IF(OR(INDIRECT(ADDRESS(ROW()-1,COLUMN()))=\"欠\",INDIRECT(ADDRESS(ROW()-1,COLUMN()))=\"\"),NA(),VLOOKUP($H$2,テストデータ!$A$4:$QN$503,28*1+246,FALSE))","v":55},{"$f":"IF(OR(INDIRECT(ADDRESS(ROW()-1,COLUMN()))=\"欠\",INDIRECT(ADDRESS(ROW()-1,COLUMN()))=\"\"),NA(),VLOOKUP($H$2,テストデータ!$A$4:$QN$503,28*1+248,FALSE))","v":{"$error":"#N/A"}},{"$f":"IF(OR(INDIRECT(ADDRESS(ROW()-1,COLUMN()))=\"欠\",INDIRECT(ADDRESS(ROW()-1,COLUMN()))=\"\"),NA(),VLOOKUP($H$2,テストデータ!$A$4:$QN$503,28*1+250,FALSE))","v":{"$error":"#N/A"}},{"$f":"IF(OR(INDIRECT(ADDRESS(ROW()-1,COLUMN()))=\"欠\",INDIRECT(ADDRESS(ROW()-1,COLUMN()))=\"\"),NA(),VLOOKUP($H$2,テストデータ!$A$4:$QN$503,28*1+252,FALSE))","v":{"$error":"#N/A"}},{"$f":"IF(OR(INDIRECT(ADDRESS(ROW()-1,COLUMN()))=\"欠\",INDIRECT(ADDRESS(ROW()-1,COLUMN()))=\"\"),NA(),VLOOKUP($H$2,テストデータ!$A$4:$QN$503,28*1+254,FALSE))","v":{"$error":"#N/A"}},{"$f":"IF(OR(INDIRECT(ADDRESS(ROW()-1,COLUMN()))=\"欠\",INDIRECT(ADDRESS(ROW()-1,COLUMN()))=\"\"),NA(),VLOOKUP($H$2,テストデータ!$A$4:$QN$503,28*1+256,FALSE))","v":{"$error":"#N/A"}},{"$f":"IF(OR(INDIRECT(ADDRESS(ROW()-1,COLUMN()))=\"欠\",INDIRECT(ADDRESS(ROW()-1,COLUMN()))=\"\"),NA(),VLOOKUP($H$2,テストデータ!$A$4:$QN$503,28*1+258,FALSE))","v":{"$error":"#N/A"}},{"$f":"IF(OR(INDIRECT(ADDRESS(ROW()-1,COLUMN()))=\"欠\",INDIRECT(ADDRESS(ROW()-1,COLUMN()))=\"\"),NA(),VLOOKUP($H$2,テストデータ!$A$4:$QN$503,28*1+260,FALSE))","v":{"$error":"#N/A"}}]
[null,null,"校内順位",{"$f":"IF(INDIRECT(ADDRESS(ROW()-2,COLUMN()))=\"欠\",\"\",RANK(INDIRECT(ADDRESS(ROW()-2,COLUMN())),OFFSET(テストデータ!$HY$3,1,28*1+0):OFFSET(テストデータ!$HY$3,500,28*1+0)))","v":1},{"$f":"IF(INDIRECT(ADDRESS(ROW()-2,COLUMN()))=\"欠\",\"\",RANK(INDIRECT(ADDRESS(ROW()-2,COLUMN())),OFFSET(テストデータ!$HY$3,1,28*1+2):OFFSET(テストデータ!$HY$3,500,28*1+2)))","v":15},{"$f":"IF(INDIRECT(ADDRESS(ROW()-2,COLUMN()))=\"欠\",\"\",RANK(INDIRECT(ADDRESS(ROW()-2,COLUMN())),OFFSET(テストデータ!$HY$3,1,28*1+4):OFFSET(テストデータ!$HY$3,500,28*1+4)))","v":2},{"$f":"IF(INDIRECT(ADDRESS(ROW()-2,COLUMN()))=\"欠\",\"\",RANK(INDIRECT(ADDRESS(ROW()-2,COLUMN())),OFFSET(テストデータ!$HY$3,1,28*1+6):OFFSET(テストデータ!$HY$3,500,28*1+6)))","v":1},{"$f":"IF(INDIRECT(ADDRESS(ROW()-2,COLUMN()))=\"欠\",\"\",RANK(INDIRECT(ADDRESS(ROW()-2,COLUMN())),OFFSET(テストデータ!$HY$3,1,28*1+8):OFFSET(テストデータ!$HY$3,500,28*1+8)))","v":""},{"$f":"IF(INDIRECT(ADDRESS(ROW()-2,COLUMN()))=\"欠\",\"\",RANK(INDIRECT(ADDRESS(ROW()-2,COLUMN())),OFFSET(テストデータ!$HY$3,1,28*1+10):OFFSET(テストデータ!$HY$3,500,28*1+10)))","v":1},{"$f":"IF(INDIRECT(ADDRESS(ROW()-2,COLUMN()))=\"欠\",\"\",RANK(INDIRECT(ADDRESS(ROW()-2,COLUMN())),OFFSET(テストデータ!$HY$3,1,28*1+12):OFFSET(テストデータ!$HY$3,500,28*1+12)))","v":7},{"$f":"IF(INDIRECT(ADDRESS(ROW()-2,COLUMN()))=\"欠\",\"\",RANK(INDIRECT(ADDRESS(ROW()-2,COLUMN())),OFFSET(テストデータ!$HY$3,1,28*1+14):OFFSET(テストデータ!$HY$3,500,28*1+14)))","v":{"$error":"#VALUE!"}},{"$f":"IF(INDIRECT(ADDRESS(ROW()-2,COLUMN()))=\"欠\",\"\",RANK(INDIRECT(ADDRESS(ROW()-2,COLUMN())),OFFSET(テストデータ!$HY$3,1,28*1+16):OFFSET(テストデータ!$HY$3,500,28*1+16)))","v":{"$error":"#VALUE!"}},{"$f":"IF(INDIRECT(ADDRESS(ROW()-2,COLUMN()))=\"欠\",\"\",RANK(INDIRECT(ADDRESS(ROW()-2,COLUMN())),OFFSET(テストデータ!$HY$3,1,28*1+18):OFFSET(テストデータ!$HY$3,500,28*1+18)))","v":{"$error":"#VALUE!"}},{"$f":"IF(INDIRECT(ADDRESS(ROW()-2,COLUMN()))=\"欠\",\"\",RANK(INDIRECT(ADDRESS(ROW()-2,COLUMN())),OFFSET(テストデータ!$HY$3,1,28*1+20):OFFSET(テストデータ!$HY$3,500,28*1+20)))","v":{"$error":"#VALUE!"}},{"$f":"IF(INDIRECT(ADDRESS(ROW()-2,COLUMN()))=\"欠\",\"\",RANK(INDIRECT(ADDRESS(ROW()-2,COLUMN())),OFFSET(テストデータ!$HY$3,1,28*1+22):OFFSET(テストデータ!$HY$3,500,28*1+22)))","v":{"$error":"#VALUE!"}},{"$f":"IF(INDIRECT(ADDRESS(ROW()-2,COLUMN()))=\"欠\",\"\",RANK(INDIRECT(ADDRESS(ROW()-2,COLUMN())),OFFSET(テストデータ!$HY$3,1,28*1+24):OFFSET(テストデータ!$HY$3,500,28*1+24)))","v":{"$error":"#VALUE!"}},{"$f":"IF(INDIRECT(ADDRESS(ROW()-2,COLUMN()))=\"欠\",\"\",RANK(INDIRECT(ADDRESS(ROW()-2,COLUMN())),OFFSET(テストデータ!$HY$3,1,28*1+26):OFFSET(テストデータ!$HY$3,500,28*1+26)))","v":{"$error":"#VALUE!"}}]
[null,"第3回",{"$f":"IF(テストデータ!$KC$2=\"\",\"\",テストデータ!$KC$2)","v":"4/4"},{"$f":"IF(初期設定!$C$36=\"\",\"\",初期設定!$C$36)","v":"国総"},{"$f":"IF(初期設定!$C$37=\"\",\"\",初期設定!$C$37)","v":"英表"},{"$f":"IF(初期設定!$C$38=\"\",\"\",初期設定!$C$38)","v":"コ英"},{"$f":"IF(初期設定!$C$39=\"\",\"\",初期設定!$C$39)","v":"数Ⅰ"},{"$f":"IF(初期設定!$C$40=\"\",\"\",初期設定!$C$40)","v":"数A"},{"$f":"IF(初期設定!$C$41=\"\",\"\",初期設定!$C$41)","v":"世B"},{"$f":"IF(初期設定!$C$42=\"\",\"\",初期設定!$C$42)","v":"化基"},{"$f":"IF(初期設定!$C$43=\"\",\"\",初期設定!$C$43)","v":""},{"$f":"IF(初期設定!$C$44=\"\",\"\",初期設定!$C$44)","v":""},{"$f":"IF(初期設定!$C$45=\"\",\"\",初期設定!$C$45)","v":""},{"$f":"IF(初期設定!$C$46=\"\",\"\",初期設定!$C$46)","v":""},{"$f":"IF(初期設定!$C$47=\"\",\"\",初期設定!$C$47)","v":""},{"$f":"IF(初期設定!$C$48=\"\",\"\",初期設定!$C$48)","v":""},{"$f":"IF(初期設定!$C$49=\"\",\"\",初期設定!$C$49)","v":""}]
[null,null,"得点",{"$f":"IF(VLOOKUP($H$2,テストデータ!$A$4:$QN$503,28*2+233,FALSE)=\"\",IF(INDIRECT(ADDRESS(ROW()-1,COLUMN()))=\"\",\"\",\"欠\"),VLOOKUP($H$2,テストデータ!$A$4:$QN$503,28*2+233,FALSE))","v":52},{"$f":"IF(VLOOKUP($H$2,テストデータ!$A$4:$QN$503,28*2+235,FALSE)=\"\",IF(INDIRECT(ADDRESS(ROW()-1,COLUMN()))=\"\",\"\",\"欠\"),VLOOKUP($H$2,テストデータ!$A$4:$QN$503,28*2+235,FALSE))","v":35},{"$f":"IF(VLOOKUP($H$2,テストデータ!$A$4:$QN$503,28*2+237,FALSE)=\"\",IF(INDIRECT(ADDRESS(ROW()-1,COLUMN()))=\"\",\"\",\"欠\"),VLOOKUP($H$2,テストデータ!$A$4:$QN$503,28*2+237,FALSE))","v":82},{"$f":"IF(VLOOKUP($H$2,テストデータ!$A$4:$QN$503,28*2+239,FALSE)=\"\",IF(INDIRECT(ADDRESS(ROW()-1,COLUMN()))=\"\",\"\",\"欠\"),VLOOKUP($H$2,テストデータ!$A$4:$QN$503,28*2+239,FALSE))","v":92},{"$f":"IF(VLOOKUP($H$2,テストデータ!$A$4:$QN$503,28*2+241,FALSE)=\"\",IF(INDIRECT(ADDRESS(ROW()-1,COLUMN()))=\"\",\"\",\"欠\"),VLOOKUP($H$2,テストデータ!$A$4:$QN$503,28*2+241,FALSE))","v":"欠"},{"$f":"IF(VLOOKUP($H$2,テストデータ!$A$4:$QN$503,28*2+243,FALSE)=\"\",IF(INDIRECT(ADDRESS(ROW()-1,COLUMN()))=\"\",\"\",\"欠\"),VLOOKUP($H$2,テストデータ!$A$4:$QN$503,28*2+243,FALSE))","v":79},{"$f":"IF(VLOOKUP($H$2,テストデータ!$A$4:$QN$503,28*2+245,FALSE)=\"\",IF(INDIRECT(ADDRESS(ROW()-1,COLUMN()))=\"\",\"\",\"欠\"),VLOOKUP($H$2,テストデータ!$A$4:$QN$503,28*2+245,FALSE))","v":52},{"$f":"IF(VLOOKUP($H$2,テストデータ!$A$4:$QN$503,28*2+247,FALSE)=\"\",IF(INDIRECT(ADDRESS(ROW()-1,COLUMN()))=\"\",\"\",\"欠\"),VLOOKUP($H$2,テストデータ!$A$4:$QN$503,28*2+247,FALSE))","v":""},{"$f":"IF(VLOOKUP($H$2,テストデータ!$A$4:$QN$503,28*2+249,FALSE)=\"\",IF(INDIRECT(ADDRESS(ROW()-1,COLUMN()))=\"\",\"\",\"欠\"),VLOOKUP($H$2,テストデータ!$A$4:$QN$503,28*2+249,FALSE))","v":""},{"$f":"IF(VLOOKUP($H$2,テストデータ!$A$4:$QN$503,28*2+251,FALSE)=\"\",IF(INDIRECT(ADDRESS(ROW()-1,COLUMN()))=\"\",\"\",\"欠\"),VLOOKUP($H$2,テストデータ!$A$4:$QN$503,28*2+251,FALSE))","v":""},{"$f":"IF(VLOOKUP($H$2,テストデータ!$A$4:$QN$503,28*2+253,FALSE)=\"\",IF(INDIRECT(ADDRESS(ROW()-1,COLUMN()))=\"\",\"\",\"欠\"),VLOOKUP($H$2,テストデータ!$A$4:$QN$503,28*2+253,FALSE))","v":""},{"$f":"IF(VLOOKUP($H$2,テストデータ!$A$4:$QN$503,28*2+255,FALSE)=\"\",IF(INDIRECT(ADDRESS(ROW()-1,COLUMN()))=\"\",\"\",\"欠\"),VLOOKUP($H$2,テストデータ!$A$4:$QN$503,28*2+255,FALSE))","v":""},{"$f":"IF(VLOOKUP($H$2,テストデータ!$A$4:$QN$503,28*2+257,FALSE)=\"\",IF(INDIRECT(ADDRESS(ROW()-1,COLUMN()))=\"\",\"\",\"欠\"),VLOOKUP($H$2,テストデータ!$A$4:$QN$503,28*2+257,FALSE))","v":""},{"$f":"IF(VLOOKUP($H$2,テストデータ!$A$4:$QN$503,28*2+259,FALSE)=\"\",IF(INDIRECT(ADDRESS(ROW()-1,COLUMN()))=\"\",\"\",\"欠\"),VLOOKUP($H$2,テストデータ!$A$4:$QN$503,28*2+259,FALSE))","v":""}]
[null,null,"偏差値",{"$f":"IF(OR(INDIRECT(ADDRESS(ROW()-1,COLUMN()))=\"欠\",INDIRECT(ADDRESS(ROW()-1,COLUMN()))=\"\"),NA(),VLOOKUP($H$2,テストデータ!$A$4:$QN$503,28*2+234,FALSE))","v":50},{"$f":"IF(OR(INDIRECT(ADDRESS(ROW()-1,COLUMN()))=\"欠\",INDIRECT(ADDRESS(ROW()-1,COLUMN()))=\"\"),NA(),VLOOKUP($H$2,テストデータ!$A$4:$QN$503,28*2+236,FALSE))","v":41},{"$f":"IF(OR(INDIRECT(ADDRESS(ROW()-1,COLUMN()))=\"欠\",INDIRECT(ADDRESS(ROW()-1,COLUMN()))=\"\"),NA(),VLOOKUP($H$2,テストデータ!$A$4:$QN$503,28*2+238,FALSE))","v":66},{"$f":"IF(OR(INDIRECT(ADDRESS(ROW()-1,COLUMN()))=\"欠\",INDIRECT(ADDRESS(ROW()-1,COLUMN()))=\"\"),NA(),VLOOKUP($H$2,テストデータ!$A$4:$QN$503,28*2+240,FALSE))","v":71},{"$f":"IF(OR(INDIRECT(ADDRESS(ROW()-1,COLUMN()))=\"欠\",INDIRECT(ADDRESS(ROW()-1,COLUMN()))=\"\"),NA(),VLOOKUP($H$2,テストデータ!$A$4:$QN$503,28*2+242,FALSE))","v":{"$error":"#N/A"}},{"$f":"IF(OR(INDIRECT(ADDRESS(ROW()-1,COLUMN()))=\"欠\",INDIRECT(ADDRESS(ROW()-1,COLUMN()))=\"\"),NA(),VLOOKUP($H$2,テストデータ!$A$4:$QN$503,28*2+244,FALSE))","v":61},{"$f":"IF(OR(INDIRECT(ADDRESS(ROW()-1,COLUMN()))=\"欠\",INDIRECT(ADDRESS(ROW()-1,COLUMN()))=\"\"),NA(),VLOOKUP($H$2,テストデータ!$A$4:$QN$503,28*2+246,FALSE))","v":50},{"$f":"IF(OR(INDIRECT(ADDRESS(ROW()-1,COLUMN()))=\"欠\",INDIRECT(ADDRESS(ROW()-1,COLUMN()))=\"\"),NA(),VLOOKUP($H$2,テストデータ!$A$4:$QN$503,28*2+248,FALSE))","v":{"$error":"#N/A"}},{"$f":"IF(OR(INDIRECT(ADDRESS(ROW()-1,COLUMN()))=\"欠\",INDIRECT(ADDRESS(ROW()-1,COLUMN()))=\"\"),NA(),VLOOKUP($H$2,テストデータ!$A$4:$QN$503,28*2+250,FALSE))","v":{"$error":"#N/A"}},{"$f":"IF(OR(INDIRECT(ADDRESS(ROW()-1,COLUMN()))=\"欠\",INDIRECT(ADDRESS(ROW()-1,COLUMN()))=\"\"),NA(),VLOOKUP($H$2,テストデータ!$A$4:$QN$503,28*2+252,FALSE))","v":{"$error":"#N/A"}},{"$f":"IF(OR(INDIRECT(ADDRESS(ROW()-1,COLUMN()))=\"欠\",INDIRECT(ADDRESS(ROW()-1,COLUMN()))=\"\"),NA(),VLOOKUP($H$2,テストデータ!$A$4:$QN$503,28*2+254,FALSE))","v":{"$error":"#N/A"}},{"$f":"IF(OR(INDIRECT(ADDRESS(ROW()-1,COLUMN()))=\"欠\",INDIRECT(ADDRESS(ROW()-1,COLUMN()))=\"\"),NA(),VLOOKUP($H$2,テストデータ!$A$4:$QN$503,28*2+256,FALSE))","v":{"$error":"#N/A"}},{"$f":"IF(OR(INDIRECT(ADDRESS(ROW()-1,COLUMN()))=\"欠\",INDIRECT(ADDRESS(ROW()-1,COLUMN()))=\"\"),NA(),VLOOKUP($H$2,テストデータ!$A$4:$QN$503,28*2+258,FALSE))","v":{"$error":"#N/A"}},{"$f":"IF(OR(INDIRECT(ADDRESS(ROW()-1,COLUMN()))=\"欠\",INDIRECT(ADDRESS(ROW()-1,COLUMN()))=\"\"),NA(),VLOOKUP($H$2,テストデータ!$A$4:$QN$503,28*2+260,FALSE))","v":{"$error":"#N/A"}}]
[null,null,"校内順位",{"$f":"IF(INDIRECT(ADDRESS(ROW()-2,COLUMN()))=\"欠\",\"\",RANK(INDIRECT(ADDRESS(ROW()-2,COLUMN())),OFFSET(テストデータ!$HY$3,1,28*2+0):OFFSET(テストデータ!$HY$3,500,28*2+0)))","v":13},{"$f":"IF(INDIRECT(ADDRESS(ROW()-2,COLUMN()))=\"欠\",\"\",RANK(INDIRECT(ADDRESS(ROW()-2,COLUMN())),OFFSET(テストデータ!$HY$3,1,28*2+2):OFFSET(テストデータ!$HY$3,500,28*2+2)))","v":18},{"$f":"IF(INDIRECT(ADDRESS(ROW()-2,COLUMN()))=\"欠\",\"\",RANK(INDIRECT(ADDRESS(ROW()-2,COLUMN())),OFFSET(テストデータ!$HY$3,1,28*2+4):OFFSET(テストデータ!$HY$3,500,28*2+4)))","v":2},{"$f":"IF(INDIRECT(ADDRESS(ROW()-2,COLUMN()))=\"欠\",\"\",RANK(INDIRECT(ADDRESS(ROW()-2,COLUMN())),OFFSET(テストデータ!$HY$3,1,28*2+6):OFFSET(テストデータ!$HY$3,500,28*2+6)))","v":1},{"$f":"IF(INDIRECT(ADDRESS(ROW()-2,COLUMN()))=\"欠\",\"\",RANK(INDIRECT(ADDRESS(ROW()-2,COLUMN())),OFFSET(テストデータ!$HY$3,1,28*2+8):OFFSET(テストデータ!$HY$3,500,28*2+8)))","v":""},{"$f":"IF(INDIRECT(ADDRESS(ROW()-2,COLUMN()))=\"欠\",\"\",RANK(INDIRECT(ADDRESS(ROW()-2,COLUMN())),OFFSET(テストデータ!$HY$3,1,28*2+10):OFFSET(テストデータ!$HY$3,500,28*2+10)))","v":1},{"$f":"IF(INDIRECT(ADDRESS(ROW()-2,COLUMN()))=\"欠\",\"\",RANK(INDIRECT(ADDRESS(ROW()-2,COLUMN())),OFFSET(テストデータ!$HY$3,1,28*2+12):OFFSET(テストデータ!$HY$3,500,28*2+12)))","v":13},{"$f":"IF(INDIRECT(ADDRESS(ROW()-2,COLUMN()))=\"欠\",\"\",RANK(INDIRECT(ADDRESS(ROW()-2,COLUMN())),OFFSET(テストデータ!$HY$3,1,28*2+14):OFFSET(テストデータ!$HY$3,500,28*2+14)))","v":{"$error":"#VALUE!"}},{"$f":"IF(INDIRECT(ADDRESS(ROW()-2,COLUMN()))=\"欠\",\"\",RANK(INDIRECT(ADDRESS(ROW()-2,COLUMN())),OFFSET(テストデータ!$HY$3,1,28*2+16):OFFSET(テストデータ!$HY$3,500,28*2+16)))","v":{"$error":"#VALUE!"}},{"$f":"IF(INDIRECT(ADDRESS(ROW()-2,COLUMN()))=\"欠\",\"\",RANK(INDIRECT(ADDRESS(ROW()-2,COLUMN())),OFFSET(テストデータ!$HY$3,1,28*2+18):OFFSET(テストデータ!$HY$3,500,28*2+18)))","v":{"$error":"#VALUE!"}},{"$f":"IF(INDIRECT(ADDRESS(ROW()-2,COLUMN()))=\"欠\",\"\",RANK(INDIRECT(ADDRESS(ROW()-2,COLUMN())),OFFSET(テストデータ!$HY$3,1,28*2+20):OFFSET(テストデータ!$HY$3,500,28*2+20)))","v":{"$error":"#VALUE!"}},{"$f":"IF(INDIRECT(ADDRESS(ROW()-2,COLUMN()))=\"欠\",\"\",RANK(INDIRECT(ADDRESS(ROW()-2,COLUMN())),OFFSET(テストデータ!$HY$3,1,28*2+22):OFFSET(テストデータ!$HY$3,500,28*2+22)))","v":{"$error":"#VALUE!"}},{"$f":"IF(INDIRECT(ADDRESS(ROW()-2,COLUMN()))=\"欠\",\"\",RANK(INDIRECT(ADDRESS(ROW()-2,COLUMN())),OFFSET(テストデータ!$HY$3,1,28*2+24):OFFSET(テストデータ!$HY$3,500,28*2+24)))","v":{"$error":"#VALUE!"}},{"$f":"IF(INDIRECT(ADDRESS(ROW()-2,COLUMN()))=\"欠\",\"\",RANK(INDIRECT(ADDRESS(ROW()-2,COLUMN())),OFFSET(テストデータ!$HY$3,1,28*2+26):OFFSET(テストデータ!$HY$3,500,28*2+26)))","v":{"$error":"#VALUE!"}}]
[null,"第4回",{"$f":"IF(テストデータ!$LE$2=\"\",\"\",テストデータ!$LE$2)","v":"5/4"},{"$f":"IF(初期設定!$C$36=\"\",\"\",初期設定!$C$36)","v":"国総"},{"$f":"IF(初期設定!$C$37=\"\",\"\",初期設定!$C$37)","v":"英表"},{"$f":"IF(初期設定!$C$38=\"\",\"\",初期設定!$C$38)","v":"コ英"},{"$f":"IF(初期設定!$C$39=\"\",\"\",初期設定!$C$39)","v":"数Ⅰ"},{"$f":"IF(初期設定!$C$40=\"\",\"\",初期設定!$C$40)","v":"数A"},{"$f":"IF(初期設定!$C$41=\"\",\"\",初期設定!$C$41)","v":"世B"},{"$f":"IF(初期設定!$C$42=\"\",\"\",初期設定!$C$42)","v":"化基"},{"$f":"IF(初期設定!$C$43=\"\",\"\",初期設定!$C$43)","v":""},{"$f":"IF(初期設定!$C$44=\"\",\"\",初期設定!$C$44)","v":""},{"$f":"IF(初期設定!$C$45=\"\",\"\",初期設定!$C$45)","v":""},{"$f":"IF(初期設定!$C$46=\"\",\"\",初期設定!$C$46)","v":""},{"$f":"IF(初期設定!$C$47=\"\",\"\",初期設定!$C$47)","v":""},{"$f":"IF(初期設定!$C$48=\"\",\"\",初期設定!$C$48)","v":""},{"$f":"IF(初期設定!$C$49=\"\",\"\",初期設定!$C$49)","v":""}]
[null,null,"得点",{"$f":"IF(VLOOKUP($H$2,テストデータ!$A$4:$QN$503,28*3+233,FALSE)=\"\",IF(INDIRECT(ADDRESS(ROW()-1,COLUMN()))=\"\",\"\",\"欠\"),VLOOKUP($H$2,テストデータ!$A$4:$QN$503,28*3+233,FALSE))","v":60},{"$f":"IF(VLOOKUP($H$2,テストデータ!$A$4:$QN$503,28*3+235,FALSE)=\"\",IF(INDIRECT(ADDRESS(ROW()-1,COLUMN()))=\"\",\"\",\"欠\"),VLOOKUP($H$2,テストデータ!$A$4:$QN$503,28*3+235,FALSE))","v":35},{"$f":"IF(VLOOKUP($H$2,テストデータ!$A$4:$QN$503,28*3+237,FALSE)=\"\",IF(INDIRECT(ADDRESS(ROW()-1,COLUMN()))=\"\",\"\",\"欠\"),VLOOKUP($H$2,テストデータ!$A$4:$QN$503,28*3+237,FALSE))","v":82},{"$f":"IF(VLOOKUP($H$2,テストデータ!$A$4:$QN$503,28*3+239,FALSE)=\"\",IF(INDIRECT(ADDRESS(ROW()-1,COLUMN()))=\"\",\"\",\"欠\"),VLOOKUP($H$2,テストデータ!$A$4:$QN$503,28*3+239,FALSE))","v":90},{"$f":"IF(VLOOKUP($H$2,テストデータ!$A$4:$QN$503,28*3+241,FALSE)=\"\",IF(INDIRECT(ADDRESS(ROW()-1,COLUMN()))=\"\",\"\",\"欠\"),VLOOKUP($H$2,テストデータ!$A$4:$QN$503,28*3+241,FALSE))","v":"欠"},{"$f":"IF(VLOOKUP($H$2,テストデータ!$A$4:$QN$503,28*3+243,FALSE)=\"\",IF(INDIRECT(ADDRESS(ROW()-1,COLUMN()))=\"\",\"\",\"欠\"),VLOOKUP($H$2,テストデータ!$A$4:$QN$503,28*3+243,FALSE))","v":79},{"$f":"IF(VLOOKUP($H$2,テストデータ!$A$4:$QN$503,28*3+245,FALSE)=\"\",IF(INDIRECT(ADDRESS(ROW()-1,COLUMN()))=\"\",\"\",\"欠\"),VLOOKUP($H$2,テストデータ!$A$4:$QN$503,28*3+245,FALSE))","v":52},{"$f":"IF(VLOOKUP($H$2,テストデータ!$A$4:$QN$503,28*3+247,FALSE)=\"\",IF(INDIRECT(ADDRESS(ROW()-1,COLUMN()))=\"\",\"\",\"欠\"),VLOOKUP($H$2,テストデータ!$A$4:$QN$503,28*3+247,FALSE))","v":""},{"$f":"IF(VLOOKUP($H$2,テストデータ!$A$4:$QN$503,28*3+249,FALSE)=\"\",IF(INDIRECT(ADDRESS(ROW()-1,COLUMN()))=\"\",\"\",\"欠\"),VLOOKUP($H$2,テストデータ!$A$4:$QN$503,28*3+249,FALSE))","v":""},{"$f":"IF(VLOOKUP($H$2,テストデータ!$A$4:$QN$503,28*3+251,FALSE)=\"\",IF(INDIRECT(ADDRESS(ROW()-1,COLUMN()))=\"\",\"\",\"欠\"),VLOOKUP($H$2,テストデータ!$A$4:$QN$503,28*3+251,FALSE))","v":""},{"$f":"IF(VLOOKUP($H$2,テストデータ!$A$4:$QN$503,28*3+253,FALSE)=\"\",IF(INDIRECT(ADDRESS(ROW()-1,COLUMN()))=\"\",\"\",\"欠\"),VLOOKUP($H$2,テストデータ!$A$4:$QN$503,28*3+253,FALSE))","v":""},{"$f":"IF(VLOOKUP($H$2,テストデータ!$A$4:$QN$503,28*3+255,FALSE)=\"\",IF(INDIRECT(ADDRESS(ROW()-1,COLUMN()))=\"\",\"\",\"欠\"),VLOOKUP($H$2,テストデータ!$A$4:$QN$503,28*3+255,FALSE))","v":""},{"$f":"IF(VLOOKUP($H$2,テストデータ!$A$4:$QN$503,28*3+257,FALSE)=\"\",IF(INDIRECT(ADDRESS(ROW()-1,COLUMN()))=\"\",\"\",\"欠\"),VLOOKUP($H$2,テストデータ!$A$4:$QN$503,28*3+257,FALSE))","v":""},{"$f":"IF(VLOOKUP($H$2,テストデータ!$A$4:$QN$503,28*3+259,FALSE)=\"\",IF(INDIRECT(ADDRESS(ROW()-1,COLUMN()))=\"\",\"\",\"欠\"),VLOOKUP($H$2,テストデータ!$A$4:$QN$503,28*3+259,FALSE))","v":""}]
[null,null,"偏差値",{"$f":"IF(OR(INDIRECT(ADDRESS(ROW()-1,COLUMN()))=\"欠\",INDIRECT(ADDRESS(ROW()-1,COLUMN()))=\"\"),NA(),VLOOKUP($H$2,テストデータ!$A$4:$QN$503,28*3+234,FALSE))","v":56},{"$f":"IF(OR(INDIRECT(ADDRESS(ROW()-1,COLUMN()))=\"欠\",INDIRECT(ADDRESS(ROW()-1,COLUMN()))=\"\"),NA(),VLOOKUP($H$2,テストデータ!$A$4:$QN$503,28*3+236,FALSE))","v":41},{"$f":"IF(OR(INDIRECT(ADDRESS(ROW()-1,COLUMN()))=\"欠\",INDIRECT(ADDRESS(ROW()-1,COLUMN()))=\"\"),NA(),VLOOKUP($H$2,テストデータ!$A$4:$QN$503,28*3+238,FALSE))","v":66},{"$f":"IF(OR(INDIRECT(ADDRESS(ROW()-1,COLUMN()))=\"欠\",INDIRECT(ADDRESS(ROW()-1,COLUMN()))=\"\"),NA(),VLOOKUP($H$2,テストデータ!$A$4:$QN$503,28*3+240,FALSE))","v":70},{"$f":"IF(OR(INDIRECT(ADDRESS(ROW()-1,COLUMN()))=\"欠\",INDIRECT(ADDRESS(ROW()-1,COLUMN()))=\"\"),NA(),VLOOKUP($H$2,テストデータ!$A$4:$QN$503,28*3+242,FALSE))","v":{"$error":"#N/A"}},{"$f":"IF(OR(INDIRECT(ADDRESS(ROW()-1,COLUMN()))=\"欠\",INDIRECT(ADDRESS(ROW()-1,COLUMN()))=\"\"),NA(),VLOOKUP($H$2,テストデータ!$A$4:$QN$503,28*3+244,FALSE))","v":61},{"$f":"IF(OR(INDIRECT(ADDRESS(ROW()-1,COLUMN()))=\"欠\",INDIRECT(ADDRESS(ROW()-1,COLUMN()))=\"\"),NA(),VLOOKUP($H$2,テストデータ!$A$4:$QN$503,28*3+246,FALSE))","v":50},{"$f":"IF(OR(INDIRECT(ADDRESS(ROW()-1,COLUMN()))=\"欠\",INDIRECT(ADDRESS(ROW()-1,COLUMN()))=\"\"),NA(),VLOOKUP($H$2,テストデータ!$A$4:$QN$503,28*3+248,FALSE))","v":{"$error":"#N/A"}},{"$f":"IF(OR(INDIRECT(ADDRESS(ROW()-1,COLUMN()))=\"欠\",INDIRECT(ADDRESS(ROW()-1,COLUMN()))=\"\"),NA(),VLOOKUP($H$2,テストデータ!$A$4:$QN$503,28*3+250,FALSE))","v":{"$error":"#N/A"}},{"$f":"IF(OR(INDIRECT(ADDRESS(ROW()-1,COLUMN()))=\"欠\",INDIRECT(ADDRESS(ROW()-1,COLUMN()))=\"\"),NA(),VLOOKUP($H$2,テストデータ!$A$4:$QN$503,28*3+252,FALSE))","v":{"$error":"#N/A"}},{"$f":"IF(OR(INDIRECT(ADDRESS(ROW()-1,COLUMN()))=\"欠\",INDIRECT(ADDRESS(ROW()-1,COLUMN()))=\"\"),NA(),VLOOKUP($H$2,テストデータ!$A$4:$QN$503,28*3+254,FALSE))","v":{"$error":"#N/A"}},{"$f":"IF(OR(INDIRECT(ADDRESS(ROW()-1,COLUMN()))=\"欠\",INDIRECT(ADDRESS(ROW()-1,COLUMN()))=\"\"),NA(),VLOOKUP($H$2,テストデータ!$A$4:$QN$503,28*3+256,FALSE))","v":{"$error":"#N/A"}},{"$f":"IF(OR(INDIRECT(ADDRESS(ROW()-1,COLUMN()))=\"欠\",INDIRECT(ADDRESS(ROW()-1,COLUMN()))=\"\"),NA(),VLOOKUP($H$2,テストデータ!$A$4:$QN$503,28*3+258,FALSE))","v":{"$error":"#N/A"}},{"$f":"IF(OR(INDIRECT(ADDRESS(ROW()-1,COLUMN()))=\"欠\",INDIRECT(ADDRESS(ROW()-1,COLUMN()))=\"\"),NA(),VLOOKUP($H$2,テストデータ!$A$4:$QN$503,28*3+260,FALSE))","v":{"$error":"#N/A"}}]
[null,null,"校内順位",{"$f":"IF(INDIRECT(ADDRESS(ROW()-2,COLUMN()))=\"欠\",\"\",RANK(INDIRECT(ADDRESS(ROW()-2,COLUMN())),OFFSET(テストデータ!$HY$3,1,28*3+0):OFFSET(テストデータ!$HY$3,500,28*3+0)))","v":8},{"$f":"IF(INDIRECT(ADDRESS(ROW()-2,COLUMN()))=\"欠\",\"\",RANK(INDIRECT(ADDRESS(ROW()-2,COLUMN())),OFFSET(テストデータ!$HY$3,1,28*3+2):OFFSET(テストデータ!$HY$3,500,28*3+2)))","v":18},{"$f":"IF(INDIRECT(ADDRESS(ROW()-2,COLUMN()))=\"欠\",\"\",RANK(INDIRECT(ADDRESS(ROW()-2,COLUMN())),OFFSET(テストデータ!$HY$3,1,28*3+4):OFFSET(テストデータ!$HY$3,500,28*3+4)))","v":2},{"$f":"IF(INDIRECT(ADDRESS(ROW()-2,COLUMN()))=\"欠\",\"\",RANK(INDIRECT(ADDRESS(ROW()-2,COLUMN())),OFFSET(テストデータ!$HY$3,1,28*3+6):OFFSET(テストデータ!$HY$3,500,28*3+6)))","v":1},{"$f":"IF(INDIRECT(ADDRESS(ROW()-2,COLUMN()))=\"欠\",\"\",RANK(INDIRECT(ADDRESS(ROW()-2,COLUMN())),OFFSET(テストデータ!$HY$3,1,28*3+8):OFFSET(テストデータ!$HY$3,500,28*3+8)))","v":""},{"$f":"IF(INDIRECT(ADDRESS(ROW()-2,COLUMN()))=\"欠\",\"\",RANK(INDIRECT(ADDRESS(ROW()-2,COLUMN())),OFFSET(テストデータ!$HY$3,1,28*3+10):OFFSET(テストデータ!$HY$3,500,28*3+10)))","v":1},{"$f":"IF(INDIRECT(ADDRESS(ROW()-2,COLUMN()))=\"欠\",\"\",RANK(INDIRECT(ADDRESS(ROW()-2,COLUMN())),OFFSET(テストデータ!$HY$3,1,28*3+12):OFFSET(テストデータ!$HY$3,500,28*3+12)))","v":13},{"$f":"IF(INDIRECT(ADDRESS(ROW()-2,COLUMN()))=\"欠\",\"\",RANK(INDIRECT(ADDRESS(ROW()-2,COLUMN())),OFFSET(テストデータ!$HY$3,1,28*3+14):OFFSET(テストデータ!$HY$3,500,28*3+14)))","v":{"$error":"#VALUE!"}},{"$f":"IF(INDIRECT(ADDRESS(ROW()-2,COLUMN()))=\"欠\",\"\",RANK(INDIRECT(ADDRESS(ROW()-2,COLUMN())),OFFSET(テストデータ!$HY$3,1,28*3+16):OFFSET(テストデータ!$HY$3,500,28*3+16)))","v":{"$error":"#VALUE!"}},{"$f":"IF(INDIRECT(ADDRESS(ROW()-2,COLUMN()))=\"欠\",\"\",RANK(INDIRECT(ADDRESS(ROW()-2,COLUMN())),OFFSET(テストデータ!$HY$3,1,28*3+18):OFFSET(テストデータ!$HY$3,500,28*3+18)))","v":{"$error":"#VALUE!"}},{"$f":"IF(INDIRECT(ADDRESS(ROW()-2,COLUMN()))=\"欠\",\"\",RANK(INDIRECT(ADDRESS(ROW()-2,COLUMN())),OFFSET(テストデータ!$HY$3,1,28*3+20):OFFSET(テストデータ!$HY$3,500,28*3+20)))","v":{"$error":"#VALUE!"}},{"$f":"IF(INDIRECT(ADDRESS(ROW()-2,COLUMN()))=\"欠\",\"\",RANK(INDIRECT(ADDRESS(ROW()-2,COLUMN())),OFFSET(テストデータ!$HY$3,1,28*3+22):OFFSET(テストデータ!$HY$3,500,28*3+22)))","v":{"$error":"#VALUE!"}},{"$f":"IF(INDIRECT(ADDRESS(ROW()-2,COLUMN()))=\"欠\",\"\",RANK(INDIRECT(ADDRESS(ROW()-2,COLUMN())),OFFSET(テストデータ!$HY$3,1,28*3+24):OFFSET(テストデータ!$HY$3,500,28*3+24)))","v":{"$error":"#VALUE!"}},{"$f":"IF(INDIRECT(ADDRESS(ROW()-2,COLUMN()))=\"欠\",\"\",RANK(INDIRECT(ADDRESS(ROW()-2,COLUMN())),OFFSET(テストデータ!$HY$3,1,28*3+26):OFFSET(テストデータ!$HY$3,500,28*3+26)))","v":{"$error":"#VALUE!"}}]
[null,"第5回",{"$f":"IF(テストデータ!$MG$2=\"\",\"\",テストデータ!$MG$2)","v":"6/4"},{"$f":"IF(初期設定!$C$36=\"\",\"\",初期設定!$C$36)","v":"国総"},{"$f":"IF(初期設定!$C$37=\"\",\"\",初期設定!$C$37)","v":"英表"},{"$f":"IF(初期設定!$C$38=\"\",\"\",初期設定!$C$38)","v":"コ英"},{"$f":"IF(初期設定!$C$39=\"\",\"\",初期設定!$C$39)","v":"数Ⅰ"},{"$f":"IF(初期設定!$C$40=\"\",\"\",初期設定!$C$40)","v":"数A"},{"$f":"IF(初期設定!$C$41=\"\",\"\",初期設定!$C$41)","v":"世B"},{"$f":"IF(初期設定!$C$42=\"\",\"\",初期設定!$C$42)","v":"化基"},{"$f":"IF(初期設定!$C$43=\"\",\"\",初期設定!$C$43)","v":""},{"$f":"IF(初期設定!$C$44=\"\",\"\",初期設定!$C$44)","v":""},{"$f":"IF(初期設定!$C$45=\"\",\"\",初期設定!$C$45)","v":""},{"$f":"IF(初期設定!$C$46=\"\",\"\",初期設定!$C$46)","v":""},{"$f":"IF(初期設定!$C$47=\"\",\"\",初期設定!$C$47)","v":""},{"$f":"IF(初期設定!$C$48=\"\",\"\",初期設定!$C$48)","v":""},{"$f":"IF(初期設定!$C$49=\"\",\"\",初期設定!$C$49)","v":""}]
[null,null,"得点",{"$f":"IF(VLOOKUP($H$2,テストデータ!$A$4:$QN$503,28*4+233,FALSE)=\"\",IF(INDIRECT(ADDRESS(ROW()-1,COLUMN()))=\"\",\"\",\"欠\"),VLOOKUP($H$2,テストデータ!$A$4:$QN$503,28*4+233,FALSE))","v":52},{"$f":"IF(VLOOKUP($H$2,テストデータ!$A$4:$QN$503,28*4+235,FALSE)=\"\",IF(INDIRECT(ADDRESS(ROW()-1,COLUMN()))=\"\",\"\",\"欠\"),VLOOKUP($H$2,テストデータ!$A$4:$QN$503,28*4+235,FALSE))","v":35},{"$f":"IF(VLOOKUP($H$2,テストデータ!$A$4:$QN$503,28*4+237,FALSE)=\"\",IF(INDIRECT(ADDRESS(ROW()-1,COLUMN()))=\"\",\"\",\"欠\"),VLOOKUP($H$2,テストデータ!$A$4:$QN$503,28*4+237,FALSE))","v":82},{"$f":"IF(VLOOKUP($H$2,テストデータ!$A$4:$QN$503,28*4+239,FALSE)=\"\",IF(INDIRECT(ADDRESS(ROW()-1,COLUMN()))=\"\",\"\",\"欠\"),VLOOKUP($H$2,テストデータ!$A$4:$QN$503,28*4+239,FALSE))","v":92},{"$f":"IF(VLOOKUP($H$2,テストデータ!$A$4:$QN$503,28*4+241,FALSE)=\"\",IF(INDIRECT(ADDRESS(ROW()-1,COLUMN()))=\"\",\"\",\"欠\"),VLOOKUP($H$2,テストデータ!$A$4:$QN$503,28*4+241,FALSE))","v":"欠"},{"$f":"IF(VLOOKUP($H$2,テストデータ!$A$4:$QN$503,28*4+243,FALSE)=\"\",IF(INDIRECT(ADDRESS(ROW()-1,COLUMN()))=\"\",\"\",\"欠\"),VLOOKUP($H$2,テストデータ!$A$4:$QN$503,28*4+243,FALSE))","v":79},{"$f":"IF(VLOOKUP($H$2,テストデータ!$A$4:$QN$503,28*4+245,FALSE)=\"\",IF(INDIRECT(ADDRESS(ROW()-1,COLUMN()))=\"\",\"\",\"欠\"),VLOOKUP($H$2,テストデータ!$A$4:$QN$503,28*4+245,FALSE))","v":52},{"$f":"IF(VLOOKUP($H$2,テストデータ!$A$4:$QN$503,28*4+247,FALSE)=\"\",IF(INDIRECT(ADDRESS(ROW()-1,COLUMN()))=\"\",\"\",\"欠\"),VLOOKUP($H$2,テストデータ!$A$4:$QN$503,28*4+247,FALSE))","v":""},{"$f":"IF(VLOOKUP($H$2,テストデータ!$A$4:$QN$503,28*4+249,FALSE)=\"\",IF(INDIRECT(ADDRESS(ROW()-1,COLUMN()))=\"\",\"\",\"欠\"),VLOOKUP($H$2,テストデータ!$A$4:$QN$503,28*4+249,FALSE))","v":""},{"$f":"IF(VLOOKUP($H$2,テストデータ!$A$4:$QN$503,28*4+251,FALSE)=\"\",IF(INDIRECT(ADDRESS(ROW()-1,COLUMN()))=\"\",\"\",\"欠\"),VLOOKUP($H$2,テストデータ!$A$4:$QN$503,28*4+251,FALSE))","v":""},{"$f":"IF(VLOOKUP($H$2,テストデータ!$A$4:$QN$503,28*4+253,FALSE)=\"\",IF(INDIRECT(ADDRESS(ROW()-1,COLUMN()))=\"\",\"\",\"欠\"),VLOOKUP($H$2,テストデータ!$A$4:$QN$503,28*4+253,FALSE))","v":""},{"$f":"IF(VLOOKUP($H$2,テストデータ!$A$4:$QN$503,28*4+255,FALSE)=\"\",IF(INDIRECT(ADDRESS(ROW()-1,COLUMN()))=\"\",\"\",\"欠\"),VLOOKUP($H$2,テストデータ!$A$4:$QN$503,28*4+255,FALSE))","v":""},{"$f":"IF(VLOOKUP($H$2,テストデータ!$A$4:$QN$503,28*4+257,FALSE)=\"\",IF(INDIRECT(ADDRESS(ROW()-1,COLUMN()))=\"\",\"\",\"欠\"),VLOOKUP($H$2,テストデータ!$A$4:$QN$503,28*4+257,FALSE))","v":""},{"$f":"IF(VLOOKUP($H$2,テストデータ!$A$4:$QN$503,28*4+259,FALSE)=\"\",IF(INDIRECT(ADDRESS(ROW()-1,COLUMN()))=\"\",\"\",\"欠\"),VLOOKUP($H$2,テストデータ!$A$4:$QN$503,28*4+259,FALSE))","v":""}]
[null,null,"偏差値",{"$f":"IF(OR(INDIRECT(ADDRESS(ROW()-1,COLUMN()))=\"欠\",INDIRECT(ADDRESS(ROW()-1,COLUMN()))=\"\"),NA(),VLOOKUP($H$2,テストデータ!$A$4:$QN$503,28*4+234,FALSE))","v":50},{"$f":"IF(OR(INDIRECT(ADDRESS(ROW()-1,COLUMN()))=\"欠\",INDIRECT(ADDRESS(ROW()-1,COLUMN()))=\"\"),NA(),VLOOKUP($H$2,テストデータ!$A$4:$QN$503,28*4+236,FALSE))","v":41},{"$f":"IF(OR(INDIRECT(ADDRESS(ROW()-1,COLUMN()))=\"欠\",INDIRECT(ADDRESS(ROW()-1,COLUMN()))=\"\"),NA(),VLOOKUP($H$2,テストデータ!$A$4:$QN$503,28*4+238,FALSE))","v":66},{"$f":"IF(OR(INDIRECT(ADDRESS(ROW()-1,COLUMN()))=\"欠\",INDIRECT(ADDRESS(ROW()-1,COLUMN()))=\"\"),NA(),VLOOKUP($H$2,テストデータ!$A$4:$QN$503,28*4+240,FALSE))","v":71},{"$f":"IF(OR(INDIRECT(ADDRESS(ROW()-1,COLUMN()))=\"欠\",INDIRECT(ADDRESS(ROW()-1,COLUMN()))=\"\"),NA(),VLOOKUP($H$2,テストデータ!$A$4:$QN$503,28*4+242,FALSE))","v":{"$error":"#N/A"}},{"$f":"IF(OR(INDIRECT(ADDRESS(ROW()-1,COLUMN()))=\"欠\",INDIRECT(ADDRESS(ROW()-1,COLUMN()))=\"\"),NA(),VLOOKUP($H$2,テストデータ!$A$4:$QN$503,28*4+244,FALSE))","v":61},{"$f":"IF(OR(INDIRECT(ADDRESS(ROW()-1,COLUMN()))=\"欠\",INDIRECT(ADDRESS(ROW()-1,COLUMN()))=\"\"),NA(),VLOOKUP($H$2,テストデータ!$A$4:$QN$503,28*4+246,FALSE))","v":50},{"$f":"IF(OR(INDIRECT(ADDRESS(ROW()-1,COLUMN()))=\"欠\",INDIRECT(ADDRESS(ROW()-1,COLUMN()))=\"\"),NA(),VLOOKUP($H$2,テストデータ!$A$4:$QN$503,28*4+248,FALSE))","v":{"$error":"#N/A"}},{"$f":"IF(OR(INDIRECT(ADDRESS(ROW()-1,COLUMN()))=\"欠\",INDIRECT(ADDRESS(ROW()-1,COLUMN()))=\"\"),NA(),VLOOKUP($H$2,テストデータ!$A$4:$QN$503,28*4+250,FALSE))","v":{"$error":"#N/A"}},{"$f":"IF(OR(INDIRECT(ADDRESS(ROW()-1,COLUMN()))=\"欠\",INDIRECT(ADDRESS(ROW()-1,COLUMN()))=\"\"),NA(),VLOOKUP($H$2,テストデータ!$A$4:$QN$503,28*4+252,FALSE))","v":{"$error":"#N/A"}},{"$f":"IF(OR(INDIRECT(ADDRESS(ROW()-1,COLUMN()))=\"欠\",INDIRECT(ADDRESS(ROW()-1,COLUMN()))=\"\"),NA(),VLOOKUP($H$2,テストデータ!$A$4:$QN$503,28*4+254,FALSE))","v":{"$error":"#N/A"}},{"$f":"IF(OR(INDIRECT(ADDRESS(ROW()-1,COLUMN()))=\"欠\",INDIRECT(ADDRESS(ROW()-1,COLUMN()))=\"\"),NA(),VLOOKUP($H$2,テストデータ!$A$4:$QN$503,28*4+256,FALSE))","v":{"$error":"#N/A"}},{"$f":"IF(OR(INDIRECT(ADDRESS(ROW()-1,COLUMN()))=\"欠\",INDIRECT(ADDRESS(ROW()-1,COLUMN()))=\"\"),NA(),VLOOKUP($H$2,テストデータ!$A$4:$QN$503,28*4+258,FALSE))","v":{"$error":"#N/A"}},{"$f":"IF(OR(INDIRECT(ADDRESS(ROW()-1,COLUMN()))=\"欠\",INDIRECT(ADDRESS(ROW()-1,COLUMN()))=\"\"),NA(),VLOOKUP($H$2,テストデータ!$A$4:$QN$503,28*4+260,FALSE))","v":{"$error":"#N/A"}}]
[null,null,"校内順位",{"$f":"IF(INDIRECT(ADDRESS(ROW()-2,COLUMN()))=\"欠\",\"\",RANK(INDIRECT(ADDRESS(ROW()-2,COLUMN())),OFFSET(テストデータ!$HY$3,1,28*4+0):OFFSET(テストデータ!$HY$3,500,28*4+0)))","v":13},{"$f":"IF(INDIRECT(ADDRESS(ROW()-2,COLUMN()))=\"欠\",\"\",RANK(INDIRECT(ADDRESS(ROW()-2,COLUMN())),OFFSET(テストデータ!$HY$3,1,28*4+2):OFFSET(テストデータ!$HY$3,500,28*4+2)))","v":18},{"$f":"IF(INDIRECT(ADDRESS(ROW()-2,COLUMN()))=\"欠\",\"\",RANK(INDIRECT(ADDRESS(ROW()-2,COLUMN())),OFFSET(テストデータ!$HY$3,1,28*4+4):OFFSET(テストデータ!$HY$3,500,28*4+4)))","v":2},{"$f":"IF(INDIRECT(ADDRESS(ROW()-2,COLUMN()))=\"欠\",\"\",RANK(INDIRECT(ADDRESS(ROW()-2,COLUMN())),OFFSET(テストデータ!$HY$3,1,28*4+6):OFFSET(テストデータ!$HY$3,500,28*4+6)))","v":1},{"$f":"IF(INDIRECT(ADDRESS(ROW()-2,COLUMN()))=\"欠\",\"\",RANK(INDIRECT(ADDRESS(ROW()-2,COLUMN())),OFFSET(テストデータ!$HY$3,1,28*4+8):OFFSET(テストデータ!$HY$3,500,28*4+8)))","v":""},{"$f":"IF(INDIRECT(ADDRESS(ROW()-2,COLUMN()))=\"欠\",\"\",RANK(INDIRECT(ADDRESS(ROW()-2,COLUMN())),OFFSET(テストデータ!$HY$3,1,28*4+10):OFFSET(テストデータ!$HY$3,500,28*4+10)))","v":1},{"$f":"IF(INDIRECT(ADDRESS(ROW()-2,COLUMN()))=\"欠\",\"\",RANK(INDIRECT(ADDRESS(ROW()-2,COLUMN())),OFFSET(テストデータ!$HY$3,1,28*4+12):OFFSET(テストデータ!$HY$3,500,28*4+12)))","v":13},{"$f":"IF(INDIRECT(ADDRESS(ROW()-2,COLUMN()))=\"欠\",\"\",RANK(INDIRECT(ADDRESS(ROW()-2,COLUMN())),OFFSET(テストデータ!$HY$3,1,28*4+14):OFFSET(テストデータ!$HY$3,500,28*4+14)))","v":{"$error":"#VALUE!"}},{"$f":"IF(INDIRECT(ADDRESS(ROW()-2,COLUMN()))=\"欠\",\"\",RANK(INDIRECT(ADDRESS(ROW()-2,COLUMN())),OFFSET(テストデータ!$HY$3,1,28*4+16):OFFSET(テストデータ!$HY$3,500,28*4+16)))","v":{"$error":"#VALUE!"}},{"$f":"IF(INDIRECT(ADDRESS(ROW()-2,COLUMN()))=\"欠\",\"\",RANK(INDIRECT(ADDRESS(ROW()-2,COLUMN())),OFFSET(テストデータ!$HY$3,1,28*4+18):OFFSET(テストデータ!$HY$3,500,28*4+18)))","v":{"$error":"#VALUE!"}},{"$f":"IF(INDIRECT(ADDRESS(ROW()-2,COLUMN()))=\"欠\",\"\",RANK(INDIRECT(ADDRESS(ROW()-2,COLUMN())),OFFSET(テストデータ!$HY$3,1,28*4+20):OFFSET(テストデータ!$HY$3,500,28*4+20)))","v":{"$error":"#VALUE!"}},{"$f":"IF(INDIRECT(ADDRESS(ROW()-2,COLUMN()))=\"欠\",\"\",RANK(INDIRECT(ADDRESS(ROW()-2,COLUMN())),OFFSET(テストデータ!$HY$3,1,28*4+22):OFFSET(テストデータ!$HY$3,500,28*4+22)))","v":{"$error":"#VALUE!"}},{"$f":"IF(INDIRECT(ADDRESS(ROW()-2,COLUMN()))=\"欠\",\"\",RANK(INDIRECT(ADDRESS(ROW()-2,COLUMN())),OFFSET(テストデータ!$HY$3,1,28*4+24):OFFSET(テストデータ!$HY$3,500,28*4+24)))","v":{"$error":"#VALUE!"}},{"$f":"IF(INDIRECT(ADDRESS(ROW()-2,COLUMN()))=\"欠\",\"\",RANK(INDIRECT(ADDRESS(ROW()-2,COLUMN())),OFFSET(テストデータ!$HY$3,1,28*4+26):OFFSET(テストデータ!$HY$3,500,28*4+26)))","v":{"$error":"#VALUE!"}}]
[null,"第6回",{"$f":"IF(テストデータ!$NI$2=\"\",\"\",テストデータ!$NI$2)","v":"7/4"},{"$f":"IF(初期設定!$C$36=\"\",\"\",初期設定!$C$36)","v":"国総"},{"$f":"IF(初期設定!$C$37=\"\",\"\",初期設定!$C$37)","v":"英表"},{"$f":"IF(初期設定!$C$38=\"\",\"\",初期設定!$C$38)","v":"コ英"},{"$f":"IF(初期設定!$C$39=\"\",\"\",初期設定!$C$39)","v":"数Ⅰ"},{"$f":"IF(初期設定!$C$40=\"\",\"\",初期設定!$C$40)","v":"数A"},{"$f":"IF(初期設定!$C$41=\"\",\"\",初期設定!$C$41)","v":"世B"},{"$f":"IF(初期設定!$C$42=\"\",\"\",初期設定!$C$42)","v":"化基"},{"$f":"IF(初期設定!$C$43=\"\",\"\",初期設定!$C$43)","v":""},{"$f":"IF(初期設定!$C$44=\"\",\"\",初期設定!$C$44)","v":""},{"$f":"IF(初期設定!$C$45=\"\",\"\",初期設定!$C$45)","v":""},{"$f":"IF(初期設定!$C$46=\"\",\"\",初期設定!$C$46)","v":""},{"$f":"IF(初期設定!$C$47=\"\",\"\",初期設定!$C$47)","v":""},{"$f":"IF(初期設定!$C$48=\"\",\"\",初期設定!$C$48)","v":""},{"$f":"IF(初期設定!$C$49=\"\",\"\",初期設定!$C$49)","v":""}]
[null,null,"得点",{"$f":"IF(VLOOKUP($H$2,テストデータ!$A$4:$QN$503,28*5+233,FALSE)=\"\",IF(INDIRECT(ADDRESS(ROW()-1,COLUMN()))=\"\",\"\",\"欠\"),VLOOKUP($H$2,テストデータ!$A$4:$QN$503,28*5+233,FALSE))","v":52},{"$f":"IF(VLOOKUP($H$2,テストデータ!$A$4:$QN$503,28*5+235,FALSE)=\"\",IF(INDIRECT(ADDRESS(ROW()-1,COLUMN()))=\"\",\"\",\"欠\"),VLOOKUP($H$2,テストデータ!$A$4:$QN$503,28*5+235,FALSE))","v":35},{"$f":"IF(VLOOKUP($H$2,テストデータ!$A$4:$QN$503,28*5+237,FALSE)=\"\",IF(INDIRECT(ADDRESS(ROW()-1,COLUMN()))=\"\",\"\",\"欠\"),VLOOKUP($H$2,テストデータ!$A$4:$QN$503,28*5+237,FALSE))","v":82},{"$f":"IF(VLOOKUP($H$2,テストデータ!$A$4:$QN$503,28*5+239,FALSE)=\"\",IF(INDIRECT(ADDRESS(ROW()-1,COLUMN()))=\"\",\"\",\"欠\"),VLOOKUP($H$2,テストデータ!$A$4:$QN$503,28*5+239,FALSE))","v":40},{"$f":"IF(VLOOKUP($H$2,テストデータ!$A$4:$QN$503,28*5+241,FALSE)=\"\",IF(INDIRECT(ADDRESS(ROW()-1,COLUMN()))=\"\",\"\",\"欠\"),VLOOKUP($H$2,テストデータ!$A$4:$QN$503,28*5+241,FALSE))","v":"欠"},{"$f":"IF(VLOOKUP($H$2,テストデータ!$A$4:$QN$503,28*5+243,FALSE)=\"\",IF(INDIRECT(ADDRESS(ROW()-1,COLUMN()))=\"\",\"\",\"欠\"),VLOOKUP($H$2,テストデータ!$A$4:$QN$503,28*5+243,FALSE))","v":79},{"$f":"IF(VLOOKUP($H$2,テストデータ!$A$4:$QN$503,28*5+245,FALSE)=\"\",IF(INDIRECT(ADDRESS(ROW()-1,COLUMN()))=\"\",\"\",\"欠\"),VLOOKUP($H$2,テストデータ!$A$4:$QN$503,28*5+245,FALSE))","v":52},{"$f":"IF(VLOOKUP($H$2,テストデータ!$A$4:$QN$503,28*5+247,FALSE)=\"\",IF(INDIRECT(ADDRESS(ROW()-1,COLUMN()))=\"\",\"\",\"欠\"),VLOOKUP($H$2,テストデータ!$A$4:$QN$503,28*5+247,FALSE))","v":""},{"$f":"IF(VLOOKUP($H$2,テストデータ!$A$4:$QN$503,28*5+249,FALSE)=\"\",IF(INDIRECT(ADDRESS(ROW()-1,COLUMN()))=\"\",\"\",\"欠\"),VLOOKUP($H$2,テストデータ!$A$4:$QN$503,28*5+249,FALSE))","v":""},{"$f":"IF(VLOOKUP($H$2,テストデータ!$A$4:$QN$503,28*5+251,FALSE)=\"\",IF(INDIRECT(ADDRESS(ROW()-1,COLUMN()))=\"\",\"\",\"欠\"),VLOOKUP($H$2,テストデータ!$A$4:$QN$503,28*5+251,FALSE))","v":""},{"$f":"IF(VLOOKUP($H$2,テストデータ!$A$4:$QN$503,28*5+253,FALSE)=\"\",IF(INDIRECT(ADDRESS(ROW()-1,COLUMN()))=\"\",\"\",\"欠\"),VLOOKUP($H$2,テストデータ!$A$4:$QN$503,28*5+253,FALSE))","v":""},{"$f":"IF(VLOOKUP($H$2,テストデータ!$A$4:$QN$503,28*5+255,FALSE)=\"\",IF(INDIRECT(ADDRESS(ROW()-1,COLUMN()))=\"\",\"\",\"欠\"),VLOOKUP($H$2,テストデータ!$A$4:$QN$503,28*5+255,FALSE))","v":""},{"$f":"IF(VLOOKUP($H$2,テストデータ!$A$4:$QN$503,28*5+257,FALSE)=\"\",IF(INDIRECT(ADDRESS(ROW()-1,COLUMN()))=\"\",\"\",\"欠\"),VLOOKUP($H$2,テストデータ!$A$4:$QN$503,28*5+257,FALSE))","v":""},{"$f":"IF(VLOOKUP($H$2,テストデータ!$A$4:$QN$503,28*5+259,FALSE)=\"\",IF(INDIRECT(ADDRESS(ROW()-1,COLUMN()))=\"\",\"\",\"欠\"),VLOOKUP($H$2,テストデータ!$A$4:$QN$503,28*5+259,FALSE))","v":""}]
[null,null,"偏差値",{"$f":"IF(OR(INDIRECT(ADDRESS(ROW()-1,COLUMN()))=\"欠\",INDIRECT(ADDRESS(ROW()-1,COLUMN()))=\"\"),NA(),VLOOKUP($H$2,テストデータ!$A$4:$QN$503,28*5+234,FALSE))","v":50},{"$f":"IF(OR(INDIRECT(ADDRESS(ROW()-1,COLUMN()))=\"欠\",INDIRECT(ADDRESS(ROW()-1,COLUMN()))=\"\"),NA(),VLOOKUP($H$2,テストデータ!$A$4:$QN$503,28*5+236,FALSE))","v":41},{"$f":"IF(OR(INDIRECT(ADDRESS(ROW()-1,COLUMN()))=\"欠\",INDIRECT(ADDRESS(ROW()-1,COLUMN()))=\"\"),NA(),VLOOKUP($H$2,テストデータ!$A$4:$QN$503,28*5+238,FALSE))","v":66},{"$f":"IF(OR(INDIRECT(ADDRESS(ROW()-1,COLUMN()))=\"欠\",INDIRECT(ADDRESS(ROW()-1,COLUMN()))=\"\"),NA(),VLOOKUP($H$2,テストデータ!$A$4:$QN$503,28*5+240,FALSE))","v":45},{"$f":"IF(OR(INDIRECT(ADDRESS(ROW()-1,COLUMN()))=\"欠\",INDIRECT(ADDRESS(ROW()-1,COLUMN()))=\"\"),NA(),VLOOKUP($H$2,テストデータ!$A$4:$QN$503,28*5+242,FALSE))","v":{"$error":"#N/A"}},{"$f":"IF(OR(INDIRECT(ADDRESS(ROW()-1,COLUMN()))=\"欠\",INDIRECT(ADDRESS(ROW()-1,COLUMN()))=\"\"),NA(),VLOOKUP($H$2,テストデータ!$A$4:$QN$503,28*5+244,FALSE))","v":61},{"$f":"IF(OR(INDIRECT(ADDRESS(ROW()-1,COLUMN()))=\"欠\",INDIRECT(ADDRESS(ROW()-1,COLUMN()))=\"\"),NA(),VLOOKUP($H$2,テストデータ!$A$4:$QN$503,28*5+246,FALSE))","v":50},{"$f":"IF(OR(INDIRECT(ADDRESS(ROW()-1,COLUMN()))=\"欠\",INDIRECT(ADDRESS(ROW()-1,COLUMN()))=\"\"),NA(),VLOOKUP($H$2,テストデータ!$A$4:$QN$503,28*5+248,FALSE))","v":{"$error":"#N/A"}},{"$f":"IF(OR(INDIRECT(ADDRESS(ROW()-1,COLUMN()))=\"欠\",INDIRECT(ADDRESS(ROW()-1,COLUMN()))=\"\"),NA(),VLOOKUP($H$2,テストデータ!$A$4:$QN$503,28*5+250,FALSE))","v":{"$error":"#N/A"}},{"$f":"IF(OR(INDIRECT(ADDRESS(ROW()-1,COLUMN()))=\"欠\",INDIRECT(ADDRESS(ROW()-1,COLUMN()))=\"\"),NA(),VLOOKUP($H$2,テストデータ!$A$4:$QN$503,28*5+252,FALSE))","v":{"$error":"#N/A"}},{"$f":"IF(OR(INDIRECT(ADDRESS(ROW()-1,COLUMN()))=\"欠\",INDIRECT(ADDRESS(ROW()-1,COLUMN()))=\"\"),NA(),VLOOKUP($H$2,テストデータ!$A$4:$QN$503,28*5+254,FALSE))","v":{"$error":"#N/A"}},{"$f":"IF(OR(INDIRECT(ADDRESS(ROW()-1,COLUMN()))=\"欠\",INDIRECT(ADDRESS(ROW()-1,COLUMN()))=\"\"),NA(),VLOOKUP($H$2,テストデータ!$A$4:$QN$503,28*5+256,FALSE))","v":{"$error":"#N/A"}},{"$f":"IF(OR(INDIRECT(ADDRESS(ROW()-1,COLUMN()))=\"欠\",INDIRECT(ADDRESS(ROW()-1,COLUMN()))=\"\"),NA(),VLOOKUP($H$2,テストデータ!$A$4:$QN$503,28*5+258,FALSE))","v":{"$error":"#N/A"}},{"$f":"IF(OR(INDIRECT(ADDRESS(ROW()-1,COLUMN()))=\"欠\",INDIRECT(ADDRESS(ROW()-1,COLUMN()))=\"\"),NA(),VLOOKUP($H$2,テストデータ!$A$4:$QN$503,28*5+260,FALSE))","v":{"$error":"#N/A"}}]
[null,null,"校内順位",{"$f":"IF(INDIRECT(ADDRESS(ROW()-2,COLUMN()))=\"欠\",\"\",RANK(INDIRECT(ADDRESS(ROW()-2,COLUMN())),OFFSET(テストデータ!$HY$3,1,28*5+0):OFFSET(テストデータ!$HY$3,500,28*5+0)))","v":13},{"$f":"IF(INDIRECT(ADDRESS(ROW()-2,COLUMN()))=\"欠\",\"\",RANK(INDIRECT(ADDRESS(ROW()-2,COLUMN())),OFFSET(テストデータ!$HY$3,1,28*5+2):OFFSET(テストデータ!$HY$3,500,28*5+2)))","v":18},{"$f":"IF(INDIRECT(ADDRESS(ROW()-2,COLUMN()))=\"欠\",\"\",RANK(INDIRECT(ADDRESS(ROW()-2,COLUMN())),OFFSET(テストデータ!$HY$3,1,28*5+4):OFFSET(テストデータ!$HY$3,500,28*5+4)))","v":2},{"$f":"IF(INDIRECT(ADDRESS(ROW()-2,COLUMN()))=\"欠\",\"\",RANK(INDIRECT(ADDRESS(ROW()-2,COLUMN())),OFFSET(テストデータ!$HY$3,1,28*5+6):OFFSET(テストデータ!$HY$3,500,28*5+6)))","v":11},{"$f":"IF(INDIRECT(ADDRESS(ROW()-2,COLUMN()))=\"欠\",\"\",RANK(INDIRECT(ADDRESS(ROW()-2,COLUMN())),OFFSET(テストデータ!$HY$3,1,28*5+8):OFFSET(テストデータ!$HY$3,500,28*5+8)))","v":""},{"$f":"IF(INDIRECT(ADDRESS(ROW()-2,COLUMN()))=\"欠\",\"\",RANK(INDIRECT(ADDRESS(ROW()-2,COLUMN())),OFFSET(テストデータ!$HY$3,1,28*5+10):OFFSET(テストデータ!$HY$3,500,28*5+10)))","v":1},{"$f":"IF(INDIRECT(ADDRESS(ROW()-2,COLUMN()))=\"欠\",\"\",RANK(INDIRECT(ADDRESS(ROW()-2,COLUMN())),OFFSET(テストデータ!$HY$3,1,28*5+12):OFFSET(テストデータ!$HY$3,500,28*5+12)))","v":13},{"$f":"IF(INDIRECT(ADDRESS(ROW()-2,COLUMN()))=\"欠\",\"\",RANK(INDIRECT(ADDRESS(ROW()-2,COLUMN())),OFFSET(テストデータ!$HY$3,1,28*5+14):OFFSET(テストデータ!$HY$3,500,28*5+14)))","v":{"$error":"#VALUE!"}},{"$f":"IF(INDIRECT(ADDRESS(ROW()-2,COLUMN()))=\"欠\",\"\",RANK(INDIRECT(ADDRESS(ROW()-2,COLUMN())),OFFSET(テストデータ!$HY$3,1,28*5+16):OFFSET(テストデータ!$HY$3,500,28*5+16)))","v":{"$error":"#VALUE!"}},{"$f":"IF(INDIRECT(ADDRESS(ROW()-2,COLUMN()))=\"欠\",\"\",RANK(INDIRECT(ADDRESS(ROW()-2,COLUMN())),OFFSET(テストデータ!$HY$3,1,28*5+18):OFFSET(テストデータ!$HY$3,500,28*5+18)))","v":{"$error":"#VALUE!"}},{"$f":"IF(INDIRECT(ADDRESS(ROW()-2,COLUMN()))=\"欠\",\"\",RANK(INDIRECT(ADDRESS(ROW()-2,COLUMN())),OFFSET(テストデータ!$HY$3,1,28*5+20):OFFSET(テストデータ!$HY$3,500,28*5+20)))","v":{"$error":"#VALUE!"}},{"$f":"IF(INDIRECT(ADDRESS(ROW()-2,COLUMN()))=\"欠\",\"\",RANK(INDIRECT(ADDRESS(ROW()-2,COLUMN())),OFFSET(テストデータ!$HY$3,1,28*5+22):OFFSET(テストデータ!$HY$3,500,28*5+22)))","v":{"$error":"#VALUE!"}},{"$f":"IF(INDIRECT(ADDRESS(ROW()-2,COLUMN()))=\"欠\",\"\",RANK(INDIRECT(ADDRESS(ROW()-2,COLUMN())),OFFSET(テストデータ!$HY$3,1,28*5+24):OFFSET(テストデータ!$HY$3,500,28*5+24)))","v":{"$error":"#VALUE!"}},{"$f":"IF(INDIRECT(ADDRESS(ROW()-2,COLUMN()))=\"欠\",\"\",RANK(INDIRECT(ADDRESS(ROW()-2,COLUMN())),OFFSET(テストデータ!$HY$3,1,28*5+26):OFFSET(テストデータ!$HY$3,500,28*5+26)))","v":{"$error":"#VALUE!"}}]
[null,"第7回",{"$f":"IF(テストデータ!$OK$2=\"\",\"\",テストデータ!$OK$2)","v":"8/4"},{"$f":"IF(初期設定!$C$36=\"\",\"\",初期設定!$C$36)","v":"国総"},{"$f":"IF(初期設定!$C$37=\"\",\"\",初期設定!$C$37)","v":"英表"},{"$f":"IF(初期設定!$C$38=\"\",\"\",初期設定!$C$38)","v":"コ英"},{"$f":"IF(初期設定!$C$39=\"\",\"\",初期設定!$C$39)","v":"数Ⅰ"},{"$f":"IF(初期設定!$C$40=\"\",\"\",初期設定!$C$40)","v":"数A"},{"$f":"IF(初期設定!$C$41=\"\",\"\",初期設定!$C$41)","v":"世B"},{"$f":"IF(初期設定!$C$42=\"\",\"\",初期設定!$C$42)","v":"化基"},{"$f":"IF(初期設定!$C$43=\"\",\"\",初期設定!$C$43)","v":""},{"$f":"IF(初期設定!$C$44=\"\",\"\",初期設定!$C$44)","v":""},{"$f":"IF(初期設定!$C$45=\"\",\"\",初期設定!$C$45)","v":""},{"$f":"IF(初期設定!$C$46=\"\",\"\",初期設定!$C$46)","v":""},{"$f":"IF(初期設定!$C$47=\"\",\"\",初期設定!$C$47)","v":""},{"$f":"IF(初期設定!$C$48=\"\",\"\",初期設定!$C$48)","v":""},{"$f":"IF(初期設定!$C$49=\"\",\"\",初期設定!$C$49)","v":""}]
[null,null,"得点",{"$f":"IF(VLOOKUP($H$2,テストデータ!$A$4:$QN$503,28*6+233,FALSE)=\"\",IF(INDIRECT(ADDRESS(ROW()-1,COLUMN()))=\"\",\"\",\"欠\"),VLOOKUP($H$2,テストデータ!$A$4:$QN$503,28*6+233,FALSE))","v":52},{"$f":"IF(VLOOKUP($H$2,テストデータ!$A$4:$QN$503,28*6+235,FALSE)=\"\",IF(INDIRECT(ADDRESS(ROW()-1,COLUMN()))=\"\",\"\",\"欠\"),VLOOKUP($H$2,テストデータ!$A$4:$QN$503,28*6+235,FALSE))","v":35},{"$f":"IF(VLOOKUP($H$2,テストデータ!$A$4:$QN$503,28*6+237,FALSE)=\"\",IF(INDIRECT(ADDRESS(ROW()-1,COLUMN()))=\"\",\"\",\"欠\"),VLOOKUP($H$2,テストデータ!$A$4:$QN$503,28*6+237,FALSE))","v":82},{"$f":"IF(VLOOKUP($H$2,テストデータ!$A$4:$QN$503,28*6+239,FALSE)=\"\",IF(INDIRECT(ADDRESS(ROW()-1,COLUMN()))=\"\",\"\",\"欠\"),VLOOKUP($H$2,テストデータ!$A$4:$QN$503,28*6+239,FALSE))","v":92},{"$f":"IF(VLOOKUP($H$2,テストデータ!$A$4:$QN$503,28*6+241,FALSE)=\"\",IF(INDIRECT(ADDRESS(ROW()-1,COLUMN()))=\"\",\"\",\"欠\"),VLOOKUP($H$2,テストデータ!$A$4:$QN$503,28*6+241,FALSE))","v":"欠"},{"$f":"IF(VLOOKUP($H$2,テストデータ!$A$4:$QN$503,28*6+243,FALSE)=\"\",IF(INDIRECT(ADDRESS(ROW()-1,COLUMN()))=\"\",\"\",\"欠\"),VLOOKUP($H$2,テストデータ!$A$4:$QN$503,28*6+243,FALSE))","v":79},{"$f":"IF(VLOOKUP($H$2,テストデータ!$A$4:$QN$503,28*6+245,FALSE)=\"\",IF(INDIRECT(ADDRESS(ROW()-1,COLUMN()))=\"\",\"\",\"欠\"),VLOOKUP($H$2,テストデータ!$A$4:$QN$503,28*6+245,FALSE))","v":52},{"$f":"IF(VLOOKUP($H$2,テストデータ!$A$4:$QN$503,28*6+247,FALSE)=\"\",IF(INDIRECT(ADDRESS(ROW()-1,COLUMN()))=\"\",\"\",\"欠\"),VLOOKUP($H$2,テストデータ!$A$4:$QN$503,28*6+247,FALSE))","v":""},{"$f":"IF(VLOOKUP($H$2,テストデータ!$A$4:$QN$503,28*6+249,FALSE)=\"\",IF(INDIRECT(ADDRESS(ROW()-1,COLUMN()))=\"\",\"\",\"欠\"),VLOOKUP($H$2,テストデータ!$A$4:$QN$503,28*6+249,FALSE))","v":""},{"$f":"IF(VLOOKUP($H$2,テストデータ!$A$4:$QN$503,28*6+251,FALSE)=\"\",IF(INDIRECT(ADDRESS(ROW()-1,COLUMN()))=\"\",\"\",\"欠\"),VLOOKUP($H$2,テストデータ!$A$4:$QN$503,28*6+251,FALSE))","v":""},{"$f":"IF(VLOOKUP($H$2,テストデータ!$A$4:$QN$503,28*6+253,FALSE)=\"\",IF(INDIRECT(ADDRESS(ROW()-1,COLUMN()))=\"\",\"\",\"欠\"),VLOOKUP($H$2,テストデータ!$A$4:$QN$503,28*6+253,FALSE))","v":""},{"$f":"IF(VLOOKUP($H$2,テストデータ!$A$4:$QN$503,28*6+255,FALSE)=\"\",IF(INDIRECT(ADDRESS(ROW()-1,COLUMN()))=\"\",\"\",\"欠\"),VLOOKUP($H$2,テストデータ!$A$4:$QN$503,28*6+255,FALSE))","v":""},{"$f":"IF(VLOOKUP($H$2,テストデータ!$A$4:$QN$503,28*6+257,FALSE)=\"\",IF(INDIRECT(ADDRESS(ROW()-1,COLUMN()))=\"\",\"\",\"欠\"),VLOOKUP($H$2,テストデータ!$A$4:$QN$503,28*6+257,FALSE))","v":""},{"$f":"IF(VLOOKUP($H$2,テストデータ!$A$4:$QN$503,28*6+259,FALSE)=\"\",IF(INDIRECT(ADDRESS(ROW()-1,COLUMN()))=\"\",\"\",\"欠\"),VLOOKUP($H$2,テストデータ!$A$4:$QN$503,28*6+259,FALSE))","v":""}]
[null,null,"偏差値",{"$f":"IF(OR(INDIRECT(ADDRESS(ROW()-1,COLUMN()))=\"欠\",INDIRECT(ADDRESS(ROW()-1,COLUMN()))=\"\"),NA(),VLOOKUP($H$2,テストデータ!$A$4:$QN$503,28*6+234,FALSE))","v":50},{"$f":"IF(OR(INDIRECT(ADDRESS(ROW()-1,COLUMN()))=\"欠\",INDIRECT(ADDRESS(ROW()-1,COLUMN()))=\"\"),NA(),VLOOKUP($H$2,テストデータ!$A$4:$QN$503,28*6+236,FALSE))","v":41},{"$f":"IF(OR(INDIRECT(ADDRESS(ROW()-1,COLUMN()))=\"欠\",INDIRECT(ADDRESS(ROW()-1,COLUMN()))=\"\"),NA(),VLOOKUP($H$2,テストデータ!$A$4:$QN$503,28*6+238,FALSE))","v":66},{"$f":"IF(OR(INDIRECT(ADDRESS(ROW()-1,COLUMN()))=\"欠\",INDIRECT(ADDRESS(ROW()-1,COLUMN()))=\"\"),NA(),VLOOKUP($H$2,テストデータ!$A$4:$QN$503,28*6+240,FALSE))","v":71},{"$f":"IF(OR(INDIRECT(ADDRESS(ROW()-1,COLUMN()))=\"欠\",INDIRECT(ADDRESS(ROW()-1,COLUMN()))=\"\"),NA(),VLOOKUP($H$2,テストデータ!$A$4:$QN$503,28*6+242,FALSE))","v":{"$error":"#N/A"}},{"$f":"IF(OR(INDIRECT(ADDRESS(ROW()-1,COLUMN()))=\"欠\",INDIRECT(ADDRESS(ROW()-1,COLUMN()))=\"\"),NA(),VLOOKUP($H$2,テストデータ!$A$4:$QN$503,28*6+244,FALSE))","v":61},{"$f":"IF(OR(INDIRECT(ADDRESS(ROW()-1,COLUMN()))=\"欠\",INDIRECT(ADDRESS(ROW()-1,COLUMN()))=\"\"),NA(),VLOOKUP($H$2,テストデータ!$A$4:$QN$503,28*6+246,FALSE))","v":50},{"$f":"IF(OR(INDIRECT(ADDRESS(ROW()-1,COLUMN()))=\"欠\",INDIRECT(ADDRESS(ROW()-1,COLUMN()))=\"\"),NA(),VLOOKUP($H$2,テストデータ!$A$4:$QN$503,28*6+248,FALSE))","v":{"$error":"#N/A"}},{"$f":"IF(OR(INDIRECT(ADDRESS(ROW()-1,COLUMN()))=\"欠\",INDIRECT(ADDRESS(ROW()-1,COLUMN()))=\"\"),NA(),VLOOKUP($H$2,テストデータ!$A$4:$QN$503,28*6+250,FALSE))","v":{"$error":"#N/A"}},{"$f":"IF(OR(INDIRECT(ADDRESS(ROW()-1,COLUMN()))=\"欠\",INDIRECT(ADDRESS(ROW()-1,COLUMN()))=\"\"),NA(),VLOOKUP($H$2,テストデータ!$A$4:$QN$503,28*6+252,FALSE))","v":{"$error":"#N/A"}},{"$f":"IF(OR(INDIRECT(ADDRESS(ROW()-1,COLUMN()))=\"欠\",INDIRECT(ADDRESS(ROW()-1,COLUMN()))=\"\"),NA(),VLOOKUP($H$2,テストデータ!$A$4:$QN$503,28*6+254,FALSE))","v":{"$error":"#N/A"}},{"$f":"IF(OR(INDIRECT(ADDRESS(ROW()-1,COLUMN()))=\"欠\",INDIRECT(ADDRESS(ROW()-1,COLUMN()))=\"\"),NA(),VLOOKUP($H$2,テストデータ!$A$4:$QN$503,28*6+256,FALSE))","v":{"$error":"#N/A"}},{"$f":"IF(OR(INDIRECT(ADDRESS(ROW()-1,COLUMN()))=\"欠\",INDIRECT(ADDRESS(ROW()-1,COLUMN()))=\"\"),NA(),VLOOKUP($H$2,テストデータ!$A$4:$QN$503,28*6+258,FALSE))","v":{"$error":"#N/A"}},{"$f":"IF(OR(INDIRECT(ADDRESS(ROW()-1,COLUMN()))=\"欠\",INDIRECT(ADDRESS(ROW()-1,COLUMN()))=\"\"),NA(),VLOOKUP($H$2,テストデータ!$A$4:$QN$503,28*6+260,FALSE))","v":{"$error":"#N/A"}}]
[null,null,"校内順位",{"$f":"IF(INDIRECT(ADDRESS(ROW()-2,COLUMN()))=\"欠\",\"\",RANK(INDIRECT(ADDRESS(ROW()-2,COLUMN())),OFFSET(テストデータ!$HY$3,1,28*6+0):OFFSET(テストデータ!$HY$3,500,28*6+0)))","v":13},{"$f":"IF(INDIRECT(ADDRESS(ROW()-2,COLUMN()))=\"欠\",\"\",RANK(INDIRECT(ADDRESS(ROW()-2,COLUMN())),OFFSET(テストデータ!$HY$3,1,28*6+2):OFFSET(テストデータ!$HY$3,500,28*6+2)))","v":18},{"$f":"IF(INDIRECT(ADDRESS(ROW()-2,COLUMN()))=\"欠\",\"\",RANK(INDIRECT(ADDRESS(ROW()-2,COLUMN())),OFFSET(テストデータ!$HY$3,1,28*6+4):OFFSET(テストデータ!$HY$3,500,28*6+4)))","v":2},{"$f":"IF(INDIRECT(ADDRESS(ROW()-2,COLUMN()))=\"欠\",\"\",RANK(INDIRECT(ADDRESS(ROW()-2,COLUMN())),OFFSET(テストデータ!$HY$3,1,28*6+6):OFFSET(テストデータ!$HY$3,500,28*6+6)))","v":1},{"$f":"IF(INDIRECT(ADDRESS(ROW()-2,COLUMN()))=\"欠\",\"\",RANK(INDIRECT(ADDRESS(ROW()-2,COLUMN())),OFFSET(テストデータ!$HY$3,1,28*6+8):OFFSET(テストデータ!$HY$3,500,28*6+8)))","v":""},{"$f":"IF(INDIRECT(ADDRESS(ROW()-2,COLUMN()))=\"欠\",\"\",RANK(INDIRECT(ADDRESS(ROW()-2,COLUMN())),OFFSET(テストデータ!$HY$3,1,28*6+10):OFFSET(テストデータ!$HY$3,500,28*6+10)))","v":1},{"$f":"IF(INDIRECT(ADDRESS(ROW()-2,COLUMN()))=\"欠\",\"\",RANK(INDIRECT(ADDRESS(ROW()-2,COLUMN())),OFFSET(テストデータ!$HY$3,1,28*6+12):OFFSET(テストデータ!$HY$3,500,28*6+12)))","v":13},{"$f":"IF(INDIRECT(ADDRESS(ROW()-2,COLUMN()))=\"欠\",\"\",RANK(INDIRECT(ADDRESS(ROW()-2,COLUMN())),OFFSET(テストデータ!$HY$3,1,28*6+14):OFFSET(テストデータ!$HY$3,500,28*6+14)))","v":{"$error":"#VALUE!"}},{"$f":"IF(INDIRECT(ADDRESS(ROW()-2,COLUMN()))=\"欠\",\"\",RANK(INDIRECT(ADDRESS(ROW()-2,COLUMN())),OFFSET(テストデータ!$HY$3,1,28*6+16):OFFSET(テストデータ!$HY$3,500,28*6+16)))","v":{"$error":"#VALUE!"}},{"$f":"IF(INDIRECT(ADDRESS(ROW()-2,COLUMN()))=\"欠\",\"\",RANK(INDIRECT(ADDRESS(ROW()-2,COLUMN())),OFFSET(テストデータ!$HY$3,1,28*6+18):OFFSET(テストデータ!$HY$3,500,28*6+18)))","v":{"$error":"#VALUE!"}},{"$f":"IF(INDIRECT(ADDRESS(ROW()-2,COLUMN()))=\"欠\",\"\",RANK(INDIRECT(ADDRESS(ROW()-2,COLUMN())),OFFSET(テストデータ!$HY$3,1,28*6+20):OFFSET(テストデータ!$HY$3,500,28*6+20)))","v":{"$error":"#VALUE!"}},{"$f":"IF(INDIRECT(ADDRESS(ROW()-2,COLUMN()))=\"欠\",\"\",RANK(INDIRECT(ADDRESS(ROW()-2,COLUMN())),OFFSET(テストデータ!$HY$3,1,28*6+22):OFFSET(テストデータ!$HY$3,500,28*6+22)))","v":{"$error":"#VALUE!"}},{"$f":"IF(INDIRECT(ADDRESS(ROW()-2,COLUMN()))=\"欠\",\"\",RANK(INDIRECT(ADDRESS(ROW()-2,COLUMN())),OFFSET(テストデータ!$HY$3,1,28*6+24):OFFSET(テストデータ!$HY$3,500,28*6+24)))","v":{"$error":"#VALUE!"}},{"$f":"IF(INDIRECT(ADDRESS(ROW()-2,COLUMN()))=\"欠\",\"\",RANK(INDIRECT(ADDRESS(ROW()-2,COLUMN())),OFFSET(テストデータ!$HY$3,1,28*6+26):OFFSET(テストデータ!$HY$3,500,28*6+26)))","v":{"$error":"#VALUE!"}}]
[null,"第8回",{"$f":"IF(テストデータ!$PM$2=\"\",\"\",テストデータ!$PM$2)","v":"9/4"},{"$f":"IF(初期設定!$C$36=\"\",\"\",初期設定!$C$36)","v":"国総"},{"$f":"IF(初期設定!$C$37=\"\",\"\",初期設定!$C$37)","v":"英表"},{"$f":"IF(初期設定!$C$38=\"\",\"\",初期設定!$C$38)","v":"コ英"},{"$f":"IF(初期設定!$C$39=\"\",\"\",初期設定!$C$39)","v":"数Ⅰ"},{"$f":"IF(初期設定!$C$40=\"\",\"\",初期設定!$C$40)","v":"数A"},{"$f":"IF(初期設定!$C$41=\"\",\"\",初期設定!$C$41)","v":"世B"},{"$f":"IF(初期設定!$C$42=\"\",\"\",初期設定!$C$42)","v":"化基"},{"$f":"IF(初期設定!$C$43=\"\",\"\",初期設定!$C$43)","v":""},{"$f":"IF(初期設定!$C$44=\"\",\"\",初期設定!$C$44)","v":""},{"$f":"IF(初期設定!$C$45=\"\",\"\",初期設定!$C$45)","v":""},{"$f":"IF(初期設定!$C$46=\"\",\"\",初期設定!$C$46)","v":""},{"$f":"IF(初期設定!$C$47=\"\",\"\",初期設定!$C$47)","v":""},{"$f":"IF(初期設定!$C$48=\"\",\"\",初期設定!$C$48)","v":""},{"$f":"IF(初期設定!$C$49=\"\",\"\",初期設定!$C$49)","v":""}]
[null,null,"得点",{"$f":"IF(VLOOKUP($H$2,テストデータ!$A$4:$QN$503,28*7+233,FALSE)=\"\",IF(INDIRECT(ADDRESS(ROW()-1,COLUMN()))=\"\",\"\",\"欠\"),VLOOKUP($H$2,テストデータ!$A$4:$QN$503,28*7+233,FALSE))","v":66},{"$f":"IF(VLOOKUP($H$2,テストデータ!$A$4:$QN$503,28*7+235,FALSE)=\"\",IF(INDIRECT(ADDRESS(ROW()-1,COLUMN()))=\"\",\"\",\"欠\"),VLOOKUP($H$2,テストデータ!$A$4:$QN$503,28*7+235,FALSE))","v":35},{"$f":"IF(VLOOKUP($H$2,テストデータ!$A$4:$QN$503,28*7+237,FALSE)=\"\",IF(INDIRECT(ADDRESS(ROW()-1,COLUMN()))=\"\",\"\",\"欠\"),VLOOKUP($H$2,テストデータ!$A$4:$QN$503,28*7+237,FALSE))","v":82},{"$f":"IF(VLOOKUP($H$2,テストデータ!$A$4:$QN$503,28*7+239,FALSE)=\"\",IF(INDIRECT(ADDRESS(ROW()-1,COLUMN()))=\"\",\"\",\"欠\"),VLOOKUP($H$2,テストデータ!$A$4:$QN$503,28*7+239,FALSE))","v":92},{"$f":"IF(VLOOKUP($H$2,テストデータ!$A$4:$QN$503,28*7+241,FALSE)=\"\",IF(INDIRECT(ADDRESS(ROW()-1,COLUMN()))=\"\",\"\",\"欠\"),VLOOKUP($H$2,テストデータ!$A$4:$QN$503,28*7+241,FALSE))","v":"欠"},{"$f":"IF(VLOOKUP($H$2,テストデータ!$A$4:$QN$503,28*7+243,FALSE)=\"\",IF(INDIRECT(ADDRESS(ROW()-1,COLUMN()))=\"\",\"\",\"欠\"),VLOOKUP($H$2,テストデータ!$A$4:$QN$503,28*7+243,FALSE))","v":79},{"$f":"IF(VLOOKUP($H$2,テストデータ!$A$4:$QN$503,28*7+245,FALSE)=\"\",IF(INDIRECT(ADDRESS(ROW()-1,COLUMN()))=\"\",\"\",\"欠\"),VLOOKUP($H$2,テストデータ!$A$4:$QN$503,28*7+245,FALSE))","v":94},{"$f":"IF(VLOOKUP($H$2,テストデータ!$A$4:$QN$503,28*7+247,FALSE)=\"\",IF(INDIRECT(ADDRESS(ROW()-1,COLUMN()))=\"\",\"\",\"欠\"),VLOOKUP($H$2,テストデータ!$A$4:$QN$503,28*7+247,FALSE))","v":""},{"$f":"IF(VLOOKUP($H$2,テストデータ!$A$4:$QN$503,28*7+249,FALSE)=\"\",IF(INDIRECT(ADDRESS(ROW()-1,COLUMN()))=\"\",\"\",\"欠\"),VLOOKUP($H$2,テストデータ!$A$4:$QN$503,28*7+249,FALSE))","v":""},{"$f":"IF(VLOOKUP($H$2,テストデータ!$A$4:$QN$503,28*7+251,FALSE)=\"\",IF(INDIRECT(ADDRESS(ROW()-1,COLUMN()))=\"\",\"\",\"欠\"),VLOOKUP($H$2,テストデータ!$A$4:$QN$503,28*7+251,FALSE))","v":""},{"$f":"IF(VLOOKUP($H$2,テストデータ!$A$4:$QN$503,28*7+253,FALSE)=\"\",IF(INDIRECT(ADDRESS(ROW()-1,COLUMN()))=\"\",\"\",\"欠\"),VLOOKUP($H$2,テストデータ!$A$4:$QN$503,28*7+253,FALSE))","v":""},{"$f":"IF(VLOOKUP($H$2,テストデータ!$A$4:$QN$503,28*7+255,FALSE)=\"\",IF(INDIRECT(ADDRESS(ROW()-1,COLUMN()))=\"\",\"\",\"欠\"),VLOOKUP($H$2,テストデータ!$A$4:$QN$503,28*7+255,FALSE))","v":""},{"$f":"IF(VLOOKUP($H$2,テストデータ!$A$4:$QN$503,28*7+257,FALSE)=\"\",IF(INDIRECT(ADDRESS(ROW()-1,COLUMN()))=\"\",\"\",\"欠\"),VLOOKUP($H$2,テストデータ!$A$4:$QN$503,28*7+257,FALSE))","v":""},{"$f":"IF(VLOOKUP($H$2,テストデータ!$A$4:$QN$503,28*7+259,FALSE)=\"\",IF(INDIRECT(ADDRESS(ROW()-1,COLUMN()))=\"\",\"\",\"欠\"),VLOOKUP($H$2,テストデータ!$A$4:$QN$503,28*7+259,FALSE))","v":""}]
[null,null,"偏差値",{"$f":"IF(OR(INDIRECT(ADDRESS(ROW()-1,COLUMN()))=\"欠\",INDIRECT(ADDRESS(ROW()-1,COLUMN()))=\"\"),NA(),VLOOKUP($H$2,テストデータ!$A$4:$QN$503,28*7+234,FALSE))","v":52},{"$f":"IF(OR(INDIRECT(ADDRESS(ROW()-1,COLUMN()))=\"欠\",INDIRECT(ADDRESS(ROW()-1,COLUMN()))=\"\"),NA(),VLOOKUP($H$2,テストデータ!$A$4:$QN$503,28*7+236,FALSE))","v":41},{"$f":"IF(OR(INDIRECT(ADDRESS(ROW()-1,COLUMN()))=\"欠\",INDIRECT(ADDRESS(ROW()-1,COLUMN()))=\"\"),NA(),VLOOKUP($H$2,テストデータ!$A$4:$QN$503,28*7+238,FALSE))","v":66},{"$f":"IF(OR(INDIRECT(ADDRESS(ROW()-1,COLUMN()))=\"欠\",INDIRECT(ADDRESS(ROW()-1,COLUMN()))=\"\"),NA(),VLOOKUP($H$2,テストデータ!$A$4:$QN$503,28*7+240,FALSE))","v":71},{"$f":"IF(OR(INDIRECT(ADDRESS(ROW()-1,COLUMN()))=\"欠\",INDIRECT(ADDRESS(ROW()-1,COLUMN()))=\"\"),NA(),VLOOKUP($H$2,テストデータ!$A$4:$QN$503,28*7+242,FALSE))","v":{"$error":"#N/A"}},{"$f":"IF(OR(INDIRECT(ADDRESS(ROW()-1,COLUMN()))=\"欠\",INDIRECT(ADDRESS(ROW()-1,COLUMN()))=\"\"),NA(),VLOOKUP($H$2,テストデータ!$A$4:$QN$503,28*7+244,FALSE))","v":61},{"$f":"IF(OR(INDIRECT(ADDRESS(ROW()-1,COLUMN()))=\"欠\",INDIRECT(ADDRESS(ROW()-1,COLUMN()))=\"\"),NA(),VLOOKUP($H$2,テストデータ!$A$4:$QN$503,28*7+246,FALSE))","v":63},{"$f":"IF(OR(INDIRECT(ADDRESS(ROW()-1,COLUMN()))=\"欠\",INDIRECT(ADDRESS(ROW()-1,COLUMN()))=\"\"),NA(),VLOOKUP($H$2,テストデータ!$A$4:$QN$503,28*7+248,FALSE))","v":{"$error":"#N/A"}},{"$f":"IF(OR(INDIRECT(ADDRESS(ROW()-1,COLUMN()))=\"欠\",INDIRECT(ADDRESS(ROW()-1,COLUMN()))=\"\"),NA(),VLOOKUP($H$2,テストデータ!$A$4:$QN$503,28*7+250,FALSE))","v":{"$error":"#N/A"}},{"$f":"IF(OR(INDIRECT(ADDRESS(ROW()-1,COLUMN()))=\"欠\",INDIRECT(ADDRESS(ROW()-1,COLUMN()))=\"\"),NA(),VLOOKUP($H$2,テストデータ!$A$4:$QN$503,28*7+252,FALSE))","v":{"$error":"#N/A"}},{"$f":"IF(OR(INDIRECT(ADDRESS(ROW()-1,COLUMN()))=\"欠\",INDIRECT(ADDRESS(ROW()-1,COLUMN()))=\"\"),NA(),VLOOKUP($H$2,テストデータ!$A$4:$QN$503,28*7+254,FALSE))","v":{"$error":"#N/A"}},{"$f":"IF(OR(INDIRECT(ADDRESS(ROW()-1,COLUMN()))=\"欠\",INDIRECT(ADDRESS(ROW()-1,COLUMN()))=\"\"),NA(),VLOOKUP($H$2,テストデータ!$A$4:$QN$503,28*7+256,FALSE))","v":{"$error":"#N/A"}},{"$f":"IF(OR(INDIRECT(ADDRESS(ROW()-1,COLUMN()))=\"欠\",INDIRECT(ADDRESS(ROW()-1,COLUMN()))=\"\"),NA(),VLOOKUP($H$2,テストデータ!$A$4:$QN$503,28*7+258,FALSE))","v":{"$error":"#N/A"}},{"$f":"IF(OR(INDIRECT(ADDRESS(ROW()-1,COLUMN()))=\"欠\",INDIRECT(ADDRESS(ROW()-1,COLUMN()))=\"\"),NA(),VLOOKUP($H$2,テストデータ!$A$4:$QN$503,28*7+260,FALSE))","v":{"$error":"#N/A"}}]
[null,null,"校内順位",{"$f":"IF(INDIRECT(ADDRESS(ROW()-2,COLUMN()))=\"欠\",\"\",RANK(INDIRECT(ADDRESS(ROW()-2,COLUMN())),OFFSET(テストデータ!$HY$3,1,28*7+0):OFFSET(テストデータ!$HY$3,500,28*7+0)))","v":7},{"$f":"IF(INDIRECT(ADDRESS(ROW()-2,COLUMN()))=\"欠\",\"\",RANK(INDIRECT(ADDRESS(ROW()-2,COLUMN())),OFFSET(テストデータ!$HY$3,1,28*7+2):OFFSET(テストデータ!$HY$3,500,28*7+2)))","v":18},{"$f":"IF(INDIRECT(ADDRESS(ROW()-2,COLUMN()))=\"欠\",\"\",RANK(INDIRECT(ADDRESS(ROW()-2,COLUMN())),OFFSET(テストデータ!$HY$3,1,28*7+4):OFFSET(テストデータ!$HY$3,500,28*7+4)))","v":2},{"$f":"IF(INDIRECT(ADDRESS(ROW()-2,COLUMN()))=\"欠\",\"\",RANK(INDIRECT(ADDRESS(ROW()-2,COLUMN())),OFFSET(テストデータ!$HY$3,1,28*7+6):OFFSET(テストデータ!$HY$3,500,28*7+6)))","v":1},{"$f":"IF(INDIRECT(ADDRESS(ROW()-2,COLUMN()))=\"欠\",\"\",RANK(INDIRECT(ADDRESS(ROW()-2,COLUMN())),OFFSET(テストデータ!$HY$3,1,28*7+8):OFFSET(テストデータ!$HY$3,500,28*7+8)))","v":""},{"$f":"IF(INDIRECT(ADDRESS(ROW()-2,COLUMN()))=\"欠\",\"\",RANK(INDIRECT(ADDRESS(ROW()-2,COLUMN())),OFFSET(テストデータ!$HY$3,1,28*7+10):OFFSET(テストデータ!$HY$3,500,28*7+10)))","v":1},{"$f":"IF(INDIRECT(ADDRESS(ROW()-2,COLUMN()))=\"欠\",\"\",RANK(INDIRECT(ADDRESS(ROW()-2,COLUMN())),OFFSET(テストデータ!$HY$3,1,28*7+12):OFFSET(テストデータ!$HY$3,500,28*7+12)))","v":1},{"$f":"IF(INDIRECT(ADDRESS(ROW()-2,COLUMN()))=\"欠\",\"\",RANK(INDIRECT(ADDRESS(ROW()-2,COLUMN())),OFFSET(テストデータ!$HY$3,1,28*7+14):OFFSET(テストデータ!$HY$3,500,28*7+14)))","v":{"$error":"#VALUE!"}},{"$f":"IF(INDIRECT(ADDRESS(ROW()-2,COLUMN()))=\"欠\",\"\",RANK(INDIRECT(ADDRESS(ROW()-2,COLUMN())),OFFSET(テストデータ!$HY$3,1,28*7+16):OFFSET(テストデータ!$HY$3,500,28*7+16)))","v":{"$error":"#VALUE!"}},{"$f":"IF(INDIRECT(ADDRESS(ROW()-2,COLUMN()))=\"欠\",\"\",RANK(INDIRECT(ADDRESS(ROW()-2,COLUMN())),OFFSET(テストデータ!$HY$3,1,28*7+18):OFFSET(テストデータ!$HY$3,500,28*7+18)))","v":{"$error":"#VALUE!"}},{"$f":"IF(INDIRECT(ADDRESS(ROW()-2,COLUMN()))=\"欠\",\"\",RANK(INDIRECT(ADDRESS(ROW()-2,COLUMN())),OFFSET(テストデータ!$HY$3,1,28*7+20):OFFSET(テストデータ!$HY$3,500,28*7+20)))","v":{"$error":"#VALUE!"}},{"$f":"IF(INDIRECT(ADDRESS(ROW()-2,COLUMN()))=\"欠\",\"\",RANK(INDIRECT(ADDRESS(ROW()-2,COLUMN())),OFFSET(テストデータ!$HY$3,1,28*7+22):OFFSET(テストデータ!$HY$3,500,28*7+22)))","v":{"$error":"#VALUE!"}},{"$f":"IF(INDIRECT(ADDRESS(ROW()-2,COLUMN()))=\"欠\",\"\",RANK(INDIRECT(ADDRESS(ROW()-2,COLUMN())),OFFSET(テストデータ!$HY$3,1,28*7+24):OFFSET(テストデータ!$HY$3,500,28*7+24)))","v":{"$error":"#VALUE!"}},{"$f":"IF(INDIRECT(ADDRESS(ROW()-2,COLUMN()))=\"欠\",\"\",RANK(INDIRECT(ADDRESS(ROW()-2,COLUMN())),OFFSET(テストデータ!$HY$3,1,28*7+26):OFFSET(テストデータ!$HY$3,500,28*7+26)))","v":{"$error":"#VALUE!"}}]

{"sheet":"定期テスト集計","index":4,"n_rows":505,"n_cols":9,"rows_kept":505,"cut":false,"hidden":false,"merged":[[2,1,2,2],[2,13,2,14],[5,7,5,8],[1,1,1,3]]}
[]
[null,{"$f":"IF(初期設定!C2=\"\",\"\",初期設定!C2)","v":"学力考査"}]
[null,"実施：",null,"第３回","科目：","全科目","クラス：","全クラス"]
[]
[null,"class","No.","氏名","得点","順位",null,"平均点：","575.4点"]
[null,"3-A","1","鈴木A男",851,{"$f":"IF(E6=\"\",\"\",RANK(E6,$E$6:$E$505))","v":1},null,"クラス別平均点"]
[null,"3-A","2","鈴木B男",487,{"$f":"IF(E7=\"\",\"\",RANK(E7,$E$6:$E$505))","v":18},null,"3-A：","597.2点"]
[null,"3-A","3","鈴木C男",553,12,null,"3-B：","561.8点"]
[null,"3-A","4","鈴木D男",563,8,null,"3-C：","569.4点"]
[null,"3-A","5","鈴木E男",545,13]
[null,"3-A","6","鈴木F男",584,7]
[null,"3-B","1","小池A男",null,""]
[null,"3-B","2","鈴木G男",563,8]
[null,"3-B","3","鈴木H男",495,17]
[null,"3-B","4","鈴木I男",542,14]
[null,"3-B","5","鈴木J男",587,6]
[null,"3-B","6","鈴木K男",624,5]
[null,"3-B","7","鈴木L男",560,10]
[null,"3-C","1","鈴木M男",674,3]
[null,"3-C","2","鈴木N男",524,16]
[null,"3-C","3","鈴木O男",532,15]
[null,"3-C","4","鈴木P男",449,19]
[null,"3-C","5","鈴木Q男",406,20]
[null,"3-C","6","鈴木R男",646,4]
[null,"3-C","7","鈴木S男",554,11]
[null,"3-C","8","鈴木T男",770,2]
[null,null,null,null,null,""]
[null,null,null,null,null,""]
[null,null,null,null,null,""]
[null,null,null,null,null,""]
[null,null,null,null,null,""]
[null,null,null,null,null,""]
[null,null,null,null,null,""]
[null,null,null,null,null,""]
[null,null,null,null,null,""]
[null,null,null,null,null,""]
[null,null,null,null,null,""]
[null,null,null,null,null,""]
[null,null,null,null,null,""]
[null,null,null,null,null,""]
[null,null,null,null,null,""]
[null,null,null,null,null,""]
[null,null,null,null,null,""]
[null,null,null,null,null,""]
[null,null,null,null,null,""]
[null,null,null,null,null,""]
[null,null,null,null,null,""]
[null,null,null,null,null,""]
[null,null,null,null,null,""]
[null,null,null,null,null,""]
[null,null,null,null,null,""]
[null,null,null,null,null,""]
[null,null,null,null,null,""]
[null,null,null,null,null,""]
[null,null,null,null,null,""]
[null,null,null,null,null,""]
[null,null,null,null,null,""]
[null,null,null,null,null,""]
[null,null,null,null,null,""]
[null,null,null,null,null,""]
[null,null,null,null,null,""]
[null,null,null,null,null,""]
[null,null,null,null,null,""]
[null,null,null,null,null,""]
[null,null,null,null,null,""]
[null,null,null,null,null,""]
[null,null,null,null,null,""]
[null,null,null,null,null,""]
[null,null,null,null,null,""]
[null,null,null,null,null,""]
[null,null,null,null,null,{"$f":"IF(E71=\"\",\"\",RANK(E71,$E$6:$E$505))","v":""}]
[null,null,null,null,null,""]
[null,null,null,null,null,""]
[null,null,null,null,null,""]
[null,null,null,null,null,""]
[null,null,null,null,null,""]
[null,null,null,null,null,""]
[null,null,null,null,null,""]
[null,null,null,null,null,""]
[null,null,null,null,null,""]
[null,null,null,null,null,""]
[null,null,null,null,null,""]
[null,null,null,null,null,""]
[null,null,null,null,null,""]
[null,null,null,null,null,""]
[null,null,null,null,null,""]
[null,null,null,null,null,""]
[null,null,null,null,null,""]
[null,null,null,null,null,""]
[null,null,null,null,null,""]
[null,null,null,null,null,""]
[null,null,null,null,null,""]
[null,null,null,null,null,""]
[null,null,null,null,null,""]
[null,null,null,null,null,""]
[null,null,null,null,null,""]
[null,null,null,null,null,""]
[null,null,null,null,null,""]
[null,null,null,null,null,""]
[null,null,null,null,null,""]
[null,null,null,null,null,""]
[null,null,null,null,null,""]
[null,null,null,null,null,""]
[null,null,null,null,null,""]
[null,null,null,null,null,""]
[null,null,null,null,null,""]
[null,null,null,null,null,""]
[null,null,null,null,null,""]
[null,null,null,null,null,""]
[null,null,null,null,null,""]
[null,null,null,null,null,""]
[null,null,null,null,null,""]
[null,null,null,null,null,""]
[null,null,null,null,null,""]
[null,null,null,null,null,""]
[null,null,null,null,null,""]
[null,null,null,null,null,""]
[null,null,null,null,null,""]
[null,null,null,null,null,""]
[null,null,null,null,null,""]
[null,null,null,null,null,""]
[null,null,null,null,null,""]
[null,null,null,null,null,""]
[null,null,null,null,null,""]
[null,null,null,null,null,""]
[null,null,null,null,null,""]
[null,null,null,null,null,""]
[null,null,null,null,null,""]
[null,null,null,null,null,""]
[null,null,null,null,null,""]
[null,null,null,null,null,""]
[null,null,null,null,null,""]
[null,null,null,null,null,""]
[null,null,null,null,null,""]
[null,null,null,null,null,{"$f":"IF(E135=\"\",\"\",RANK(E135,$E$6:$E$505))","v":""}]
[null,null,null,null,null,""]
[null,null,null,null,null,""]
[null,null,null,null,null,""]
[null,null,null,null,null,""]
[null,null,null,null,null,""]
[null,null,null,null,null,""]
[null,null,null,null,null,""]
[null,null,null,null,null,""]
[null,null,null,null,null,""]
[null,null,null,null,null,""]
[null,null,null,null,null,""]
[null,null,null,null,null,""]
[null,null,null,null,null,""]
[null,null,null,null,null,""]
[null,null,null,null,null,""]
[null,null,null,null,null,""]
[null,null,null,null,null,""]
[null,null,null,null,null,""]
[null,null,null,null,null,""]
[null,null,null,null,null,""]
[null,null,null,null,null,""]
[null,null,null,null,null,""]
[null,null,null,null,null,""]
[null,null,null,null,null,""]
[null,null,null,null,null,""]
[null,null,null,null,null,""]
[null,null,null,null,null,""]
[null,null,null,null,null,""]
[null,null,null,null,null,""]
[null,null,null,null,null,""]
[null,null,null,null,null,""]
[null,null,null,null,null,""]
[null,null,null,null,null,""]
[null,null,null,null,null,""]
[null,null,null,null,null,""]
[null,null,null,null,null,""]
[null,null,null,null,null,""]
[null,null,null,null,null,""]
[null,null,null,null,null,""]
[null,null,null,null,null,""]
[null,null,null,null,null,""]
[null,null,null,null,null,""]
[null,null,null,null,null,""]
[null,null,null,null,null,""]
[null,null,null,null,null,""]
[null,null,null,null,null,""]
[null,null,null,null,null,""]
[null,null,null,null,null,""]
[null,null,null,null,null,""]
[null,null,null,null,null,""]
[null,null,null,null,null,""]
[null,null,null,null,null,""]
[null,null,null,null,null,""]
[null,null,null,null,null,""]
[null,null,null,null,null,""]
[null,null,null,null,null,""]
[null,null,null,null,null,""]
[null,null,null,null,null,""]
[null,null,null,null,null,""]
[null,null,null,null,null,""]
[null,null,null,null,null,""]
[null,null,null,null,null,""]
[null,null,null,null,null,""]
[null,null,null,null,null,{"$f":"IF(E199=\"\",\"\",RANK(E199,$E$6:$E$505))","v":""}]
[null,null,null,null,null,""]
[null,null,null,null,null,""]
[null,null,null,null,null,""]
[null,null,null,null,null,""]
[null,null,null,null,null,""]
[null,null,null,null,null,""]
[null,null,null,null,null,""]
[null,null,null,null,null,""]
[null,null,null,null,null,""]
[null,null,null,null,null,""]
[null,null,null,null,null,""]
[null,null,null,null,null,""]
[null,null,null,null,null,""]
[null,null,null,null,null,""]
[null,null,null,null,null,""]
[null,null,null,null,null,""]
[null,null,null,null,null,""]
[null,null,null,null,null,""]
[null,null,null,null,null,""]
[null,null,null,null,null,""]
[null,null,null,null,null,""]
[null,null,null,null,null,""]
[null,null,null,null,null,""]
[null,null,null,null,null,""]
[null,null,null,null,null,""]
[null,null,null,null,null,""]
[null,null,null,null,null,""]
[null,null,null,null,null,""]
[null,null,null,null,null,""]
[null,null,null,null,null,""]
[null,null,null,null,null,""]
[null,null,null,null,null,""]
[null,null,null,null,null,""]
[null,null,null,null,null,""]
[null,null,null,null,null,""]
[null,null,null,null,null,""]
[null,null,null,null,null,""]
[null,null,null,null,null,""]
[null,null,null,null,null,""]
[null,null,null,null,null,""]
[null,null,null,null,null,""]
[null,null,null,null,null,""]
[null,null,null,null,null,""]
[null,null,null,null,null,""]
[null,null,null,null,null,""]
[null,null,null,null,null,""]
[null,null,null,null,null,""]
[null,null,null,null,null,""]
[null,null,null,null,null,""]
[null,null,null,null,null,""]
[null,null,null,null,null,""]
[null,null,null,null,null,""]
[null,null,null,null,null,""]
[null,null,null,null,null,""]
[null,null,null,null,null,""]
[null,null,null,null,null,""]
[null,null,null,null,null,""]
[null,null,null,null,null,""]
[null,null,null,null,null,""]
[null,null,null,null,null,""]
[null,null,null,null,null,""]
[null,null,null,null,null,""]
[null,null,null,null,null,""]
[null,null,null,null,null,{"$f":"IF(E263=\"\",\"\",RANK(E263,$E$6:$E$505))","v":""}]
[null,null,null,null,null,""]
[null,null,null,null,null,""]
[null,null,null,null,null,""]
[null,null,null,null,null,""]
[null,null,null,null,null,""]
[null,null,null,null,null,""]
[null,null,null,null,null,""]
[null,null,null,null,null,""]
[null,null,null,null,null,""]
[null,null,null,null,null,""]
[null,null,null,null,null,""]
[null,null,null,null,null,""]
[null,null,null,null,null,""]
[null,null,null,null,null,""]
[null,null,null,null,null,""]
[null,null,null,null,null,""]
[null,null,null,null,null,""]
[null,null,null,null,null,""]
[null,null,null,null,null,""]
[null,null,null,null,null,""]
[null,null,null,null,null,""]
[null,null,null,null,null,""]
[null,null,null,null,null,""]
[null,null,null,null,null,""]
[null,null,null,null,null,""]
[null,null,null,null,null,""]
[null,null,null,null,null,""]
[null,null,null,null,null,""]
[null,null,null,null,null,""]
[null,null,null,null,null,""]
[null,null,null,null,null,""]
[null,null,null,null,null,""]
[null,null,null,null,null,""]
[null,null,null,null,null,""]
[null,null,null,null,null,""]
[null,null,null,null,null,""]
[null,null,null,null,null,""]
[null,null,null,null,null,""]
[null,null,null,null,null,""]
[null,null,null,null,null,""]
[null,null,null,null,null,""]
[null,null,null,null,null,""]
[null,null,null,null,null,""]
[null,null,null,null,null,""]
[null,null,null,null,null,""]
[null,null,null,null,null,""]
[null,null,null,null,null,""]
[null,null,null,null,null,""]
[null,null,null,null,null,""]
[null,null,null,null,null,""]
[null,null,null,null,null,""]
[null,null,null,null,null,""]
[null,null,null,null,null,""]
[null,null,null,null,null,""]
[null,null,null,null,null,""]
[null,null,null,null,null,""]
[null,null,null,null,null,""]
[null,null,null,null,null,""]
[null,null,null,null,null,""]
[null,null,null,null,null,""]
[null,null,null,null,null,""]
[null,null,null,null,null,""]
[null,null,null,null,null,""]
[null,null,null,null,null,{"$f":"IF(E327=\"\",\"\",RANK(E327,$E$6:$E$505))","v":""}]
[null,null,null,null,null,""]
[null,null,null,null,null,""]
[null,null,null,null,null,""]
[null,null,null,null,null,""]
[null,null,null,null,null,""]
[null,null,null,null,null,""]
[null,null,null,null,null,""]
[null,null,null,null,null,""]
[null,null,null,null,null,""]
[null,null,null,null,null,""]
[null,null,null,null,null,""]
[null,null,null,null,null,""]
[null,null,null,null,null,""]
[null,null,null,null,null,""]
[null,null,null,null,null,""]
[null,null,null,null,null,""]
[null,null,null,null,null,""]
[null,null,null,null,null,""]
[null,null,null,null,null,""]
[null,null,null,null,null,""]
[null,null,null,null,null,""]
[null,null,null,null,null,""]
[null,null,null,null,null,""]
[null,null,null,null,null,""]
[null,null,null,null,null,""]
[null,null,null,null,null,""]
[null,null,null,null,null,""]
[null,null,null,null,null,""]
[null,null,null,null,null,""]
[null,null,null,null,null,""]
[null,null,null,null,null,""]
[null,null,null,null,null,""]
[null,null,null,null,null,""]
[null,null,null,null,null,""]
[null,null,null,null,null,""]
[null,null,null,null,null,""]
[null,null,null,null,null,""]
[null,null,null,null,null,""]
[null,null,null,null,null,""]
[null,null,null,null,null,""]
[null,null,null,null,null,""]
[null,null,null,null,null,""]
[null,null,null,null,null,""]
[null,null,null,null,null,""]
[null,null,null,null,null,""]
[null,null,null,null,null,""]
[null,null,null,null,null,""]
[null,null,null,null,null,""]
[null,null,null,null,null,""]
[null,null,null,null,null,""]
[null,null,null,null,null,""]
[null,null,null,null,null,""]
[null,null,null,null,null,""]
[null,null,null,null,null,""]
[null,null,null,null,null,""]
[null,null,null,null,null,""]
[null,null,null,null,null,""]
[null,null,null,null,null,""]
[null,null,null,null,null,""]
[null,null,null,null,null,""]
[null,null,null,null,null,""]
[null,null,null,null,null,""]
[null,null,null,null,null,""]
[null,null,null,null,null,{"$f":"IF(E391=\"\",\"\",RANK(E391,$E$6:$E$505))","v":""}]
[null,null,null,null,null,""]
[null,null,null,null,null,""]
[null,null,null,null,null,""]
[null,null,null,null,null,""]
[null,null,null,null,null,""]
[null,null,null,null,null,""]
[null,null,null,null,null,""]
[null,null,null,null,null,""]
[null,null,null,null,null,""]
[null,null,null,null,null,""]
[null,null,null,null,null,""]
[null,null,null,null,null,""]
[null,null,null,null,null,""]
[null,null,null,null,null,""]
[null,null,null,null,null,""]
[null,null,null,null,null,""]
[null,null,null,null,null,""]
[null,null,null,null,null,""]
[null,null,null,null,null,""]
[null,null,null,null,null,""]
[null,null,null,null,null,""]
[null,null,null,null,null,""]
[null,null,null,null,null,""]
[null,null,null,null,null,""]
[null,null,null,null,null,""]
[null,null,null,null,null,""]
[null,null,null,null,null,""]
[null,null,null,null,null,""]
[null,null,null,null,null,""]
[null,null,null,null,null,""]
[null,null,null,null,null,""]
[null,null,null,null,null,""]
[null,null,null,null,null,""]
[null,null,null,null,null,""]
[null,null,null,null,null,""]
[null,null,null,null,null,""]
[null,null,null,null,null,""]
[null,null,null,null,null,""]
[null,null,null,null,null,""]
[null,null,null,null,null,""]
[null,null,null,null,null,""]
[null,null,null,null,null,""]
[null,null,null,null,null,""]
[null,null,null,null,null,""]
[null,null,null,null,null,""]
[null,null,null,null,null,""]
[null,null,null,null,null,""]
[null,null,null,null,null,""]
[null,null,null,null,null,""]
[null,null,null,null,null,""]
[null,null,null,null,null,""]
[null,null,null,null,null,""]
[null,null,null,null,null,""]
[null,null,null,null,null,""]
[null,null,null,null,null,""]
[null,null,null,null,null,""]
[null,null,null,null,null,""]
[null,null,null,null,null,""]
[null,null,null,null,null,""]
[null,null,null,null,null,""]
[null,null,null,null,null,""]
[null,null,null,null,null,""]
[null,null,null,null,null,""]
[null,null,null,null,null,{"$f":"IF(E455=\"\",\"\",RANK(E455,$E$6:$E$505))","v":""}]
[null,null,null,null,null,""]
[null,null,null,null,null,""]
[null,null,null,null,null,""]
[null,null,null,null,null,""]
[null,null,null,null,null,""]
[null,null,null,null,null,""]
[null,null,null,null,null,""]
[null,null,null,null,null,""]
[null,null,null,null,null,""]
[null,null,null,null,null,""]
[null,null,null,null,null,""]
[null,null,null,null,null,""]
[null,null,null,null,null,""]
[null,null,null,null,null,""]
[null,null,null,null,null,""]
[null,null,null,null,null,""]
[null,null,null,null,null,""]
[null,null,null,null,null,""]
[null,null,null,null,null,""]
[null,null,null,null,null,""]
[null,null,null,null,null,""]
[null,null,null,null,null,""]
[null,null,null,null,null,""]
[null,null,null,null,null,""]
[null,null,null,null,null,""]
[null,null,null,null,null,""]
[null,null,null,null,null,""]
[null,null,null,null,null,""]
[null,null,null,null,null,""]
[null,null,null,null,null,""]
[null,null,null,null,null,""]
[null,null,null,null,null,""]
[null,null,null,null,null,""]
[null,null,null,null,null,""]
[null,null,null,null,null,""]
[null,null,null,null,null,""]
[null,null,null,null,null,""]
[null,null,null,null,null,""]
[null,null,null,null,null,""]
[null,null,null,null,null,""]
[null,null,null,null,null,""]
[null,null,null,null,null,""]
[null,null,null,null,null,""]
[null,null,null,null,null,""]
[null,null,null,null,null,""]
[null,null,null,null,null,""]
[null,null,null,null,null,""]
[null,null,null,null,null,""]
[null,null,null,null,null,""]
[null,null,null,null,null,""]

{"sheet":"科目別テスト集計","index":5,"n_rows":505,"n_cols":9,"rows_kept":505,"cut":false,"hidden":false,"merged":[[5,7,5,8],[2,1,2,2],[1,1,1,3]]}
[]
[null,{"$f":"IF(初期設定!C17=\"\",\"\",初期設定!C17)","v":"到達度テスト"}]
[null,"科目：",null,"化基","クラス：","全クラス","実施日：","3/2"]
[]
[null,"class","No.","氏名","点数","順位",null,"平均点：","54.9点"]
[null,"3-A","1","鈴木A男",null,{"$f":"IF(E6=\"\",\"\",RANK(E6,$E$6:$E$505))","v":""},null,"クラス別平均点"]
[null,"3-A","2","鈴木B男",86,{"$f":"IF(E7=\"\",\"\",RANK(E7,$E$6:$E$505))","v":4},null,"3-A：","63点"]
[null,"3-A","3","鈴木C男",31,14,null,"3-B：","70.7点"]
[null,"3-A","4","鈴木D男",51,11,null,"3-C：","38.1点"]
[null,"3-A","5","鈴木E男",100,1]
[null,"3-A","6","鈴木F男",47,12]
[null,"3-B","1","小池A男",null,""]
[null,"3-B","2","鈴木G男",97,2]
[null,"3-B","3","鈴木H男",18,15]
[null,"3-B","4","鈴木I男",85,5]
[null,"3-B","5","鈴木J男",94,3]
[null,"3-B","6","鈴木K男",71,7]
[null,"3-B","7","鈴木L男",59,10]
[null,"3-C","1","鈴木M男",11,17]
[null,"3-C","2","鈴木N男",12,16]
[null,"3-C","3","鈴木O男",68,9]
[null,"3-C","4","鈴木P男",10,19]
[null,"3-C","5","鈴木Q男",78,6]
[null,"3-C","6","鈴木R男",71,7]
[null,"3-C","7","鈴木S男",44,13]
[null,"3-C","8","鈴木T男",11,17]
[null,null,null,null,null,""]
[null,null,null,null,null,""]
[null,null,null,null,null,""]
[null,null,null,null,null,""]
[null,null,null,null,null,{"$f":"IF(E31=\"\",\"\",RANK(E31,$E$6:$E$505))","v":""}]
[null,null,null,null,null,""]
[null,null,null,null,null,""]
[null,null,null,null,null,""]
[null,null,null,null,null,""]
[null,null,null,null,null,""]
[null,null,null,null,null,""]
[null,null,null,null,null,""]
[null,null,null,null,null,""]
[null,null,null,null,null,""]
[null,null,null,null,null,""]
[null,null,null,null,null,""]
[null,null,null,null,null,""]
[null,null,null,null,null,""]
[null,null,null,null,null,""]
[null,null,null,null,null,""]
[null,null,null,null,null,""]
[null,null,null,null,null,""]
[null,null,null,null,null,""]
[null,null,null,null,null,""]
[null,null,null,null,null,""]
[null,null,null,null,null,""]
[null,null,null,null,null,""]
[null,null,null,null,null,""]
[null,null,null,null,null,""]
[null,null,null,null,null,""]
[null,null,null,null,null,""]
[null,null,null,null,null,""]
[null,null,null,null,null,""]
[null,null,null,null,null,""]
[null,null,null,null,null,""]
[null,null,null,null,null,""]
[null,null,null,null,null,""]
[null,null,null,null,null,""]
[null,null,null,null,null,""]
[null,null,null,null,null,""]
[null,null,null,null,null,""]
[null,null,null,null,null,""]
[null,null,null,null,null,""]
[null,null,null,null,null,""]
[null,null,null,null,null,{"$f":"IF(E71=\"\",\"\",RANK(E71,$E$6:$E$505))","v":""}]
[null,null,null,null,null,""]
[null,null,null,null,null,""]
[null,null,null,null,null,""]
[null,null,null,null,null,""]
[null,null,null,null,null,""]
[null,null,null,null,null,""]
[null,null,null,null,null,""]
[null,null,null,null,null,""]
[null,null,null,null,null,""]
[null,null,null,null,null,""]
[null,null,null,null,null,""]
[null,null,null,null,null,""]
[null,null,null,null,null,""]
[null,null,null,null,null,""]
[null,null,null,null,null,""]
[null,null,null,null,null,""]
[null,null,null,null,null,""]
[null,null,null,null,null,""]
[null,null,null,null,null,""]
[null,null,null,null,null,""]
[null,null,null,null,null,""]
[null,null,null,null,null,""]
[null,null,null,null,null,""]
[null,null,null,null,null,""]
[null,null,null,null,null,""]
[null,null,null,null,null,""]
[null,null,null,null,null,""]
[null,null,null,null,null,""]
[null,null,null,null,null,""]
[null,null,null,null,null,""]
[null,null,null,null,null,""]
[null,null,null,null,null,""]
[null,null,null,null,null,""]
[null,null,null,null,null,""]
[null,null,null,null,null,""]
[null,null,null,null,null,""]
[null,null,null,null,null,""]
[null,null,null,null,null,""]
[null,null,null,null,null,""]
[null,null,null,null,null,""]
[null,null,null,null,null,""]
[null,null,null,null,null,""]
[null,null,null,null,null,""]
[null,null,null,null,null,""]
[null,null,null,null,null,""]
[null,null,null,null,null,""]
[null,null,null,null,null,""]
[null,null,null,null,null,""]
[null,null,null,null,null,""]
[null,null,null,null,null,""]
[null,null,null,null,null,""]
[null,null,null,null,null,""]
[null,null,null,null,null,""]
[null,null,null,null,null,""]
[null,null,null,null,null,""]
[null,null,null,null,null,""]
[null,null,null,null,null,""]
[null,null,null,null,null,""]
[null,null,null,null,null,""]
[null,null,null,null,null,""]
[null,null,null,null,null,""]
[null,null,null,null,null,""]
[null,null,null,null,null,""]
[null,null,null,null,null,{"$f":"IF(E135=\"\",\"\",RANK(E135,$E$6:$E$505))","v":""}]
[null,null,null,null,null,""]
[null,null,null,null,null,""]
[null,null,null,null,null,""]
[null,null,null,null,null,""]
[null,null,null,null,null,""]
[null,null,null,null,null,""]
[null,null,null,null,null,""]
[null,null,null,null,null,""]
[null,null,null,null,null,""]
[null,null,null,null,null,""]
[null,null,null,null,null,""]
[null,null,null,null,null,""]
[null,null,null,null,null,""]
[null,null,null,null,null,""]
[null,null,null,null,null,""]
[null,null,null,null,null,""]
[null,null,null,null,null,""]
[null,null,null,null,null,""]
[null,null,null,null,null,""]
[null,null,null,null,null,""]
[null,null,null,null,null,""]
[null,null,null,null,null,""]
[null,null,null,null,null,""]
[null,null,null,null,null,""]
[null,null,null,null,null,""]
[null,null,null,null,null,""]
[null,null,null,null,null,""]
[null,null,null,null,null,""]
[null,null,null,null,null,""]
[null,null,null,null,null,""]
[null,null,null,null,null,""]
[null,null,null,null,null,""]
[null,null,null,null,null,""]
[null,null,null,null,null,""]
[null,null,null,null,null,""]
[null,null,null,null,null,""]
[null,null,null,null,null,""]
[null,null,null,null,null,""]
[null,null,null,null,null,""]
[null,null,null,null,null,""]
[null,null,null,null,null,""]
[null,null,null,null,null,""]
[null,null,null,null,null,""]
[null,null,null,null,null,""]
[null,null,null,null,null,""]
[null,null,null,null,null,""]
[null,null,null,null,null,""]
[null,null,null,null,null,""]
[null,null,null,null,null,""]
[null,null,null,null,null,""]
[null,null,null,null,null,""]
[null,null,null,null,null,""]
[null,null,null,null,null,""]
[null,null,null,null,null,""]
[null,null,null,null,null,""]
[null,null,null,null,null,""]
[null,null,null,null,null,""]
[null,null,null,null,null,""]
[null,null,null,null,null,""]
[null,null,null,null,null,""]
[null,null,null,null,null,""]
[null,null,null,null,null,""]
[null,null,null,null,null,""]
[null,null,null,null,null,{"$f":"IF(E199=\"\",\"\",RANK(E199,$E$6:$E$505))","v":""}]
[null,null,null,null,null,""]
[null,null,null,null,null,""]
[null,null,null,null,null,""]
[null,null,null,null,null,""]
[null,null,null,null,null,""]
[null,null,null,null,null,""]
[null,null,null,null,null,""]
[null,null,null,null,null,""]
[null,null,null,null,null,""]
[null,null,null,null,null,""]
[null,null,null,null,null,""]
[null,null,null,null,null,""]
[null,null,null,null,null,""]
[null,null,null,null,null,""]
[null,null,null,null,null,""]
[null,null,null,null,null,""]
[null,null,null,null,null,""]
[null,null,null,null,null,""]
[null,null,null,null,null,""]
[null,null,null,null,null,""]
[null,null,null,null,null,""]
[null,null,null,null,null,""]
[null,null,null,null,null,""]
[null,null,null,null,null,""]
[null,null,null,null,null,""]
[null,null,null,null,null,""]
[null,null,null,null,null,""]
[null,null,null,null,null,""]
[null,null,null,null,null,""]
[null,null,null,null,null,""]
[null,null,null,null,null,""]
[null,null,null,null,null,""]
[null,null,null,null,null,""]
[null,null,null,null,null,""]
[null,null,null,null,null,""]
[null,null,null,null,null,""]
[null,null,null,null,null,""]
[null,null,null,null,null,""]
[null,null,null,null,null,""]
[null,null,null,null,null,""]
[null,null,null,null,null,""]
[null,null,null,null,null,""]
[null,null,null,null,null,""]
[null,null,null,null,null,""]
[null,null,null,null,null,""]
[null,null,null,null,null,""]
[null,null,null,null,null,""]
[null,null,null,null,null,""]
[null,null,null,null,null,""]
[null,null,null,null,null,""]
[null,null,null,null,null,""]
[null,null,null,null,null,""]
[null,null,null,null,null,""]
[null,null,null,null,null,""]
[null,null,null,null,null,""]
[null,null,null,null,null,""]
[null,null,null,null,null,""]
[null,null,null,null,null,""]
[null,null,null,null,null,""]
[null,null,null,null,null,""]
[null,null,null,null,null,""]
[null,null,null,null,null,""]
[null,null,null,null,null,""]
[null,null,null,null,null,{"$f":"IF(E263=\"\",\"\",RANK(E263,$E$6:$E$505))","v":""}]
[null,null,null,null,null,""]
[null,null,null,null,null,""]
[null,null,null,null,null,""]
[null,null,null,null,null,""]
[null,null,null,null,null,""]
[null,null,null,null,null,""]
[null,null,null,null,null,""]
[null,null,null,null,null,""]
[null,null,null,null,null,""]
[null,null,null,null,null,""]
[null,null,null,null,null,""]
[null,null,null,null,null,""]
[null,null,null,null,null,""]
[null,null,null,null,null,""]
[null,null,null,null,null,""]
[null,null,null,null,null,""]
[null,null,null,null,null,""]
[null,null,null,null,null,""]
[null,null,null,null,null,""]
[null,null,null,null,null,""]
[null,null,null,null,null,""]
[null,null,null,null,null,""]
[null,null,null,null,null,""]
[null,null,null,null,null,""]
[null,null,null,null,null,""]
[null,null,null,null,null,""]
[null,null,null,null,null,""]
[null,null,null,null,null,""]
[null,null,null,null,null,""]
[null,null,null,null,null,""]
[null,null,null,null,null,""]
[null,null,null,null,null,""]
[null,null,null,null,null,""]
[null,null,null,null,null,""]
[null,null,null,null,null,""]
[null,null,null,null,null,""]
[null,null,null,null,null,""]
[null,null,null,null,null,""]
[null,null,null,null,null,""]
[null,null,null,null,null,""]
[null,null,null,null,null,""]
[null,null,null,null,null,""]
[null,null,null,null,null,""]
[null,null,null,null,null,""]
[null,null,null,null,null,""]
[null,null,null,null,null,""]
[null,null,null,null,null,""]
[null,null,null,null,null,""]
[null,null,null,null,null,""]
[null,null,null,null,null,""]
[null,null,null,null,null,""]
[null,null,null,null,null,""]
[null,null,null,null,null,""]
[null,null,null,null,null,""]
[null,null,null,null,null,""]
[null,null,null,null,null,""]
[null,null,null,null,null,""]
[null,null,null,null,null,""]
[null,null,null,null,null,""]
[null,null,null,null,null,""]
[null,null,null,null,null,""]
[null,null,null,null,null,""]
[null,null,null,null,null,""]
[null,null,null,null,null,{"$f":"IF(E327=\"\",\"\",RANK(E327,$E$6:$E$505))","v":""}]
[null,null,null,null,null,""]
[null,null,null,null,null,""]
[null,null,null,null,null,""]
[null,null,null,null,null,""]
[null,null,null,null,null,""]
[null,null,null,null,null,""]
[null,null,null,null,null,""]
[null,null,null,null,null,""]
[null,null,null,null,null,""]
[null,null,null,null,null,""]
[null,null,null,null,null,""]
[null,null,null,null,null,""]
[null,null,null,null,null,""]
[null,null,null,null,null,""]
[null,null,null,null,null,""]
[null,null,null,null,null,""]
[null,null,null,null,null,""]
[null,null,null,null,null,""]
[null,null,null,null,null,""]
[null,null,null,null,null,""]
[null,null,null,null,null,""]
[null,null,null,null,null,""]
[null,null,null,null,null,""]
[null,null,null,null,null,""]
[null,null,null,null,null,""]
[null,null,null,null,null,""]
[null,null,null,null,null,""]
[null,null,null,null,null,""]
[null,null,null,null,null,""]
[null,null,null,null,null,""]
[null,null,null,null,null,""]
[null,null,null,null,null,""]
[null,null,null,null,null,""]
[null,null,null,null,null,""]
[null,null,null,null,null,""]
[null,null,null,null,null,""]
[null,null,null,null,null,""]
[null,null,null,null,null,""]
[null,null,null,null,null,""]
[null,null,null,null,null,""]
[null,null,null,null,null,""]
[null,null,null,null,null,""]
[null,null,null,null,null,""]
[null,null,null,null,null,""]
[null,null,null,null,null,""]
[null,null,null,null,null,""]
[null,null,null,null,null,""]
[null,null,null,null,null,""]
[null,null,null,null,null,""]
[null,null,null,null,null,""]
[null,null,null,null,null,""]
[null,null,null,null,null,""]
[null,null,null,null,null,""]
[null,null,null,null,null,""]
[null,null,null,null,null,""]
[null,null,null,null,null,""]
[null,null,null,null,null,""]
[null,null,null,null,null,""]
[null,null,null,null,null,""]
[null,null,null,null,null,""]
[null,null,null,null,null,""]
[null,null,null,null,null,""]
[null,null,null,null,null,""]
[null,null,null,null,null,{"$f":"IF(E391=\"\",\"\",RANK(E391,$E$6:$E$505))","v":""}]
[null,null,null,null,null,""]
[null,null,null,null,null,""]
[null,null,null,null,null,""]
[null,null,null,null,null,""]
[null,null,null,null,null,""]
[null,null,null,null,null,""]
[null,null,null,null,null,""]
[null,null,null,null,null,""]
[null,null,null,null,null,""]
[null,null,null,null,null,""]
[null,null,null,null,null,""]
[null,null,null,null,null,""]
[null,null,null,null,null,""]
[null,null,null,null,null,""]
[null,null,null,null,null,""]
[null,null,null,null,null,""]
[null,null,null,null,null,""]
[null,null,null,null,null,""]
[null,null,null,null,null,""]
[null,null,null,null,null,""]
[null,null,null,null,null,""]
[null,null,null,null,null,""]
[null,null,null,null,null,""]
[null,null,null,null,null,""]
[null,null,null,null,null,""]
[null,null,null,null,null,""]
[null,null,null,null,null,""]
[null,null,null,null,null,""]
[null,null,null,null,null,""]
[null,null,null,null,null,""]
[null,null,null,null,null,""]
[null,null,null,null,null,""]
[null,null,null,null,null,""]
[null,null,null,null,null,""]
[null,null,null,null,null,""]
[null,null,null,null,null,""]
[null,null,null,null,null,""]
[null,null,null,null,null,""]
[null,null,null,null,null,""]
[null,null,null,null,null,""]
[null,null,null,null,null,""]
[null,null,null,null,null,""]
[null,null,null,null,null,""]
[null,null,null,null,null,""]
[null,null,null,null,null,""]
[null,null,null,null,null,""]
[null,null,null,null,null,""]
[null,null,null,null,null,""]
[null,null,null,null,null,""]
[null,null,null,null,null,""]
[null,null,null,null,null,""]
[null,null,null,null,null,""]
[null,null,null,null,null,""]
[null,null,null,null,null,""]
[null,null,null,null,null,""]
[null,null,null,null,null,""]
[null,null,null,null,null,""]
[null,null,null,null,null,""]
[null,null,null,null,null,""]
[null,null,null,null,null,""]
[null,null,null,null,null,""]
[null,null,null,null,null,""]
[null,null,null,null,null,""]
[null,null,null,null,null,{"$f":"IF(E455=\"\",\"\",RANK(E455,$E$6:$E$505))","v":""}]
[null,null,null,null,null,""]
[null,null,null,null,null,""]
[null,null,null,null,null,""]
[null,null,null,null,null,""]
[null,null,null,null,null,""]
[null,null,null,null,null,""]
[null,null,null,null,null,""]
[null,null,null,null,null,""]
[null,null,null,null,null,""]
[null,null,null,null,null,""]
[null,null,null,null,null,""]
[null,null,null,null,null,""]
[null,null,null,null,null,""]
[null,null,null,null,null,""]
[null,null,null,null,null,""]
[null,null,null,null,null,""]
[null,null,null,null,null,""]
[null,null,null,null,null,""]
[null,null,null,null,null,""]
[null,null,null,null,null,""]
[null,null,null,null,null,""]
[null,null,null,null,null,""]
[null,null,null,null,null,""]
[null,null,null,null,null,""]
[null,null,null,null,null,""]
[null,null,null,null,null,""]
[null,null,null,null,null,""]
[null,null,null,null,null,""]
[null,null,null,null,null,""]
[null,null,null,null,null,""]
[null,null,null,null,null,""]
[null,null,null,null,null,""]
[null,null,null,null,null,""]
[null,null,null,null,null,""]
[null,null,null,null,null,""]
[null,null,null,null,null,""]
[null,null,null,null,null,""]
[null,null,null,null,null,""]
[null,null,null,null,null,""]
[null,null,null,null,null,""]
[null,null,null,null,null,""]
[null,null,null,null,null,""]
[null,null,null,null,null,""]
[null,null,null,null,null,""]
[null,null,null,null,null,""]
[null,null,null,null,null,""]
[null,null,null,null,null,""]
[null,null,null,null,null,""]
[null,null,null,null,null,""]
[null,null,null,null,null,""]

{"sheet":"模試集計","index":6,"n_rows":505,"n_cols":9,"rows_kept":505,"cut":false,"hidden":false,"merged":[[2,13,2,14],[2,1,2,2],[5,7,5,8],[1,1,1,4]]}
[]
[null,{"$f":"IF(初期設定!C30=\"\",\"\",初期設定!C30)","v":"実力模試"}]
[null,"実施：",null,"第3回","科目：","数Ⅰ","クラス：","3-A"]
[]
[null,"class","No.","氏名","得点","偏差値","順位","平均点：","50点"]
[null,"3-A","1","鈴木A男",92,71,{"$f":"IF(E6=\"\",\"\",RANK(E6,$E$6:$E$505))","v":1},"クラス別平均点"]
[null,"3-A","2","鈴木B男",null,null,{"$f":"IF(E7=\"\",\"\",RANK(E7,$E$6:$E$505))","v":""},"3-A：","50点"]
[null,"3-A","3","鈴木C男",69,59,2]
[null,"3-A","4","鈴木D男",46,49,3]
[null,"3-A","5","鈴木E男",12,30,5]
[null,"3-A","6","鈴木F男",31,42,4]
[null,null,null,null,null,null,""]
[null,null,null,null,null,null,""]
[null,null,null,null,null,null,""]
[null,null,null,null,null,null,""]
[null,null,null,null,null,null,""]
[null,null,null,null,null,null,""]
[null,null,null,null,null,null,""]
[null,null,null,null,null,null,""]
[null,null,null,null,null,null,""]
[null,null,null,null,null,null,""]
[null,null,null,null,null,null,""]
[null,null,null,null,null,null,""]
[null,null,null,null,null,null,""]
[null,null,null,null,null,null,""]
[]
[null,null,null,null,null,null,""]
[null,null,null,null,null,null,""]
[null,null,null,null,null,null,""]
[null,null,null,null,null,null,""]
[null,null,null,null,null,null,""]
[null,null,null,null,null,null,""]
[null,null,null,null,null,null,""]
[null,null,null,null,null,null,""]
[null,null,null,null,null,null,""]
[null,null,null,null,null,null,""]
[null,null,null,null,null,null,""]
[null,null,null,null,null,null,""]
[null,null,null,null,null,null,""]
[null,null,null,null,null,null,""]
[null,null,null,null,null,null,""]
[null,null,null,null,null,null,""]
[null,null,null,null,null,null,""]
[null,null,null,null,null,null,""]
[null,null,null,null,null,null,""]
[null,null,null,null,null,null,""]
[null,null,null,null,null,null,""]
[null,null,null,null,null,null,""]
[null,null,null,null,null,null,""]
[null,null,null,null,null,null,""]
[null,null,null,null,null,null,""]
[null,null,null,null,null,null,""]
[null,null,null,null,null,null,""]
[null,null,null,null,null,null,""]
[null,null,null,null,null,null,""]
[null,null,null,null,null,null,""]
[null,null,null,null,null,null,""]
[null,null,null,null,null,null,""]
[null,null,null,null,null,null,""]
[null,null,null,null,null,null,""]
[null,null,null,null,null,null,""]
[null,null,null,null,null,null,""]
[null,null,null,null,null,null,""]
[null,null,null,null,null,null,""]
[null,null,null,null,null,null,""]
[null,null,null,null,null,null,""]
[null,null,null,null,null,null,""]
[null,null,null,null,null,null,""]
[null,null,null,null,null,null,""]
[null,null,null,null,null,null,""]
[null,null,null,null,null,null,{"$f":"IF(E71=\"\",\"\",RANK(E71,$E$6:$E$505))","v":""}]
[null,null,null,null,null,null,""]
[null,null,null,null,null,null,""]
[null,null,null,null,null,null,""]
[null,null,null,null,null,null,""]
[null,null,null,null,null,null,""]
[null,null,null,null,null,null,""]
[null,null,null,null,null,null,""]
[null,null,null,null,null,null,""]
[null,null,null,null,null,null,""]
[null,null,null,null,null,null,""]
[null,null,null,null,null,null,""]
[null,null,null,null,null,null,""]
[null,null,null,null,null,null,""]
[null,null,null,null,null,null,""]
[null,null,null,null,null,null,""]
[null,null,null,null,null,null,""]
[null,null,null,null,null,null,""]
[null,null,null,null,null,null,""]
[null,null,null,null,null,null,""]
[null,null,null,null,null,null,""]
[null,null,null,null,null,null,""]
[null,null,null,null,null,null,""]
[null,null,null,null,null,null,""]
[null,null,null,null,null,null,""]
[null,null,null,null,null,null,""]
[null,null,null,null,null,null,""]
[null,null,null,null,null,null,""]
[null,null,null,null,null,null,""]
[null,null,null,null,null,null,""]
[null,null,null,null,null,null,""]
[null,null,null,null,null,null,""]
[null,null,null,null,null,null,""]
[null,null,null,null,null,null,""]
[null,null,null,null,null,null,""]
[null,null,null,null,null,null,""]
[null,null,null,null,null,null,""]
[null,null,null,null,null,null,""]
[null,null,null,null,null,null,""]
[null,null,null,null,null,null,""]
[null,null,null,null,null,null,""]
[null,null,null,null,null,null,""]
[null,null,null,null,null,null,""]
[null,null,null,null,null,null,""]
[null,null,null,null,null,null,""]
[null,null,null,null,null,null,""]
[null,null,null,null,null,null,""]
[null,null,null,null,null,null,""]
[null,null,null,null,null,null,""]
[null,null,null,null,null,null,""]
[null,null,null,null,null,null,""]
[null,null,null,null,null,null,""]
[null,null,null,null,null,null,""]
[null,null,null,null,null,null,""]
[null,null,null,null,null,null,""]
[null,null,null,null,null,null,""]
[null,null,null,null,null,null,""]
[null,null,null,null,null,null,""]
[null,null,null,null,null,null,""]
[null,null,null,null,null,null,""]
[null,null,null,null,null,null,""]
[null,null,null,null,null,null,""]
[null,null,null,null,null,null,""]
[null,null,null,null,null,null,""]
[null,null,null,null,null,null,{"$f":"IF(E135=\"\",\"\",RANK(E135,$E$6:$E$505))","v":""}]
[null,null,null,null,null,null,""]
[null,null,null,null,null,null,""]
[null,null,null,null,null,null,""]
[null,null,null,null,null,null,""]
[null,null,null,null,null,null,""]
[null,null,null,null,null,null,""]
[null,null,null,null,null,null,""]
[null,null,null,null,null,null,""]
[null,null,null,null,null,null,""]
[null,null,null,null,null,null,""]
[null,null,null,null,null,null,""]
[null,null,null,null,null,null,""]
[null,null,null,null,null,null,""]
[null,null,null,null,null,null,""]
[null,null,null,null,null,null,""]
[null,null,null,null,null,null,""]
[null,null,null,null,null,null,""]
[null,null,null,null,null,null,""]
[null,null,null,null,null,null,""]
[null,null,null,null,null,null,""]
[null,null,null,null,null,null,""]
[null,null,null,null,null,null,""]
[null,null,null,null,null,null,""]
[null,null,null,null,null,null,""]
[null,null,null,null,null,null,""]
[null,null,null,null,null,null,""]
[null,null,null,null,null,null,""]
[null,null,null,null,null,null,""]
[null,null,null,null,null,null,""]
[null,null,null,null,null,null,""]
[null,null,null,null,null,null,""]
[null,null,null,null,null,null,""]
[null,null,null,null,null,null,""]
[null,null,null,null,null,null,""]
[null,null,null,null,null,null,""]
[null,null,null,null,null,null,""]
[null,null,null,null,null,null,""]
[null,null,null,null,null,null,""]
[null,null,null,null,null,null,""]
[null,null,null,null,null,null,""]
[null,null,null,null,null,null,""]
[null,null,null,null,null,null,""]
[null,null,null,null,null,null,""]
[null,null,null,null,null,null,""]
[null,null,null,null,null,null,""]
[null,null,null,null,null,null,""]
[null,null,null,null,null,null,""]
[null,null,null,null,null,null,""]
[null,null,null,null,null,null,""]
[null,null,null,null,null,null,""]
[null,null,null,null,null,null,""]
[null,null,null,null,null,null,""]
[null,null,null,null,null,null,""]
[null,null,null,null,null,null,""]
[null,null,null,null,null,null,""]
[null,null,null,null,null,null,""]
[null,null,null,null,null,null,""]
[null,null,null,null,null,null,""]
[null,null,null,null,null,null,""]
[null,null,null,null,null,null,""]
[null,null,null,null,null,null,""]
[null,null,null,null,null,null,""]
[null,null,null,null,null,null,""]
[null,null,null,null,null,null,{"$f":"IF(E199=\"\",\"\",RANK(E199,$E$6:$E$505))","v":""}]
[null,null,null,null,null,null,""]
[null,null,null,null,null,null,""]
[null,null,null,null,null,null,""]
[null,null,null,null,null,null,""]
[null,null,null,null,null,null,""]
[null,null,null,null,null,null,""]
[null,null,null,null,null,null,""]
[null,null,null,null,null,null,""]
[null,null,null,null,null,null,""]
[null,null,null,null,null,null,""]
[null,null,null,null,null,null,""]
[null,null,null,null,null,null,""]
[null,null,null,null,null,null,""]
[null,null,null,null,null,null,""]
[null,null,null,null,null,null,""]
[null,null,null,null,null,null,""]
[null,null,null,null,null,null,""]
[null,null,null,null,null,null,""]
[null,null,null,null,null,null,""]
[null,null,null,null,null,null,""]
[null,null,null,null,null,null,""]
[null,null,null,null,null,null,""]
[null,null,null,null,null,null,""]
[null,null,null,null,null,null,""]
[null,null,null,null,null,null,""]
[null,null,null,null,null,null,""]
[null,null,null,null,null,null,""]
[null,null,null,null,null,null,""]
[null,null,null,null,null,null,""]
[null,null,null,null,null,null,""]
[null,null,null,null,null,null,""]
[null,null,null,null,null,null,""]
[null,null,null,null,null,null,""]
[null,null,null,null,null,null,""]
[null,null,null,null,null,null,""]
[null,null,null,null,null,null,""]
[null,null,null,null,null,null,""]
[null,null,null,null,null,null,""]
[null,null,null,null,null,null,""]
[null,null,null,null,null,null,""]
[null,null,null,null,null,null,""]
[null,null,null,null,null,null,""]
[null,null,null,null,null,null,""]
[null,null,null,null,null,null,""]
[null,null,null,null,null,null,""]
[null,null,null,null,null,null,""]
[null,null,null,null,null,null,""]
[null,null,null,null,null,null,""]
[null,null,null,null,null,null,""]
[null,null,null,null,null,null,""]
[null,null,null,null,null,null,""]
[null,null,null,null,null,null,""]
[null,null,null,null,null,null,""]
[null,null,null,null,null,null,""]
[null,null,null,null,null,null,""]
[null,null,null,null,null,null,""]
[null,null,null,null,null,null,""]
[null,null,null,null,null,null,""]
[null,null,null,null,null,null,""]
[null,null,null,null,null,null,""]
[null,null,null,null,null,null,""]
[null,null,null,null,null,null,""]
[null,null,null,null,null,null,""]
[null,null,null,null,null,null,{"$f":"IF(E263=\"\",\"\",RANK(E263,$E$6:$E$505))","v":""}]
[null,null,null,null,null,null,""]
[null,null,null,null,null,null,""]
[null,null,null,null,null,null,""]
[null,null,null,null,null,null,""]
[null,null,null,null,null,null,""]
[null,null,null,null,null,null,""]
[null,null,null,null,null,null,""]
[null,null,null,null,null,null,""]
[null,null,null,null,null,null,""]
[null,null,null,null,null,null,""]
[null,null,null,null,null,null,""]
[null,null,null,null,null,null,""]
[null,null,null,null,null,null,""]
[null,null,null,null,null,null,""]
[null,null,null,null,null,null,""]
[null,null,null,null,null,null,""]
[null,null,null,null,null,null,""]
[null,null,null,null,null,null,""]
[null,null,null,null,null,null,""]
[null,null,null,null,null,null,""]
[null,null,null,null,null,null,""]
[null,null,null,null,null,null,""]
[null,null,null,null,null,null,""]
[null,null,null,null,null,null,""]
[null,null,null,null,null,null,""]
[null,null,null,null,null,null,""]
[null,null,null,null,null,null,""]
[null,null,null,null,null,null,""]
[null,null,null,null,null,null,""]
[null,null,null,null,null,null,""]
[null,null,null,null,null,null,""]
[null,null,null,null,null,null,""]
[null,null,null,null,null,null,""]
[null,null,null,null,null,null,""]
[null,null,null,null,null,null,""]
[null,null,null,null,null,null,""]
[null,null,null,null,null,null,""]
[null,null,null,null,null,null,""]
[null,null,null,null,null,null,""]
[null,null,null,null,null,null,""]
[null,null,null,null,null,null,""]
[null,null,null,null,null,null,""]
[null,null,null,null,null,null,""]
[null,null,null,null,null,null,""]
[null,null,null,null,null,null,""]
[null,null,null,null,null,null,""]
[null,null,null,null,null,null,""]
[null,null,null,null,null,null,""]
[null,null,null,null,null,null,""]
[null,null,null,null,null,null,""]
[null,null,null,null,null,null,""]
[null,null,null,null,null,null,""]
[null,null,null,null,null,null,""]
[null,null,null,null,null,null,""]
[null,null,null,null,null,null,""]
[null,null,null,null,null,null,""]
[null,null,null,null,null,null,""]
[null,null,null,null,null,null,""]
[null,null,null,null,null,null,""]
[null,null,null,null,null,null,""]
[null,null,null,null,null,null,""]
[null,null,null,null,null,null,""]
[null,null,null,null,null,null,""]
[null,null,null,null,null,null,{"$f":"IF(E327=\"\",\"\",RANK(E327,$E$6:$E$505))","v":""}]
[null,null,null,null,null,null,""]
[null,null,null,null,null,null,""]
[null,null,null,null,null,null,""]
[null,null,null,null,null,null,""]
[null,null,null,null,null,null,""]
[null,null,null,null,null,null,""]
[null,null,null,null,null,null,""]
[null,null,null,null,null,null,""]
[null,null,null,null,null,null,""]
[null,null,null,null,null,null,""]
[null,null,null,null,null,null,""]
[null,null,null,null,null,null,""]
[null,null,null,null,null,null,""]
[null,null,null,null,null,null,""]
[null,null,null,null,null,null,""]
[null,null,null,null,null,null,""]
[null,null,null,null,null,null,""]
[null,null,null,null,null,null,""]
[null,null,null,null,null,null,""]
[null,null,null,null,null,null,""]
[null,null,null,null,null,null,""]
[null,null,null,null,null,null,""]
[null,null,null,null,null,null,""]
[null,null,null,null,null,null,""]
[null,null,null,null,null,null,""]
[null,null,null,null,null,null,""]
[null,null,null,null,null,null,""]
[null,null,null,null,null,null,""]
[null,null,null,null,null,null,""]
[null,null,null,null,null,null,""]
[null,null,null,null,null,null,""]
[null,null,null,null,null,null,""]
[null,null,null,null,null,null,""]
[null,null,null,null,null,null,""]
[null,null,null,null,null,null,""]
[null,null,null,null,null,null,""]
[null,null,null,null,null,null,""]
[null,null,null,null,null,null,""]
[null,null,null,null,null,null,""]
[null,null,null,null,null,null,""]
[null,null,null,null,null,null,""]
[null,null,null,null,null,null,""]
[null,null,null,null,null,null,""]
[null,null,null,null,null,null,""]
[null,null,null,null,null,null,""]
[null,null,null,null,null,null,""]
[null,null,null,null,null,null,""]
[null,null,null,null,null,null,""]
[null,null,null,null,null,null,""]
[null,null,null,null,null,null,""]
[null,null,null,null,null,null,""]
[null,null,null,null,null,null,""]
[null,null,null,null,null,null,""]
[null,null,null,null,null,null,""]
[null,null,null,null,null,null,""]
[null,null,null,null,null,null,""]
[null,null,null,null,null,null,""]
[null,null,null,null,null,null,""]
[null,null,null,null,null,null,""]
[null,null,null,null,null,null,""]
[null,null,null,null,null,null,""]
[null,null,null,null,null,null,""]
[null,null,null,null,null,null,""]
[null,null,null,null,null,null,{"$f":"IF(E391=\"\",\"\",RANK(E391,$E$6:$E$505))","v":""}]
[null,null,null,null,null,null,""]
[null,null,null,null,null,null,""]
[null,null,null,null,null,null,""]
[null,null,null,null,null,null,""]
[null,null,null,null,null,null,""]
[null,null,null,null,null,null,""]
[null,null,null,null,null,null,""]
[null,null,null,null,null,null,""]
[null,null,null,null,null,null,""]
[null,null,null,null,null,null,""]
[null,null,null,null,null,null,""]
[null,null,null,null,null,null,""]
[null,null,null,null,null,null,""]
[null,null,null,null,null,null,""]
[null,null,null,null,null,null,""]
[null,null,null,null,null,null,""]
[null,null,null,null,null,null,""]
[null,null,null,null,null,null,""]
[null,null,null,null,null,null,""]
[null,null,null,null,null,null,""]
[null,null,null,null,null,null,""]
[null,null,null,null,null,null,""]
[null,null,null,null,null,null,""]
[null,null,null,null,null,null,""]
[null,null,null,null,null,null,""]
[null,null,null,null,null,null,""]
[null,null,null,null,null,null,""]
[null,null,null,null,null,null,""]
[null,null,null,null,null,null,""]
[null,null,null,null,null,null,""]
[null,null,null,null,null,null,""]
[null,null,null,null,null,null,""]
[null,null,null,null,null,null,""]
[null,null,null,null,null,null,""]
[null,null,null,null,null,null,""]
[null,null,null,null,null,null,""]
[null,null,null,null,null,null,""]
[null,null,null,null,null,null,""]
[null,null,null,null,null,null,""]
[null,null,null,null,null,null,""]
[null,null,null,null,null,null,""]
[null,null,null,null,null,null,""]
[null,null,null,null,null,null,""]
[null,null,null,null,null,null,""]
[null,null,null,null,null,null,""]
[null,null,null,null,null,null,""]
[null,null,null,null,null,null,""]
[null,null,null,null,null,null,""]
[null,null,null,null,null,null,""]
[null,null,null,null,null,null,""]
[null,null,null,null,null,null,""]
[null,null,null,null,null,null,""]
[null,null,null,null,null,null,""]
[null,null,null,null,null,null,""]
[null,null,null,null,null,null,""]
[null,null,null,null,null,null,""]
[null,null,null,null,null,null,""]
[null,null,null,null,null,null,""]
[null,null,null,null,null,null,""]
[null,null,null,null,null,null,""]
[null,null,null,null,null,null,""]
[null,null,null,null,null,null,""]
[null,null,null,null,null,null,""]
[null,null,null,null,null,null,{"$f":"IF(E455=\"\",\"\",RANK(E455,$E$6:$E$505))","v":""}]
[null,null,null,null,null,null,""]
[null,null,null,null,null,null,""]
[null,null,null,null,null,null,""]
[null,null,null,null,null,null,""]
[null,null,null,null,null,null,""]
[null,null,null,null,null,null,""]
[null,null,null,null,null,null,""]
[null,null,null,null,null,null,""]
[null,null,null,null,null,null,""]
[null,null,null,null,null,null,""]
[null,null,null,null,null,null,""]
[null,null,null,null,null,null,""]
[null,null,null,null,null,null,""]
[null,null,null,null,null,null,""]
[null,null,null,null,null,null,""]
[null,null,null,null,null,null,""]
[null,null,null,null,null,null,""]
[null,null,null,null,null,null,""]
[null,null,null,null,null,null,""]
[null,null,null,null,null,null,""]
[null,null,null,null,null,null,""]
[null,null,null,null,null,null,""]
[null,null,null,null,null,null,""]
[null,null,null,null,null,null,""]
[null,null,null,null,null,null,""]
[null,null,null,null,null,null,""]
[null,null,null,null,null,null,""]
[null,null,null,null,null,null,""]
[null,null,null,null,null,null,""]
[null,null,null,null,null,null,""]
[null,null,null,null,null,null,""]
[null,null,null,null,null,null,""]
[null,null,null,null,null,null,""]
[null,null,null,null,null,null,""]
[null,null,null,null,null,null,""]
[null,null,null,null,null,null,""]
[null,null,null,null,null,null,""]
[null,null,null,null,null,null,""]
[null,null,null,null,null,null,""]
[null,null,null,null,null,null,""]
[null,null,null,null,null,null,""]
[null,null,null,null,null,null,""]
[null,null,null,null,null,null,""]
[null,null,null,null,null,null,""]
[null,null,null,null,null,null,""]
[null,null,null,null,null,null,""]
[null,null,null,null,null,null,""]
[null,null,null,null,null,null,""]
[null,null,null,null,null,null,""]
[null,null,null,null,null,null,""]

{"sheet":"連続印刷","index":7,"n_rows":20,"n_cols":15,"rows_kept":20,"cut":false,"hidden":false,"merged":[[7,4,7,5],[7,7,7,9],[3,7,3,8],[3,4,3,6]]}
[]
["ID","class/No.","氏名",null,"●名簿の表示"]
[14,"3-C-1","鈴木M男"]
[15,"3-C-2","鈴木N男",null,"印刷するclass：",null,null,"3-C",null,"→"]
[16,"3-C-3","鈴木O男"]
[17,"3-C-4","鈴木P男",null,"●印刷するシートとページ"]
[18,"3-C-5","鈴木Q男"]
[19,"3-C-6","鈴木R男",null,"成績表1",null,"を","1ページのみ",null,null," 印刷する",null,null,null,"1ページのみ"]
[20,"3-C-7","鈴木S男",null,null,null,null,null,null,null,null,null,null,null,{"$f":"IF(E8=\"成績表2\",\"2ページのみ\",\"\")","v":""}]
[21,"3-C-8","鈴木T男",null,"●範囲指定印刷",null,null,null,null,null,null,null,null,null,{"$f":"IF(E8=\"成績表2\",\"1・2ページ両方\",\"\")","v":""}]
[null,null,null,null,"from",null,"to"]
[null,null,null,null,null,"～",null,"→"]
[null,null,null,null,"↑",null,"↑"]
[null,null,null,null,"ID番号を指定してください(半角)"]
[]
[null,null,null,null,"●番号指定印刷"]
[]
[null,null,null,null,null,null,null,null,null,"→"]
[null,null,null,null,"↑","↑","↑","↑","↑"]
[null,null,null,null,"ID番号を指定してください(半角)"]

{"sheet":"初期設定","index":8,"n_rows":63,"n_cols":5,"rows_kept":63,"cut":false,"hidden":false,"merged":[]}
[null,"本年度","20xx年度",null,"定期テスト"]
[null,"定期テストタイトル","学力考査",null,"全科目"]
[null,"科目1","国総",null,{"$f":"IF(C3=\"\",\"\",C3)","v":"国総"}]
[null,"科目2","英表",null,{"$f":"IF(C4=\"\",\"\",C4)","v":"英表"}]
[null,"科目3","コ英",null,"コ英"]
[null,"科目4","数Ⅰ",null,"数Ⅰ"]
[null,"科目5","数A",null,"数A"]
[null,"科目6","世B",null,"世B"]
[null,"科目7","化基",null,"化基"]
[null,"科目8","情報",null,"情報"]
[null,"科目9","芸術",null,"芸術"]
[null,"科目10","体育",null,"体育"]
[null,"科目11","保健",null,"保健"]
[null,"科目12",null,null,""]
[null,"科目13",null,null,""]
[null,"科目14",null,null,""]
[null,"科目別テスト名","到達度テスト"]
[null,"科目1","国総"]
[null,"科目2","英表"]
[null,"科目3","コ英"]
[null,"科目4","数Ⅰ"]
[null,"科目5","数A"]
[null,"科目6","世B"]
[null,"科目7","化基"]
[null,"科目8","情報"]
[null,"科目9","芸術"]
[null,"科目10","体育"]
[null,"科目11","保健"]
[null,"科目12"]
[null,"模試成績表タイトル","実力模試"]
[null,"模試名1","駿台模試"]
[null,"模試名2","河合塾模試"]
[null,"模試名3","東進模試"]
[null,"模試名4","代ゼミ模試",null,"模試科目"]
[null,"模試名5",null,null,"全科目"]
[null,"科目1","国総",null,{"$f":"IF(C36=\"\",\"\",C36)","v":"国総"}]
[null,"科目2","英表",null,{"$f":"IF(C37=\"\",\"\",C37)","v":"英表"}]
[null,"科目3","コ英",null,"コ英"]
[null,"科目4","数Ⅰ",null,"数Ⅰ"]
[null,"科目5","数A",null,"数A"]
[null,"科目6","世B",null,"世B"]
[null,"科目7","化基",null,"化基"]
[null,"科目8",null,null,""]
[null,"科目9",null,null,""]
[null,"科目10",null,null,""]
[null,"科目11",null,null,""]
[null,"科目12",null,null,""]
[null,"科目13",null,null,""]
[null,"科目14",null,null,""]
[null,"クラス名","全クラス"]
[null,"クラス1","3-A"]
[null,"クラス2","3-B"]
[null,"クラス3","3-C"]
[null,"クラス4"]
[null,"クラス5"]
[null,"クラス6"]
[null,"クラス7"]
[null,"クラス8"]
[null,"クラス9"]
[null,"クラス10"]
[null,"クラス11"]
[null,"クラス12"]
[null,"学校名","微風高校"]