{"text_format":"1","workbook":"xlsx","n_sheets":7,"sheets":["テストデータ","成績表1","成績表2","定期テスト集計","実力テスト集計","連続印刷","初期設定"],"not_rendered":{"charts":6,"images":1,"macros":1,"external_links":0,"defined_names":4,"comments":0,"pivot_tables":0},"unopened":[],"bounds":{"document_bytes":16777216,"sheet_cells":100000,"rows_first":2000,"rows_last":500,"rows_between":2000,"halvings":0,"cell_chars":16384,"cell_head_chars":4096},"cells_cut":0,"cells_raw":0,"read":"whole","date_system":"1900"}

{"sheet":"テストデータ","index":0,"n_rows":503,"n_cols":98,"rows_kept":503,"cut":false,"hidden":false,"merged":[[1,78,1,82],[1,73,1,77],[1,68,1,72],[1,93,1,97],[1,88,1,92],[1,83,1,87],[0,68,0,72],[0,31,0,39],[0,49,0,57],[1,49,1,57],[1,40,1,48],[1,31,1,39],[0,40,0,48],[0,58,0,62],[0,63,0,67],[1,58,1,62],[1,63,1,67],[1,4,1,12],[0,4,0,12],[0,13,0,21],[1,13,1,21],[1,22,1,30],[0,22,0,30],[0,88,0,92],[0,93,0,97],[0,73,0,77],[0,78,0,82],[0,83,0,87]]}
["ｶｰｿﾙ方向切り替え",null,null,null,{"$f":"IF(初期設定!$C14=\"\",\"\",初期設定!$C14)","v":"1学期 中間テスト"},null,null,null,null,null,null,null,null,{"$f":"IF(初期設定!$C15=\"\",\"\",初期設定!$C15)","v":"1学期 期末テスト"},null,null,null,null,null,null,null,null,{"$f":"IF(初期設定!$C16=\"\",\"\",初期設定!$C16)","v":"2学期 中間テスト"},null,null,null,null,null,null,null,null,{"$f":"IF(初期設定!$C17=\"\",\"\",初期設定!$C17)","v":"2学期 期末テスト"},null,null,null,null,null,null,null,null,{"$f":"IF(初期設定!$C18=\"\",\"\",初期設定!$C18)","v":"3学期 期末テスト"},null,null,null,null,null,null,null,null,{"$f":"IF(初期設定!$C19=\"\",\"\",初期設定!$C19)","v":""},null,null,null,null,null,null,null,null,{"$f":"IF(初期設定!$C21=\"\",\"\",\"第1回 \"&初期設定!$C21)","v":"第1回 校内実力テスト"},null,null,null,null,{"$f":"IF(初期設定!$C21=\"\",\"\",\"第2回 \"&初期設定!$C21)","v":"第2回 校内実力テスト"},null,null,null,null,{"$f":"IF(初期設定!$C21=\"\",\"\",\"第3回 \"&初期設定!$C21)","v":"第3回 校内実力テスト"},null,null,null,null,{"$f":"IF(初期設定!$C21=\"\",\"\",\"第4回 \"&初期設定!$C21)","v":"第4回 校内実力テスト"},null,null,null,null,{"$f":"IF(初期設定!$C21=\"\",\"\",\"第5回 \"&初期設定!$C21)","v":"第5回 校内実力テスト"},null,null,null,null,{"$f":"IF(初期設定!$C21=\"\",\"\",\"第6回 \"&初期設定!$C21)","v":"第6回 校内実力テスト"},null,null,null,null,{"$f":"IF(初期設定!$C21=\"\",\"\",\"第7回 \"&初期設定!$C21)","v":"第7回 校内実力テスト"},null,null,null,null,{"$f":"IF(初期設定!$C21=\"\",\"\",\"第8回 \"&初期設定!$C21)","v":"第8回 校内実力テスト"}]
[null,null,null,"実施日→","1/15",null,null,null,null,null,null,null,null,"2/10",null,null,null,null,null,null,null,null,"3/25",null,null,null,null,null,null,null,null,"4/1",null,null,null,null,null,null,null,null,"5/25",null,null,null,null,null,null,null,null,"6/31"]
["ID","class","No.","氏名",{"$f":"IF(初期設定!$C5=\"\",\"\",初期設定!$C5)","v":"国語"},{"$f":"IF(初期設定!$C6=\"\",\"\",初期設定!$C6)","v":"数学"},{"$f":"IF(初期設定!$C7=\"\",\"\",初期設定!$C7)","v":"英語"},{"$f":"IF(初期設定!$C8=\"\",\"\",初期設定!$C8)","v":"社会"},{"$f":"IF(初期設定!$C9=\"\",\"\",初期設定!$C9)","v":"理科"},{"$f":"IF(初期設定!$C10=\"\",\"\",初期設定!$C10)","v":"保体"},{"$f":"IF(初期設定!$C11=\"\",\"\",初期設定!$C11)","v":"技家"},{"$f":"IF(初期設定!$C12=\"\",\"\",初期設定!$C12)","v":"美術"},{"$f":"IF(初期設定!$C13=\"\",\"\",初期設定!$C13)","v":"音楽"},{"$f":"IF(初期設定!$C5=\"\",\"\",初期設定!$C5)","v":"国語"},{"$f":"IF(初期設定!$C6=\"\",\"\",初期設定!$C6)","v":"数学"},{"$f":"IF(初期設定!$C7=\"\",\"\",初期設定!$C7)","v":"英語"},{"$f":"IF(初期設定!$C8=\"\",\"\",初期設定!$C8)","v":"社会"},{"$f":"IF(初期設定!$C9=\"\",\"\",初期設定!$C9)","v":"理科"},{"$f":"IF(初期設定!$C10=\"\",\"\",初期設定!$C10)","v":"保体"},{"$f":"IF(初期設定!$C11=\"\",\"\",初期設定!$C11)","v":"技家"},{"$f":"IF(初期設定!$C12=\"\",\"\",初期設定!$C12)","v":"美術"},{"$f":"IF(初期設定!$C13=\"\",\"\",初期設定!$C13)","v":"音楽"},{"$f":"IF(初期設定!$C5=\"\",\"\",初期設定!$C5)","v":"国語"},{"$f":"IF(初期設定!$C6=\"\",\"\",初期設定!$C6)","v":"数学"},{"$f":"IF(初期設定!$C7=\"\",\"\",初期設定!$C7)","v":"英語"},{"$f":"IF(初期設定!$C8=\"\",\"\",初期設定!$C8)","v":"社会"},{"$f":"IF(初期設定!$C9=\"\",\"\",初期設定!$C9)","v":"理科"},{"$f":"IF(初期設定!$C10=\"\",\"\",初期設定!$C10)","v":"保体"},{"$f":"IF(初期設定!$C11=\"\",\"\",初期設定!$C11)","v":"技家"},{"$f":"IF(初期設定!$C12=\"\",\"\",初期設定!$C12)","v":"美術"},{"$f":"IF(初期設定!$C13=\"\",\"\",初期設定!$C13)","v":"音楽"},{"$f":"IF(初期設定!$C5=\"\",\"\",初期設定!$C5)","v":"国語"},{"$f":"IF(初期設定!$C6=\"\",\"\",初期設定!$C6)","v":"数学"},{"$f":"IF(初期設定!$C7=\"\",\"\",初期設定!$C7)","v":"英語"},{"$f":"IF(初期設定!$C8=\"\",\"\",初期設定!$C8)","v":"社会"},{"$f":"IF(初期設定!$C9=\"\",\"\",初期設定!$C9)","v":"理科"},{"$f":"IF(初期設定!$C10=\"\",\"\",初期設定!$C10)","v":"保体"},{"$f":"IF(初期設定!$C11=\"\",\"\",初期設定!$C11)","v":"技家"},{"$f":"IF(初期設定!$C12=\"\",\"\",初期設定!$C12)","v":"美術"},{"$f":"IF(初期設定!$C13=\"\",\"\",初期設定!$C13)","v":"音楽"},{"$f":"IF(初期設定!$C5=\"\",\"\",初期設定!$C5)","v":"国語"},{"$f":"IF(初期設定!$C6=\"\",\"\",初期設定!$C6)","v":"数学"},{"$f":"IF(初期設定!$C7=\"\",\"\",初期設定!$C7)","v":"英語"},{"$f":"IF(初期設定!$C8=\"\",\"\",初期設定!$C8)","v":"社会"},{"$f":"IF(初期設定!$C9=\"\",\"\",初期設定!$C9)","v":"理科"},{"$f":"IF(初期設定!$C10=\"\",\"\",初期設定!$C10)","v":"保体"},{"$f":"IF(初期設定!$C11=\"\",\"\",初期設定!$C11)","v":"技家"},{"$f":"IF(初期設定!$C12=\"\",\"\",初期設定!$C12)","v":"美術"},{"$f":"IF(初期設定!$C13=\"\",\"\",初期設定!$C13)","v":"音楽"},{"$f":"IF(初期設定!$C5=\"\",\"\",初期設定!$C5)","v":"国語"},{"$f":"IF(初期設定!$C6=\"\",\"\",初期設定!$C6)","v":"数学"},{"$f":"IF(初期設定!$C7=\"\",\"\",初期設定!$C7)","v":"英語"},{"$f":"IF(初期設定!$C8=\"\",\"\",初期設定!$C8)","v":"社会"},{"$f":"IF(初期設定!$C9=\"\",\"\",初期設定!$C9)","v":"理科"},{"$f":"IF(初期設定!$C10=\"\",\"\",初期設定!$C10)","v":"保体"},{"$f":"IF(初期設定!$C11=\"\",\"\",初期設定!$C11)","v":"技家"},{"$f":"IF(初期設定!$C12=\"\",\"\",初期設定!$C12)","v":"美術"},{"$f":"IF(初期設定!$C13=\"\",\"\",初期設定!$C13)","v":"音楽"},{"$f":"IF(初期設定!$C22=\"\",\"\",初期設定!$C22)","v":"国語"},{"$f":"IF(初期設定!$C23=\"\",\"\",初期設定!$C23)","v":"数学"},{"$f":"IF(初期設定!$C24=\"\",\"\",初期設定!$C24)","v":"英語"},{"$f":"IF(初期設定!$C25=\"\",\"\",初期設定!$C25)","v":"社会"},{"$f":"IF(初期設定!$C26=\"\",\"\",初期設定!$C26)","v":"理科"},{"$f":"IF(初期設定!$C22=\"\",\"\",初期設定!$C22)","v":"国語"},{"$f":"IF(初期設定!$C23=\"\",\"\",初期設定!$C23)","v":"数学"},{"$f":"IF(初期設定!$C24=\"\",\"\",初期設定!$C24)","v":"英語"},{"$f":"IF(初期設定!$C25=\"\",\"\",初期設定!$C25)","v":"社会"},{"$f":"IF(初期設定!$C26=\"\",\"\",初期設定!$C26)","v":"理科"},{"$f":"IF(初期設定!$C22=\"\",\"\",初期設定!$C22)","v":"国語"},{"$f":"IF(初期設定!$C23=\"\",\"\",初期設定!$C23)","v":"数学"},{"$f":"IF(初期設定!$C24=\"\",\"\",初期設定!$C24)","v":"英語"},{"$f":"IF(初期設定!$C25=\"\",\"\",初期設定!$C25)","v":"社会"},{"$f":"IF(初期設定!$C26=\"\",\"\",初期設定!$C26)","v":"理科"},{"$f":"IF(初期設定!$C22=\"\",\"\",初期設定!$C22)","v":"国語"},{"$f":"IF(初期設定!$C23=\"\",\"\",初期設定!$C23)","v":"数学"},{"$f":"IF(初期設定!$C24=\"\",\"\",初期設定!$C24)","v":"英語"},{"$f":"IF(初期設定!$C25=\"\",\"\",初期設定!$C25)","v":"社会"},{"$f":"IF(初期設定!$C26=\"\",\"\",初期設定!$C26)","v":"理科"},{"$f":"IF(初期設定!$C22=\"\",\"\",初期設定!$C22)","v":"国語"},{"$f":"IF(初期設定!$C23=\"\",\"\",初期設定!$C23)","v":"数学"},{"$f":"IF(初期設定!$C24=\"\",\"\",初期設定!$C24)","v":"英語"},{"$f":"IF(初期設定!$C25=\"\",\"\",初期設定!$C25)","v":"社会"},{"$f":"IF(初期設定!$C26=\"\",\"\",初期設定!$C26)","v":"理科"},{"$f":"IF(初期設定!$C22=\"\",\"\",初期設定!$C22)","v":"国語"},{"$f":"IF(初期設定!$C23=\"\",\"\",初期設定!$C23)","v":"数学"},{"$f":"IF(初期設定!$C24=\"\",\"\",初期設定!$C24)","v":"英語"},{"$f":"IF(初期設定!$C25=\"\",\"\",初期設定!$C25)","v":"社会"},{"$f":"IF(初期設定!$C26=\"\",\"\",初期設定!$C26)","v":"理科"},{"$f":"IF(初期設定!$C22=\"\",\"\",初期設定!$C22)","v":"国語"},{"$f":"IF(初期設定!$C23=\"\",\"\",初期設定!$C23)","v":"数学"},{"$f":"IF(初期設定!$C24=\"\",\"\",初期設定!$C24)","v":"英語"},{"$f":"IF(初期設定!$C25=\"\",\"\",初期設定!$C25)","v":"社会"},{"$f":"IF(初期設定!$C26=\"\",\"\",初期設定!$C26)","v":"理科"},{"$f":"IF(初期設定!$C22=\"\",\"\",初期設定!$C22)","v":"国語"},{"$f":"IF(初期設定!$C23=\"\",\"\",初期設定!$C23)","v":"数学"},{"$f":"IF(初期設定!$C24=\"\",\"\",初期設定!$C24)","v":"英語"},{"$f":"IF(初期設定!$C25=\"\",\"\",初期設定!$C25)","v":"社会"},{"$f":"IF(初期設定!$C26=\"\",\"\",初期設定!$C26)","v":"理科"}]
[1,"1","1","鈴木A男",77,3,41,21,88,null,null,null,null,89,36,58,41,92,88,53,89,90,23,89,36,58,41,null,null,null,null,41,82,89,92,89,79,41,null,null,null,null,null,null,null,null,null,null,null,null,null,null,null,null,null,null,null,null,92,25,79,44,9,79,null,24,null,79,null,52,null,79,11,25,79,9,52,11,35,79,82,9,92,79,79,9,9,11,null,79,null,9]
[2,"1","2","鈴木B男",null,null,50,null,null,null,null,null,null,38,null,null,null,null,null,62,95,67,82,38,null,null,null,null,null,null,null,null,null,38,null,38,null,null,null,null,null,null,null,null,null,null,null,null,null,null,null,null,null,null,null,null,null,null,91,21,12,58,54,12,50,54,36,12,40,50,70,12,60,21,12,54,null,60,null,12,null,54,null,12,null,54,54,60,50,12,36,54,45]
[3,"1","3","鈴木C男",93,41,23,48,53,null,null,null,null,51,93,41,23,48,53,42,92,88,83,51,93,41,23,null,null,null,null,23,57,51,69,51,58,23,null,null,null,null,null,null,null,null,null,null,null,null,null,null,null,null,null,null,null,null,69,65,58,58,15,58,60,15,72,58,80,15,53,58,83,65,58,15,62,83,68,58,57,15,69,58,58,15,15,83,60,58,72,15,80]
[4,"1",4,"鈴木D男",null,97,27,55,56,null,null,null,null,13,39,97,27,55,56,31,93,31,36,13,39,97,27,null,null,null,null,27,49,13,46,13,78,27,null,null,null,null,null,null,null,null,null,null,null,null,null,null,null,null,null,null,null,null,46,82,78,52,54,78,42,54,56,78,46,54,18,78,98,82,78,54,58,98,77,78,49,54,46,78,78,54,54,98,42,78,56,54,46]
[5,"1",5,"鈴木E男",98,47,98,96,null,null,null,null,null,91,null,47,98,96,null,64,88,64,97,91,null,47,98,null,null,null,null,98,21,91,12,91,33,98,null,null,null,null,null,null,null,null,null,null,null,null,null,null,null,null,null,null,null,null,12,54,33,56,85,33,19,85,19,33,82,85,56,33,50,54,33,85,38,50,98,33,21,85,12,33,33,85,85,50,19,33,19,85,82]
[6,"1",6,"鈴木F男",27,14,87,54,71,null,null,null,null,48,27,14,87,54,71,53,14,98,58,48,27,14,87,null,null,null,null,87,14,48,31,48,64,87,null,null,null,null,null,null,null,null,null,null,null,null,null,null,null,null,null,null,null,null,31,66,64,96,74,64,66,74,73,64,12,74,12,64,12,66,64,74,86,12,69,64,14,74,31,64,64,74,74,12,66,64,73,74,12]
[7,"2",1,"鈴木G男",71,38,82,47,63,null,null,null,null,78,72,38,82,47,63,24,62,69,36,78,72,38,82,null,null,null,null,82,11,78,26,78,27,82,null,null,null,null,null,null,null,null,null,null,null,null,null,null,null,null,null,null,null,null,26,98,27,52,25,27,94,25,97,27,35,25,41,27,52,98,27,25,55,52,72,27,11,25,26,27,27,25,25,52,94,27,97,25,35]
[8,"2",2,"鈴木H男",79,52,69,54,10,null,null,null,null,52,79,52,69,54,10,64,21,66,10,52,79,52,69,null,null,null,null,69,56,52,21,52,11,69,null,null,null,null,null,null,null,null,null,null,null,null,null,null,null,null,null,null,null,null,21,100,11,74,3,11,95,3,55,11,25,9,27,11,98,100,11,3,52,98,86,11,56,3,21,11,11,3,3,98,95,11,55,3,25]
[9,"2",3,"鈴木I男",57,93,67,null,92,null,null,null,null,93,57,93,67,null,92,59,79,40,69,93,57,93,67,null,null,null,null,67,57,93,64,93,49,67,null,null,null,null,null,null,null,null,null,null,null,null,null,null,null,null,null,null,null,null,64,25,49,25,48,49,86,48,68,49,32,48,98,49,74,25,49,48,58,74,42,49,57,48,64,49,49,48,48,74,86,49,68,48,32]
[10,"2",4,"鈴木J男",29,82,10,39,67,null,null,null,null,77,29,82,10,39,67,85,93,37,33,77,29,82,10,null,null,null,null,10,93,77,23,77,51,10,null,null,null,null,null,null,null,null,null,null,null,null,null,null,null,null,null,null,null,null,23,23,51,14,85,51,33,85,92,51,73,85,69,51,75,23,51,85,75,75,80,51,93,85,23,51,51,85,85,75,33,51,92,85,73]
[11,"2",5,"鈴木K男",45,65,26,89,43,null,null,null,null,89,45,65,26,89,43,81,52,37,95,89,45,65,26,null,null,null,null,26,70,89,85,89,72,26,null,null,null,null,null,null,null,null,null,null,null,null,null,null,null,null,null,null,null,null,85,65,72,55,74,72,83,74,28,72,49,74,76,72,31,65,72,74,58,31,80,72,70,74,85,72,72,74,74,31,83,72,28,74,49]
[12,"2",6,"鈴木L男",59,27,29,47,91,null,null,null,null,24,59,27,29,47,91,93,32,16,89,24,59,27,29,null,null,null,null,29,14,24,33,24,58,29,null,null,null,null,null,null,null,null,null,null,null,null,null,null,null,null,null,null,null,null,33,88,58,45,2,58,24,2,48,58,48,75,57,58,52,88,58,2,36,52,54,58,14,2,33,58,58,2,2,52,24,58,48,2,48]
[13,"3",1,"鈴木M男",75,14,24,96,85,null,null,null,null,96,75,14,24,96,85,26,44,19,90,96,75,14,24,null,null,null,null,24,79,96,30,96,18,24,null,null,null,null,null,null,null,null,null,null,null,null,null,null,null,null,null,null,null,null,30,87,18,87,65,18,81,65,21,18,67,65,77,18,22,87,18,65,24,22,92,18,79,65,30,18,18,65,65,22,81,18,21,65,67]
[14,"3",2,"鈴木N男",29,67,21,83,49,null,null,null,null,60,29,67,21,83,49,41,53,94,39,60,29,67,21,null,null,null,null,21,65,60,57,60,16,21,null,null,null,null,null,null,null,null,null,null,null,null,null,null,null,null,null,null,null,null,57,74,16,54,85,16,83,85,94,16,46,85,35,16,54,74,16,85,60,54,92,16,65,85,57,16,16,85,85,54,83,16,94,85,46]
[15,"3",3,"鈴木O男",86,68,97,12,60,null,null,null,null,99,86,68,97,12,60,22,87,90,75,99,86,68,97,null,null,null,null,97,80,99,30,99,41,97,null,null,null,null,null,null,null,null,null,null,null,null,null,null,null,null,null,null,null,null,30,44,41,54,24,41,33,24,93,41,17,24,35,41,19,44,41,24,40,19,38,41,80,24,30,41,41,24,24,19,33,41,93,24,17]
[16,"3",4,"鈴木P男",15,82,67,45,80,null,null,null,null,46,15,82,67,45,80,43,27,20,82,46,15,82,67,null,null,null,null,67,81,46,84,46,35,67,null,null,null,null,null,null,null,null,null,null,null,null,null,null,null,null,null,null,null,null,84,51,35,54,12,35,82,12,26,35,57,12,87,35,29,51,35,12,42,29,37,35,81,12,84,35,35,12,12,29,82,35,26,12,57]
[17,"3",5,"鈴木Q男",83,52,80,90,18,null,null,null,null,76,83,52,80,90,18,60,51,86,57,76,83,52,80,null,null,null,null,80,63,76,59,76,25,80,null,null,null,null,null,null,null,null,null,null,null,null,null,null,null,null,null,null,null,null,59,15,25,85,32,25,29,32,47,25,48,32,21,25,99,15,25,32,80,99,40,25,63,32,59,25,25,32,32,99,29,25,47,32,48]
[18,"3",6,"鈴木R男",37,94,88,70,27,null,null,null,null,94,37,94,88,70,27,31,82,38,48,94,37,94,88,null,null,null,null,88,61,94,78,94,36,88,null,null,null,null,null,null,null,null,null,null,null,null,null,null,null,null,null,null,null,null,null,54,36,64,45,36,79,45,61,36,31,45,39,36,42,54,36,45,85,42,28,36,61,45,78,36,36,45,45,42,79,36,61,45,31]
[19,"3",7,"鈴木S男",80,40,36,75,90,null,null,null,null,null,80,40,36,75,90,74,60,23,70,97,80,40,36,null,null,null,null,36,76,97,27,97,46,36,null,null,null,null,null,null,null,null,null,null,null,null,null,null,null,null,null,null,null,null,27,25,46,21,21,46,84,21,81,46,68,21,83,46,49,25,46,21,75,49,92,46,76,21,27,46,46,21,21,49,84,46,81,21,68]
[20,"3",8,"鈴木T男",94,29,41,79,36,null,null,null,null,54,94,29,41,79,36,33,42,39,58,46,94,29,41,null,null,null,null,41,45,46,23,46,45,41,null,null,null,null,null,null,null,null,null,null,null,null,null,null,null,null,null,null,null,null,23,21,45,11,66,45,99,66,55,45,55,66,57,45,11,21,45,66,75,11,41,45,45,66,23,45,45,66,66,11,99,45,55,66,55]
[21]
[22]
[23]
[24]
[25]
[26]
[27]
[28]
[29]
[30]
[31]
[32]
[33]
[34]
[35]
[36]
[37]
[38]
[39]
[40]
[41]
[42]
[43]
[44]
[45]
[46]
[47]
[48]
[49]
[50]
[51]
[52]
[53]
[54]
[55]
[56]
[57]
[58]
[59]
[60]
[61]
[62]
[63]
[64]
[65]
[66]
[67]
[68]
[69]
[70]
[71]
[72]
[73]
[74]
[75]
[76]
[77]
[78]
[79]
[80]
[81]
[82]
[83]
[84]
[85]
[86]
[87]
[88]
[89]
[90]
[91]
[92]
[93]
[94]
[95]
[96]
[97]
[98]
[99]
[100]
[101]
[102]
[103]
[104]
[105]
[106]
[107]
[108]
[109]
[110]
[111]
[112]
[113]
[114]
[115]
[116]
[117]
[118]
[119]
[120]
[121]
[122]
[123]
[124]
[125]
[126]
[127]
[128]
[129]
[130]
[131]
[132]
[133]
[134]
[135]
[136]
[137]
[138]
[139]
[140]
[141]
[142]
[143]
[144]
[145]
[146]
[147]
[148]
[149]
[150]
[151]
[152]
[153]
[154]
[155]
[156]
[157]
[158]
[159]
[160]
[161]
[162]
[163]
[164]
[165]
[166]
[167]
[168]
[169]
[170]
[171]
[172]
[173]
[174]
[175]
[176]
[177]
[178]
[179]
[180]
[181]
[182]
[183]
[184]
[185]
[186]
[187]
[188]
[189]
[190]
[191]
[192]
[193]
[194]
[195]
[196]
[197]
[198]
[199]
[200]
[201]
[202]
[203]
[204]
[205]
[206]
[207]
[208]
[209]
[210]
[211]
[212]
[213]
[214]
[215]
[216]
[217]
[218]
[219]
[220]
[221]
[222]
[223]
[224]
[225]
[226]
[227]
[228]
[229]
[230]
[231]
[232]
[233]
[234]
[235]
[236]
[237]
[238]
[239]
[240]
[241]
[242]
[243]
[244]
[245]
[246]
[247]
[248]
[249]
[250]
[251]
[252]
[253]
[254]
[255]
[256]
[257]
[258]
[259]
[260]
[261]
[262]
[263]
[264]
[265]
[266]
[267]
[268]
[269]
[270]
[271]
[272]
[273]
[274]
[275]
[276]
[277]
[278]
[279]
[280]
[281]
[282]
[283]
[284]
[285]
[286]
[287]
[288]
[289]
[290]
[291]
[292]
[293]
[294]
[295]
[296]
[297]
[298]
[299]
[300]
[301]
[302]
[303]
[304]
[305]
[306]
[307]
[308]
[309]
[310]
[311]
[312]
[313]
[314]
[315]
[316]
[317]
[318]
[319]
[320]
[321]
[322]
[323]
[324]
[325]
[326]
[327]
[328]
[329]
[330]
[331]
[332]
[333]
[334]
[335]
[336]
[337]
[338]
[339]
[340]
[341]
[342]
[343]
[344]
[345]
[346]
[347]
[348]
[349]
[350]
[351]
[352]
[353]
[354]
[355]
[356]
[357]
[358]
[359]
[360]
[361]
[362]
[363]
[364]
[365]
[366]
[367]
[368]
[369]
[370]
[371]
[372]
[373]
[374]
[375]
[376]
[377]
[378]
[379]
[380]
[381]
[382]
[383]
[384]
[385]
[386]
[387]
[388]
[389]
[390]
[391]
[392]
[393]
[394]
[395]
[396]
[397]
[398]
[399]
[400]
[401]
[402]
[403]
[404]
[405]
[406]
[407]
[408]
[409]
[410]
[411]
[412]
[413]
[414]
[415]
[416]
[417]
[418]
[419]
[420]
[421]
[422]
[423]
[424]
[425]
[426]
[427]
[428]
[429]
[430]
[431]
[432]
[433]
[434]
[435]
[436]
[437]
[438]
[439]
[440]
[441]
[442]
[443]
[444]
[445]
[446]
[447]
[448]
[449]
[450]
[451]
[452]
[453]
[454]
[455]
[456]
[457]
[458]
[459]
[460]
[461]
[462]
[463]
[464]
[465]
[466]
[467]
[468]
[469]
[470]
[471]
[472]
[473]
[474]
[475]
[476]
[477]
[478]
[479]
[480]
[481]
[482]
[483]
[484]
[485]
[486]
[487]
[488]
[489]
[490]
[491]
[492]
[493]
[494]
[495]
[496]
[497]
[498]
[499]
[500]

{"sheet":"成績表1","index":1,"n_rows":30,"n_cols":17,"rows_kept":30,"cut":false,"hidden":false,"merged":[[4,2,4,3],[2,12,2,13],[2,10,2,11],[5,2,5,3],[6,2,6,3],[0,1,0,2],[1,14,1,15],[1,12,1,13],[1,16,1,20],[1,10,1,11],[1,1,2,8],[2,14,2,15],[2,16,2,20],[0,16,0,20],[11,8,12,9],[13,8,14,9],[7,2,7,3],[10,8,10,9],[10,10,10,12],[10,2,10,3],[11,2,12,3],[11,10,12,12],[8,2,8,3],[10,4,10,5],[10,6,10,7],[11,4,12,5],[11,6,12,7],[24,2,25,4],[26,2,27,4],[28,2,29,4],[13,10,14,12],[18,2,19,4],[20,2,21,4],[13,2,14,3],[17,2,17,5],[22,2,23,4],[13,4,14,5],[13,6,14,7]]}
[null,{"$f":"IF(初期設定!C2=\"\",\"\",初期設定!C2)","v":"20xx年"},null,null,"ID:",4,null,null,null,null,null,null,null,null,null,null,{"$f":"初期設定!C1","v":"微風中学校"}]
[null,"1学期 期末テスト",null,null,null,null,null,null,null,null,"学年",null,"クラス",null,"番号",null,"氏名"]
[null,null,null,null,null,null,null,null,null,null,{"$f":"IF(初期設定!$C3=\"\",\"\",初期設定!$C3)","v":"3学年"},null,{"$f":"VLOOKUP($F$1,INDIRECT(\"テストデータ!$A$4:$CT$503\"),2,FALSE)","v":"1"},null,{"$f":"VLOOKUP($F$1,INDIRECT(\"テストデータ!$A$4:$CT$503\"),3,FALSE)","v":4},null,{"$f":"VLOOKUP($F$1,INDIRECT(\"テストデータ!$A$4:$CT$503\"),4,FALSE)","v":"鈴木D男"}]
[null,{"$f":"VLOOKUP($B$2,初期設定!$C$14:$D$19,2,FALSE)","v":2}]
[null,null,null,null,{"$f":"IF(初期設定!$C$5=\"\",\"\",初期設定!$C$5)","v":"国語"},{"$f":"IF(初期設定!$C$6=\"\",\"\",初期設定!$C$6)","v":"数学"},{"$f":"IF(初期設定!$C$7=\"\",\"\",初期設定!$C$7)","v":"英語"},{"$f":"IF(初期設定!$C$8=\"\",\"\",初期設定!$C$8)","v":"社会"},{"$f":"IF(初期設定!$C$9=\"\",\"\",初期設定!$C$9)","v":"理科"},{"$f":"IF(初期設定!$C$10=\"\",\"\",初期設定!$C$10)","v":"保体"},{"$f":"IF(初期設定!$C$11=\"\",\"\",初期設定!$C$11)","v":"技家"},{"$f":"IF(初期設定!$C$12=\"\",\"\",初期設定!$C$12)","v":"美術"},{"$f":"IF(初期設定!$C$13=\"\",\"\",初期設定!$C$13)","v":"音楽"}]
[null,null,"得点",null,{"$f":"IF(VLOOKUP($F$1,INDIRECT(\"テストデータ!$A$4:$CT$503\"),9*$B$4-4,FALSE)=\"\",\"-\",VLOOKUP($F$1,INDIRECT(\"テストデータ!$A$4:$CT$503\"),9*$B$4-4,FALSE))","v":13},{"$f":"IF(VLOOKUP($F$1,INDIRECT(\"テストデータ!$A$4:$CT$503\"),9*$B$4-3,FALSE)=\"\",\"-\",VLOOKUP($F$1,INDIRECT(\"テストデータ!$A$4:$CT$503\"),9*$B$4-3,FALSE))","v":39},{"$f":"IF(VLOOKUP($F$1,INDIRECT(\"テストデータ!$A$4:$CT$503\"),9*$B$4-2,FALSE)=\"\",\"-\",VLOOKUP($F$1,INDIRECT(\"テストデータ!$A$4:$CT$503\"),9*$B$4-2,FALSE))","v":97},{"$f":"IF(VLOOKUP($F$1,INDIRECT(\"テストデータ!$A$4:$CT$503\"),9*$B$4-1,FALSE)=\"\",\"-\",VLOOKUP($F$1,INDIRECT(\"テストデータ!$A$4:$CT$503\"),9*$B$4-1,FALSE))","v":27},{"$f":"IF(VLOOKUP($F$1,INDIRECT(\"テストデータ!$A$4:$CT$503\"),9*$B$4,FALSE)=\"\",\"-\",VLOOKUP($F$1,INDIRECT(\"テストデータ!$A$4:$CT$503\"),9*$B$4,FALSE))","v":55},{"$f":"IF(VLOOKUP($F$1,INDIRECT(\"テストデータ!$A$4:$CT$503\"),9*$B$4+1,FALSE)=\"\",\"-\",VLOOKUP($F$1,INDIRECT(\"テストデータ!$A$4:$CT$503\"),9*$B$4+1,FALSE))","v":56},{"$f":"IF(VLOOKUP($F$1,INDIRECT(\"テストデータ!$A$4:$CT$503\"),9*$B$4+2,FALSE)=\"\",\"-\",VLOOKUP($F$1,INDIRECT(\"テストデータ!$A$4:$CT$503\"),9*$B$4+2,FALSE))","v":31}]
[null,null,"平均点",null,{"$f":"IF(SUM((OFFSET(テストデータ!$E$3,1,9*$B$4-9):OFFSET(テストデータ!$E$3,500,9*$B4-9)))=0,NA(),AVERAGEA(OFFSET(テストデータ!$E$3,1,9*$B$4-9):OFFSET(テストデータ!$E$3,500,9*$B4-9)))","v":66.736842105263165},{"$f":"IF(SUM(OFFSET(テストデータ!$E$3,1,9*$B$4-8):OFFSET(テストデータ!$E$3,500,9*$B4-8))=0,NA(),AVERAGEA(OFFSET(テストデータ!$E$3,1,9*$B$4-8):OFFSET(テストデータ!$E$3,500,9*$B4-8)))","v":57.5},{"$f":"IF(SUM(OFFSET(テストデータ!$E$3,1,9*$B$4-7):OFFSET(テストデータ!$E$3,500,9*$B4-7))=0,NA(),AVERAGEA(OFFSET(テストデータ!$E$3,1,9*$B$4-7):OFFSET(テストデータ!$E$3,500,9*$B4-7)))","v":55.789473684210527},{"$f":"IF(SUM(OFFSET(テストデータ!$E$3,1,9*$B$4-6):OFFSET(テストデータ!$E$3,500,9*$B4-6))=0,NA(),AVERAGEA(OFFSET(テストデータ!$E$3,1,9*$B$4-6):OFFSET(テストデータ!$E$3,500,9*$B4-6)))","v":53.315789473684212},{"$f":"IF(SUM(OFFSET(テストデータ!$E$3,1,9*$B$4-5):OFFSET(テストデータ!$E$3,500,9*$B4-5))=0,NA(),AVERAGEA(OFFSET(テストデータ!$E$3,1,9*$B$4-5):OFFSET(テストデータ!$E$3,500,9*$B4-5)))","v":65.055555555555557},{"$f":"AVERAGEA(OFFSET(テストデータ!$E$3,1,9*$B$4-4):OFFSET(テストデータ!$E$3,500,9*$B4-4))","v":59.944444444444443},{"$f":"AVERAGEA(OFFSET(テストデータ!$E$3,1,9*$B$4-3):OFFSET(テストデータ!$E$3,500,9*$B4-3))","v":52.05}]
[null,null,"クラス順位",null,{"$f":"IF(E6=\"-\",\"\",SUMPRODUCT((OFFSET(テストデータ!$B$3,1,0):OFFSET(テストデータ!$B$3,500,0)=$M$3)*(OFFSET(テストデータ!$E$3,1,9*$B$4-9):OFFSET(テストデータ!$E$3,500,9*$B$4-9)>E6))+1)","v":6},{"$f":"IF(F6=\"-\",\"\",SUMPRODUCT((OFFSET(テストデータ!$B$3,1,0):OFFSET(テストデータ!$B$3,500,0)=$M$3)*(OFFSET(テストデータ!$E$3,1,9*$B$4-8):OFFSET(テストデータ!$E$3,500,9*$B$4-8)>F6))+1)","v":2},{"$f":"IF(G6=\"-\",\"\",SUMPRODUCT((OFFSET(テストデータ!$B$3,1,0):OFFSET(テストデータ!$B$3,500,0)=$M$3)*(OFFSET(テストデータ!$E$3,1,9*$B$4-7):OFFSET(テストデータ!$E$3,500,9*$B$4-7)>G6))+1)","v":1},{"$f":"IF(H6=\"-\",\"\",SUMPRODUCT((OFFSET(テストデータ!$B$3,1,0):OFFSET(テストデータ!$B$3,500,0)=$M$3)*(OFFSET(テストデータ!$E$3,1,9*$B$4-6):OFFSET(テストデータ!$E$3,500,9*$B$4-6)>H6))+1)","v":4},{"$f":"IF(I6=\"-\",\"\",SUMPRODUCT((OFFSET(テストデータ!$B$3,1,0):OFFSET(テストデータ!$B$3,500,0)=$M$3)*(OFFSET(テストデータ!$E$3,1,9*$B$4-5):OFFSET(テストデータ!$E$3,500,9*$B$4-5)>I6))+1)","v":3},{"$f":"IF(J6=\"-\",\"\",SUMPRODUCT((OFFSET(テストデータ!$B$3,1,0):OFFSET(テストデータ!$B$3,500,0)=$M$3)*(OFFSET(テストデータ!$E$3,1,9*$B$4-4):OFFSET(テストデータ!$E$3,500,9*$B$4-4)>J6))+1)","v":3},{"$f":"IF(K6=\"-\",\"\",SUMPRODUCT((OFFSET(テストデータ!$B$3,1,0):OFFSET(テストデータ!$B$3,500,0)=$M$3)*(OFFSET(テストデータ!$E$3,1,9*$B$4-3):OFFSET(テストデータ!$E$3,500,9*$B$4-3)>K6))+1)","v":6}]
[null,null,"校内順位",null,{"$f":"RANK(E6,OFFSET(テストデータ!$E$3,1,9*$B$4-9):OFFSET(テストデータ!$E$3,500,9*$B$4-9))","v":19},{"$f":"RANK(F6,OFFSET(テストデータ!$E$3,1,9*$B$4-8):OFFSET(テストデータ!$E$3,500,9*$B$4-8))","v":12},{"$f":"RANK(G6,OFFSET(テストデータ!$E$3,1,9*$B$4-7):OFFSET(テストデータ!$E$3,500,9*$B$4-7))","v":1},{"$f":"RANK(H6,OFFSET(テストデータ!$E$3,1,9*$B$4-6):OFFSET(テストデータ!$E$3,500,9*$B$4-6))","v":14},{"$f":"RANK(I6,OFFSET(テストデータ!$E$3,1,9*$B$4-5):OFFSET(テストデータ!$E$3,500,9*$B$4-5))","v":10},{"$f":"RANK(J6,OFFSET(テストデータ!$E$3,1,9*$B$4-4):OFFSET(テストデータ!$E$3,500,9*$B$4-4))","v":11},{"$f":"RANK(K6,OFFSET(テストデータ!$E$3,1,9*$B$4-3):OFFSET(テストデータ!$E$3,500,9*$B$4-3))","v":16}]
[]
[null,null,null,null,"得点",null,"平均点",null,"クラス順位",null,"校内順位"]
[null,null,"3科目",null,{"$f":"IF(SUM($E$6:$G$6)=0,\"\",SUM($E$6:$G$6))","v":149},null,{"$f":"AVERAGEIF(初期設定!$N$3:$N$502,\"<>0\")","v":168.15},null,{"$f":"IF(E12=\"\",\"\",(SUMPRODUCT((INDIRECT(\"テストデータ!$B$4\"):INDIRECT(\"テストデータ!$B$503\")=$M$3)*((初期設定!$N$3:'初期設定'!$N$502)>E12))+1&\" 位\"))","v":"3 位"},null,{"$f":"COUNTIF(初期設定!$N$3:$N$502,\"<>0\")&\" 人中 \"&RANK($E$12,初期設定!$N$3:$N$502)&\" 位\"","v":"20 人中 14 位"}]
[]
[null,null,"5科目",null,{"$f":"IF(SUM($E$6:$I$6)=0,\"\",SUM($E$6:$I$6))","v":231},null,{"$f":"AVERAGEIF(初期設定!$O$3:$O$502,\"<>0\")","v":277.35000000000002},null,{"$f":"IF(E14=\"\",\"\",SUMPRODUCT((INDIRECT(\"テストデータ!$B$4\"):INDIRECT(\"テストデータ!$B$503\")=$M$3)*((初期設定!$O$3:'初期設定'!$O$502)>E14))+1&\" 位\")","v":"4 位"},null,{"$f":"COUNTIF(初期設定!$O$3:$O$502,\"<>0\")& \"人中 \"&RANK($E$14,初期設定!$O$3:$O$502)&\" 位\"","v":"20人中 16 位"}]
[]
[]
[]
[null,null,"テスト名",null,null,null,{"$f":"IF(初期設定!$C$5=\"\",\"\",初期設定!$C$5)","v":"国語"},{"$f":"IF(初期設定!$C$6=\"\",\"\",初期設定!$C$6)","v":"数学"},{"$f":"IF(初期設定!$C$7=\"\",\"\",初期設定!$C$7)","v":"英語"},{"$f":"IF(初期設定!$C$8=\"\",\"\",初期設定!$C$8)","v":"社会"},{"$f":"IF(初期設定!$C$9=\"\",\"\",初期設定!$C$9)","v":"理科"},"3科","5科"]
[null,null,{"$f":"IF(初期設定!$C14=\"\",\"\",初期設定!$C14)","v":"1学期 中間テスト"},null,null,"得点",{"$f":"NA()","v":{"$error":"#N/A"}},{"$f":"NA()","v":{"$error":"#N/A"}},{"$f":"NA()","v":{"$error":"#N/A"}},{"$f":"NA()","v":{"$error":"#N/A"}},{"$f":"NA()","v":{"$error":"#N/A"}},{"$f":"NA()","v":{"$error":"#N/A"}},{"$f":"NA()","v":{"$error":"#N/A"}}]
[null,null,null,null,null,"平均",{"$f":"NA()","v":{"$error":"#N/A"}},{"$f":"NA()","v":{"$error":"#N/A"}},{"$f":"NA()","v":{"$error":"#N/A"}},{"$f":"NA()","v":{"$error":"#N/A"}},{"$f":"NA()","v":{"$error":"#N/A"}},{"$f":"NA()","v":{"$error":"#N/A"}},{"$f":"NA()","v":{"$error":"#N/A"}}]
[null,null,{"$f":"IF(初期設定!$C15=\"\",\"\",初期設定!$C15)","v":"1学期 期末テスト"},null,null,"得点",{"$f":"IF(VLOOKUP($F$1,INDIRECT(\"テストデータ!$A$4:$CT$503\"),9*2-4,FALSE)=\"\",\"\",VLOOKUP($F$1,INDIRECT(\"テストデータ!$A$4:$CT$503\"),9*2-4,FALSE))","v":13},{"$f":"IF(VLOOKUP($F$1,INDIRECT(\"テストデータ!$A$4:$CT$503\"),9*2-3,FALSE)=\"\",\"\",VLOOKUP($F$1,INDIRECT(\"テストデータ!$A$4:$CT$503\"),9*2-3,FALSE))","v":39},{"$f":"IF(VLOOKUP($F$1,INDIRECT(\"テストデータ!$A$4:$CT$503\"),9*2-2,FALSE)=\"\",\"\",VLOOKUP($F$1,INDIRECT(\"テストデータ!$A$4:$CT$503\"),9*2-2,FALSE))","v":97},{"$f":"IF(VLOOKUP($F$1,INDIRECT(\"テストデータ!$A$4:$CT$503\"),9*2-1,FALSE)=\"\",\"\",VLOOKUP($F$1,INDIRECT(\"テストデータ!$A$4:$CT$503\"),9*2-1,FALSE))","v":27},{"$f":"IF(VLOOKUP($F$1,INDIRECT(\"テストデータ!$A$4:$CT$503\"),9*2,FALSE)=\"\",\"\",VLOOKUP($F$1,INDIRECT(\"テストデータ!$A$4:$CT$503\"),9*2,FALSE))","v":55},{"$f":"IF(SUM($G21:$I21)=0,NA(),SUM($G21:$I21))","v":149},{"$f":"IF(SUM($G21:$K21)=0,NA(),SUM($G21:$K21))","v":231}]
[null,null,null,null,null,"平均",{"$f":"AVERAGEA(OFFSET(テストデータ!$E$3,1,9*2-9):OFFSET(テストデータ!$E$3,500,9*2-9))","v":66.736842105263165},{"$f":"AVERAGEA(OFFSET(テストデータ!$E$3,1,9*2-8):OFFSET(テストデータ!$E$3,500,9*2-8))","v":57.5},{"$f":"AVERAGEA(OFFSET(テストデータ!$E$3,1,9*2-7):OFFSET(テストデータ!$E$3,500,9*2-7))","v":55.789473684210527},{"$f":"AVERAGEA(OFFSET(テストデータ!$E$3,1,9*2-6):OFFSET(テストデータ!$E$3,500,9*2-6))","v":53.315789473684212},{"$f":"AVERAGEA(OFFSET(テストデータ!$E$3,1,9*2-5):OFFSET(テストデータ!$E$3,500,9*2-5))","v":65.055555555555557},{"$f":"IF(SUM(初期設定!$R$3:$R$502)=0,NA(),AVERAGEIF(初期設定!$R$3:$R$502,\"<>0\"))","v":168.15},{"$f":"IF(SUM(初期設定!$S$3:$S$502)=0,NA(),AVERAGEIF(初期設定!$S$3:$S$502,\"<>0\"))","v":277.35000000000002}]
[null,null,{"$f":"IF(初期設定!$C16=\"\",\"\",初期設定!$C16)","v":"2学期 中間テスト"},null,null,"得点",{"$f":"IF(VLOOKUP($F$1,INDIRECT(\"テストデータ!$A$4:$CT$503\"),9*3-4,FALSE)=\"\",\"\",VLOOKUP($F$1,INDIRECT(\"テストデータ!$A$4:$CT$503\"),9*3-4,FALSE))","v":36},{"$f":"IF(VLOOKUP($F$1,INDIRECT(\"テストデータ!$A$4:$CT$503\"),9*3-3,FALSE)=\"\",\"\",VLOOKUP($F$1,INDIRECT(\"テストデータ!$A$4:$CT$503\"),9*3-3,FALSE))","v":13},{"$f":"IF(VLOOKUP($F$1,INDIRECT(\"テストデータ!$A$4:$CT$503\"),9*3-2,FALSE)=\"\",\"\",VLOOKUP($F$1,INDIRECT(\"テストデータ!$A$4:$CT$503\"),9*3-2,FALSE))","v":39},{"$f":"IF(VLOOKUP($F$1,INDIRECT(\"テストデータ!$A$4:$CT$503\"),9*3-1,FALSE)=\"\",\"\",VLOOKUP($F$1,INDIRECT(\"テストデータ!$A$4:$CT$503\"),9*3-1,FALSE))","v":97},{"$f":"IF(VLOOKUP($F$1,INDIRECT(\"テストデータ!$A$4:$CT$503\"),9*3,FALSE)=\"\",\"\",VLOOKUP($F$1,INDIRECT(\"テストデータ!$A$4:$CT$503\"),9*3,FALSE))","v":27},{"$f":"IF(SUM($G23:$I23)=0,NA(),SUM($G23:$I23))","v":88},{"$f":"IF(SUM($G23:$K23)=0,NA(),SUM($G23:$K23))","v":212}]
[null,null,null,null,null,"平均",{"$f":"AVERAGEA(OFFSET(テストデータ!$E$3,1,9*3-9):OFFSET(テストデータ!$E$3,500,9*3-9))","v":61.5},{"$f":"AVERAGEA(OFFSET(テストデータ!$E$3,1,9*3-8):OFFSET(テストデータ!$E$3,500,9*3-8))","v":67.849999999999994},{"$f":"AVERAGEA(OFFSET(テストデータ!$E$3,1,9*3-7):OFFSET(テストデータ!$E$3,500,9*3-7))","v":57.5},{"$f":"AVERAGEA(OFFSET(テストデータ!$E$3,1,9*3-6):OFFSET(テストデータ!$E$3,500,9*3-6))","v":55.789473684210527},{"$f":"AVERAGEA(OFFSET(テストデータ!$E$3,1,9*3-5):OFFSET(テストデータ!$E$3,500,9*3-5))","v":53.315789473684212},{"$f":"IF(SUM(初期設定!$T$3:$T$502)=0,NA(),AVERAGEIF(初期設定!$T$3:$T$502,\"<>0\"))","v":181.1},{"$f":"IF(SUM(初期設定!$U$3:$U$502)=0,NA(),AVERAGEIF(初期設定!$U$3:$U$502,\"<>0\"))","v":284.75}]
[null,null,{"$f":"IF(初期設定!$C17=\"\",\"\",初期設定!$C17)","v":"2学期 期末テスト"},null,null,"得点",{"$f":"IF(VLOOKUP($F$1,INDIRECT(\"テストデータ!$A$4:$CT$503\"),9*4-4,FALSE)=\"\",\"\",VLOOKUP($F$1,INDIRECT(\"テストデータ!$A$4:$CT$503\"),9*4-4,FALSE))","v":27},{"$f":"IF(VLOOKUP($F$1,INDIRECT(\"テストデータ!$A$4:$CT$503\"),9*4-3,FALSE)=\"\",\"\",VLOOKUP($F$1,INDIRECT(\"テストデータ!$A$4:$CT$503\"),9*4-3,FALSE))","v":49},{"$f":"IF(VLOOKUP($F$1,INDIRECT(\"テストデータ!$A$4:$CT$503\"),9*4-2,FALSE)=\"\",\"\",VLOOKUP($F$1,INDIRECT(\"テストデータ!$A$4:$CT$503\"),9*4-2,FALSE))","v":13},{"$f":"IF(VLOOKUP($F$1,INDIRECT(\"テストデータ!$A$4:$CT$503\"),9*4-1,FALSE)=\"\",\"\",VLOOKUP($F$1,INDIRECT(\"テストデータ!$A$4:$CT$503\"),9*4-1,FALSE))","v":46},{"$f":"IF(VLOOKUP($F$1,INDIRECT(\"テストデータ!$A$4:$CT$503\"),9*4,FALSE)=\"\",\"\",VLOOKUP($F$1,INDIRECT(\"テストデータ!$A$4:$CT$503\"),9*4,FALSE))","v":13},{"$f":"IF(SUM($G25:$I25)=0,NA(),SUM($G25:$I25))","v":89},{"$f":"IF(SUM($G25:$K25)=0,NA(),SUM($G25:$K25))","v":148}]
[null,null,null,null,null,"平均",{"$f":"AVERAGEA(OFFSET(テストデータ!$E$3,1,9*4-9):OFFSET(テストデータ!$E$3,500,9*4-9))","v":53.315789473684212},{"$f":"AVERAGEA(OFFSET(テストデータ!$E$3,1,9*4-8):OFFSET(テストデータ!$E$3,500,9*4-8))","v":56.526315789473685},{"$f":"AVERAGEA(OFFSET(テストデータ!$E$3,1,9*4-7):OFFSET(テストデータ!$E$3,500,9*4-7))","v":67.849999999999994},{"$f":"AVERAGEA(OFFSET(テストデータ!$E$3,1,9*4-6):OFFSET(テストデータ!$E$3,500,9*4-6))","v":46.842105263157897},{"$f":"AVERAGEA(OFFSET(テストデータ!$E$3,1,9*4-5):OFFSET(テストデータ!$E$3,500,9*4-5))","v":67.849999999999994},{"$f":"IF(SUM(初期設定!$V$3:$V$502)=0,NA(),AVERAGEIF(初期設定!$V$3:$V$502,\"<>0\"))","v":172.2},{"$f":"IF(SUM(初期設定!$W$3:$W$502)=0,NA(),AVERAGEIF(初期設定!$W$3:$W$502,\"<>0\"))","v":284.55}]
[null,null,{"$f":"IF(初期設定!$C18=\"\",\"\",初期設定!$C18)","v":"3学期 期末テスト"},null,null,"得点",{"$f":"IF(VLOOKUP($F$1,INDIRECT(\"テストデータ!$A$4:$CT$503\"),9*5-4,FALSE)=\"\",\"\",VLOOKUP($F$1,INDIRECT(\"テストデータ!$A$4:$CT$503\"),9*5-4,FALSE))","v":""},{"$f":"IF(VLOOKUP($F$1,INDIRECT(\"テストデータ!$A$4:$CT$503\"),9*5-3,FALSE)=\"\",\"\",VLOOKUP($F$1,INDIRECT(\"テストデータ!$A$4:$CT$503\"),9*5-3,FALSE))","v":""},{"$f":"IF(VLOOKUP($F$1,INDIRECT(\"テストデータ!$A$4:$CT$503\"),9*5-2,FALSE)=\"\",\"\",VLOOKUP($F$1,INDIRECT(\"テストデータ!$A$4:$CT$503\"),9*5-2,FALSE))","v":""},{"$f":"IF(VLOOKUP($F$1,INDIRECT(\"テストデータ!$A$4:$CT$503\"),9*5-1,FALSE)=\"\",\"\",VLOOKUP($F$1,INDIRECT(\"テストデータ!$A$4:$CT$503\"),9*5-1,FALSE))","v":""},{"$f":"IF(VLOOKUP($F$1,INDIRECT(\"テストデータ!$A$4:$CT$503\"),9*5,FALSE)=\"\",\"\",VLOOKUP($F$1,INDIRECT(\"テストデータ!$A$4:$CT$503\"),9*5,FALSE))","v":""},{"$f":"IF(SUM($G27:$I27)=0,NA(),SUM($G27:$I27))","v":{"$error":"#N/A"}},{"$f":"IF(SUM($G27:$K27)=0,NA(),SUM($G27:$K27))","v":{"$error":"#N/A"}}]
[null,null,null,null,null,"平均",{"$f":"AVERAGEA(OFFSET(テストデータ!$E$3,1,9*5-9):OFFSET(テストデータ!$E$3,500,9*5-9))","v":{"$error":"#DIV/0!"}},{"$f":"AVERAGEA(OFFSET(テストデータ!$E$3,1,9*5-8):OFFSET(テストデータ!$E$3,500,9*5-8))","v":{"$error":"#DIV/0!"}},{"$f":"AVERAGEA(OFFSET(テストデータ!$E$3,1,9*5-7):OFFSET(テストデータ!$E$3,500,9*5-7))","v":{"$error":"#DIV/0!"}},{"$f":"AVERAGEA(OFFSET(テストデータ!$E$3,1,9*5-6):OFFSET(テストデータ!$E$3,500,9*5-6))","v":{"$error":"#DIV/0!"}},{"$f":"AVERAGEA(OFFSET(テストデータ!$E$3,1,9*5-5):OFFSET(テストデータ!$E$3,500,9*5-5))","v":{"$error":"#DIV/0!"}},{"$f":"IF(SUM(初期設定!$X$3:$X$502)=0,NA(),AVERAGEIF(初期設定!$X$3:$X$502,\"<>0\"))","v":{"$error":"#N/A"}},{"$f":"IF(SUM(初期設定!$Y$3:$Y$502)=0,NA(),AVERAGEIF(初期設定!$Y$3:$Y$502,\"<>0\"))","v":{"$error":"#N/A"}}]
[null,null,{"$f":"IF(初期設定!$C19=\"\",\"\",初期設定!$C19)","v":""},null,null,"得点",{"$f":"IF(VLOOKUP($F$1,INDIRECT(\"テストデータ!$A$4:$CT$503\"),9*6-4,FALSE)=\"\",\"\",VLOOKUP($F$1,INDIRECT(\"テストデータ!$A$4:$CT$503\"),9*6-4,FALSE))","v":""},{"$f":"IF(VLOOKUP($F$1,INDIRECT(\"テストデータ!$A$4:$CT$503\"),9*6-3,FALSE)=\"\",\"\",VLOOKUP($F$1,INDIRECT(\"テストデータ!$A$4:$CT$503\"),9*6-3,FALSE))","v":""},{"$f":"IF(VLOOKUP($F$1,INDIRECT(\"テストデータ!$A$4:$CT$503\"),9*6-2,FALSE)=\"\",\"\",VLOOKUP($F$1,INDIRECT(\"テストデータ!$A$4:$CT$503\"),9*6-2,FALSE))","v":""},{"$f":"IF(VLOOKUP($F$1,INDIRECT(\"テストデータ!$A$4:$CT$503\"),9*6-1,FALSE)=\"\",\"\",VLOOKUP($F$1,INDIRECT(\"テストデータ!$A$4:$CT$503\"),9*6-1,FALSE))","v":""},{"$f":"IF(VLOOKUP($F$1,INDIRECT(\"テストデータ!$A$4:$CT$503\"),9*6,FALSE)=\"\",\"\",VLOOKUP($F$1,INDIRECT(\"テストデータ!$A$4:$CT$503\"),9*6,FALSE))","v":""},{"$f":"IF(SUM($G29:$I29)=0,NA(),SUM($G29:$I29))","v":{"$error":"#N/A"}},{"$f":"IF(SUM($G29:$K29)=0,NA(),SUM($G29:$K29))","v":{"$error":"#N/A"}}]
[null,null,null,null,null,"平均",{"$f":"AVERAGEA(OFFSET(テストデータ!$E$3,1,9*6-9):OFFSET(テストデータ!$E$3,500,9*6-9))","v":{"$error":"#DIV/0!"}},{"$f":"AVERAGEA(OFFSET(テストデータ!$E$3,1,9*6-8):OFFSET(テストデータ!$E$3,500,9*6-8))","v":{"$error":"#DIV/0!"}},{"$f":"AVERAGEA(OFFSET(テストデータ!$E$3,1,9*6-7):OFFSET(テストデータ!$E$3,500,9*6-7))","v":{"$error":"#DIV/0!"}},{"$f":"AVERAGEA(OFFSET(テストデータ!$E$3,1,9*6-6):OFFSET(テストデータ!$E$3,500,9*6-6))","v":{"$error":"#DIV/0!"}},{"$f":"AVERAGEA(OFFSET(テストデータ!$E$3,1,9*6-5):OFFSET(テストデータ!$E$3,500,9*6-5))","v":{"$error":"#DIV/0!"}},{"$f":"IF(SUM(初期設定!$Z$3:$Z$502)=0,NA(),AVERAGEIF(初期設定!$Z$3:$Z$502,\"<>0\"))","v":{"$error":"#N/A"}},{"$f":"IF(SUM(初期設定!$AA$3:$AA$502)=0,NA(),AVERAGEIF(初期設定!$AA$3:$AA$502,\"<>0\"))","v":{"$error":"#N/A"}}]

{"sheet":"成績表2","index":2,"n_rows":28,"n_cols":17,"rows_kept":28,"cut":false,"hidden":false,"merged":[[27,4,27,5],[22,4,22,5],[23,4,23,5],[24,4,24,5],[25,4,25,5],[26,4,26,5],[14,2,15,3],[16,2,17,3],[18,2,19,3],[12,4,12,5],[13,4,13,5],[14,4,14,5],[15,4,15,5],[16,4,16,5],[20,2,21,3],[22,2,23,3],[24,2,25,3],[26,2,27,3],[0,1,0,2],[11,2,11,5],[4,2,4,3],[5,2,5,3],[6,2,6,3],[7,2,7,3],[8,2,8,3],[19,4,19,5],[20,4,20,5],[21,4,21,5],[17,4,17,5],[12,2,13,3],[0,16,0,20],[1,1,2,8],[1,10,1,11],[1,12,1,13],[1,14,1,15],[1,16,1,20],[2,10,2,11],[2,12,2,13],[2,14,2,15],[2,16,2,20],[4,11,4,12],[5,11,5,12],[6,11,6,12],[7,11,7,12],[18,4,18,5],[8,11,8,12],[4,9,4,10],[5,9,5,10],[6,9,6,10],[7,9,7,10],[8,9,8,10]]}
[null,{"$f":"IF(初期設定!C2=\"\",\"\",初期設定!C2)","v":"20xx年"},null,null,"ID:",1,null,null,null,null,null,null,null,null,null,null,{"$f":"初期設定!C1","v":"微風中学校"}]
[null,"第3回 校内実力テスト",null,null,null,null,null,null,null,null,"学年",null,"クラス",null,"番号",null,"氏名"]
[null,null,null,null,null,null,null,null,null,null,{"$f":"IF(初期設定!$C3=\"\",\"\",初期設定!$C3)","v":"3学年"},null,{"$f":"VLOOKUP($F$1,INDIRECT(\"テストデータ!$A$4:$CT$503\"),2,FALSE)","v":"1"},null,{"$f":"VLOOKUP($F$1,INDIRECT(\"テストデータ!$A$4:$CT$503\"),3,FALSE)","v":"1"},null,{"$f":"VLOOKUP($F$1,INDIRECT(\"テストデータ!$A$4:$CT$503\"),4,FALSE)","v":"鈴木A男"}]
[null,{"$f":"VLOOKUP($B$2,初期設定!$E$44:$G$74,3,FALSE)","v":3}]
[null,null,null,null,{"$f":"IF(初期設定!$C$22=\"\",\"\",初期設定!$C$22)","v":"国語"},{"$f":"IF(初期設定!$C$23=\"\",\"\",初期設定!$C$23)","v":"数学"},{"$f":"IF(初期設定!$C$24=\"\",\"\",初期設定!$C$24)","v":"英語"},{"$f":"IF(初期設定!$C$25=\"\",\"\",初期設定!$C$25)","v":"社会"},{"$f":"IF(初期設定!$C$26=\"\",\"\",初期設定!$C$26)","v":"理科"},"3科目",null,"5科目"]
[null,null,"得点",null,{"$f":"IF(VLOOKUP($F$1,INDIRECT(\"テストデータ!$A$4:$CT$503\"),5*$B$4+54,FALSE)=\"\",\"-\",VLOOKUP($F$1,INDIRECT(\"テストデータ!$A$4:$CT$503\"),5*$B$4+54,FALSE))","v":"-"},{"$f":"IF(VLOOKUP($F$1,INDIRECT(\"テストデータ!$A$4:$CT$503\"),5*$B$4+55,FALSE)=\"\",\"-\",VLOOKUP($F$1,INDIRECT(\"テストデータ!$A$4:$CT$503\"),5*$B$4+55,FALSE))","v":52},{"$f":"IF(VLOOKUP($F$1,INDIRECT(\"テストデータ!$A$4:$CT$503\"),5*$B$4+56,FALSE)=\"\",\"-\",VLOOKUP($F$1,INDIRECT(\"テストデータ!$A$4:$CT$503\"),5*$B$4+56,FALSE))","v":"-"},{"$f":"IF(VLOOKUP($F$1,INDIRECT(\"テストデータ!$A$4:$CT$503\"),5*$B$4+57,FALSE)=\"\",\"-\",VLOOKUP($F$1,INDIRECT(\"テストデータ!$A$4:$CT$503\"),5*$B$4+57,FALSE))","v":79},{"$f":"IF(VLOOKUP($F$1,INDIRECT(\"テストデータ!$A$4:$CT$503\"),5*$B$4+58,FALSE)=\"\",\"-\",VLOOKUP($F$1,INDIRECT(\"テストデータ!$A$4:$CT$503\"),5*$B$4+58,FALSE))","v":11},{"$f":"IF(SUM($E$6:$G$6)=0,\"\",SUM($E$6:$G$6))","v":52},null,{"$f":"IF(SUM($E$6:$I$6)=0,\"\",SUM($E$6:$I$6))","v":142}]
[null,null,"平均点",null,{"$f":"IF(SUM((OFFSET(テストデータ!$BG$3,1,5*$B$4-5):OFFSET(テストデータ!$BG$3,500,5*$B4-5)))=0,NA(),AVERAGEA(OFFSET(テストデータ!$BG$3,1,5*$B$4-5):OFFSET(テストデータ!$BG$3,500,5*$B4-5)))","v":47.94736842105263},{"$f":"IF(SUM(OFFSET(テストデータ!$BG$3,1,5*$B$4-4):OFFSET(テストデータ!$BG$3,500,5*$B4-4))=0,NA(),AVERAGEA(OFFSET(テストデータ!$BG$3,1,5*$B$4-4):OFFSET(テストデータ!$BG$3,500,5*$B4-4)))","v":49.8},{"$f":"IF(SUM(OFFSET(テストデータ!$BG$3,1,5*$B$4-3):OFFSET(テストデータ!$BG$3,500,5*$B4-3))=0,NA(),AVERAGEA(OFFSET(テストデータ!$BG$3,1,5*$B$4-3):OFFSET(テストデータ!$BG$3,500,5*$B4-3)))","v":53.210526315789473},{"$f":"IF(SUM(OFFSET(テストデータ!$BG$3,1,5*$B$4-2):OFFSET(テストデータ!$BG$3,500,5*$B4-2))=0,NA(),AVERAGEA(OFFSET(テストデータ!$BG$3,1,5*$B$4-2):OFFSET(テストデータ!$BG$3,500,5*$B4-2)))","v":42.7},{"$f":"IF(SUM(OFFSET(テストデータ!$BG$3,1,5*$B$4-1):OFFSET(テストデータ!$BG$3,500,5*$B4-1))=0,NA(),AVERAGEA(OFFSET(テストデータ!$BG$3,1,5*$B$4-1):OFFSET(テストデータ!$BG$3,500,5*$B4-1)))","v":51.05},{"$f":"AVERAGEIF(OFFSET(初期設定!$AB$3,0,2*$B$4-2):OFFSET(初期設定!$AB$502,0,2*$B$4-2),\"<>0\")","v":145.9},null,{"$f":"AVERAGEIF(OFFSET(初期設定!$AC$3,0,2*$B$4-2):OFFSET(初期設定!$AC$502,0,2*$B$4-2),\"<>0\")","v":239.65}]
[null,null,"クラス順位",null,{"$f":"IF(E6=\"-\",\"\",SUMPRODUCT((INDIRECT(\"テストデータ!$B$4\"):INDIRECT(\"テストデータ!$B$503\")=$M$3)*(OFFSET(テストデータ!$BG$3,1,5*$B$4-5):OFFSET(テストデータ!$BG$3,500,5*$B$4-5)>E6))+1)&\"位\"","v":"位"},{"$f":"IF(F6=\"-\",\"\",SUMPRODUCT((INDIRECT(\"テストデータ!$B$4\"):INDIRECT(\"テストデータ!$B$503\")=$M$3)*(OFFSET(テストデータ!$BG$3,1,5*$B$4-4):OFFSET(テストデータ!$BG$3,500,5*$B$4-4)>F6))+1)&\"位\"","v":"4位"},{"$f":"IF(G6=\"-\",\"\",SUMPRODUCT((INDIRECT(\"テストデータ!$B$4\"):INDIRECT(\"テストデータ!$B$503\")=$M$3)*(OFFSET(テストデータ!$BG$3,1,5*$B$4-3):OFFSET(テストデータ!$BG$3,500,5*$B$4-3)>G6))+1)&\"位\"","v":"位"},{"$f":"IF(H6=\"-\",\"\",SUMPRODUCT((INDIRECT(\"テストデータ!$B$4\"):INDIRECT(\"テストデータ!$B$503\")=$M$3)*(OFFSET(テストデータ!$BG$3,1,5*$B$4-2):OFFSET(テストデータ!$BG$3,500,5*$B$4-2)>H6))+1)&\"位\"","v":"1位"},{"$f":"IF(I6=\"-\",\"\",SUMPRODUCT((INDIRECT(\"テストデータ!$B$4\"):INDIRECT(\"テストデータ!$B$503\")=$M$3)*(OFFSET(テストデータ!$BG$3,1,5*$B$4-1):OFFSET(テストデータ!$BG$3,500,5*$B$4-1)>I6))+1)&\"位\"","v":"6位"},{"$f":"IF($J$6=\"\",\"\",(SUMPRODUCT((INDIRECT(\"テストデータ!$B$4\"):INDIRECT(\"テストデータ!$B$503\")=$M$3)*((OFFSET(初期設定!$AB$3,0,2*$B$4-2):OFFSET(初期設定!$AB$502,0,2*$B$4-2))>$J$6))+1&\" 位\"))","v":"6 位"},null,{"$f":"IF($L$6=\"\",\"\",(SUMPRODUCT((INDIRECT(\"テストデータ!$B$4\"):INDIRECT(\"テストデータ!$B$503\")=$M$3)*((OFFSET(初期設定!$AC$3,0,2*$B$4-2):OFFSET(初期設定!$AC$502,0,2*$B$4-2))>$L$6))+1&\" 位\"))","v":"6 位"}]
[null,null,"校内順位",null,{"$f":"RANK(E6,OFFSET(テストデータ!$BG$3,1,5*$B$4-5):OFFSET(テストデータ!$BG$3,500,5*$B$4-5))&\"位\"","v":{"$error":"#VALUE!"}},{"$f":"RANK(F6,OFFSET(テストデータ!$BG$3,1,5*$B$4-4):OFFSET(テストデータ!$BG$3,500,5*$B$4-4))&\"位\"","v":"10位"},{"$f":"RANK(G6,OFFSET(テストデータ!$BG$3,1,5*$B$4-3):OFFSET(テストデータ!$BG$3,500,5*$B$4-3))&\"位\"","v":{"$error":"#VALUE!"}},{"$f":"RANK(H6,OFFSET(テストデータ!$BG$3,1,5*$B$4-2):OFFSET(テストデータ!$BG$3,500,5*$B$4-2))&\"位\"","v":"1位"},{"$f":"RANK(I6,OFFSET(テストデータ!$BG$3,1,5*$B$4-1):OFFSET(テストデータ!$BG$3,500,5*$B$4-1))&\"位\"","v":"19位"},{"$f":"RANK($J$6,OFFSET(初期設定!$AB$3,0,2*B4-2):OFFSET(初期設定!$AB$502,0,2*B4-2))&\"位/\"&COUNTIF(OFFSET(初期設定!$AB$3,0,2*B4-2):OFFSET(初期設定!$AB$502,0,2*B4-2),\"<>0\")&\"中\"","v":"20位/20中"},null,{"$f":"RANK($L$6,OFFSET(初期設定!$AC$3,0,2*B4-2):OFFSET(初期設定!$AC$502,0,2*B4-2))&\"位/\"&COUNTIF(OFFSET(初期設定!$AC$3,0,2*B4-2):OFFSET(初期設定!$AC$502,0,2*B4-2),\"<>0\")&\"中\"","v":"19位/20中"}]
[]
[]
[null,null,{"$f":"IF(初期設定!$C21=\"\",\"\",初期設定!$C21)","v":"校内実力テスト"},null,null,null,{"$f":"IF(初期設定!$C$22=\"\",\"\",初期設定!$C$22)","v":"国語"},{"$f":"IF(初期設定!$C$23=\"\",\"\",初期設定!$C$23)","v":"数学"},{"$f":"IF(初期設定!$C$24=\"\",\"\",初期設定!$C$24)","v":"英語"},{"$f":"IF(初期設定!$C$25=\"\",\"\",初期設定!$C$25)","v":"社会"},{"$f":"IF(初期設定!$C$26=\"\",\"\",初期設定!$C$26)","v":"理科"},"3科","5科"]
[null,null,"第1回",null,"得点",null,{"$f":"NA()","v":{"$error":"#N/A"}},{"$f":"NA()","v":{"$error":"#N/A"}},{"$f":"NA()","v":{"$error":"#N/A"}},{"$f":"NA()","v":{"$error":"#N/A"}},{"$f":"NA()","v":{"$error":"#N/A"}},{"$f":"NA()","v":{"$error":"#N/A"}},{"$f":"NA()","v":{"$error":"#N/A"}}]
[null,null,null,null,"平均",null,{"$f":"NA()","v":{"$error":"#N/A"}},{"$f":"NA()","v":{"$error":"#N/A"}},{"$f":"NA()","v":{"$error":"#N/A"}},{"$f":"NA()","v":{"$error":"#N/A"}},{"$f":"NA()","v":{"$error":"#N/A"}},{"$f":"NA()","v":{"$error":"#N/A"}},{"$f":"NA()","v":{"$error":"#N/A"}}]
[null,null,"第2回",null,"得点",null,{"$f":"IF(VLOOKUP($F$1,INDIRECT(\"テストデータ!$A$4:$CT$503\"),5*2+54,FALSE)=\"\",\"\",VLOOKUP($F$1,INDIRECT(\"テストデータ!$A$4:$CT$503\"),5*2+54,FALSE))","v":79},{"$f":"IF(VLOOKUP($F$1,INDIRECT(\"テストデータ!$A$4:$CT$503\"),5*2+55,FALSE)=\"\",\"\",VLOOKUP($F$1,INDIRECT(\"テストデータ!$A$4:$CT$503\"),5*2+55,FALSE))","v":""},{"$f":"IF(VLOOKUP($F$1,INDIRECT(\"テストデータ!$A$4:$CT$503\"),5*2+56,FALSE)=\"\",\"\",VLOOKUP($F$1,INDIRECT(\"テストデータ!$A$4:$CT$503\"),5*2+56,FALSE))","v":24},{"$f":"IF(VLOOKUP($F$1,INDIRECT(\"テストデータ!$A$4:$CT$503\"),5*2+57,FALSE)=\"\",\"\",VLOOKUP($F$1,INDIRECT(\"テストデータ!$A$4:$CT$503\"),5*2+57,FALSE))","v":""},{"$f":"IF(VLOOKUP($F$1,INDIRECT(\"テストデータ!$A$4:$CT$503\"),5*2+58,FALSE)=\"\",\"\",VLOOKUP($F$1,INDIRECT(\"テストデータ!$A$4:$CT$503\"),5*2+58,FALSE))","v":79},{"$f":"IF(SUM($G15:$I15)=0,NA(),SUM($G15:$I15))","v":103},{"$f":"IF(SUM($G15:$K15)=0,NA(),SUM($G15:$K15))","v":182}]
[null,null,null,null,"平均",null,{"$f":"AVERAGEA(OFFSET(テストデータ!$E$3,1,5*1+54):OFFSET(テストデータ!$E$3,500,5*1+54))","v":42.7},{"$f":"AVERAGEA(OFFSET(テストデータ!$E$3,1,5*1+55):OFFSET(テストデータ!$E$3,500,5*1+55))","v":64.315789473684205},{"$f":"AVERAGEA(OFFSET(テストデータ!$E$3,1,5*1+56):OFFSET(テストデータ!$E$3,500,5*1+56))","v":44.65},{"$f":"AVERAGEA(OFFSET(テストデータ!$E$3,1,5*1+57):OFFSET(テストデータ!$E$3,500,5*1+57))","v":59.05263157894737},{"$f":"AVERAGEA(OFFSET(テストデータ!$E$3,1,5*1+58):OFFSET(テストデータ!$E$3,500,5*1+58))","v":42.7},{"$f":"IF(SUM(初期設定!$AD$3:$AD$502)=0,NA(),AVERAGEIF(初期設定!$AD$3:$AD$502,\"<>0\"))","v":148.44999999999999},{"$f":"IF(SUM(初期設定!$AE$3:$AE$502)=0,NA(),AVERAGEIF(初期設定!$AE$3:$AE$502,\"<>0\"))","v":247.25}]
[null,null,"第3回",null,"得点",null,{"$f":"IF(VLOOKUP($F$1,INDIRECT(\"テストデータ!$A$4:$CT$503\"),5*3+54,FALSE)=\"\",\"\",VLOOKUP($F$1,INDIRECT(\"テストデータ!$A$4:$CT$503\"),5*3+54,FALSE))","v":""},{"$f":"IF(VLOOKUP($F$1,INDIRECT(\"テストデータ!$A$4:$CT$503\"),5*3+55,FALSE)=\"\",\"\",VLOOKUP($F$1,INDIRECT(\"テストデータ!$A$4:$CT$503\"),5*3+55,FALSE))","v":52},{"$f":"IF(VLOOKUP($F$1,INDIRECT(\"テストデータ!$A$4:$CT$503\"),5*3+56,FALSE)=\"\",\"\",VLOOKUP($F$1,INDIRECT(\"テストデータ!$A$4:$CT$503\"),5*3+56,FALSE))","v":""},{"$f":"IF(VLOOKUP($F$1,INDIRECT(\"テストデータ!$A$4:$CT$503\"),5*3+57,FALSE)=\"\",\"\",VLOOKUP($F$1,INDIRECT(\"テストデータ!$A$4:$CT$503\"),5*3+57,FALSE))","v":79},{"$f":"IF(VLOOKUP($F$1,INDIRECT(\"テストデータ!$A$4:$CT$503\"),5*3+58,FALSE)=\"\",\"\",VLOOKUP($F$1,INDIRECT(\"テストデータ!$A$4:$CT$503\"),5*3+58,FALSE))","v":11},{"$f":"IF(SUM($G17:$I17)=0,NA(),SUM($G17:$I17))","v":52},{"$f":"IF(SUM($G17:$K17)=0,NA(),SUM($G17:$K17))","v":142}]
[null,null,null,null,"平均",null,{"$f":"AVERAGEA(OFFSET(テストデータ!$E$3,1,5*2+54):OFFSET(テストデータ!$E$3,500,5*2+54))","v":47.94736842105263},{"$f":"AVERAGEA(OFFSET(テストデータ!$E$3,1,5*2+55):OFFSET(テストデータ!$E$3,500,5*2+55))","v":49.8},{"$f":"AVERAGEA(OFFSET(テストデータ!$E$3,1,5*2+56):OFFSET(テストデータ!$E$3,500,5*2+56))","v":53.210526315789473},{"$f":"AVERAGEA(OFFSET(テストデータ!$E$3,1,5*2+57):OFFSET(テストデータ!$E$3,500,5*2+57))","v":42.7},{"$f":"AVERAGEA(OFFSET(テストデータ!$E$3,1,5*2+58):OFFSET(テストデータ!$E$3,500,5*2+58))","v":51.05},{"$f":"IF(SUM(初期設定!$AF$3:$AF$502)=0,NA(),AVERAGEIF(初期設定!$AF$3:$AF$502,\"<>0\"))","v":145.9},{"$f":"IF(SUM(初期設定!$AG$3:$AG$502)=0,NA(),AVERAGEIF(初期設定!$AG$3:$AG$502,\"<>0\"))","v":239.65}]
[null,null,"第4回",null,"得点",null,{"$f":"IF(VLOOKUP($F$1,INDIRECT(\"テストデータ!$A$4:$CT$503\"),5*4+54,FALSE)=\"\",\"\",VLOOKUP($F$1,INDIRECT(\"テストデータ!$A$4:$CT$503\"),5*4+54,FALSE))","v":25},{"$f":"IF(VLOOKUP($F$1,INDIRECT(\"テストデータ!$A$4:$CT$503\"),5*4+55,FALSE)=\"\",\"\",VLOOKUP($F$1,INDIRECT(\"テストデータ!$A$4:$CT$503\"),5*4+55,FALSE))","v":79},{"$f":"IF(VLOOKUP($F$1,INDIRECT(\"テストデータ!$A$4:$CT$503\"),5*4+56,FALSE)=\"\",\"\",VLOOKUP($F$1,INDIRECT(\"テストデータ!$A$4:$CT$503\"),5*4+56,FALSE))","v":9},{"$f":"IF(VLOOKUP($F$1,INDIRECT(\"テストデータ!$A$4:$CT$503\"),5*4+57,FALSE)=\"\",\"\",VLOOKUP($F$1,INDIRECT(\"テストデータ!$A$4:$CT$503\"),5*4+57,FALSE))","v":52},{"$f":"IF(VLOOKUP($F$1,INDIRECT(\"テストデータ!$A$4:$CT$503\"),5*4+58,FALSE)=\"\",\"\",VLOOKUP($F$1,INDIRECT(\"テストデータ!$A$4:$CT$503\"),5*4+58,FALSE))","v":11},{"$f":"IF(SUM($G19:$I19)=0,NA(),SUM($G19:$I19))","v":113},{"$f":"IF(SUM($G19:$K19)=0,NA(),SUM($G19:$K19))","v":176}]
[null,null,null,null,"平均",null,{"$f":"AVERAGEA(OFFSET(テストデータ!$E$3,1,5*3+54):OFFSET(テストデータ!$E$3,500,5*3+54))","v":54.15},{"$f":"AVERAGEA(OFFSET(テストデータ!$E$3,1,5*3+55):OFFSET(テストデータ!$E$3,500,5*3+55))","v":42.7},{"$f":"AVERAGEA(OFFSET(テストデータ!$E$3,1,5*3+56):OFFSET(テストデータ!$E$3,500,5*3+56))","v":43.9},{"$f":"AVERAGEA(OFFSET(テストデータ!$E$3,1,5*3+57):OFFSET(テストデータ!$E$3,500,5*3+57))","v":58.473684210526315},{"$f":"AVERAGEA(OFFSET(テストデータ!$E$3,1,5*3+58):OFFSET(テストデータ!$E$3,500,5*3+58))","v":51.05},{"$f":"IF(SUM(初期設定!$AH$3:$AH$502)=0,NA(),AVERAGEIF(初期設定!$AH$3:$AH$502,\"<>0\"))","v":140.75},{"$f":"IF(SUM(初期設定!$AI$3:$AI$502)=0,NA(),AVERAGEIF(初期設定!$AI$3:$AI$502,\"<>0\"))","v":247.35}]
[null,null,"第5回",null,"得点",null,{"$f":"IF(VLOOKUP($F$1,INDIRECT(\"テストデータ!$A$4:$CT$503\"),5*5+54,FALSE)=\"\",\"\",VLOOKUP($F$1,INDIRECT(\"テストデータ!$A$4:$CT$503\"),5*5+54,FALSE))","v":35},{"$f":"IF(VLOOKUP($F$1,INDIRECT(\"テストデータ!$A$4:$CT$503\"),5*5+55,FALSE)=\"\",\"\",VLOOKUP($F$1,INDIRECT(\"テストデータ!$A$4:$CT$503\"),5*5+55,FALSE))","v":79},{"$f":"IF(VLOOKUP($F$1,INDIRECT(\"テストデータ!$A$4:$CT$503\"),5*5+56,FALSE)=\"\",\"\",VLOOKUP($F$1,INDIRECT(\"テストデータ!$A$4:$CT$503\"),5*5+56,FALSE))","v":82},{"$f":"IF(VLOOKUP($F$1,INDIRECT(\"テストデータ!$A$4:$CT$503\"),5*5+57,FALSE)=\"\",\"\",VLOOKUP($F$1,INDIRECT(\"テストデータ!$A$4:$CT$503\"),5*5+57,FALSE))","v":9},{"$f":"IF(VLOOKUP($F$1,INDIRECT(\"テストデータ!$A$4:$CT$503\"),5*5+58,FALSE)=\"\",\"\",VLOOKUP($F$1,INDIRECT(\"テストデータ!$A$4:$CT$503\"),5*5+58,FALSE))","v":92},{"$f":"IF(SUM($G21:$I21)=0,NA(),SUM($G21:$I21))","v":196},{"$f":"IF(SUM($G21:$K21)=0,NA(),SUM($G21:$K21))","v":297}]
[null,null,null,null,"平均",null,{"$f":"AVERAGEA(OFFSET(テストデータ!$E$3,1,5*4+54):OFFSET(テストデータ!$E$3,500,5*4+54))","v":64.263157894736835},{"$f":"AVERAGEA(OFFSET(テストデータ!$E$3,1,5*4+55):OFFSET(テストデータ!$E$3,500,5*4+55))","v":42.7},{"$f":"AVERAGEA(OFFSET(テストデータ!$E$3,1,5*4+56):OFFSET(テストデータ!$E$3,500,5*4+56))","v":56.526315789473685},{"$f":"AVERAGEA(OFFSET(テストデータ!$E$3,1,5*4+57):OFFSET(テストデータ!$E$3,500,5*4+57))","v":43.9},{"$f":"AVERAGEA(OFFSET(テストデータ!$E$3,1,5*4+58):OFFSET(テストデータ!$E$3,500,5*4+58))","v":46.842105263157897},{"$f":"IF(SUM(初期設定!$AJ$3:$AJ$502)=0,NA(),AVERAGEIF(初期設定!$AJ$3:$AJ$502,\"<>0\"))","v":157.44999999999999},{"$f":"IF(SUM(初期設定!$AK$3:$AK$502)=0,NA(),AVERAGEIF(初期設定!$AK$3:$AK$502,\"<>0\"))","v":245.85}]
[null,null,"第6回",null,"得点",null,{"$f":"IF(VLOOKUP($F$1,INDIRECT(\"テストデータ!$A$4:$CT$503\"),5*6+54,FALSE)=\"\",\"\",VLOOKUP($F$1,INDIRECT(\"テストデータ!$A$4:$CT$503\"),5*6+54,FALSE))","v":79},{"$f":"IF(VLOOKUP($F$1,INDIRECT(\"テストデータ!$A$4:$CT$503\"),5*6+55,FALSE)=\"\",\"\",VLOOKUP($F$1,INDIRECT(\"テストデータ!$A$4:$CT$503\"),5*6+55,FALSE))","v":79},{"$f":"IF(VLOOKUP($F$1,INDIRECT(\"テストデータ!$A$4:$CT$503\"),5*6+56,FALSE)=\"\",\"\",VLOOKUP($F$1,INDIRECT(\"テストデータ!$A$4:$CT$503\"),5*6+56,FALSE))","v":9},{"$f":"IF(VLOOKUP($F$1,INDIRECT(\"テストデータ!$A$4:$CT$503\"),5*6+57,FALSE)=\"\",\"\",VLOOKUP($F$1,INDIRECT(\"テストデータ!$A$4:$CT$503\"),5*6+57,FALSE))","v":9},{"$f":"IF(VLOOKUP($F$1,INDIRECT(\"テストデータ!$A$4:$CT$503\"),5*6+58,FALSE)=\"\",\"\",VLOOKUP($F$1,INDIRECT(\"テストデータ!$A$4:$CT$503\"),5*6+58,FALSE))","v":11},{"$f":"IF(SUM($G23:$I23)=0,NA(),SUM($G23:$I23))","v":167},{"$f":"IF(SUM($G23:$K23)=0,NA(),SUM($G23:$K23))","v":187}]
[null,null,null,null,"平均",null,{"$f":"AVERAGEA(OFFSET(テストデータ!$E$3,1,5*5+54):OFFSET(テストデータ!$E$3,500,5*5+54))","v":42.7},{"$f":"AVERAGEA(OFFSET(テストデータ!$E$3,1,5*5+55):OFFSET(テストデータ!$E$3,500,5*5+55))","v":44.315789473684212},{"$f":"AVERAGEA(OFFSET(テストデータ!$E$3,1,5*5+56):OFFSET(テストデータ!$E$3,500,5*5+56))","v":43.9},{"$f":"AVERAGEA(OFFSET(テストデータ!$E$3,1,5*5+57):OFFSET(テストデータ!$E$3,500,5*5+57))","v":43.9},{"$f":"AVERAGEA(OFFSET(テストデータ!$E$3,1,5*5+58):OFFSET(テストデータ!$E$3,500,5*5+58))","v":51.05},{"$f":"IF(SUM(初期設定!$AL$3:$AL$502)=0,NA(),AVERAGEIF(初期設定!$AL$3:$AL$502,\"<>0\"))","v":128.69999999999999},{"$f":"IF(SUM(初期設定!$AM$3:$AM$502)=0,NA(),AVERAGEIF(初期設定!$AM$3:$AM$502,\"<>0\"))","v":223.65}]
[null,null,"第7回",null,"得点",null,{"$f":"IF(VLOOKUP($F$1,INDIRECT(\"テストデータ!$A$4:$CT$503\"),5*7+54,FALSE)=\"\",\"\",VLOOKUP($F$1,INDIRECT(\"テストデータ!$A$4:$CT$503\"),5*7+54,FALSE))","v":""},{"$f":"IF(VLOOKUP($F$1,INDIRECT(\"テストデータ!$A$4:$CT$503\"),5*7+55,FALSE)=\"\",\"\",VLOOKUP($F$1,INDIRECT(\"テストデータ!$A$4:$CT$503\"),5*7+55,FALSE))","v":79},{"$f":"IF(VLOOKUP($F$1,INDIRECT(\"テストデータ!$A$4:$CT$503\"),5*7+56,FALSE)=\"\",\"\",VLOOKUP($F$1,INDIRECT(\"テストデータ!$A$4:$CT$503\"),5*7+56,FALSE))","v":""},{"$f":"IF(VLOOKUP($F$1,INDIRECT(\"テストデータ!$A$4:$CT$503\"),5*7+57,FALSE)=\"\",\"\",VLOOKUP($F$1,INDIRECT(\"テストデータ!$A$4:$CT$503\"),5*7+57,FALSE))","v":9},{"$f":"IF(VLOOKUP($F$1,INDIRECT(\"テストデータ!$A$4:$CT$503\"),5*7+58,FALSE)=\"\",\"\",VLOOKUP($F$1,INDIRECT(\"テストデータ!$A$4:$CT$503\"),5*7+58,FALSE))","v":""},{"$f":"IF(SUM($G25:$I25)=0,NA(),SUM($G25:$I25))","v":79},{"$f":"IF(SUM($G25:$K25)=0,NA(),SUM($G25:$K25))","v":88}]
[null,null,null,null,"平均",null,{"$f":"AVERAGEA(OFFSET(テストデータ!$E$3,1,5*6+54):OFFSET(テストデータ!$E$3,500,5*6+54))","v":64.315789473684205},{"$f":"AVERAGEA(OFFSET(テストデータ!$E$3,1,5*6+55):OFFSET(テストデータ!$E$3,500,5*6+55))","v":42.7},{"$f":"AVERAGEA(OFFSET(テストデータ!$E$3,1,5*6+56):OFFSET(テストデータ!$E$3,500,5*6+56))","v":59.05263157894737},{"$f":"AVERAGEA(OFFSET(テストデータ!$E$3,1,5*6+57):OFFSET(テストデータ!$E$3,500,5*6+57))","v":43.9},{"$f":"AVERAGEA(OFFSET(テストデータ!$E$3,1,5*6+58):OFFSET(テストデータ!$E$3,500,5*6+58))","v":48.210526315789473},{"$f":"IF(SUM(初期設定!$AN$3:$AN$502)=0,NA(),AVERAGEIF(初期設定!$AN$3:$AN$502,\"<>0\"))","v":159.9},{"$f":"IF(SUM(初期設定!$AO$3:$AO$502)=0,NA(),AVERAGEIF(初期設定!$AO$3:$AO$502,\"<>0\"))","v":249.6}]
[null,null,"第8回",null,"得点",null,{"$f":"IF(VLOOKUP($F$1,INDIRECT(\"テストデータ!$A$4:$CT$503\"),5*8+54,FALSE)=\"\",\"\",VLOOKUP($F$1,INDIRECT(\"テストデータ!$A$4:$CT$503\"),5*8+54,FALSE))","v":""},{"$f":"IF(VLOOKUP($F$1,INDIRECT(\"テストデータ!$A$4:$CT$503\"),5*8+55,FALSE)=\"\",\"\",VLOOKUP($F$1,INDIRECT(\"テストデータ!$A$4:$CT$503\"),5*8+55,FALSE))","v":""},{"$f":"IF(VLOOKUP($F$1,INDIRECT(\"テストデータ!$A$4:$CT$503\"),5*8+56,FALSE)=\"\",\"\",VLOOKUP($F$1,INDIRECT(\"テストデータ!$A$4:$CT$503\"),5*8+56,FALSE))","v":""},{"$f":"IF(VLOOKUP($F$1,INDIRECT(\"テストデータ!$A$4:$CT$503\"),5*8+57,FALSE)=\"\",\"\",VLOOKUP($F$1,INDIRECT(\"テストデータ!$A$4:$CT$503\"),5*8+57,FALSE))","v":""},{"$f":"IF(VLOOKUP($F$1,INDIRECT(\"テストデータ!$A$4:$CT$503\"),5*8+58,FALSE)=\"\",\"\",VLOOKUP($F$1,INDIRECT(\"テストデータ!$A$4:$CT$503\"),5*8+58,FALSE))","v":""},{"$f":"IF(SUM($G27:$I27)=0,NA(),SUM($G27:$I27))","v":{"$error":"#N/A"}},{"$f":"IF(SUM($G27:$K27)=0,NA(),SUM($G27:$K27))","v":{"$error":"#N/A"}}]
[null,null,null,null,"平均",null,{"$f":"AVERAGEA(OFFSET(テストデータ!$E$3,1,5*7+54):OFFSET(テストデータ!$E$3,500,5*7+54))","v":{"$error":"#DIV/0!"}},{"$f":"AVERAGEA(OFFSET(テストデータ!$E$3,1,5*7+55):OFFSET(テストデータ!$E$3,500,5*7+55))","v":{"$error":"#DIV/0!"}},{"$f":"AVERAGEA(OFFSET(テストデータ!$E$3,1,5*7+56):OFFSET(テストデータ!$E$3,500,5*7+56))","v":{"$error":"#DIV/0!"}},{"$f":"AVERAGEA(OFFSET(テストデータ!$E$3,1,5*7+57):OFFSET(テストデータ!$E$3,500,5*7+57))","v":{"$error":"#DIV/0!"}},{"$f":"AVERAGEA(OFFSET(テストデータ!$E$3,1,5*7+58):OFFSET(テストデータ!$E$3,500,5*7+58))","v":{"$error":"#DIV/0!"}},{"$f":"IF(SUM(初期設定!$AP$3:$AP$502)=0,NA(),AVERAGEIF(初期設定!$AP$3:$AP$502,\"<>0\"))","v":{"$error":"#N/A"}},{"$f":"IF(SUM(初期設定!$AQ$3:$AQ$502)=0,NA(),AVERAGEIF(初期設定!$AQ$3:$AQ$502,\"<>0\"))","v":{"$error":"#N/A"}}]

{"sheet":"定期テスト集計","index":3,"n_rows":505,"n_cols":9,"rows_kept":505,"cut":false,"hidden":false,"merged":[[2,1,2,2],[2,13,2,14],[5,7,5,8]]}
[]
[null,{"$f":"IF(初期設定!$C20=\"\",\"\",初期設定!$C20)","v":""}]
[null,"テスト名：",null,"1学期 期末テスト","科目：","5科目","クラス：","1"]
[]
[null,"class","No.","氏名","得点","順位",null,"平均点","233.8点"]
[null,"1","1","鈴木A男",316,{"$f":"IF(E6=\"\",\"\",RANK(E6,$E$6:$E$505))","v":2},null,"クラス別平均点"]
[null,"1","2","鈴木B男",38,{"$f":"IF(E7=\"\",\"\",RANK(E7,$E$6:$E$505))","v":6},null,"",""]
[null,"1","3","鈴木C男",256,3,null,"",""]
[null,"1",4,"鈴木D男",231,4,null,"",""]
[null,"1",5,"鈴木E男",332,1,null,"",""]
[null,"1",6,"鈴木F男",230,5,null,"",""]
[null,null,null,null,null,"",null,"",""]
[null,null,null,null,null,"",null,"",""]
[null,null,null,null,null,"",null,"",""]
[null,null,null,null,null,"",null,"",""]
[null,null,null,null,null,"",null,"",""]
[null,null,null,null,null,"",null,"",""]
[null,null,null,null,null,"",null,"",""]
[null,null,null,null,null,""]
[null,null,null,null,null,""]
[null,null,null,null,null,""]
[null,null,null,null,null,""]
[null,null,null,null,null,""]
[null,null,null,null,null,""]
[null,null,null,null,null,""]
[null,null,null,null,null,""]
[null,null,null,null,null,""]
[null,null,null,null,null,""]
[null,null,null,null,null,""]
[null,null,null,null,null,""]
[null,null,null,null,null,""]
[null,null,null,null,null,""]
[null,null,null,null,null,""]
[null,null,null,null,null,""]
[null,null,null,null,null,""]
[null,null,null,null,null,""]
[null,null,null,null,null,""]
[null,null,null,null,null,""]
[null,null,null,null,null,""]
[null,null,null,null,null,""]
[null,null,null,null,null,""]
[null,null,null,null,null,""]
[null,null,null,null,null,""]
[null,null,null,null,null,""]
[null,null,null,null,null,""]
[null,null,null,null,null,""]
[null,null,null,null,null,""]
[null,null,null,null,null,""]
[null,null,null,null,null,""]
[null,null,null,null,null,""]
[null,null,null,null,null,""]
[null,null,null,null,null,""]
[null,null,null,null,null,""]
[null,null,null,null,null,""]
[null,null,null,null,null,""]
[null,null,null,null,null,""]
[null,null,null,null,null,""]
[null,null,null,null,null,""]
[null,null,null,null,null,""]
[null,null,null,null,null,""]
[null,null,null,null,null,""]
[null,null,null,null,null,""]
[null,null,null,null,null,""]
[null,null,null,null,null,""]
[null,null,null,null,null,""]
[null,null,null,null,null,""]
[null,null,null,null,null,""]
[null,null,null,null,null,""]
[null,null,null,null,null,""]
[null,null,null,null,null,""]
[null,null,null,null,null,{"$f":"IF(E71=\"\",\"\",RANK(E71,$E$6:$E$505))","v":""}]
[null,null,null,null,null,""]
[null,null,null,null,null,""]
[null,null,null,null,null,""]
[null,null,null,null,null,""]
[null,null,null,null,null,""]
[null,null,null,null,null,""]
[null,null,null,null,null,""]
[null,null,null,null,null,""]
[null,null,null,null,null,""]
[null,null,null,null,null,""]
[null,null,null,null,null,""]
[null,null,null,null,null,""]
[null,null,null,null,null,""]
[null,null,null,null,null,""]
[null,null,null,null,null,""]
[null,null,null,null,null,""]
[null,null,null,null,null,""]
[null,null,null,null,null,""]
[null,null,null,null,null,""]
[null,null,null,null,null,""]
[null,null,null,null,null,""]
[null,null,null,null,null,""]
[null,null,null,null,null,""]
[null,null,null,null,null,""]
[null,null,null,null,null,""]
[null,null,null,null,null,""]
[null,null,null,null,null,""]
[null,null,null,null,null,""]
[null,null,null,null,null,""]
[null,null,null,null,null,""]
[null,null,null,null,null,""]
[null,null,null,null,null,""]
[null,null,null,null,null,""]
[null,null,null,null,null,""]
[null,null,null,null,null,""]
[null,null,null,null,null,""]
[null,null,null,null,null,""]
[null,null,null,null,null,""]
[null,null,null,null,null,""]
[null,null,null,null,null,""]
[null,null,null,null,null,""]
[null,null,null,null,null,""]
[null,null,null,null,null,""]
[null,null,null,null,null,""]
[null,null,null,null,null,""]
[null,null,null,null,null,""]
[null,null,null,null,null,""]
[null,null,null,null,null,""]
[null,null,null,null,null,""]
[null,null,null,null,null,""]
[null,null,null,null,null,""]
[null,null,null,null,null,""]
[null,null,null,null,null,""]
[null,null,null,null,null,""]
[null,null,null,null,null,""]
[null,null,null,null,null,""]
[null,null,null,null,null,""]
[null,null,null,null,null,""]
[null,null,null,null,null,""]
[null,null,null,null,null,""]
[null,null,null,null,null,""]
[null,null,null,null,null,""]
[null,null,null,null,null,""]
[null,null,null,null,null,{"$f":"IF(E135=\"\",\"\",RANK(E135,$E$6:$E$505))","v":""}]
[null,null,null,null,null,""]
[null,null,null,null,null,""]
[null,null,null,null,null,""]
[null,null,null,null,null,""]
[null,null,null,null,null,""]
[null,null,null,null,null,""]
[null,null,null,null,null,""]
[null,null,null,null,null,""]
[null,null,null,null,null,""]
[null,null,null,null,null,""]
[null,null,null,null,null,""]
[null,null,null,null,null,""]
[null,null,null,null,null,""]
[null,null,null,null,null,""]
[null,null,null,null,null,""]
[null,null,null,null,null,""]
[null,null,null,null,null,""]
[null,null,null,null,null,""]
[null,null,null,null,null,""]
[null,null,null,null,null,""]
[null,null,null,null,null,""]
[null,null,null,null,null,""]
[null,null,null,null,null,""]
[null,null,null,null,null,""]
[null,null,null,null,null,""]
[null,null,null,null,null,""]
[null,null,null,null,null,""]
[null,null,null,null,null,""]
[null,null,null,null,null,""]
[null,null,null,null,null,""]
[null,null,null,null,null,""]
[null,null,null,null,null,""]
[null,null,null,null,null,""]
[null,null,null,null,null,""]
[null,null,null,null,null,""]
[null,null,null,null,null,""]
[null,null,null,null,null,""]
[null,null,null,null,null,""]
[null,null,null,null,null,""]
[null,null,null,null,null,""]
[null,null,null,null,null,""]
[null,null,null,null,null,""]
[null,null,null,null,null,""]
[null,null,null,null,null,""]
[null,null,null,null,null,""]
[null,null,null,null,null,""]
[null,null,null,null,null,""]
[null,null,null,null,null,""]
[null,null,null,null,null,""]
[null,null,null,null,null,""]
[null,null,null,null,null,""]
[null,null,null,null,null,""]
[null,null,null,null,null,""]
[null,null,null,null,null,""]
[null,null,null,null,null,""]
[null,null,null,null,null,""]
[null,null,null,null,null,""]
[null,null,null,null,null,""]
[null,null,null,null,null,""]
[null,null,null,null,null,""]
[null,null,null,null,null,""]
[null,null,null,null,null,""]
[null,null,null,null,null,""]
[null,null,null,null,null,{"$f":"IF(E199=\"\",\"\",RANK(E199,$E$6:$E$505))","v":""}]
[null,null,null,null,null,""]
[null,null,null,null,null,""]
[null,null,null,null,null,""]
[null,null,null,null,null,""]
[null,null,null,null,null,""]
[null,null,null,null,null,""]
[null,null,null,null,null,""]
[null,null,null,null,null,""]
[null,null,null,null,null,""]
[null,null,null,null,null,""]
[null,null,null,null,null,""]
[null,null,null,null,null,""]
[null,null,null,null,null,""]
[null,null,null,null,null,""]
[null,null,null,null,null,""]
[null,null,null,null,null,""]
[null,null,null,null,null,""]
[null,null,null,null,null,""]
[null,null,null,null,null,""]
[null,null,null,null,null,""]
[null,null,null,null,null,""]
[null,null,null,null,null,""]
[null,null,null,null,null,""]
[null,null,null,null,null,""]
[null,null,null,null,null,""]
[null,null,null,null,null,""]
[null,null,null,null,null,""]
[null,null,null,null,null,""]
[null,null,null,null,null,""]
[null,null,null,null,null,""]
[null,null,null,null,null,""]
[null,null,null,null,null,""]
[null,null,null,null,null,""]
[null,null,null,null,null,""]
[null,null,null,null,null,""]
[null,null,null,null,null,""]
[null,null,null,null,null,""]
[null,null,null,null,null,""]
[null,null,null,null,null,""]
[null,null,null,null,null,""]
[null,null,null,null,null,""]
[null,null,null,null,null,""]
[null,null,null,null,null,""]
[null,null,null,null,null,""]
[null,null,null,null,null,""]
[null,null,null,null,null,""]
[null,null,null,null,null,""]
[null,null,null,null,null,""]
[null,null,null,null,null,""]
[null,null,null,null,null,""]
[null,null,null,null,null,""]
[null,null,null,null,null,""]
[null,null,null,null,null,""]
[null,null,null,null,null,""]
[null,null,null,null,null,""]
[null,null,null,null,null,""]
[null,null,null,null,null,""]
[null,null,null,null,null,""]
[null,null,null,null,null,""]
[null,null,null,null,null,""]
[null,null,null,null,null,""]
[null,null,null,null,null,""]
[null,null,null,null,null,""]
[null,null,null,null,null,{"$f":"IF(E263=\"\",\"\",RANK(E263,$E$6:$E$505))","v":""}]
[null,null,null,null,null,""]
[null,null,null,null,null,""]
[null,null,null,null,null,""]
[null,null,null,null,null,""]
[null,null,null,null,null,""]
[null,null,null,null,null,""]
[null,null,null,null,null,""]
[null,null,null,null,null,""]
[null,null,null,null,null,""]
[null,null,null,null,null,""]
[null,null,null,null,null,""]
[null,null,null,null,null,""]
[null,null,null,null,null,""]
[null,null,null,null,null,""]
[null,null,null,null,null,""]
[null,null,null,null,null,""]
[null,null,null,null,null,""]
[null,null,null,null,null,""]
[null,null,null,null,null,""]
[null,null,null,null,null,""]
[null,null,null,null,null,""]
[null,null,null,null,null,""]
[null,null,null,null,null,""]
[null,null,null,null,null,""]
[null,null,null,null,null,""]
[null,null,null,null,null,""]
[null,null,null,null,null,""]
[null,null,null,null,null,""]
[null,null,null,null,null,""]
[null,null,null,null,null,""]
[null,null,null,null,null,""]
[null,null,null,null,null,""]
[null,null,null,null,null,""]
[null,null,null,null,null,""]
[null,null,null,null,null,""]
[null,null,null,null,null,""]
[null,null,null,null,null,""]
[null,null,null,null,null,""]
[null,null,null,null,null,""]
[null,null,null,null,null,""]
[null,null,null,null,null,""]
[null,null,null,null,null,""]
[null,null,null,null,null,""]
[null,null,null,null,null,""]
[null,null,null,null,null,""]
[null,null,null,null,null,""]
[null,null,null,null,null,""]
[null,null,null,null,null,""]
[null,null,null,null,null,""]
[null,null,null,null,null,""]
[null,null,null,null,null,""]
[null,null,null,null,null,""]
[null,null,null,null,null,""]
[null,null,null,null,null,""]
[null,null,null,null,null,""]
[null,null,null,null,null,""]
[null,null,null,null,null,""]
[null,null,null,null,null,""]
[null,null,null,null,null,""]
[null,null,null,null,null,""]
[null,null,null,null,null,""]
[null,null,null,null,null,""]
[null,null,null,null,null,""]
[null,null,null,null,null,{"$f":"IF(E327=\"\",\"\",RANK(E327,$E$6:$E$505))","v":""}]
[null,null,null,null,null,""]
[null,null,null,null,null,""]
[null,null,null,null,null,""]
[null,null,null,null,null,""]
[null,null,null,null,null,""]
[null,null,null,null,null,""]
[null,null,null,null,null,""]
[null,null,null,null,null,""]
[null,null,null,null,null,""]
[null,null,null,null,null,""]
[null,null,null,null,null,""]
[null,null,null,null,null,""]
[null,null,null,null,null,""]
[null,null,null,null,null,""]
[null,null,null,null,null,""]
[null,null,null,null,null,""]
[null,null,null,null,null,""]
[null,null,null,null,null,""]
[null,null,null,null,null,""]
[null,null,null,null,null,""]
[null,null,null,null,null,""]
[null,null,null,null,null,""]
[null,null,null,null,null,""]
[null,null,null,null,null,""]
[null,null,null,null,null,""]
[null,null,null,null,null,""]
[null,null,null,null,null,""]
[null,null,null,null,null,""]
[null,null,null,null,null,""]
[null,null,null,null,null,""]
[null,null,null,null,null,""]
[null,null,null,null,null,""]
[null,null,null,null,null,""]
[null,null,null,null,null,""]
[null,null,null,null,null,""]
[null,null,null,null,null,""]
[null,null,null,null,null,""]
[null,null,null,null,null,""]
[null,null,null,null,null,""]
[null,null,null,null,null,""]
[null,null,null,null,null,""]
[null,null,null,null,null,""]
[null,null,null,null,null,""]
[null,null,null,null,null,""]
[null,null,null,null,null,""]
[null,null,null,null,null,""]
[null,null,null,null,null,""]
[null,null,null,null,null,""]
[null,null,null,null,null,""]
[null,null,null,null,null,""]
[null,null,null,null,null,""]
[null,null,null,null,null,""]
[null,null,null,null,null,""]
[null,null,null,null,null,""]
[null,null,null,null,null,""]
[null,null,null,null,null,""]
[null,null,null,null,null,""]
[null,null,null,null,null,""]
[null,null,null,null,null,""]
[null,null,null,null,null,""]
[null,null,null,null,null,""]
[null,null,null,null,null,""]
[null,null,null,null,null,""]
[null,null,null,null,null,{"$f":"IF(E391=\"\",\"\",RANK(E391,$E$6:$E$505))","v":""}]
[null,null,null,null,null,""]
[null,null,null,null,null,""]
[null,null,null,null,null,""]
[null,null,null,null,null,""]
[null,null,null,null,null,""]
[null,null,null,null,null,""]
[null,null,null,null,null,""]
[null,null,null,null,null,""]
[null,null,null,null,null,""]
[null,null,null,null,null,""]
[null,null,null,null,null,""]
[null,null,null,null,null,""]
[null,null,null,null,null,""]
[null,null,null,null,null,""]
[null,null,null,null,null,""]
[null,null,null,null,null,""]
[null,null,null,null,null,""]
[null,null,null,null,null,""]
[null,null,null,null,null,""]
[null,null,null,null,null,""]
[null,null,null,null,null,""]
[null,null,null,null,null,""]
[null,null,null,null,null,""]
[null,null,null,null,null,""]
[null,null,null,null,null,""]
[null,null,null,null,null,""]
[null,null,null,null,null,""]
[null,null,null,null,null,""]
[null,null,null,null,null,""]
[null,null,null,null,null,""]
[null,null,null,null,null,""]
[null,null,null,null,null,""]
[null,null,null,null,null,""]
[null,null,null,null,null,""]
[null,null,null,null,null,""]
[null,null,null,null,null,""]
[null,null,null,null,null,""]
[null,null,null,null,null,""]
[null,null,null,null,null,""]
[null,null,null,null,null,""]
[null,null,null,null,null,""]
[null,null,null,null,null,""]
[null,null,null,null,null,""]
[null,null,null,null,null,""]
[null,null,null,null,null,""]
[null,null,null,null,null,""]
[null,null,null,null,null,""]
[null,null,null,null,null,""]
[null,null,null,null,null,""]
[null,null,null,null,null,""]
[null,null,null,null,null,""]
[null,null,null,null,null,""]
[null,null,null,null,null,""]
[null,null,null,null,null,""]
[null,null,null,null,null,""]
[null,null,null,null,null,""]
[null,null,null,null,null,""]
[null,null,null,null,null,""]
[null,null,null,null,null,""]
[null,null,null,null,null,""]
[null,null,null,null,null,""]
[null,null,null,null,null,""]
[null,null,null,null,null,""]
[null,null,null,null,null,{"$f":"IF(E455=\"\",\"\",RANK(E455,$E$6:$E$505))","v":""}]
[null,null,null,null,null,""]
[null,null,null,null,null,""]
[null,null,null,null,null,""]
[null,null,null,null,null,""]
[null,null,null,null,null,""]
[null,null,null,null,null,""]
[null,null,null,null,null,""]
[null,null,null,null,null,""]
[null,null,null,null,null,""]
[null,null,null,null,null,""]
[null,null,null,null,null,""]
[null,null,null,null,null,""]
[null,null,null,null,null,""]
[null,null,null,null,null,""]
[null,null,null,null,null,""]
[null,null,null,null,null,""]
[null,null,null,null,null,""]
[null,null,null,null,null,""]
[null,null,null,null,null,""]
[null,null,null,null,null,""]
[null,null,null,null,null,""]
[null,null,null,null,null,""]
[null,null,null,null,null,""]
[null,null,null,null,null,""]
[null,null,null,null,null,""]
[null,null,null,null,null,""]
[null,null,null,null,null,""]
[null,null,null,null,null,""]
[null,null,null,null,null,""]
[null,null,null,null,null,""]
[null,null,null,null,null,""]
[null,null,null,null,null,""]
[null,null,null,null,null,""]
[null,null,null,null,null,""]
[null,null,null,null,null,""]
[null,null,null,null,null,""]
[null,null,null,null,null,""]
[null,null,null,null,null,""]
[null,null,null,null,null,""]
[null,null,null,null,null,""]
[null,null,null,null,null,""]
[null,null,null,null,null,""]
[null,null,null,null,null,""]
[null,null,null,null,null,""]
[null,null,null,null,null,""]
[null,null,null,null,null,""]
[null,null,null,null,null,""]
[null,null,null,null,null,""]
[null,null,null,null,null,""]
[null,null,null,null,null,""]

{"sheet":"実力テスト集計","index":4,"n_rows":505,"n_cols":9,"rows_kept":505,"cut":false,"hidden":false,"merged":[[2,13,2,14],[2,1,2,2],[5,7,5,8],[1,1,1,3]]}
[]
[null,{"$f":"IF(初期設定!C21=\"\",\"\",初期設定!C21)","v":"校内実力テスト"}]
[null,"実施：",null,"第1回","科目：","国語","クラス：","全クラス"]
[]
[null,"class","No.","氏名","得点","順位",null,"平均点：","47.5点"]
[null,"1","1","鈴木A男",92,{"$f":"IF(E6=\"\",\"\",RANK(E6,$E$6:$E$505))","v":1},null,"クラス別平均点"]
[null,"1","2","鈴木B男",91,{"$f":"IF(E7=\"\",\"\",RANK(E7,$E$6:$E$505))","v":2},null,"1：","56.8点"]
[null,"1","3","鈴木C男",69,5,null,"2：","42点"]
[null,"1",4,"鈴木D男",46,9,null,"3：","44.3点"]
[null,"1",5,"鈴木E男",12,19,null,"",""]
[null,"1",6,"鈴木F男",31,11,null,"",""]
[null,"2",1,"鈴木G男",26,15,null,"",""]
[null,"2",2,"鈴木H男",21,18,null,"",""]
[null,"2",3,"鈴木I男",64,6,null,"",""]
[null,"2",4,"鈴木J男",23,16,null,"",""]
[null,"2",5,"鈴木K男",85,3,null,"",""]
[null,"2",6,"鈴木L男",33,10,null,"",""]
[null,"3",1,"鈴木M男",30,12,null,"",""]
[null,"3",2,"鈴木N男",57,8]
[null,"3",3,"鈴木O男",30,12]
[null,"3",4,"鈴木P男",84,4]
[null,"3",5,"鈴木Q男",59,7]
[null,"3",6,"鈴木R男",null,""]
[null,"3",7,"鈴木S男",27,14]
[null,"3",8,"鈴木T男",23,16]
[]
[null,null,null,null,null,""]
[null,null,null,null,null,""]
[null,null,null,null,null,""]
[null,null,null,null,null,""]
[null,null,null,null,null,""]
[null,null,null,null,null,""]
[null,null,null,null,null,""]
[null,null,null,null,null,""]
[null,null,null,null,null,""]
[null,null,null,null,null,""]
[null,null,null,null,null,""]
[null,null,null,null,null,""]
[null,null,null,null,null,""]
[null,null,null,null,null,""]
[null,null,null,null,null,""]
[null,null,null,null,null,""]
[null,null,null,null,null,""]
[null,null,null,null,null,""]
[null,null,null,null,null,""]
[null,null,null,null,null,""]
[null,null,null,null,null,""]
[null,null,null,null,null,""]
[null,null,null,null,null,""]
[null,null,null,null,null,""]
[null,null,null,null,null,""]
[null,null,null,null,null,""]
[null,null,null,null,null,""]
[null,null,null,null,null,""]
[null,null,null,null,null,""]
[null,null,null,null,null,""]
[null,null,null,null,null,""]
[null,null,null,null,null,""]
[null,null,null,null,null,""]
[null,null,null,null,null,""]
[null,null,null,null,null,""]
[null,null,null,null,null,""]
[null,null,null,null,null,""]
[null,null,null,null,null,""]
[null,null,null,null,null,""]
[null,null,null,null,null,""]
[null,null,null,null,null,""]
[null,null,null,null,null,""]
[null,null,null,null,null,""]
[null,null,null,null,null,""]
[null,null,null,null,null,{"$f":"IF(E71=\"\",\"\",RANK(E71,$E$6:$E$505))","v":""}]
[null,null,null,null,null,""]
[null,null,null,null,null,""]
[null,null,null,null,null,""]
[null,null,null,null,null,""]
[null,null,null,null,null,""]
[null,null,null,null,null,""]
[null,null,null,null,null,""]
[null,null,null,null,null,""]
[null,null,null,null,null,""]
[null,null,null,null,null,""]
[null,null,null,null,null,""]
[null,null,null,null,null,""]
[null,null,null,null,null,""]
[null,null,null,null,null,""]
[null,null,null,null,null,""]
[null,null,null,null,null,""]
[null,null,null,null,null,""]
[null,null,null,null,null,""]
[null,null,null,null,null,""]
[null,null,null,null,null,""]
[null,null,null,null,null,""]
[null,null,null,null,null,""]
[null,null,null,null,null,""]
[null,null,null,null,null,""]
[null,null,null,null,null,""]
[null,null,null,null,null,""]
[null,null,null,null,null,""]
[null,null,null,null,null,""]
[null,null,null,null,null,""]
[null,null,null,null,null,""]
[null,null,null,null,null,""]
[null,null,null,null,null,""]
[null,null,null,null,null,""]
[null,null,null,null,null,""]
[null,null,null,null,null,""]
[null,null,null,null,null,""]
[null,null,null,null,null,""]
[null,null,null,null,null,""]
[null,null,null,null,null,""]
[null,null,null,null,null,""]
[null,null,null,null,null,""]
[null,null,null,null,null,""]
[null,null,null,null,null,""]
[null,null,null,null,null,""]
[null,null,null,null,null,""]
[null,null,null,null,null,""]
[null,null,null,null,null,""]
[null,null,null,null,null,""]
[null,null,null,null,null,""]
[null,null,null,null,null,""]
[null,null,null,null,null,""]
[null,null,null,null,null,""]
[null,null,null,null,null,""]
[null,null,null,null,null,""]
[null,null,null,null,null,""]
[null,null,null,null,null,""]
[null,null,null,null,null,""]
[null,null,null,null,null,""]
[null,null,null,null,null,""]
[null,null,null,null,null,""]
[null,null,null,null,null,""]
[null,null,null,null,null,""]
[null,null,null,null,null,""]
[null,null,null,null,null,{"$f":"IF(E135=\"\",\"\",RANK(E135,$E$6:$E$505))","v":""}]
[null,null,null,null,null,""]
[null,null,null,null,null,""]
[null,null,null,null,null,""]
[null,null,null,null,null,""]
[null,null,null,null,null,""]
[null,null,null,null,null,""]
[null,null,null,null,null,""]
[null,null,null,null,null,""]
[null,null,null,null,null,""]
[null,null,null,null,null,""]
[null,null,null,null,null,""]
[null,null,null,null,null,""]
[null,null,null,null,null,""]
[null,null,null,null,null,""]
[null,null,null,null,null,""]
[null,null,null,null,null,""]
[null,null,null,null,null,""]
[null,null,null,null,null,""]
[null,null,null,null,null,""]
[null,null,null,null,null,""]
[null,null,null,null,null,""]
[null,null,null,null,null,""]
[null,null,null,null,null,""]
[null,null,null,null,null,""]
[null,null,null,null,null,""]
[null,null,null,null,null,""]
[null,null,null,null,null,""]
[null,null,null,null,null,""]
[null,null,null,null,null,""]
[null,null,null,null,null,""]
[null,null,null,null,null,""]
[null,null,null,null,null,""]
[null,null,null,null,null,""]
[null,null,null,null,null,""]
[null,null,null,null,null,""]
[null,null,null,null,null,""]
[null,null,null,null,null,""]
[null,null,null,null,null,""]
[null,null,null,null,null,""]
[null,null,null,null,null,""]
[null,null,null,null,null,""]
[null,null,null,null,null,""]
[null,null,null,null,null,""]
[null,null,null,null,null,""]
[null,null,null,null,null,""]
[null,null,null,null,null,""]
[null,null,null,null,null,""]
[null,null,null,null,null,""]
[null,null,null,null,null,""]
[null,null,null,null,null,""]
[null,null,null,null,null,""]
[null,null,null,null,null,""]
[null,null,null,null,null,""]
[null,null,null,null,null,""]
[null,null,null,null,null,""]
[null,null,null,null,null,""]
[null,null,null,null,null,""]
[null,null,null,null,null,""]
[null,null,null,null,null,""]
[null,null,null,null,null,""]
[null,null,null,null,null,""]
[null,null,null,null,null,""]
[null,null,null,null,null,""]
[null,null,null,null,null,{"$f":"IF(E199=\"\",\"\",RANK(E199,$E$6:$E$505))","v":""}]
[null,null,null,null,null,""]
[null,null,null,null,null,""]
[null,null,null,null,null,""]
[null,null,null,null,null,""]
[null,null,null,null,null,""]
[null,null,null,null,null,""]
[null,null,null,null,null,""]
[null,null,null,null,null,""]
[null,null,null,null,null,""]
[null,null,null,null,null,""]
[null,null,null,null,null,""]
[null,null,null,null,null,""]
[null,null,null,null,null,""]
[null,null,null,null,null,""]
[null,null,null,null,null,""]
[null,null,null,null,null,""]
[null,null,null,null,null,""]
[null,null,null,null,null,""]
[null,null,null,null,null,""]
[null,null,null,null,null,""]
[null,null,null,null,null,""]
[null,null,null,null,null,""]
[null,null,null,null,null,""]
[null,null,null,null,null,""]
[null,null,null,null,null,""]
[null,null,null,null,null,""]
[null,null,null,null,null,""]
[null,null,null,null,null,""]
[null,null,null,null,null,""]
[null,null,null,null,null,""]
[null,null,null,null,null,""]
[null,null,null,null,null,""]
[null,null,null,null,null,""]
[null,null,null,null,null,""]
[null,null,null,null,null,""]
[null,null,null,null,null,""]
[null,null,null,null,null,""]
[null,null,null,null,null,""]
[null,null,null,null,null,""]
[null,null,null,null,null,""]
[null,null,null,null,null,""]
[null,null,null,null,null,""]
[null,null,null,null,null,""]
[null,null,null,null,null,""]
[null,null,null,null,null,""]
[null,null,null,null,null,""]
[null,null,null,null,null,""]
[null,null,null,null,null,""]
[null,null,null,null,null,""]
[null,null,null,null,null,""]
[null,null,null,null,null,""]
[null,null,null,null,null,""]
[null,null,null,null,null,""]
[null,null,null,null,null,""]
[null,null,null,null,null,""]
[null,null,null,null,null,""]
[null,null,null,null,null,""]
[null,null,null,null,null,""]
[null,null,null,null,null,""]
[null,null,null,null,null,""]
[null,null,null,null,null,""]
[null,null,null,null,null,""]
[null,null,null,null,null,""]
[null,null,null,null,null,{"$f":"IF(E263=\"\",\"\",RANK(E263,$E$6:$E$505))","v":""}]
[null,null,null,null,null,""]
[null,null,null,null,null,""]
[null,null,null,null,null,""]
[null,null,null,null,null,""]
[null,null,null,null,null,""]
[null,null,null,null,null,""]
[null,null,null,null,null,""]
[null,null,null,null,null,""]
[null,null,null,null,null,""]
[null,null,null,null,null,""]
[null,null,null,null,null,""]
[null,null,null,null,null,""]
[null,null,null,null,null,""]
[null,null,null,null,null,""]
[null,null,null,null,null,""]
[null,null,null,null,null,""]
[null,null,null,null,null,""]
[null,null,null,null,null,""]
[null,null,null,null,null,""]
[null,null,null,null,null,""]
[null,null,null,null,null,""]
[null,null,null,null,null,""]
[null,null,null,null,null,""]
[null,null,null,null,null,""]
[null,null,null,null,null,""]
[null,null,null,null,null,""]
[null,null,null,null,null,""]
[null,null,null,null,null,""]
[null,null,null,null,null,""]
[null,null,null,null,null,""]
[null,null,null,null,null,""]
[null,null,null,null,null,""]
[null,null,null,null,null,""]
[null,null,null,null,null,""]
[null,null,null,null,null,""]
[null,null,null,null,null,""]
[null,null,null,null,null,""]
[null,null,null,null,null,""]
[null,null,null,null,null,""]
[null,null,null,null,null,""]
[null,null,null,null,null,""]
[null,null,null,null,null,""]
[null,null,null,null,null,""]
[null,null,null,null,null,""]
[null,null,null,null,null,""]
[null,null,null,null,null,""]
[null,null,null,null,null,""]
[null,null,null,null,null,""]
[null,null,null,null,null,""]
[null,null,null,null,null,""]
[null,null,null,null,null,""]
[null,null,null,null,null,""]
[null,null,null,null,null,""]
[null,null,null,null,null,""]
[null,null,null,null,null,""]
[null,null,null,null,null,""]
[null,null,null,null,null,""]
[null,null,null,null,null,""]
[null,null,null,null,null,""]
[null,null,null,null,null,""]
[null,null,null,null,null,""]
[null,null,null,null,null,""]
[null,null,null,null,null,""]
[null,null,null,null,null,{"$f":"IF(E327=\"\",\"\",RANK(E327,$E$6:$E$505))","v":""}]
[null,null,null,null,null,""]
[null,null,null,null,null,""]
[null,null,null,null,null,""]
[null,null,null,null,null,""]
[null,null,null,null,null,""]
[null,null,null,null,null,""]
[null,null,null,null,null,""]
[null,null,null,null,null,""]
[null,null,null,null,null,""]
[null,null,null,null,null,""]
[null,null,null,null,null,""]
[null,null,null,null,null,""]
[null,null,null,null,null,""]
[null,null,null,null,null,""]
[null,null,null,null,null,""]
[null,null,null,null,null,""]
[null,null,null,null,null,""]
[null,null,null,null,null,""]
[null,null,null,null,null,""]
[null,null,null,null,null,""]
[null,null,null,null,null,""]
[null,null,null,null,null,""]
[null,null,null,null,null,""]
[null,null,null,null,null,""]
[null,null,null,null,null,""]
[null,null,null,null,null,""]
[null,null,null,null,null,""]
[null,null,null,null,null,""]
[null,null,null,null,null,""]
[null,null,null,null,null,""]
[null,null,null,null,null,""]
[null,null,null,null,null,""]
[null,null,null,null,null,""]
[null,null,null,null,null,""]
[null,null,null,null,null,""]
[null,null,null,null,null,""]
[null,null,null,null,null,""]
[null,null,null,null,null,""]
[null,null,null,null,null,""]
[null,null,null,null,null,""]
[null,null,null,null,null,""]
[null,null,null,null,null,""]
[null,null,null,null,null,""]
[null,null,null,null,null,""]
[null,null,null,null,null,""]
[null,null,null,null,null,""]
[null,null,null,null,null,""]
[null,null,null,null,null,""]
[null,null,null,null,null,""]
[null,null,null,null,null,""]
[null,null,null,null,null,""]
[null,null,null,null,null,""]
[null,null,null,null,null,""]
[null,null,null,null,null,""]
[null,null,null,null,null,""]
[null,null,null,null,null,""]
[null,null,null,null,null,""]
[null,null,null,null,null,""]
[null,null,null,null,null,""]
[null,null,null,null,null,""]
[null,null,null,null,null,""]
[null,null,null,null,null,""]
[null,null,null,null,null,""]
[null,null,null,null,null,{"$f":"IF(E391=\"\",\"\",RANK(E391,$E$6:$E$505))","v":""}]
[null,null,null,null,null,""]
[null,null,null,null,null,""]
[null,null,null,null,null,""]
[null,null,null,null,null,""]
[null,null,null,null,null,""]
[null,null,null,null,null,""]
[null,null,null,null,null,""]
[null,null,null,null,null,""]
[null,null,null,null,null,""]
[null,null,null,null,null,""]
[null,null,null,null,null,""]
[null,null,null,null,null,""]
[null,null,null,null,null,""]
[null,null,null,null,null,""]
[null,null,null,null,null,""]
[null,null,null,null,null,""]
[null,null,null,null,null,""]
[null,null,null,null,null,""]
[null,null,null,null,null,""]
[null,null,null,null,null,""]
[null,null,null,null,null,""]
[null,null,null,null,null,""]
[null,null,null,null,null,""]
[null,null,null,null,null,""]
[null,null,null,null,null,""]
[null,null,null,null,null,""]
[null,null,null,null,null,""]
[null,null,null,null,null,""]
[null,null,null,null,null,""]
[null,null,null,null,null,""]
[null,null,null,null,null,""]
[null,null,null,null,null,""]
[null,null,null,null,null,""]
[null,null,null,null,null,""]
[null,null,null,null,null,""]
[null,null,null,null,null,""]
[null,null,null,null,null,""]
[null,null,null,null,null,""]
[null,null,null,null,null,""]
[null,null,null,null,null,""]
[null,null,null,null,null,""]
[null,null,null,null,null,""]
[null,null,null,null,null,""]
[null,null,null,null,null,""]
[null,null,null,null,null,""]
[null,null,null,null,null,""]
[null,null,null,null,null,""]
[null,null,null,null,null,""]
[null,null,null,null,null,""]
[null,null,null,null,null,""]
[null,null,null,null,null,""]
[null,null,null,null,null,""]
[null,null,null,null,null,""]
[null,null,null,null,null,""]
[null,null,null,null,null,""]
[null,null,null,null,null,""]
[null,null,null,null,null,""]
[null,null,null,null,null,""]
[null,null,null,null,null,""]
[null,null,null,null,null,""]
[null,null,null,null,null,""]
[null,null,null,null,null,""]
[null,null,null,null,null,""]
[null,null,null,null,null,{"$f":"IF(E455=\"\",\"\",RANK(E455,$E$6:$E$505))","v":""}]
[null,null,null,null,null,""]
[null,null,null,null,null,""]
[null,null,null,null,null,""]
[null,null,null,null,null,""]
[null,null,null,null,null,""]
[null,null,null,null,null,""]
[null,null,null,null,null,""]
[null,null,null,null,null,""]
[null,null,null,null,null,""]
[null,null,null,null,null,""]
[null,null,null,null,null,""]
[null,null,null,null,null,""]
[null,null,null,null,null,""]
[null,null,null,null,null,""]
[null,null,null,null,null,""]
[null,null,null,null,null,""]
[null,null,null,null,null,""]
[null,null,null,null,null,""]
[null,null,null,null,null,""]
[null,null,null,null,null,""]
[null,null,null,null,null,""]
[null,null,null,null,null,""]
[null,null,null,null,null,""]
[null,null,null,null,null,""]
[null,null,null,null,null,""]
[null,null,null,null,null,""]
[null,null,null,null,null,""]
[null,null,null,null,null,""]
[null,null,null,null,null,""]
[null,null,null,null,null,""]
[null,null,null,null,null,""]
[null,null,null,null,null,""]
[null,null,null,null,null,""]
[null,null,null,null,null,""]
[null,null,null,null,null,""]
[null,null,null,null,null,""]
[null,null,null,null,null,""]
[null,null,null,null,null,""]
[null,null,null,null,null,""]
[null,null,null,null,null,""]
[null,null,null,null,null,""]
[null,null,null,null,null,""]
[null,null,null,null,null,""]
[null,null,null,null,null,""]
[null,null,null,null,null,""]
[null,null,null,null,null,""]
[null,null,null,null,null,""]
[null,null,null,null,null,""]
[null,null,null,null,null,""]
[null,null,null,null,null,""]

{"sheet":"連続印刷","index":5,"n_rows":18,"n_cols":11,"rows_kept":18,"cut":false,"hidden":false,"merged":[[7,4,7,6],[3,8,3,9],[3,4,3,7]]}
[]
["ID","class/No","氏名",null,"●名簿の表示"]
[1,"1/1","鈴木A男"]
[2,"1/2","鈴木B男",null,"印刷するclass：",null,null,null,"1",null,"→"]
[3,"1/3","鈴木C男"]
[4,"1/4","鈴木D男",null,"●範囲指定印刷"]
[5,"1/5","鈴木E男"]
[6,"1/6","鈴木F男",null,"成績表1",null,null,"を印刷する"]
[null,null,null,null,"from",null,"to"]
[null,null,null,null,null,"～",null,"→"]
[null,null,null,null,"↑",null,"↑"]
[null,null,null,null,"ID番号を指定してください(半角)"]
[]
[null,null,null,null,"●番号指定印刷"]
[]
[null,null,null,null,null,null,null,null,null,"→"]
[null,null,null,null,"↑","↑","↑","↑","↑"]
[null,null,null,null,"ID番号を指定してください(半角)"]

{"sheet":"初期設定","index":6,"n_rows":502,"n_cols":43,"rows_kept":502,"cut":false,"hidden":false,"merged":[[3,1,3,2],[19,1,19,2]]}
[null,"学校名","微風中学校"]
[null,"本年度","20xx年",null,null,null,null,null,null,null,null,null,null,"定期-3現","定期1-5現","定期1-3","定期1-5","定期2-3","定期2-5","定期3-3","定期3-5","定期4-3","定期4-5","定期5-3","定期5-5","定期6-3","定期6-5","実力1 3科","実力1 5科","実力2 3科","実力2 5科","実力3 3科","実力3 5科","実力4 3科","実力4 5科","実力5 3科","実力5 5科","実力6 3科","実力6 5科","実力7 3科","実力7 5科","実力8 3科","実力8 5科"]
[null,"学年","3学年",null,null,null,null,null,null,null,null,null,null,{"$f":"SUM(OFFSET(テストデータ!$E3,1,9*成績表1!$B$4-9):OFFSET(テストデータ!$G3,1,9*成績表1!$B$4-9))","v":183},{"$f":"SUM(OFFSET(テストデータ!$E3,1,9*成績表1!$B$4-9):OFFSET(テストデータ!I3,1,9*成績表1!$B$4-9))","v":316},{"$f":"SUM(OFFSET(テストデータ!E3,1,0):OFFSET(テストデータ!G3,1,0))","v":121},{"$f":"SUM(OFFSET(テストデータ!E3,1,0):OFFSET(テストデータ!I3,1,0))","v":230},{"$f":"SUM(OFFSET(テストデータ!N3,1,0):OFFSET(テストデータ!P3,1,0))","v":183},{"$f":"SUM(OFFSET(テストデータ!N3,1,0):OFFSET(テストデータ!R3,1,0))","v":316},{"$f":"SUM(OFFSET(テストデータ!W3,1,0):OFFSET(テストデータ!Y3,1,0))","v":148},{"$f":"SUM(OFFSET(テストデータ!W3,1,0):OFFSET(テストデータ!AA3,1,0))","v":247},{"$f":"SUM(OFFSET(テストデータ!AF3,1,0):OFFSET(テストデータ!AH3,1,0))","v":212},{"$f":"SUM(OFFSET(テストデータ!AF3,1,0):OFFSET(テストデータ!AJ3,1,0))","v":393},{"$f":"SUM(OFFSET(テストデータ!AO3,1,0):OFFSET(テストデータ!AQ3,1,0))","v":0},{"$f":"SUM(OFFSET(テストデータ!AO3,1,0):OFFSET(テストデータ!AS3,1,0))","v":0},{"$f":"SUM(OFFSET(テストデータ!AX3,1,0):OFFSET(テストデータ!AZ3,1,0))","v":0},{"$f":"SUM(OFFSET(テストデータ!AX3,1,0):OFFSET(テストデータ!BB3,1,0))","v":0},{"$f":"SUM(OFFSET(テストデータ!BG3,1,0):OFFSET(テストデータ!BI3,1,0))","v":196},{"$f":"SUM(OFFSET(テストデータ!BG3,1,0):OFFSET(テストデータ!BK3,1,0))","v":249},{"$f":"SUM(OFFSET(テストデータ!BL3,1,0):OFFSET(テストデータ!BN3,1,0))","v":103},{"$f":"SUM(OFFSET(テストデータ!BL3,1,0):OFFSET(テストデータ!BP3,1,0))","v":182},{"$f":"SUM(OFFSET(テストデータ!BQ3,1,0):OFFSET(テストデータ!BS3,1,0))","v":52},{"$f":"SUM(OFFSET(テストデータ!BQ3,1,0):OFFSET(テストデータ!BU3,1,0))","v":142},{"$f":"SUM(OFFSET(テストデータ!BV3,1,0):OFFSET(テストデータ!BX3,1,0))","v":113},{"$f":"SUM(OFFSET(テストデータ!BV3,1,0):OFFSET(テストデータ!BZ3,1,0))","v":176},{"$f":"SUM(OFFSET(テストデータ!CA3,1,0):OFFSET(テストデータ!CC3,1,0))","v":196},{"$f":"SUM(OFFSET(テストデータ!CA3,1,0):OFFSET(テストデータ!CE3,1,0))","v":297},{"$f":"SUM(OFFSET(テストデータ!CF3,1,0):OFFSET(テストデータ!CH3,1,0))","v":167},{"$f":"SUM(OFFSET(テストデータ!CF3,1,0):OFFSET(テストデータ!CJ3,1,0))","v":187},{"$f":"SUM(OFFSET(テストデータ!CK3,1,0):OFFSET(テストデータ!CM3,1,0))","v":79},{"$f":"SUM(OFFSET(テストデータ!CK3,1,0):OFFSET(テストデータ!CO3,1,0))","v":88},{"$f":"SUM(OFFSET(テストデータ!CP3,1,0):OFFSET(テストデータ!CR3,1,0))","v":0},{"$f":"SUM(OFFSET(テストデータ!CP3,1,0):OFFSET(テストデータ!CT3,1,0))","v":0}]
[null,"定期テスト",null,null,null,null,null,null,null,null,null,null,null,{"$f":"SUM(OFFSET(テストデータ!$E3,2,9*成績表1!$B$4-9):OFFSET(テストデータ!$G3,2,9*成績表1!$B$4-9))","v":38},{"$f":"SUM(OFFSET(テストデータ!$E3,2,9*成績表1!$B$4-9):OFFSET(テストデータ!I3,2,9*成績表1!$B$4-9))","v":38},{"$f":"SUM(OFFSET(テストデータ!E3,2,0):OFFSET(テストデータ!G3,2,0))","v":50},{"$f":"SUM(OFFSET(テストデータ!E3,2,0):OFFSET(テストデータ!I3,2,0))","v":50},{"$f":"SUM(OFFSET(テストデータ!N3,2,0):OFFSET(テストデータ!P3,2,0))","v":38},{"$f":"SUM(OFFSET(テストデータ!N3,2,0):OFFSET(テストデータ!R3,2,0))","v":38},{"$f":"SUM(OFFSET(テストデータ!W3,2,0):OFFSET(テストデータ!Y3,2,0))","v":120},{"$f":"SUM(OFFSET(テストデータ!W3,2,0):OFFSET(テストデータ!AA3,2,0))","v":120},{"$f":"SUM(OFFSET(テストデータ!AF3,2,0):OFFSET(テストデータ!AH3,2,0))","v":38},{"$f":"SUM(OFFSET(テストデータ!AF3,2,0):OFFSET(テストデータ!AJ3,2,0))","v":76},{"$f":"SUM(OFFSET(テストデータ!AO3,2,0):OFFSET(テストデータ!AQ3,2,0))","v":0},{"$f":"SUM(OFFSET(テストデータ!AO3,2,0):OFFSET(テストデータ!AS3,2,0))","v":0},{"$f":"SUM(OFFSET(テストデータ!AX3,2,0):OFFSET(テストデータ!AZ3,2,0))","v":0},{"$f":"SUM(OFFSET(テストデータ!AX3,2,0):OFFSET(テストデータ!BB3,2,0))","v":0},{"$f":"SUM(OFFSET(テストデータ!BG3,2,0):OFFSET(テストデータ!BI3,2,0))","v":124},{"$f":"SUM(OFFSET(テストデータ!BG3,2,0):OFFSET(テストデータ!BK3,2,0))","v":236},{"$f":"SUM(OFFSET(テストデータ!BL3,2,0):OFFSET(テストデータ!BN3,2,0))","v":116},{"$f":"SUM(OFFSET(テストデータ!BL3,2,0):OFFSET(テストデータ!BP3,2,0))","v":164},{"$f":"SUM(OFFSET(テストデータ!BQ3,2,0):OFFSET(テストデータ!BS3,2,0))","v":160},{"$f":"SUM(OFFSET(テストデータ!BQ3,2,0):OFFSET(テストデータ!BU3,2,0))","v":232},{"$f":"SUM(OFFSET(テストデータ!BV3,2,0):OFFSET(テストデータ!BX3,2,0))","v":87},{"$f":"SUM(OFFSET(テストデータ!BV3,2,0):OFFSET(テストデータ!BZ3,2,0))","v":147},{"$f":"SUM(OFFSET(テストデータ!CA3,2,0):OFFSET(テストデータ!CC3,2,0))","v":12},{"$f":"SUM(OFFSET(テストデータ!CA3,2,0):OFFSET(テストデータ!CE3,2,0))","v":66},{"$f":"SUM(OFFSET(テストデータ!CF3,2,0):OFFSET(テストデータ!CH3,2,0))","v":66},{"$f":"SUM(OFFSET(テストデータ!CF3,2,0):OFFSET(テストデータ!CJ3,2,0))","v":180},{"$f":"SUM(OFFSET(テストデータ!CK3,2,0):OFFSET(テストデータ!CM3,2,0))","v":98},{"$f":"SUM(OFFSET(テストデータ!CK3,2,0):OFFSET(テストデータ!CO3,2,0))","v":197},{"$f":"SUM(OFFSET(テストデータ!CP3,2,0):OFFSET(テストデータ!CR3,2,0))","v":0},{"$f":"SUM(OFFSET(テストデータ!CP3,2,0):OFFSET(テストデータ!CT3,2,0))","v":0}]
[null,"科目1","国語",null,null,null,null,null,null,null,null,null,null,{"$f":"SUM(OFFSET(テストデータ!$E3,3,9*成績表1!$B$4-9):OFFSET(テストデータ!$G3,3,9*成績表1!$B$4-9))","v":185},{"$f":"SUM(OFFSET(テストデータ!$E3,3,9*成績表1!$B$4-9):OFFSET(テストデータ!I3,3,9*成績表1!$B$4-9))","v":256},{"$f":"SUM(OFFSET(テストデータ!E3,3,0):OFFSET(テストデータ!G3,3,0))","v":157},{"$f":"SUM(OFFSET(テストデータ!E3,3,0):OFFSET(テストデータ!I3,3,0))","v":258},{"$f":"SUM(OFFSET(テストデータ!N3,3,0):OFFSET(テストデータ!P3,3,0))","v":185},{"$f":"SUM(OFFSET(テストデータ!N3,3,0):OFFSET(テストデータ!R3,3,0))","v":256},{"$f":"SUM(OFFSET(テストデータ!W3,3,0):OFFSET(テストデータ!Y3,3,0))","v":227},{"$f":"SUM(OFFSET(テストデータ!W3,3,0):OFFSET(テストデータ!AA3,3,0))","v":291},{"$f":"SUM(OFFSET(テストデータ!AF3,3,0):OFFSET(テストデータ!AH3,3,0))","v":131},{"$f":"SUM(OFFSET(テストデータ!AF3,3,0):OFFSET(テストデータ!AJ3,3,0))","v":251},{"$f":"SUM(OFFSET(テストデータ!AO3,3,0):OFFSET(テストデータ!AQ3,3,0))","v":0},{"$f":"SUM(OFFSET(テストデータ!AO3,3,0):OFFSET(テストデータ!AS3,3,0))","v":0},{"$f":"SUM(OFFSET(テストデータ!AX3,3,0):OFFSET(テストデータ!AZ3,3,0))","v":0},{"$f":"SUM(OFFSET(テストデータ!AX3,3,0):OFFSET(テストデータ!BB3,3,0))","v":0},{"$f":"SUM(OFFSET(テストデータ!BG3,3,0):OFFSET(テストデータ!BI3,3,0))","v":192},{"$f":"SUM(OFFSET(テストデータ!BG3,3,0):OFFSET(テストデータ!BK3,3,0))","v":265},{"$f":"SUM(OFFSET(テストデータ!BL3,3,0):OFFSET(テストデータ!BN3,3,0))","v":133},{"$f":"SUM(OFFSET(テストデータ!BL3,3,0):OFFSET(テストデータ!BP3,3,0))","v":263},{"$f":"SUM(OFFSET(テストデータ!BQ3,3,0):OFFSET(テストデータ!BS3,3,0))","v":148},{"$f":"SUM(OFFSET(テストデータ!BQ3,3,0):OFFSET(テストデータ!BU3,3,0))","v":289},{"$f":"SUM(OFFSET(テストデータ!BV3,3,0):OFFSET(テストデータ!BX3,3,0))","v":138},{"$f":"SUM(OFFSET(テストデータ!BV3,3,0):OFFSET(テストデータ!BZ3,3,0))","v":283},{"$f":"SUM(OFFSET(テストデータ!CA3,3,0):OFFSET(テストデータ!CC3,3,0))","v":183},{"$f":"SUM(OFFSET(テストデータ!CA3,3,0):OFFSET(テストデータ!CE3,3,0))","v":267},{"$f":"SUM(OFFSET(テストデータ!CF3,3,0):OFFSET(テストデータ!CH3,3,0))","v":131},{"$f":"SUM(OFFSET(テストデータ!CF3,3,0):OFFSET(テストデータ!CJ3,3,0))","v":229},{"$f":"SUM(OFFSET(テストデータ!CK3,3,0):OFFSET(テストデータ!CM3,3,0))","v":190},{"$f":"SUM(OFFSET(テストデータ!CK3,3,0):OFFSET(テストデータ!CO3,3,0))","v":285},{"$f":"SUM(OFFSET(テストデータ!CP3,3,0):OFFSET(テストデータ!CR3,3,0))","v":0},{"$f":"SUM(OFFSET(テストデータ!CP3,3,0):OFFSET(テストデータ!CT3,3,0))","v":0}]
[null,"科目2","数学",null,null,null,null,null,null,null,null,null,null,{"$f":"SUM(OFFSET(テストデータ!$E3,4,9*成績表1!$B$4-9):OFFSET(テストデータ!$G3,4,9*成績表1!$B$4-9))","v":149},{"$f":"SUM(OFFSET(テストデータ!$E3,4,9*成績表1!$B$4-9):OFFSET(テストデータ!I3,4,9*成績表1!$B$4-9))","v":231},{"$f":"SUM(OFFSET(テストデータ!E3,4,0):OFFSET(テストデータ!G3,4,0))","v":124},{"$f":"SUM(OFFSET(テストデータ!E3,4,0):OFFSET(テストデータ!I3,4,0))","v":235},{"$f":"SUM(OFFSET(テストデータ!N3,4,0):OFFSET(テストデータ!P3,4,0))","v":149},{"$f":"SUM(OFFSET(テストデータ!N3,4,0):OFFSET(テストデータ!R3,4,0))","v":231},{"$f":"SUM(OFFSET(テストデータ!W3,4,0):OFFSET(テストデータ!Y3,4,0))","v":88},{"$f":"SUM(OFFSET(テストデータ!W3,4,0):OFFSET(テストデータ!AA3,4,0))","v":212},{"$f":"SUM(OFFSET(テストデータ!AF3,4,0):OFFSET(テストデータ!AH3,4,0))","v":89},{"$f":"SUM(OFFSET(テストデータ!AF3,4,0):OFFSET(テストデータ!AJ3,4,0))","v":148},{"$f":"SUM(OFFSET(テストデータ!AO3,4,0):OFFSET(テストデータ!AQ3,4,0))","v":0},{"$f":"SUM(OFFSET(テストデータ!AO3,4,0):OFFSET(テストデータ!AS3,4,0))","v":0},{"$f":"SUM(OFFSET(テストデータ!AX3,4,0):OFFSET(テストデータ!AZ3,4,0))","v":0},{"$f":"SUM(OFFSET(テストデータ!AX3,4,0):OFFSET(テストデータ!BB3,4,0))","v":0},{"$f":"SUM(OFFSET(テストデータ!BG3,4,0):OFFSET(テストデータ!BI3,4,0))","v":206},{"$f":"SUM(OFFSET(テストデータ!BG3,4,0):OFFSET(テストデータ!BK3,4,0))","v":312},{"$f":"SUM(OFFSET(テストデータ!BL3,4,0):OFFSET(テストデータ!BN3,4,0))","v":174},{"$f":"SUM(OFFSET(テストデータ!BL3,4,0):OFFSET(テストデータ!BP3,4,0))","v":308},{"$f":"SUM(OFFSET(テストデータ!BQ3,4,0):OFFSET(テストデータ!BS3,4,0))","v":118},{"$f":"SUM(OFFSET(テストデータ!BQ3,4,0):OFFSET(テストデータ!BU3,4,0))","v":294},{"$f":"SUM(OFFSET(テストデータ!BV3,4,0):OFFSET(テストデータ!BX3,4,0))","v":214},{"$f":"SUM(OFFSET(テストデータ!BV3,4,0):OFFSET(テストデータ!BZ3,4,0))","v":370},{"$f":"SUM(OFFSET(テストデータ!CA3,4,0):OFFSET(テストデータ!CC3,4,0))","v":204},{"$f":"SUM(OFFSET(テストデータ!CA3,4,0):OFFSET(テストデータ!CE3,4,0))","v":304},{"$f":"SUM(OFFSET(テストデータ!CF3,4,0):OFFSET(テストデータ!CH3,4,0))","v":210},{"$f":"SUM(OFFSET(テストデータ!CF3,4,0):OFFSET(テストデータ!CJ3,4,0))","v":362},{"$f":"SUM(OFFSET(テストデータ!CK3,4,0):OFFSET(テストデータ!CM3,4,0))","v":176},{"$f":"SUM(OFFSET(テストデータ!CK3,4,0):OFFSET(テストデータ!CO3,4,0))","v":276},{"$f":"SUM(OFFSET(テストデータ!CP3,4,0):OFFSET(テストデータ!CR3,4,0))","v":0},{"$f":"SUM(OFFSET(テストデータ!CP3,4,0):OFFSET(テストデータ!CT3,4,0))","v":0}]
[null,"科目3","英語",null,null,null,null,null,null,null,null,null,null,{"$f":"SUM(OFFSET(テストデータ!$E3,5,9*成績表1!$B$4-9):OFFSET(テストデータ!$G3,5,9*成績表1!$B$4-9))","v":138},{"$f":"SUM(OFFSET(テストデータ!$E3,5,9*成績表1!$B$4-9):OFFSET(テストデータ!I3,5,9*成績表1!$B$4-9))","v":332},{"$f":"SUM(OFFSET(テストデータ!E3,5,0):OFFSET(テストデータ!G3,5,0))","v":243},{"$f":"SUM(OFFSET(テストデータ!E3,5,0):OFFSET(テストデータ!I3,5,0))","v":339},{"$f":"SUM(OFFSET(テストデータ!N3,5,0):OFFSET(テストデータ!P3,5,0))","v":138},{"$f":"SUM(OFFSET(テストデータ!N3,5,0):OFFSET(テストデータ!R3,5,0))","v":332},{"$f":"SUM(OFFSET(テストデータ!W3,5,0):OFFSET(テストデータ!Y3,5,0))","v":188},{"$f":"SUM(OFFSET(テストデータ!W3,5,0):OFFSET(テストデータ!AA3,5,0))","v":333},{"$f":"SUM(OFFSET(テストデータ!AF3,5,0):OFFSET(テストデータ!AH3,5,0))","v":210},{"$f":"SUM(OFFSET(テストデータ!AF3,5,0):OFFSET(テストデータ!AJ3,5,0))","v":313},{"$f":"SUM(OFFSET(テストデータ!AO3,5,0):OFFSET(テストデータ!AQ3,5,0))","v":0},{"$f":"SUM(OFFSET(テストデータ!AO3,5,0):OFFSET(テストデータ!AS3,5,0))","v":0},{"$f":"SUM(OFFSET(テストデータ!AX3,5,0):OFFSET(テストデータ!AZ3,5,0))","v":0},{"$f":"SUM(OFFSET(テストデータ!AX3,5,0):OFFSET(テストデータ!BB3,5,0))","v":0},{"$f":"SUM(OFFSET(テストデータ!BG3,5,0):OFFSET(テストデータ!BI3,5,0))","v":99},{"$f":"SUM(OFFSET(テストデータ!BG3,5,0):OFFSET(テストデータ!BK3,5,0))","v":240},{"$f":"SUM(OFFSET(テストデータ!BL3,5,0):OFFSET(テストデータ!BN3,5,0))","v":137},{"$f":"SUM(OFFSET(テストデータ!BL3,5,0):OFFSET(テストデータ!BP3,5,0))","v":189},{"$f":"SUM(OFFSET(テストデータ!BQ3,5,0):OFFSET(テストデータ!BS3,5,0))","v":223},{"$f":"SUM(OFFSET(テストデータ!BQ3,5,0):OFFSET(テストデータ!BU3,5,0))","v":306},{"$f":"SUM(OFFSET(テストデータ!BV3,5,0):OFFSET(テストデータ!BX3,5,0))","v":172},{"$f":"SUM(OFFSET(テストデータ!BV3,5,0):OFFSET(テストデータ!BZ3,5,0))","v":260},{"$f":"SUM(OFFSET(テストデータ!CA3,5,0):OFFSET(テストデータ!CC3,5,0))","v":152},{"$f":"SUM(OFFSET(テストデータ!CA3,5,0):OFFSET(テストデータ!CE3,5,0))","v":249},{"$f":"SUM(OFFSET(テストデータ!CF3,5,0):OFFSET(テストデータ!CH3,5,0))","v":151},{"$f":"SUM(OFFSET(テストデータ!CF3,5,0):OFFSET(テストデータ!CJ3,5,0))","v":286},{"$f":"SUM(OFFSET(テストデータ!CK3,5,0):OFFSET(テストデータ!CM3,5,0))","v":71},{"$f":"SUM(OFFSET(テストデータ!CK3,5,0):OFFSET(テストデータ!CO3,5,0))","v":238},{"$f":"SUM(OFFSET(テストデータ!CP3,5,0):OFFSET(テストデータ!CR3,5,0))","v":0},{"$f":"SUM(OFFSET(テストデータ!CP3,5,0):OFFSET(テストデータ!CT3,5,0))","v":0}]
[null,"科目4","社会",null,null,null,null,null,null,null,null,null,null,{"$f":"SUM(OFFSET(テストデータ!$E3,6,9*成績表1!$B$4-9):OFFSET(テストデータ!$G3,6,9*成績表1!$B$4-9))","v":89},{"$f":"SUM(OFFSET(テストデータ!$E3,6,9*成績表1!$B$4-9):OFFSET(テストデータ!I3,6,9*成績表1!$B$4-9))","v":230},{"$f":"SUM(OFFSET(テストデータ!E3,6,0):OFFSET(テストデータ!G3,6,0))","v":128},{"$f":"SUM(OFFSET(テストデータ!E3,6,0):OFFSET(テストデータ!I3,6,0))","v":253},{"$f":"SUM(OFFSET(テストデータ!N3,6,0):OFFSET(テストデータ!P3,6,0))","v":89},{"$f":"SUM(OFFSET(テストデータ!N3,6,0):OFFSET(テストデータ!R3,6,0))","v":230},{"$f":"SUM(OFFSET(テストデータ!W3,6,0):OFFSET(テストデータ!Y3,6,0))","v":133},{"$f":"SUM(OFFSET(テストデータ!W3,6,0):OFFSET(テストデータ!AA3,6,0))","v":234},{"$f":"SUM(OFFSET(テストデータ!AF3,6,0):OFFSET(テストデータ!AH3,6,0))","v":149},{"$f":"SUM(OFFSET(テストデータ!AF3,6,0):OFFSET(テストデータ!AJ3,6,0))","v":228},{"$f":"SUM(OFFSET(テストデータ!AO3,6,0):OFFSET(テストデータ!AQ3,6,0))","v":0},{"$f":"SUM(OFFSET(テストデータ!AO3,6,0):OFFSET(テストデータ!AS3,6,0))","v":0},{"$f":"SUM(OFFSET(テストデータ!AX3,6,0):OFFSET(テストデータ!AZ3,6,0))","v":0},{"$f":"SUM(OFFSET(テストデータ!AX3,6,0):OFFSET(テストデータ!BB3,6,0))","v":0},{"$f":"SUM(OFFSET(テストデータ!BG3,6,0):OFFSET(テストデータ!BI3,6,0))","v":161},{"$f":"SUM(OFFSET(テストデータ!BG3,6,0):OFFSET(テストデータ!BK3,6,0))","v":331},{"$f":"SUM(OFFSET(テストデータ!BL3,6,0):OFFSET(テストデータ!BN3,6,0))","v":204},{"$f":"SUM(OFFSET(テストデータ!BL3,6,0):OFFSET(テストデータ!BP3,6,0))","v":341},{"$f":"SUM(OFFSET(テストデータ!BQ3,6,0):OFFSET(テストデータ!BS3,6,0))","v":98},{"$f":"SUM(OFFSET(テストデータ!BQ3,6,0):OFFSET(テストデータ!BU3,6,0))","v":174},{"$f":"SUM(OFFSET(テストデータ!BV3,6,0):OFFSET(テストデータ!BX3,6,0))","v":204},{"$f":"SUM(OFFSET(テストデータ!BV3,6,0):OFFSET(テストデータ!BZ3,6,0))","v":302},{"$f":"SUM(OFFSET(テストデータ!CA3,6,0):OFFSET(テストデータ!CC3,6,0))","v":147},{"$f":"SUM(OFFSET(テストデータ!CA3,6,0):OFFSET(テストデータ!CE3,6,0))","v":252},{"$f":"SUM(OFFSET(テストデータ!CF3,6,0):OFFSET(テストデータ!CH3,6,0))","v":202},{"$f":"SUM(OFFSET(テストデータ!CF3,6,0):OFFSET(テストデータ!CJ3,6,0))","v":288},{"$f":"SUM(OFFSET(テストデータ!CK3,6,0):OFFSET(テストデータ!CM3,6,0))","v":203},{"$f":"SUM(OFFSET(テストデータ!CK3,6,0):OFFSET(テストデータ!CO3,6,0))","v":289},{"$f":"SUM(OFFSET(テストデータ!CP3,6,0):OFFSET(テストデータ!CR3,6,0))","v":0},{"$f":"SUM(OFFSET(テストデータ!CP3,6,0):OFFSET(テストデータ!CT3,6,0))","v":0}]
[null,"科目5","理科",null,null,null,null,null,null,null,null,null,null,{"$f":"SUM(OFFSET(テストデータ!$E3,7,9*成績表1!$B$4-9):OFFSET(テストデータ!$G3,7,9*成績表1!$B$4-9))","v":188},{"$f":"SUM(OFFSET(テストデータ!$E3,7,9*成績表1!$B$4-9):OFFSET(テストデータ!I3,7,9*成績表1!$B$4-9))","v":317},{"$f":"SUM(OFFSET(テストデータ!E3,7,0):OFFSET(テストデータ!G3,7,0))","v":191},{"$f":"SUM(OFFSET(テストデータ!E3,7,0):OFFSET(テストデータ!I3,7,0))","v":301},{"$f":"SUM(OFFSET(テストデータ!N3,7,0):OFFSET(テストデータ!P3,7,0))","v":188},{"$f":"SUM(OFFSET(テストデータ!N3,7,0):OFFSET(テストデータ!R3,7,0))","v":317},{"$f":"SUM(OFFSET(テストデータ!W3,7,0):OFFSET(テストデータ!Y3,7,0))","v":186},{"$f":"SUM(OFFSET(テストデータ!W3,7,0):OFFSET(テストデータ!AA3,7,0))","v":306},{"$f":"SUM(OFFSET(テストデータ!AF3,7,0):OFFSET(テストデータ!AH3,7,0))","v":171},{"$f":"SUM(OFFSET(テストデータ!AF3,7,0):OFFSET(テストデータ!AJ3,7,0))","v":275},{"$f":"SUM(OFFSET(テストデータ!AO3,7,0):OFFSET(テストデータ!AQ3,7,0))","v":0},{"$f":"SUM(OFFSET(テストデータ!AO3,7,0):OFFSET(テストデータ!AS3,7,0))","v":0},{"$f":"SUM(OFFSET(テストデータ!AX3,7,0):OFFSET(テストデータ!AZ3,7,0))","v":0},{"$f":"SUM(OFFSET(テストデータ!AX3,7,0):OFFSET(テストデータ!BB3,7,0))","v":0},{"$f":"SUM(OFFSET(テストデータ!BG3,7,0):OFFSET(テストデータ!BI3,7,0))","v":151},{"$f":"SUM(OFFSET(テストデータ!BG3,7,0):OFFSET(テストデータ!BK3,7,0))","v":228},{"$f":"SUM(OFFSET(テストデータ!BL3,7,0):OFFSET(テストデータ!BN3,7,0))","v":146},{"$f":"SUM(OFFSET(テストデータ!BL3,7,0):OFFSET(テストデータ!BP3,7,0))","v":270},{"$f":"SUM(OFFSET(テストデータ!BQ3,7,0):OFFSET(テストデータ!BS3,7,0))","v":101},{"$f":"SUM(OFFSET(テストデータ!BQ3,7,0):OFFSET(テストデータ!BU3,7,0))","v":180},{"$f":"SUM(OFFSET(テストデータ!BV3,7,0):OFFSET(テストデータ!BX3,7,0))","v":150},{"$f":"SUM(OFFSET(テストデータ!BV3,7,0):OFFSET(テストデータ!BZ3,7,0))","v":257},{"$f":"SUM(OFFSET(テストデータ!CA3,7,0):OFFSET(テストデータ!CC3,7,0))","v":110},{"$f":"SUM(OFFSET(テストデータ!CA3,7,0):OFFSET(テストデータ!CE3,7,0))","v":161},{"$f":"SUM(OFFSET(テストデータ!CF3,7,0):OFFSET(テストデータ!CH3,7,0))","v":79},{"$f":"SUM(OFFSET(テストデータ!CF3,7,0):OFFSET(テストデータ!CJ3,7,0))","v":156},{"$f":"SUM(OFFSET(テストデータ!CK3,7,0):OFFSET(テストデータ!CM3,7,0))","v":218},{"$f":"SUM(OFFSET(テストデータ!CK3,7,0):OFFSET(テストデータ!CO3,7,0))","v":278},{"$f":"SUM(OFFSET(テストデータ!CP3,7,0):OFFSET(テストデータ!CR3,7,0))","v":0},{"$f":"SUM(OFFSET(テストデータ!CP3,7,0):OFFSET(テストデータ!CT3,7,0))","v":0}]
[null,"科目6","保体",null,null,null,null,null,null,null,null,null,null,{"$f":"SUM(OFFSET(テストデータ!$E3,8,9*成績表1!$B$4-9):OFFSET(テストデータ!$G3,8,9*成績表1!$B$4-9))","v":183},{"$f":"SUM(OFFSET(テストデータ!$E3,8,9*成績表1!$B$4-9):OFFSET(テストデータ!I3,8,9*成績表1!$B$4-9))","v":306},{"$f":"SUM(OFFSET(テストデータ!E3,8,0):OFFSET(テストデータ!G3,8,0))","v":200},{"$f":"SUM(OFFSET(テストデータ!E3,8,0):OFFSET(テストデータ!I3,8,0))","v":264},{"$f":"SUM(OFFSET(テストデータ!N3,8,0):OFFSET(テストデータ!P3,8,0))","v":183},{"$f":"SUM(OFFSET(テストデータ!N3,8,0):OFFSET(テストデータ!R3,8,0))","v":306},{"$f":"SUM(OFFSET(テストデータ!W3,8,0):OFFSET(テストデータ!Y3,8,0))","v":141},{"$f":"SUM(OFFSET(テストデータ!W3,8,0):OFFSET(テストデータ!AA3,8,0))","v":262},{"$f":"SUM(OFFSET(テストデータ!AF3,8,0):OFFSET(テストデータ!AH3,8,0))","v":177},{"$f":"SUM(OFFSET(テストデータ!AF3,8,0):OFFSET(テストデータ!AJ3,8,0))","v":250},{"$f":"SUM(OFFSET(テストデータ!AO3,8,0):OFFSET(テストデータ!AQ3,8,0))","v":0},{"$f":"SUM(OFFSET(テストデータ!AO3,8,0):OFFSET(テストデータ!AS3,8,0))","v":0},{"$f":"SUM(OFFSET(テストデータ!AX3,8,0):OFFSET(テストデータ!AZ3,8,0))","v":0},{"$f":"SUM(OFFSET(テストデータ!AX3,8,0):OFFSET(テストデータ!BB3,8,0))","v":0},{"$f":"SUM(OFFSET(テストデータ!BG3,8,0):OFFSET(テストデータ!BI3,8,0))","v":132},{"$f":"SUM(OFFSET(テストデータ!BG3,8,0):OFFSET(テストデータ!BK3,8,0))","v":209},{"$f":"SUM(OFFSET(テストデータ!BL3,8,0):OFFSET(テストデータ!BN3,8,0))","v":109},{"$f":"SUM(OFFSET(テストデータ!BL3,8,0):OFFSET(テストデータ!BP3,8,0))","v":175},{"$f":"SUM(OFFSET(テストデータ!BQ3,8,0):OFFSET(テストデータ!BS3,8,0))","v":61},{"$f":"SUM(OFFSET(テストデータ!BQ3,8,0):OFFSET(テストデータ!BU3,8,0))","v":170},{"$f":"SUM(OFFSET(テストデータ!BV3,8,0):OFFSET(テストデータ!BX3,8,0))","v":114},{"$f":"SUM(OFFSET(テストデータ!BV3,8,0):OFFSET(テストデータ!BZ3,8,0))","v":264},{"$f":"SUM(OFFSET(テストデータ!CA3,8,0):OFFSET(テストデータ!CC3,8,0))","v":153},{"$f":"SUM(OFFSET(テストデータ!CA3,8,0):OFFSET(テストデータ!CE3,8,0))","v":177},{"$f":"SUM(OFFSET(テストデータ!CF3,8,0):OFFSET(テストデータ!CH3,8,0))","v":25},{"$f":"SUM(OFFSET(テストデータ!CF3,8,0):OFFSET(テストデータ!CJ3,8,0))","v":126},{"$f":"SUM(OFFSET(テストデータ!CK3,8,0):OFFSET(テストデータ!CM3,8,0))","v":161},{"$f":"SUM(OFFSET(テストデータ!CK3,8,0):OFFSET(テストデータ!CO3,8,0))","v":189},{"$f":"SUM(OFFSET(テストデータ!CP3,8,0):OFFSET(テストデータ!CR3,8,0))","v":0},{"$f":"SUM(OFFSET(テストデータ!CP3,8,0):OFFSET(テストデータ!CT3,8,0))","v":0}]
[null,"科目7","技家",null,null,null,null,null,null,null,null,null,null,{"$f":"SUM(OFFSET(テストデータ!$E3,9,9*成績表1!$B$4-9):OFFSET(テストデータ!$G3,9,9*成績表1!$B$4-9))","v":243},{"$f":"SUM(OFFSET(テストデータ!$E3,9,9*成績表1!$B$4-9):OFFSET(テストデータ!I3,9,9*成績表1!$B$4-9))","v":310},{"$f":"SUM(OFFSET(テストデータ!E3,9,0):OFFSET(テストデータ!G3,9,0))","v":217},{"$f":"SUM(OFFSET(テストデータ!E3,9,0):OFFSET(テストデータ!I3,9,0))","v":309},{"$f":"SUM(OFFSET(テストデータ!N3,9,0):OFFSET(テストデータ!P3,9,0))","v":243},{"$f":"SUM(OFFSET(テストデータ!N3,9,0):OFFSET(テストデータ!R3,9,0))","v":310},{"$f":"SUM(OFFSET(テストデータ!W3,9,0):OFFSET(テストデータ!Y3,9,0))","v":219},{"$f":"SUM(OFFSET(テストデータ!W3,9,0):OFFSET(テストデータ!AA3,9,0))","v":379},{"$f":"SUM(OFFSET(テストデータ!AF3,9,0):OFFSET(テストデータ!AH3,9,0))","v":217},{"$f":"SUM(OFFSET(テストデータ!AF3,9,0):OFFSET(テストデータ!AJ3,9,0))","v":374},{"$f":"SUM(OFFSET(テストデータ!AO3,9,0):OFFSET(テストデータ!AQ3,9,0))","v":0},{"$f":"SUM(OFFSET(テストデータ!AO3,9,0):OFFSET(テストデータ!AS3,9,0))","v":0},{"$f":"SUM(OFFSET(テストデータ!AX3,9,0):OFFSET(テストデータ!AZ3,9,0))","v":0},{"$f":"SUM(OFFSET(テストデータ!AX3,9,0):OFFSET(テストデータ!BB3,9,0))","v":0},{"$f":"SUM(OFFSET(テストデータ!BG3,9,0):OFFSET(テストデータ!BI3,9,0))","v":138},{"$f":"SUM(OFFSET(テストデータ!BG3,9,0):OFFSET(テストデータ!BK3,9,0))","v":211},{"$f":"SUM(OFFSET(テストデータ!BL3,9,0):OFFSET(テストデータ!BN3,9,0))","v":183},{"$f":"SUM(OFFSET(テストデータ!BL3,9,0):OFFSET(テストデータ!BP3,9,0))","v":300},{"$f":"SUM(OFFSET(テストデータ!BQ3,9,0):OFFSET(テストデータ!BS3,9,0))","v":178},{"$f":"SUM(OFFSET(テストデータ!BQ3,9,0):OFFSET(テストデータ!BU3,9,0))","v":301},{"$f":"SUM(OFFSET(テストデータ!BV3,9,0):OFFSET(テストデータ!BX3,9,0))","v":122},{"$f":"SUM(OFFSET(テストデータ!BV3,9,0):OFFSET(テストデータ!BZ3,9,0))","v":254},{"$f":"SUM(OFFSET(テストデータ!CA3,9,0):OFFSET(テストデータ!CC3,9,0))","v":148},{"$f":"SUM(OFFSET(テストデータ!CA3,9,0):OFFSET(テストデータ!CE3,9,0))","v":260},{"$f":"SUM(OFFSET(テストデータ!CF3,9,0):OFFSET(テストデータ!CH3,9,0))","v":146},{"$f":"SUM(OFFSET(テストデータ!CF3,9,0):OFFSET(テストデータ!CJ3,9,0))","v":268},{"$f":"SUM(OFFSET(テストデータ!CK3,9,0):OFFSET(テストデータ!CM3,9,0))","v":203},{"$f":"SUM(OFFSET(テストデータ!CK3,9,0):OFFSET(テストデータ!CO3,9,0))","v":283},{"$f":"SUM(OFFSET(テストデータ!CP3,9,0):OFFSET(テストデータ!CR3,9,0))","v":0},{"$f":"SUM(OFFSET(テストデータ!CP3,9,0):OFFSET(テストデータ!CT3,9,0))","v":0}]
[null,"科目8","美術",null,null,null,null,null,null,null,null,null,null,{"$f":"SUM(OFFSET(テストデータ!$E3,10,9*成績表1!$B$4-9):OFFSET(テストデータ!$G3,10,9*成績表1!$B$4-9))","v":188},{"$f":"SUM(OFFSET(テストデータ!$E3,10,9*成績表1!$B$4-9):OFFSET(テストデータ!I3,10,9*成績表1!$B$4-9))","v":237},{"$f":"SUM(OFFSET(テストデータ!E3,10,0):OFFSET(テストデータ!G3,10,0))","v":121},{"$f":"SUM(OFFSET(テストデータ!E3,10,0):OFFSET(テストデータ!I3,10,0))","v":227},{"$f":"SUM(OFFSET(テストデータ!N3,10,0):OFFSET(テストデータ!P3,10,0))","v":188},{"$f":"SUM(OFFSET(テストデータ!N3,10,0):OFFSET(テストデータ!R3,10,0))","v":237},{"$f":"SUM(OFFSET(テストデータ!W3,10,0):OFFSET(テストデータ!Y3,10,0))","v":139},{"$f":"SUM(OFFSET(テストデータ!W3,10,0):OFFSET(テストデータ!AA3,10,0))","v":231},{"$f":"SUM(OFFSET(テストデータ!AF3,10,0):OFFSET(テストデータ!AH3,10,0))","v":180},{"$f":"SUM(OFFSET(テストデータ!AF3,10,0):OFFSET(テストデータ!AJ3,10,0))","v":280},{"$f":"SUM(OFFSET(テストデータ!AO3,10,0):OFFSET(テストデータ!AQ3,10,0))","v":0},{"$f":"SUM(OFFSET(テストデータ!AO3,10,0):OFFSET(テストデータ!AS3,10,0))","v":0},{"$f":"SUM(OFFSET(テストデータ!AX3,10,0):OFFSET(テストデータ!AZ3,10,0))","v":0},{"$f":"SUM(OFFSET(テストデータ!AX3,10,0):OFFSET(テストデータ!BB3,10,0))","v":0},{"$f":"SUM(OFFSET(テストデータ!BG3,10,0):OFFSET(テストデータ!BI3,10,0))","v":97},{"$f":"SUM(OFFSET(テストデータ!BG3,10,0):OFFSET(テストデータ!BK3,10,0))","v":196},{"$f":"SUM(OFFSET(テストデータ!BL3,10,0):OFFSET(テストデータ!BN3,10,0))","v":169},{"$f":"SUM(OFFSET(テストデータ!BL3,10,0):OFFSET(テストデータ!BP3,10,0))","v":312},{"$f":"SUM(OFFSET(テストデータ!BQ3,10,0):OFFSET(テストデータ!BS3,10,0))","v":227},{"$f":"SUM(OFFSET(テストデータ!BQ3,10,0):OFFSET(テストデータ!BU3,10,0))","v":353},{"$f":"SUM(OFFSET(テストデータ!BV3,10,0):OFFSET(テストデータ!BX3,10,0))","v":159},{"$f":"SUM(OFFSET(テストデータ!BV3,10,0):OFFSET(テストデータ!BZ3,10,0))","v":309},{"$f":"SUM(OFFSET(テストデータ!CA3,10,0):OFFSET(テストデータ!CC3,10,0))","v":224},{"$f":"SUM(OFFSET(テストデータ!CA3,10,0):OFFSET(テストデータ!CE3,10,0))","v":332},{"$f":"SUM(OFFSET(テストデータ!CF3,10,0):OFFSET(テストデータ!CH3,10,0))","v":187},{"$f":"SUM(OFFSET(テストデータ!CF3,10,0):OFFSET(テストデータ!CJ3,10,0))","v":347},{"$f":"SUM(OFFSET(テストデータ!CK3,10,0):OFFSET(テストデータ!CM3,10,0))","v":176},{"$f":"SUM(OFFSET(テストデータ!CK3,10,0):OFFSET(テストデータ!CO3,10,0))","v":334},{"$f":"SUM(OFFSET(テストデータ!CP3,10,0):OFFSET(テストデータ!CR3,10,0))","v":0},{"$f":"SUM(OFFSET(テストデータ!CP3,10,0):OFFSET(テストデータ!CT3,10,0))","v":0}]
[null,"科目9","音楽",null,null,null,null,null,null,null,null,null,null,{"$f":"SUM(OFFSET(テストデータ!$E3,11,9*成績表1!$B$4-9):OFFSET(テストデータ!$G3,11,9*成績表1!$B$4-9))","v":199},{"$f":"SUM(OFFSET(テストデータ!$E3,11,9*成績表1!$B$4-9):OFFSET(テストデータ!I3,11,9*成績表1!$B$4-9))","v":314},{"$f":"SUM(OFFSET(テストデータ!E3,11,0):OFFSET(テストデータ!G3,11,0))","v":136},{"$f":"SUM(OFFSET(テストデータ!E3,11,0):OFFSET(テストデータ!I3,11,0))","v":268},{"$f":"SUM(OFFSET(テストデータ!N3,11,0):OFFSET(テストデータ!P3,11,0))","v":199},{"$f":"SUM(OFFSET(テストデータ!N3,11,0):OFFSET(テストデータ!R3,11,0))","v":314},{"$f":"SUM(OFFSET(テストデータ!W3,11,0):OFFSET(テストデータ!Y3,11,0))","v":229},{"$f":"SUM(OFFSET(テストデータ!W3,11,0):OFFSET(テストデータ!AA3,11,0))","v":320},{"$f":"SUM(OFFSET(テストデータ!AF3,11,0):OFFSET(テストデータ!AH3,11,0))","v":185},{"$f":"SUM(OFFSET(テストデータ!AF3,11,0):OFFSET(テストデータ!AJ3,11,0))","v":359},{"$f":"SUM(OFFSET(テストデータ!AO3,11,0):OFFSET(テストデータ!AQ3,11,0))","v":0},{"$f":"SUM(OFFSET(テストデータ!AO3,11,0):OFFSET(テストデータ!AS3,11,0))","v":0},{"$f":"SUM(OFFSET(テストデータ!AX3,11,0):OFFSET(テストデータ!AZ3,11,0))","v":0},{"$f":"SUM(OFFSET(テストデータ!AX3,11,0):OFFSET(テストデータ!BB3,11,0))","v":0},{"$f":"SUM(OFFSET(テストデータ!BG3,11,0):OFFSET(テストデータ!BI3,11,0))","v":222},{"$f":"SUM(OFFSET(テストデータ!BG3,11,0):OFFSET(テストデータ!BK3,11,0))","v":351},{"$f":"SUM(OFFSET(テストデータ!BL3,11,0):OFFSET(テストデータ!BN3,11,0))","v":229},{"$f":"SUM(OFFSET(テストデータ!BL3,11,0):OFFSET(テストデータ!BP3,11,0))","v":329},{"$f":"SUM(OFFSET(テストデータ!BQ3,11,0):OFFSET(テストデータ!BS3,11,0))","v":199},{"$f":"SUM(OFFSET(テストデータ!BQ3,11,0):OFFSET(テストデータ!BU3,11,0))","v":302},{"$f":"SUM(OFFSET(テストデータ!BV3,11,0):OFFSET(テストデータ!BX3,11,0))","v":211},{"$f":"SUM(OFFSET(テストデータ!BV3,11,0):OFFSET(テストデータ!BZ3,11,0))","v":300},{"$f":"SUM(OFFSET(テストデータ!CA3,11,0):OFFSET(テストデータ!CC3,11,0))","v":222},{"$f":"SUM(OFFSET(テストデータ!CA3,11,0):OFFSET(テストデータ!CE3,11,0))","v":381},{"$f":"SUM(OFFSET(テストデータ!CF3,11,0):OFFSET(テストデータ!CH3,11,0))","v":218},{"$f":"SUM(OFFSET(テストデータ!CF3,11,0):OFFSET(テストデータ!CJ3,11,0))","v":323},{"$f":"SUM(OFFSET(テストデータ!CK3,11,0):OFFSET(テストデータ!CM3,11,0))","v":183},{"$f":"SUM(OFFSET(テストデータ!CK3,11,0):OFFSET(テストデータ!CO3,11,0))","v":306},{"$f":"SUM(OFFSET(テストデータ!CP3,11,0):OFFSET(テストデータ!CR3,11,0))","v":0},{"$f":"SUM(OFFSET(テストデータ!CP3,11,0):OFFSET(テストデータ!CT3,11,0))","v":0}]
[null,"定期テスト名1","1学期 中間テスト",1,null,null,{"$f":"IF(C5=\"\",\"\",C5)","v":"国語"},{"$f":"IF(C22=\"\",\"\",C22)","v":"国語"},null,null,null,null,null,{"$f":"SUM(OFFSET(テストデータ!$E3,12,9*成績表1!$B$4-9):OFFSET(テストデータ!$G3,12,9*成績表1!$B$4-9))","v":110},{"$f":"SUM(OFFSET(テストデータ!$E3,12,9*成績表1!$B$4-9):OFFSET(テストデータ!I3,12,9*成績表1!$B$4-9))","v":186},{"$f":"SUM(OFFSET(テストデータ!E3,12,0):OFFSET(テストデータ!G3,12,0))","v":115},{"$f":"SUM(OFFSET(テストデータ!E3,12,0):OFFSET(テストデータ!I3,12,0))","v":253},{"$f":"SUM(OFFSET(テストデータ!N3,12,0):OFFSET(テストデータ!P3,12,0))","v":110},{"$f":"SUM(OFFSET(テストデータ!N3,12,0):OFFSET(テストデータ!R3,12,0))","v":186},{"$f":"SUM(OFFSET(テストデータ!W3,12,0):OFFSET(テストデータ!Y3,12,0))","v":172},{"$f":"SUM(OFFSET(テストデータ!W3,12,0):OFFSET(テストデータ!AA3,12,0))","v":228},{"$f":"SUM(OFFSET(テストデータ!AF3,12,0):OFFSET(テストデータ!AH3,12,0))","v":67},{"$f":"SUM(OFFSET(テストデータ!AF3,12,0):OFFSET(テストデータ!AJ3,12,0))","v":124},{"$f":"SUM(OFFSET(テストデータ!AO3,12,0):OFFSET(テストデータ!AQ3,12,0))","v":0},{"$f":"SUM(OFFSET(テストデータ!AO3,12,0):OFFSET(テストデータ!AS3,12,0))","v":0},{"$f":"SUM(OFFSET(テストデータ!AX3,12,0):OFFSET(テストデータ!AZ3,12,0))","v":0},{"$f":"SUM(OFFSET(テストデータ!AX3,12,0):OFFSET(テストデータ!BB3,12,0))","v":0},{"$f":"SUM(OFFSET(テストデータ!BG3,12,0):OFFSET(テストデータ!BI3,12,0))","v":179},{"$f":"SUM(OFFSET(テストデータ!BG3,12,0):OFFSET(テストデータ!BK3,12,0))","v":226},{"$f":"SUM(OFFSET(テストデータ!BL3,12,0):OFFSET(テストデータ!BN3,12,0))","v":84},{"$f":"SUM(OFFSET(テストデータ!BL3,12,0):OFFSET(テストデータ!BP3,12,0))","v":190},{"$f":"SUM(OFFSET(テストデータ!BQ3,12,0):OFFSET(テストデータ!BS3,12,0))","v":180},{"$f":"SUM(OFFSET(テストデータ!BQ3,12,0):OFFSET(テストデータ!BU3,12,0))","v":290},{"$f":"SUM(OFFSET(テストデータ!BV3,12,0):OFFSET(テストデータ!BX3,12,0))","v":148},{"$f":"SUM(OFFSET(テストデータ!BV3,12,0):OFFSET(テストデータ!BZ3,12,0))","v":236},{"$f":"SUM(OFFSET(テストデータ!CA3,12,0):OFFSET(テストデータ!CC3,12,0))","v":126},{"$f":"SUM(OFFSET(テストデータ!CA3,12,0):OFFSET(テストデータ!CE3,12,0))","v":161},{"$f":"SUM(OFFSET(テストデータ!CF3,12,0):OFFSET(テストデータ!CH3,12,0))","v":118},{"$f":"SUM(OFFSET(テストデータ!CF3,12,0):OFFSET(テストデータ!CJ3,12,0))","v":172},{"$f":"SUM(OFFSET(テストデータ!CK3,12,0):OFFSET(テストデータ!CM3,12,0))","v":130},{"$f":"SUM(OFFSET(テストデータ!CK3,12,0):OFFSET(テストデータ!CO3,12,0))","v":180},{"$f":"SUM(OFFSET(テストデータ!CP3,12,0):OFFSET(テストデータ!CR3,12,0))","v":0},{"$f":"SUM(OFFSET(テストデータ!CP3,12,0):OFFSET(テストデータ!CT3,12,0))","v":0}]
[null,"定期テスト名2","1学期 期末テスト",2,null,null,{"$f":"IF(C6=\"\",\"\",C6)","v":"数学"},{"$f":"IF(C23=\"\",\"\",C23)","v":"数学"},null,null,null,null,null,{"$f":"SUM(OFFSET(テストデータ!$E3,13,9*成績表1!$B$4-9):OFFSET(テストデータ!$G3,13,9*成績表1!$B$4-9))","v":185},{"$f":"SUM(OFFSET(テストデータ!$E3,13,9*成績表1!$B$4-9):OFFSET(テストデータ!I3,13,9*成績表1!$B$4-9))","v":305},{"$f":"SUM(OFFSET(テストデータ!E3,13,0):OFFSET(テストデータ!G3,13,0))","v":113},{"$f":"SUM(OFFSET(テストデータ!E3,13,0):OFFSET(テストデータ!I3,13,0))","v":294},{"$f":"SUM(OFFSET(テストデータ!N3,13,0):OFFSET(テストデータ!P3,13,0))","v":185},{"$f":"SUM(OFFSET(テストデータ!N3,13,0):OFFSET(テストデータ!R3,13,0))","v":305},{"$f":"SUM(OFFSET(テストデータ!W3,13,0):OFFSET(テストデータ!Y3,13,0))","v":261},{"$f":"SUM(OFFSET(テストデータ!W3,13,0):OFFSET(テストデータ!AA3,13,0))","v":299},{"$f":"SUM(OFFSET(テストデータ!AF3,13,0):OFFSET(テストデータ!AH3,13,0))","v":199},{"$f":"SUM(OFFSET(テストデータ!AF3,13,0):OFFSET(テストデータ!AJ3,13,0))","v":325},{"$f":"SUM(OFFSET(テストデータ!AO3,13,0):OFFSET(テストデータ!AQ3,13,0))","v":0},{"$f":"SUM(OFFSET(テストデータ!AO3,13,0):OFFSET(テストデータ!AS3,13,0))","v":0},{"$f":"SUM(OFFSET(テストデータ!AX3,13,0):OFFSET(テストデータ!AZ3,13,0))","v":0},{"$f":"SUM(OFFSET(テストデータ!AX3,13,0):OFFSET(テストデータ!BB3,13,0))","v":0},{"$f":"SUM(OFFSET(テストデータ!BG3,13,0):OFFSET(テストデータ!BI3,13,0))","v":135},{"$f":"SUM(OFFSET(テストデータ!BG3,13,0):OFFSET(テストデータ!BK3,13,0))","v":287},{"$f":"SUM(OFFSET(テストデータ!BL3,13,0):OFFSET(テストデータ!BN3,13,0))","v":164},{"$f":"SUM(OFFSET(テストデータ!BL3,13,0):OFFSET(テストデータ!BP3,13,0))","v":203},{"$f":"SUM(OFFSET(テストデータ!BQ3,13,0):OFFSET(テストデータ!BS3,13,0))","v":209},{"$f":"SUM(OFFSET(テストデータ!BQ3,13,0):OFFSET(テストデータ!BU3,13,0))","v":249},{"$f":"SUM(OFFSET(テストデータ!BV3,13,0):OFFSET(テストデータ!BX3,13,0))","v":170},{"$f":"SUM(OFFSET(テストデータ!BV3,13,0):OFFSET(テストデータ!BZ3,13,0))","v":216},{"$f":"SUM(OFFSET(テストデータ!CA3,13,0):OFFSET(テストデータ!CC3,13,0))","v":189},{"$f":"SUM(OFFSET(テストデータ!CA3,13,0):OFFSET(テストデータ!CE3,13,0))","v":284},{"$f":"SUM(OFFSET(テストデータ!CF3,13,0):OFFSET(テストデータ!CH3,13,0))","v":101},{"$f":"SUM(OFFSET(テストデータ!CF3,13,0):OFFSET(テストデータ!CJ3,13,0))","v":188},{"$f":"SUM(OFFSET(テストデータ!CK3,13,0):OFFSET(テストデータ!CM3,13,0))","v":120},{"$f":"SUM(OFFSET(テストデータ!CK3,13,0):OFFSET(テストデータ!CO3,13,0))","v":252},{"$f":"SUM(OFFSET(テストデータ!CP3,13,0):OFFSET(テストデータ!CR3,13,0))","v":0},{"$f":"SUM(OFFSET(テストデータ!CP3,13,0):OFFSET(テストデータ!CT3,13,0))","v":0}]
[null,"定期テスト名3","2学期 中間テスト",3,null,null,"英語","英語",null,null,null,null,null,{"$f":"SUM(OFFSET(テストデータ!$E3,14,9*成績表1!$B$4-9):OFFSET(テストデータ!$G3,14,9*成績表1!$B$4-9))","v":156},{"$f":"SUM(OFFSET(テストデータ!$E3,14,9*成績表1!$B$4-9):OFFSET(テストデータ!I3,14,9*成績表1!$B$4-9))","v":260},{"$f":"SUM(OFFSET(テストデータ!E3,14,0):OFFSET(テストデータ!G3,14,0))","v":117},{"$f":"SUM(OFFSET(テストデータ!E3,14,0):OFFSET(テストデータ!I3,14,0))","v":249},{"$f":"SUM(OFFSET(テストデータ!N3,14,0):OFFSET(テストデータ!P3,14,0))","v":156},{"$f":"SUM(OFFSET(テストデータ!N3,14,0):OFFSET(テストデータ!R3,14,0))","v":260},{"$f":"SUM(OFFSET(テストデータ!W3,14,0):OFFSET(テストデータ!Y3,14,0))","v":128},{"$f":"SUM(OFFSET(テストデータ!W3,14,0):OFFSET(テストデータ!AA3,14,0))","v":216},{"$f":"SUM(OFFSET(テストデータ!AF3,14,0):OFFSET(テストデータ!AH3,14,0))","v":146},{"$f":"SUM(OFFSET(テストデータ!AF3,14,0):OFFSET(テストデータ!AJ3,14,0))","v":263},{"$f":"SUM(OFFSET(テストデータ!AO3,14,0):OFFSET(テストデータ!AQ3,14,0))","v":0},{"$f":"SUM(OFFSET(テストデータ!AO3,14,0):OFFSET(テストデータ!AS3,14,0))","v":0},{"$f":"SUM(OFFSET(テストデータ!AX3,14,0):OFFSET(テストデータ!AZ3,14,0))","v":0},{"$f":"SUM(OFFSET(テストデータ!AX3,14,0):OFFSET(テストデータ!BB3,14,0))","v":0},{"$f":"SUM(OFFSET(テストデータ!BG3,14,0):OFFSET(テストデータ!BI3,14,0))","v":147},{"$f":"SUM(OFFSET(テストデータ!BG3,14,0):OFFSET(テストデータ!BK3,14,0))","v":286},{"$f":"SUM(OFFSET(テストデータ!BL3,14,0):OFFSET(テストデータ!BN3,14,0))","v":184},{"$f":"SUM(OFFSET(テストデータ!BL3,14,0):OFFSET(テストデータ!BP3,14,0))","v":294},{"$f":"SUM(OFFSET(テストデータ!BQ3,14,0):OFFSET(テストデータ!BS3,14,0))","v":166},{"$f":"SUM(OFFSET(テストデータ!BQ3,14,0):OFFSET(テストデータ!BU3,14,0))","v":236},{"$f":"SUM(OFFSET(テストデータ!BV3,14,0):OFFSET(テストデータ!BX3,14,0))","v":175},{"$f":"SUM(OFFSET(テストデータ!BV3,14,0):OFFSET(テストデータ!BZ3,14,0))","v":289},{"$f":"SUM(OFFSET(テストデータ!CA3,14,0):OFFSET(テストデータ!CC3,14,0))","v":173},{"$f":"SUM(OFFSET(テストデータ!CA3,14,0):OFFSET(テストデータ!CE3,14,0))","v":315},{"$f":"SUM(OFFSET(テストデータ!CF3,14,0):OFFSET(テストデータ!CH3,14,0))","v":117},{"$f":"SUM(OFFSET(テストデータ!CF3,14,0):OFFSET(テストデータ!CJ3,14,0))","v":256},{"$f":"SUM(OFFSET(テストデータ!CK3,14,0):OFFSET(テストデータ!CM3,14,0))","v":193},{"$f":"SUM(OFFSET(テストデータ!CK3,14,0):OFFSET(テストデータ!CO3,14,0))","v":324},{"$f":"SUM(OFFSET(テストデータ!CP3,14,0):OFFSET(テストデータ!CR3,14,0))","v":0},{"$f":"SUM(OFFSET(テストデータ!CP3,14,0):OFFSET(テストデータ!CT3,14,0))","v":0}]
[null,"定期テスト名4","2学期 期末テスト",4,null,null,"社会","社会",null,null,null,null,null,{"$f":"SUM(OFFSET(テストデータ!$E3,15,9*成績表1!$B$4-9):OFFSET(テストデータ!$G3,15,9*成績表1!$B$4-9))","v":253},{"$f":"SUM(OFFSET(テストデータ!$E3,15,9*成績表1!$B$4-9):OFFSET(テストデータ!I3,15,9*成績表1!$B$4-9))","v":362},{"$f":"SUM(OFFSET(テストデータ!E3,15,0):OFFSET(テストデータ!G3,15,0))","v":251},{"$f":"SUM(OFFSET(テストデータ!E3,15,0):OFFSET(テストデータ!I3,15,0))","v":323},{"$f":"SUM(OFFSET(テストデータ!N3,15,0):OFFSET(テストデータ!P3,15,0))","v":253},{"$f":"SUM(OFFSET(テストデータ!N3,15,0):OFFSET(テストデータ!R3,15,0))","v":362},{"$f":"SUM(OFFSET(テストデータ!W3,15,0):OFFSET(テストデータ!Y3,15,0))","v":260},{"$f":"SUM(OFFSET(テストデータ!W3,15,0):OFFSET(テストデータ!AA3,15,0))","v":425},{"$f":"SUM(OFFSET(テストデータ!AF3,15,0):OFFSET(テストデータ!AH3,15,0))","v":276},{"$f":"SUM(OFFSET(テストデータ!AF3,15,0):OFFSET(テストデータ!AJ3,15,0))","v":405},{"$f":"SUM(OFFSET(テストデータ!AO3,15,0):OFFSET(テストデータ!AQ3,15,0))","v":0},{"$f":"SUM(OFFSET(テストデータ!AO3,15,0):OFFSET(テストデータ!AS3,15,0))","v":0},{"$f":"SUM(OFFSET(テストデータ!AX3,15,0):OFFSET(テストデータ!AZ3,15,0))","v":0},{"$f":"SUM(OFFSET(テストデータ!AX3,15,0):OFFSET(テストデータ!BB3,15,0))","v":0},{"$f":"SUM(OFFSET(テストデータ!BG3,15,0):OFFSET(テストデータ!BI3,15,0))","v":115},{"$f":"SUM(OFFSET(テストデータ!BG3,15,0):OFFSET(テストデータ!BK3,15,0))","v":193},{"$f":"SUM(OFFSET(テストデータ!BL3,15,0):OFFSET(テストデータ!BN3,15,0))","v":98},{"$f":"SUM(OFFSET(テストデータ!BL3,15,0):OFFSET(テストデータ!BP3,15,0))","v":232},{"$f":"SUM(OFFSET(テストデータ!BQ3,15,0):OFFSET(テストデータ!BS3,15,0))","v":76},{"$f":"SUM(OFFSET(テストデータ!BQ3,15,0):OFFSET(テストデータ!BU3,15,0))","v":136},{"$f":"SUM(OFFSET(テストデータ!BV3,15,0):OFFSET(テストデータ!BX3,15,0))","v":109},{"$f":"SUM(OFFSET(テストデータ!BV3,15,0):OFFSET(テストデータ!BZ3,15,0))","v":168},{"$f":"SUM(OFFSET(テストデータ!CA3,15,0):OFFSET(テストデータ!CC3,15,0))","v":159},{"$f":"SUM(OFFSET(テストデータ!CA3,15,0):OFFSET(テストデータ!CE3,15,0))","v":213},{"$f":"SUM(OFFSET(テストデータ!CF3,15,0):OFFSET(テストデータ!CH3,15,0))","v":106},{"$f":"SUM(OFFSET(テストデータ!CF3,15,0):OFFSET(テストデータ!CJ3,15,0))","v":149},{"$f":"SUM(OFFSET(テストデータ!CK3,15,0):OFFSET(テストデータ!CM3,15,0))","v":167},{"$f":"SUM(OFFSET(テストデータ!CK3,15,0):OFFSET(テストデータ!CO3,15,0))","v":208},{"$f":"SUM(OFFSET(テストデータ!CP3,15,0):OFFSET(テストデータ!CR3,15,0))","v":0},{"$f":"SUM(OFFSET(テストデータ!CP3,15,0):OFFSET(テストデータ!CT3,15,0))","v":0}]
[null,"定期テスト名5","3学期 期末テスト",5,null,null,"理科","理科",null,null,null,null,null,{"$f":"SUM(OFFSET(テストデータ!$E3,16,9*成績表1!$B$4-9):OFFSET(テストデータ!$G3,16,9*成績表1!$B$4-9))","v":143},{"$f":"SUM(OFFSET(テストデータ!$E3,16,9*成績表1!$B$4-9):OFFSET(テストデータ!I3,16,9*成績表1!$B$4-9))","v":255},{"$f":"SUM(OFFSET(テストデータ!E3,16,0):OFFSET(テストデータ!G3,16,0))","v":164},{"$f":"SUM(OFFSET(テストデータ!E3,16,0):OFFSET(テストデータ!I3,16,0))","v":289},{"$f":"SUM(OFFSET(テストデータ!N3,16,0):OFFSET(テストデータ!P3,16,0))","v":143},{"$f":"SUM(OFFSET(テストデータ!N3,16,0):OFFSET(テストデータ!R3,16,0))","v":255},{"$f":"SUM(OFFSET(テストデータ!W3,16,0):OFFSET(テストデータ!Y3,16,0))","v":143},{"$f":"SUM(OFFSET(テストデータ!W3,16,0):OFFSET(テストデータ!AA3,16,0))","v":292},{"$f":"SUM(OFFSET(テストデータ!AF3,16,0):OFFSET(テストデータ!AH3,16,0))","v":194},{"$f":"SUM(OFFSET(テストデータ!AF3,16,0):OFFSET(テストデータ!AJ3,16,0))","v":324},{"$f":"SUM(OFFSET(テストデータ!AO3,16,0):OFFSET(テストデータ!AQ3,16,0))","v":0},{"$f":"SUM(OFFSET(テストデータ!AO3,16,0):OFFSET(テストデータ!AS3,16,0))","v":0},{"$f":"SUM(OFFSET(テストデータ!AX3,16,0):OFFSET(テストデータ!AZ3,16,0))","v":0},{"$f":"SUM(OFFSET(テストデータ!AX3,16,0):OFFSET(テストデータ!BB3,16,0))","v":0},{"$f":"SUM(OFFSET(テストデータ!BG3,16,0):OFFSET(テストデータ!BI3,16,0))","v":170},{"$f":"SUM(OFFSET(テストデータ!BG3,16,0):OFFSET(テストデータ!BK3,16,0))","v":236},{"$f":"SUM(OFFSET(テストデータ!BL3,16,0):OFFSET(テストデータ!BN3,16,0))","v":129},{"$f":"SUM(OFFSET(テストデータ!BL3,16,0):OFFSET(テストデータ!BP3,16,0))","v":190},{"$f":"SUM(OFFSET(テストデータ!BQ3,16,0):OFFSET(テストデータ!BS3,16,0))","v":156},{"$f":"SUM(OFFSET(テストデータ!BQ3,16,0):OFFSET(テストデータ!BU3,16,0))","v":220},{"$f":"SUM(OFFSET(テストデータ!BV3,16,0):OFFSET(テストデータ!BX3,16,0))","v":98},{"$f":"SUM(OFFSET(テストデータ!BV3,16,0):OFFSET(テストデータ!BZ3,16,0))","v":169},{"$f":"SUM(OFFSET(テストデータ!CA3,16,0):OFFSET(テストデータ!CC3,16,0))","v":153},{"$f":"SUM(OFFSET(テストデータ!CA3,16,0):OFFSET(テストデータ!CE3,16,0))","v":249},{"$f":"SUM(OFFSET(テストデータ!CF3,16,0):OFFSET(テストデータ!CH3,16,0))","v":82},{"$f":"SUM(OFFSET(テストデータ!CF3,16,0):OFFSET(テストデータ!CJ3,16,0))","v":123},{"$f":"SUM(OFFSET(テストデータ!CK3,16,0):OFFSET(テストデータ!CM3,16,0))","v":143},{"$f":"SUM(OFFSET(テストデータ!CK3,16,0):OFFSET(テストデータ!CO3,16,0))","v":212},{"$f":"SUM(OFFSET(テストデータ!CP3,16,0):OFFSET(テストデータ!CR3,16,0))","v":0},{"$f":"SUM(OFFSET(テストデータ!CP3,16,0):OFFSET(テストデータ!CT3,16,0))","v":0}]
[null,"定期テスト名6",null,6,null,null,"3科目","3科目",null,null,null,null,null,{"$f":"SUM(OFFSET(テストデータ!$E3,17,9*成績表1!$B$4-9):OFFSET(テストデータ!$G3,17,9*成績表1!$B$4-9))","v":211},{"$f":"SUM(OFFSET(テストデータ!$E3,17,9*成績表1!$B$4-9):OFFSET(テストデータ!I3,17,9*成績表1!$B$4-9))","v":381},{"$f":"SUM(OFFSET(テストデータ!E3,17,0):OFFSET(テストデータ!G3,17,0))","v":215},{"$f":"SUM(OFFSET(テストデータ!E3,17,0):OFFSET(テストデータ!I3,17,0))","v":323},{"$f":"SUM(OFFSET(テストデータ!N3,17,0):OFFSET(テストデータ!P3,17,0))","v":211},{"$f":"SUM(OFFSET(テストデータ!N3,17,0):OFFSET(テストデータ!R3,17,0))","v":381},{"$f":"SUM(OFFSET(テストデータ!W3,17,0):OFFSET(テストデータ!Y3,17,0))","v":216},{"$f":"SUM(OFFSET(テストデータ!W3,17,0):OFFSET(テストデータ!AA3,17,0))","v":348},{"$f":"SUM(OFFSET(テストデータ!AF3,17,0):OFFSET(テストデータ!AH3,17,0))","v":219},{"$f":"SUM(OFFSET(テストデータ!AF3,17,0):OFFSET(テストデータ!AJ3,17,0))","v":354},{"$f":"SUM(OFFSET(テストデータ!AO3,17,0):OFFSET(テストデータ!AQ3,17,0))","v":0},{"$f":"SUM(OFFSET(テストデータ!AO3,17,0):OFFSET(テストデータ!AS3,17,0))","v":0},{"$f":"SUM(OFFSET(テストデータ!AX3,17,0):OFFSET(テストデータ!AZ3,17,0))","v":0},{"$f":"SUM(OFFSET(テストデータ!AX3,17,0):OFFSET(テストデータ!BB3,17,0))","v":0},{"$f":"SUM(OFFSET(テストデータ!BG3,17,0):OFFSET(テストデータ!BI3,17,0))","v":99},{"$f":"SUM(OFFSET(テストデータ!BG3,17,0):OFFSET(テストデータ!BK3,17,0))","v":216},{"$f":"SUM(OFFSET(テストデータ!BL3,17,0):OFFSET(テストデータ!BN3,17,0))","v":86},{"$f":"SUM(OFFSET(テストデータ!BL3,17,0):OFFSET(テストデータ!BP3,17,0))","v":158},{"$f":"SUM(OFFSET(テストデータ!BQ3,17,0):OFFSET(テストデータ!BS3,17,0))","v":101},{"$f":"SUM(OFFSET(テストデータ!BQ3,17,0):OFFSET(テストデータ!BU3,17,0))","v":225},{"$f":"SUM(OFFSET(テストデータ!BV3,17,0):OFFSET(テストデータ!BX3,17,0))","v":72},{"$f":"SUM(OFFSET(テストデータ!BV3,17,0):OFFSET(テストデータ!BZ3,17,0))","v":251},{"$f":"SUM(OFFSET(テストデータ!CA3,17,0):OFFSET(テストデータ!CC3,17,0))","v":128},{"$f":"SUM(OFFSET(テストデータ!CA3,17,0):OFFSET(テストデータ!CE3,17,0))","v":219},{"$f":"SUM(OFFSET(テストデータ!CF3,17,0):OFFSET(テストデータ!CH3,17,0))","v":82},{"$f":"SUM(OFFSET(テストデータ!CF3,17,0):OFFSET(テストデータ!CJ3,17,0))","v":213},{"$f":"SUM(OFFSET(テストデータ!CK3,17,0):OFFSET(テストデータ!CM3,17,0))","v":101},{"$f":"SUM(OFFSET(テストデータ!CK3,17,0):OFFSET(テストデータ!CO3,17,0))","v":181},{"$f":"SUM(OFFSET(テストデータ!CP3,17,0):OFFSET(テストデータ!CR3,17,0))","v":0},{"$f":"SUM(OFFSET(テストデータ!CP3,17,0):OFFSET(テストデータ!CT3,17,0))","v":0}]
[null,"実力テスト名",null,null,null,null,"5科目","5科目",null,null,null,null,null,{"$f":"SUM(OFFSET(テストデータ!$E3,18,9*成績表1!$B$4-9):OFFSET(テストデータ!$G3,18,9*成績表1!$B$4-9))","v":225},{"$f":"SUM(OFFSET(テストデータ!$E3,18,9*成績表1!$B$4-9):OFFSET(テストデータ!I3,18,9*成績表1!$B$4-9))","v":383},{"$f":"SUM(OFFSET(テストデータ!E3,18,0):OFFSET(テストデータ!G3,18,0))","v":219},{"$f":"SUM(OFFSET(テストデータ!E3,18,0):OFFSET(テストデータ!I3,18,0))","v":316},{"$f":"SUM(OFFSET(テストデータ!N3,18,0):OFFSET(テストデータ!P3,18,0))","v":225},{"$f":"SUM(OFFSET(テストデータ!N3,18,0):OFFSET(テストデータ!R3,18,0))","v":383},{"$f":"SUM(OFFSET(テストデータ!W3,18,0):OFFSET(テストデータ!Y3,18,0))","v":179},{"$f":"SUM(OFFSET(テストデータ!W3,18,0):OFFSET(テストデータ!AA3,18,0))","v":361},{"$f":"SUM(OFFSET(テストデータ!AF3,18,0):OFFSET(テストデータ!AH3,18,0))","v":243},{"$f":"SUM(OFFSET(テストデータ!AF3,18,0):OFFSET(テストデータ!AJ3,18,0))","v":415},{"$f":"SUM(OFFSET(テストデータ!AO3,18,0):OFFSET(テストデータ!AQ3,18,0))","v":0},{"$f":"SUM(OFFSET(テストデータ!AO3,18,0):OFFSET(テストデータ!AS3,18,0))","v":0},{"$f":"SUM(OFFSET(テストデータ!AX3,18,0):OFFSET(テストデータ!AZ3,18,0))","v":0},{"$f":"SUM(OFFSET(テストデータ!AX3,18,0):OFFSET(テストデータ!BB3,18,0))","v":0},{"$f":"SUM(OFFSET(テストデータ!BG3,18,0):OFFSET(テストデータ!BI3,18,0))","v":90},{"$f":"SUM(OFFSET(テストデータ!BG3,18,0):OFFSET(テストデータ!BK3,18,0))","v":199},{"$f":"SUM(OFFSET(テストデータ!BL3,18,0):OFFSET(テストデータ!BN3,18,0))","v":160},{"$f":"SUM(OFFSET(テストデータ!BL3,18,0):OFFSET(テストデータ!BP3,18,0))","v":257},{"$f":"SUM(OFFSET(テストデータ!BQ3,18,0):OFFSET(テストデータ!BS3,18,0))","v":115},{"$f":"SUM(OFFSET(テストデータ!BQ3,18,0):OFFSET(テストデータ!BU3,18,0))","v":193},{"$f":"SUM(OFFSET(テストデータ!BV3,18,0):OFFSET(テストデータ!BX3,18,0))","v":135},{"$f":"SUM(OFFSET(テストデータ!BV3,18,0):OFFSET(テストデータ!BZ3,18,0))","v":262},{"$f":"SUM(OFFSET(テストデータ!CA3,18,0):OFFSET(テストデータ!CC3,18,0))","v":125},{"$f":"SUM(OFFSET(テストデータ!CA3,18,0):OFFSET(テストデータ!CE3,18,0))","v":248},{"$f":"SUM(OFFSET(テストデータ!CF3,18,0):OFFSET(テストデータ!CH3,18,0))","v":117},{"$f":"SUM(OFFSET(テストデータ!CF3,18,0):OFFSET(テストデータ!CJ3,18,0))","v":204},{"$f":"SUM(OFFSET(テストデータ!CK3,18,0):OFFSET(テストデータ!CM3,18,0))","v":176},{"$f":"SUM(OFFSET(テストデータ!CK3,18,0):OFFSET(テストデータ!CO3,18,0))","v":252},{"$f":"SUM(OFFSET(テストデータ!CP3,18,0):OFFSET(テストデータ!CR3,18,0))","v":0},{"$f":"SUM(OFFSET(テストデータ!CP3,18,0):OFFSET(テストデータ!CT3,18,0))","v":0}]
[null,"テスト名","校内実力テスト",null,null,null,{"$f":"IF(C10=\"\",\"\",C10)","v":"保体"},null,null,null,null,null,null,{"$f":"SUM(OFFSET(テストデータ!$E3,19,9*成績表1!$B$4-9):OFFSET(テストデータ!$G3,19,9*成績表1!$B$4-9))","v":120},{"$f":"SUM(OFFSET(テストデータ!$E3,19,9*成績表1!$B$4-9):OFFSET(テストデータ!I3,19,9*成績表1!$B$4-9))","v":231},{"$f":"SUM(OFFSET(テストデータ!E3,19,0):OFFSET(テストデータ!G3,19,0))","v":156},{"$f":"SUM(OFFSET(テストデータ!E3,19,0):OFFSET(テストデータ!I3,19,0))","v":321},{"$f":"SUM(OFFSET(テストデータ!N3,19,0):OFFSET(テストデータ!P3,19,0))","v":120},{"$f":"SUM(OFFSET(テストデータ!N3,19,0):OFFSET(テストデータ!R3,19,0))","v":231},{"$f":"SUM(OFFSET(テストデータ!W3,19,0):OFFSET(テストデータ!Y3,19,0))","v":247},{"$f":"SUM(OFFSET(テストデータ!W3,19,0):OFFSET(テストデータ!AA3,19,0))","v":323},{"$f":"SUM(OFFSET(テストデータ!AF3,19,0):OFFSET(テストデータ!AH3,19,0))","v":209},{"$f":"SUM(OFFSET(テストデータ!AF3,19,0):OFFSET(テストデータ!AJ3,19,0))","v":333},{"$f":"SUM(OFFSET(テストデータ!AO3,19,0):OFFSET(テストデータ!AQ3,19,0))","v":0},{"$f":"SUM(OFFSET(テストデータ!AO3,19,0):OFFSET(テストデータ!AS3,19,0))","v":0},{"$f":"SUM(OFFSET(テストデータ!AX3,19,0):OFFSET(テストデータ!AZ3,19,0))","v":0},{"$f":"SUM(OFFSET(テストデータ!AX3,19,0):OFFSET(テストデータ!BB3,19,0))","v":0},{"$f":"SUM(OFFSET(テストデータ!BG3,19,0):OFFSET(テストデータ!BI3,19,0))","v":98},{"$f":"SUM(OFFSET(テストデータ!BG3,19,0):OFFSET(テストデータ!BK3,19,0))","v":140},{"$f":"SUM(OFFSET(テストデータ!BL3,19,0):OFFSET(テストデータ!BN3,19,0))","v":151},{"$f":"SUM(OFFSET(テストデータ!BL3,19,0):OFFSET(テストデータ!BP3,19,0))","v":278},{"$f":"SUM(OFFSET(テストデータ!BQ3,19,0):OFFSET(テストデータ!BS3,19,0))","v":172},{"$f":"SUM(OFFSET(テストデータ!BQ3,19,0):OFFSET(テストデータ!BU3,19,0))","v":267},{"$f":"SUM(OFFSET(テストデータ!BV3,19,0):OFFSET(テストデータ!BX3,19,0))","v":92},{"$f":"SUM(OFFSET(テストデータ!BV3,19,0):OFFSET(テストデータ!BZ3,19,0))","v":216},{"$f":"SUM(OFFSET(テストデータ!CA3,19,0):OFFSET(テストデータ!CC3,19,0))","v":214},{"$f":"SUM(OFFSET(テストデータ!CA3,19,0):OFFSET(テストデータ!CE3,19,0))","v":262},{"$f":"SUM(OFFSET(テストデータ!CF3,19,0):OFFSET(テストデータ!CH3,19,0))","v":113},{"$f":"SUM(OFFSET(テストデータ!CF3,19,0):OFFSET(テストデータ!CJ3,19,0))","v":183},{"$f":"SUM(OFFSET(テストデータ!CK3,19,0):OFFSET(テストデータ!CM3,19,0))","v":211},{"$f":"SUM(OFFSET(テストデータ!CK3,19,0):OFFSET(テストデータ!CO3,19,0))","v":300},{"$f":"SUM(OFFSET(テストデータ!CP3,19,0):OFFSET(テストデータ!CR3,19,0))","v":0},{"$f":"SUM(OFFSET(テストデータ!CP3,19,0):OFFSET(テストデータ!CT3,19,0))","v":0}]
[null,"科目1","国語",null,null,null,{"$f":"IF(C11=\"\",\"\",C11)","v":"技家"},null,null,null,null,null,null,{"$f":"SUM(OFFSET(テストデータ!$E3,20,9*成績表1!$B$4-9):OFFSET(テストデータ!$G3,20,9*成績表1!$B$4-9))","v":177},{"$f":"SUM(OFFSET(テストデータ!$E3,20,9*成績表1!$B$4-9):OFFSET(テストデータ!I3,20,9*成績表1!$B$4-9))","v":297},{"$f":"SUM(OFFSET(テストデータ!E3,20,0):OFFSET(テストデータ!G3,20,0))","v":164},{"$f":"SUM(OFFSET(テストデータ!E3,20,0):OFFSET(テストデータ!I3,20,0))","v":279},{"$f":"SUM(OFFSET(テストデータ!N3,20,0):OFFSET(テストデータ!P3,20,0))","v":177},{"$f":"SUM(OFFSET(テストデータ!N3,20,0):OFFSET(テストデータ!R3,20,0))","v":297},{"$f":"SUM(OFFSET(テストデータ!W3,20,0):OFFSET(テストデータ!Y3,20,0))","v":198},{"$f":"SUM(OFFSET(テストデータ!W3,20,0):OFFSET(テストデータ!AA3,20,0))","v":268},{"$f":"SUM(OFFSET(テストデータ!AF3,20,0):OFFSET(テストデータ!AH3,20,0))","v":132},{"$f":"SUM(OFFSET(テストデータ!AF3,20,0):OFFSET(テストデータ!AJ3,20,0))","v":201},{"$f":"SUM(OFFSET(テストデータ!AO3,20,0):OFFSET(テストデータ!AQ3,20,0))","v":0},{"$f":"SUM(OFFSET(テストデータ!AO3,20,0):OFFSET(テストデータ!AS3,20,0))","v":0},{"$f":"SUM(OFFSET(テストデータ!AX3,20,0):OFFSET(テストデータ!AZ3,20,0))","v":0},{"$f":"SUM(OFFSET(テストデータ!AX3,20,0):OFFSET(テストデータ!BB3,20,0))","v":0},{"$f":"SUM(OFFSET(テストデータ!BG3,20,0):OFFSET(テストデータ!BI3,20,0))","v":89},{"$f":"SUM(OFFSET(テストデータ!BG3,20,0):OFFSET(テストデータ!BK3,20,0))","v":166},{"$f":"SUM(OFFSET(テストデータ!BL3,20,0):OFFSET(テストデータ!BN3,20,0))","v":210},{"$f":"SUM(OFFSET(テストデータ!BL3,20,0):OFFSET(テストデータ!BP3,20,0))","v":310},{"$f":"SUM(OFFSET(テストデータ!BQ3,20,0):OFFSET(テストデータ!BS3,20,0))","v":178},{"$f":"SUM(OFFSET(テストデータ!BQ3,20,0):OFFSET(テストデータ!BU3,20,0))","v":234},{"$f":"SUM(OFFSET(テストデータ!BV3,20,0):OFFSET(テストデータ!BX3,20,0))","v":132},{"$f":"SUM(OFFSET(テストデータ!BV3,20,0):OFFSET(テストデータ!BZ3,20,0))","v":218},{"$f":"SUM(OFFSET(テストデータ!CA3,20,0):OFFSET(テストデータ!CC3,20,0))","v":131},{"$f":"SUM(OFFSET(テストデータ!CA3,20,0):OFFSET(テストデータ!CE3,20,0))","v":220},{"$f":"SUM(OFFSET(テストデータ!CF3,20,0):OFFSET(テストデータ!CH3,20,0))","v":156},{"$f":"SUM(OFFSET(テストデータ!CF3,20,0):OFFSET(テストデータ!CJ3,20,0))","v":233},{"$f":"SUM(OFFSET(テストデータ!CK3,20,0):OFFSET(テストデータ!CM3,20,0))","v":199},{"$f":"SUM(OFFSET(テストデータ!CK3,20,0):OFFSET(テストデータ!CO3,20,0))","v":320},{"$f":"SUM(OFFSET(テストデータ!CP3,20,0):OFFSET(テストデータ!CR3,20,0))","v":0},{"$f":"SUM(OFFSET(テストデータ!CP3,20,0):OFFSET(テストデータ!CT3,20,0))","v":0}]
[null,"科目2","数学",null,null,null,"美術",null,null,null,null,null,null,{"$f":"SUM(OFFSET(テストデータ!$E3,21,9*成績表1!$B$4-9):OFFSET(テストデータ!$G3,21,9*成績表1!$B$4-9))","v":0},{"$f":"SUM(OFFSET(テストデータ!$E3,21,9*成績表1!$B$4-9):OFFSET(テストデータ!I3,21,9*成績表1!$B$4-9))","v":0},{"$f":"SUM(OFFSET(テストデータ!E3,21,0):OFFSET(テストデータ!G3,21,0))","v":0},{"$f":"SUM(OFFSET(テストデータ!E3,21,0):OFFSET(テストデータ!I3,21,0))","v":0},{"$f":"SUM(OFFSET(テストデータ!N3,21,0):OFFSET(テストデータ!P3,21,0))","v":0},{"$f":"SUM(OFFSET(テストデータ!N3,21,0):OFFSET(テストデータ!R3,21,0))","v":0},{"$f":"SUM(OFFSET(テストデータ!W3,21,0):OFFSET(テストデータ!Y3,21,0))","v":0},{"$f":"SUM(OFFSET(テストデータ!W3,21,0):OFFSET(テストデータ!AA3,21,0))","v":0},{"$f":"SUM(OFFSET(テストデータ!AF3,21,0):OFFSET(テストデータ!AH3,21,0))","v":0},{"$f":"SUM(OFFSET(テストデータ!AF3,21,0):OFFSET(テストデータ!AJ3,21,0))","v":0},{"$f":"SUM(OFFSET(テストデータ!AO3,21,0):OFFSET(テストデータ!AQ3,21,0))","v":0},{"$f":"SUM(OFFSET(テストデータ!AO3,21,0):OFFSET(テストデータ!AS3,21,0))","v":0},{"$f":"SUM(OFFSET(テストデータ!AX3,21,0):OFFSET(テストデータ!AZ3,21,0))","v":0},{"$f":"SUM(OFFSET(テストデータ!AX3,21,0):OFFSET(テストデータ!BB3,21,0))","v":0},{"$f":"SUM(OFFSET(テストデータ!BG3,21,0):OFFSET(テストデータ!BI3,21,0))","v":0},{"$f":"SUM(OFFSET(テストデータ!BG3,21,0):OFFSET(テストデータ!BK3,21,0))","v":0},{"$f":"SUM(OFFSET(テストデータ!BL3,21,0):OFFSET(テストデータ!BN3,21,0))","v":0},{"$f":"SUM(OFFSET(テストデータ!BL3,21,0):OFFSET(テストデータ!BP3,21,0))","v":0},{"$f":"SUM(OFFSET(テストデータ!BQ3,21,0):OFFSET(テストデータ!BS3,21,0))","v":0},{"$f":"SUM(OFFSET(テストデータ!BQ3,21,0):OFFSET(テストデータ!BU3,21,0))","v":0},{"$f":"SUM(OFFSET(テストデータ!BV3,21,0):OFFSET(テストデータ!BX3,21,0))","v":0},{"$f":"SUM(OFFSET(テストデータ!BV3,21,0):OFFSET(テストデータ!BZ3,21,0))","v":0},{"$f":"SUM(OFFSET(テストデータ!CA3,21,0):OFFSET(テストデータ!CC3,21,0))","v":0},{"$f":"SUM(OFFSET(テストデータ!CA3,21,0):OFFSET(テストデータ!CE3,21,0))","v":0},{"$f":"SUM(OFFSET(テストデータ!CF3,21,0):OFFSET(テストデータ!CH3,21,0))","v":0},{"$f":"SUM(OFFSET(テストデータ!CF3,21,0):OFFSET(テストデータ!CJ3,21,0))","v":0},{"$f":"SUM(OFFSET(テストデータ!CK3,21,0):OFFSET(テストデータ!CM3,21,0))","v":0},{"$f":"SUM(OFFSET(テストデータ!CK3,21,0):OFFSET(テストデータ!CO3,21,0))","v":0},{"$f":"SUM(OFFSET(テストデータ!CP3,21,0):OFFSET(テストデータ!CR3,21,0))","v":0},{"$f":"SUM(OFFSET(テストデータ!CP3,21,0):OFFSET(テストデータ!CT3,21,0))","v":0}]
[null,"科目3","英語",null,null,null,"音楽",null,null,null,null,null,null,{"$f":"SUM(OFFSET(テストデータ!$E3,22,9*成績表1!$B$4-9):OFFSET(テストデータ!$G3,22,9*成績表1!$B$4-9))","v":0},{"$f":"SUM(OFFSET(テストデータ!$E3,22,9*成績表1!$B$4-9):OFFSET(テストデータ!I3,22,9*成績表1!$B$4-9))","v":0},{"$f":"SUM(OFFSET(テストデータ!E3,22,0):OFFSET(テストデータ!G3,22,0))","v":0},{"$f":"SUM(OFFSET(テストデータ!E3,22,0):OFFSET(テストデータ!I3,22,0))","v":0},{"$f":"SUM(OFFSET(テストデータ!N3,22,0):OFFSET(テストデータ!P3,22,0))","v":0},{"$f":"SUM(OFFSET(テストデータ!N3,22,0):OFFSET(テストデータ!R3,22,0))","v":0},{"$f":"SUM(OFFSET(テストデータ!W3,22,0):OFFSET(テストデータ!Y3,22,0))","v":0},{"$f":"SUM(OFFSET(テストデータ!W3,22,0):OFFSET(テストデータ!AA3,22,0))","v":0},{"$f":"SUM(OFFSET(テストデータ!AF3,22,0):OFFSET(テストデータ!AH3,22,0))","v":0},{"$f":"SUM(OFFSET(テストデータ!AF3,22,0):OFFSET(テストデータ!AJ3,22,0))","v":0},{"$f":"SUM(OFFSET(テストデータ!AO3,22,0):OFFSET(テストデータ!AQ3,22,0))","v":0},{"$f":"SUM(OFFSET(テストデータ!AO3,22,0):OFFSET(テストデータ!AS3,22,0))","v":0},{"$f":"SUM(OFFSET(テストデータ!AX3,22,0):OFFSET(テストデータ!AZ3,22,0))","v":0},{"$f":"SUM(OFFSET(テストデータ!AX3,22,0):OFFSET(テストデータ!BB3,22,0))","v":0},{"$f":"SUM(OFFSET(テストデータ!BG3,22,0):OFFSET(テストデータ!BI3,22,0))","v":0},{"$f":"SUM(OFFSET(テストデータ!BG3,22,0):OFFSET(テストデータ!BK3,22,0))","v":0},{"$f":"SUM(OFFSET(テストデータ!BL3,22,0):OFFSET(テストデータ!BN3,22,0))","v":0},{"$f":"SUM(OFFSET(テストデータ!BL3,22,0):OFFSET(テストデータ!BP3,22,0))","v":0},{"$f":"SUM(OFFSET(テストデータ!BQ3,22,0):OFFSET(テストデータ!BS3,22,0))","v":0},{"$f":"SUM(OFFSET(テストデータ!BQ3,22,0):OFFSET(テストデータ!BU3,22,0))","v":0},{"$f":"SUM(OFFSET(テストデータ!BV3,22,0):OFFSET(テストデータ!BX3,22,0))","v":0},{"$f":"SUM(OFFSET(テストデータ!BV3,22,0):OFFSET(テストデータ!BZ3,22,0))","v":0},{"$f":"SUM(OFFSET(テストデータ!CA3,22,0):OFFSET(テストデータ!CC3,22,0))","v":0},{"$f":"SUM(OFFSET(テストデータ!CA3,22,0):OFFSET(テストデータ!CE3,22,0))","v":0},{"$f":"SUM(OFFSET(テストデータ!CF3,22,0):OFFSET(テストデータ!CH3,22,0))","v":0},{"$f":"SUM(OFFSET(テストデータ!CF3,22,0):OFFSET(テストデータ!CJ3,22,0))","v":0},{"$f":"SUM(OFFSET(テストデータ!CK3,22,0):OFFSET(テストデータ!CM3,22,0))","v":0},{"$f":"SUM(OFFSET(テストデータ!CK3,22,0):OFFSET(テストデータ!CO3,22,0))","v":0},{"$f":"SUM(OFFSET(テストデータ!CP3,22,0):OFFSET(テストデータ!CR3,22,0))","v":0},{"$f":"SUM(OFFSET(テストデータ!CP3,22,0):OFFSET(テストデータ!CT3,22,0))","v":0}]
[null,"科目4","社会",null,null,null,null,null,null,null,null,null,null,{"$f":"SUM(OFFSET(テストデータ!$E3,23,9*成績表1!$B$4-9):OFFSET(テストデータ!$G3,23,9*成績表1!$B$4-9))","v":0},{"$f":"SUM(OFFSET(テストデータ!$E3,23,9*成績表1!$B$4-9):OFFSET(テストデータ!I3,23,9*成績表1!$B$4-9))","v":0},{"$f":"SUM(OFFSET(テストデータ!E3,23,0):OFFSET(テストデータ!G3,23,0))","v":0},{"$f":"SUM(OFFSET(テストデータ!E3,23,0):OFFSET(テストデータ!I3,23,0))","v":0},{"$f":"SUM(OFFSET(テストデータ!N3,23,0):OFFSET(テストデータ!P3,23,0))","v":0},{"$f":"SUM(OFFSET(テストデータ!N3,23,0):OFFSET(テストデータ!R3,23,0))","v":0},{"$f":"SUM(OFFSET(テストデータ!W3,23,0):OFFSET(テストデータ!Y3,23,0))","v":0},{"$f":"SUM(OFFSET(テストデータ!W3,23,0):OFFSET(テストデータ!AA3,23,0))","v":0},{"$f":"SUM(OFFSET(テストデータ!AF3,23,0):OFFSET(テストデータ!AH3,23,0))","v":0},{"$f":"SUM(OFFSET(テストデータ!AF3,23,0):OFFSET(テストデータ!AJ3,23,0))","v":0},{"$f":"SUM(OFFSET(テストデータ!AO3,23,0):OFFSET(テストデータ!AQ3,23,0))","v":0},{"$f":"SUM(OFFSET(テストデータ!AO3,23,0):OFFSET(テストデータ!AS3,23,0))","v":0},{"$f":"SUM(OFFSET(テストデータ!AX3,23,0):OFFSET(テストデータ!AZ3,23,0))","v":0},{"$f":"SUM(OFFSET(テストデータ!AX3,23,0):OFFSET(テストデータ!BB3,23,0))","v":0},{"$f":"SUM(OFFSET(テストデータ!BG3,23,0):OFFSET(テストデータ!BI3,23,0))","v":0},{"$f":"SUM(OFFSET(テストデータ!BG3,23,0):OFFSET(テストデータ!BK3,23,0))","v":0},{"$f":"SUM(OFFSET(テストデータ!BL3,23,0):OFFSET(テストデータ!BN3,23,0))","v":0},{"$f":"SUM(OFFSET(テストデータ!BL3,23,0):OFFSET(テストデータ!BP3,23,0))","v":0},{"$f":"SUM(OFFSET(テストデータ!BQ3,23,0):OFFSET(テストデータ!BS3,23,0))","v":0},{"$f":"SUM(OFFSET(テストデータ!BQ3,23,0):OFFSET(テストデータ!BU3,23,0))","v":0},{"$f":"SUM(OFFSET(テストデータ!BV3,23,0):OFFSET(テストデータ!BX3,23,0))","v":0},{"$f":"SUM(OFFSET(テストデータ!BV3,23,0):OFFSET(テストデータ!BZ3,23,0))","v":0},{"$f":"SUM(OFFSET(テストデータ!CA3,23,0):OFFSET(テストデータ!CC3,23,0))","v":0},{"$f":"SUM(OFFSET(テストデータ!CA3,23,0):OFFSET(テストデータ!CE3,23,0))","v":0},{"$f":"SUM(OFFSET(テストデータ!CF3,23,0):OFFSET(テストデータ!CH3,23,0))","v":0},{"$f":"SUM(OFFSET(テストデータ!CF3,23,0):OFFSET(テストデータ!CJ3,23,0))","v":0},{"$f":"SUM(OFFSET(テストデータ!CK3,23,0):OFFSET(テストデータ!CM3,23,0))","v":0},{"$f":"SUM(OFFSET(テストデータ!CK3,23,0):OFFSET(テストデータ!CO3,23,0))","v":0},{"$f":"SUM(OFFSET(テストデータ!CP3,23,0):OFFSET(テストデータ!CR3,23,0))","v":0},{"$f":"SUM(OFFSET(テストデータ!CP3,23,0):OFFSET(テストデータ!CT3,23,0))","v":0}]
[null,"科目5","理科",null,null,null,null,null,null,null,null,null,null,{"$f":"SUM(OFFSET(テストデータ!$E3,24,9*成績表1!$B$4-9):OFFSET(テストデータ!$G3,24,9*成績表1!$B$4-9))","v":0},{"$f":"SUM(OFFSET(テストデータ!$E3,24,9*成績表1!$B$4-9):OFFSET(テストデータ!I3,24,9*成績表1!$B$4-9))","v":0},{"$f":"SUM(OFFSET(テストデータ!E3,24,0):OFFSET(テストデータ!G3,24,0))","v":0},{"$f":"SUM(OFFSET(テストデータ!E3,24,0):OFFSET(テストデータ!I3,24,0))","v":0},{"$f":"SUM(OFFSET(テストデータ!N3,24,0):OFFSET(テストデータ!P3,24,0))","v":0},{"$f":"SUM(OFFSET(テストデータ!N3,24,0):OFFSET(テストデータ!R3,24,0))","v":0},{"$f":"SUM(OFFSET(テストデータ!W3,24,0):OFFSET(テストデータ!Y3,24,0))","v":0},{"$f":"SUM(OFFSET(テストデータ!W3,24,0):OFFSET(テストデータ!AA3,24,0))","v":0},{"$f":"SUM(OFFSET(テストデータ!AF3,24,0):OFFSET(テストデータ!AH3,24,0))","v":0},{"$f":"SUM(OFFSET(テストデータ!AF3,24,0):OFFSET(テストデータ!AJ3,24,0))","v":0},{"$f":"SUM(OFFSET(テストデータ!AO3,24,0):OFFSET(テストデータ!AQ3,24,0))","v":0},{"$f":"SUM(OFFSET(テストデータ!AO3,24,0):OFFSET(テストデータ!AS3,24,0))","v":0},{"$f":"SUM(OFFSET(テストデータ!AX3,24,0):OFFSET(テストデータ!AZ3,24,0))","v":0},{"$f":"SUM(OFFSET(テストデータ!AX3,24,0):OFFSET(テストデータ!BB3,24,0))","v":0},{"$f":"SUM(OFFSET(テストデータ!BG3,24,0):OFFSET(テストデータ!BI3,24,0))","v":0},{"$f":"SUM(OFFSET(テストデータ!BG3,24,0):OFFSET(テストデータ!BK3,24,0))","v":0},{"$f":"SUM(OFFSET(テストデータ!BL3,24,0):OFFSET(テストデータ!BN3,24,0))","v":0},{"$f":"SUM(OFFSET(テストデータ!BL3,24,0):OFFSET(テストデータ!BP3,24,0))","v":0},{"$f":"SUM(OFFSET(テストデータ!BQ3,24,0):OFFSET(テストデータ!BS3,24,0))","v":0},{"$f":"SUM(OFFSET(テストデータ!BQ3,24,0):OFFSET(テストデータ!BU3,24,0))","v":0},{"$f":"SUM(OFFSET(テストデータ!BV3,24,0):OFFSET(テストデータ!BX3,24,0))","v":0},{"$f":"SUM(OFFSET(テストデータ!BV3,24,0):OFFSET(テストデータ!BZ3,24,0))","v":0},{"$f":"SUM(OFFSET(テストデータ!CA3,24,0):OFFSET(テストデータ!CC3,24,0))","v":0},{"$f":"SUM(OFFSET(テストデータ!CA3,24,0):OFFSET(テストデータ!CE3,24,0))","v":0},{"$f":"SUM(OFFSET(テストデータ!CF3,24,0):OFFSET(テストデータ!CH3,24,0))","v":0},{"$f":"SUM(OFFSET(テストデータ!CF3,24,0):OFFSET(テストデータ!CJ3,24,0))","v":0},{"$f":"SUM(OFFSET(テストデータ!CK3,24,0):OFFSET(テストデータ!CM3,24,0))","v":0},{"$f":"SUM(OFFSET(テストデータ!CK3,24,0):OFFSET(テストデータ!CO3,24,0))","v":0},{"$f":"SUM(OFFSET(テストデータ!CP3,24,0):OFFSET(テストデータ!CR3,24,0))","v":0},{"$f":"SUM(OFFSET(テストデータ!CP3,24,0):OFFSET(テストデータ!CT3,24,0))","v":0}]
[null,"クラス名","全クラス",null,null,null,null,null,null,null,null,null,null,{"$f":"SUM(OFFSET(テストデータ!$E3,25,9*成績表1!$B$4-9):OFFSET(テストデータ!$G3,25,9*成績表1!$B$4-9))","v":0},{"$f":"SUM(OFFSET(テストデータ!$E3,25,9*成績表1!$B$4-9):OFFSET(テストデータ!I3,25,9*成績表1!$B$4-9))","v":0},{"$f":"SUM(OFFSET(テストデータ!E3,25,0):OFFSET(テストデータ!G3,25,0))","v":0},{"$f":"SUM(OFFSET(テストデータ!E3,25,0):OFFSET(テストデータ!I3,25,0))","v":0},{"$f":"SUM(OFFSET(テストデータ!N3,25,0):OFFSET(テストデータ!P3,25,0))","v":0},{"$f":"SUM(OFFSET(テストデータ!N3,25,0):OFFSET(テストデータ!R3,25,0))","v":0},{"$f":"SUM(OFFSET(テストデータ!W3,25,0):OFFSET(テストデータ!Y3,25,0))","v":0},{"$f":"SUM(OFFSET(テストデータ!W3,25,0):OFFSET(テストデータ!AA3,25,0))","v":0},{"$f":"SUM(OFFSET(テストデータ!AF3,25,0):OFFSET(テストデータ!AH3,25,0))","v":0},{"$f":"SUM(OFFSET(テストデータ!AF3,25,0):OFFSET(テストデータ!AJ3,25,0))","v":0},{"$f":"SUM(OFFSET(テストデータ!AO3,25,0):OFFSET(テストデータ!AQ3,25,0))","v":0},{"$f":"SUM(OFFSET(テストデータ!AO3,25,0):OFFSET(テストデータ!AS3,25,0))","v":0},{"$f":"SUM(OFFSET(テストデータ!AX3,25,0):OFFSET(テストデータ!AZ3,25,0))","v":0},{"$f":"SUM(OFFSET(テストデータ!AX3,25,0):OFFSET(テストデータ!BB3,25,0))","v":0},{"$f":"SUM(OFFSET(テストデータ!BG3,25,0):OFFSET(テストデータ!BI3,25,0))","v":0},{"$f":"SUM(OFFSET(テストデータ!BG3,25,0):OFFSET(テストデータ!BK3,25,0))","v":0},{"$f":"SUM(OFFSET(テストデータ!BL3,25,0):OFFSET(テストデータ!BN3,25,0))","v":0},{"$f":"SUM(OFFSET(テストデータ!BL3,25,0):OFFSET(テストデータ!BP3,25,0))","v":0},{"$f":"SUM(OFFSET(テストデータ!BQ3,25,0):OFFSET(テストデータ!BS3,25,0))","v":0},{"$f":"SUM(OFFSET(テストデータ!BQ3,25,0):OFFSET(テストデータ!BU3,25,0))","v":0},{"$f":"SUM(OFFSET(テストデータ!BV3,25,0):OFFSET(テストデータ!BX3,25,0))","v":0},{"$f":"SUM(OFFSET(テストデータ!BV3,25,0):OFFSET(テストデータ!BZ3,25,0))","v":0},{"$f":"SUM(OFFSET(テストデータ!CA3,25,0):OFFSET(テストデータ!CC3,25,0))","v":0},{"$f":"SUM(OFFSET(テストデータ!CA3,25,0):OFFSET(テストデータ!CE3,25,0))","v":0},{"$f":"SUM(OFFSET(テストデータ!CF3,25,0):OFFSET(テストデータ!CH3,25,0))","v":0},{"$f":"SUM(OFFSET(テストデータ!CF3,25,0):OFFSET(テストデータ!CJ3,25,0))","v":0},{"$f":"SUM(OFFSET(テストデータ!CK3,25,0):OFFSET(テストデータ!CM3,25,0))","v":0},{"$f":"SUM(OFFSET(テストデータ!CK3,25,0):OFFSET(テストデータ!CO3,25,0))","v":0},{"$f":"SUM(OFFSET(テストデータ!CP3,25,0):OFFSET(テストデータ!CR3,25,0))","v":0},{"$f":"SUM(OFFSET(テストデータ!CP3,25,0):OFFSET(テストデータ!CT3,25,0))","v":0}]
[null,"クラス1","1",null,null,null,null,null,null,null,null,null,null,{"$f":"SUM(OFFSET(テストデータ!$E3,26,9*成績表1!$B$4-9):OFFSET(テストデータ!$G3,26,9*成績表1!$B$4-9))","v":0},{"$f":"SUM(OFFSET(テストデータ!$E3,26,9*成績表1!$B$4-9):OFFSET(テストデータ!I3,26,9*成績表1!$B$4-9))","v":0},{"$f":"SUM(OFFSET(テストデータ!E3,26,0):OFFSET(テストデータ!G3,26,0))","v":0},{"$f":"SUM(OFFSET(テストデータ!E3,26,0):OFFSET(テストデータ!I3,26,0))","v":0},{"$f":"SUM(OFFSET(テストデータ!N3,26,0):OFFSET(テストデータ!P3,26,0))","v":0},{"$f":"SUM(OFFSET(テストデータ!N3,26,0):OFFSET(テストデータ!R3,26,0))","v":0},{"$f":"SUM(OFFSET(テストデータ!W3,26,0):OFFSET(テストデータ!Y3,26,0))","v":0},{"$f":"SUM(OFFSET(テストデータ!W3,26,0):OFFSET(テストデータ!AA3,26,0))","v":0},{"$f":"SUM(OFFSET(テストデータ!AF3,26,0):OFFSET(テストデータ!AH3,26,0))","v":0},{"$f":"SUM(OFFSET(テストデータ!AF3,26,0):OFFSET(テストデータ!AJ3,26,0))","v":0},{"$f":"SUM(OFFSET(テストデータ!AO3,26,0):OFFSET(テストデータ!AQ3,26,0))","v":0},{"$f":"SUM(OFFSET(テストデータ!AO3,26,0):OFFSET(テストデータ!AS3,26,0))","v":0},{"$f":"SUM(OFFSET(テストデータ!AX3,26,0):OFFSET(テストデータ!AZ3,26,0))","v":0},{"$f":"SUM(OFFSET(テストデータ!AX3,26,0):OFFSET(テストデータ!BB3,26,0))","v":0},{"$f":"SUM(OFFSET(テストデータ!BG3,26,0):OFFSET(テストデータ!BI3,26,0))","v":0},{"$f":"SUM(OFFSET(テストデータ!BG3,26,0):OFFSET(テストデータ!BK3,26,0))","v":0},{"$f":"SUM(OFFSET(テストデータ!BL3,26,0):OFFSET(テストデータ!BN3,26,0))","v":0},{"$f":"SUM(OFFSET(テストデータ!BL3,26,0):OFFSET(テストデータ!BP3,26,0))","v":0},{"$f":"SUM(OFFSET(テストデータ!BQ3,26,0):OFFSET(テストデータ!BS3,26,0))","v":0},{"$f":"SUM(OFFSET(テストデータ!BQ3,26,0):OFFSET(テストデータ!BU3,26,0))","v":0},{"$f":"SUM(OFFSET(テストデータ!BV3,26,0):OFFSET(テストデータ!BX3,26,0))","v":0},{"$f":"SUM(OFFSET(テストデータ!BV3,26,0):OFFSET(テストデータ!BZ3,26,0))","v":0},{"$f":"SUM(OFFSET(テストデータ!CA3,26,0):OFFSET(テストデータ!CC3,26,0))","v":0},{"$f":"SUM(OFFSET(テストデータ!CA3,26,0):OFFSET(テストデータ!CE3,26,0))","v":0},{"$f":"SUM(OFFSET(テストデータ!CF3,26,0):OFFSET(テストデータ!CH3,26,0))","v":0},{"$f":"SUM(OFFSET(テストデータ!CF3,26,0):OFFSET(テストデータ!CJ3,26,0))","v":0},{"$f":"SUM(OFFSET(テストデータ!CK3,26,0):OFFSET(テストデータ!CM3,26,0))","v":0},{"$f":"SUM(OFFSET(テストデータ!CK3,26,0):OFFSET(テストデータ!CO3,26,0))","v":0},{"$f":"SUM(OFFSET(テストデータ!CP3,26,0):OFFSET(テストデータ!CR3,26,0))","v":0},{"$f":"SUM(OFFSET(テストデータ!CP3,26,0):OFFSET(テストデータ!CT3,26,0))","v":0}]
[null,"クラス2","2",null,null,null,null,null,null,null,null,null,null,{"$f":"SUM(OFFSET(テストデータ!$E3,27,9*成績表1!$B$4-9):OFFSET(テストデータ!$G3,27,9*成績表1!$B$4-9))","v":0},{"$f":"SUM(OFFSET(テストデータ!$E3,27,9*成績表1!$B$4-9):OFFSET(テストデータ!I3,27,9*成績表1!$B$4-9))","v":0},{"$f":"SUM(OFFSET(テストデータ!E3,27,0):OFFSET(テストデータ!G3,27,0))","v":0},{"$f":"SUM(OFFSET(テストデータ!E3,27,0):OFFSET(テストデータ!I3,27,0))","v":0},{"$f":"SUM(OFFSET(テストデータ!N3,27,0):OFFSET(テストデータ!P3,27,0))","v":0},{"$f":"SUM(OFFSET(テストデータ!N3,27,0):OFFSET(テストデータ!R3,27,0))","v":0},{"$f":"SUM(OFFSET(テストデータ!W3,27,0):OFFSET(テストデータ!Y3,27,0))","v":0},{"$f":"SUM(OFFSET(テストデータ!W3,27,0):OFFSET(テストデータ!AA3,27,0))","v":0},{"$f":"SUM(OFFSET(テストデータ!AF3,27,0):OFFSET(テストデータ!AH3,27,0))","v":0},{"$f":"SUM(OFFSET(テストデータ!AF3,27,0):OFFSET(テストデータ!AJ3,27,0))","v":0},{"$f":"SUM(OFFSET(テストデータ!AO3,27,0):OFFSET(テストデータ!AQ3,27,0))","v":0},{"$f":"SUM(OFFSET(テストデータ!AO3,27,0):OFFSET(テストデータ!AS3,27,0))","v":0},{"$f":"SUM(OFFSET(テストデータ!AX3,27,0):OFFSET(テストデータ!AZ3,27,0))","v":0},{"$f":"SUM(OFFSET(テストデータ!AX3,27,0):OFFSET(テストデータ!BB3,27,0))","v":0},{"$f":"SUM(OFFSET(テストデータ!BG3,27,0):OFFSET(テストデータ!BI3,27,0))","v":0},{"$f":"SUM(OFFSET(テストデータ!BG3,27,0):OFFSET(テストデータ!BK3,27,0))","v":0},{"$f":"SUM(OFFSET(テストデータ!BL3,27,0):OFFSET(テストデータ!BN3,27,0))","v":0},{"$f":"SUM(OFFSET(テストデータ!BL3,27,0):OFFSET(テストデータ!BP3,27,0))","v":0},{"$f":"SUM(OFFSET(テストデータ!BQ3,27,0):OFFSET(テストデータ!BS3,27,0))","v":0},{"$f":"SUM(OFFSET(テストデータ!BQ3,27,0):OFFSET(テストデータ!BU3,27,0))","v":0},{"$f":"SUM(OFFSET(テストデータ!BV3,27,0):OFFSET(テストデータ!BX3,27,0))","v":0},{"$f":"SUM(OFFSET(テストデータ!BV3,27,0):OFFSET(テストデータ!BZ3,27,0))","v":0},{"$f":"SUM(OFFSET(テストデータ!CA3,27,0):OFFSET(テストデータ!CC3,27,0))","v":0},{"$f":"SUM(OFFSET(テストデータ!CA3,27,0):OFFSET(テストデータ!CE3,27,0))","v":0},{"$f":"SUM(OFFSET(テストデータ!CF3,27,0):OFFSET(テストデータ!CH3,27,0))","v":0},{"$f":"SUM(OFFSET(テストデータ!CF3,27,0):OFFSET(テストデータ!CJ3,27,0))","v":0},{"$f":"SUM(OFFSET(テストデータ!CK3,27,0):OFFSET(テストデータ!CM3,27,0))","v":0},{"$f":"SUM(OFFSET(テストデータ!CK3,27,0):OFFSET(テストデータ!CO3,27,0))","v":0},{"$f":"SUM(OFFSET(テストデータ!CP3,27,0):OFFSET(テストデータ!CR3,27,0))","v":0},{"$f":"SUM(OFFSET(テストデータ!CP3,27,0):OFFSET(テストデータ!CT3,27,0))","v":0}]
[null,"クラス3","3",null,null,null,null,null,null,null,null,null,null,{"$f":"SUM(OFFSET(テストデータ!$E3,28,9*成績表1!$B$4-9):OFFSET(テストデータ!$G3,28,9*成績表1!$B$4-9))","v":0},{"$f":"SUM(OFFSET(テストデータ!$E3,28,9*成績表1!$B$4-9):OFFSET(テストデータ!I3,28,9*成績表1!$B$4-9))","v":0},{"$f":"SUM(OFFSET(テストデータ!E3,28,0):OFFSET(テストデータ!G3,28,0))","v":0},{"$f":"SUM(OFFSET(テストデータ!E3,28,0):OFFSET(テストデータ!I3,28,0))","v":0},{"$f":"SUM(OFFSET(テストデータ!N3,28,0):OFFSET(テストデータ!P3,28,0))","v":0},{"$f":"SUM(OFFSET(テストデータ!N3,28,0):OFFSET(テストデータ!R3,28,0))","v":0},{"$f":"SUM(OFFSET(テストデータ!W3,28,0):OFFSET(テストデータ!Y3,28,0))","v":0},{"$f":"SUM(OFFSET(テストデータ!W3,28,0):OFFSET(テストデータ!AA3,28,0))","v":0},{"$f":"SUM(OFFSET(テストデータ!AF3,28,0):OFFSET(テストデータ!AH3,28,0))","v":0},{"$f":"SUM(OFFSET(テストデータ!AF3,28,0):OFFSET(テストデータ!AJ3,28,0))","v":0},{"$f":"SUM(OFFSET(テストデータ!AO3,28,0):OFFSET(テストデータ!AQ3,28,0))","v":0},{"$f":"SUM(OFFSET(テストデータ!AO3,28,0):OFFSET(テストデータ!AS3,28,0))","v":0},{"$f":"SUM(OFFSET(テストデータ!AX3,28,0):OFFSET(テストデータ!AZ3,28,0))","v":0},{"$f":"SUM(OFFSET(テストデータ!AX3,28,0):OFFSET(テストデータ!BB3,28,0))","v":0},{"$f":"SUM(OFFSET(テストデータ!BG3,28,0):OFFSET(テストデータ!BI3,28,0))","v":0},{"$f":"SUM(OFFSET(テストデータ!BG3,28,0):OFFSET(テストデータ!BK3,28,0))","v":0},{"$f":"SUM(OFFSET(テストデータ!BL3,28,0):OFFSET(テストデータ!BN3,28,0))","v":0},{"$f":"SUM(OFFSET(テストデータ!BL3,28,0):OFFSET(テストデータ!BP3,28,0))","v":0},{"$f":"SUM(OFFSET(テストデータ!BQ3,28,0):OFFSET(テストデータ!BS3,28,0))","v":0},{"$f":"SUM(OFFSET(テストデータ!BQ3,28,0):OFFSET(テストデータ!BU3,28,0))","v":0},{"$f":"SUM(OFFSET(テストデータ!BV3,28,0):OFFSET(テストデータ!BX3,28,0))","v":0},{"$f":"SUM(OFFSET(テストデータ!BV3,28,0):OFFSET(テストデータ!BZ3,28,0))","v":0},{"$f":"SUM(OFFSET(テストデータ!CA3,28,0):OFFSET(テストデータ!CC3,28,0))","v":0},{"$f":"SUM(OFFSET(テストデータ!CA3,28,0):OFFSET(テストデータ!CE3,28,0))","v":0},{"$f":"SUM(OFFSET(テストデータ!CF3,28,0):OFFSET(テストデータ!CH3,28,0))","v":0},{"$f":"SUM(OFFSET(テストデータ!CF3,28,0):OFFSET(テストデータ!CJ3,28,0))","v":0},{"$f":"SUM(OFFSET(テストデータ!CK3,28,0):OFFSET(テストデータ!CM3,28,0))","v":0},{"$f":"SUM(OFFSET(テストデータ!CK3,28,0):OFFSET(テストデータ!CO3,28,0))","v":0},{"$f":"SUM(OFFSET(テストデータ!CP3,28,0):OFFSET(テストデータ!CR3,28,0))","v":0},{"$f":"SUM(OFFSET(テストデータ!CP3,28,0):OFFSET(テストデータ!CT3,28,0))","v":0}]
[null,"クラス4",null,null,null,null,null,null,null,null,null,null,null,{"$f":"SUM(OFFSET(テストデータ!$E3,29,9*成績表1!$B$4-9):OFFSET(テストデータ!$G3,29,9*成績表1!$B$4-9))","v":0},{"$f":"SUM(OFFSET(テストデータ!$E3,29,9*成績表1!$B$4-9):OFFSET(テストデータ!I3,29,9*成績表1!$B$4-9))","v":0},{"$f":"SUM(OFFSET(テストデータ!E3,29,0):OFFSET(テストデータ!G3,29,0))","v":0},{"$f":"SUM(OFFSET(テストデータ!E3,29,0):OFFSET(テストデータ!I3,29,0))","v":0},{"$f":"SUM(OFFSET(テストデータ!N3,29,0):OFFSET(テストデータ!P3,29,0))","v":0},{"$f":"SUM(OFFSET(テストデータ!N3,29,0):OFFSET(テストデータ!R3,29,0))","v":0},{"$f":"SUM(OFFSET(テストデータ!W3,29,0):OFFSET(テストデータ!Y3,29,0))","v":0},{"$f":"SUM(OFFSET(テストデータ!W3,29,0):OFFSET(テストデータ!AA3,29,0))","v":0},{"$f":"SUM(OFFSET(テストデータ!AF3,29,0):OFFSET(テストデータ!AH3,29,0))","v":0},{"$f":"SUM(OFFSET(テストデータ!AF3,29,0):OFFSET(テストデータ!AJ3,29,0))","v":0},{"$f":"SUM(OFFSET(テストデータ!AO3,29,0):OFFSET(テストデータ!AQ3,29,0))","v":0},{"$f":"SUM(OFFSET(テストデータ!AO3,29,0):OFFSET(テストデータ!AS3,29,0))","v":0},{"$f":"SUM(OFFSET(テストデータ!AX3,29,0):OFFSET(テストデータ!AZ3,29,0))","v":0},{"$f":"SUM(OFFSET(テストデータ!AX3,29,0):OFFSET(テストデータ!BB3,29,0))","v":0},{"$f":"SUM(OFFSET(テストデータ!BG3,29,0):OFFSET(テストデータ!BI3,29,0))","v":0},{"$f":"SUM(OFFSET(テストデータ!BG3,29,0):OFFSET(テストデータ!BK3,29,0))","v":0},{"$f":"SUM(OFFSET(テストデータ!BL3,29,0):OFFSET(テストデータ!BN3,29,0))","v":0},{"$f":"SUM(OFFSET(テストデータ!BL3,29,0):OFFSET(テストデータ!BP3,29,0))","v":0},{"$f":"SUM(OFFSET(テストデータ!BQ3,29,0):OFFSET(テストデータ!BS3,29,0))","v":0},{"$f":"SUM(OFFSET(テストデータ!BQ3,29,0):OFFSET(テストデータ!BU3,29,0))","v":0},{"$f":"SUM(OFFSET(テストデータ!BV3,29,0):OFFSET(テストデータ!BX3,29,0))","v":0},{"$f":"SUM(OFFSET(テストデータ!BV3,29,0):OFFSET(テストデータ!BZ3,29,0))","v":0},{"$f":"SUM(OFFSET(テストデータ!CA3,29,0):OFFSET(テストデータ!CC3,29,0))","v":0},{"$f":"SUM(OFFSET(テストデータ!CA3,29,0):OFFSET(テストデータ!CE3,29,0))","v":0},{"$f":"SUM(OFFSET(テストデータ!CF3,29,0):OFFSET(テストデータ!CH3,29,0))","v":0},{"$f":"SUM(OFFSET(テストデータ!CF3,29,0):OFFSET(テストデータ!CJ3,29,0))","v":0},{"$f":"SUM(OFFSET(テストデータ!CK3,29,0):OFFSET(テストデータ!CM3,29,0))","v":0},{"$f":"SUM(OFFSET(テストデータ!CK3,29,0):OFFSET(テストデータ!CO3,29,0))","v":0},{"$f":"SUM(OFFSET(テストデータ!CP3,29,0):OFFSET(テストデータ!CR3,29,0))","v":0},{"$f":"SUM(OFFSET(テストデータ!CP3,29,0):OFFSET(テストデータ!CT3,29,0))","v":0}]
[null,"クラス5",null,null,null,null,null,null,null,null,null,null,null,{"$f":"SUM(OFFSET(テストデータ!$E3,30,9*成績表1!$B$4-9):OFFSET(テストデータ!$G3,30,9*成績表1!$B$4-9))","v":0},{"$f":"SUM(OFFSET(テストデータ!$E3,30,9*成績表1!$B$4-9):OFFSET(テストデータ!I3,30,9*成績表1!$B$4-9))","v":0},{"$f":"SUM(OFFSET(テストデータ!E3,30,0):OFFSET(テストデータ!G3,30,0))","v":0},{"$f":"SUM(OFFSET(テストデータ!E3,30,0):OFFSET(テストデータ!I3,30,0))","v":0},{"$f":"SUM(OFFSET(テストデータ!N3,30,0):OFFSET(テストデータ!P3,30,0))","v":0},{"$f":"SUM(OFFSET(テストデータ!N3,30,0):OFFSET(テストデータ!R3,30,0))","v":0},{"$f":"SUM(OFFSET(テストデータ!W3,30,0):OFFSET(テストデータ!Y3,30,0))","v":0},{"$f":"SUM(OFFSET(テストデータ!W3,30,0):OFFSET(テストデータ!AA3,30,0))","v":0},{"$f":"SUM(OFFSET(テストデータ!AF3,30,0):OFFSET(テストデータ!AH3,30,0))","v":0},{"$f":"SUM(OFFSET(テストデータ!AF3,30,0):OFFSET(テストデータ!AJ3,30,0))","v":0},{"$f":"SUM(OFFSET(テストデータ!AO3,30,0):OFFSET(テストデータ!AQ3,30,0))","v":0},{"$f":"SUM(OFFSET(テストデータ!AO3,30,0):OFFSET(テストデータ!AS3,30,0))","v":0},{"$f":"SUM(OFFSET(テストデータ!AX3,30,0):OFFSET(テストデータ!AZ3,30,0))","v":0},{"$f":"SUM(OFFSET(テストデータ!AX3,30,0):OFFSET(テストデータ!BB3,30,0))","v":0},{"$f":"SUM(OFFSET(テストデータ!BG3,30,0):OFFSET(テストデータ!BI3,30,0))","v":0},{"$f":"SUM(OFFSET(テストデータ!BG3,30,0):OFFSET(テストデータ!BK3,30,0))","v":0},{"$f":"SUM(OFFSET(テストデータ!BL3,30,0):OFFSET(テストデータ!BN3,30,0))","v":0},{"$f":"SUM(OFFSET(テストデータ!BL3,30,0):OFFSET(テストデータ!BP3,30,0))","v":0},{"$f":"SUM(OFFSET(テストデータ!BQ3,30,0):OFFSET(テストデータ!BS3,30,0))","v":0},{"$f":"SUM(OFFSET(テストデータ!BQ3,30,0):OFFSET(テストデータ!BU3,30,0))","v":0},{"$f":"SUM(OFFSET(テストデータ!BV3,30,0):OFFSET(テストデータ!BX3,30,0))","v":0},{"$f":"SUM(OFFSET(テストデータ!BV3,30,0):OFFSET(テストデータ!BZ3,30,0))","v":0},{"$f":"SUM(OFFSET(テストデータ!CA3,30,0):OFFSET(テストデータ!CC3,30,0))","v":0},{"$f":"SUM(OFFSET(テストデータ!CA3,30,0):OFFSET(テストデータ!CE3,30,0))","v":0},{"$f":"SUM(OFFSET(テストデータ!CF3,30,0):OFFSET(テストデータ!CH3,30,0))","v":0},{"$f":"SUM(OFFSET(テストデータ!CF3,30,0):OFFSET(テストデータ!CJ3,30,0))","v":0},{"$f":"SUM(OFFSET(テストデータ!CK3,30,0):OFFSET(テストデータ!CM3,30,0))","v":0},{"$f":"SUM(OFFSET(テストデータ!CK3,30,0):OFFSET(テストデータ!CO3,30,0))","v":0},{"$f":"SUM(OFFSET(テストデータ!CP3,30,0):OFFSET(テストデータ!CR3,30,0))","v":0},{"$f":"SUM(OFFSET(テストデータ!CP3,30,0):OFFSET(テストデータ!CT3,30,0))","v":0}]
[null,"クラス6",null,null,null,null,null,null,null,null,null,null,null,{"$f":"SUM(OFFSET(テストデータ!$E3,31,9*成績表1!$B$4-9):OFFSET(テストデータ!$G3,31,9*成績表1!$B$4-9))","v":0},{"$f":"SUM(OFFSET(テストデータ!$E3,31,9*成績表1!$B$4-9):OFFSET(テストデータ!I3,31,9*成績表1!$B$4-9))","v":0},{"$f":"SUM(OFFSET(テストデータ!E3,31,0):OFFSET(テストデータ!G3,31,0))","v":0},{"$f":"SUM(OFFSET(テストデータ!E3,31,0):OFFSET(テストデータ!I3,31,0))","v":0},{"$f":"SUM(OFFSET(テストデータ!N3,31,0):OFFSET(テストデータ!P3,31,0))","v":0},{"$f":"SUM(OFFSET(テストデータ!N3,31,0):OFFSET(テストデータ!R3,31,0))","v":0},{"$f":"SUM(OFFSET(テストデータ!W3,31,0):OFFSET(テストデータ!Y3,31,0))","v":0},{"$f":"SUM(OFFSET(テストデータ!W3,31,0):OFFSET(テストデータ!AA3,31,0))","v":0},{"$f":"SUM(OFFSET(テストデータ!AF3,31,0):OFFSET(テストデータ!AH3,31,0))","v":0},{"$f":"SUM(OFFSET(テストデータ!AF3,31,0):OFFSET(テストデータ!AJ3,31,0))","v":0},{"$f":"SUM(OFFSET(テストデータ!AO3,31,0):OFFSET(テストデータ!AQ3,31,0))","v":0},{"$f":"SUM(OFFSET(テストデータ!AO3,31,0):OFFSET(テストデータ!AS3,31,0))","v":0},{"$f":"SUM(OFFSET(テストデータ!AX3,31,0):OFFSET(テストデータ!AZ3,31,0))","v":0},{"$f":"SUM(OFFSET(テストデータ!AX3,31,0):OFFSET(テストデータ!BB3,31,0))","v":0},{"$f":"SUM(OFFSET(テストデータ!BG3,31,0):OFFSET(テストデータ!BI3,31,0))","v":0},{"$f":"SUM(OFFSET(テストデータ!BG3,31,0):OFFSET(テストデータ!BK3,31,0))","v":0},{"$f":"SUM(OFFSET(テストデータ!BL3,31,0):OFFSET(テストデータ!BN3,31,0))","v":0},{"$f":"SUM(OFFSET(テストデータ!BL3,31,0):OFFSET(テストデータ!BP3,31,0))","v":0},{"$f":"SUM(OFFSET(テストデータ!BQ3,31,0):OFFSET(テストデータ!BS3,31,0))","v":0},{"$f":"SUM(OFFSET(テストデータ!BQ3,31,0):OFFSET(テストデータ!BU3,31,0))","v":0},{"$f":"SUM(OFFSET(テストデータ!BV3,31,0):OFFSET(テストデータ!BX3,31,0))","v":0},{"$f":"SUM(OFFSET(テストデータ!BV3,31,0):OFFSET(テストデータ!BZ3,31,0))","v":0},{"$f":"SUM(OFFSET(テストデータ!CA3,31,0):OFFSET(テストデータ!CC3,31,0))","v":0},{"$f":"SUM(OFFSET(テストデータ!CA3,31,0):OFFSET(テストデータ!CE3,31,0))","v":0},{"$f":"SUM(OFFSET(テストデータ!CF3,31,0):OFFSET(テストデータ!CH3,31,0))","v":0},{"$f":"SUM(OFFSET(テストデータ!CF3,31,0):OFFSET(テストデータ!CJ3,31,0))","v":0},{"$f":"SUM(OFFSET(テストデータ!CK3,31,0):OFFSET(テストデータ!CM3,31,0))","v":0},{"$f":"SUM(OFFSET(テストデータ!CK3,31,0):OFFSET(テストデータ!CO3,31,0))","v":0},{"$f":"SUM(OFFSET(テストデータ!CP3,31,0):OFFSET(テストデータ!CR3,31,0))","v":0},{"$f":"SUM(OFFSET(テストデータ!CP3,31,0):OFFSET(テストデータ!CT3,31,0))","v":0}]
[null,"クラス7",null,null,null,null,null,null,null,null,null,null,null,{"$f":"SUM(OFFSET(テストデータ!$E3,32,9*成績表1!$B$4-9):OFFSET(テストデータ!$G3,32,9*成績表1!$B$4-9))","v":0},{"$f":"SUM(OFFSET(テストデータ!$E3,32,9*成績表1!$B$4-9):OFFSET(テストデータ!I3,32,9*成績表1!$B$4-9))","v":0},{"$f":"SUM(OFFSET(テストデータ!E3,32,0):OFFSET(テストデータ!G3,32,0))","v":0},{"$f":"SUM(OFFSET(テストデータ!E3,32,0):OFFSET(テストデータ!I3,32,0))","v":0},{"$f":"SUM(OFFSET(テストデータ!N3,32,0):OFFSET(テストデータ!P3,32,0))","v":0},{"$f":"SUM(OFFSET(テストデータ!N3,32,0):OFFSET(テストデータ!R3,32,0))","v":0},{"$f":"SUM(OFFSET(テストデータ!W3,32,0):OFFSET(テストデータ!Y3,32,0))","v":0},{"$f":"SUM(OFFSET(テストデータ!W3,32,0):OFFSET(テストデータ!AA3,32,0))","v":0},{"$f":"SUM(OFFSET(テストデータ!AF3,32,0):OFFSET(テストデータ!AH3,32,0))","v":0},{"$f":"SUM(OFFSET(テストデータ!AF3,32,0):OFFSET(テストデータ!AJ3,32,0))","v":0},{"$f":"SUM(OFFSET(テストデータ!AO3,32,0):OFFSET(テストデータ!AQ3,32,0))","v":0},{"$f":"SUM(OFFSET(テストデータ!AO3,32,0):OFFSET(テストデータ!AS3,32,0))","v":0},{"$f":"SUM(OFFSET(テストデータ!AX3,32,0):OFFSET(テストデータ!AZ3,32,0))","v":0},{"$f":"SUM(OFFSET(テストデータ!AX3,32,0):OFFSET(テストデータ!BB3,32,0))","v":0},{"$f":"SUM(OFFSET(テストデータ!BG3,32,0):OFFSET(テストデータ!BI3,32,0))","v":0},{"$f":"SUM(OFFSET(テストデータ!BG3,32,0):OFFSET(テストデータ!BK3,32,0))","v":0},{"$f":"SUM(OFFSET(テストデータ!BL3,32,0):OFFSET(テストデータ!BN3,32,0))","v":0},{"$f":"SUM(OFFSET(テストデータ!BL3,32,0):OFFSET(テストデータ!BP3,32,0))","v":0},{"$f":"SUM(OFFSET(テストデータ!BQ3,32,0):OFFSET(テストデータ!BS3,32,0))","v":0},{"$f":"SUM(OFFSET(テストデータ!BQ3,32,0):OFFSET(テストデータ!BU3,32,0))","v":0},{"$f":"SUM(OFFSET(テストデータ!BV3,32,0):OFFSET(テストデータ!BX3,32,0))","v":0},{"$f":"SUM(OFFSET(テストデータ!BV3,32,0):OFFSET(テストデータ!BZ3,32,0))","v":0},{"$f":"SUM(OFFSET(テストデータ!CA3,32,0):OFFSET(テストデータ!CC3,32,0))","v":0},{"$f":"SUM(OFFSET(テストデータ!CA3,32,0):OFFSET(テストデータ!CE3,32,0))","v":0},{"$f":"SUM(OFFSET(テストデータ!CF3,32,0):OFFSET(テストデータ!CH3,32,0))","v":0},{"$f":"SUM(OFFSET(テストデータ!CF3,32,0):OFFSET(テストデータ!CJ3,32,0))","v":0},{"$f":"SUM(OFFSET(テストデータ!CK3,32,0):OFFSET(テストデータ!CM3,32,0))","v":0},{"$f":"SUM(OFFSET(テストデータ!CK3,32,0):OFFSET(テストデータ!CO3,32,0))","v":0},{"$f":"SUM(OFFSET(テストデータ!CP3,32,0):OFFSET(テストデータ!CR3,32,0))","v":0},{"$f":"SUM(OFFSET(テストデータ!CP3,32,0):OFFSET(テストデータ!CT3,32,0))","v":0}]
[null,"クラス8",null,null,null,null,null,null,null,null,null,null,null,{"$f":"SUM(OFFSET(テストデータ!$E3,33,9*成績表1!$B$4-9):OFFSET(テストデータ!$G3,33,9*成績表1!$B$4-9))","v":0},{"$f":"SUM(OFFSET(テストデータ!$E3,33,9*成績表1!$B$4-9):OFFSET(テストデータ!I3,33,9*成績表1!$B$4-9))","v":0},{"$f":"SUM(OFFSET(テストデータ!E3,33,0):OFFSET(テストデータ!G3,33,0))","v":0},{"$f":"SUM(OFFSET(テストデータ!E3,33,0):OFFSET(テストデータ!I3,33,0))","v":0},{"$f":"SUM(OFFSET(テストデータ!N3,33,0):OFFSET(テストデータ!P3,33,0))","v":0},{"$f":"SUM(OFFSET(テストデータ!N3,33,0):OFFSET(テストデータ!R3,33,0))","v":0},{"$f":"SUM(OFFSET(テストデータ!W3,33,0):OFFSET(テストデータ!Y3,33,0))","v":0},{"$f":"SUM(OFFSET(テストデータ!W3,33,0):OFFSET(テストデータ!AA3,33,0))","v":0},{"$f":"SUM(OFFSET(テストデータ!AF3,33,0):OFFSET(テストデータ!AH3,33,0))","v":0},{"$f":"SUM(OFFSET(テストデータ!AF3,33,0):OFFSET(テストデータ!AJ3,33,0))","v":0},{"$f":"SUM(OFFSET(テストデータ!AO3,33,0):OFFSET(テストデータ!AQ3,33,0))","v":0},{"$f":"SUM(OFFSET(テストデータ!AO3,33,0):OFFSET(テストデータ!AS3,33,0))","v":0},{"$f":"SUM(OFFSET(テストデータ!AX3,33,0):OFFSET(テストデータ!AZ3,33,0))","v":0},{"$f":"SUM(OFFSET(テストデータ!AX3,33,0):OFFSET(テストデータ!BB3,33,0))","v":0},{"$f":"SUM(OFFSET(テストデータ!BG3,33,0):OFFSET(テストデータ!BI3,33,0))","v":0},{"$f":"SUM(OFFSET(テストデータ!BG3,33,0):OFFSET(テストデータ!BK3,33,0))","v":0},{"$f":"SUM(OFFSET(テストデータ!BL3,33,0):OFFSET(テストデータ!BN3,33,0))","v":0},{"$f":"SUM(OFFSET(テストデータ!BL3,33,0):OFFSET(テストデータ!BP3,33,0))","v":0},{"$f":"SUM(OFFSET(テストデータ!BQ3,33,0):OFFSET(テストデータ!BS3,33,0))","v":0},{"$f":"SUM(OFFSET(テストデータ!BQ3,33,0):OFFSET(テストデータ!BU3,33,0))","v":0},{"$f":"SUM(OFFSET(テストデータ!BV3,33,0):OFFSET(テストデータ!BX3,33,0))","v":0},{"$f":"SUM(OFFSET(テストデータ!BV3,33,0):OFFSET(テストデータ!BZ3,33,0))","v":0},{"$f":"SUM(OFFSET(テストデータ!CA3,33,0):OFFSET(テストデータ!CC3,33,0))","v":0},{"$f":"SUM(OFFSET(テストデータ!CA3,33,0):OFFSET(テストデータ!CE3,33,0))","v":0},{"$f":"SUM(OFFSET(テストデータ!CF3,33,0):OFFSET(テストデータ!CH3,33,0))","v":0},{"$f":"SUM(OFFSET(テストデータ!CF3,33,0):OFFSET(テストデータ!CJ3,33,0))","v":0},{"$f":"SUM(OFFSET(テストデータ!CK3,33,0):OFFSET(テストデータ!CM3,33,0))","v":0},{"$f":"SUM(OFFSET(テストデータ!CK3,33,0):OFFSET(テストデータ!CO3,33,0))","v":0},{"$f":"SUM(OFFSET(テストデータ!CP3,33,0):OFFSET(テストデータ!CR3,33,0))","v":0},{"$f":"SUM(OFFSET(テストデータ!CP3,33,0):OFFSET(テストデータ!CT3,33,0))","v":0}]
[null,"クラス9",null,null,null,null,null,null,null,null,null,null,null,{"$f":"SUM(OFFSET(テストデータ!$E3,34,9*成績表1!$B$4-9):OFFSET(テストデータ!$G3,34,9*成績表1!$B$4-9))","v":0},{"$f":"SUM(OFFSET(テストデータ!$E3,34,9*成績表1!$B$4-9):OFFSET(テストデータ!I3,34,9*成績表1!$B$4-9))","v":0},{"$f":"SUM(OFFSET(テストデータ!E3,34,0):OFFSET(テストデータ!G3,34,0))","v":0},{"$f":"SUM(OFFSET(テストデータ!E3,34,0):OFFSET(テストデータ!I3,34,0))","v":0},{"$f":"SUM(OFFSET(テストデータ!N3,34,0):OFFSET(テストデータ!P3,34,0))","v":0},{"$f":"SUM(OFFSET(テストデータ!N3,34,0):OFFSET(テストデータ!R3,34,0))","v":0},{"$f":"SUM(OFFSET(テストデータ!W3,34,0):OFFSET(テストデータ!Y3,34,0))","v":0},{"$f":"SUM(OFFSET(テストデータ!W3,34,0):OFFSET(テストデータ!AA3,34,0))","v":0},{"$f":"SUM(OFFSET(テストデータ!AF3,34,0):OFFSET(テストデータ!AH3,34,0))","v":0},{"$f":"SUM(OFFSET(テストデータ!AF3,34,0):OFFSET(テストデータ!AJ3,34,0))","v":0},{"$f":"SUM(OFFSET(テストデータ!AO3,34,0):OFFSET(テストデータ!AQ3,34,0))","v":0},{"$f":"SUM(OFFSET(テストデータ!AO3,34,0):OFFSET(テストデータ!AS3,34,0))","v":0},{"$f":"SUM(OFFSET(テストデータ!AX3,34,0):OFFSET(テストデータ!AZ3,34,0))","v":0},{"$f":"SUM(OFFSET(テストデータ!AX3,34,0):OFFSET(テストデータ!BB3,34,0))","v":0},{"$f":"SUM(OFFSET(テストデータ!BG3,34,0):OFFSET(テストデータ!BI3,34,0))","v":0},{"$f":"SUM(OFFSET(テストデータ!BG3,34,0):OFFSET(テストデータ!BK3,34,0))","v":0},{"$f":"SUM(OFFSET(テストデータ!BL3,34,0):OFFSET(テストデータ!BN3,34,0))","v":0},{"$f":"SUM(OFFSET(テストデータ!BL3,34,0):OFFSET(テストデータ!BP3,34,0))","v":0},{"$f":"SUM(OFFSET(テストデータ!BQ3,34,0):OFFSET(テストデータ!BS3,34,0))","v":0},{"$f":"SUM(OFFSET(テストデータ!BQ3,34,0):OFFSET(テストデータ!BU3,34,0))","v":0},{"$f":"SUM(OFFSET(テストデータ!BV3,34,0):OFFSET(テストデータ!BX3,34,0))","v":0},{"$f":"SUM(OFFSET(テストデータ!BV3,34,0):OFFSET(テストデータ!BZ3,34,0))","v":0},{"$f":"SUM(OFFSET(テストデータ!CA3,34,0):OFFSET(テストデータ!CC3,34,0))","v":0},{"$f":"SUM(OFFSET(テストデータ!CA3,34,0):OFFSET(テストデータ!CE3,34,0))","v":0},{"$f":"SUM(OFFSET(テストデータ!CF3,34,0):OFFSET(テストデータ!CH3,34,0))","v":0},{"$f":"SUM(OFFSET(テストデータ!CF3,34,0):OFFSET(テストデータ!CJ3,34,0))","v":0},{"$f":"SUM(OFFSET(テストデータ!CK3,34,0):OFFSET(テストデータ!CM3,34,0))","v":0},{"$f":"SUM(OFFSET(テストデータ!CK3,34,0):OFFSET(テストデータ!CO3,34,0))","v":0},{"$f":"SUM(OFFSET(テストデータ!CP3,34,0):OFFSET(テストデータ!CR3,34,0))","v":0},{"$f":"SUM(OFFSET(テストデータ!CP3,34,0):OFFSET(テストデータ!CT3,34,0))","v":0}]
[null,"クラス10",null,null,null,null,null,null,null,null,null,null,null,{"$f":"SUM(OFFSET(テストデータ!$E3,35,9*成績表1!$B$4-9):OFFSET(テストデータ!$G3,35,9*成績表1!$B$4-9))","v":0},{"$f":"SUM(OFFSET(テストデータ!$E3,35,9*成績表1!$B$4-9):OFFSET(テストデータ!I3,35,9*成績表1!$B$4-9))","v":0},{"$f":"SUM(OFFSET(テストデータ!E3,35,0):OFFSET(テストデータ!G3,35,0))","v":0},{"$f":"SUM(OFFSET(テストデータ!E3,35,0):OFFSET(テストデータ!I3,35,0))","v":0},{"$f":"SUM(OFFSET(テストデータ!N3,35,0):OFFSET(テストデータ!P3,35,0))","v":0},{"$f":"SUM(OFFSET(テストデータ!N3,35,0):OFFSET(テストデータ!R3,35,0))","v":0},{"$f":"SUM(OFFSET(テストデータ!W3,35,0):OFFSET(テストデータ!Y3,35,0))","v":0},{"$f":"SUM(OFFSET(テストデータ!W3,35,0):OFFSET(テストデータ!AA3,35,0))","v":0},{"$f":"SUM(OFFSET(テストデータ!AF3,35,0):OFFSET(テストデータ!AH3,35,0))","v":0},{"$f":"SUM(OFFSET(テストデータ!AF3,35,0):OFFSET(テストデータ!AJ3,35,0))","v":0},{"$f":"SUM(OFFSET(テストデータ!AO3,35,0):OFFSET(テストデータ!AQ3,35,0))","v":0},{"$f":"SUM(OFFSET(テストデータ!AO3,35,0):OFFSET(テストデータ!AS3,35,0))","v":0},{"$f":"SUM(OFFSET(テストデータ!AX3,35,0):OFFSET(テストデータ!AZ3,35,0))","v":0},{"$f":"SUM(OFFSET(テストデータ!AX3,35,0):OFFSET(テストデータ!BB3,35,0))","v":0},{"$f":"SUM(OFFSET(テストデータ!BG3,35,0):OFFSET(テストデータ!BI3,35,0))","v":0},{"$f":"SUM(OFFSET(テストデータ!BG3,35,0):OFFSET(テストデータ!BK3,35,0))","v":0},{"$f":"SUM(OFFSET(テストデータ!BL3,35,0):OFFSET(テストデータ!BN3,35,0))","v":0},{"$f":"SUM(OFFSET(テストデータ!BL3,35,0):OFFSET(テストデータ!BP3,35,0))","v":0},{"$f":"SUM(OFFSET(テストデータ!BQ3,35,0):OFFSET(テストデータ!BS3,35,0))","v":0},{"$f":"SUM(OFFSET(テストデータ!BQ3,35,0):OFFSET(テストデータ!BU3,35,0))","v":0},{"$f":"SUM(OFFSET(テストデータ!BV3,35,0):OFFSET(テストデータ!BX3,35,0))","v":0},{"$f":"SUM(OFFSET(テストデータ!BV3,35,0):OFFSET(テストデータ!BZ3,35,0))","v":0},{"$f":"SUM(OFFSET(テストデータ!CA3,35,0):OFFSET(テストデータ!CC3,35,0))","v":0},{"$f":"SUM(OFFSET(テストデータ!CA3,35,0):OFFSET(テストデータ!CE3,35,0))","v":0},{"$f":"SUM(OFFSET(テストデータ!CF3,35,0):OFFSET(テストデータ!CH3,35,0))","v":0},{"$f":"SUM(OFFSET(テストデータ!CF3,35,0):OFFSET(テストデータ!CJ3,35,0))","v":0},{"$f":"SUM(OFFSET(テストデータ!CK3,35,0):OFFSET(テストデータ!CM3,35,0))","v":0},{"$f":"SUM(OFFSET(テストデータ!CK3,35,0):OFFSET(テストデータ!CO3,35,0))","v":0},{"$f":"SUM(OFFSET(テストデータ!CP3,35,0):OFFSET(テストデータ!CR3,35,0))","v":0},{"$f":"SUM(OFFSET(テストデータ!CP3,35,0):OFFSET(テストデータ!CT3,35,0))","v":0}]
[null,"クラス11",null,null,null,null,null,null,null,null,null,null,null,{"$f":"SUM(OFFSET(テストデータ!$E3,36,9*成績表1!$B$4-9):OFFSET(テストデータ!$G3,36,9*成績表1!$B$4-9))","v":0},{"$f":"SUM(OFFSET(テストデータ!$E3,36,9*成績表1!$B$4-9):OFFSET(テストデータ!I3,36,9*成績表1!$B$4-9))","v":0},{"$f":"SUM(OFFSET(テストデータ!E3,36,0):OFFSET(テストデータ!G3,36,0))","v":0},{"$f":"SUM(OFFSET(テストデータ!E3,36,0):OFFSET(テストデータ!I3,36,0))","v":0},{"$f":"SUM(OFFSET(テストデータ!N3,36,0):OFFSET(テストデータ!P3,36,0))","v":0},{"$f":"SUM(OFFSET(テストデータ!N3,36,0):OFFSET(テストデータ!R3,36,0))","v":0},{"$f":"SUM(OFFSET(テストデータ!W3,36,0):OFFSET(テストデータ!Y3,36,0))","v":0},{"$f":"SUM(OFFSET(テストデータ!W3,36,0):OFFSET(テストデータ!AA3,36,0))","v":0},{"$f":"SUM(OFFSET(テストデータ!AF3,36,0):OFFSET(テストデータ!AH3,36,0))","v":0},{"$f":"SUM(OFFSET(テストデータ!AF3,36,0):OFFSET(テストデータ!AJ3,36,0))","v":0},{"$f":"SUM(OFFSET(テストデータ!AO3,36,0):OFFSET(テストデータ!AQ3,36,0))","v":0},{"$f":"SUM(OFFSET(テストデータ!AO3,36,0):OFFSET(テストデータ!AS3,36,0))","v":0},{"$f":"SUM(OFFSET(テストデータ!AX3,36,0):OFFSET(テストデータ!AZ3,36,0))","v":0},{"$f":"SUM(OFFSET(テストデータ!AX3,36,0):OFFSET(テストデータ!BB3,36,0))","v":0},{"$f":"SUM(OFFSET(テストデータ!BG3,36,0):OFFSET(テストデータ!BI3,36,0))","v":0},{"$f":"SUM(OFFSET(テストデータ!BG3,36,0):OFFSET(テストデータ!BK3,36,0))","v":0},{"$f":"SUM(OFFSET(テストデータ!BL3,36,0):OFFSET(テストデータ!BN3,36,0))","v":0},{"$f":"SUM(OFFSET(テストデータ!BL3,36,0):OFFSET(テストデータ!BP3,36,0))","v":0},{"$f":"SUM(OFFSET(テストデータ!BQ3,36,0):OFFSET(テストデータ!BS3,36,0))","v":0},{"$f":"SUM(OFFSET(テストデータ!BQ3,36,0):OFFSET(テストデータ!BU3,36,0))","v":0},{"$f":"SUM(OFFSET(テストデータ!BV3,36,0):OFFSET(テストデータ!BX3,36,0))","v":0},{"$f":"SUM(OFFSET(テストデータ!BV3,36,0):OFFSET(テストデータ!BZ3,36,0))","v":0},{"$f":"SUM(OFFSET(テストデータ!CA3,36,0):OFFSET(テストデータ!CC3,36,0))","v":0},{"$f":"SUM(OFFSET(テストデータ!CA3,36,0):OFFSET(テストデータ!CE3,36,0))","v":0},{"$f":"SUM(OFFSET(テストデータ!CF3,36,0):OFFSET(テストデータ!CH3,36,0))","v":0},{"$f":"SUM(OFFSET(テストデータ!CF3,36,0):OFFSET(テストデータ!CJ3,36,0))","v":0},{"$f":"SUM(OFFSET(テストデータ!CK3,36,0):OFFSET(テストデータ!CM3,36,0))","v":0},{"$f":"SUM(OFFSET(テストデータ!CK3,36,0):OFFSET(テストデータ!CO3,36,0))","v":0},{"$f":"SUM(OFFSET(テストデータ!CP3,36,0):OFFSET(テストデータ!CR3,36,0))","v":0},{"$f":"SUM(OFFSET(テストデータ!CP3,36,0):OFFSET(テストデータ!CT3,36,0))","v":0}]
[null,"クラス12",null,null,null,null,null,null,null,null,null,null,null,{"$f":"SUM(OFFSET(テストデータ!$E3,37,9*成績表1!$B$4-9):OFFSET(テストデータ!$G3,37,9*成績表1!$B$4-9))","v":0},{"$f":"SUM(OFFSET(テストデータ!$E3,37,9*成績表1!$B$4-9):OFFSET(テストデータ!I3,37,9*成績表1!$B$4-9))","v":0},{"$f":"SUM(OFFSET(テストデータ!E3,37,0):OFFSET(テストデータ!G3,37,0))","v":0},{"$f":"SUM(OFFSET(テストデータ!E3,37,0):OFFSET(テストデータ!I3,37,0))","v":0},{"$f":"SUM(OFFSET(テストデータ!N3,37,0):OFFSET(テストデータ!P3,37,0))","v":0},{"$f":"SUM(OFFSET(テストデータ!N3,37,0):OFFSET(テストデータ!R3,37,0))","v":0},{"$f":"SUM(OFFSET(テストデータ!W3,37,0):OFFSET(テストデータ!Y3,37,0))","v":0},{"$f":"SUM(OFFSET(テストデータ!W3,37,0):OFFSET(テストデータ!AA3,37,0))","v":0},{"$f":"SUM(OFFSET(テストデータ!AF3,37,0):OFFSET(テストデータ!AH3,37,0))","v":0},{"$f":"SUM(OFFSET(テストデータ!AF3,37,0):OFFSET(テストデータ!AJ3,37,0))","v":0},{"$f":"SUM(OFFSET(テストデータ!AO3,37,0):OFFSET(テストデータ!AQ3,37,0))","v":0},{"$f":"SUM(OFFSET(テストデータ!AO3,37,0):OFFSET(テストデータ!AS3,37,0))","v":0},{"$f":"SUM(OFFSET(テストデータ!AX3,37,0):OFFSET(テストデータ!AZ3,37,0))","v":0},{"$f":"SUM(OFFSET(テストデータ!AX3,37,0):OFFSET(テストデータ!BB3,37,0))","v":0},{"$f":"SUM(OFFSET(テストデータ!BG3,37,0):OFFSET(テストデータ!BI3,37,0))","v":0},{"$f":"SUM(OFFSET(テストデータ!BG3,37,0):OFFSET(テストデータ!BK3,37,0))","v":0},{"$f":"SUM(OFFSET(テストデータ!BL3,37,0):OFFSET(テストデータ!BN3,37,0))","v":0},{"$f":"SUM(OFFSET(テストデータ!BL3,37,0):OFFSET(テストデータ!BP3,37,0))","v":0},{"$f":"SUM(OFFSET(テストデータ!BQ3,37,0):OFFSET(テストデータ!BS3,37,0))","v":0},{"$f":"SUM(OFFSET(テストデータ!BQ3,37,0):OFFSET(テストデータ!BU3,37,0))","v":0},{"$f":"SUM(OFFSET(テストデータ!BV3,37,0):OFFSET(テストデータ!BX3,37,0))","v":0},{"$f":"SUM(OFFSET(テストデータ!BV3,37,0):OFFSET(テストデータ!BZ3,37,0))","v":0},{"$f":"SUM(OFFSET(テストデータ!CA3,37,0):OFFSET(テストデータ!CC3,37,0))","v":0},{"$f":"SUM(OFFSET(テストデータ!CA3,37,0):OFFSET(テストデータ!CE3,37,0))","v":0},{"$f":"SUM(OFFSET(テストデータ!CF3,37,0):OFFSET(テストデータ!CH3,37,0))","v":0},{"$f":"SUM(OFFSET(テストデータ!CF3,37,0):OFFSET(テストデータ!CJ3,37,0))","v":0},{"$f":"SUM(OFFSET(テストデータ!CK3,37,0):OFFSET(テストデータ!CM3,37,0))","v":0},{"$f":"SUM(OFFSET(テストデータ!CK3,37,0):OFFSET(テストデータ!CO3,37,0))","v":0},{"$f":"SUM(OFFSET(テストデータ!CP3,37,0):OFFSET(テストデータ!CR3,37,0))","v":0},{"$f":"SUM(OFFSET(テストデータ!CP3,37,0):OFFSET(テストデータ!CT3,37,0))","v":0}]
[null,null,null,null,null,null,null,null,null,null,null,null,null,{"$f":"SUM(OFFSET(テストデータ!$E3,38,9*成績表1!$B$4-9):OFFSET(テストデータ!$G3,38,9*成績表1!$B$4-9))","v":0},{"$f":"SUM(OFFSET(テストデータ!$E3,38,9*成績表1!$B$4-9):OFFSET(テストデータ!I3,38,9*成績表1!$B$4-9))","v":0},{"$f":"SUM(OFFSET(テストデータ!E3,38,0):OFFSET(テストデータ!G3,38,0))","v":0},{"$f":"SUM(OFFSET(テストデータ!E3,38,0):OFFSET(テストデータ!I3,38,0))","v":0},{"$f":"SUM(OFFSET(テストデータ!N3,38,0):OFFSET(テストデータ!P3,38,0))","v":0},{"$f":"SUM(OFFSET(テストデータ!N3,38,0):OFFSET(テストデータ!R3,38,0))","v":0},{"$f":"SUM(OFFSET(テストデータ!W3,38,0):OFFSET(テストデータ!Y3,38,0))","v":0},{"$f":"SUM(OFFSET(テストデータ!W3,38,0):OFFSET(テストデータ!AA3,38,0))","v":0},{"$f":"SUM(OFFSET(テストデータ!AF3,38,0):OFFSET(テストデータ!AH3,38,0))","v":0},{"$f":"SUM(OFFSET(テストデータ!AF3,38,0):OFFSET(テストデータ!AJ3,38,0))","v":0},{"$f":"SUM(OFFSET(テストデータ!AO3,38,0):OFFSET(テストデータ!AQ3,38,0))","v":0},{"$f":"SUM(OFFSET(テストデータ!AO3,38,0):OFFSET(テストデータ!AS3,38,0))","v":0},{"$f":"SUM(OFFSET(テストデータ!AX3,38,0):OFFSET(テストデータ!AZ3,38,0))","v":0},{"$f":"SUM(OFFSET(テストデータ!AX3,38,0):OFFSET(テストデータ!BB3,38,0))","v":0},{"$f":"SUM(OFFSET(テストデータ!BG3,38,0):OFFSET(テストデータ!BI3,38,0))","v":0},{"$f":"SUM(OFFSET(テストデータ!BG3,38,0):OFFSET(テストデータ!BK3,38,0))","v":0},{"$f":"SUM(OFFSET(テストデータ!BL3,38,0):OFFSET(テストデータ!BN3,38,0))","v":0},{"$f":"SUM(OFFSET(テストデータ!BL3,38,0):OFFSET(テストデータ!BP3,38,0))","v":0},{"$f":"SUM(OFFSET(テストデータ!BQ3,38,0):OFFSET(テストデータ!BS3,38,0))","v":0},{"$f":"SUM(OFFSET(テストデータ!BQ3,38,0):OFFSET(テストデータ!BU3,38,0))","v":0},{"$f":"SUM(OFFSET(テストデータ!BV3,38,0):OFFSET(テストデータ!BX3,38,0))","v":0},{"$f":"SUM(OFFSET(テストデータ!BV3,38,0):OFFSET(テストデータ!BZ3,38,0))","v":0},{"$f":"SUM(OFFSET(テストデータ!CA3,38,0):OFFSET(テストデータ!CC3,38,0))","v":0},{"$f":"SUM(OFFSET(テストデータ!CA3,38,0):OFFSET(テストデータ!CE3,38,0))","v":0},{"$f":"SUM(OFFSET(テストデータ!CF3,38,0):OFFSET(テストデータ!CH3,38,0))","v":0},{"$f":"SUM(OFFSET(テストデータ!CF3,38,0):OFFSET(テストデータ!CJ3,38,0))","v":0},{"$f":"SUM(OFFSET(テストデータ!CK3,38,0):OFFSET(テストデータ!CM3,38,0))","v":0},{"$f":"SUM(OFFSET(テストデータ!CK3,38,0):OFFSET(テストデータ!CO3,38,0))","v":0},{"$f":"SUM(OFFSET(テストデータ!CP3,38,0):OFFSET(テストデータ!CR3,38,0))","v":0},{"$f":"SUM(OFFSET(テストデータ!CP3,38,0):OFFSET(テストデータ!CT3,38,0))","v":0}]
[null,null,null,null,null,null,null,null,null,null,null,null,null,{"$f":"SUM(OFFSET(テストデータ!$E3,39,9*成績表1!$B$4-9):OFFSET(テストデータ!$G3,39,9*成績表1!$B$4-9))","v":0},{"$f":"SUM(OFFSET(テストデータ!$E3,39,9*成績表1!$B$4-9):OFFSET(テストデータ!I3,39,9*成績表1!$B$4-9))","v":0},{"$f":"SUM(OFFSET(テストデータ!E3,39,0):OFFSET(テストデータ!G3,39,0))","v":0},{"$f":"SUM(OFFSET(テストデータ!E3,39,0):OFFSET(テストデータ!I3,39,0))","v":0},{"$f":"SUM(OFFSET(テストデータ!N3,39,0):OFFSET(テストデータ!P3,39,0))","v":0},{"$f":"SUM(OFFSET(テストデータ!N3,39,0):OFFSET(テストデータ!R3,39,0))","v":0},{"$f":"SUM(OFFSET(テストデータ!W3,39,0):OFFSET(テストデータ!Y3,39,0))","v":0},{"$f":"SUM(OFFSET(テストデータ!W3,39,0):OFFSET(テストデータ!AA3,39,0))","v":0},{"$f":"SUM(OFFSET(テストデータ!AF3,39,0):OFFSET(テストデータ!AH3,39,0))","v":0},{"$f":"SUM(OFFSET(テストデータ!AF3,39,0):OFFSET(テストデータ!AJ3,39,0))","v":0},{"$f":"SUM(OFFSET(テストデータ!AO3,39,0):OFFSET(テストデータ!AQ3,39,0))","v":0},{"$f":"SUM(OFFSET(テストデータ!AO3,39,0):OFFSET(テストデータ!AS3,39,0))","v":0},{"$f":"SUM(OFFSET(テストデータ!AX3,39,0):OFFSET(テストデータ!AZ3,39,0))","v":0},{"$f":"SUM(OFFSET(テストデータ!AX3,39,0):OFFSET(テストデータ!BB3,39,0))","v":0},{"$f":"SUM(OFFSET(テストデータ!BG3,39,0):OFFSET(テストデータ!BI3,39,0))","v":0},{"$f":"SUM(OFFSET(テストデータ!BG3,39,0):OFFSET(テストデータ!BK3,39,0))","v":0},{"$f":"SUM(OFFSET(テストデータ!BL3,39,0):OFFSET(テストデータ!BN3,39,0))","v":0},{"$f":"SUM(OFFSET(テストデータ!BL3,39,0):OFFSET(テストデータ!BP3,39,0))","v":0},{"$f":"SUM(OFFSET(テストデータ!BQ3,39,0):OFFSET(テストデータ!BS3,39,0))","v":0},{"$f":"SUM(OFFSET(テストデータ!BQ3,39,0):OFFSET(テストデータ!BU3,39,0))","v":0},{"$f":"SUM(OFFSET(テストデータ!BV3,39,0):OFFSET(テストデータ!BX3,39,0))","v":0},{"$f":"SUM(OFFSET(テストデータ!BV3,39,0):OFFSET(テストデータ!BZ3,39,0))","v":0},{"$f":"SUM(OFFSET(テストデータ!CA3,39,0):OFFSET(テストデータ!CC3,39,0))","v":0},{"$f":"SUM(OFFSET(テストデータ!CA3,39,0):OFFSET(テストデータ!CE3,39,0))","v":0},{"$f":"SUM(OFFSET(テストデータ!CF3,39,0):OFFSET(テストデータ!CH3,39,0))","v":0},{"$f":"SUM(OFFSET(テストデータ!CF3,39,0):OFFSET(テストデータ!CJ3,39,0))","v":0},{"$f":"SUM(OFFSET(テストデータ!CK3,39,0):OFFSET(テストデータ!CM3,39,0))","v":0},{"$f":"SUM(OFFSET(テストデータ!CK3,39,0):OFFSET(テストデータ!CO3,39,0))","v":0},{"$f":"SUM(OFFSET(テストデータ!CP3,39,0):OFFSET(テストデータ!CR3,39,0))","v":0},{"$f":"SUM(OFFSET(テストデータ!CP3,39,0):OFFSET(テストデータ!CT3,39,0))","v":0}]
[null,null,null,null,null,null,null,null,null,null,null,null,null,{"$f":"SUM(OFFSET(テストデータ!$E3,40,9*成績表1!$B$4-9):OFFSET(テストデータ!$G3,40,9*成績表1!$B$4-9))","v":0},{"$f":"SUM(OFFSET(テストデータ!$E3,40,9*成績表1!$B$4-9):OFFSET(テストデータ!I3,40,9*成績表1!$B$4-9))","v":0},{"$f":"SUM(OFFSET(テストデータ!E3,40,0):OFFSET(テストデータ!G3,40,0))","v":0},{"$f":"SUM(OFFSET(テストデータ!E3,40,0):OFFSET(テストデータ!I3,40,0))","v":0},{"$f":"SUM(OFFSET(テストデータ!N3,40,0):OFFSET(テストデータ!P3,40,0))","v":0},{"$f":"SUM(OFFSET(テストデータ!N3,40,0):OFFSET(テストデータ!R3,40,0))","v":0},{"$f":"SUM(OFFSET(テストデータ!W3,40,0):OFFSET(テストデータ!Y3,40,0))","v":0},{"$f":"SUM(OFFSET(テストデータ!W3,40,0):OFFSET(テストデータ!AA3,40,0))","v":0},{"$f":"SUM(OFFSET(テストデータ!AF3,40,0):OFFSET(テストデータ!AH3,40,0))","v":0},{"$f":"SUM(OFFSET(テストデータ!AF3,40,0):OFFSET(テストデータ!AJ3,40,0))","v":0},{"$f":"SUM(OFFSET(テストデータ!AO3,40,0):OFFSET(テストデータ!AQ3,40,0))","v":0},{"$f":"SUM(OFFSET(テストデータ!AO3,40,0):OFFSET(テストデータ!AS3,40,0))","v":0},{"$f":"SUM(OFFSET(テストデータ!AX3,40,0):OFFSET(テストデータ!AZ3,40,0))","v":0},{"$f":"SUM(OFFSET(テストデータ!AX3,40,0):OFFSET(テストデータ!BB3,40,0))","v":0},{"$f":"SUM(OFFSET(テストデータ!BG3,40,0):OFFSET(テストデータ!BI3,40,0))","v":0},{"$f":"SUM(OFFSET(テストデータ!BG3,40,0):OFFSET(テストデータ!BK3,40,0))","v":0},{"$f":"SUM(OFFSET(テストデータ!BL3,40,0):OFFSET(テストデータ!BN3,40,0))","v":0},{"$f":"SUM(OFFSET(テストデータ!BL3,40,0):OFFSET(テストデータ!BP3,40,0))","v":0},{"$f":"SUM(OFFSET(テストデータ!BQ3,40,0):OFFSET(テストデータ!BS3,40,0))","v":0},{"$f":"SUM(OFFSET(テストデータ!BQ3,40,0):OFFSET(テストデータ!BU3,40,0))","v":0},{"$f":"SUM(OFFSET(テストデータ!BV3,40,0):OFFSET(テストデータ!BX3,40,0))","v":0},{"$f":"SUM(OFFSET(テストデータ!BV3,40,0):OFFSET(テストデータ!BZ3,40,0))","v":0},{"$f":"SUM(OFFSET(テストデータ!CA3,40,0):OFFSET(テストデータ!CC3,40,0))","v":0},{"$f":"SUM(OFFSET(テストデータ!CA3,40,0):OFFSET(テストデータ!CE3,40,0))","v":0},{"$f":"SUM(OFFSET(テストデータ!CF3,40,0):OFFSET(テストデータ!CH3,40,0))","v":0},{"$f":"SUM(OFFSET(テストデータ!CF3,40,0):OFFSET(テストデータ!CJ3,40,0))","v":0},{"$f":"SUM(OFFSET(テストデータ!CK3,40,0):OFFSET(テストデータ!CM3,40,0))","v":0},{"$f":"SUM(OFFSET(テストデータ!CK3,40,0):OFFSET(テストデータ!CO3,40,0))","v":0},{"$f":"SUM(OFFSET(テストデータ!CP3,40,0):OFFSET(テストデータ!CR3,40,0))","v":0},{"$f":"SUM(OFFSET(テストデータ!CP3,40,0):OFFSET(テストデータ!CT3,40,0))","v":0}]
[null,null,null,null,null,null,null,null,null,null,null,null,null,{"$f":"SUM(OFFSET(テストデータ!$E3,41,9*成績表1!$B$4-9):OFFSET(テストデータ!$G3,41,9*成績表1!$B$4-9))","v":0},{"$f":"SUM(OFFSET(テストデータ!$E3,41,9*成績表1!$B$4-9):OFFSET(テストデータ!I3,41,9*成績表1!$B$4-9))","v":0},{"$f":"SUM(OFFSET(テストデータ!E3,41,0):OFFSET(テストデータ!G3,41,0))","v":0},{"$f":"SUM(OFFSET(テストデータ!E3,41,0):OFFSET(テストデータ!I3,41,0))","v":0},{"$f":"SUM(OFFSET(テストデータ!N3,41,0):OFFSET(テストデータ!P3,41,0))","v":0},{"$f":"SUM(OFFSET(テストデータ!N3,41,0):OFFSET(テストデータ!R3,41,0))","v":0},{"$f":"SUM(OFFSET(テストデータ!W3,41,0):OFFSET(テストデータ!Y3,41,0))","v":0},{"$f":"SUM(OFFSET(テストデータ!W3,41,0):OFFSET(テストデータ!AA3,41,0))","v":0},{"$f":"SUM(OFFSET(テストデータ!AF3,41,0):OFFSET(テストデータ!AH3,41,0))","v":0},{"$f":"SUM(OFFSET(テストデータ!AF3,41,0):OFFSET(テストデータ!AJ3,41,0))","v":0},{"$f":"SUM(OFFSET(テストデータ!AO3,41,0):OFFSET(テストデータ!AQ3,41,0))","v":0},{"$f":"SUM(OFFSET(テストデータ!AO3,41,0):OFFSET(テストデータ!AS3,41,0))","v":0},{"$f":"SUM(OFFSET(テストデータ!AX3,41,0):OFFSET(テストデータ!AZ3,41,0))","v":0},{"$f":"SUM(OFFSET(テストデータ!AX3,41,0):OFFSET(テストデータ!BB3,41,0))","v":0},{"$f":"SUM(OFFSET(テストデータ!BG3,41,0):OFFSET(テストデータ!BI3,41,0))","v":0},{"$f":"SUM(OFFSET(テストデータ!BG3,41,0):OFFSET(テストデータ!BK3,41,0))","v":0},{"$f":"SUM(OFFSET(テストデータ!BL3,41,0):OFFSET(テストデータ!BN3,41,0))","v":0},{"$f":"SUM(OFFSET(テストデータ!BL3,41,0):OFFSET(テストデータ!BP3,41,0))","v":0},{"$f":"SUM(OFFSET(テストデータ!BQ3,41,0):OFFSET(テストデータ!BS3,41,0))","v":0},{"$f":"SUM(OFFSET(テストデータ!BQ3,41,0):OFFSET(テストデータ!BU3,41,0))","v":0},{"$f":"SUM(OFFSET(テストデータ!BV3,41,0):OFFSET(テストデータ!BX3,41,0))","v":0},{"$f":"SUM(OFFSET(テストデータ!BV3,41,0):OFFSET(テストデータ!BZ3,41,0))","v":0},{"$f":"SUM(OFFSET(テストデータ!CA3,41,0):OFFSET(テストデータ!CC3,41,0))","v":0},{"$f":"SUM(OFFSET(テストデータ!CA3,41,0):OFFSET(テストデータ!CE3,41,0))","v":0},{"$f":"SUM(OFFSET(テストデータ!CF3,41,0):OFFSET(テストデータ!CH3,41,0))","v":0},{"$f":"SUM(OFFSET(テストデータ!CF3,41,0):OFFSET(テストデータ!CJ3,41,0))","v":0},{"$f":"SUM(OFFSET(テストデータ!CK3,41,0):OFFSET(テストデータ!CM3,41,0))","v":0},{"$f":"SUM(OFFSET(テストデータ!CK3,41,0):OFFSET(テストデータ!CO3,41,0))","v":0},{"$f":"SUM(OFFSET(テストデータ!CP3,41,0):OFFSET(テストデータ!CR3,41,0))","v":0},{"$f":"SUM(OFFSET(テストデータ!CP3,41,0):OFFSET(テストデータ!CT3,41,0))","v":0}]
[null,null,null,null,null,null,null,null,null,null,null,null,null,{"$f":"SUM(OFFSET(テストデータ!$E3,42,9*成績表1!$B$4-9):OFFSET(テストデータ!$G3,42,9*成績表1!$B$4-9))","v":0},{"$f":"SUM(OFFSET(テストデータ!$E3,42,9*成績表1!$B$4-9):OFFSET(テストデータ!I3,42,9*成績表1!$B$4-9))","v":0},{"$f":"SUM(OFFSET(テストデータ!E3,42,0):OFFSET(テストデータ!G3,42,0))","v":0},{"$f":"SUM(OFFSET(テストデータ!E3,42,0):OFFSET(テストデータ!I3,42,0))","v":0},{"$f":"SUM(OFFSET(テストデータ!N3,42,0):OFFSET(テストデータ!P3,42,0))","v":0},{"$f":"SUM(OFFSET(テストデータ!N3,42,0):OFFSET(テストデータ!R3,42,0))","v":0},{"$f":"SUM(OFFSET(テストデータ!W3,42,0):OFFSET(テストデータ!Y3,42,0))","v":0},{"$f":"SUM(OFFSET(テストデータ!W3,42,0):OFFSET(テストデータ!AA3,42,0))","v":0},{"$f":"SUM(OFFSET(テストデータ!AF3,42,0):OFFSET(テストデータ!AH3,42,0))","v":0},{"$f":"SUM(OFFSET(テストデータ!AF3,42,0):OFFSET(テストデータ!AJ3,42,0))","v":0},{"$f":"SUM(OFFSET(テストデータ!AO3,42,0):OFFSET(テストデータ!AQ3,42,0))","v":0},{"$f":"SUM(OFFSET(テストデータ!AO3,42,0):OFFSET(テストデータ!AS3,42,0))","v":0},{"$f":"SUM(OFFSET(テストデータ!AX3,42,0):OFFSET(テストデータ!AZ3,42,0))","v":0},{"$f":"SUM(OFFSET(テストデータ!AX3,42,0):OFFSET(テストデータ!BB3,42,0))","v":0},{"$f":"SUM(OFFSET(テストデータ!BG3,42,0):OFFSET(テストデータ!BI3,42,0))","v":0},{"$f":"SUM(OFFSET(テストデータ!BG3,42,0):OFFSET(テストデータ!BK3,42,0))","v":0},{"$f":"SUM(OFFSET(テストデータ!BL3,42,0):OFFSET(テストデータ!BN3,42,0))","v":0},{"$f":"SUM(OFFSET(テストデータ!BL3,42,0):OFFSET(テストデータ!BP3,42,0))","v":0},{"$f":"SUM(OFFSET(テストデータ!BQ3,42,0):OFFSET(テストデータ!BS3,42,0))","v":0},{"$f":"SUM(OFFSET(テストデータ!BQ3,42,0):OFFSET(テストデータ!BU3,42,0))","v":0},{"$f":"SUM(OFFSET(テストデータ!BV3,42,0):OFFSET(テストデータ!BX3,42,0))","v":0},{"$f":"SUM(OFFSET(テストデータ!BV3,42,0):OFFSET(テストデータ!BZ3,42,0))","v":0},{"$f":"SUM(OFFSET(テストデータ!CA3,42,0):OFFSET(テストデータ!CC3,42,0))","v":0},{"$f":"SUM(OFFSET(テストデータ!CA3,42,0):OFFSET(テストデータ!CE3,42,0))","v":0},{"$f":"SUM(OFFSET(テストデータ!CF3,42,0):OFFSET(テストデータ!CH3,42,0))","v":0},{"$f":"SUM(OFFSET(テストデータ!CF3,42,0):OFFSET(テストデータ!CJ3,42,0))","v":0},{"$f":"SUM(OFFSET(テストデータ!CK3,42,0):OFFSET(テストデータ!CM3,42,0))","v":0},{"$f":"SUM(OFFSET(テストデータ!CK3,42,0):OFFSET(テストデータ!CO3,42,0))","v":0},{"$f":"SUM(OFFSET(テストデータ!CP3,42,0):OFFSET(テストデータ!CR3,42,0))","v":0},{"$f":"SUM(OFFSET(テストデータ!CP3,42,0):OFFSET(テストデータ!CT3,42,0))","v":0}]
[null,null,null,null,null,null,null,null,null,null,null,null,null,{"$f":"SUM(OFFSET(テストデータ!$E3,43,9*成績表1!$B$4-9):OFFSET(テストデータ!$G3,43,9*成績表1!$B$4-9))","v":0},{"$f":"SUM(OFFSET(テストデータ!$E3,43,9*成績表1!$B$4-9):OFFSET(テストデータ!I3,43,9*成績表1!$B$4-9))","v":0},{"$f":"SUM(OFFSET(テストデータ!E3,43,0):OFFSET(テストデータ!G3,43,0))","v":0},{"$f":"SUM(OFFSET(テストデータ!E3,43,0):OFFSET(テストデータ!I3,43,0))","v":0},{"$f":"SUM(OFFSET(テストデータ!N3,43,0):OFFSET(テストデータ!P3,43,0))","v":0},{"$f":"SUM(OFFSET(テストデータ!N3,43,0):OFFSET(テストデータ!R3,43,0))","v":0},{"$f":"SUM(OFFSET(テストデータ!W3,43,0):OFFSET(テストデータ!Y3,43,0))","v":0},{"$f":"SUM(OFFSET(テストデータ!W3,43,0):OFFSET(テストデータ!AA3,43,0))","v":0},{"$f":"SUM(OFFSET(テストデータ!AF3,43,0):OFFSET(テストデータ!AH3,43,0))","v":0},{"$f":"SUM(OFFSET(テストデータ!AF3,43,0):OFFSET(テストデータ!AJ3,43,0))","v":0},{"$f":"SUM(OFFSET(テストデータ!AO3,43,0):OFFSET(テストデータ!AQ3,43,0))","v":0},{"$f":"SUM(OFFSET(テストデータ!AO3,43,0):OFFSET(テストデータ!AS3,43,0))","v":0},{"$f":"SUM(OFFSET(テストデータ!AX3,43,0):OFFSET(テストデータ!AZ3,43,0))","v":0},{"$f":"SUM(OFFSET(テストデータ!AX3,43,0):OFFSET(テストデータ!BB3,43,0))","v":0},{"$f":"SUM(OFFSET(テストデータ!BG3,43,0):OFFSET(テストデータ!BI3,43,0))","v":0},{"$f":"SUM(OFFSET(テストデータ!BG3,43,0):OFFSET(テストデータ!BK3,43,0))","v":0},{"$f":"SUM(OFFSET(テストデータ!BL3,43,0):OFFSET(テストデータ!BN3,43,0))","v":0},{"$f":"SUM(OFFSET(テストデータ!BL3,43,0):OFFSET(テストデータ!BP3,43,0))","v":0},{"$f":"SUM(OFFSET(テストデータ!BQ3,43,0):OFFSET(テストデータ!BS3,43,0))","v":0},{"$f":"SUM(OFFSET(テストデータ!BQ3,43,0):OFFSET(テストデータ!BU3,43,0))","v":0},{"$f":"SUM(OFFSET(テストデータ!BV3,43,0):OFFSET(テストデータ!BX3,43,0))","v":0},{"$f":"SUM(OFFSET(テストデータ!BV3,43,0):OFFSET(テストデータ!BZ3,43,0))","v":0},{"$f":"SUM(OFFSET(テストデータ!CA3,43,0):OFFSET(テストデータ!CC3,43,0))","v":0},{"$f":"SUM(OFFSET(テストデータ!CA3,43,0):OFFSET(テストデータ!CE3,43,0))","v":0},{"$f":"SUM(OFFSET(テストデータ!CF3,43,0):OFFSET(テストデータ!CH3,43,0))","v":0},{"$f":"SUM(OFFSET(テストデータ!CF3,43,0):OFFSET(テストデータ!CJ3,43,0))","v":0},{"$f":"SUM(OFFSET(テストデータ!CK3,43,0):OFFSET(テストデータ!CM3,43,0))","v":0},{"$f":"SUM(OFFSET(テストデータ!CK3,43,0):OFFSET(テストデータ!CO3,43,0))","v":0},{"$f":"SUM(OFFSET(テストデータ!CP3,43,0):OFFSET(テストデータ!CR3,43,0))","v":0},{"$f":"SUM(OFFSET(テストデータ!CP3,43,0):OFFSET(テストデータ!CT3,43,0))","v":0}]
[null,null,null,null,null,null,null,null,null,null,null,null,null,{"$f":"SUM(OFFSET(テストデータ!$E3,44,9*成績表1!$B$4-9):OFFSET(テストデータ!$G3,44,9*成績表1!$B$4-9))","v":0},{"$f":"SUM(OFFSET(テストデータ!$E3,44,9*成績表1!$B$4-9):OFFSET(テストデータ!I3,44,9*成績表1!$B$4-9))","v":0},{"$f":"SUM(OFFSET(テストデータ!E3,44,0):OFFSET(テストデータ!G3,44,0))","v":0},{"$f":"SUM(OFFSET(テストデータ!E3,44,0):OFFSET(テストデータ!I3,44,0))","v":0},{"$f":"SUM(OFFSET(テストデータ!N3,44,0):OFFSET(テストデータ!P3,44,0))","v":0},{"$f":"SUM(OFFSET(テストデータ!N3,44,0):OFFSET(テストデータ!R3,44,0))","v":0},{"$f":"SUM(OFFSET(テストデータ!W3,44,0):OFFSET(テストデータ!Y3,44,0))","v":0},{"$f":"SUM(OFFSET(テストデータ!W3,44,0):OFFSET(テストデータ!AA3,44,0))","v":0},{"$f":"SUM(OFFSET(テストデータ!AF3,44,0):OFFSET(テストデータ!AH3,44,0))","v":0},{"$f":"SUM(OFFSET(テストデータ!AF3,44,0):OFFSET(テストデータ!AJ3,44,0))","v":0},{"$f":"SUM(OFFSET(テストデータ!AO3,44,0):OFFSET(テストデータ!AQ3,44,0))","v":0},{"$f":"SUM(OFFSET(テストデータ!AO3,44,0):OFFSET(テストデータ!AS3,44,0))","v":0},{"$f":"SUM(OFFSET(テストデータ!AX3,44,0):OFFSET(テストデータ!AZ3,44,0))","v":0},{"$f":"SUM(OFFSET(テストデータ!AX3,44,0):OFFSET(テストデータ!BB3,44,0))","v":0},{"$f":"SUM(OFFSET(テストデータ!BG3,44,0):OFFSET(テストデータ!BI3,44,0))","v":0},{"$f":"SUM(OFFSET(テストデータ!BG3,44,0):OFFSET(テストデータ!BK3,44,0))","v":0},{"$f":"SUM(OFFSET(テストデータ!BL3,44,0):OFFSET(テストデータ!BN3,44,0))","v":0},{"$f":"SUM(OFFSET(テストデータ!BL3,44,0):OFFSET(テストデータ!BP3,44,0))","v":0},{"$f":"SUM(OFFSET(テストデータ!BQ3,44,0):OFFSET(テストデータ!BS3,44,0))","v":0},{"$f":"SUM(OFFSET(テストデータ!BQ3,44,0):OFFSET(テストデータ!BU3,44,0))","v":0},{"$f":"SUM(OFFSET(テストデータ!BV3,44,0):OFFSET(テストデータ!BX3,44,0))","v":0},{"$f":"SUM(OFFSET(テストデータ!BV3,44,0):OFFSET(テストデータ!BZ3,44,0))","v":0},{"$f":"SUM(OFFSET(テストデータ!CA3,44,0):OFFSET(テストデータ!CC3,44,0))","v":0},{"$f":"SUM(OFFSET(テストデータ!CA3,44,0):OFFSET(テストデータ!CE3,44,0))","v":0},{"$f":"SUM(OFFSET(テストデータ!CF3,44,0):OFFSET(テストデータ!CH3,44,0))","v":0},{"$f":"SUM(OFFSET(テストデータ!CF3,44,0):OFFSET(テストデータ!CJ3,44,0))","v":0},{"$f":"SUM(OFFSET(テストデータ!CK3,44,0):OFFSET(テストデータ!CM3,44,0))","v":0},{"$f":"SUM(OFFSET(テストデータ!CK3,44,0):OFFSET(テストデータ!CO3,44,0))","v":0},{"$f":"SUM(OFFSET(テストデータ!CP3,44,0):OFFSET(テストデータ!CR3,44,0))","v":0},{"$f":"SUM(OFFSET(テストデータ!CP3,44,0):OFFSET(テストデータ!CT3,44,0))","v":0}]
[null,null,null,null,null,null,null,null,null,null,null,null,null,{"$f":"SUM(OFFSET(テストデータ!$E3,45,9*成績表1!$B$4-9):OFFSET(テストデータ!$G3,45,9*成績表1!$B$4-9))","v":0},{"$f":"SUM(OFFSET(テストデータ!$E3,45,9*成績表1!$B$4-9):OFFSET(テストデータ!I3,45,9*成績表1!$B$4-9))","v":0},{"$f":"SUM(OFFSET(テストデータ!E3,45,0):OFFSET(テストデータ!G3,45,0))","v":0},{"$f":"SUM(OFFSET(テストデータ!E3,45,0):OFFSET(テストデータ!I3,45,0))","v":0},{"$f":"SUM(OFFSET(テストデータ!N3,45,0):OFFSET(テストデータ!P3,45,0))","v":0},{"$f":"SUM(OFFSET(テストデータ!N3,45,0):OFFSET(テストデータ!R3,45,0))","v":0},{"$f":"SUM(OFFSET(テストデータ!W3,45,0):OFFSET(テストデータ!Y3,45,0))","v":0},{"$f":"SUM(OFFSET(テストデータ!W3,45,0):OFFSET(テストデータ!AA3,45,0))","v":0},{"$f":"SUM(OFFSET(テストデータ!AF3,45,0):OFFSET(テストデータ!AH3,45,0))","v":0},{"$f":"SUM(OFFSET(テストデータ!AF3,45,0):OFFSET(テストデータ!AJ3,45,0))","v":0},{"$f":"SUM(OFFSET(テストデータ!AO3,45,0):OFFSET(テストデータ!AQ3,45,0))","v":0},{"$f":"SUM(OFFSET(テストデータ!AO3,45,0):OFFSET(テストデータ!AS3,45,0))","v":0},{"$f":"SUM(OFFSET(テストデータ!AX3,45,0):OFFSET(テストデータ!AZ3,45,0))","v":0},{"$f":"SUM(OFFSET(テストデータ!AX3,45,0):OFFSET(テストデータ!BB3,45,0))","v":0},{"$f":"SUM(OFFSET(テストデータ!BG3,45,0):OFFSET(テストデータ!BI3,45,0))","v":0},{"$f":"SUM(OFFSET(テストデータ!BG3,45,0):OFFSET(テストデータ!BK3,45,0))","v":0},{"$f":"SUM(OFFSET(テストデータ!BL3,45,0):OFFSET(テストデータ!BN3,45,0))","v":0},{"$f":"SUM(OFFSET(テストデータ!BL3,45,0):OFFSET(テストデータ!BP3,45,0))","v":0},{"$f":"SUM(OFFSET(テストデータ!BQ3,45,0):OFFSET(テストデータ!BS3,45,0))","v":0},{"$f":"SUM(OFFSET(テストデータ!BQ3,45,0):OFFSET(テストデータ!BU3,45,0))","v":0},{"$f":"SUM(OFFSET(テストデータ!BV3,45,0):OFFSET(テストデータ!BX3,45,0))","v":0},{"$f":"SUM(OFFSET(テストデータ!BV3,45,0):OFFSET(テストデータ!BZ3,45,0))","v":0},{"$f":"SUM(OFFSET(テストデータ!CA3,45,0):OFFSET(テストデータ!CC3,45,0))","v":0},{"$f":"SUM(OFFSET(テストデータ!CA3,45,0):OFFSET(テストデータ!CE3,45,0))","v":0},{"$f":"SUM(OFFSET(テストデータ!CF3,45,0):OFFSET(テストデータ!CH3,45,0))","v":0},{"$f":"SUM(OFFSET(テストデータ!CF3,45,0):OFFSET(テストデータ!CJ3,45,0))","v":0},{"$f":"SUM(OFFSET(テストデータ!CK3,45,0):OFFSET(テストデータ!CM3,45,0))","v":0},{"$f":"SUM(OFFSET(テストデータ!CK3,45,0):OFFSET(テストデータ!CO3,45,0))","v":0},{"$f":"SUM(OFFSET(テストデータ!CP3,45,0):OFFSET(テストデータ!CR3,45,0))","v":0},{"$f":"SUM(OFFSET(テストデータ!CP3,45,0):OFFSET(テストデータ!CT3,45,0))","v":0}]
[null,null,null,null,null,null,null,null,null,null,null,null,null,{"$f":"SUM(OFFSET(テストデータ!$E3,46,9*成績表1!$B$4-9):OFFSET(テストデータ!$G3,46,9*成績表1!$B$4-9))","v":0},{"$f":"SUM(OFFSET(テストデータ!$E3,46,9*成績表1!$B$4-9):OFFSET(テストデータ!I3,46,9*成績表1!$B$4-9))","v":0},{"$f":"SUM(OFFSET(テストデータ!E3,46,0):OFFSET(テストデータ!G3,46,0))","v":0},{"$f":"SUM(OFFSET(テストデータ!E3,46,0):OFFSET(テストデータ!I3,46,0))","v":0},{"$f":"SUM(OFFSET(テストデータ!N3,46,0):OFFSET(テストデータ!P3,46,0))","v":0},{"$f":"SUM(OFFSET(テストデータ!N3,46,0):OFFSET(テストデータ!R3,46,0))","v":0},{"$f":"SUM(OFFSET(テストデータ!W3,46,0):OFFSET(テストデータ!Y3,46,0))","v":0},{"$f":"SUM(OFFSET(テストデータ!W3,46,0):OFFSET(テストデータ!AA3,46,0))","v":0},{"$f":"SUM(OFFSET(テストデータ!AF3,46,0):OFFSET(テストデータ!AH3,46,0))","v":0},{"$f":"SUM(OFFSET(テストデータ!AF3,46,0):OFFSET(テストデータ!AJ3,46,0))","v":0},{"$f":"SUM(OFFSET(テストデータ!AO3,46,0):OFFSET(テストデータ!AQ3,46,0))","v":0},{"$f":"SUM(OFFSET(テストデータ!AO3,46,0):OFFSET(テストデータ!AS3,46,0))","v":0},{"$f":"SUM(OFFSET(テストデータ!AX3,46,0):OFFSET(テストデータ!AZ3,46,0))","v":0},{"$f":"SUM(OFFSET(テストデータ!AX3,46,0):OFFSET(テストデータ!BB3,46,0))","v":0},{"$f":"SUM(OFFSET(テストデータ!BG3,46,0):OFFSET(テストデータ!BI3,46,0))","v":0},{"$f":"SUM(OFFSET(テストデータ!BG3,46,0):OFFSET(テストデータ!BK3,46,0))","v":0},{"$f":"SUM(OFFSET(テストデータ!BL3,46,0):OFFSET(テストデータ!BN3,46,0))","v":0},{"$f":"SUM(OFFSET(テストデータ!BL3,46,0):OFFSET(テストデータ!BP3,46,0))","v":0},{"$f":"SUM(OFFSET(テストデータ!BQ3,46,0):OFFSET(テストデータ!BS3,46,0))","v":0},{"$f":"SUM(OFFSET(テストデータ!BQ3,46,0):OFFSET(テストデータ!BU3,46,0))","v":0},{"$f":"SUM(OFFSET(テストデータ!BV3,46,0):OFFSET(テストデータ!BX3,46,0))","v":0},{"$f":"SUM(OFFSET(テストデータ!BV3,46,0):OFFSET(テストデータ!BZ3,46,0))","v":0},{"$f":"SUM(OFFSET(テストデータ!CA3,46,0):OFFSET(テストデータ!CC3,46,0))","v":0},{"$f":"SUM(OFFSET(テストデータ!CA3,46,0):OFFSET(テストデータ!CE3,46,0))","v":0},{"$f":"SUM(OFFSET(テストデータ!CF3,46,0):OFFSET(テストデータ!CH3,46,0))","v":0},{"$f":"SUM(OFFSET(テストデータ!CF3,46,0):OFFSET(テストデータ!CJ3,46,0))","v":0},{"$f":"SUM(OFFSET(テストデータ!CK3,46,0):OFFSET(テストデータ!CM3,46,0))","v":0},{"$f":"SUM(OFFSET(テストデータ!CK3,46,0):OFFSET(テストデータ!CO3,46,0))","v":0},{"$f":"SUM(OFFSET(テストデータ!CP3,46,0):OFFSET(テストデータ!CR3,46,0))","v":0},{"$f":"SUM(OFFSET(テストデータ!CP3,46,0):OFFSET(テストデータ!CT3,46,0))","v":0}]
[null,null,null,null,null,null,null,null,null,null,null,null,null,{"$f":"SUM(OFFSET(テストデータ!$E3,47,9*成績表1!$B$4-9):OFFSET(テストデータ!$G3,47,9*成績表1!$B$4-9))","v":0},{"$f":"SUM(OFFSET(テストデータ!$E3,47,9*成績表1!$B$4-9):OFFSET(テストデータ!I3,47,9*成績表1!$B$4-9))","v":0},{"$f":"SUM(OFFSET(テストデータ!E3,47,0):OFFSET(テストデータ!G3,47,0))","v":0},{"$f":"SUM(OFFSET(テストデータ!E3,47,0):OFFSET(テストデータ!I3,47,0))","v":0},{"$f":"SUM(OFFSET(テストデータ!N3,47,0):OFFSET(テストデータ!P3,47,0))","v":0},{"$f":"SUM(OFFSET(テストデータ!N3,47,0):OFFSET(テストデータ!R3,47,0))","v":0},{"$f":"SUM(OFFSET(テストデータ!W3,47,0):OFFSET(テストデータ!Y3,47,0))","v":0},{"$f":"SUM(OFFSET(テストデータ!W3,47,0):OFFSET(テストデータ!AA3,47,0))","v":0},{"$f":"SUM(OFFSET(テストデータ!AF3,47,0):OFFSET(テストデータ!AH3,47,0))","v":0},{"$f":"SUM(OFFSET(テストデータ!AF3,47,0):OFFSET(テストデータ!AJ3,47,0))","v":0},{"$f":"SUM(OFFSET(テストデータ!AO3,47,0):OFFSET(テストデータ!AQ3,47,0))","v":0},{"$f":"SUM(OFFSET(テストデータ!AO3,47,0):OFFSET(テストデータ!AS3,47,0))","v":0},{"$f":"SUM(OFFSET(テストデータ!AX3,47,0):OFFSET(テストデータ!AZ3,47,0))","v":0},{"$f":"SUM(OFFSET(テストデータ!AX3,47,0):OFFSET(テストデータ!BB3,47,0))","v":0},{"$f":"SUM(OFFSET(テストデータ!BG3,47,0):OFFSET(テストデータ!BI3,47,0))","v":0},{"$f":"SUM(OFFSET(テストデータ!BG3,47,0):OFFSET(テストデータ!BK3,47,0))","v":0},{"$f":"SUM(OFFSET(テストデータ!BL3,47,0):OFFSET(テストデータ!BN3,47,0))","v":0},{"$f":"SUM(OFFSET(テストデータ!BL3,47,0):OFFSET(テストデータ!BP3,47,0))","v":0},{"$f":"SUM(OFFSET(テストデータ!BQ3,47,0):OFFSET(テストデータ!BS3,47,0))","v":0},{"$f":"SUM(OFFSET(テストデータ!BQ3,47,0):OFFSET(テストデータ!BU3,47,0))","v":0},{"$f":"SUM(OFFSET(テストデータ!BV3,47,0):OFFSET(テストデータ!BX3,47,0))","v":0},{"$f":"SUM(OFFSET(テストデータ!BV3,47,0):OFFSET(テストデータ!BZ3,47,0))","v":0},{"$f":"SUM(OFFSET(テストデータ!CA3,47,0):OFFSET(テストデータ!CC3,47,0))","v":0},{"$f":"SUM(OFFSET(テストデータ!CA3,47,0):OFFSET(テストデータ!CE3,47,0))","v":0},{"$f":"SUM(OFFSET(テストデータ!CF3,47,0):OFFSET(テストデータ!CH3,47,0))","v":0},{"$f":"SUM(OFFSET(テストデータ!CF3,47,0):OFFSET(テストデータ!CJ3,47,0))","v":0},{"$f":"SUM(OFFSET(テストデータ!CK3,47,0):OFFSET(テストデータ!CM3,47,0))","v":0},{"$f":"SUM(OFFSET(テストデータ!CK3,47,0):OFFSET(テストデータ!CO3,47,0))","v":0},{"$f":"SUM(OFFSET(テストデータ!CP3,47,0):OFFSET(テストデータ!CR3,47,0))","v":0},{"$f":"SUM(OFFSET(テストデータ!CP3,47,0):OFFSET(テストデータ!CT3,47,0))","v":0}]
[null,null,null,null,null,null,null,null,null,null,null,null,null,{"$f":"SUM(OFFSET(テストデータ!$E3,48,9*成績表1!$B$4-9):OFFSET(テストデータ!$G3,48,9*成績表1!$B$4-9))","v":0},{"$f":"SUM(OFFSET(テストデータ!$E3,48,9*成績表1!$B$4-9):OFFSET(テストデータ!I3,48,9*成績表1!$B$4-9))","v":0},{"$f":"SUM(OFFSET(テストデータ!E3,48,0):OFFSET(テストデータ!G3,48,0))","v":0},{"$f":"SUM(OFFSET(テストデータ!E3,48,0):OFFSET(テストデータ!I3,48,0))","v":0},{"$f":"SUM(OFFSET(テストデータ!N3,48,0):OFFSET(テストデータ!P3,48,0))","v":0},{"$f":"SUM(OFFSET(テストデータ!N3,48,0):OFFSET(テストデータ!R3,48,0))","v":0},{"$f":"SUM(OFFSET(テストデータ!W3,48,0):OFFSET(テストデータ!Y3,48,0))","v":0},{"$f":"SUM(OFFSET(テストデータ!W3,48,0):OFFSET(テストデータ!AA3,48,0))","v":0},{"$f":"SUM(OFFSET(テストデータ!AF3,48,0):OFFSET(テストデータ!AH3,48,0))","v":0},{"$f":"SUM(OFFSET(テストデータ!AF3,48,0):OFFSET(テストデータ!AJ3,48,0))","v":0},{"$f":"SUM(OFFSET(テストデータ!AO3,48,0):OFFSET(テストデータ!AQ3,48,0))","v":0},{"$f":"SUM(OFFSET(テストデータ!AO3,48,0):OFFSET(テストデータ!AS3,48,0))","v":0},{"$f":"SUM(OFFSET(テストデータ!AX3,48,0):OFFSET(テストデータ!AZ3,48,0))","v":0},{"$f":"SUM(OFFSET(テストデータ!AX3,48,0):OFFSET(テストデータ!BB3,48,0))","v":0},{"$f":"SUM(OFFSET(テストデータ!BG3,48,0):OFFSET(テストデータ!BI3,48,0))","v":0},{"$f":"SUM(OFFSET(テストデータ!BG3,48,0):OFFSET(テストデータ!BK3,48,0))","v":0},{"$f":"SUM(OFFSET(テストデータ!BL3,48,0):OFFSET(テストデータ!BN3,48,0))","v":0},{"$f":"SUM(OFFSET(テストデータ!BL3,48,0):OFFSET(テストデータ!BP3,48,0))","v":0},{"$f":"SUM(OFFSET(テストデータ!BQ3,48,0):OFFSET(テストデータ!BS3,48,0))","v":0},{"$f":"SUM(OFFSET(テストデータ!BQ3,48,0):OFFSET(テストデータ!BU3,48,0))","v":0},{"$f":"SUM(OFFSET(テストデータ!BV3,48,0):OFFSET(テストデータ!BX3,48,0))","v":0},{"$f":"SUM(OFFSET(テストデータ!BV3,48,0):OFFSET(テストデータ!BZ3,48,0))","v":0},{"$f":"SUM(OFFSET(テストデータ!CA3,48,0):OFFSET(テストデータ!CC3,48,0))","v":0},{"$f":"SUM(OFFSET(テストデータ!CA3,48,0):OFFSET(テストデータ!CE3,48,0))","v":0},{"$f":"SUM(OFFSET(テストデータ!CF3,48,0):OFFSET(テストデータ!CH3,48,0))","v":0},{"$f":"SUM(OFFSET(テストデータ!CF3,48,0):OFFSET(テストデータ!CJ3,48,0))","v":0},{"$f":"SUM(OFFSET(テストデータ!CK3,48,0):OFFSET(テストデータ!CM3,48,0))","v":0},{"$f":"SUM(OFFSET(テストデータ!CK3,48,0):OFFSET(テストデータ!CO3,48,0))","v":0},{"$f":"SUM(OFFSET(テストデータ!CP3,48,0):OFFSET(テストデータ!CR3,48,0))","v":0},{"$f":"SUM(OFFSET(テストデータ!CP3,48,0):OFFSET(テストデータ!CT3,48,0))","v":0}]
[null,null,null,null,null,null,null,null,null,null,null,null,null,{"$f":"SUM(OFFSET(テストデータ!$E3,49,9*成績表1!$B$4-9):OFFSET(テストデータ!$G3,49,9*成績表1!$B$4-9))","v":0},{"$f":"SUM(OFFSET(テストデータ!$E3,49,9*成績表1!$B$4-9):OFFSET(テストデータ!I3,49,9*成績表1!$B$4-9))","v":0},{"$f":"SUM(OFFSET(テストデータ!E3,49,0):OFFSET(テストデータ!G3,49,0))","v":0},{"$f":"SUM(OFFSET(テストデータ!E3,49,0):OFFSET(テストデータ!I3,49,0))","v":0},{"$f":"SUM(OFFSET(テストデータ!N3,49,0):OFFSET(テストデータ!P3,49,0))","v":0},{"$f":"SUM(OFFSET(テストデータ!N3,49,0):OFFSET(テストデータ!R3,49,0))","v":0},{"$f":"SUM(OFFSET(テストデータ!W3,49,0):OFFSET(テストデータ!Y3,49,0))","v":0},{"$f":"SUM(OFFSET(テストデータ!W3,49,0):OFFSET(テストデータ!AA3,49,0))","v":0},{"$f":"SUM(OFFSET(テストデータ!AF3,49,0):OFFSET(テストデータ!AH3,49,0))","v":0},{"$f":"SUM(OFFSET(テストデータ!AF3,49,0):OFFSET(テストデータ!AJ3,49,0))","v":0},{"$f":"SUM(OFFSET(テストデータ!AO3,49,0):OFFSET(テストデータ!AQ3,49,0))","v":0},{"$f":"SUM(OFFSET(テストデータ!AO3,49,0):OFFSET(テストデータ!AS3,49,0))","v":0},{"$f":"SUM(OFFSET(テストデータ!AX3,49,0):OFFSET(テストデータ!AZ3,49,0))","v":0},{"$f":"SUM(OFFSET(テストデータ!AX3,49,0):OFFSET(テストデータ!BB3,49,0))","v":0},{"$f":"SUM(OFFSET(テストデータ!BG3,49,0):OFFSET(テストデータ!BI3,49,0))","v":0},{"$f":"SUM(OFFSET(テストデータ!BG3,49,0):OFFSET(テストデータ!BK3,49,0))","v":0},{"$f":"SUM(OFFSET(テストデータ!BL3,49,0):OFFSET(テストデータ!BN3,49,0))","v":0},{"$f":"SUM(OFFSET(テストデータ!BL3,49,0):OFFSET(テストデータ!BP3,49,0))","v":0},{"$f":"SUM(OFFSET(テストデータ!BQ3,49,0):OFFSET(テストデータ!BS3,49,0))","v":0},{"$f":"SUM(OFFSET(テストデータ!BQ3,49,0):OFFSET(テストデータ!BU3,49,0))","v":0},{"$f":"SUM(OFFSET(テストデータ!BV3,49,0):OFFSET(テストデータ!BX3,49,0))","v":0},{"$f":"SUM(OFFSET(テストデータ!BV3,49,0):OFFSET(テストデータ!BZ3,49,0))","v":0},{"$f":"SUM(OFFSET(テストデータ!CA3,49,0):OFFSET(テストデータ!CC3,49,0))","v":0},{"$f":"SUM(OFFSET(テストデータ!CA3,49,0):OFFSET(テストデータ!CE3,49,0))","v":0},{"$f":"SUM(OFFSET(テストデータ!CF3,49,0):OFFSET(テストデータ!CH3,49,0))","v":0},{"$f":"SUM(OFFSET(テストデータ!CF3,49,0):OFFSET(テストデータ!CJ3,49,0))","v":0},{"$f":"SUM(OFFSET(テストデータ!CK3,49,0):OFFSET(テストデータ!CM3,49,0))","v":0},{"$f":"SUM(OFFSET(テストデータ!CK3,49,0):OFFSET(テストデータ!CO3,49,0))","v":0},{"$f":"SUM(OFFSET(テストデータ!CP3,49,0):OFFSET(テストデータ!CR3,49,0))","v":0},{"$f":"SUM(OFFSET(テストデータ!CP3,49,0):OFFSET(テストデータ!CT3,49,0))","v":0}]
[null,null,null,null,null,null,null,null,null,null,null,null,null,{"$f":"SUM(OFFSET(テストデータ!$E3,50,9*成績表1!$B$4-9):OFFSET(テストデータ!$G3,50,9*成績表1!$B$4-9))","v":0},{"$f":"SUM(OFFSET(テストデータ!$E3,50,9*成績表1!$B$4-9):OFFSET(テストデータ!I3,50,9*成績表1!$B$4-9))","v":0},{"$f":"SUM(OFFSET(テストデータ!E3,50,0):OFFSET(テストデータ!G3,50,0))","v":0},{"$f":"SUM(OFFSET(テストデータ!E3,50,0):OFFSET(テストデータ!I3,50,0))","v":0},{"$f":"SUM(OFFSET(テストデータ!N3,50,0):OFFSET(テストデータ!P3,50,0))","v":0},{"$f":"SUM(OFFSET(テストデータ!N3,50,0):OFFSET(テストデータ!R3,50,0))","v":0},{"$f":"SUM(OFFSET(テストデータ!W3,50,0):OFFSET(テストデータ!Y3,50,0))","v":0},{"$f":"SUM(OFFSET(テストデータ!W3,50,0):OFFSET(テストデータ!AA3,50,0))","v":0},{"$f":"SUM(OFFSET(テストデータ!AF3,50,0):OFFSET(テストデータ!AH3,50,0))","v":0},{"$f":"SUM(OFFSET(テストデータ!AF3,50,0):OFFSET(テストデータ!AJ3,50,0))","v":0},{"$f":"SUM(OFFSET(テストデータ!AO3,50,0):OFFSET(テストデータ!AQ3,50,0))","v":0},{"$f":"SUM(OFFSET(テストデータ!AO3,50,0):OFFSET(テストデータ!AS3,50,0))","v":0},{"$f":"SUM(OFFSET(テストデータ!AX3,50,0):OFFSET(テストデータ!AZ3,50,0))","v":0},{"$f":"SUM(OFFSET(テストデータ!AX3,50,0):OFFSET(テストデータ!BB3,50,0))","v":0},{"$f":"SUM(OFFSET(テストデータ!BG3,50,0):OFFSET(テストデータ!BI3,50,0))","v":0},{"$f":"SUM(OFFSET(テストデータ!BG3,50,0):OFFSET(テストデータ!BK3,50,0))","v":0},{"$f":"SUM(OFFSET(テストデータ!BL3,50,0):OFFSET(テストデータ!BN3,50,0))","v":0},{"$f":"SUM(OFFSET(テストデータ!BL3,50,0):OFFSET(テストデータ!BP3,50,0))","v":0},{"$f":"SUM(OFFSET(テストデータ!BQ3,50,0):OFFSET(テストデータ!BS3,50,0))","v":0},{"$f":"SUM(OFFSET(テストデータ!BQ3,50,0):OFFSET(テストデータ!BU3,50,0))","v":0},{"$f":"SUM(OFFSET(テストデータ!BV3,50,0):OFFSET(テストデータ!BX3,50,0))","v":0},{"$f":"SUM(OFFSET(テストデータ!BV3,50,0):OFFSET(テストデータ!BZ3,50,0))","v":0},{"$f":"SUM(OFFSET(テストデータ!CA3,50,0):OFFSET(テストデータ!CC3,50,0))","v":0},{"$f":"SUM(OFFSET(テストデータ!CA3,50,0):OFFSET(テストデータ!CE3,50,0))","v":0},{"$f":"SUM(OFFSET(テストデータ!CF3,50,0):OFFSET(テストデータ!CH3,50,0))","v":0},{"$f":"SUM(OFFSET(テストデータ!CF3,50,0):OFFSET(テストデータ!CJ3,50,0))","v":0},{"$f":"SUM(OFFSET(テストデータ!CK3,50,0):OFFSET(テストデータ!CM3,50,0))","v":0},{"$f":"SUM(OFFSET(テストデータ!CK3,50,0):OFFSET(テストデータ!CO3,50,0))","v":0},{"$f":"SUM(OFFSET(テストデータ!CP3,50,0):OFFSET(テストデータ!CR3,50,0))","v":0},{"$f":"SUM(OFFSET(テストデータ!CP3,50,0):OFFSET(テストデータ!CT3,50,0))","v":0}]
[null,null,null,null,null,null,null,null,null,null,null,null,null,{"$f":"SUM(OFFSET(テストデータ!$E3,51,9*成績表1!$B$4-9):OFFSET(テストデータ!$G3,51,9*成績表1!$B$4-9))","v":0},{"$f":"SUM(OFFSET(テストデータ!$E3,51,9*成績表1!$B$4-9):OFFSET(テストデータ!I3,51,9*成績表1!$B$4-9))","v":0},{"$f":"SUM(OFFSET(テストデータ!E3,51,0):OFFSET(テストデータ!G3,51,0))","v":0},{"$f":"SUM(OFFSET(テストデータ!E3,51,0):OFFSET(テストデータ!I3,51,0))","v":0},{"$f":"SUM(OFFSET(テストデータ!N3,51,0):OFFSET(テストデータ!P3,51,0))","v":0},{"$f":"SUM(OFFSET(テストデータ!N3,51,0):OFFSET(テストデータ!R3,51,0))","v":0},{"$f":"SUM(OFFSET(テストデータ!W3,51,0):OFFSET(テストデータ!Y3,51,0))","v":0},{"$f":"SUM(OFFSET(テストデータ!W3,51,0):OFFSET(テストデータ!AA3,51,0))","v":0},{"$f":"SUM(OFFSET(テストデータ!AF3,51,0):OFFSET(テストデータ!AH3,51,0))","v":0},{"$f":"SUM(OFFSET(テストデータ!AF3,51,0):OFFSET(テストデータ!AJ3,51,0))","v":0},{"$f":"SUM(OFFSET(テストデータ!AO3,51,0):OFFSET(テストデータ!AQ3,51,0))","v":0},{"$f":"SUM(OFFSET(テストデータ!AO3,51,0):OFFSET(テストデータ!AS3,51,0))","v":0},{"$f":"SUM(OFFSET(テストデータ!AX3,51,0):OFFSET(テストデータ!AZ3,51,0))","v":0},{"$f":"SUM(OFFSET(テストデータ!AX3,51,0):OFFSET(テストデータ!BB3,51,0))","v":0},{"$f":"SUM(OFFSET(テストデータ!BG3,51,0):OFFSET(テストデータ!BI3,51,0))","v":0},{"$f":"SUM(OFFSET(テストデータ!BG3,51,0):OFFSET(テストデータ!BK3,51,0))","v":0},{"$f":"SUM(OFFSET(テストデータ!BL3,51,0):OFFSET(テストデータ!BN3,51,0))","v":0},{"$f":"SUM(OFFSET(テストデータ!BL3,51,0):OFFSET(テストデータ!BP3,51,0))","v":0},{"$f":"SUM(OFFSET(テストデータ!BQ3,51,0):OFFSET(テストデータ!BS3,51,0))","v":0},{"$f":"SUM(OFFSET(テストデータ!BQ3,51,0):OFFSET(テストデータ!BU3,51,0))","v":0},{"$f":"SUM(OFFSET(テストデータ!BV3,51,0):OFFSET(テストデータ!BX3,51,0))","v":0},{"$f":"SUM(OFFSET(テストデータ!BV3,51,0):OFFSET(テストデータ!BZ3,51,0))","v":0},{"$f":"SUM(OFFSET(テストデータ!CA3,51,0):OFFSET(テストデータ!CC3,51,0))","v":0},{"$f":"SUM(OFFSET(テストデータ!CA3,51,0):OFFSET(テストデータ!CE3,51,0))","v":0},{"$f":"SUM(OFFSET(テストデータ!CF3,51,0):OFFSET(テストデータ!CH3,51,0))","v":0},{"$f":"SUM(OFFSET(テストデータ!CF3,51,0):OFFSET(テストデータ!CJ3,51,0))","v":0},{"$f":"SUM(OFFSET(テストデータ!CK3,51,0):OFFSET(テストデータ!CM3,51,0))","v":0},{"$f":"SUM(OFFSET(テストデータ!CK3,51,0):OFFSET(テストデータ!CO3,51,0))","v":0},{"$f":"SUM(OFFSET(テストデータ!CP3,51,0):OFFSET(テストデータ!CR3,51,0))","v":0},{"$f":"SUM(OFFSET(テストデータ!CP3,51,0):OFFSET(テストデータ!CT3,51,0))","v":0}]
[null,null,null,null,null,null,null,null,null,null,null,null,null,{"$f":"SUM(OFFSET(テストデータ!$E3,52,9*成績表1!$B$4-9):OFFSET(テストデータ!$G3,52,9*成績表1!$B$4-9))","v":0},{"$f":"SUM(OFFSET(テストデータ!$E3,52,9*成績表1!$B$4-9):OFFSET(テストデータ!I3,52,9*成績表1!$B$4-9))","v":0},{"$f":"SUM(OFFSET(テストデータ!E3,52,0):OFFSET(テストデータ!G3,52,0))","v":0},{"$f":"SUM(OFFSET(テストデータ!E3,52,0):OFFSET(テストデータ!I3,52,0))","v":0},{"$f":"SUM(OFFSET(テストデータ!N3,52,0):OFFSET(テストデータ!P3,52,0))","v":0},{"$f":"SUM(OFFSET(テストデータ!N3,52,0):OFFSET(テストデータ!R3,52,0))","v":0},{"$f":"SUM(OFFSET(テストデータ!W3,52,0):OFFSET(テストデータ!Y3,52,0))","v":0},{"$f":"SUM(OFFSET(テストデータ!W3,52,0):OFFSET(テストデータ!AA3,52,0))","v":0},{"$f":"SUM(OFFSET(テストデータ!AF3,52,0):OFFSET(テストデータ!AH3,52,0))","v":0},{"$f":"SUM(OFFSET(テストデータ!AF3,52,0):OFFSET(テストデータ!AJ3,52,0))","v":0},{"$f":"SUM(OFFSET(テストデータ!AO3,52,0):OFFSET(テストデータ!AQ3,52,0))","v":0},{"$f":"SUM(OFFSET(テストデータ!AO3,52,0):OFFSET(テストデータ!AS3,52,0))","v":0},{"$f":"SUM(OFFSET(テストデータ!AX3,52,0):OFFSET(テストデータ!AZ3,52,0))","v":0},{"$f":"SUM(OFFSET(テストデータ!AX3,52,0):OFFSET(テストデータ!BB3,52,0))","v":0},{"$f":"SUM(OFFSET(テストデータ!BG3,52,0):OFFSET(テストデータ!BI3,52,0))","v":0},{"$f":"SUM(OFFSET(テストデータ!BG3,52,0):OFFSET(テストデータ!BK3,52,0))","v":0},{"$f":"SUM(OFFSET(テストデータ!BL3,52,0):OFFSET(テストデータ!BN3,52,0))","v":0},{"$f":"SUM(OFFSET(テストデータ!BL3,52,0):OFFSET(テストデータ!BP3,52,0))","v":0},{"$f":"SUM(OFFSET(テストデータ!BQ3,52,0):OFFSET(テストデータ!BS3,52,0))","v":0},{"$f":"SUM(OFFSET(テストデータ!BQ3,52,0):OFFSET(テストデータ!BU3,52,0))","v":0},{"$f":"SUM(OFFSET(テストデータ!BV3,52,0):OFFSET(テストデータ!BX3,52,0))","v":0},{"$f":"SUM(OFFSET(テストデータ!BV3,52,0):OFFSET(テストデータ!BZ3,52,0))","v":0},{"$f":"SUM(OFFSET(テストデータ!CA3,52,0):OFFSET(テストデータ!CC3,52,0))","v":0},{"$f":"SUM(OFFSET(テストデータ!CA3,52,0):OFFSET(テストデータ!CE3,52,0))","v":0},{"$f":"SUM(OFFSET(テストデータ!CF3,52,0):OFFSET(テストデータ!CH3,52,0))","v":0},{"$f":"SUM(OFFSET(テストデータ!CF3,52,0):OFFSET(テストデータ!CJ3,52,0))","v":0},{"$f":"SUM(OFFSET(テストデータ!CK3,52,0):OFFSET(テストデータ!CM3,52,0))","v":0},{"$f":"SUM(OFFSET(テストデータ!CK3,52,0):OFFSET(テストデータ!CO3,52,0))","v":0},{"$f":"SUM(OFFSET(テストデータ!CP3,52,0):OFFSET(テストデータ!CR3,52,0))","v":0},{"$f":"SUM(OFFSET(テストデータ!CP3,52,0):OFFSET(テストデータ!CT3,52,0))","v":0}]
[null,null,null,null,null,null,null,null,null,null,null,null,null,{"$f":"SUM(OFFSET(テストデータ!$E3,53,9*成績表1!$B$4-9):OFFSET(テストデータ!$G3,53,9*成績表1!$B$4-9))","v":0},{"$f":"SUM(OFFSET(テストデータ!$E3,53,9*成績表1!$B$4-9):OFFSET(テストデータ!I3,53,9*成績表1!$B$4-9))","v":0},{"$f":"SUM(OFFSET(テストデータ!E3,53,0):OFFSET(テストデータ!G3,53,0))","v":0},{"$f":"SUM(OFFSET(テストデータ!E3,53,0):OFFSET(テストデータ!I3,53,0))","v":0},{"$f":"SUM(OFFSET(テストデータ!N3,53,0):OFFSET(テストデータ!P3,53,0))","v":0},{"$f":"SUM(OFFSET(テストデータ!N3,53,0):OFFSET(テストデータ!R3,53,0))","v":0},{"$f":"SUM(OFFSET(テストデータ!W3,53,0):OFFSET(テストデータ!Y3,53,0))","v":0},{"$f":"SUM(OFFSET(テストデータ!W3,53,0):OFFSET(テストデータ!AA3,53,0))","v":0},{"$f":"SUM(OFFSET(テストデータ!AF3,53,0):OFFSET(テストデータ!AH3,53,0))","v":0},{"$f":"SUM(OFFSET(テストデータ!AF3,53,0):OFFSET(テストデータ!AJ3,53,0))","v":0},{"$f":"SUM(OFFSET(テストデータ!AO3,53,0):OFFSET(テストデータ!AQ3,53,0))","v":0},{"$f":"SUM(OFFSET(テストデータ!AO3,53,0):OFFSET(テストデータ!AS3,53,0))","v":0},{"$f":"SUM(OFFSET(テストデータ!AX3,53,0):OFFSET(テストデータ!AZ3,53,0))","v":0},{"$f":"SUM(OFFSET(テストデータ!AX3,53,0):OFFSET(テストデータ!BB3,53,0))","v":0},{"$f":"SUM(OFFSET(テストデータ!BG3,53,0):OFFSET(テストデータ!BI3,53,0))","v":0},{"$f":"SUM(OFFSET(テストデータ!BG3,53,0):OFFSET(テストデータ!BK3,53,0))","v":0},{"$f":"SUM(OFFSET(テストデータ!BL3,53,0):OFFSET(テストデータ!BN3,53,0))","v":0},{"$f":"SUM(OFFSET(テストデータ!BL3,53,0):OFFSET(テストデータ!BP3,53,0))","v":0},{"$f":"SUM(OFFSET(テストデータ!BQ3,53,0):OFFSET(テストデータ!BS3,53,0))","v":0},{"$f":"SUM(OFFSET(テストデータ!BQ3,53,0):OFFSET(テストデータ!BU3,53,0))","v":0},{"$f":"SUM(OFFSET(テストデータ!BV3,53,0):OFFSET(テストデータ!BX3,53,0))","v":0},{"$f":"SUM(OFFSET(テストデータ!BV3,53,0):OFFSET(テストデータ!BZ3,53,0))","v":0},{"$f":"SUM(OFFSET(テストデータ!CA3,53,0):OFFSET(テストデータ!CC3,53,0))","v":0},{"$f":"SUM(OFFSET(テストデータ!CA3,53,0):OFFSET(テストデータ!CE3,53,0))","v":0},{"$f":"SUM(OFFSET(テストデータ!CF3,53,0):OFFSET(テストデータ!CH3,53,0))","v":0},{"$f":"SUM(OFFSET(テストデータ!CF3,53,0):OFFSET(テストデータ!CJ3,53,0))","v":0},{"$f":"SUM(OFFSET(テストデータ!CK3,53,0):OFFSET(テストデータ!CM3,53,0))","v":0},{"$f":"SUM(OFFSET(テストデータ!CK3,53,0):OFFSET(テストデータ!CO3,53,0))","v":0},{"$f":"SUM(OFFSET(テストデータ!CP3,53,0):OFFSET(テストデータ!CR3,53,0))","v":0},{"$f":"SUM(OFFSET(テストデータ!CP3,53,0):OFFSET(テストデータ!CT3,53,0))","v":0}]
[null,null,null,null,null,null,"実力テスト",null,null,null,null,null,null,{"$f":"SUM(OFFSET(テストデータ!$E3,54,9*成績表1!$B$4-9):OFFSET(テストデータ!$G3,54,9*成績表1!$B$4-9))","v":0},{"$f":"SUM(OFFSET(テストデータ!$E3,54,9*成績表1!$B$4-9):OFFSET(テストデータ!I3,54,9*成績表1!$B$4-9))","v":0},{"$f":"SUM(OFFSET(テストデータ!E3,54,0):OFFSET(テストデータ!G3,54,0))","v":0},{"$f":"SUM(OFFSET(テストデータ!E3,54,0):OFFSET(テストデータ!I3,54,0))","v":0},{"$f":"SUM(OFFSET(テストデータ!N3,54,0):OFFSET(テストデータ!P3,54,0))","v":0},{"$f":"SUM(OFFSET(テストデータ!N3,54,0):OFFSET(テストデータ!R3,54,0))","v":0},{"$f":"SUM(OFFSET(テストデータ!W3,54,0):OFFSET(テストデータ!Y3,54,0))","v":0},{"$f":"SUM(OFFSET(テストデータ!W3,54,0):OFFSET(テストデータ!AA3,54,0))","v":0},{"$f":"SUM(OFFSET(テストデータ!AF3,54,0):OFFSET(テストデータ!AH3,54,0))","v":0},{"$f":"SUM(OFFSET(テストデータ!AF3,54,0):OFFSET(テストデータ!AJ3,54,0))","v":0},{"$f":"SUM(OFFSET(テストデータ!AO3,54,0):OFFSET(テストデータ!AQ3,54,0))","v":0},{"$f":"SUM(OFFSET(テストデータ!AO3,54,0):OFFSET(テストデータ!AS3,54,0))","v":0},{"$f":"SUM(OFFSET(テストデータ!AX3,54,0):OFFSET(テストデータ!AZ3,54,0))","v":0},{"$f":"SUM(OFFSET(テストデータ!AX3,54,0):OFFSET(テストデータ!BB3,54,0))","v":0},{"$f":"SUM(OFFSET(テストデータ!BG3,54,0):OFFSET(テストデータ!BI3,54,0))","v":0},{"$f":"SUM(OFFSET(テストデータ!BG3,54,0):OFFSET(テストデータ!BK3,54,0))","v":0},{"$f":"SUM(OFFSET(テストデータ!BL3,54,0):OFFSET(テストデータ!BN3,54,0))","v":0},{"$f":"SUM(OFFSET(テストデータ!BL3,54,0):OFFSET(テストデータ!BP3,54,0))","v":0},{"$f":"SUM(OFFSET(テストデータ!BQ3,54,0):OFFSET(テストデータ!BS3,54,0))","v":0},{"$f":"SUM(OFFSET(テストデータ!BQ3,54,0):OFFSET(テストデータ!BU3,54,0))","v":0},{"$f":"SUM(OFFSET(テストデータ!BV3,54,0):OFFSET(テストデータ!BX3,54,0))","v":0},{"$f":"SUM(OFFSET(テストデータ!BV3,54,0):OFFSET(テストデータ!BZ3,54,0))","v":0},{"$f":"SUM(OFFSET(テストデータ!CA3,54,0):OFFSET(テストデータ!CC3,54,0))","v":0},{"$f":"SUM(OFFSET(テストデータ!CA3,54,0):OFFSET(テストデータ!CE3,54,0))","v":0},{"$f":"SUM(OFFSET(テストデータ!CF3,54,0):OFFSET(テストデータ!CH3,54,0))","v":0},{"$f":"SUM(OFFSET(テストデータ!CF3,54,0):OFFSET(テストデータ!CJ3,54,0))","v":0},{"$f":"SUM(OFFSET(テストデータ!CK3,54,0):OFFSET(テストデータ!CM3,54,0))","v":0},{"$f":"SUM(OFFSET(テストデータ!CK3,54,0):OFFSET(テストデータ!CO3,54,0))","v":0},{"$f":"SUM(OFFSET(テストデータ!CP3,54,0):OFFSET(テストデータ!CR3,54,0))","v":0},{"$f":"SUM(OFFSET(テストデータ!CP3,54,0):OFFSET(テストデータ!CT3,54,0))","v":0}]
[null,null,null,null,null,null,"3科目順位","5科目順位",null,null,null,null,null,{"$f":"SUM(OFFSET(テストデータ!$E3,55,9*成績表1!$B$4-9):OFFSET(テストデータ!$G3,55,9*成績表1!$B$4-9))","v":0},{"$f":"SUM(OFFSET(テストデータ!$E3,55,9*成績表1!$B$4-9):OFFSET(テストデータ!I3,55,9*成績表1!$B$4-9))","v":0},{"$f":"SUM(OFFSET(テストデータ!E3,55,0):OFFSET(テストデータ!G3,55,0))","v":0},{"$f":"SUM(OFFSET(テストデータ!E3,55,0):OFFSET(テストデータ!I3,55,0))","v":0},{"$f":"SUM(OFFSET(テストデータ!N3,55,0):OFFSET(テストデータ!P3,55,0))","v":0},{"$f":"SUM(OFFSET(テストデータ!N3,55,0):OFFSET(テストデータ!R3,55,0))","v":0},{"$f":"SUM(OFFSET(テストデータ!W3,55,0):OFFSET(テストデータ!Y3,55,0))","v":0},{"$f":"SUM(OFFSET(テストデータ!W3,55,0):OFFSET(テストデータ!AA3,55,0))","v":0},{"$f":"SUM(OFFSET(テストデータ!AF3,55,0):OFFSET(テストデータ!AH3,55,0))","v":0},{"$f":"SUM(OFFSET(テストデータ!AF3,55,0):OFFSET(テストデータ!AJ3,55,0))","v":0},{"$f":"SUM(OFFSET(テストデータ!AO3,55,0):OFFSET(テストデータ!AQ3,55,0))","v":0},{"$f":"SUM(OFFSET(テストデータ!AO3,55,0):OFFSET(テストデータ!AS3,55,0))","v":0},{"$f":"SUM(OFFSET(テストデータ!AX3,55,0):OFFSET(テストデータ!AZ3,55,0))","v":0},{"$f":"SUM(OFFSET(テストデータ!AX3,55,0):OFFSET(テストデータ!BB3,55,0))","v":0},{"$f":"SUM(OFFSET(テストデータ!BG3,55,0):OFFSET(テストデータ!BI3,55,0))","v":0},{"$f":"SUM(OFFSET(テストデータ!BG3,55,0):OFFSET(テストデータ!BK3,55,0))","v":0},{"$f":"SUM(OFFSET(テストデータ!BL3,55,0):OFFSET(テストデータ!BN3,55,0))","v":0},{"$f":"SUM(OFFSET(テストデータ!BL3,55,0):OFFSET(テストデータ!BP3,55,0))","v":0},{"$f":"SUM(OFFSET(テストデータ!BQ3,55,0):OFFSET(テストデータ!BS3,55,0))","v":0},{"$f":"SUM(OFFSET(テストデータ!BQ3,55,0):OFFSET(テストデータ!BU3,55,0))","v":0},{"$f":"SUM(OFFSET(テストデータ!BV3,55,0):OFFSET(テストデータ!BX3,55,0))","v":0},{"$f":"SUM(OFFSET(テストデータ!BV3,55,0):OFFSET(テストデータ!BZ3,55,0))","v":0},{"$f":"SUM(OFFSET(テストデータ!CA3,55,0):OFFSET(テストデータ!CC3,55,0))","v":0},{"$f":"SUM(OFFSET(テストデータ!CA3,55,0):OFFSET(テストデータ!CE3,55,0))","v":0},{"$f":"SUM(OFFSET(テストデータ!CF3,55,0):OFFSET(テストデータ!CH3,55,0))","v":0},{"$f":"SUM(OFFSET(テストデータ!CF3,55,0):OFFSET(テストデータ!CJ3,55,0))","v":0},{"$f":"SUM(OFFSET(テストデータ!CK3,55,0):OFFSET(テストデータ!CM3,55,0))","v":0},{"$f":"SUM(OFFSET(テストデータ!CK3,55,0):OFFSET(テストデータ!CO3,55,0))","v":0},{"$f":"SUM(OFFSET(テストデータ!CP3,55,0):OFFSET(テストデータ!CR3,55,0))","v":0},{"$f":"SUM(OFFSET(テストデータ!CP3,55,0):OFFSET(テストデータ!CT3,55,0))","v":0}]
[null,null,null,null,"定期テスト",null,{"$f":"RANK(成績表2!$L$13,$AB$3:$AB$502)","v":{"$error":"#N/A"}},{"$f":"RANK(成績表2!$M$13,$AC$3:$AC$502)","v":{"$error":"#N/A"}},null,null,null,null,null,{"$f":"SUM(OFFSET(テストデータ!$E3,56,9*成績表1!$B$4-9):OFFSET(テストデータ!$G3,56,9*成績表1!$B$4-9))","v":0},{"$f":"SUM(OFFSET(テストデータ!$E3,56,9*成績表1!$B$4-9):OFFSET(テストデータ!I3,56,9*成績表1!$B$4-9))","v":0},{"$f":"SUM(OFFSET(テストデータ!E3,56,0):OFFSET(テストデータ!G3,56,0))","v":0},{"$f":"SUM(OFFSET(テストデータ!E3,56,0):OFFSET(テストデータ!I3,56,0))","v":0},{"$f":"SUM(OFFSET(テストデータ!N3,56,0):OFFSET(テストデータ!P3,56,0))","v":0},{"$f":"SUM(OFFSET(テストデータ!N3,56,0):OFFSET(テストデータ!R3,56,0))","v":0},{"$f":"SUM(OFFSET(テストデータ!W3,56,0):OFFSET(テストデータ!Y3,56,0))","v":0},{"$f":"SUM(OFFSET(テストデータ!W3,56,0):OFFSET(テストデータ!AA3,56,0))","v":0},{"$f":"SUM(OFFSET(テストデータ!AF3,56,0):OFFSET(テストデータ!AH3,56,0))","v":0},{"$f":"SUM(OFFSET(テストデータ!AF3,56,0):OFFSET(テストデータ!AJ3,56,0))","v":0},{"$f":"SUM(OFFSET(テストデータ!AO3,56,0):OFFSET(テストデータ!AQ3,56,0))","v":0},{"$f":"SUM(OFFSET(テストデータ!AO3,56,0):OFFSET(テストデータ!AS3,56,0))","v":0},{"$f":"SUM(OFFSET(テストデータ!AX3,56,0):OFFSET(テストデータ!AZ3,56,0))","v":0},{"$f":"SUM(OFFSET(テストデータ!AX3,56,0):OFFSET(テストデータ!BB3,56,0))","v":0},{"$f":"SUM(OFFSET(テストデータ!BG3,56,0):OFFSET(テストデータ!BI3,56,0))","v":0},{"$f":"SUM(OFFSET(テストデータ!BG3,56,0):OFFSET(テストデータ!BK3,56,0))","v":0},{"$f":"SUM(OFFSET(テストデータ!BL3,56,0):OFFSET(テストデータ!BN3,56,0))","v":0},{"$f":"SUM(OFFSET(テストデータ!BL3,56,0):OFFSET(テストデータ!BP3,56,0))","v":0},{"$f":"SUM(OFFSET(テストデータ!BQ3,56,0):OFFSET(テストデータ!BS3,56,0))","v":0},{"$f":"SUM(OFFSET(テストデータ!BQ3,56,0):OFFSET(テストデータ!BU3,56,0))","v":0},{"$f":"SUM(OFFSET(テストデータ!BV3,56,0):OFFSET(テストデータ!BX3,56,0))","v":0},{"$f":"SUM(OFFSET(テストデータ!BV3,56,0):OFFSET(テストデータ!BZ3,56,0))","v":0},{"$f":"SUM(OFFSET(テストデータ!CA3,56,0):OFFSET(テストデータ!CC3,56,0))","v":0},{"$f":"SUM(OFFSET(テストデータ!CA3,56,0):OFFSET(テストデータ!CE3,56,0))","v":0},{"$f":"SUM(OFFSET(テストデータ!CF3,56,0):OFFSET(テストデータ!CH3,56,0))","v":0},{"$f":"SUM(OFFSET(テストデータ!CF3,56,0):OFFSET(テストデータ!CJ3,56,0))","v":0},{"$f":"SUM(OFFSET(テストデータ!CK3,56,0):OFFSET(テストデータ!CM3,56,0))","v":0},{"$f":"SUM(OFFSET(テストデータ!CK3,56,0):OFFSET(テストデータ!CO3,56,0))","v":0},{"$f":"SUM(OFFSET(テストデータ!CP3,56,0):OFFSET(テストデータ!CR3,56,0))","v":0},{"$f":"SUM(OFFSET(テストデータ!CP3,56,0):OFFSET(テストデータ!CT3,56,0))","v":0}]
[null,null,null,null,"3科目順位","5科目順位",{"$f":"RANK(成績表2!$L$15,$AD$3:$AD$502)","v":17},{"$f":"RANK(成績表2!$M$15,$AE$3:$AE$502)","v":17},null,null,null,null,null,{"$f":"SUM(OFFSET(テストデータ!$E3,57,9*成績表1!$B$4-9):OFFSET(テストデータ!$G3,57,9*成績表1!$B$4-9))","v":0},{"$f":"SUM(OFFSET(テストデータ!$E3,57,9*成績表1!$B$4-9):OFFSET(テストデータ!I3,57,9*成績表1!$B$4-9))","v":0},{"$f":"SUM(OFFSET(テストデータ!E3,57,0):OFFSET(テストデータ!G3,57,0))","v":0},{"$f":"SUM(OFFSET(テストデータ!E3,57,0):OFFSET(テストデータ!I3,57,0))","v":0},{"$f":"SUM(OFFSET(テストデータ!N3,57,0):OFFSET(テストデータ!P3,57,0))","v":0},{"$f":"SUM(OFFSET(テストデータ!N3,57,0):OFFSET(テストデータ!R3,57,0))","v":0},{"$f":"SUM(OFFSET(テストデータ!W3,57,0):OFFSET(テストデータ!Y3,57,0))","v":0},{"$f":"SUM(OFFSET(テストデータ!W3,57,0):OFFSET(テストデータ!AA3,57,0))","v":0},{"$f":"SUM(OFFSET(テストデータ!AF3,57,0):OFFSET(テストデータ!AH3,57,0))","v":0},{"$f":"SUM(OFFSET(テストデータ!AF3,57,0):OFFSET(テストデータ!AJ3,57,0))","v":0},{"$f":"SUM(OFFSET(テストデータ!AO3,57,0):OFFSET(テストデータ!AQ3,57,0))","v":0},{"$f":"SUM(OFFSET(テストデータ!AO3,57,0):OFFSET(テストデータ!AS3,57,0))","v":0},{"$f":"SUM(OFFSET(テストデータ!AX3,57,0):OFFSET(テストデータ!AZ3,57,0))","v":0},{"$f":"SUM(OFFSET(テストデータ!AX3,57,0):OFFSET(テストデータ!BB3,57,0))","v":0},{"$f":"SUM(OFFSET(テストデータ!BG3,57,0):OFFSET(テストデータ!BI3,57,0))","v":0},{"$f":"SUM(OFFSET(テストデータ!BG3,57,0):OFFSET(テストデータ!BK3,57,0))","v":0},{"$f":"SUM(OFFSET(テストデータ!BL3,57,0):OFFSET(テストデータ!BN3,57,0))","v":0},{"$f":"SUM(OFFSET(テストデータ!BL3,57,0):OFFSET(テストデータ!BP3,57,0))","v":0},{"$f":"SUM(OFFSET(テストデータ!BQ3,57,0):OFFSET(テストデータ!BS3,57,0))","v":0},{"$f":"SUM(OFFSET(テストデータ!BQ3,57,0):OFFSET(テストデータ!BU3,57,0))","v":0},{"$f":"SUM(OFFSET(テストデータ!BV3,57,0):OFFSET(テストデータ!BX3,57,0))","v":0},{"$f":"SUM(OFFSET(テストデータ!BV3,57,0):OFFSET(テストデータ!BZ3,57,0))","v":0},{"$f":"SUM(OFFSET(テストデータ!CA3,57,0):OFFSET(テストデータ!CC3,57,0))","v":0},{"$f":"SUM(OFFSET(テストデータ!CA3,57,0):OFFSET(テストデータ!CE3,57,0))","v":0},{"$f":"SUM(OFFSET(テストデータ!CF3,57,0):OFFSET(テストデータ!CH3,57,0))","v":0},{"$f":"SUM(OFFSET(テストデータ!CF3,57,0):OFFSET(テストデータ!CJ3,57,0))","v":0},{"$f":"SUM(OFFSET(テストデータ!CK3,57,0):OFFSET(テストデータ!CM3,57,0))","v":0},{"$f":"SUM(OFFSET(テストデータ!CK3,57,0):OFFSET(テストデータ!CO3,57,0))","v":0},{"$f":"SUM(OFFSET(テストデータ!CP3,57,0):OFFSET(テストデータ!CR3,57,0))","v":0},{"$f":"SUM(OFFSET(テストデータ!CP3,57,0):OFFSET(テストデータ!CT3,57,0))","v":0}]
[null,null,null,null,{"$f":"RANK(成績表1!$L$19,$P$3:$P$502)","v":{"$error":"#N/A"}},{"$f":"RANK(成績表1!$M$19,$Q$3:$Q$502)","v":{"$error":"#N/A"}},{"$f":"RANK(成績表2!$L$17,$AF$3:$AF$502)","v":20},{"$f":"RANK(成績表2!$M$17,$AG$3:$AG$502)","v":19},null,null,null,null,null,{"$f":"SUM(OFFSET(テストデータ!$E3,58,9*成績表1!$B$4-9):OFFSET(テストデータ!$G3,58,9*成績表1!$B$4-9))","v":0},{"$f":"SUM(OFFSET(テストデータ!$E3,58,9*成績表1!$B$4-9):OFFSET(テストデータ!I3,58,9*成績表1!$B$4-9))","v":0},{"$f":"SUM(OFFSET(テストデータ!E3,58,0):OFFSET(テストデータ!G3,58,0))","v":0},{"$f":"SUM(OFFSET(テストデータ!E3,58,0):OFFSET(テストデータ!I3,58,0))","v":0},{"$f":"SUM(OFFSET(テストデータ!N3,58,0):OFFSET(テストデータ!P3,58,0))","v":0},{"$f":"SUM(OFFSET(テストデータ!N3,58,0):OFFSET(テストデータ!R3,58,0))","v":0},{"$f":"SUM(OFFSET(テストデータ!W3,58,0):OFFSET(テストデータ!Y3,58,0))","v":0},{"$f":"SUM(OFFSET(テストデータ!W3,58,0):OFFSET(テストデータ!AA3,58,0))","v":0},{"$f":"SUM(OFFSET(テストデータ!AF3,58,0):OFFSET(テストデータ!AH3,58,0))","v":0},{"$f":"SUM(OFFSET(テストデータ!AF3,58,0):OFFSET(テストデータ!AJ3,58,0))","v":0},{"$f":"SUM(OFFSET(テストデータ!AO3,58,0):OFFSET(テストデータ!AQ3,58,0))","v":0},{"$f":"SUM(OFFSET(テストデータ!AO3,58,0):OFFSET(テストデータ!AS3,58,0))","v":0},{"$f":"SUM(OFFSET(テストデータ!AX3,58,0):OFFSET(テストデータ!AZ3,58,0))","v":0},{"$f":"SUM(OFFSET(テストデータ!AX3,58,0):OFFSET(テストデータ!BB3,58,0))","v":0},{"$f":"SUM(OFFSET(テストデータ!BG3,58,0):OFFSET(テストデータ!BI3,58,0))","v":0},{"$f":"SUM(OFFSET(テストデータ!BG3,58,0):OFFSET(テストデータ!BK3,58,0))","v":0},{"$f":"SUM(OFFSET(テストデータ!BL3,58,0):OFFSET(テストデータ!BN3,58,0))","v":0},{"$f":"SUM(OFFSET(テストデータ!BL3,58,0):OFFSET(テストデータ!BP3,58,0))","v":0},{"$f":"SUM(OFFSET(テストデータ!BQ3,58,0):OFFSET(テストデータ!BS3,58,0))","v":0},{"$f":"SUM(OFFSET(テストデータ!BQ3,58,0):OFFSET(テストデータ!BU3,58,0))","v":0},{"$f":"SUM(OFFSET(テストデータ!BV3,58,0):OFFSET(テストデータ!BX3,58,0))","v":0},{"$f":"SUM(OFFSET(テストデータ!BV3,58,0):OFFSET(テストデータ!BZ3,58,0))","v":0},{"$f":"SUM(OFFSET(テストデータ!CA3,58,0):OFFSET(テストデータ!CC3,58,0))","v":0},{"$f":"SUM(OFFSET(テストデータ!CA3,58,0):OFFSET(テストデータ!CE3,58,0))","v":0},{"$f":"SUM(OFFSET(テストデータ!CF3,58,0):OFFSET(テストデータ!CH3,58,0))","v":0},{"$f":"SUM(OFFSET(テストデータ!CF3,58,0):OFFSET(テストデータ!CJ3,58,0))","v":0},{"$f":"SUM(OFFSET(テストデータ!CK3,58,0):OFFSET(テストデータ!CM3,58,0))","v":0},{"$f":"SUM(OFFSET(テストデータ!CK3,58,0):OFFSET(テストデータ!CO3,58,0))","v":0},{"$f":"SUM(OFFSET(テストデータ!CP3,58,0):OFFSET(テストデータ!CR3,58,0))","v":0},{"$f":"SUM(OFFSET(テストデータ!CP3,58,0):OFFSET(テストデータ!CT3,58,0))","v":0}]
[null,null,null,null,{"$f":"RANK(成績表1!$L$21,$R$3:$R$502)","v":14},{"$f":"RANK(成績表1!$M$21,$S$3:$S$502)","v":16},{"$f":"RANK(成績表2!$L$19,$AH$3:$AH$502)","v":15},{"$f":"RANK(成績表2!$M$19,$AI$3:$AI$502)","v":17},null,null,null,null,null,{"$f":"SUM(OFFSET(テストデータ!$E3,59,9*成績表1!$B$4-9):OFFSET(テストデータ!$G3,59,9*成績表1!$B$4-9))","v":0},{"$f":"SUM(OFFSET(テストデータ!$E3,59,9*成績表1!$B$4-9):OFFSET(テストデータ!I3,59,9*成績表1!$B$4-9))","v":0},{"$f":"SUM(OFFSET(テストデータ!E3,59,0):OFFSET(テストデータ!G3,59,0))","v":0},{"$f":"SUM(OFFSET(テストデータ!E3,59,0):OFFSET(テストデータ!I3,59,0))","v":0},{"$f":"SUM(OFFSET(テストデータ!N3,59,0):OFFSET(テストデータ!P3,59,0))","v":0},{"$f":"SUM(OFFSET(テストデータ!N3,59,0):OFFSET(テストデータ!R3,59,0))","v":0},{"$f":"SUM(OFFSET(テストデータ!W3,59,0):OFFSET(テストデータ!Y3,59,0))","v":0},{"$f":"SUM(OFFSET(テストデータ!W3,59,0):OFFSET(テストデータ!AA3,59,0))","v":0},{"$f":"SUM(OFFSET(テストデータ!AF3,59,0):OFFSET(テストデータ!AH3,59,0))","v":0},{"$f":"SUM(OFFSET(テストデータ!AF3,59,0):OFFSET(テストデータ!AJ3,59,0))","v":0},{"$f":"SUM(OFFSET(テストデータ!AO3,59,0):OFFSET(テストデータ!AQ3,59,0))","v":0},{"$f":"SUM(OFFSET(テストデータ!AO3,59,0):OFFSET(テストデータ!AS3,59,0))","v":0},{"$f":"SUM(OFFSET(テストデータ!AX3,59,0):OFFSET(テストデータ!AZ3,59,0))","v":0},{"$f":"SUM(OFFSET(テストデータ!AX3,59,0):OFFSET(テストデータ!BB3,59,0))","v":0},{"$f":"SUM(OFFSET(テストデータ!BG3,59,0):OFFSET(テストデータ!BI3,59,0))","v":0},{"$f":"SUM(OFFSET(テストデータ!BG3,59,0):OFFSET(テストデータ!BK3,59,0))","v":0},{"$f":"SUM(OFFSET(テストデータ!BL3,59,0):OFFSET(テストデータ!BN3,59,0))","v":0},{"$f":"SUM(OFFSET(テストデータ!BL3,59,0):OFFSET(テストデータ!BP3,59,0))","v":0},{"$f":"SUM(OFFSET(テストデータ!BQ3,59,0):OFFSET(テストデータ!BS3,59,0))","v":0},{"$f":"SUM(OFFSET(テストデータ!BQ3,59,0):OFFSET(テストデータ!BU3,59,0))","v":0},{"$f":"SUM(OFFSET(テストデータ!BV3,59,0):OFFSET(テストデータ!BX3,59,0))","v":0},{"$f":"SUM(OFFSET(テストデータ!BV3,59,0):OFFSET(テストデータ!BZ3,59,0))","v":0},{"$f":"SUM(OFFSET(テストデータ!CA3,59,0):OFFSET(テストデータ!CC3,59,0))","v":0},{"$f":"SUM(OFFSET(テストデータ!CA3,59,0):OFFSET(テストデータ!CE3,59,0))","v":0},{"$f":"SUM(OFFSET(テストデータ!CF3,59,0):OFFSET(テストデータ!CH3,59,0))","v":0},{"$f":"SUM(OFFSET(テストデータ!CF3,59,0):OFFSET(テストデータ!CJ3,59,0))","v":0},{"$f":"SUM(OFFSET(テストデータ!CK3,59,0):OFFSET(テストデータ!CM3,59,0))","v":0},{"$f":"SUM(OFFSET(テストデータ!CK3,59,0):OFFSET(テストデータ!CO3,59,0))","v":0},{"$f":"SUM(OFFSET(テストデータ!CP3,59,0):OFFSET(テストデータ!CR3,59,0))","v":0},{"$f":"SUM(OFFSET(テストデータ!CP3,59,0):OFFSET(テストデータ!CT3,59,0))","v":0}]
[null,null,null,null,{"$f":"RANK(成績表1!$L$23,$T$3:$T$502)","v":20},{"$f":"RANK(成績表1!$M$23,$U$3:$U$502)","v":19},{"$f":"RANK(成績表2!$L$21,$AJ$3:$AJ$502)","v":5},{"$f":"RANK(成績表2!$M$21,$AK$3:$AK$502)","v":5},null,null,null,null,null,{"$f":"SUM(OFFSET(テストデータ!$E3,60,9*成績表1!$B$4-9):OFFSET(テストデータ!$G3,60,9*成績表1!$B$4-9))","v":0},{"$f":"SUM(OFFSET(テストデータ!$E3,60,9*成績表1!$B$4-9):OFFSET(テストデータ!I3,60,9*成績表1!$B$4-9))","v":0},{"$f":"SUM(OFFSET(テストデータ!E3,60,0):OFFSET(テストデータ!G3,60,0))","v":0},{"$f":"SUM(OFFSET(テストデータ!E3,60,0):OFFSET(テストデータ!I3,60,0))","v":0},{"$f":"SUM(OFFSET(テストデータ!N3,60,0):OFFSET(テストデータ!P3,60,0))","v":0},{"$f":"SUM(OFFSET(テストデータ!N3,60,0):OFFSET(テストデータ!R3,60,0))","v":0},{"$f":"SUM(OFFSET(テストデータ!W3,60,0):OFFSET(テストデータ!Y3,60,0))","v":0},{"$f":"SUM(OFFSET(テストデータ!W3,60,0):OFFSET(テストデータ!AA3,60,0))","v":0},{"$f":"SUM(OFFSET(テストデータ!AF3,60,0):OFFSET(テストデータ!AH3,60,0))","v":0},{"$f":"SUM(OFFSET(テストデータ!AF3,60,0):OFFSET(テストデータ!AJ3,60,0))","v":0},{"$f":"SUM(OFFSET(テストデータ!AO3,60,0):OFFSET(テストデータ!AQ3,60,0))","v":0},{"$f":"SUM(OFFSET(テストデータ!AO3,60,0):OFFSET(テストデータ!AS3,60,0))","v":0},{"$f":"SUM(OFFSET(テストデータ!AX3,60,0):OFFSET(テストデータ!AZ3,60,0))","v":0},{"$f":"SUM(OFFSET(テストデータ!AX3,60,0):OFFSET(テストデータ!BB3,60,0))","v":0},{"$f":"SUM(OFFSET(テストデータ!BG3,60,0):OFFSET(テストデータ!BI3,60,0))","v":0},{"$f":"SUM(OFFSET(テストデータ!BG3,60,0):OFFSET(テストデータ!BK3,60,0))","v":0},{"$f":"SUM(OFFSET(テストデータ!BL3,60,0):OFFSET(テストデータ!BN3,60,0))","v":0},{"$f":"SUM(OFFSET(テストデータ!BL3,60,0):OFFSET(テストデータ!BP3,60,0))","v":0},{"$f":"SUM(OFFSET(テストデータ!BQ3,60,0):OFFSET(テストデータ!BS3,60,0))","v":0},{"$f":"SUM(OFFSET(テストデータ!BQ3,60,0):OFFSET(テストデータ!BU3,60,0))","v":0},{"$f":"SUM(OFFSET(テストデータ!BV3,60,0):OFFSET(テストデータ!BX3,60,0))","v":0},{"$f":"SUM(OFFSET(テストデータ!BV3,60,0):OFFSET(テストデータ!BZ3,60,0))","v":0},{"$f":"SUM(OFFSET(テストデータ!CA3,60,0):OFFSET(テストデータ!CC3,60,0))","v":0},{"$f":"SUM(OFFSET(テストデータ!CA3,60,0):OFFSET(テストデータ!CE3,60,0))","v":0},{"$f":"SUM(OFFSET(テストデータ!CF3,60,0):OFFSET(テストデータ!CH3,60,0))","v":0},{"$f":"SUM(OFFSET(テストデータ!CF3,60,0):OFFSET(テストデータ!CJ3,60,0))","v":0},{"$f":"SUM(OFFSET(テストデータ!CK3,60,0):OFFSET(テストデータ!CM3,60,0))","v":0},{"$f":"SUM(OFFSET(テストデータ!CK3,60,0):OFFSET(テストデータ!CO3,60,0))","v":0},{"$f":"SUM(OFFSET(テストデータ!CP3,60,0):OFFSET(テストデータ!CR3,60,0))","v":0},{"$f":"SUM(OFFSET(テストデータ!CP3,60,0):OFFSET(テストデータ!CT3,60,0))","v":0}]
[null,null,null,null,{"$f":"RANK(成績表1!$L$25,$V$3:$V$502)","v":18},{"$f":"RANK(成績表1!$M$25,$W$3:$W$502)","v":18},{"$f":"RANK(成績表2!$L$23,$AL$3:$AL$502)","v":5},{"$f":"RANK(成績表2!$M$23,$AM$3:$AM$502)","v":13},null,null,null,null,null,{"$f":"SUM(OFFSET(テストデータ!$E3,61,9*成績表1!$B$4-9):OFFSET(テストデータ!$G3,61,9*成績表1!$B$4-9))","v":0},{"$f":"SUM(OFFSET(テストデータ!$E3,61,9*成績表1!$B$4-9):OFFSET(テストデータ!I3,61,9*成績表1!$B$4-9))","v":0},{"$f":"SUM(OFFSET(テストデータ!E3,61,0):OFFSET(テストデータ!G3,61,0))","v":0},{"$f":"SUM(OFFSET(テストデータ!E3,61,0):OFFSET(テストデータ!I3,61,0))","v":0},{"$f":"SUM(OFFSET(テストデータ!N3,61,0):OFFSET(テストデータ!P3,61,0))","v":0},{"$f":"SUM(OFFSET(テストデータ!N3,61,0):OFFSET(テストデータ!R3,61,0))","v":0},{"$f":"SUM(OFFSET(テストデータ!W3,61,0):OFFSET(テストデータ!Y3,61,0))","v":0},{"$f":"SUM(OFFSET(テストデータ!W3,61,0):OFFSET(テストデータ!AA3,61,0))","v":0},{"$f":"SUM(OFFSET(テストデータ!AF3,61,0):OFFSET(テストデータ!AH3,61,0))","v":0},{"$f":"SUM(OFFSET(テストデータ!AF3,61,0):OFFSET(テストデータ!AJ3,61,0))","v":0},{"$f":"SUM(OFFSET(テストデータ!AO3,61,0):OFFSET(テストデータ!AQ3,61,0))","v":0},{"$f":"SUM(OFFSET(テストデータ!AO3,61,0):OFFSET(テストデータ!AS3,61,0))","v":0},{"$f":"SUM(OFFSET(テストデータ!AX3,61,0):OFFSET(テストデータ!AZ3,61,0))","v":0},{"$f":"SUM(OFFSET(テストデータ!AX3,61,0):OFFSET(テストデータ!BB3,61,0))","v":0},{"$f":"SUM(OFFSET(テストデータ!BG3,61,0):OFFSET(テストデータ!BI3,61,0))","v":0},{"$f":"SUM(OFFSET(テストデータ!BG3,61,0):OFFSET(テストデータ!BK3,61,0))","v":0},{"$f":"SUM(OFFSET(テストデータ!BL3,61,0):OFFSET(テストデータ!BN3,61,0))","v":0},{"$f":"SUM(OFFSET(テストデータ!BL3,61,0):OFFSET(テストデータ!BP3,61,0))","v":0},{"$f":"SUM(OFFSET(テストデータ!BQ3,61,0):OFFSET(テストデータ!BS3,61,0))","v":0},{"$f":"SUM(OFFSET(テストデータ!BQ3,61,0):OFFSET(テストデータ!BU3,61,0))","v":0},{"$f":"SUM(OFFSET(テストデータ!BV3,61,0):OFFSET(テストデータ!BX3,61,0))","v":0},{"$f":"SUM(OFFSET(テストデータ!BV3,61,0):OFFSET(テストデータ!BZ3,61,0))","v":0},{"$f":"SUM(OFFSET(テストデータ!CA3,61,0):OFFSET(テストデータ!CC3,61,0))","v":0},{"$f":"SUM(OFFSET(テストデータ!CA3,61,0):OFFSET(テストデータ!CE3,61,0))","v":0},{"$f":"SUM(OFFSET(テストデータ!CF3,61,0):OFFSET(テストデータ!CH3,61,0))","v":0},{"$f":"SUM(OFFSET(テストデータ!CF3,61,0):OFFSET(テストデータ!CJ3,61,0))","v":0},{"$f":"SUM(OFFSET(テストデータ!CK3,61,0):OFFSET(テストデータ!CM3,61,0))","v":0},{"$f":"SUM(OFFSET(テストデータ!CK3,61,0):OFFSET(テストデータ!CO3,61,0))","v":0},{"$f":"SUM(OFFSET(テストデータ!CP3,61,0):OFFSET(テストデータ!CR3,61,0))","v":0},{"$f":"SUM(OFFSET(テストデータ!CP3,61,0):OFFSET(テストデータ!CT3,61,0))","v":0}]
[null,null,null,null,{"$f":"RANK(成績表1!$L$27,$X$3:$X$502)","v":{"$error":"#N/A"}},{"$f":"RANK(成績表1!$M$27,$Y$3:$Y$502)","v":{"$error":"#N/A"}},{"$f":"RANK(成績表2!$L$25,$AN$3:$AN$502)","v":19},{"$f":"RANK(成績表2!$M$25,$AO$3:$AO$502)","v":20},null,null,null,null,null,{"$f":"SUM(OFFSET(テストデータ!$E3,62,9*成績表1!$B$4-9):OFFSET(テストデータ!$G3,62,9*成績表1!$B$4-9))","v":0},{"$f":"SUM(OFFSET(テストデータ!$E3,62,9*成績表1!$B$4-9):OFFSET(テストデータ!I3,62,9*成績表1!$B$4-9))","v":0},{"$f":"SUM(OFFSET(テストデータ!E3,62,0):OFFSET(テストデータ!G3,62,0))","v":0},{"$f":"SUM(OFFSET(テストデータ!E3,62,0):OFFSET(テストデータ!I3,62,0))","v":0},{"$f":"SUM(OFFSET(テストデータ!N3,62,0):OFFSET(テストデータ!P3,62,0))","v":0},{"$f":"SUM(OFFSET(テストデータ!N3,62,0):OFFSET(テストデータ!R3,62,0))","v":0},{"$f":"SUM(OFFSET(テストデータ!W3,62,0):OFFSET(テストデータ!Y3,62,0))","v":0},{"$f":"SUM(OFFSET(テストデータ!W3,62,0):OFFSET(テストデータ!AA3,62,0))","v":0},{"$f":"SUM(OFFSET(テストデータ!AF3,62,0):OFFSET(テストデータ!AH3,62,0))","v":0},{"$f":"SUM(OFFSET(テストデータ!AF3,62,0):OFFSET(テストデータ!AJ3,62,0))","v":0},{"$f":"SUM(OFFSET(テストデータ!AO3,62,0):OFFSET(テストデータ!AQ3,62,0))","v":0},{"$f":"SUM(OFFSET(テストデータ!AO3,62,0):OFFSET(テストデータ!AS3,62,0))","v":0},{"$f":"SUM(OFFSET(テストデータ!AX3,62,0):OFFSET(テストデータ!AZ3,62,0))","v":0},{"$f":"SUM(OFFSET(テストデータ!AX3,62,0):OFFSET(テストデータ!BB3,62,0))","v":0},{"$f":"SUM(OFFSET(テストデータ!BG3,62,0):OFFSET(テストデータ!BI3,62,0))","v":0},{"$f":"SUM(OFFSET(テストデータ!BG3,62,0):OFFSET(テストデータ!BK3,62,0))","v":0},{"$f":"SUM(OFFSET(テストデータ!BL3,62,0):OFFSET(テストデータ!BN3,62,0))","v":0},{"$f":"SUM(OFFSET(テストデータ!BL3,62,0):OFFSET(テストデータ!BP3,62,0))","v":0},{"$f":"SUM(OFFSET(テストデータ!BQ3,62,0):OFFSET(テストデータ!BS3,62,0))","v":0},{"$f":"SUM(OFFSET(テストデータ!BQ3,62,0):OFFSET(テストデータ!BU3,62,0))","v":0},{"$f":"SUM(OFFSET(テストデータ!BV3,62,0):OFFSET(テストデータ!BX3,62,0))","v":0},{"$f":"SUM(OFFSET(テストデータ!BV3,62,0):OFFSET(テストデータ!BZ3,62,0))","v":0},{"$f":"SUM(OFFSET(テストデータ!CA3,62,0):OFFSET(テストデータ!CC3,62,0))","v":0},{"$f":"SUM(OFFSET(テストデータ!CA3,62,0):OFFSET(テストデータ!CE3,62,0))","v":0},{"$f":"SUM(OFFSET(テストデータ!CF3,62,0):OFFSET(テストデータ!CH3,62,0))","v":0},{"$f":"SUM(OFFSET(テストデータ!CF3,62,0):OFFSET(テストデータ!CJ3,62,0))","v":0},{"$f":"SUM(OFFSET(テストデータ!CK3,62,0):OFFSET(テストデータ!CM3,62,0))","v":0},{"$f":"SUM(OFFSET(テストデータ!CK3,62,0):OFFSET(テストデータ!CO3,62,0))","v":0},{"$f":"SUM(OFFSET(テストデータ!CP3,62,0):OFFSET(テストデータ!CR3,62,0))","v":0},{"$f":"SUM(OFFSET(テストデータ!CP3,62,0):OFFSET(テストデータ!CT3,62,0))","v":0}]
[null,null,null,null,{"$f":"RANK(成績表1!$L$29,$Z$3:$Z$502)","v":{"$error":"#N/A"}},{"$f":"RANK(成績表1!$M$29,$AA$3:$AA$502)","v":{"$error":"#N/A"}},{"$f":"RANK(成績表2!$L$27,$AP$3:$AP$502)","v":{"$error":"#N/A"}},{"$f":"RANK(成績表2!$M$27,$AQ$3:$AQ$502)","v":{"$error":"#N/A"}},null,null,null,null,null,{"$f":"SUM(OFFSET(テストデータ!$E3,63,9*成績表1!$B$4-9):OFFSET(テストデータ!$G3,63,9*成績表1!$B$4-9))","v":0},{"$f":"SUM(OFFSET(テストデータ!$E3,63,9*成績表1!$B$4-9):OFFSET(テストデータ!I3,63,9*成績表1!$B$4-9))","v":0},{"$f":"SUM(OFFSET(テストデータ!E3,63,0):OFFSET(テストデータ!G3,63,0))","v":0},{"$f":"SUM(OFFSET(テストデータ!E3,63,0):OFFSET(テストデータ!I3,63,0))","v":0},{"$f":"SUM(OFFSET(テストデータ!N3,63,0):OFFSET(テストデータ!P3,63,0))","v":0},{"$f":"SUM(OFFSET(テストデータ!N3,63,0):OFFSET(テストデータ!R3,63,0))","v":0},{"$f":"SUM(OFFSET(テストデータ!W3,63,0):OFFSET(テストデータ!Y3,63,0))","v":0},{"$f":"SUM(OFFSET(テストデータ!W3,63,0):OFFSET(テストデータ!AA3,63,0))","v":0},{"$f":"SUM(OFFSET(テストデータ!AF3,63,0):OFFSET(テストデータ!AH3,63,0))","v":0},{"$f":"SUM(OFFSET(テストデータ!AF3,63,0):OFFSET(テストデータ!AJ3,63,0))","v":0},{"$f":"SUM(OFFSET(テストデータ!AO3,63,0):OFFSET(テストデータ!AQ3,63,0))","v":0},{"$f":"SUM(OFFSET(テストデータ!AO3,63,0):OFFSET(テストデータ!AS3,63,0))","v":0},{"$f":"SUM(OFFSET(テストデータ!AX3,63,0):OFFSET(テストデータ!AZ3,63,0))","v":0},{"$f":"SUM(OFFSET(テストデータ!AX3,63,0):OFFSET(テストデータ!BB3,63,0))","v":0},{"$f":"SUM(OFFSET(テストデータ!BG3,63,0):OFFSET(テストデータ!BI3,63,0))","v":0},{"$f":"SUM(OFFSET(テストデータ!BG3,63,0):OFFSET(テストデータ!BK3,63,0))","v":0},{"$f":"SUM(OFFSET(テストデータ!BL3,63,0):OFFSET(テストデータ!BN3,63,0))","v":0},{"$f":"SUM(OFFSET(テストデータ!BL3,63,0):OFFSET(テストデータ!BP3,63,0))","v":0},{"$f":"SUM(OFFSET(テストデータ!BQ3,63,0):OFFSET(テストデータ!BS3,63,0))","v":0},{"$f":"SUM(OFFSET(テストデータ!BQ3,63,0):OFFSET(テストデータ!BU3,63,0))","v":0},{"$f":"SUM(OFFSET(テストデータ!BV3,63,0):OFFSET(テストデータ!BX3,63,0))","v":0},{"$f":"SUM(OFFSET(テストデータ!BV3,63,0):OFFSET(テストデータ!BZ3,63,0))","v":0},{"$f":"SUM(OFFSET(テストデータ!CA3,63,0):OFFSET(テストデータ!CC3,63,0))","v":0},{"$f":"SUM(OFFSET(テストデータ!CA3,63,0):OFFSET(テストデータ!CE3,63,0))","v":0},{"$f":"SUM(OFFSET(テストデータ!CF3,63,0):OFFSET(テストデータ!CH3,63,0))","v":0},{"$f":"SUM(OFFSET(テストデータ!CF3,63,0):OFFSET(テストデータ!CJ3,63,0))","v":0},{"$f":"SUM(OFFSET(テストデータ!CK3,63,0):OFFSET(テストデータ!CM3,63,0))","v":0},{"$f":"SUM(OFFSET(テストデータ!CK3,63,0):OFFSET(テストデータ!CO3,63,0))","v":0},{"$f":"SUM(OFFSET(テストデータ!CP3,63,0):OFFSET(テストデータ!CR3,63,0))","v":0},{"$f":"SUM(OFFSET(テストデータ!CP3,63,0):OFFSET(テストデータ!CT3,63,0))","v":0}]
[null,null,null,null,null,null,null,null,null,null,null,null,null,{"$f":"SUM(OFFSET(テストデータ!$E3,64,9*成績表1!$B$4-9):OFFSET(テストデータ!$G3,64,9*成績表1!$B$4-9))","v":0},{"$f":"SUM(OFFSET(テストデータ!$E3,64,9*成績表1!$B$4-9):OFFSET(テストデータ!I3,64,9*成績表1!$B$4-9))","v":0},{"$f":"SUM(OFFSET(テストデータ!E3,64,0):OFFSET(テストデータ!G3,64,0))","v":0},{"$f":"SUM(OFFSET(テストデータ!E3,64,0):OFFSET(テストデータ!I3,64,0))","v":0},{"$f":"SUM(OFFSET(テストデータ!N3,64,0):OFFSET(テストデータ!P3,64,0))","v":0},{"$f":"SUM(OFFSET(テストデータ!N3,64,0):OFFSET(テストデータ!R3,64,0))","v":0},{"$f":"SUM(OFFSET(テストデータ!W3,64,0):OFFSET(テストデータ!Y3,64,0))","v":0},{"$f":"SUM(OFFSET(テストデータ!W3,64,0):OFFSET(テストデータ!AA3,64,0))","v":0},{"$f":"SUM(OFFSET(テストデータ!AF3,64,0):OFFSET(テストデータ!AH3,64,0))","v":0},{"$f":"SUM(OFFSET(テストデータ!AF3,64,0):OFFSET(テストデータ!AJ3,64,0))","v":0},{"$f":"SUM(OFFSET(テストデータ!AO3,64,0):OFFSET(テストデータ!AQ3,64,0))","v":0},{"$f":"SUM(OFFSET(テストデータ!AO3,64,0):OFFSET(テストデータ!AS3,64,0))","v":0},{"$f":"SUM(OFFSET(テストデータ!AX3,64,0):OFFSET(テストデータ!AZ3,64,0))","v":0},{"$f":"SUM(OFFSET(テストデータ!AX3,64,0):OFFSET(テストデータ!BB3,64,0))","v":0},{"$f":"SUM(OFFSET(テストデータ!BG3,64,0):OFFSET(テストデータ!BI3,64,0))","v":0},{"$f":"SUM(OFFSET(テストデータ!BG3,64,0):OFFSET(テストデータ!BK3,64,0))","v":0},{"$f":"SUM(OFFSET(テストデータ!BL3,64,0):OFFSET(テストデータ!BN3,64,0))","v":0},{"$f":"SUM(OFFSET(テストデータ!BL3,64,0):OFFSET(テストデータ!BP3,64,0))","v":0},{"$f":"SUM(OFFSET(テストデータ!BQ3,64,0):OFFSET(テストデータ!BS3,64,0))","v":0},{"$f":"SUM(OFFSET(テストデータ!BQ3,64,0):OFFSET(テストデータ!BU3,64,0))","v":0},{"$f":"SUM(OFFSET(テストデータ!BV3,64,0):OFFSET(テストデータ!BX3,64,0))","v":0},{"$f":"SUM(OFFSET(テストデータ!BV3,64,0):OFFSET(テストデータ!BZ3,64,0))","v":0},{"$f":"SUM(OFFSET(テストデータ!CA3,64,0):OFFSET(テストデータ!CC3,64,0))","v":0},{"$f":"SUM(OFFSET(テストデータ!CA3,64,0):OFFSET(テストデータ!CE3,64,0))","v":0},{"$f":"SUM(OFFSET(テストデータ!CF3,64,0):OFFSET(テストデータ!CH3,64,0))","v":0},{"$f":"SUM(OFFSET(テストデータ!CF3,64,0):OFFSET(テストデータ!CJ3,64,0))","v":0},{"$f":"SUM(OFFSET(テストデータ!CK3,64,0):OFFSET(テストデータ!CM3,64,0))","v":0},{"$f":"SUM(OFFSET(テストデータ!CK3,64,0):OFFSET(テストデータ!CO3,64,0))","v":0},{"$f":"SUM(OFFSET(テストデータ!CP3,64,0):OFFSET(テストデータ!CR3,64,0))","v":0},{"$f":"SUM(OFFSET(テストデータ!CP3,64,0):OFFSET(テストデータ!CT3,64,0))","v":0}]
[null,null,null,null,{"$f":"\"第1回 \"&$C$21","v":"第1回 校内実力テスト"},null,1,null,null,null,null,null,null,{"$f":"SUM(OFFSET(テストデータ!$E3,65,9*成績表1!$B$4-9):OFFSET(テストデータ!$G3,65,9*成績表1!$B$4-9))","v":0},{"$f":"SUM(OFFSET(テストデータ!$E3,65,9*成績表1!$B$4-9):OFFSET(テストデータ!I3,65,9*成績表1!$B$4-9))","v":0},{"$f":"SUM(OFFSET(テストデータ!E3,65,0):OFFSET(テストデータ!G3,65,0))","v":0},{"$f":"SUM(OFFSET(テストデータ!E3,65,0):OFFSET(テストデータ!I3,65,0))","v":0},{"$f":"SUM(OFFSET(テストデータ!N3,65,0):OFFSET(テストデータ!P3,65,0))","v":0},{"$f":"SUM(OFFSET(テストデータ!N3,65,0):OFFSET(テストデータ!R3,65,0))","v":0},{"$f":"SUM(OFFSET(テストデータ!W3,65,0):OFFSET(テストデータ!Y3,65,0))","v":0},{"$f":"SUM(OFFSET(テストデータ!W3,65,0):OFFSET(テストデータ!AA3,65,0))","v":0},{"$f":"SUM(OFFSET(テストデータ!AF3,65,0):OFFSET(テストデータ!AH3,65,0))","v":0},{"$f":"SUM(OFFSET(テストデータ!AF3,65,0):OFFSET(テストデータ!AJ3,65,0))","v":0},{"$f":"SUM(OFFSET(テストデータ!AO3,65,0):OFFSET(テストデータ!AQ3,65,0))","v":0},{"$f":"SUM(OFFSET(テストデータ!AO3,65,0):OFFSET(テストデータ!AS3,65,0))","v":0},{"$f":"SUM(OFFSET(テストデータ!AX3,65,0):OFFSET(テストデータ!AZ3,65,0))","v":0},{"$f":"SUM(OFFSET(テストデータ!AX3,65,0):OFFSET(テストデータ!BB3,65,0))","v":0},{"$f":"SUM(OFFSET(テストデータ!BG3,65,0):OFFSET(テストデータ!BI3,65,0))","v":0},{"$f":"SUM(OFFSET(テストデータ!BG3,65,0):OFFSET(テストデータ!BK3,65,0))","v":0},{"$f":"SUM(OFFSET(テストデータ!BL3,65,0):OFFSET(テストデータ!BN3,65,0))","v":0},{"$f":"SUM(OFFSET(テストデータ!BL3,65,0):OFFSET(テストデータ!BP3,65,0))","v":0},{"$f":"SUM(OFFSET(テストデータ!BQ3,65,0):OFFSET(テストデータ!BS3,65,0))","v":0},{"$f":"SUM(OFFSET(テストデータ!BQ3,65,0):OFFSET(テストデータ!BU3,65,0))","v":0},{"$f":"SUM(OFFSET(テストデータ!BV3,65,0):OFFSET(テストデータ!BX3,65,0))","v":0},{"$f":"SUM(OFFSET(テストデータ!BV3,65,0):OFFSET(テストデータ!BZ3,65,0))","v":0},{"$f":"SUM(OFFSET(テストデータ!CA3,65,0):OFFSET(テストデータ!CC3,65,0))","v":0},{"$f":"SUM(OFFSET(テストデータ!CA3,65,0):OFFSET(テストデータ!CE3,65,0))","v":0},{"$f":"SUM(OFFSET(テストデータ!CF3,65,0):OFFSET(テストデータ!CH3,65,0))","v":0},{"$f":"SUM(OFFSET(テストデータ!CF3,65,0):OFFSET(テストデータ!CJ3,65,0))","v":0},{"$f":"SUM(OFFSET(テストデータ!CK3,65,0):OFFSET(テストデータ!CM3,65,0))","v":0},{"$f":"SUM(OFFSET(テストデータ!CK3,65,0):OFFSET(テストデータ!CO3,65,0))","v":0},{"$f":"SUM(OFFSET(テストデータ!CP3,65,0):OFFSET(テストデータ!CR3,65,0))","v":0},{"$f":"SUM(OFFSET(テストデータ!CP3,65,0):OFFSET(テストデータ!CT3,65,0))","v":0}]
[null,null,null,null,{"$f":"\"第2回 \"&$C$21","v":"第2回 校内実力テスト"},null,2,null,null,null,null,null,null,{"$f":"SUM(OFFSET(テストデータ!$E3,66,9*成績表1!$B$4-9):OFFSET(テストデータ!$G3,66,9*成績表1!$B$4-9))","v":0},{"$f":"SUM(OFFSET(テストデータ!$E3,66,9*成績表1!$B$4-9):OFFSET(テストデータ!I3,66,9*成績表1!$B$4-9))","v":0},{"$f":"SUM(OFFSET(テストデータ!E3,66,0):OFFSET(テストデータ!G3,66,0))","v":0},{"$f":"SUM(OFFSET(テストデータ!E3,66,0):OFFSET(テストデータ!I3,66,0))","v":0},{"$f":"SUM(OFFSET(テストデータ!N3,66,0):OFFSET(テストデータ!P3,66,0))","v":0},{"$f":"SUM(OFFSET(テストデータ!N3,66,0):OFFSET(テストデータ!R3,66,0))","v":0},{"$f":"SUM(OFFSET(テストデータ!W3,66,0):OFFSET(テストデータ!Y3,66,0))","v":0},{"$f":"SUM(OFFSET(テストデータ!W3,66,0):OFFSET(テストデータ!AA3,66,0))","v":0},{"$f":"SUM(OFFSET(テストデータ!AF3,66,0):OFFSET(テストデータ!AH3,66,0))","v":0},{"$f":"SUM(OFFSET(テストデータ!AF3,66,0):OFFSET(テストデータ!AJ3,66,0))","v":0},{"$f":"SUM(OFFSET(テストデータ!AO3,66,0):OFFSET(テストデータ!AQ3,66,0))","v":0},{"$f":"SUM(OFFSET(テストデータ!AO3,66,0):OFFSET(テストデータ!AS3,66,0))","v":0},{"$f":"SUM(OFFSET(テストデータ!AX3,66,0):OFFSET(テストデータ!AZ3,66,0))","v":0},{"$f":"SUM(OFFSET(テストデータ!AX3,66,0):OFFSET(テストデータ!BB3,66,0))","v":0},{"$f":"SUM(OFFSET(テストデータ!BG3,66,0):OFFSET(テストデータ!BI3,66,0))","v":0},{"$f":"SUM(OFFSET(テストデータ!BG3,66,0):OFFSET(テストデータ!BK3,66,0))","v":0},{"$f":"SUM(OFFSET(テストデータ!BL3,66,0):OFFSET(テストデータ!BN3,66,0))","v":0},{"$f":"SUM(OFFSET(テストデータ!BL3,66,0):OFFSET(テストデータ!BP3,66,0))","v":0},{"$f":"SUM(OFFSET(テストデータ!BQ3,66,0):OFFSET(テストデータ!BS3,66,0))","v":0},{"$f":"SUM(OFFSET(テストデータ!BQ3,66,0):OFFSET(テストデータ!BU3,66,0))","v":0},{"$f":"SUM(OFFSET(テストデータ!BV3,66,0):OFFSET(テストデータ!BX3,66,0))","v":0},{"$f":"SUM(OFFSET(テストデータ!BV3,66,0):OFFSET(テストデータ!BZ3,66,0))","v":0},{"$f":"SUM(OFFSET(テストデータ!CA3,66,0):OFFSET(テストデータ!CC3,66,0))","v":0},{"$f":"SUM(OFFSET(テストデータ!CA3,66,0):OFFSET(テストデータ!CE3,66,0))","v":0},{"$f":"SUM(OFFSET(テストデータ!CF3,66,0):OFFSET(テストデータ!CH3,66,0))","v":0},{"$f":"SUM(OFFSET(テストデータ!CF3,66,0):OFFSET(テストデータ!CJ3,66,0))","v":0},{"$f":"SUM(OFFSET(テストデータ!CK3,66,0):OFFSET(テストデータ!CM3,66,0))","v":0},{"$f":"SUM(OFFSET(テストデータ!CK3,66,0):OFFSET(テストデータ!CO3,66,0))","v":0},{"$f":"SUM(OFFSET(テストデータ!CP3,66,0):OFFSET(テストデータ!CR3,66,0))","v":0},{"$f":"SUM(OFFSET(テストデータ!CP3,66,0):OFFSET(テストデータ!CT3,66,0))","v":0}]
[null,null,null,null,{"$f":"\"第3回 \"&$C$21","v":"第3回 校内実力テスト"},null,3,null,null,null,null,null,null,{"$f":"SUM(OFFSET(テストデータ!$E3,67,9*成績表1!$B$4-9):OFFSET(テストデータ!$G3,67,9*成績表1!$B$4-9))","v":0},{"$f":"SUM(OFFSET(テストデータ!$E3,67,9*成績表1!$B$4-9):OFFSET(テストデータ!I3,67,9*成績表1!$B$4-9))","v":0},{"$f":"SUM(OFFSET(テストデータ!E3,67,0):OFFSET(テストデータ!G3,67,0))","v":0},{"$f":"SUM(OFFSET(テストデータ!E3,67,0):OFFSET(テストデータ!I3,67,0))","v":0},{"$f":"SUM(OFFSET(テストデータ!N3,67,0):OFFSET(テストデータ!P3,67,0))","v":0},{"$f":"SUM(OFFSET(テストデータ!N3,67,0):OFFSET(テストデータ!R3,67,0))","v":0},{"$f":"SUM(OFFSET(テストデータ!W3,67,0):OFFSET(テストデータ!Y3,67,0))","v":0},{"$f":"SUM(OFFSET(テストデータ!W3,67,0):OFFSET(テストデータ!AA3,67,0))","v":0},{"$f":"SUM(OFFSET(テストデータ!AF3,67,0):OFFSET(テストデータ!AH3,67,0))","v":0},{"$f":"SUM(OFFSET(テストデータ!AF3,67,0):OFFSET(テストデータ!AJ3,67,0))","v":0},{"$f":"SUM(OFFSET(テストデータ!AO3,67,0):OFFSET(テストデータ!AQ3,67,0))","v":0},{"$f":"SUM(OFFSET(テストデータ!AO3,67,0):OFFSET(テストデータ!AS3,67,0))","v":0},{"$f":"SUM(OFFSET(テストデータ!AX3,67,0):OFFSET(テストデータ!AZ3,67,0))","v":0},{"$f":"SUM(OFFSET(テストデータ!AX3,67,0):OFFSET(テストデータ!BB3,67,0))","v":0},{"$f":"SUM(OFFSET(テストデータ!BG3,67,0):OFFSET(テストデータ!BI3,67,0))","v":0},{"$f":"SUM(OFFSET(テストデータ!BG3,67,0):OFFSET(テストデータ!BK3,67,0))","v":0},{"$f":"SUM(OFFSET(テストデータ!BL3,67,0):OFFSET(テストデータ!BN3,67,0))","v":0},{"$f":"SUM(OFFSET(テストデータ!BL3,67,0):OFFSET(テストデータ!BP3,67,0))","v":0},{"$f":"SUM(OFFSET(テストデータ!BQ3,67,0):OFFSET(テストデータ!BS3,67,0))","v":0},{"$f":"SUM(OFFSET(テストデータ!BQ3,67,0):OFFSET(テストデータ!BU3,67,0))","v":0},{"$f":"SUM(OFFSET(テストデータ!BV3,67,0):OFFSET(テストデータ!BX3,67,0))","v":0},{"$f":"SUM(OFFSET(テストデータ!BV3,67,0):OFFSET(テストデータ!BZ3,67,0))","v":0},{"$f":"SUM(OFFSET(テストデータ!CA3,67,0):OFFSET(テストデータ!CC3,67,0))","v":0},{"$f":"SUM(OFFSET(テストデータ!CA3,67,0):OFFSET(テストデータ!CE3,67,0))","v":0},{"$f":"SUM(OFFSET(テストデータ!CF3,67,0):OFFSET(テストデータ!CH3,67,0))","v":0},{"$f":"SUM(OFFSET(テストデータ!CF3,67,0):OFFSET(テストデータ!CJ3,67,0))","v":0},{"$f":"SUM(OFFSET(テストデータ!CK3,67,0):OFFSET(テストデータ!CM3,67,0))","v":0},{"$f":"SUM(OFFSET(テストデータ!CK3,67,0):OFFSET(テストデータ!CO3,67,0))","v":0},{"$f":"SUM(OFFSET(テストデータ!CP3,67,0):OFFSET(テストデータ!CR3,67,0))","v":0},{"$f":"SUM(OFFSET(テストデータ!CP3,67,0):OFFSET(テストデータ!CT3,67,0))","v":0}]
[null,null,null,null,{"$f":"\"第4回 \"&$C$21","v":"第4回 校内実力テスト"},null,4,null,null,null,null,null,null,{"$f":"SUM(OFFSET(テストデータ!$E3,68,9*成績表1!$B$4-9):OFFSET(テストデータ!$G3,68,9*成績表1!$B$4-9))","v":0},{"$f":"SUM(OFFSET(テストデータ!$E3,68,9*成績表1!$B$4-9):OFFSET(テストデータ!I3,68,9*成績表1!$B$4-9))","v":0},{"$f":"SUM(OFFSET(テストデータ!E3,68,0):OFFSET(テストデータ!G3,68,0))","v":0},{"$f":"SUM(OFFSET(テストデータ!E3,68,0):OFFSET(テストデータ!I3,68,0))","v":0},{"$f":"SUM(OFFSET(テストデータ!N3,68,0):OFFSET(テストデータ!P3,68,0))","v":0},{"$f":"SUM(OFFSET(テストデータ!N3,68,0):OFFSET(テストデータ!R3,68,0))","v":0},{"$f":"SUM(OFFSET(テストデータ!W3,68,0):OFFSET(テストデータ!Y3,68,0))","v":0},{"$f":"SUM(OFFSET(テストデータ!W3,68,0):OFFSET(テストデータ!AA3,68,0))","v":0},{"$f":"SUM(OFFSET(テストデータ!AF3,68,0):OFFSET(テストデータ!AH3,68,0))","v":0},{"$f":"SUM(OFFSET(テストデータ!AF3,68,0):OFFSET(テストデータ!AJ3,68,0))","v":0},{"$f":"SUM(OFFSET(テストデータ!AO3,68,0):OFFSET(テストデータ!AQ3,68,0))","v":0},{"$f":"SUM(OFFSET(テストデータ!AO3,68,0):OFFSET(テストデータ!AS3,68,0))","v":0},{"$f":"SUM(OFFSET(テストデータ!AX3,68,0):OFFSET(テストデータ!AZ3,68,0))","v":0},{"$f":"SUM(OFFSET(テストデータ!AX3,68,0):OFFSET(テストデータ!BB3,68,0))","v":0},{"$f":"SUM(OFFSET(テストデータ!BG3,68,0):OFFSET(テストデータ!BI3,68,0))","v":0},{"$f":"SUM(OFFSET(テストデータ!BG3,68,0):OFFSET(テストデータ!BK3,68,0))","v":0},{"$f":"SUM(OFFSET(テストデータ!BL3,68,0):OFFSET(テストデータ!BN3,68,0))","v":0},{"$f":"SUM(OFFSET(テストデータ!BL3,68,0):OFFSET(テストデータ!BP3,68,0))","v":0},{"$f":"SUM(OFFSET(テストデータ!BQ3,68,0):OFFSET(テストデータ!BS3,68,0))","v":0},{"$f":"SUM(OFFSET(テストデータ!BQ3,68,0):OFFSET(テストデータ!BU3,68,0))","v":0},{"$f":"SUM(OFFSET(テストデータ!BV3,68,0):OFFSET(テストデータ!BX3,68,0))","v":0},{"$f":"SUM(OFFSET(テストデータ!BV3,68,0):OFFSET(テストデータ!BZ3,68,0))","v":0},{"$f":"SUM(OFFSET(テストデータ!CA3,68,0):OFFSET(テストデータ!CC3,68,0))","v":0},{"$f":"SUM(OFFSET(テストデータ!CA3,68,0):OFFSET(テストデータ!CE3,68,0))","v":0},{"$f":"SUM(OFFSET(テストデータ!CF3,68,0):OFFSET(テストデータ!CH3,68,0))","v":0},{"$f":"SUM(OFFSET(テストデータ!CF3,68,0):OFFSET(テストデータ!CJ3,68,0))","v":0},{"$f":"SUM(OFFSET(テストデータ!CK3,68,0):OFFSET(テストデータ!CM3,68,0))","v":0},{"$f":"SUM(OFFSET(テストデータ!CK3,68,0):OFFSET(テストデータ!CO3,68,0))","v":0},{"$f":"SUM(OFFSET(テストデータ!CP3,68,0):OFFSET(テストデータ!CR3,68,0))","v":0},{"$f":"SUM(OFFSET(テストデータ!CP3,68,0):OFFSET(テストデータ!CT3,68,0))","v":0}]
[null,null,null,null,{"$f":"\"第5回 \"&$C$21","v":"第5回 校内実力テスト"},null,5,null,null,null,null,null,null,{"$f":"SUM(OFFSET(テストデータ!$E3,69,9*成績表1!$B$4-9):OFFSET(テストデータ!$G3,69,9*成績表1!$B$4-9))","v":0},{"$f":"SUM(OFFSET(テストデータ!$E3,69,9*成績表1!$B$4-9):OFFSET(テストデータ!I3,69,9*成績表1!$B$4-9))","v":0},{"$f":"SUM(OFFSET(テストデータ!E3,69,0):OFFSET(テストデータ!G3,69,0))","v":0},{"$f":"SUM(OFFSET(テストデータ!E3,69,0):OFFSET(テストデータ!I3,69,0))","v":0},{"$f":"SUM(OFFSET(テストデータ!N3,69,0):OFFSET(テストデータ!P3,69,0))","v":0},{"$f":"SUM(OFFSET(テストデータ!N3,69,0):OFFSET(テストデータ!R3,69,0))","v":0},{"$f":"SUM(OFFSET(テストデータ!W3,69,0):OFFSET(テストデータ!Y3,69,0))","v":0},{"$f":"SUM(OFFSET(テストデータ!W3,69,0):OFFSET(テストデータ!AA3,69,0))","v":0},{"$f":"SUM(OFFSET(テストデータ!AF3,69,0):OFFSET(テストデータ!AH3,69,0))","v":0},{"$f":"SUM(OFFSET(テストデータ!AF3,69,0):OFFSET(テストデータ!AJ3,69,0))","v":0},{"$f":"SUM(OFFSET(テストデータ!AO3,69,0):OFFSET(テストデータ!AQ3,69,0))","v":0},{"$f":"SUM(OFFSET(テストデータ!AO3,69,0):OFFSET(テストデータ!AS3,69,0))","v":0},{"$f":"SUM(OFFSET(テストデータ!AX3,69,0):OFFSET(テストデータ!AZ3,69,0))","v":0},{"$f":"SUM(OFFSET(テストデータ!AX3,69,0):OFFSET(テストデータ!BB3,69,0))","v":0},{"$f":"SUM(OFFSET(テストデータ!BG3,69,0):OFFSET(テストデータ!BI3,69,0))","v":0},{"$f":"SUM(OFFSET(テストデータ!BG3,69,0):OFFSET(テストデータ!BK3,69,0))","v":0},{"$f":"SUM(OFFSET(テストデータ!BL3,69,0):OFFSET(テストデータ!BN3,69,0))","v":0},{"$f":"SUM(OFFSET(テストデータ!BL3,69,0):OFFSET(テストデータ!BP3,69,0))","v":0},{"$f":"SUM(OFFSET(テストデータ!BQ3,69,0):OFFSET(テストデータ!BS3,69,0))","v":0},{"$f":"SUM(OFFSET(テストデータ!BQ3,69,0):OFFSET(テストデータ!BU3,69,0))","v":0},{"$f":"SUM(OFFSET(テストデータ!BV3,69,0):OFFSET(テストデータ!BX3,69,0))","v":0},{"$f":"SUM(OFFSET(テストデータ!BV3,69,0):OFFSET(テストデータ!BZ3,69,0))","v":0},{"$f":"SUM(OFFSET(テストデータ!CA3,69,0):OFFSET(テストデータ!CC3,69,0))","v":0},{"$f":"SUM(OFFSET(テストデータ!CA3,69,0):OFFSET(テストデータ!CE3,69,0))","v":0},{"$f":"SUM(OFFSET(テストデータ!CF3,69,0):OFFSET(テストデータ!CH3,69,0))","v":0},{"$f":"SUM(OFFSET(テストデータ!CF3,69,0):OFFSET(テストデータ!CJ3,69,0))","v":0},{"$f":"SUM(OFFSET(テストデータ!CK3,69,0):OFFSET(テストデータ!CM3,69,0))","v":0},{"$f":"SUM(OFFSET(テストデータ!CK3,69,0):OFFSET(テストデータ!CO3,69,0))","v":0},{"$f":"SUM(OFFSET(テストデータ!CP3,69,0):OFFSET(テストデータ!CR3,69,0))","v":0},{"$f":"SUM(OFFSET(テストデータ!CP3,69,0):OFFSET(テストデータ!CT3,69,0))","v":0}]
[null,null,null,null,{"$f":"\"第6回 \"&$C$21","v":"第6回 校内実力テスト"},null,6,null,null,null,null,null,null,{"$f":"SUM(OFFSET(テストデータ!$E3,70,9*成績表1!$B$4-9):OFFSET(テストデータ!$G3,70,9*成績表1!$B$4-9))","v":0},{"$f":"SUM(OFFSET(テストデータ!$E3,70,9*成績表1!$B$4-9):OFFSET(テストデータ!I3,70,9*成績表1!$B$4-9))","v":0},{"$f":"SUM(OFFSET(テストデータ!E3,70,0):OFFSET(テストデータ!G3,70,0))","v":0},{"$f":"SUM(OFFSET(テストデータ!E3,70,0):OFFSET(テストデータ!I3,70,0))","v":0},{"$f":"SUM(OFFSET(テストデータ!N3,70,0):OFFSET(テストデータ!P3,70,0))","v":0},{"$f":"SUM(OFFSET(テストデータ!N3,70,0):OFFSET(テストデータ!R3,70,0))","v":0},{"$f":"SUM(OFFSET(テストデータ!W3,70,0):OFFSET(テストデータ!Y3,70,0))","v":0},{"$f":"SUM(OFFSET(テストデータ!W3,70,0):OFFSET(テストデータ!AA3,70,0))","v":0},{"$f":"SUM(OFFSET(テストデータ!AF3,70,0):OFFSET(テストデータ!AH3,70,0))","v":0},{"$f":"SUM(OFFSET(テストデータ!AF3,70,0):OFFSET(テストデータ!AJ3,70,0))","v":0},{"$f":"SUM(OFFSET(テストデータ!AO3,70,0):OFFSET(テストデータ!AQ3,70,0))","v":0},{"$f":"SUM(OFFSET(テストデータ!AO3,70,0):OFFSET(テストデータ!AS3,70,0))","v":0},{"$f":"SUM(OFFSET(テストデータ!AX3,70,0):OFFSET(テストデータ!AZ3,70,0))","v":0},{"$f":"SUM(OFFSET(テストデータ!AX3,70,0):OFFSET(テストデータ!BB3,70,0))","v":0},{"$f":"SUM(OFFSET(テストデータ!BG3,70,0):OFFSET(テストデータ!BI3,70,0))","v":0},{"$f":"SUM(OFFSET(テストデータ!BG3,70,0):OFFSET(テストデータ!BK3,70,0))","v":0},{"$f":"SUM(OFFSET(テストデータ!BL3,70,0):OFFSET(テストデータ!BN3,70,0))","v":0},{"$f":"SUM(OFFSET(テストデータ!BL3,70,0):OFFSET(テストデータ!BP3,70,0))","v":0},{"$f":"SUM(OFFSET(テストデータ!BQ3,70,0):OFFSET(テストデータ!BS3,70,0))","v":0},{"$f":"SUM(OFFSET(テストデータ!BQ3,70,0):OFFSET(テストデータ!BU3,70,0))","v":0},{"$f":"SUM(OFFSET(テストデータ!BV3,70,0):OFFSET(テストデータ!BX3,70,0))","v":0},{"$f":"SUM(OFFSET(テストデータ!BV3,70,0):OFFSET(テストデータ!BZ3,70,0))","v":0},{"$f":"SUM(OFFSET(テストデータ!CA3,70,0):OFFSET(テストデータ!CC3,70,0))","v":0},{"$f":"SUM(OFFSET(テストデータ!CA3,70,0):OFFSET(テストデータ!CE3,70,0))","v":0},{"$f":"SUM(OFFSET(テストデータ!CF3,70,0):OFFSET(テストデータ!CH3,70,0))","v":0},{"$f":"SUM(OFFSET(テストデータ!CF3,70,0):OFFSET(テストデータ!CJ3,70,0))","v":0},{"$f":"SUM(OFFSET(テストデータ!CK3,70,0):OFFSET(テストデータ!CM3,70,0))","v":0},{"$f":"SUM(OFFSET(テストデータ!CK3,70,0):OFFSET(テストデータ!CO3,70,0))","v":0},{"$f":"SUM(OFFSET(テストデータ!CP3,70,0):OFFSET(テストデータ!CR3,70,0))","v":0},{"$f":"SUM(OFFSET(テストデータ!CP3,70,0):OFFSET(テストデータ!CT3,70,0))","v":0}]
[null,null,null,null,{"$f":"\"第7回 \"&$C$21","v":"第7回 校内実力テスト"},null,7,null,null,null,null,null,null,{"$f":"SUM(OFFSET(テストデータ!$E3,71,9*成績表1!$B$4-9):OFFSET(テストデータ!$G3,71,9*成績表1!$B$4-9))","v":0},{"$f":"SUM(OFFSET(テストデータ!$E3,71,9*成績表1!$B$4-9):OFFSET(テストデータ!I3,71,9*成績表1!$B$4-9))","v":0},{"$f":"SUM(OFFSET(テストデータ!E3,71,0):OFFSET(テストデータ!G3,71,0))","v":0},{"$f":"SUM(OFFSET(テストデータ!E3,71,0):OFFSET(テストデータ!I3,71,0))","v":0},{"$f":"SUM(OFFSET(テストデータ!N3,71,0):OFFSET(テストデータ!P3,71,0))","v":0},{"$f":"SUM(OFFSET(テストデータ!N3,71,0):OFFSET(テストデータ!R3,71,0))","v":0},{"$f":"SUM(OFFSET(テストデータ!W3,71,0):OFFSET(テストデータ!Y3,71,0))","v":0},{"$f":"SUM(OFFSET(テストデータ!W3,71,0):OFFSET(テストデータ!AA3,71,0))","v":0},{"$f":"SUM(OFFSET(テストデータ!AF3,71,0):OFFSET(テストデータ!AH3,71,0))","v":0},{"$f":"SUM(OFFSET(テストデータ!AF3,71,0):OFFSET(テストデータ!AJ3,71,0))","v":0},{"$f":"SUM(OFFSET(テストデータ!AO3,71,0):OFFSET(テストデータ!AQ3,71,0))","v":0},{"$f":"SUM(OFFSET(テストデータ!AO3,71,0):OFFSET(テストデータ!AS3,71,0))","v":0},{"$f":"SUM(OFFSET(テストデータ!AX3,71,0):OFFSET(テストデータ!AZ3,71,0))","v":0},{"$f":"SUM(OFFSET(テストデータ!AX3,71,0):OFFSET(テストデータ!BB3,71,0))","v":0},{"$f":"SUM(OFFSET(テストデータ!BG3,71,0):OFFSET(テストデータ!BI3,71,0))","v":0},{"$f":"SUM(OFFSET(テストデータ!BG3,71,0):OFFSET(テストデータ!BK3,71,0))","v":0},{"$f":"SUM(OFFSET(テストデータ!BL3,71,0):OFFSET(テストデータ!BN3,71,0))","v":0},{"$f":"SUM(OFFSET(テストデータ!BL3,71,0):OFFSET(テストデータ!BP3,71,0))","v":0},{"$f":"SUM(OFFSET(テストデータ!BQ3,71,0):OFFSET(テストデータ!BS3,71,0))","v":0},{"$f":"SUM(OFFSET(テストデータ!BQ3,71,0):OFFSET(テストデータ!BU3,71,0))","v":0},{"$f":"SUM(OFFSET(テストデータ!BV3,71,0):OFFSET(テストデータ!BX3,71,0))","v":0},{"$f":"SUM(OFFSET(テストデータ!BV3,71,0):OFFSET(テストデータ!BZ3,71,0))","v":0},{"$f":"SUM(OFFSET(テストデータ!CA3,71,0):OFFSET(テストデータ!CC3,71,0))","v":0},{"$f":"SUM(OFFSET(テストデータ!CA3,71,0):OFFSET(テストデータ!CE3,71,0))","v":0},{"$f":"SUM(OFFSET(テストデータ!CF3,71,0):OFFSET(テストデータ!CH3,71,0))","v":0},{"$f":"SUM(OFFSET(テストデータ!CF3,71,0):OFFSET(テストデータ!CJ3,71,0))","v":0},{"$f":"SUM(OFFSET(テストデータ!CK3,71,0):OFFSET(テストデータ!CM3,71,0))","v":0},{"$f":"SUM(OFFSET(テストデータ!CK3,71,0):OFFSET(テストデータ!CO3,71,0))","v":0},{"$f":"SUM(OFFSET(テストデータ!CP3,71,0):OFFSET(テストデータ!CR3,71,0))","v":0},{"$f":"SUM(OFFSET(テストデータ!CP3,71,0):OFFSET(テストデータ!CT3,71,0))","v":0}]
[null,null,null,null,{"$f":"\"第8回 \"&$C$21","v":"第8回 校内実力テスト"},null,8,null,null,null,null,null,null,{"$f":"SUM(OFFSET(テストデータ!$E3,72,9*成績表1!$B$4-9):OFFSET(テストデータ!$G3,72,9*成績表1!$B$4-9))","v":0},{"$f":"SUM(OFFSET(テストデータ!$E3,72,9*成績表1!$B$4-9):OFFSET(テストデータ!I3,72,9*成績表1!$B$4-9))","v":0},{"$f":"SUM(OFFSET(テストデータ!E3,72,0):OFFSET(テストデータ!G3,72,0))","v":0},{"$f":"SUM(OFFSET(テストデータ!E3,72,0):OFFSET(テストデータ!I3,72,0))","v":0},{"$f":"SUM(OFFSET(テストデータ!N3,72,0):OFFSET(テストデータ!P3,72,0))","v":0},{"$f":"SUM(OFFSET(テストデータ!N3,72,0):OFFSET(テストデータ!R3,72,0))","v":0},{"$f":"SUM(OFFSET(テストデータ!W3,72,0):OFFSET(テストデータ!Y3,72,0))","v":0},{"$f":"SUM(OFFSET(テストデータ!W3,72,0):OFFSET(テストデータ!AA3,72,0))","v":0},{"$f":"SUM(OFFSET(テストデータ!AF3,72,0):OFFSET(テストデータ!AH3,72,0))","v":0},{"$f":"SUM(OFFSET(テストデータ!AF3,72,0):OFFSET(テストデータ!AJ3,72,0))","v":0},{"$f":"SUM(OFFSET(テストデータ!AO3,72,0):OFFSET(テストデータ!AQ3,72,0))","v":0},{"$f":"SUM(OFFSET(テストデータ!AO3,72,0):OFFSET(テストデータ!AS3,72,0))","v":0},{"$f":"SUM(OFFSET(テストデータ!AX3,72,0):OFFSET(テストデータ!AZ3,72,0))","v":0},{"$f":"SUM(OFFSET(テストデータ!AX3,72,0):OFFSET(テストデータ!BB3,72,0))","v":0},{"$f":"SUM(OFFSET(テストデータ!BG3,72,0):OFFSET(テストデータ!BI3,72,0))","v":0},{"$f":"SUM(OFFSET(テストデータ!BG3,72,0):OFFSET(テストデータ!BK3,72,0))","v":0},{"$f":"SUM(OFFSET(テストデータ!BL3,72,0):OFFSET(テストデータ!BN3,72,0))","v":0},{"$f":"SUM(OFFSET(テストデータ!BL3,72,0):OFFSET(テストデータ!BP3,72,0))","v":0},{"$f":"SUM(OFFSET(テストデータ!BQ3,72,0):OFFSET(テストデータ!BS3,72,0))","v":0},{"$f":"SUM(OFFSET(テストデータ!BQ3,72,0):OFFSET(テストデータ!BU3,72,0))","v":0},{"$f":"SUM(OFFSET(テストデータ!BV3,72,0):OFFSET(テストデータ!BX3,72,0))","v":0},{"$f":"SUM(OFFSET(テストデータ!BV3,72,0):OFFSET(テストデータ!BZ3,72,0))","v":0},{"$f":"SUM(OFFSET(テストデータ!CA3,72,0):OFFSET(テストデータ!CC3,72,0))","v":0},{"$f":"SUM(OFFSET(テストデータ!CA3,72,0):OFFSET(テストデータ!CE3,72,0))","v":0},{"$f":"SUM(OFFSET(テストデータ!CF3,72,0):OFFSET(テストデータ!CH3,72,0))","v":0},{"$f":"SUM(OFFSET(テストデータ!CF3,72,0):OFFSET(テストデータ!CJ3,72,0))","v":0},{"$f":"SUM(OFFSET(テストデータ!CK3,72,0):OFFSET(テストデータ!CM3,72,0))","v":0},{"$f":"SUM(OFFSET(テストデータ!CK3,72,0):OFFSET(テストデータ!CO3,72,0))","v":0},{"$f":"SUM(OFFSET(テストデータ!CP3,72,0):OFFSET(テストデータ!CR3,72,0))","v":0},{"$f":"SUM(OFFSET(テストデータ!CP3,72,0):OFFSET(テストデータ!CT3,72,0))","v":0}]
[null,null,null,null,null,null,null,null,null,null,null,null,null,{"$f":"SUM(OFFSET(テストデータ!$E3,73,9*成績表1!$B$4-9):OFFSET(テストデータ!$G3,73,9*成績表1!$B$4-9))","v":0},{"$f":"SUM(OFFSET(テストデータ!$E3,73,9*成績表1!$B$4-9):OFFSET(テストデータ!I3,73,9*成績表1!$B$4-9))","v":0},{"$f":"SUM(OFFSET(テストデータ!E3,73,0):OFFSET(テストデータ!G3,73,0))","v":0},{"$f":"SUM(OFFSET(テストデータ!E3,73,0):OFFSET(テストデータ!I3,73,0))","v":0},{"$f":"SUM(OFFSET(テストデータ!N3,73,0):OFFSET(テストデータ!P3,73,0))","v":0},{"$f":"SUM(OFFSET(テストデータ!N3,73,0):OFFSET(テストデータ!R3,73,0))","v":0},{"$f":"SUM(OFFSET(テストデータ!W3,73,0):OFFSET(テストデータ!Y3,73,0))","v":0},{"$f":"SUM(OFFSET(テストデータ!W3,73,0):OFFSET(テストデータ!AA3,73,0))","v":0},{"$f":"SUM(OFFSET(テストデータ!AF3,73,0):OFFSET(テストデータ!AH3,73,0))","v":0},{"$f":"SUM(OFFSET(テストデータ!AF3,73,0):OFFSET(テストデータ!AJ3,73,0))","v":0},{"$f":"SUM(OFFSET(テストデータ!AO3,73,0):OFFSET(テストデータ!AQ3,73,0))","v":0},{"$f":"SUM(OFFSET(テストデータ!AO3,73,0):OFFSET(テストデータ!AS3,73,0))","v":0},{"$f":"SUM(OFFSET(テストデータ!AX3,73,0):OFFSET(テストデータ!AZ3,73,0))","v":0},{"$f":"SUM(OFFSET(テストデータ!AX3,73,0):OFFSET(テストデータ!BB3,73,0))","v":0},{"$f":"SUM(OFFSET(テストデータ!BG3,73,0):OFFSET(テストデータ!BI3,73,0))","v":0},{"$f":"SUM(OFFSET(テストデータ!BG3,73,0):OFFSET(テストデータ!BK3,73,0))","v":0},{"$f":"SUM(OFFSET(テストデータ!BL3,73,0):OFFSET(テストデータ!BN3,73,0))","v":0},{"$f":"SUM(OFFSET(テストデータ!BL3,73,0):OFFSET(テストデータ!BP3,73,0))","v":0},{"$f":"SUM(OFFSET(テストデータ!BQ3,73,0):OFFSET(テストデータ!BS3,73,0))","v":0},{"$f":"SUM(OFFSET(テストデータ!BQ3,73,0):OFFSET(テストデータ!BU3,73,0))","v":0},{"$f":"SUM(OFFSET(テストデータ!BV3,73,0):OFFSET(テストデータ!BX3,73,0))","v":0},{"$f":"SUM(OFFSET(テストデータ!BV3,73,0):OFFSET(テストデータ!BZ3,73,0))","v":0},{"$f":"SUM(OFFSET(テストデータ!CA3,73,0):OFFSET(テストデータ!CC3,73,0))","v":0},{"$f":"SUM(OFFSET(テストデータ!CA3,73,0):OFFSET(テストデータ!CE3,73,0))","v":0},{"$f":"SUM(OFFSET(テストデータ!CF3,73,0):OFFSET(テストデータ!CH3,73,0))","v":0},{"$f":"SUM(OFFSET(テストデータ!CF3,73,0):OFFSET(テストデータ!CJ3,73,0))","v":0},{"$f":"SUM(OFFSET(テストデータ!CK3,73,0):OFFSET(テストデータ!CM3,73,0))","v":0},{"$f":"SUM(OFFSET(テストデータ!CK3,73,0):OFFSET(テストデータ!CO3,73,0))","v":0},{"$f":"SUM(OFFSET(テストデータ!CP3,73,0):OFFSET(テストデータ!CR3,73,0))","v":0},{"$f":"SUM(OFFSET(テストデータ!CP3,73,0):OFFSET(テストデータ!CT3,73,0))","v":0}]
[null,null,null,null,null,null,null,null,null,null,null,null,null,{"$f":"SUM(OFFSET(テストデータ!$E3,74,9*成績表1!$B$4-9):OFFSET(テストデータ!$G3,74,9*成績表1!$B$4-9))","v":0},{"$f":"SUM(OFFSET(テストデータ!$E3,74,9*成績表1!$B$4-9):OFFSET(テストデータ!I3,74,9*成績表1!$B$4-9))","v":0},{"$f":"SUM(OFFSET(テストデータ!E3,74,0):OFFSET(テストデータ!G3,74,0))","v":0},{"$f":"SUM(OFFSET(テストデータ!E3,74,0):OFFSET(テストデータ!I3,74,0))","v":0},{"$f":"SUM(OFFSET(テストデータ!N3,74,0):OFFSET(テストデータ!P3,74,0))","v":0},{"$f":"SUM(OFFSET(テストデータ!N3,74,0):OFFSET(テストデータ!R3,74,0))","v":0},{"$f":"SUM(OFFSET(テストデータ!W3,74,0):OFFSET(テストデータ!Y3,74,0))","v":0},{"$f":"SUM(OFFSET(テストデータ!W3,74,0):OFFSET(テストデータ!AA3,74,0))","v":0},{"$f":"SUM(OFFSET(テストデータ!AF3,74,0):OFFSET(テストデータ!AH3,74,0))","v":0},{"$f":"SUM(OFFSET(テストデータ!AF3,74,0):OFFSET(テストデータ!AJ3,74,0))","v":0},{"$f":"SUM(OFFSET(テストデータ!AO3,74,0):OFFSET(テストデータ!AQ3,74,0))","v":0},{"$f":"SUM(OFFSET(テストデータ!AO3,74,0):OFFSET(テストデータ!AS3,74,0))","v":0},{"$f":"SUM(OFFSET(テストデータ!AX3,74,0):OFFSET(テストデータ!AZ3,74,0))","v":0},{"$f":"SUM(OFFSET(テストデータ!AX3,74,0):OFFSET(テストデータ!BB3,74,0))","v":0},{"$f":"SUM(OFFSET(テストデータ!BG3,74,0):OFFSET(テストデータ!BI3,74,0))","v":0},{"$f":"SUM(OFFSET(テストデータ!BG3,74,0):OFFSET(テストデータ!BK3,74,0))","v":0},{"$f":"SUM(OFFSET(テストデータ!BL3,74,0):OFFSET(テストデータ!BN3,74,0))","v":0},{"$f":"SUM(OFFSET(テストデータ!BL3,74,0):OFFSET(テストデータ!BP3,74,0))","v":0},{"$f":"SUM(OFFSET(テストデータ!BQ3,74,0):OFFSET(テストデータ!BS3,74,0))","v":0},{"$f":"SUM(OFFSET(テストデータ!BQ3,74,0):OFFSET(テストデータ!BU3,74,0))","v":0},{"$f":"SUM(OFFSET(テストデータ!BV3,74,0):OFFSET(テストデータ!BX3,74,0))","v":0},{"$f":"SUM(OFFSET(テストデータ!BV3,74,0):OFFSET(テストデータ!BZ3,74,0))","v":0},{"$f":"SUM(OFFSET(テストデータ!CA3,74,0):OFFSET(テストデータ!CC3,74,0))","v":0},{"$f":"SUM(OFFSET(テストデータ!CA3,74,0):OFFSET(テストデータ!CE3,74,0))","v":0},{"$f":"SUM(OFFSET(テストデータ!CF3,74,0):OFFSET(テストデータ!CH3,74,0))","v":0},{"$f":"SUM(OFFSET(テストデータ!CF3,74,0):OFFSET(テストデータ!CJ3,74,0))","v":0},{"$f":"SUM(OFFSET(テストデータ!CK3,74,0):OFFSET(テストデータ!CM3,74,0))","v":0},{"$f":"SUM(OFFSET(テストデータ!CK3,74,0):OFFSET(テストデータ!CO3,74,0))","v":0},{"$f":"SUM(OFFSET(テストデータ!CP3,74,0):OFFSET(テストデータ!CR3,74,0))","v":0},{"$f":"SUM(OFFSET(テストデータ!CP3,74,0):OFFSET(テストデータ!CT3,74,0))","v":0}]
[null,null,null,null,null,null,null,null,null,null,null,null,null,{"$f":"SUM(OFFSET(テストデータ!$E3,75,9*成績表1!$B$4-9):OFFSET(テストデータ!$G3,75,9*成績表1!$B$4-9))","v":0},{"$f":"SUM(OFFSET(テストデータ!$E3,75,9*成績表1!$B$4-9):OFFSET(テストデータ!I3,75,9*成績表1!$B$4-9))","v":0},{"$f":"SUM(OFFSET(テストデータ!E3,75,0):OFFSET(テストデータ!G3,75,0))","v":0},{"$f":"SUM(OFFSET(テストデータ!E3,75,0):OFFSET(テストデータ!I3,75,0))","v":0},{"$f":"SUM(OFFSET(テストデータ!N3,75,0):OFFSET(テストデータ!P3,75,0))","v":0},{"$f":"SUM(OFFSET(テストデータ!N3,75,0):OFFSET(テストデータ!R3,75,0))","v":0},{"$f":"SUM(OFFSET(テストデータ!W3,75,0):OFFSET(テストデータ!Y3,75,0))","v":0},{"$f":"SUM(OFFSET(テストデータ!W3,75,0):OFFSET(テストデータ!AA3,75,0))","v":0},{"$f":"SUM(OFFSET(テストデータ!AF3,75,0):OFFSET(テストデータ!AH3,75,0))","v":0},{"$f":"SUM(OFFSET(テストデータ!AF3,75,0):OFFSET(テストデータ!AJ3,75,0))","v":0},{"$f":"SUM(OFFSET(テストデータ!AO3,75,0):OFFSET(テストデータ!AQ3,75,0))","v":0},{"$f":"SUM(OFFSET(テストデータ!AO3,75,0):OFFSET(テストデータ!AS3,75,0))","v":0},{"$f":"SUM(OFFSET(テストデータ!AX3,75,0):OFFSET(テストデータ!AZ3,75,0))","v":0},{"$f":"SUM(OFFSET(テストデータ!AX3,75,0):OFFSET(テストデータ!BB3,75,0))","v":0},{"$f":"SUM(OFFSET(テストデータ!BG3,75,0):OFFSET(テストデータ!BI3,75,0))","v":0},{"$f":"SUM(OFFSET(テストデータ!BG3,75,0):OFFSET(テストデータ!BK3,75,0))","v":0},{"$f":"SUM(OFFSET(テストデータ!BL3,75,0):OFFSET(テストデータ!BN3,75,0))","v":0},{"$f":"SUM(OFFSET(テストデータ!BL3,75,0):OFFSET(テストデータ!BP3,75,0))","v":0},{"$f":"SUM(OFFSET(テストデータ!BQ3,75,0):OFFSET(テストデータ!BS3,75,0))","v":0},{"$f":"SUM(OFFSET(テストデータ!BQ3,75,0):OFFSET(テストデータ!BU3,75,0))","v":0},{"$f":"SUM(OFFSET(テストデータ!BV3,75,0):OFFSET(テストデータ!BX3,75,0))","v":0},{"$f":"SUM(OFFSET(テストデータ!BV3,75,0):OFFSET(テストデータ!BZ3,75,0))","v":0},{"$f":"SUM(OFFSET(テストデータ!CA3,75,0):OFFSET(テストデータ!CC3,75,0))","v":0},{"$f":"SUM(OFFSET(テストデータ!CA3,75,0):OFFSET(テストデータ!CE3,75,0))","v":0},{"$f":"SUM(OFFSET(テストデータ!CF3,75,0):OFFSET(テストデータ!CH3,75,0))","v":0},{"$f":"SUM(OFFSET(テストデータ!CF3,75,0):OFFSET(テストデータ!CJ3,75,0))","v":0},{"$f":"SUM(OFFSET(テストデータ!CK3,75,0):OFFSET(テストデータ!CM3,75,0))","v":0},{"$f":"SUM(OFFSET(テストデータ!CK3,75,0):OFFSET(テストデータ!CO3,75,0))","v":0},{"$f":"SUM(OFFSET(テストデータ!CP3,75,0):OFFSET(テストデータ!CR3,75,0))","v":0},{"$f":"SUM(OFFSET(テストデータ!CP3,75,0):OFFSET(テストデータ!CT3,75,0))","v":0}]
[null,null,null,null,null,null,null,null,null,null,null,null,null,{"$f":"SUM(OFFSET(テストデータ!$E3,76,9*成績表1!$B$4-9):OFFSET(テストデータ!$G3,76,9*成績表1!$B$4-9))","v":0},{"$f":"SUM(OFFSET(テストデータ!$E3,76,9*成績表1!$B$4-9):OFFSET(テストデータ!I3,76,9*成績表1!$B$4-9))","v":0},{"$f":"SUM(OFFSET(テストデータ!E3,76,0):OFFSET(テストデータ!G3,76,0))","v":0},{"$f":"SUM(OFFSET(テストデータ!E3,76,0):OFFSET(テストデータ!I3,76,0))","v":0},{"$f":"SUM(OFFSET(テストデータ!N3,76,0):OFFSET(テストデータ!P3,76,0))","v":0},{"$f":"SUM(OFFSET(テストデータ!N3,76,0):OFFSET(テストデータ!R3,76,0))","v":0},{"$f":"SUM(OFFSET(テストデータ!W3,76,0):OFFSET(テストデータ!Y3,76,0))","v":0},{"$f":"SUM(OFFSET(テストデータ!W3,76,0):OFFSET(テストデータ!AA3,76,0))","v":0},{"$f":"SUM(OFFSET(テストデータ!AF3,76,0):OFFSET(テストデータ!AH3,76,0))","v":0},{"$f":"SUM(OFFSET(テストデータ!AF3,76,0):OFFSET(テストデータ!AJ3,76,0))","v":0},{"$f":"SUM(OFFSET(テストデータ!AO3,76,0):OFFSET(テストデータ!AQ3,76,0))","v":0},{"$f":"SUM(OFFSET(テストデータ!AO3,76,0):OFFSET(テストデータ!AS3,76,0))","v":0},{"$f":"SUM(OFFSET(テストデータ!AX3,76,0):OFFSET(テストデータ!AZ3,76,0))","v":0},{"$f":"SUM(OFFSET(テストデータ!AX3,76,0):OFFSET(テストデータ!BB3,76,0))","v":0},{"$f":"SUM(OFFSET(テストデータ!BG3,76,0):OFFSET(テストデータ!BI3,76,0))","v":0},{"$f":"SUM(OFFSET(テストデータ!BG3,76,0):OFFSET(テストデータ!BK3,76,0))","v":0},{"$f":"SUM(OFFSET(テストデータ!BL3,76,0):OFFSET(テストデータ!BN3,76,0))","v":0},{"$f":"SUM(OFFSET(テストデータ!BL3,76,0):OFFSET(テストデータ!BP3,76,0))","v":0},{"$f":"SUM(OFFSET(テストデータ!BQ3,76,0):OFFSET(テストデータ!BS3,76,0))","v":0},{"$f":"SUM(OFFSET(テストデータ!BQ3,76,0):OFFSET(テストデータ!BU3,76,0))","v":0},{"$f":"SUM(OFFSET(テストデータ!BV3,76,0):OFFSET(テストデータ!BX3,76,0))","v":0},{"$f":"SUM(OFFSET(テストデータ!BV3,76,0):OFFSET(テストデータ!BZ3,76,0))","v":0},{"$f":"SUM(OFFSET(テストデータ!CA3,76,0):OFFSET(テストデータ!CC3,76,0))","v":0},{"$f":"SUM(OFFSET(テストデータ!CA3,76,0):OFFSET(テストデータ!CE3,76,0))","v":0},{"$f":"SUM(OFFSET(テストデータ!CF3,76,0):OFFSET(テストデータ!CH3,76,0))","v":0},{"$f":"SUM(OFFSET(テストデータ!CF3,76,0):OFFSET(テストデータ!CJ3,76,0))","v":0},{"$f":"SUM(OFFSET(テストデータ!CK3,76,0):OFFSET(テストデータ!CM3,76,0))","v":0},{"$f":"SUM(OFFSET(テストデータ!CK3,76,0):OFFSET(テストデータ!CO3,76,0))","v":0},{"$f":"SUM(OFFSET(テストデータ!CP3,76,0):OFFSET(テストデータ!CR3,76,0))","v":0},{"$f":"SUM(OFFSET(テストデータ!CP3,76,0):OFFSET(テストデータ!CT3,76,0))","v":0}]
[null,null,null,null,null,null,null,null,null,null,null,null,null,{"$f":"SUM(OFFSET(テストデータ!$E3,77,9*成績表1!$B$4-9):OFFSET(テストデータ!$G3,77,9*成績表1!$B$4-9))","v":0},{"$f":"SUM(OFFSET(テストデータ!$E3,77,9*成績表1!$B$4-9):OFFSET(テストデータ!I3,77,9*成績表1!$B$4-9))","v":0},{"$f":"SUM(OFFSET(テストデータ!E3,77,0):OFFSET(テストデータ!G3,77,0))","v":0},{"$f":"SUM(OFFSET(テストデータ!E3,77,0):OFFSET(テストデータ!I3,77,0))","v":0},{"$f":"SUM(OFFSET(テストデータ!N3,77,0):OFFSET(テストデータ!P3,77,0))","v":0},{"$f":"SUM(OFFSET(テストデータ!N3,77,0):OFFSET(テストデータ!R3,77,0))","v":0},{"$f":"SUM(OFFSET(テストデータ!W3,77,0):OFFSET(テストデータ!Y3,77,0))","v":0},{"$f":"SUM(OFFSET(テストデータ!W3,77,0):OFFSET(テストデータ!AA3,77,0))","v":0},{"$f":"SUM(OFFSET(テストデータ!AF3,77,0):OFFSET(テストデータ!AH3,77,0))","v":0},{"$f":"SUM(OFFSET(テストデータ!AF3,77,0):OFFSET(テストデータ!AJ3,77,0))","v":0},{"$f":"SUM(OFFSET(テストデータ!AO3,77,0):OFFSET(テストデータ!AQ3,77,0))","v":0},{"$f":"SUM(OFFSET(テストデータ!AO3,77,0):OFFSET(テストデータ!AS3,77,0))","v":0},{"$f":"SUM(OFFSET(テストデータ!AX3,77,0):OFFSET(テストデータ!AZ3,77,0))","v":0},{"$f":"SUM(OFFSET(テストデータ!AX3,77,0):OFFSET(テストデータ!BB3,77,0))","v":0},{"$f":"SUM(OFFSET(テストデータ!BG3,77,0):OFFSET(テストデータ!BI3,77,0))","v":0},{"$f":"SUM(OFFSET(テストデータ!BG3,77,0):OFFSET(テストデータ!BK3,77,0))","v":0},{"$f":"SUM(OFFSET(テストデータ!BL3,77,0):OFFSET(テストデータ!BN3,77,0))","v":0},{"$f":"SUM(OFFSET(テストデータ!BL3,77,0):OFFSET(テストデータ!BP3,77,0))","v":0},{"$f":"SUM(OFFSET(テストデータ!BQ3,77,0):OFFSET(テストデータ!BS3,77,0))","v":0},{"$f":"SUM(OFFSET(テストデータ!BQ3,77,0):OFFSET(テストデータ!BU3,77,0))","v":0},{"$f":"SUM(OFFSET(テストデータ!BV3,77,0):OFFSET(テストデータ!BX3,77,0))","v":0},{"$f":"SUM(OFFSET(テストデータ!BV3,77,0):OFFSET(テストデータ!BZ3,77,0))","v":0},{"$f":"SUM(OFFSET(テストデータ!CA3,77,0):OFFSET(テストデータ!CC3,77,0))","v":0},{"$f":"SUM(OFFSET(テストデータ!CA3,77,0):OFFSET(テストデータ!CE3,77,0))","v":0},{"$f":"SUM(OFFSET(テストデータ!CF3,77,0):OFFSET(テストデータ!CH3,77,0))","v":0},{"$f":"SUM(OFFSET(テストデータ!CF3,77,0):OFFSET(テストデータ!CJ3,77,0))","v":0},{"$f":"SUM(OFFSET(テストデータ!CK3,77,0):OFFSET(テストデータ!CM3,77,0))","v":0},{"$f":"SUM(OFFSET(テストデータ!CK3,77,0):OFFSET(テストデータ!CO3,77,0))","v":0},{"$f":"SUM(OFFSET(テストデータ!CP3,77,0):OFFSET(テストデータ!CR3,77,0))","v":0},{"$f":"SUM(OFFSET(テストデータ!CP3,77,0):OFFSET(テストデータ!CT3,77,0))","v":0}]
[null,null,null,null,null,null,null,null,null,null,null,null,null,{"$f":"SUM(OFFSET(テストデータ!$E3,78,9*成績表1!$B$4-9):OFFSET(テストデータ!$G3,78,9*成績表1!$B$4-9))","v":0},{"$f":"SUM(OFFSET(テストデータ!$E3,78,9*成績表1!$B$4-9):OFFSET(テストデータ!I3,78,9*成績表1!$B$4-9))","v":0},{"$f":"SUM(OFFSET(テストデータ!E3,78,0):OFFSET(テストデータ!G3,78,0))","v":0},{"$f":"SUM(OFFSET(テストデータ!E3,78,0):OFFSET(テストデータ!I3,78,0))","v":0},{"$f":"SUM(OFFSET(テストデータ!N3,78,0):OFFSET(テストデータ!P3,78,0))","v":0},{"$f":"SUM(OFFSET(テストデータ!N3,78,0):OFFSET(テストデータ!R3,78,0))","v":0},{"$f":"SUM(OFFSET(テストデータ!W3,78,0):OFFSET(テストデータ!Y3,78,0))","v":0},{"$f":"SUM(OFFSET(テストデータ!W3,78,0):OFFSET(テストデータ!AA3,78,0))","v":0},{"$f":"SUM(OFFSET(テストデータ!AF3,78,0):OFFSET(テストデータ!AH3,78,0))","v":0},{"$f":"SUM(OFFSET(テストデータ!AF3,78,0):OFFSET(テストデータ!AJ3,78,0))","v":0},{"$f":"SUM(OFFSET(テストデータ!AO3,78,0):OFFSET(テストデータ!AQ3,78,0))","v":0},{"$f":"SUM(OFFSET(テストデータ!AO3,78,0):OFFSET(テストデータ!AS3,78,0))","v":0},{"$f":"SUM(OFFSET(テストデータ!AX3,78,0):OFFSET(テストデータ!AZ3,78,0))","v":0},{"$f":"SUM(OFFSET(テストデータ!AX3,78,0):OFFSET(テストデータ!BB3,78,0))","v":0},{"$f":"SUM(OFFSET(テストデータ!BG3,78,0):OFFSET(テストデータ!BI3,78,0))","v":0},{"$f":"SUM(OFFSET(テストデータ!BG3,78,0):OFFSET(テストデータ!BK3,78,0))","v":0},{"$f":"SUM(OFFSET(テストデータ!BL3,78,0):OFFSET(テストデータ!BN3,78,0))","v":0},{"$f":"SUM(OFFSET(テストデータ!BL3,78,0):OFFSET(テストデータ!BP3,78,0))","v":0},{"$f":"SUM(OFFSET(テストデータ!BQ3,78,0):OFFSET(テストデータ!BS3,78,0))","v":0},{"$f":"SUM(OFFSET(テストデータ!BQ3,78,0):OFFSET(テストデータ!BU3,78,0))","v":0},{"$f":"SUM(OFFSET(テストデータ!BV3,78,0):OFFSET(テストデータ!BX3,78,0))","v":0},{"$f":"SUM(OFFSET(テストデータ!BV3,78,0):OFFSET(テストデータ!BZ3,78,0))","v":0},{"$f":"SUM(OFFSET(テストデータ!CA3,78,0):OFFSET(テストデータ!CC3,78,0))","v":0},{"$f":"SUM(OFFSET(テストデータ!CA3,78,0):OFFSET(テストデータ!CE3,78,0))","v":0},{"$f":"SUM(OFFSET(テストデータ!CF3,78,0):OFFSET(テストデータ!CH3,78,0))","v":0},{"$f":"SUM(OFFSET(テストデータ!CF3,78,0):OFFSET(テストデータ!CJ3,78,0))","v":0},{"$f":"SUM(OFFSET(テストデータ!CK3,78,0):OFFSET(テストデータ!CM3,78,0))","v":0},{"$f":"SUM(OFFSET(テストデータ!CK3,78,0):OFFSET(テストデータ!CO3,78,0))","v":0},{"$f":"SUM(OFFSET(テストデータ!CP3,78,0):OFFSET(テストデータ!CR3,78,0))","v":0},{"$f":"SUM(OFFSET(テストデータ!CP3,78,0):OFFSET(テストデータ!CT3,78,0))","v":0}]
[null,null,null,null,null,null,null,null,null,null,null,null,null,{"$f":"SUM(OFFSET(テストデータ!$E3,79,9*成績表1!$B$4-9):OFFSET(テストデータ!$G3,79,9*成績表1!$B$4-9))","v":0},{"$f":"SUM(OFFSET(テストデータ!$E3,79,9*成績表1!$B$4-9):OFFSET(テストデータ!I3,79,9*成績表1!$B$4-9))","v":0},{"$f":"SUM(OFFSET(テストデータ!E3,79,0):OFFSET(テストデータ!G3,79,0))","v":0},{"$f":"SUM(OFFSET(テストデータ!E3,79,0):OFFSET(テストデータ!I3,79,0))","v":0},{"$f":"SUM(OFFSET(テストデータ!N3,79,0):OFFSET(テストデータ!P3,79,0))","v":0},{"$f":"SUM(OFFSET(テストデータ!N3,79,0):OFFSET(テストデータ!R3,79,0))","v":0},{"$f":"SUM(OFFSET(テストデータ!W3,79,0):OFFSET(テストデータ!Y3,79,0))","v":0},{"$f":"SUM(OFFSET(テストデータ!W3,79,0):OFFSET(テストデータ!AA3,79,0))","v":0},{"$f":"SUM(OFFSET(テストデータ!AF3,79,0):OFFSET(テストデータ!AH3,79,0))","v":0},{"$f":"SUM(OFFSET(テストデータ!AF3,79,0):OFFSET(テストデータ!AJ3,79,0))","v":0},{"$f":"SUM(OFFSET(テストデータ!AO3,79,0):OFFSET(テストデータ!AQ3,79,0))","v":0},{"$f":"SUM(OFFSET(テストデータ!AO3,79,0):OFFSET(テストデータ!AS3,79,0))","v":0},{"$f":"SUM(OFFSET(テストデータ!AX3,79,0):OFFSET(テストデータ!AZ3,79,0))","v":0},{"$f":"SUM(OFFSET(テストデータ!AX3,79,0):OFFSET(テストデータ!BB3,79,0))","v":0},{"$f":"SUM(OFFSET(テストデータ!BG3,79,0):OFFSET(テストデータ!BI3,79,0))","v":0},{"$f":"SUM(OFFSET(テストデータ!BG3,79,0):OFFSET(テストデータ!BK3,79,0))","v":0},{"$f":"SUM(OFFSET(テストデータ!BL3,79,0):OFFSET(テストデータ!BN3,79,0))","v":0},{"$f":"SUM(OFFSET(テストデータ!BL3,79,0):OFFSET(テストデータ!BP3,79,0))","v":0},{"$f":"SUM(OFFSET(テストデータ!BQ3,79,0):OFFSET(テストデータ!BS3,79,0))","v":0},{"$f":"SUM(OFFSET(テストデータ!BQ3,79,0):OFFSET(テストデータ!BU3,79,0))","v":0},{"$f":"SUM(OFFSET(テストデータ!BV3,79,0):OFFSET(テストデータ!BX3,79,0))","v":0},{"$f":"SUM(OFFSET(テストデータ!BV3,79,0):OFFSET(テストデータ!BZ3,79,0))","v":0},{"$f":"SUM(OFFSET(テストデータ!CA3,79,0):OFFSET(テストデータ!CC3,79,0))","v":0},{"$f":"SUM(OFFSET(テストデータ!CA3,79,0):OFFSET(テストデータ!CE3,79,0))","v":0},{"$f":"SUM(OFFSET(テストデータ!CF3,79,0):OFFSET(テストデータ!CH3,79,0))","v":0},{"$f":"SUM(OFFSET(テストデータ!CF3,79,0):OFFSET(テストデータ!CJ3,79,0))","v":0},{"$f":"SUM(OFFSET(テストデータ!CK3,79,0):OFFSET(テストデータ!CM3,79,0))","v":0},{"$f":"SUM(OFFSET(テストデータ!CK3,79,0):OFFSET(テストデータ!CO3,79,0))","v":0},{"$f":"SUM(OFFSET(テストデータ!CP3,79,0):OFFSET(テストデータ!CR3,79,0))","v":0},{"$f":"SUM(OFFSET(テストデータ!CP3,79,0):OFFSET(テストデータ!CT3,79,0))","v":0}]
[null,null,null,null,null,null,null,null,null,null,null,null,null,{"$f":"SUM(OFFSET(テストデータ!$E3,80,9*成績表1!$B$4-9):OFFSET(テストデータ!$G3,80,9*成績表1!$B$4-9))","v":0},{"$f":"SUM(OFFSET(テストデータ!$E3,80,9*成績表1!$B$4-9):OFFSET(テストデータ!I3,80,9*成績表1!$B$4-9))","v":0},{"$f":"SUM(OFFSET(テストデータ!E3,80,0):OFFSET(テストデータ!G3,80,0))","v":0},{"$f":"SUM(OFFSET(テストデータ!E3,80,0):OFFSET(テストデータ!I3,80,0))","v":0},{"$f":"SUM(OFFSET(テストデータ!N3,80,0):OFFSET(テストデータ!P3,80,0))","v":0},{"$f":"SUM(OFFSET(テストデータ!N3,80,0):OFFSET(テストデータ!R3,80,0))","v":0},{"$f":"SUM(OFFSET(テストデータ!W3,80,0):OFFSET(テストデータ!Y3,80,0))","v":0},{"$f":"SUM(OFFSET(テストデータ!W3,80,0):OFFSET(テストデータ!AA3,80,0))","v":0},{"$f":"SUM(OFFSET(テストデータ!AF3,80,0):OFFSET(テストデータ!AH3,80,0))","v":0},{"$f":"SUM(OFFSET(テストデータ!AF3,80,0):OFFSET(テストデータ!AJ3,80,0))","v":0},{"$f":"SUM(OFFSET(テストデータ!AO3,80,0):OFFSET(テストデータ!AQ3,80,0))","v":0},{"$f":"SUM(OFFSET(テストデータ!AO3,80,0):OFFSET(テストデータ!AS3,80,0))","v":0},{"$f":"SUM(OFFSET(テストデータ!AX3,80,0):OFFSET(テストデータ!AZ3,80,0))","v":0},{"$f":"SUM(OFFSET(テストデータ!AX3,80,0):OFFSET(テストデータ!BB3,80,0))","v":0},{"$f":"SUM(OFFSET(テストデータ!BG3,80,0):OFFSET(テストデータ!BI3,80,0))","v":0},{"$f":"SUM(OFFSET(テストデータ!BG3,80,0):OFFSET(テストデータ!BK3,80,0))","v":0},{"$f":"SUM(OFFSET(テストデータ!BL3,80,0):OFFSET(テストデータ!BN3,80,0))","v":0},{"$f":"SUM(OFFSET(テストデータ!BL3,80,0):OFFSET(テストデータ!BP3,80,0))","v":0},{"$f":"SUM(OFFSET(テストデータ!BQ3,80,0):OFFSET(テストデータ!BS3,80,0))","v":0},{"$f":"SUM(OFFSET(テストデータ!BQ3,80,0):OFFSET(テストデータ!BU3,80,0))","v":0},{"$f":"SUM(OFFSET(テストデータ!BV3,80,0):OFFSET(テストデータ!BX3,80,0))","v":0},{"$f":"SUM(OFFSET(テストデータ!BV3,80,0):OFFSET(テストデータ!BZ3,80,0))","v":0},{"$f":"SUM(OFFSET(テストデータ!CA3,80,0):OFFSET(テストデータ!CC3,80,0))","v":0},{"$f":"SUM(OFFSET(テストデータ!CA3,80,0):OFFSET(テストデータ!CE3,80,0))","v":0},{"$f":"SUM(OFFSET(テストデータ!CF3,80,0):OFFSET(テストデータ!CH3,80,0))","v":0},{"$f":"SUM(OFFSET(テストデータ!CF3,80,0):OFFSET(テストデータ!CJ3,80,0))","v":0},{"$f":"SUM(OFFSET(テストデータ!CK3,80,0):OFFSET(テストデータ!CM3,80,0))","v":0},{"$f":"SUM(OFFSET(テストデータ!CK3,80,0):OFFSET(テストデータ!CO3,80,0))","v":0},{"$f":"SUM(OFFSET(テストデータ!CP3,80,0):OFFSET(テストデータ!CR3,80,0))","v":0},{"$f":"SUM(OFFSET(テストデータ!CP3,80,0):OFFSET(テストデータ!CT3,80,0))","v":0}]
[null,null,null,null,null,null,null,null,null,null,null,null,null,{"$f":"SUM(OFFSET(テストデータ!$E3,81,9*成績表1!$B$4-9):OFFSET(テストデータ!$G3,81,9*成績表1!$B$4-9))","v":0},{"$f":"SUM(OFFSET(テストデータ!$E3,81,9*成績表1!$B$4-9):OFFSET(テストデータ!I3,81,9*成績表1!$B$4-9))","v":0},{"$f":"SUM(OFFSET(テストデータ!E3,81,0):OFFSET(テストデータ!G3,81,0))","v":0},{"$f":"SUM(OFFSET(テストデータ!E3,81,0):OFFSET(テストデータ!I3,81,0))","v":0},{"$f":"SUM(OFFSET(テストデータ!N3,81,0):OFFSET(テストデータ!P3,81,0))","v":0},{"$f":"SUM(OFFSET(テストデータ!N3,81,0):OFFSET(テストデータ!R3,81,0))","v":0},{"$f":"SUM(OFFSET(テストデータ!W3,81,0):OFFSET(テストデータ!Y3,81,0))","v":0},{"$f":"SUM(OFFSET(テストデータ!W3,81,0):OFFSET(テストデータ!AA3,81,0))","v":0},{"$f":"SUM(OFFSET(テストデータ!AF3,81,0):OFFSET(テストデータ!AH3,81,0))","v":0},{"$f":"SUM(OFFSET(テストデータ!AF3,81,0):OFFSET(テストデータ!AJ3,81,0))","v":0},{"$f":"SUM(OFFSET(テストデータ!AO3,81,0):OFFSET(テストデータ!AQ3,81,0))","v":0},{"$f":"SUM(OFFSET(テストデータ!AO3,81,0):OFFSET(テストデータ!AS3,81,0))","v":0},{"$f":"SUM(OFFSET(テストデータ!AX3,81,0):OFFSET(テストデータ!AZ3,81,0))","v":0},{"$f":"SUM(OFFSET(テストデータ!AX3,81,0):OFFSET(テストデータ!BB3,81,0))","v":0},{"$f":"SUM(OFFSET(テストデータ!BG3,81,0):OFFSET(テストデータ!BI3,81,0))","v":0},{"$f":"SUM(OFFSET(テストデータ!BG3,81,0):OFFSET(テストデータ!BK3,81,0))","v":0},{"$f":"SUM(OFFSET(テストデータ!BL3,81,0):OFFSET(テストデータ!BN3,81,0))","v":0},{"$f":"SUM(OFFSET(テストデータ!BL3,81,0):OFFSET(テストデータ!BP3,81,0))","v":0},{"$f":"SUM(OFFSET(テストデータ!BQ3,81,0):OFFSET(テストデータ!BS3,81,0))","v":0},{"$f":"SUM(OFFSET(テストデータ!BQ3,81,0):OFFSET(テストデータ!BU3,81,0))","v":0},{"$f":"SUM(OFFSET(テストデータ!BV3,81,0):OFFSET(テストデータ!BX3,81,0))","v":0},{"$f":"SUM(OFFSET(テストデータ!BV3,81,0):OFFSET(テストデータ!BZ3,81,0))","v":0},{"$f":"SUM(OFFSET(テストデータ!CA3,81,0):OFFSET(テストデータ!CC3,81,0))","v":0},{"$f":"SUM(OFFSET(テストデータ!CA3,81,0):OFFSET(テストデータ!CE3,81,0))","v":0},{"$f":"SUM(OFFSET(テストデータ!CF3,81,0):OFFSET(テストデータ!CH3,81,0))","v":0},{"$f":"SUM(OFFSET(テストデータ!CF3,81,0):OFFSET(テストデータ!CJ3,81,0))","v":0},{"$f":"SUM(OFFSET(テストデータ!CK3,81,0):OFFSET(テストデータ!CM3,81,0))","v":0},{"$f":"SUM(OFFSET(テストデータ!CK3,81,0):OFFSET(テストデータ!CO3,81,0))","v":0},{"$f":"SUM(OFFSET(テストデータ!CP3,81,0):OFFSET(テストデータ!CR3,81,0))","v":0},{"$f":"SUM(OFFSET(テストデータ!CP3,81,0):OFFSET(テストデータ!CT3,81,0))","v":0}]
[null,null,null,null,null,null,null,null,null,null,null,null,null,{"$f":"SUM(OFFSET(テストデータ!$E3,82,9*成績表1!$B$4-9):OFFSET(テストデータ!$G3,82,9*成績表1!$B$4-9))","v":0},{"$f":"SUM(OFFSET(テストデータ!$E3,82,9*成績表1!$B$4-9):OFFSET(テストデータ!I3,82,9*成績表1!$B$4-9))","v":0},{"$f":"SUM(OFFSET(テストデータ!E3,82,0):OFFSET(テストデータ!G3,82,0))","v":0},{"$f":"SUM(OFFSET(テストデータ!E3,82,0):OFFSET(テストデータ!I3,82,0))","v":0},{"$f":"SUM(OFFSET(テストデータ!N3,82,0):OFFSET(テストデータ!P3,82,0))","v":0},{"$f":"SUM(OFFSET(テストデータ!N3,82,0):OFFSET(テストデータ!R3,82,0))","v":0},{"$f":"SUM(OFFSET(テストデータ!W3,82,0):OFFSET(テストデータ!Y3,82,0))","v":0},{"$f":"SUM(OFFSET(テストデータ!W3,82,0):OFFSET(テストデータ!AA3,82,0))","v":0},{"$f":"SUM(OFFSET(テストデータ!AF3,82,0):OFFSET(テストデータ!AH3,82,0))","v":0},{"$f":"SUM(OFFSET(テストデータ!AF3,82,0):OFFSET(テストデータ!AJ3,82,0))","v":0},{"$f":"SUM(OFFSET(テストデータ!AO3,82,0):OFFSET(テストデータ!AQ3,82,0))","v":0},{"$f":"SUM(OFFSET(テストデータ!AO3,82,0):OFFSET(テストデータ!AS3,82,0))","v":0},{"$f":"SUM(OFFSET(テストデータ!AX3,82,0):OFFSET(テストデータ!AZ3,82,0))","v":0},{"$f":"SUM(OFFSET(テストデータ!AX3,82,0):OFFSET(テストデータ!BB3,82,0))","v":0},{"$f":"SUM(OFFSET(テストデータ!BG3,82,0):OFFSET(テストデータ!BI3,82,0))","v":0},{"$f":"SUM(OFFSET(テストデータ!BG3,82,0):OFFSET(テストデータ!BK3,82,0))","v":0},{"$f":"SUM(OFFSET(テストデータ!BL3,82,0):OFFSET(テストデータ!BN3,82,0))","v":0},{"$f":"SUM(OFFSET(テストデータ!BL3,82,0):OFFSET(テストデータ!BP3,82,0))","v":0},{"$f":"SUM(OFFSET(テストデータ!BQ3,82,0):OFFSET(テストデータ!BS3,82,0))","v":0},{"$f":"SUM(OFFSET(テストデータ!BQ3,82,0):OFFSET(テストデータ!BU3,82,0))","v":0},{"$f":"SUM(OFFSET(テストデータ!BV3,82,0):OFFSET(テストデータ!BX3,82,0))","v":0},{"$f":"SUM(OFFSET(テストデータ!BV3,82,0):OFFSET(テストデータ!BZ3,82,0))","v":0},{"$f":"SUM(OFFSET(テストデータ!CA3,82,0):OFFSET(テストデータ!CC3,82,0))","v":0},{"$f":"SUM(OFFSET(テストデータ!CA3,82,0):OFFSET(テストデータ!CE3,82,0))","v":0},{"$f":"SUM(OFFSET(テストデータ!CF3,82,0):OFFSET(テストデータ!CH3,82,0))","v":0},{"$f":"SUM(OFFSET(テストデータ!CF3,82,0):OFFSET(テストデータ!CJ3,82,0))","v":0},{"$f":"SUM(OFFSET(テストデータ!CK3,82,0):OFFSET(テストデータ!CM3,82,0))","v":0},{"$f":"SUM(OFFSET(テストデータ!CK3,82,0):OFFSET(テストデータ!CO3,82,0))","v":0},{"$f":"SUM(OFFSET(テストデータ!CP3,82,0):OFFSET(テストデータ!CR3,82,0))","v":0},{"$f":"SUM(OFFSET(テストデータ!CP3,82,0):OFFSET(テストデータ!CT3,82,0))","v":0}]
[null,null,null,null,null,null,null,null,null,null,null,null,null,{"$f":"SUM(OFFSET(テストデータ!$E3,83,9*成績表1!$B$4-9):OFFSET(テストデータ!$G3,83,9*成績表1!$B$4-9))","v":0},{"$f":"SUM(OFFSET(テストデータ!$E3,83,9*成績表1!$B$4-9):OFFSET(テストデータ!I3,83,9*成績表1!$B$4-9))","v":0},{"$f":"SUM(OFFSET(テストデータ!E3,83,0):OFFSET(テストデータ!G3,83,0))","v":0},{"$f":"SUM(OFFSET(テストデータ!E3,83,0):OFFSET(テストデータ!I3,83,0))","v":0},{"$f":"SUM(OFFSET(テストデータ!N3,83,0):OFFSET(テストデータ!P3,83,0))","v":0},{"$f":"SUM(OFFSET(テストデータ!N3,83,0):OFFSET(テストデータ!R3,83,0))","v":0},{"$f":"SUM(OFFSET(テストデータ!W3,83,0):OFFSET(テストデータ!Y3,83,0))","v":0},{"$f":"SUM(OFFSET(テストデータ!W3,83,0):OFFSET(テストデータ!AA3,83,0))","v":0},{"$f":"SUM(OFFSET(テストデータ!AF3,83,0):OFFSET(テストデータ!AH3,83,0))","v":0},{"$f":"SUM(OFFSET(テストデータ!AF3,83,0):OFFSET(テストデータ!AJ3,83,0))","v":0},{"$f":"SUM(OFFSET(テストデータ!AO3,83,0):OFFSET(テストデータ!AQ3,83,0))","v":0},{"$f":"SUM(OFFSET(テストデータ!AO3,83,0):OFFSET(テストデータ!AS3,83,0))","v":0},{"$f":"SUM(OFFSET(テストデータ!AX3,83,0):OFFSET(テストデータ!AZ3,83,0))","v":0},{"$f":"SUM(OFFSET(テストデータ!AX3,83,0):OFFSET(テストデータ!BB3,83,0))","v":0},{"$f":"SUM(OFFSET(テストデータ!BG3,83,0):OFFSET(テストデータ!BI3,83,0))","v":0},{"$f":"SUM(OFFSET(テストデータ!BG3,83,0):OFFSET(テストデータ!BK3,83,0))","v":0},{"$f":"SUM(OFFSET(テストデータ!BL3,83,0):OFFSET(テストデータ!BN3,83,0))","v":0},{"$f":"SUM(OFFSET(テストデータ!BL3,83,0):OFFSET(テストデータ!BP3,83,0))","v":0},{"$f":"SUM(OFFSET(テストデータ!BQ3,83,0):OFFSET(テストデータ!BS3,83,0))","v":0},{"$f":"SUM(OFFSET(テストデータ!BQ3,83,0):OFFSET(テストデータ!BU3,83,0))","v":0},{"$f":"SUM(OFFSET(テストデータ!BV3,83,0):OFFSET(テストデータ!BX3,83,0))","v":0},{"$f":"SUM(OFFSET(テストデータ!BV3,83,0):OFFSET(テストデータ!BZ3,83,0))","v":0},{"$f":"SUM(OFFSET(テストデータ!CA3,83,0):OFFSET(テストデータ!CC3,83,0))","v":0},{"$f":"SUM(OFFSET(テストデータ!CA3,83,0):OFFSET(テストデータ!CE3,83,0))","v":0},{"$f":"SUM(OFFSET(テストデータ!CF3,83,0):OFFSET(テストデータ!CH3,83,0))","v":0},{"$f":"SUM(OFFSET(テストデータ!CF3,83,0):OFFSET(テストデータ!CJ3,83,0))","v":0},{"$f":"SUM(OFFSET(テストデータ!CK3,83,0):OFFSET(テストデータ!CM3,83,0))","v":0},{"$f":"SUM(OFFSET(テストデータ!CK3,83,0):OFFSET(テストデータ!CO3,83,0))","v":0},{"$f":"SUM(OFFSET(テストデータ!CP3,83,0):OFFSET(テストデータ!CR3,83,0))","v":0},{"$f":"SUM(OFFSET(テストデータ!CP3,83,0):OFFSET(テストデータ!CT3,83,0))","v":0}]
[null,null,null,null,null,null,null,null,null,null,null,null,null,{"$f":"SUM(OFFSET(テストデータ!$E3,84,9*成績表1!$B$4-9):OFFSET(テストデータ!$G3,84,9*成績表1!$B$4-9))","v":0},{"$f":"SUM(OFFSET(テストデータ!$E3,84,9*成績表1!$B$4-9):OFFSET(テストデータ!I3,84,9*成績表1!$B$4-9))","v":0},{"$f":"SUM(OFFSET(テストデータ!E3,84,0):OFFSET(テストデータ!G3,84,0))","v":0},{"$f":"SUM(OFFSET(テストデータ!E3,84,0):OFFSET(テストデータ!I3,84,0))","v":0},{"$f":"SUM(OFFSET(テストデータ!N3,84,0):OFFSET(テストデータ!P3,84,0))","v":0},{"$f":"SUM(OFFSET(テストデータ!N3,84,0):OFFSET(テストデータ!R3,84,0))","v":0},{"$f":"SUM(OFFSET(テストデータ!W3,84,0):OFFSET(テストデータ!Y3,84,0))","v":0},{"$f":"SUM(OFFSET(テストデータ!W3,84,0):OFFSET(テストデータ!AA3,84,0))","v":0},{"$f":"SUM(OFFSET(テストデータ!AF3,84,0):OFFSET(テストデータ!AH3,84,0))","v":0},{"$f":"SUM(OFFSET(テストデータ!AF3,84,0):OFFSET(テストデータ!AJ3,84,0))","v":0},{"$f":"SUM(OFFSET(テストデータ!AO3,84,0):OFFSET(テストデータ!AQ3,84,0))","v":0},{"$f":"SUM(OFFSET(テストデータ!AO3,84,0):OFFSET(テストデータ!AS3,84,0))","v":0},{"$f":"SUM(OFFSET(テストデータ!AX3,84,0):OFFSET(テストデータ!AZ3,84,0))","v":0},{"$f":"SUM(OFFSET(テストデータ!AX3,84,0):OFFSET(テストデータ!BB3,84,0))","v":0},{"$f":"SUM(OFFSET(テストデータ!BG3,84,0):OFFSET(テストデータ!BI3,84,0))","v":0},{"$f":"SUM(OFFSET(テストデータ!BG3,84,0):OFFSET(テストデータ!BK3,84,0))","v":0},{"$f":"SUM(OFFSET(テストデータ!BL3,84,0):OFFSET(テストデータ!BN3,84,0))","v":0},{"$f":"SUM(OFFSET(テストデータ!BL3,84,0):OFFSET(テストデータ!BP3,84,0))","v":0},{"$f":"SUM(OFFSET(テストデータ!BQ3,84,0):OFFSET(テストデータ!BS3,84,0))","v":0},{"$f":"SUM(OFFSET(テストデータ!BQ3,84,0):OFFSET(テストデータ!BU3,84,0))","v":0},{"$f":"SUM(OFFSET(テストデータ!BV3,84,0):OFFSET(テストデータ!BX3,84,0))","v":0},{"$f":"SUM(OFFSET(テストデータ!BV3,84,0):OFFSET(テストデータ!BZ3,84,0))","v":0},{"$f":"SUM(OFFSET(テストデータ!CA3,84,0):OFFSET(テストデータ!CC3,84,0))","v":0},{"$f":"SUM(OFFSET(テストデータ!CA3,84,0):OFFSET(テストデータ!CE3,84,0))","v":0},{"$f":"SUM(OFFSET(テストデータ!CF3,84,0):OFFSET(テストデータ!CH3,84,0))","v":0},{"$f":"SUM(OFFSET(テストデータ!CF3,84,0):OFFSET(テストデータ!CJ3,84,0))","v":0},{"$f":"SUM(OFFSET(テストデータ!CK3,84,0):OFFSET(テストデータ!CM3,84,0))","v":0},{"$f":"SUM(OFFSET(テストデータ!CK3,84,0):OFFSET(テストデータ!CO3,84,0))","v":0},{"$f":"SUM(OFFSET(テストデータ!CP3,84,0):OFFSET(テストデータ!CR3,84,0))","v":0},{"$f":"SUM(OFFSET(テストデータ!CP3,84,0):OFFSET(テストデータ!CT3,84,0))","v":0}]
[null,null,null,null,null,null,null,null,null,null,null,null,null,{"$f":"SUM(OFFSET(テストデータ!$E3,85,9*成績表1!$B$4-9):OFFSET(テストデータ!$G3,85,9*成績表1!$B$4-9))","v":0},{"$f":"SUM(OFFSET(テストデータ!$E3,85,9*成績表1!$B$4-9):OFFSET(テストデータ!I3,85,9*成績表1!$B$4-9))","v":0},{"$f":"SUM(OFFSET(テストデータ!E3,85,0):OFFSET(テストデータ!G3,85,0))","v":0},{"$f":"SUM(OFFSET(テストデータ!E3,85,0):OFFSET(テストデータ!I3,85,0))","v":0},{"$f":"SUM(OFFSET(テストデータ!N3,85,0):OFFSET(テストデータ!P3,85,0))","v":0},{"$f":"SUM(OFFSET(テストデータ!N3,85,0):OFFSET(テストデータ!R3,85,0))","v":0},{"$f":"SUM(OFFSET(テストデータ!W3,85,0):OFFSET(テストデータ!Y3,85,0))","v":0},{"$f":"SUM(OFFSET(テストデータ!W3,85,0):OFFSET(テストデータ!AA3,85,0))","v":0},{"$f":"SUM(OFFSET(テストデータ!AF3,85,0):OFFSET(テストデータ!AH3,85,0))","v":0},{"$f":"SUM(OFFSET(テストデータ!AF3,85,0):OFFSET(テストデータ!AJ3,85,0))","v":0},{"$f":"SUM(OFFSET(テストデータ!AO3,85,0):OFFSET(テストデータ!AQ3,85,0))","v":0},{"$f":"SUM(OFFSET(テストデータ!AO3,85,0):OFFSET(テストデータ!AS3,85,0))","v":0},{"$f":"SUM(OFFSET(テストデータ!AX3,85,0):OFFSET(テストデータ!AZ3,85,0))","v":0},{"$f":"SUM(OFFSET(テストデータ!AX3,85,0):OFFSET(テストデータ!BB3,85,0))","v":0},{"$f":"SUM(OFFSET(テストデータ!BG3,85,0):OFFSET(テストデータ!BI3,85,0))","v":0},{"$f":"SUM(OFFSET(テストデータ!BG3,85,0):OFFSET(テストデータ!BK3,85,0))","v":0},{"$f":"SUM(OFFSET(テストデータ!BL3,85,0):OFFSET(テストデータ!BN3,85,0))","v":0},{"$f":"SUM(OFFSET(テストデータ!BL3,85,0):OFFSET(テストデータ!BP3,85,0))","v":0},{"$f":"SUM(OFFSET(テストデータ!BQ3,85,0):OFFSET(テストデータ!BS3,85,0))","v":0},{"$f":"SUM(OFFSET(テストデータ!BQ3,85,0):OFFSET(テストデータ!BU3,85,0))","v":0},{"$f":"SUM(OFFSET(テストデータ!BV3,85,0):OFFSET(テストデータ!BX3,85,0))","v":0},{"$f":"SUM(OFFSET(テストデータ!BV3,85,0):OFFSET(テストデータ!BZ3,85,0))","v":0},{"$f":"SUM(OFFSET(テストデータ!CA3,85,0):OFFSET(テストデータ!CC3,85,0))","v":0},{"$f":"SUM(OFFSET(テストデータ!CA3,85,0):OFFSET(テストデータ!CE3,85,0))","v":0},{"$f":"SUM(OFFSET(テストデータ!CF3,85,0):OFFSET(テストデータ!CH3,85,0))","v":0},{"$f":"SUM(OFFSET(テストデータ!CF3,85,0):OFFSET(テストデータ!CJ3,85,0))","v":0},{"$f":"SUM(OFFSET(テストデータ!CK3,85,0):OFFSET(テストデータ!CM3,85,0))","v":0},{"$f":"SUM(OFFSET(テストデータ!CK3,85,0):OFFSET(テストデータ!CO3,85,0))","v":0},{"$f":"SUM(OFFSET(テストデータ!CP3,85,0):OFFSET(テストデータ!CR3,85,0))","v":0},{"$f":"SUM(OFFSET(テストデータ!CP3,85,0):OFFSET(テストデータ!CT3,85,0))","v":0}]
[null,null,null,null,null,null,null,null,null,null,null,null,null,{"$f":"SUM(OFFSET(テストデータ!$E3,86,9*成績表1!$B$4-9):OFFSET(テストデータ!$G3,86,9*成績表1!$B$4-9))","v":0},{"$f":"SUM(OFFSET(テストデータ!$E3,86,9*成績表1!$B$4-9):OFFSET(テストデータ!I3,86,9*成績表1!$B$4-9))","v":0},{"$f":"SUM(OFFSET(テストデータ!E3,86,0):OFFSET(テストデータ!G3,86,0))","v":0},{"$f":"SUM(OFFSET(テストデータ!E3,86,0):OFFSET(テストデータ!I3,86,0))","v":0},{"$f":"SUM(OFFSET(テストデータ!N3,86,0):OFFSET(テストデータ!P3,86,0))","v":0},{"$f":"SUM(OFFSET(テストデータ!N3,86,0):OFFSET(テストデータ!R3,86,0))","v":0},{"$f":"SUM(OFFSET(テストデータ!W3,86,0):OFFSET(テストデータ!Y3,86,0))","v":0},{"$f":"SUM(OFFSET(テストデータ!W3,86,0):OFFSET(テストデータ!AA3,86,0))","v":0},{"$f":"SUM(OFFSET(テストデータ!AF3,86,0):OFFSET(テストデータ!AH3,86,0))","v":0},{"$f":"SUM(OFFSET(テストデータ!AF3,86,0):OFFSET(テストデータ!AJ3,86,0))","v":0},{"$f":"SUM(OFFSET(テストデータ!AO3,86,0):OFFSET(テストデータ!AQ3,86,0))","v":0},{"$f":"SUM(OFFSET(テストデータ!AO3,86,0):OFFSET(テストデータ!AS3,86,0))","v":0},{"$f":"SUM(OFFSET(テストデータ!AX3,86,0):OFFSET(テストデータ!AZ3,86,0))","v":0},{"$f":"SUM(OFFSET(テストデータ!AX3,86,0):OFFSET(テストデータ!BB3,86,0))","v":0},{"$f":"SUM(OFFSET(テストデータ!BG3,86,0):OFFSET(テストデータ!BI3,86,0))","v":0},{"$f":"SUM(OFFSET(テストデータ!BG3,86,0):OFFSET(テストデータ!BK3,86,0))","v":0},{"$f":"SUM(OFFSET(テストデータ!BL3,86,0):OFFSET(テストデータ!BN3,86,0))","v":0},{"$f":"SUM(OFFSET(テストデータ!BL3,86,0):OFFSET(テストデータ!BP3,86,0))","v":0},{"$f":"SUM(OFFSET(テストデータ!BQ3,86,0):OFFSET(テストデータ!BS3,86,0))","v":0},{"$f":"SUM(OFFSET(テストデータ!BQ3,86,0):OFFSET(テストデータ!BU3,86,0))","v":0},{"$f":"SUM(OFFSET(テストデータ!BV3,86,0):OFFSET(テストデータ!BX3,86,0))","v":0},{"$f":"SUM(OFFSET(テストデータ!BV3,86,0):OFFSET(テストデータ!BZ3,86,0))","v":0},{"$f":"SUM(OFFSET(テストデータ!CA3,86,0):OFFSET(テストデータ!CC3,86,0))","v":0},{"$f":"SUM(OFFSET(テストデータ!CA3,86,0):OFFSET(テストデータ!CE3,86,0))","v":0},{"$f":"SUM(OFFSET(テストデータ!CF3,86,0):OFFSET(テストデータ!CH3,86,0))","v":0},{"$f":"SUM(OFFSET(テストデータ!CF3,86,0):OFFSET(テストデータ!CJ3,86,0))","v":0},{"$f":"SUM(OFFSET(テストデータ!CK3,86,0):OFFSET(テストデータ!CM3,86,0))","v":0},{"$f":"SUM(OFFSET(テストデータ!CK3,86,0):OFFSET(テストデータ!CO3,86,0))","v":0},{"$f":"SUM(OFFSET(テストデータ!CP3,86,0):OFFSET(テストデータ!CR3,86,0))","v":0},{"$f":"SUM(OFFSET(テストデータ!CP3,86,0):OFFSET(テストデータ!CT3,86,0))","v":0}]
[null,null,null,null,null,null,null,null,null,null,null,null,null,{"$f":"SUM(OFFSET(テストデータ!$E3,87,9*成績表1!$B$4-9):OFFSET(テストデータ!$G3,87,9*成績表1!$B$4-9))","v":0},{"$f":"SUM(OFFSET(テストデータ!$E3,87,9*成績表1!$B$4-9):OFFSET(テストデータ!I3,87,9*成績表1!$B$4-9))","v":0},{"$f":"SUM(OFFSET(テストデータ!E3,87,0):OFFSET(テストデータ!G3,87,0))","v":0},{"$f":"SUM(OFFSET(テストデータ!E3,87,0):OFFSET(テストデータ!I3,87,0))","v":0},{"$f":"SUM(OFFSET(テストデータ!N3,87,0):OFFSET(テストデータ!P3,87,0))","v":0},{"$f":"SUM(OFFSET(テストデータ!N3,87,0):OFFSET(テストデータ!R3,87,0))","v":0},{"$f":"SUM(OFFSET(テストデータ!W3,87,0):OFFSET(テストデータ!Y3,87,0))","v":0},{"$f":"SUM(OFFSET(テストデータ!W3,87,0):OFFSET(テストデータ!AA3,87,0))","v":0},{"$f":"SUM(OFFSET(テストデータ!AF3,87,0):OFFSET(テストデータ!AH3,87,0))","v":0},{"$f":"SUM(OFFSET(テストデータ!AF3,87,0):OFFSET(テストデータ!AJ3,87,0))","v":0},{"$f":"SUM(OFFSET(テストデータ!AO3,87,0):OFFSET(テストデータ!AQ3,87,0))","v":0},{"$f":"SUM(OFFSET(テストデータ!AO3,87,0):OFFSET(テストデータ!AS3,87,0))","v":0},{"$f":"SUM(OFFSET(テストデータ!AX3,87,0):OFFSET(テストデータ!AZ3,87,0))","v":0},{"$f":"SUM(OFFSET(テストデータ!AX3,87,0):OFFSET(テストデータ!BB3,87,0))","v":0},{"$f":"SUM(OFFSET(テストデータ!BG3,87,0):OFFSET(テストデータ!BI3,87,0))","v":0},{"$f":"SUM(OFFSET(テストデータ!BG3,87,0):OFFSET(テストデータ!BK3,87,0))","v":0},{"$f":"SUM(OFFSET(テストデータ!BL3,87,0):OFFSET(テストデータ!BN3,87,0))","v":0},{"$f":"SUM(OFFSET(テストデータ!BL3,87,0):OFFSET(テストデータ!BP3,87,0))","v":0},{"$f":"SUM(OFFSET(テストデータ!BQ3,87,0):OFFSET(テストデータ!BS3,87,0))","v":0},{"$f":"SUM(OFFSET(テストデータ!BQ3,87,0):OFFSET(テストデータ!BU3,87,0))","v":0},{"$f":"SUM(OFFSET(テストデータ!BV3,87,0):OFFSET(テストデータ!BX3,87,0))","v":0},{"$f":"SUM(OFFSET(テストデータ!BV3,87,0):OFFSET(テストデータ!BZ3,87,0))","v":0},{"$f":"SUM(OFFSET(テストデータ!CA3,87,0):OFFSET(テストデータ!CC3,87,0))","v":0},{"$f":"SUM(OFFSET(テストデータ!CA3,87,0):OFFSET(テストデータ!CE3,87,0))","v":0},{"$f":"SUM(OFFSET(テストデータ!CF3,87,0):OFFSET(テストデータ!CH3,87,0))","v":0},{"$f":"SUM(OFFSET(テストデータ!CF3,87,0):OFFSET(テストデータ!CJ3,87,0))","v":0},{"$f":"SUM(OFFSET(テストデータ!CK3,87,0):OFFSET(テストデータ!CM3,87,0))","v":0},{"$f":"SUM(OFFSET(テストデータ!CK3,87,0):OFFSET(テストデータ!CO3,87,0))","v":0},{"$f":"SUM(OFFSET(テストデータ!CP3,87,0):OFFSET(テストデータ!CR3,87,0))","v":0},{"$f":"SUM(OFFSET(テストデータ!CP3,87,0):OFFSET(テストデータ!CT3,87,0))","v":0}]
[null,null,null,null,null,null,null,null,null,null,null,null,null,{"$f":"SUM(OFFSET(テストデータ!$E3,88,9*成績表1!$B$4-9):OFFSET(テストデータ!$G3,88,9*成績表1!$B$4-9))","v":0},{"$f":"SUM(OFFSET(テストデータ!$E3,88,9*成績表1!$B$4-9):OFFSET(テストデータ!I3,88,9*成績表1!$B$4-9))","v":0},{"$f":"SUM(OFFSET(テストデータ!E3,88,0):OFFSET(テストデータ!G3,88,0))","v":0},{"$f":"SUM(OFFSET(テストデータ!E3,88,0):OFFSET(テストデータ!I3,88,0))","v":0},{"$f":"SUM(OFFSET(テストデータ!N3,88,0):OFFSET(テストデータ!P3,88,0))","v":0},{"$f":"SUM(OFFSET(テストデータ!N3,88,0):OFFSET(テストデータ!R3,88,0))","v":0},{"$f":"SUM(OFFSET(テストデータ!W3,88,0):OFFSET(テストデータ!Y3,88,0))","v":0},{"$f":"SUM(OFFSET(テストデータ!W3,88,0):OFFSET(テストデータ!AA3,88,0))","v":0},{"$f":"SUM(OFFSET(テストデータ!AF3,88,0):OFFSET(テストデータ!AH3,88,0))","v":0},{"$f":"SUM(OFFSET(テストデータ!AF3,88,0):OFFSET(テストデータ!AJ3,88,0))","v":0},{"$f":"SUM(OFFSET(テストデータ!AO3,88,0):OFFSET(テストデータ!AQ3,88,0))","v":0},{"$f":"SUM(OFFSET(テストデータ!AO3,88,0):OFFSET(テストデータ!AS3,88,0))","v":0},{"$f":"SUM(OFFSET(テストデータ!AX3,88,0):OFFSET(テストデータ!AZ3,88,0))","v":0},{"$f":"SUM(OFFSET(テストデータ!AX3,88,0):OFFSET(テストデータ!BB3,88,0))","v":0},{"$f":"SUM(OFFSET(テストデータ!BG3,88,0):OFFSET(テストデータ!BI3,88,0))","v":0},{"$f":"SUM(OFFSET(テストデータ!BG3,88,0):OFFSET(テストデータ!BK3,88,0))","v":0},{"$f":"SUM(OFFSET(テストデータ!BL3,88,0):OFFSET(テストデータ!BN3,88,0))","v":0},{"$f":"SUM(OFFSET(テストデータ!BL3,88,0):OFFSET(テストデータ!BP3,88,0))","v":0},{"$f":"SUM(OFFSET(テストデータ!BQ3,88,0):OFFSET(テストデータ!BS3,88,0))","v":0},{"$f":"SUM(OFFSET(テストデータ!BQ3,88,0):OFFSET(テストデータ!BU3,88,0))","v":0},{"$f":"SUM(OFFSET(テストデータ!BV3,88,0):OFFSET(テストデータ!BX3,88,0))","v":0},{"$f":"SUM(OFFSET(テストデータ!BV3,88,0):OFFSET(テストデータ!BZ3,88,0))","v":0},{"$f":"SUM(OFFSET(テストデータ!CA3,88,0):OFFSET(テストデータ!CC3,88,0))","v":0},{"$f":"SUM(OFFSET(テストデータ!CA3,88,0):OFFSET(テストデータ!CE3,88,0))","v":0},{"$f":"SUM(OFFSET(テストデータ!CF3,88,0):OFFSET(テストデータ!CH3,88,0))","v":0},{"$f":"SUM(OFFSET(テストデータ!CF3,88,0):OFFSET(テストデータ!CJ3,88,0))","v":0},{"$f":"SUM(OFFSET(テストデータ!CK3,88,0):OFFSET(テストデータ!CM3,88,0))","v":0},{"$f":"SUM(OFFSET(テストデータ!CK3,88,0):OFFSET(テストデータ!CO3,88,0))","v":0},{"$f":"SUM(OFFSET(テストデータ!CP3,88,0):OFFSET(テストデータ!CR3,88,0))","v":0},{"$f":"SUM(OFFSET(テストデータ!CP3,88,0):OFFSET(テストデータ!CT3,88,0))","v":0}]
[null,null,null,null,null,null,null,null,null,null,null,null,null,{"$f":"SUM(OFFSET(テストデータ!$E3,89,9*成績表1!$B$4-9):OFFSET(テストデータ!$G3,89,9*成績表1!$B$4-9))","v":0},{"$f":"SUM(OFFSET(テストデータ!$E3,89,9*成績表1!$B$4-9):OFFSET(テストデータ!I3,89,9*成績表1!$B$4-9))","v":0},{"$f":"SUM(OFFSET(テストデータ!E3,89,0):OFFSET(テストデータ!G3,89,0))","v":0},{"$f":"SUM(OFFSET(テストデータ!E3,89,0):OFFSET(テストデータ!I3,89,0))","v":0},{"$f":"SUM(OFFSET(テストデータ!N3,89,0):OFFSET(テストデータ!P3,89,0))","v":0},{"$f":"SUM(OFFSET(テストデータ!N3,89,0):OFFSET(テストデータ!R3,89,0))","v":0},{"$f":"SUM(OFFSET(テストデータ!W3,89,0):OFFSET(テストデータ!Y3,89,0))","v":0},{"$f":"SUM(OFFSET(テストデータ!W3,89,0):OFFSET(テストデータ!AA3,89,0))","v":0},{"$f":"SUM(OFFSET(テストデータ!AF3,89,0):OFFSET(テストデータ!AH3,89,0))","v":0},{"$f":"SUM(OFFSET(テストデータ!AF3,89,0):OFFSET(テストデータ!AJ3,89,0))","v":0},{"$f":"SUM(OFFSET(テストデータ!AO3,89,0):OFFSET(テストデータ!AQ3,89,0))","v":0},{"$f":"SUM(OFFSET(テストデータ!AO3,89,0):OFFSET(テストデータ!AS3,89,0))","v":0},{"$f":"SUM(OFFSET(テストデータ!AX3,89,0):OFFSET(テストデータ!AZ3,89,0))","v":0},{"$f":"SUM(OFFSET(テストデータ!AX3,89,0):OFFSET(テストデータ!BB3,89,0))","v":0},{"$f":"SUM(OFFSET(テストデータ!BG3,89,0):OFFSET(テストデータ!BI3,89,0))","v":0},{"$f":"SUM(OFFSET(テストデータ!BG3,89,0):OFFSET(テストデータ!BK3,89,0))","v":0},{"$f":"SUM(OFFSET(テストデータ!BL3,89,0):OFFSET(テストデータ!BN3,89,0))","v":0},{"$f":"SUM(OFFSET(テストデータ!BL3,89,0):OFFSET(テストデータ!BP3,89,0))","v":0},{"$f":"SUM(OFFSET(テストデータ!BQ3,89,0):OFFSET(テストデータ!BS3,89,0))","v":0},{"$f":"SUM(OFFSET(テストデータ!BQ3,89,0):OFFSET(テストデータ!BU3,89,0))","v":0},{"$f":"SUM(OFFSET(テストデータ!BV3,89,0):OFFSET(テストデータ!BX3,89,0))","v":0},{"$f":"SUM(OFFSET(テストデータ!BV3,89,0):OFFSET(テストデータ!BZ3,89,0))","v":0},{"$f":"SUM(OFFSET(テストデータ!CA3,89,0):OFFSET(テストデータ!CC3,89,0))","v":0},{"$f":"SUM(OFFSET(テストデータ!CA3,89,0):OFFSET(テストデータ!CE3,89,0))","v":0},{"$f":"SUM(OFFSET(テストデータ!CF3,89,0):OFFSET(テストデータ!CH3,89,0))","v":0},{"$f":"SUM(OFFSET(テストデータ!CF3,89,0):OFFSET(テストデータ!CJ3,89,0))","v":0},{"$f":"SUM(OFFSET(テストデータ!CK3,89,0):OFFSET(テストデータ!CM3,89,0))","v":0},{"$f":"SUM(OFFSET(テストデータ!CK3,89,0):OFFSET(テストデータ!CO3,89,0))","v":0},{"$f":"SUM(OFFSET(テストデータ!CP3,89,0):OFFSET(テストデータ!CR3,89,0))","v":0},{"$f":"SUM(OFFSET(テストデータ!CP3,89,0):OFFSET(テストデータ!CT3,89,0))","v":0}]
[null,null,null,null,null,null,null,null,null,null,null,null,null,{"$f":"SUM(OFFSET(テストデータ!$E3,90,9*成績表1!$B$4-9):OFFSET(テストデータ!$G3,90,9*成績表1!$B$4-9))","v":0},{"$f":"SUM(OFFSET(テストデータ!$E3,90,9*成績表1!$B$4-9):OFFSET(テストデータ!I3,90,9*成績表1!$B$4-9))","v":0},{"$f":"SUM(OFFSET(テストデータ!E3,90,0):OFFSET(テストデータ!G3,90,0))","v":0},{"$f":"SUM(OFFSET(テストデータ!E3,90,0):OFFSET(テストデータ!I3,90,0))","v":0},{"$f":"SUM(OFFSET(テストデータ!N3,90,0):OFFSET(テストデータ!P3,90,0))","v":0},{"$f":"SUM(OFFSET(テストデータ!N3,90,0):OFFSET(テストデータ!R3,90,0))","v":0},{"$f":"SUM(OFFSET(テストデータ!W3,90,0):OFFSET(テストデータ!Y3,90,0))","v":0},{"$f":"SUM(OFFSET(テストデータ!W3,90,0):OFFSET(テストデータ!AA3,90,0))","v":0},{"$f":"SUM(OFFSET(テストデータ!AF3,90,0):OFFSET(テストデータ!AH3,90,0))","v":0},{"$f":"SUM(OFFSET(テストデータ!AF3,90,0):OFFSET(テストデータ!AJ3,90,0))","v":0},{"$f":"SUM(OFFSET(テストデータ!AO3,90,0):OFFSET(テストデータ!AQ3,90,0))","v":0},{"$f":"SUM(OFFSET(テストデータ!AO3,90,0):OFFSET(テストデータ!AS3,90,0))","v":0},{"$f":"SUM(OFFSET(テストデータ!AX3,90,0):OFFSET(テストデータ!AZ3,90,0))","v":0},{"$f":"SUM(OFFSET(テストデータ!AX3,90,0):OFFSET(テストデータ!BB3,90,0))","v":0},{"$f":"SUM(OFFSET(テストデータ!BG3,90,0):OFFSET(テストデータ!BI3,90,0))","v":0},{"$f":"SUM(OFFSET(テストデータ!BG3,90,0):OFFSET(テストデータ!BK3,90,0))","v":0},{"$f":"SUM(OFFSET(テストデータ!BL3,90,0):OFFSET(テストデータ!BN3,90,0))","v":0},{"$f":"SUM(OFFSET(テストデータ!BL3,90,0):OFFSET(テストデータ!BP3,90,0))","v":0},{"$f":"SUM(OFFSET(テストデータ!BQ3,90,0):OFFSET(テストデータ!BS3,90,0))","v":0},{"$f":"SUM(OFFSET(テストデータ!BQ3,90,0):OFFSET(テストデータ!BU3,90,0))","v":0},{"$f":"SUM(OFFSET(テストデータ!BV3,90,0):OFFSET(テストデータ!BX3,90,0))","v":0},{"$f":"SUM(OFFSET(テストデータ!BV3,90,0):OFFSET(テストデータ!BZ3,90,0))","v":0},{"$f":"SUM(OFFSET(テストデータ!CA3,90,0):OFFSET(テストデータ!CC3,90,0))","v":0},{"$f":"SUM(OFFSET(テストデータ!CA3,90,0):OFFSET(テストデータ!CE3,90,0))","v":0},{"$f":"SUM(OFFSET(テストデータ!CF3,90,0):OFFSET(テストデータ!CH3,90,0))","v":0},{"$f":"SUM(OFFSET(テストデータ!CF3,90,0):OFFSET(テストデータ!CJ3,90,0))","v":0},{"$f":"SUM(OFFSET(テストデータ!CK3,90,0):OFFSET(テストデータ!CM3,90,0))","v":0},{"$f":"SUM(OFFSET(テストデータ!CK3,90,0):OFFSET(テストデータ!CO3,90,0))","v":0},{"$f":"SUM(OFFSET(テストデータ!CP3,90,0):OFFSET(テストデータ!CR3,90,0))","v":0},{"$f":"SUM(OFFSET(テストデータ!CP3,90,0):OFFSET(テストデータ!CT3,90,0))","v":0}]
[null,null,null,null,null,null,null,null,null,null,null,null,null,{"$f":"SUM(OFFSET(テストデータ!$E3,91,9*成績表1!$B$4-9):OFFSET(テストデータ!$G3,91,9*成績表1!$B$4-9))","v":0},{"$f":"SUM(OFFSET(テストデータ!$E3,91,9*成績表1!$B$4-9):OFFSET(テストデータ!I3,91,9*成績表1!$B$4-9))","v":0},{"$f":"SUM(OFFSET(テストデータ!E3,91,0):OFFSET(テストデータ!G3,91,0))","v":0},{"$f":"SUM(OFFSET(テストデータ!E3,91,0):OFFSET(テストデータ!I3,91,0))","v":0},{"$f":"SUM(OFFSET(テストデータ!N3,91,0):OFFSET(テストデータ!P3,91,0))","v":0},{"$f":"SUM(OFFSET(テストデータ!N3,91,0):OFFSET(テストデータ!R3,91,0))","v":0},{"$f":"SUM(OFFSET(テストデータ!W3,91,0):OFFSET(テストデータ!Y3,91,0))","v":0},{"$f":"SUM(OFFSET(テストデータ!W3,91,0):OFFSET(テストデータ!AA3,91,0))","v":0},{"$f":"SUM(OFFSET(テストデータ!AF3,91,0):OFFSET(テストデータ!AH3,91,0))","v":0},{"$f":"SUM(OFFSET(テストデータ!AF3,91,0):OFFSET(テストデータ!AJ3,91,0))","v":0},{"$f":"SUM(OFFSET(テストデータ!AO3,91,0):OFFSET(テストデータ!AQ3,91,0))","v":0},{"$f":"SUM(OFFSET(テストデータ!AO3,91,0):OFFSET(テストデータ!AS3,91,0))","v":0},{"$f":"SUM(OFFSET(テストデータ!AX3,91,0):OFFSET(テストデータ!AZ3,91,0))","v":0},{"$f":"SUM(OFFSET(テストデータ!AX3,91,0):OFFSET(テストデータ!BB3,91,0))","v":0},{"$f":"SUM(OFFSET(テストデータ!BG3,91,0):OFFSET(テストデータ!BI3,91,0))","v":0},{"$f":"SUM(OFFSET(テストデータ!BG3,91,0):OFFSET(テストデータ!BK3,91,0))","v":0},{"$f":"SUM(OFFSET(テストデータ!BL3,91,0):OFFSET(テストデータ!BN3,91,0))","v":0},{"$f":"SUM(OFFSET(テストデータ!BL3,91,0):OFFSET(テストデータ!BP3,91,0))","v":0},{"$f":"SUM(OFFSET(テストデータ!BQ3,91,0):OFFSET(テストデータ!BS3,91,0))","v":0},{"$f":"SUM(OFFSET(テストデータ!BQ3,91,0):OFFSET(テストデータ!BU3,91,0))","v":0},{"$f":"SUM(OFFSET(テストデータ!BV3,91,0):OFFSET(テストデータ!BX3,91,0))","v":0},{"$f":"SUM(OFFSET(テストデータ!BV3,91,0):OFFSET(テストデータ!BZ3,91,0))","v":0},{"$f":"SUM(OFFSET(テストデータ!CA3,91,0):OFFSET(テストデータ!CC3,91,0))","v":0},{"$f":"SUM(OFFSET(テストデータ!CA3,91,0):OFFSET(テストデータ!CE3,91,0))","v":0},{"$f":"SUM(OFFSET(テストデータ!CF3,91,0):OFFSET(テストデータ!CH3,91,0))","v":0},{"$f":"SUM(OFFSET(テストデータ!CF3,91,0):OFFSET(テストデータ!CJ3,91,0))","v":0},{"$f":"SUM(OFFSET(テストデータ!CK3,91,0):OFFSET(テストデータ!CM3,91,0))","v":0},{"$f":"SUM(OFFSET(テストデータ!CK3,91,0):OFFSET(テストデータ!CO3,91,0))","v":0},{"$f":"SUM(OFFSET(テストデータ!CP3,91,0):OFFSET(テストデータ!CR3,91,0))","v":0},{"$f":"SUM(OFFSET(テストデータ!CP3,91,0):OFFSET(テストデータ!CT3,91,0))","v":0}]
[null,null,null,null,null,null,null,null,null,null,null,null,null,{"$f":"SUM(OFFSET(テストデータ!$E3,92,9*成績表1!$B$4-9):OFFSET(テストデータ!$G3,92,9*成績表1!$B$4-9))","v":0},{"$f":"SUM(OFFSET(テストデータ!$E3,92,9*成績表1!$B$4-9):OFFSET(テストデータ!I3,92,9*成績表1!$B$4-9))","v":0},{"$f":"SUM(OFFSET(テストデータ!E3,92,0):OFFSET(テストデータ!G3,92,0))","v":0},{"$f":"SUM(OFFSET(テストデータ!E3,92,0):OFFSET(テストデータ!I3,92,0))","v":0},{"$f":"SUM(OFFSET(テストデータ!N3,92,0):OFFSET(テストデータ!P3,92,0))","v":0},{"$f":"SUM(OFFSET(テストデータ!N3,92,0):OFFSET(テストデータ!R3,92,0))","v":0},{"$f":"SUM(OFFSET(テストデータ!W3,92,0):OFFSET(テストデータ!Y3,92,0))","v":0},{"$f":"SUM(OFFSET(テストデータ!W3,92,0):OFFSET(テストデータ!AA3,92,0))","v":0},{"$f":"SUM(OFFSET(テストデータ!AF3,92,0):OFFSET(テストデータ!AH3,92,0))","v":0},{"$f":"SUM(OFFSET(テストデータ!AF3,92,0):OFFSET(テストデータ!AJ3,92,0))","v":0},{"$f":"SUM(OFFSET(テストデータ!AO3,92,0):OFFSET(テストデータ!AQ3,92,0))","v":0},{"$f":"SUM(OFFSET(テストデータ!AO3,92,0):OFFSET(テストデータ!AS3,92,0))","v":0},{"$f":"SUM(OFFSET(テストデータ!AX3,92,0):OFFSET(テストデータ!AZ3,92,0))","v":0},{"$f":"SUM(OFFSET(テストデータ!AX3,92,0):OFFSET(テストデータ!BB3,92,0))","v":0},{"$f":"SUM(OFFSET(テストデータ!BG3,92,0):OFFSET(テストデータ!BI3,92,0))","v":0},{"$f":"SUM(OFFSET(テストデータ!BG3,92,0):OFFSET(テストデータ!BK3,92,0))","v":0},{"$f":"SUM(OFFSET(テストデータ!BL3,92,0):OFFSET(テストデータ!BN3,92,0))","v":0},{"$f":"SUM(OFFSET(テストデータ!BL3,92,0):OFFSET(テストデータ!BP3,92,0))","v":0},{"$f":"SUM(OFFSET(テストデータ!BQ3,92,0):OFFSET(テストデータ!BS3,92,0))","v":0},{"$f":"SUM(OFFSET(テストデータ!BQ3,92,0):OFFSET(テストデータ!BU3,92,0))","v":0},{"$f":"SUM(OFFSET(テストデータ!BV3,92,0):OFFSET(テストデータ!BX3,92,0))","v":0},{"$f":"SUM(OFFSET(テストデータ!BV3,92,0):OFFSET(テストデータ!BZ3,92,0))","v":0},{"$f":"SUM(OFFSET(テストデータ!CA3,92,0):OFFSET(テストデータ!CC3,92,0))","v":0},{"$f":"SUM(OFFSET(テストデータ!CA3,92,0):OFFSET(テストデータ!CE3,92,0))","v":0},{"$f":"SUM(OFFSET(テストデータ!CF3,92,0):OFFSET(テストデータ!CH3,92,0))","v":0},{"$f":"SUM(OFFSET(テストデータ!CF3,92,0):OFFSET(テストデータ!CJ3,92,0))","v":0},{"$f":"SUM(OFFSET(テストデータ!CK3,92,0):OFFSET(テストデータ!CM3,92,0))","v":0},{"$f":"SUM(OFFSET(テストデータ!CK3,92,0):OFFSET(テストデータ!CO3,92,0))","v":0},{"$f":"SUM(OFFSET(テストデータ!CP3,92,0):OFFSET(テストデータ!CR3,92,0))","v":0},{"$f":"SUM(OFFSET(テストデータ!CP3,92,0):OFFSET(テストデータ!CT3,92,0))","v":0}]
[null,null,null,null,null,null,null,null,null,null,null,null,null,{"$f":"SUM(OFFSET(テストデータ!$E3,93,9*成績表1!$B$4-9):OFFSET(テストデータ!$G3,93,9*成績表1!$B$4-9))","v":0},{"$f":"SUM(OFFSET(テストデータ!$E3,93,9*成績表1!$B$4-9):OFFSET(テストデータ!I3,93,9*成績表1!$B$4-9))","v":0},{"$f":"SUM(OFFSET(テストデータ!E3,93,0):OFFSET(テストデータ!G3,93,0))","v":0},{"$f":"SUM(OFFSET(テストデータ!E3,93,0):OFFSET(テストデータ!I3,93,0))","v":0},{"$f":"SUM(OFFSET(テストデータ!N3,93,0):OFFSET(テストデータ!P3,93,0))","v":0},{"$f":"SUM(OFFSET(テストデータ!N3,93,0):OFFSET(テストデータ!R3,93,0))","v":0},{"$f":"SUM(OFFSET(テストデータ!W3,93,0):OFFSET(テストデータ!Y3,93,0))","v":0},{"$f":"SUM(OFFSET(テストデータ!W3,93,0):OFFSET(テストデータ!AA3,93,0))","v":0},{"$f":"SUM(OFFSET(テストデータ!AF3,93,0):OFFSET(テストデータ!AH3,93,0))","v":0},{"$f":"SUM(OFFSET(テストデータ!AF3,93,0):OFFSET(テストデータ!AJ3,93,0))","v":0},{"$f":"SUM(OFFSET(テストデータ!AO3,93,0):OFFSET(テストデータ!AQ3,93,0))","v":0},{"$f":"SUM(OFFSET(テストデータ!AO3,93,0):OFFSET(テストデータ!AS3,93,0))","v":0},{"$f":"SUM(OFFSET(テストデータ!AX3,93,0):OFFSET(テストデータ!AZ3,93,0))","v":0},{"$f":"SUM(OFFSET(テストデータ!AX3,93,0):OFFSET(テストデータ!BB3,93,0))","v":0},{"$f":"SUM(OFFSET(テストデータ!BG3,93,0):OFFSET(テストデータ!BI3,93,0))","v":0},{"$f":"SUM(OFFSET(テストデータ!BG3,93,0):OFFSET(テストデータ!BK3,93,0))","v":0},{"$f":"SUM(OFFSET(テストデータ!BL3,93,0):OFFSET(テストデータ!BN3,93,0))","v":0},{"$f":"SUM(OFFSET(テストデータ!BL3,93,0):OFFSET(テストデータ!BP3,93,0))","v":0},{"$f":"SUM(OFFSET(テストデータ!BQ3,93,0):OFFSET(テストデータ!BS3,93,0))","v":0},{"$f":"SUM(OFFSET(テストデータ!BQ3,93,0):OFFSET(テストデータ!BU3,93,0))","v":0},{"$f":"SUM(OFFSET(テストデータ!BV3,93,0):OFFSET(テストデータ!BX3,93,0))","v":0},{"$f":"SUM(OFFSET(テストデータ!BV3,93,0):OFFSET(テストデータ!BZ3,93,0))","v":0},{"$f":"SUM(OFFSET(テストデータ!CA3,93,0):OFFSET(テストデータ!CC3,93,0))","v":0},{"$f":"SUM(OFFSET(テストデータ!CA3,93,0):OFFSET(テストデータ!CE3,93,0))","v":0},{"$f":"SUM(OFFSET(テストデータ!CF3,93,0):OFFSET(テストデータ!CH3,93,0))","v":0},{"$f":"SUM(OFFSET(テストデータ!CF3,93,0):OFFSET(テストデータ!CJ3,93,0))","v":0},{"$f":"SUM(OFFSET(テストデータ!CK3,93,0):OFFSET(テストデータ!CM3,93,0))","v":0},{"$f":"SUM(OFFSET(テストデータ!CK3,93,0):OFFSET(テストデータ!CO3,93,0))","v":0},{"$f":"SUM(OFFSET(テストデータ!CP3,93,0):OFFSET(テストデータ!CR3,93,0))","v":0},{"$f":"SUM(OFFSET(テストデータ!CP3,93,0):OFFSET(テストデータ!CT3,93,0))","v":0}]
[null,null,null,null,null,null,null,null,null,null,null,null,null,{"$f":"SUM(OFFSET(テストデータ!$E3,94,9*成績表1!$B$4-9):OFFSET(テストデータ!$G3,94,9*成績表1!$B$4-9))","v":0},{"$f":"SUM(OFFSET(テストデータ!$E3,94,9*成績表1!$B$4-9):OFFSET(テストデータ!I3,94,9*成績表1!$B$4-9))","v":0},{"$f":"SUM(OFFSET(テストデータ!E3,94,0):OFFSET(テストデータ!G3,94,0))","v":0},{"$f":"SUM(OFFSET(テストデータ!E3,94,0):OFFSET(テストデータ!I3,94,0))","v":0},{"$f":"SUM(OFFSET(テストデータ!N3,94,0):OFFSET(テストデータ!P3,94,0))","v":0},{"$f":"SUM(OFFSET(テストデータ!N3,94,0):OFFSET(テストデータ!R3,94,0))","v":0},{"$f":"SUM(OFFSET(テストデータ!W3,94,0):OFFSET(テストデータ!Y3,94,0))","v":0},{"$f":"SUM(OFFSET(テストデータ!W3,94,0):OFFSET(テストデータ!AA3,94,0))","v":0},{"$f":"SUM(OFFSET(テストデータ!AF3,94,0):OFFSET(テストデータ!AH3,94,0))","v":0},{"$f":"SUM(OFFSET(テストデータ!AF3,94,0):OFFSET(テストデータ!AJ3,94,0))","v":0},{"$f":"SUM(OFFSET(テストデータ!AO3,94,0):OFFSET(テストデータ!AQ3,94,0))","v":0},{"$f":"SUM(OFFSET(テストデータ!AO3,94,0):OFFSET(テストデータ!AS3,94,0))","v":0},{"$f":"SUM(OFFSET(テストデータ!AX3,94,0):OFFSET(テストデータ!AZ3,94,0))","v":0},{"$f":"SUM(OFFSET(テストデータ!AX3,94,0):OFFSET(テストデータ!BB3,94,0))","v":0},{"$f":"SUM(OFFSET(テストデータ!BG3,94,0):OFFSET(テストデータ!BI3,94,0))","v":0},{"$f":"SUM(OFFSET(テストデータ!BG3,94,0):OFFSET(テストデータ!BK3,94,0))","v":0},{"$f":"SUM(OFFSET(テストデータ!BL3,94,0):OFFSET(テストデータ!BN3,94,0))","v":0},{"$f":"SUM(OFFSET(テストデータ!BL3,94,0):OFFSET(テストデータ!BP3,94,0))","v":0},{"$f":"SUM(OFFSET(テストデータ!BQ3,94,0):OFFSET(テストデータ!BS3,94,0))","v":0},{"$f":"SUM(OFFSET(テストデータ!BQ3,94,0):OFFSET(テストデータ!BU3,94,0))","v":0},{"$f":"SUM(OFFSET(テストデータ!BV3,94,0):OFFSET(テストデータ!BX3,94,0))","v":0},{"$f":"SUM(OFFSET(テストデータ!BV3,94,0):OFFSET(テストデータ!BZ3,94,0))","v":0},{"$f":"SUM(OFFSET(テストデータ!CA3,94,0):OFFSET(テストデータ!CC3,94,0))","v":0},{"$f":"SUM(OFFSET(テストデータ!CA3,94,0):OFFSET(テストデータ!CE3,94,0))","v":0},{"$f":"SUM(OFFSET(テストデータ!CF3,94,0):OFFSET(テストデータ!CH3,94,0))","v":0},{"$f":"SUM(OFFSET(テストデータ!CF3,94,0):OFFSET(テストデータ!CJ3,94,0))","v":0},{"$f":"SUM(OFFSET(テストデータ!CK3,94,0):OFFSET(テストデータ!CM3,94,0))","v":0},{"$f":"SUM(OFFSET(テストデータ!CK3,94,0):OFFSET(テストデータ!CO3,94,0))","v":0},{"$f":"SUM(OFFSET(テストデータ!CP3,94,0):OFFSET(テストデータ!CR3,94,0))","v":0},{"$f":"SUM(OFFSET(テストデータ!CP3,94,0):OFFSET(テストデータ!CT3,94,0))","v":0}]
[null,null,null,null,null,null,null,null,null,null,null,null,null,{"$f":"SUM(OFFSET(テストデータ!$E3,95,9*成績表1!$B$4-9):OFFSET(テストデータ!$G3,95,9*成績表1!$B$4-9))","v":0},{"$f":"SUM(OFFSET(テストデータ!$E3,95,9*成績表1!$B$4-9):OFFSET(テストデータ!I3,95,9*成績表1!$B$4-9))","v":0},{"$f":"SUM(OFFSET(テストデータ!E3,95,0):OFFSET(テストデータ!G3,95,0))","v":0},{"$f":"SUM(OFFSET(テストデータ!E3,95,0):OFFSET(テストデータ!I3,95,0))","v":0},{"$f":"SUM(OFFSET(テストデータ!N3,95,0):OFFSET(テストデータ!P3,95,0))","v":0},{"$f":"SUM(OFFSET(テストデータ!N3,95,0):OFFSET(テストデータ!R3,95,0))","v":0},{"$f":"SUM(OFFSET(テストデータ!W3,95,0):OFFSET(テストデータ!Y3,95,0))","v":0},{"$f":"SUM(OFFSET(テストデータ!W3,95,0):OFFSET(テストデータ!AA3,95,0))","v":0},{"$f":"SUM(OFFSET(テストデータ!AF3,95,0):OFFSET(テストデータ!AH3,95,0))","v":0},{"$f":"SUM(OFFSET(テストデータ!AF3,95,0):OFFSET(テストデータ!AJ3,95,0))","v":0},{"$f":"SUM(OFFSET(テストデータ!AO3,95,0):OFFSET(テストデータ!AQ3,95,0))","v":0},{"$f":"SUM(OFFSET(テストデータ!AO3,95,0):OFFSET(テストデータ!AS3,95,0))","v":0},{"$f":"SUM(OFFSET(テストデータ!AX3,95,0):OFFSET(テストデータ!AZ3,95,0))","v":0},{"$f":"SUM(OFFSET(テストデータ!AX3,95,0):OFFSET(テストデータ!BB3,95,0))","v":0},{"$f":"SUM(OFFSET(テストデータ!BG3,95,0):OFFSET(テストデータ!BI3,95,0))","v":0},{"$f":"SUM(OFFSET(テストデータ!BG3,95,0):OFFSET(テストデータ!BK3,95,0))","v":0},{"$f":"SUM(OFFSET(テストデータ!BL3,95,0):OFFSET(テストデータ!BN3,95,0))","v":0},{"$f":"SUM(OFFSET(テストデータ!BL3,95,0):OFFSET(テストデータ!BP3,95,0))","v":0},{"$f":"SUM(OFFSET(テストデータ!BQ3,95,0):OFFSET(テストデータ!BS3,95,0))","v":0},{"$f":"SUM(OFFSET(テストデータ!BQ3,95,0):OFFSET(テストデータ!BU3,95,0))","v":0},{"$f":"SUM(OFFSET(テストデータ!BV3,95,0):OFFSET(テストデータ!BX3,95,0))","v":0},{"$f":"SUM(OFFSET(テストデータ!BV3,95,0):OFFSET(テストデータ!BZ3,95,0))","v":0},{"$f":"SUM(OFFSET(テストデータ!CA3,95,0):OFFSET(テストデータ!CC3,95,0))","v":0},{"$f":"SUM(OFFSET(テストデータ!CA3,95,0):OFFSET(テストデータ!CE3,95,0))","v":0},{"$f":"SUM(OFFSET(テストデータ!CF3,95,0):OFFSET(テストデータ!CH3,95,0))","v":0},{"$f":"SUM(OFFSET(テストデータ!CF3,95,0):OFFSET(テストデータ!CJ3,95,0))","v":0},{"$f":"SUM(OFFSET(テストデータ!CK3,95,0):OFFSET(テストデータ!CM3,95,0))","v":0},{"$f":"SUM(OFFSET(テストデータ!CK3,95,0):OFFSET(テストデータ!CO3,95,0))","v":0},{"$f":"SUM(OFFSET(テストデータ!CP3,95,0):OFFSET(テストデータ!CR3,95,0))","v":0},{"$f":"SUM(OFFSET(テストデータ!CP3,95,0):OFFSET(テストデータ!CT3,95,0))","v":0}]
[null,null,null,null,null,null,null,null,null,null,null,null,null,{"$f":"SUM(OFFSET(テストデータ!$E3,96,9*成績表1!$B$4-9):OFFSET(テストデータ!$G3,96,9*成績表1!$B$4-9))","v":0},{"$f":"SUM(OFFSET(テストデータ!$E3,96,9*成績表1!$B$4-9):OFFSET(テストデータ!I3,96,9*成績表1!$B$4-9))","v":0},{"$f":"SUM(OFFSET(テストデータ!E3,96,0):OFFSET(テストデータ!G3,96,0))","v":0},{"$f":"SUM(OFFSET(テストデータ!E3,96,0):OFFSET(テストデータ!I3,96,0))","v":0},{"$f":"SUM(OFFSET(テストデータ!N3,96,0):OFFSET(テストデータ!P3,96,0))","v":0},{"$f":"SUM(OFFSET(テストデータ!N3,96,0):OFFSET(テストデータ!R3,96,0))","v":0},{"$f":"SUM(OFFSET(テストデータ!W3,96,0):OFFSET(テストデータ!Y3,96,0))","v":0},{"$f":"SUM(OFFSET(テストデータ!W3,96,0):OFFSET(テストデータ!AA3,96,0))","v":0},{"$f":"SUM(OFFSET(テストデータ!AF3,96,0):OFFSET(テストデータ!AH3,96,0))","v":0},{"$f":"SUM(OFFSET(テストデータ!AF3,96,0):OFFSET(テストデータ!AJ3,96,0))","v":0},{"$f":"SUM(OFFSET(テストデータ!AO3,96,0):OFFSET(テストデータ!AQ3,96,0))","v":0},{"$f":"SUM(OFFSET(テストデータ!AO3,96,0):OFFSET(テストデータ!AS3,96,0))","v":0},{"$f":"SUM(OFFSET(テストデータ!AX3,96,0):OFFSET(テストデータ!AZ3,96,0))","v":0},{"$f":"SUM(OFFSET(テストデータ!AX3,96,0):OFFSET(テストデータ!BB3,96,0))","v":0},{"$f":"SUM(OFFSET(テストデータ!BG3,96,0):OFFSET(テストデータ!BI3,96,0))","v":0},{"$f":"SUM(OFFSET(テストデータ!BG3,96,0):OFFSET(テストデータ!BK3,96,0))","v":0},{"$f":"SUM(OFFSET(テストデータ!BL3,96,0):OFFSET(テストデータ!BN3,96,0))","v":0},{"$f":"SUM(OFFSET(テストデータ!BL3,96,0):OFFSET(テストデータ!BP3,96,0))","v":0},{"$f":"SUM(OFFSET(テストデータ!BQ3,96,0):OFFSET(テストデータ!BS3,96,0))","v":0},{"$f":"SUM(OFFSET(テストデータ!BQ3,96,0):OFFSET(テストデータ!BU3,96,0))","v":0},{"$f":"SUM(OFFSET(テストデータ!BV3,96,0):OFFSET(テストデータ!BX3,96,0))","v":0},{"$f":"SUM(OFFSET(テストデータ!BV3,96,0):OFFSET(テストデータ!BZ3,96,0))","v":0},{"$f":"SUM(OFFSET(テストデータ!CA3,96,0):OFFSET(テストデータ!CC3,96,0))","v":0},{"$f":"SUM(OFFSET(テストデータ!CA3,96,0):OFFSET(テストデータ!CE3,96,0))","v":0},{"$f":"SUM(OFFSET(テストデータ!CF3,96,0):OFFSET(テストデータ!CH3,96,0))","v":0},{"$f":"SUM(OFFSET(テストデータ!CF3,96,0):OFFSET(テストデータ!CJ3,96,0))","v":0},{"$f":"SUM(OFFSET(テストデータ!CK3,96,0):OFFSET(テストデータ!CM3,96,0))","v":0},{"$f":"SUM(OFFSET(テストデータ!CK3,96,0):OFFSET(テストデータ!CO3,96,0))","v":0},{"$f":"SUM(OFFSET(テストデータ!CP3,96,0):OFFSET(テストデータ!CR3,96,0))","v":0},{"$f":"SUM(OFFSET(テストデータ!CP3,96,0):OFFSET(テストデータ!CT3,96,0))","v":0}]
[null,null,null,null,null,null,null,null,null,null,null,null,null,{"$f":"SUM(OFFSET(テストデータ!$E3,97,9*成績表1!$B$4-9):OFFSET(テストデータ!$G3,97,9*成績表1!$B$4-9))","v":0},{"$f":"SUM(OFFSET(テストデータ!$E3,97,9*成績表1!$B$4-9):OFFSET(テストデータ!I3,97,9*成績表1!$B$4-9))","v":0},{"$f":"SUM(OFFSET(テストデータ!E3,97,0):OFFSET(テストデータ!G3,97,0))","v":0},{"$f":"SUM(OFFSET(テストデータ!E3,97,0):OFFSET(テストデータ!I3,97,0))","v":0},{"$f":"SUM(OFFSET(テストデータ!N3,97,0):OFFSET(テストデータ!P3,97,0))","v":0},{"$f":"SUM(OFFSET(テストデータ!N3,97,0):OFFSET(テストデータ!R3,97,0))","v":0},{"$f":"SUM(OFFSET(テストデータ!W3,97,0):OFFSET(テストデータ!Y3,97,0))","v":0},{"$f":"SUM(OFFSET(テストデータ!W3,97,0):OFFSET(テストデータ!AA3,97,0))","v":0},{"$f":"SUM(OFFSET(テストデータ!AF3,97,0):OFFSET(テストデータ!AH3,97,0))","v":0},{"$f":"SUM(OFFSET(テストデータ!AF3,97,0):OFFSET(テストデータ!AJ3,97,0))","v":0},{"$f":"SUM(OFFSET(テストデータ!AO3,97,0):OFFSET(テストデータ!AQ3,97,0))","v":0},{"$f":"SUM(OFFSET(テストデータ!AO3,97,0):OFFSET(テストデータ!AS3,97,0))","v":0},{"$f":"SUM(OFFSET(テストデータ!AX3,97,0):OFFSET(テストデータ!AZ3,97,0))","v":0},{"$f":"SUM(OFFSET(テストデータ!AX3,97,0):OFFSET(テストデータ!BB3,97,0))","v":0},{"$f":"SUM(OFFSET(テストデータ!BG3,97,0):OFFSET(テストデータ!BI3,97,0))","v":0},{"$f":"SUM(OFFSET(テストデータ!BG3,97,0):OFFSET(テストデータ!BK3,97,0))","v":0},{"$f":"SUM(OFFSET(テストデータ!BL3,97,0):OFFSET(テストデータ!BN3,97,0))","v":0},{"$f":"SUM(OFFSET(テストデータ!BL3,97,0):OFFSET(テストデータ!BP3,97,0))","v":0},{"$f":"SUM(OFFSET(テストデータ!BQ3,97,0):OFFSET(テストデータ!BS3,97,0))","v":0},{"$f":"SUM(OFFSET(テストデータ!BQ3,97,0):OFFSET(テストデータ!BU3,97,0))","v":0},{"$f":"SUM(OFFSET(テストデータ!BV3,97,0):OFFSET(テストデータ!BX3,97,0))","v":0},{"$f":"SUM(OFFSET(テストデータ!BV3,97,0):OFFSET(テストデータ!BZ3,97,0))","v":0},{"$f":"SUM(OFFSET(テストデータ!CA3,97,0):OFFSET(テストデータ!CC3,97,0))","v":0},{"$f":"SUM(OFFSET(テストデータ!CA3,97,0):OFFSET(テストデータ!CE3,97,0))","v":0},{"$f":"SUM(OFFSET(テストデータ!CF3,97,0):OFFSET(テストデータ!CH3,97,0))","v":0},{"$f":"SUM(OFFSET(テストデータ!CF3,97,0):OFFSET(テストデータ!CJ3,97,0))","v":0},{"$f":"SUM(OFFSET(テストデータ!CK3,97,0):OFFSET(テストデータ!CM3,97,0))","v":0},{"$f":"SUM(OFFSET(テストデータ!CK3,97,0):OFFSET(テストデータ!CO3,97,0))","v":0},{"$f":"SUM(OFFSET(テストデータ!CP3,97,0):OFFSET(テストデータ!CR3,97,0))","v":0},{"$f":"SUM(OFFSET(テストデータ!CP3,97,0):OFFSET(テストデータ!CT3,97,0))","v":0}]
[null,null,null,null,null,null,null,null,null,null,null,null,null,{"$f":"SUM(OFFSET(テストデータ!$E3,98,9*成績表1!$B$4-9):OFFSET(テストデータ!$G3,98,9*成績表1!$B$4-9))","v":0},{"$f":"SUM(OFFSET(テストデータ!$E3,98,9*成績表1!$B$4-9):OFFSET(テストデータ!I3,98,9*成績表1!$B$4-9))","v":0},{"$f":"SUM(OFFSET(テストデータ!E3,98,0):OFFSET(テストデータ!G3,98,0))","v":0},{"$f":"SUM(OFFSET(テストデータ!E3,98,0):OFFSET(テストデータ!I3,98,0))","v":0},{"$f":"SUM(OFFSET(テストデータ!N3,98,0):OFFSET(テストデータ!P3,98,0))","v":0},{"$f":"SUM(OFFSET(テストデータ!N3,98,0):OFFSET(テストデータ!R3,98,0))","v":0},{"$f":"SUM(OFFSET(テストデータ!W3,98,0):OFFSET(テストデータ!Y3,98,0))","v":0},{"$f":"SUM(OFFSET(テストデータ!W3,98,0):OFFSET(テストデータ!AA3,98,0))","v":0},{"$f":"SUM(OFFSET(テストデータ!AF3,98,0):OFFSET(テストデータ!AH3,98,0))","v":0},{"$f":"SUM(OFFSET(テストデータ!AF3,98,0):OFFSET(テストデータ!AJ3,98,0))","v":0},{"$f":"SUM(OFFSET(テストデータ!AO3,98,0):OFFSET(テストデータ!AQ3,98,0))","v":0},{"$f":"SUM(OFFSET(テストデータ!AO3,98,0):OFFSET(テストデータ!AS3,98,0))","v":0},{"$f":"SUM(OFFSET(テストデータ!AX3,98,0):OFFSET(テストデータ!AZ3,98,0))","v":0},{"$f":"SUM(OFFSET(テストデータ!AX3,98,0):OFFSET(テストデータ!BB3,98,0))","v":0},{"$f":"SUM(OFFSET(テストデータ!BG3,98,0):OFFSET(テストデータ!BI3,98,0))","v":0},{"$f":"SUM(OFFSET(テストデータ!BG3,98,0):OFFSET(テストデータ!BK3,98,0))","v":0},{"$f":"SUM(OFFSET(テストデータ!BL3,98,0):OFFSET(テストデータ!BN3,98,0))","v":0},{"$f":"SUM(OFFSET(テストデータ!BL3,98,0):OFFSET(テストデータ!BP3,98,0))","v":0},{"$f":"SUM(OFFSET(テストデータ!BQ3,98,0):OFFSET(テストデータ!BS3,98,0))","v":0},{"$f":"SUM(OFFSET(テストデータ!BQ3,98,0):OFFSET(テストデータ!BU3,98,0))","v":0},{"$f":"SUM(OFFSET(テストデータ!BV3,98,0):OFFSET(テストデータ!BX3,98,0))","v":0},{"$f":"SUM(OFFSET(テストデータ!BV3,98,0):OFFSET(テストデータ!BZ3,98,0))","v":0},{"$f":"SUM(OFFSET(テストデータ!CA3,98,0):OFFSET(テストデータ!CC3,98,0))","v":0},{"$f":"SUM(OFFSET(テストデータ!CA3,98,0):OFFSET(テストデータ!CE3,98,0))","v":0},{"$f":"SUM(OFFSET(テストデータ!CF3,98,0):OFFSET(テストデータ!CH3,98,0))","v":0},{"$f":"SUM(OFFSET(テストデータ!CF3,98,0):OFFSET(テストデータ!CJ3,98,0))","v":0},{"$f":"SUM(OFFSET(テストデータ!CK3,98,0):OFFSET(テストデータ!CM3,98,0))","v":0},{"$f":"SUM(OFFSET(テストデータ!CK3,98,0):OFFSET(テストデータ!CO3,98,0))","v":0},{"$f":"SUM(OFFSET(テストデータ!CP3,98,0):OFFSET(テストデータ!CR3,98,0))","v":0},{"$f":"SUM(OFFSET(テストデータ!CP3,98,0):OFFSET(テストデータ!CT3,98,0))","v":0}]
[null,null,null,null,null,null,null,null,null,null,null,null,null,{"$f":"SUM(OFFSET(テストデータ!$E3,99,9*成績表1!$B$4-9):OFFSET(テストデータ!$G3,99,9*成績表1!$B$4-9))","v":0},{"$f":"SUM(OFFSET(テストデータ!$E3,99,9*成績表1!$B$4-9):OFFSET(テストデータ!I3,99,9*成績表1!$B$4-9))","v":0},{"$f":"SUM(OFFSET(テストデータ!E3,99,0):OFFSET(テストデータ!G3,99,0))","v":0},{"$f":"SUM(OFFSET(テストデータ!E3,99,0):OFFSET(テストデータ!I3,99,0))","v":0},{"$f":"SUM(OFFSET(テストデータ!N3,99,0):OFFSET(テストデータ!P3,99,0))","v":0},{"$f":"SUM(OFFSET(テストデータ!N3,99,0):OFFSET(テストデータ!R3,99,0))","v":0},{"$f":"SUM(OFFSET(テストデータ!W3,99,0):OFFSET(テストデータ!Y3,99,0))","v":0},{"$f":"SUM(OFFSET(テストデータ!W3,99,0):OFFSET(テストデータ!AA3,99,0))","v":0},{"$f":"SUM(OFFSET(テストデータ!AF3,99,0):OFFSET(テストデータ!AH3,99,0))","v":0},{"$f":"SUM(OFFSET(テストデータ!AF3,99,0):OFFSET(テストデータ!AJ3,99,0))","v":0},{"$f":"SUM(OFFSET(テストデータ!AO3,99,0):OFFSET(テストデータ!AQ3,99,0))","v":0},{"$f":"SUM(OFFSET(テストデータ!AO3,99,0):OFFSET(テストデータ!AS3,99,0))","v":0},{"$f":"SUM(OFFSET(テストデータ!AX3,99,0):OFFSET(テストデータ!AZ3,99,0))","v":0},{"$f":"SUM(OFFSET(テストデータ!AX3,99,0):OFFSET(テストデータ!BB3,99,0))","v":0},{"$f":"SUM(OFFSET(テストデータ!BG3,99,0):OFFSET(テストデータ!BI3,99,0))","v":0},{"$f":"SUM(OFFSET(テストデータ!BG3,99,0):OFFSET(テストデータ!BK3,99,0))","v":0},{"$f":"SUM(OFFSET(テストデータ!BL3,99,0):OFFSET(テストデータ!BN3,99,0))","v":0},{"$f":"SUM(OFFSET(テストデータ!BL3,99,0):OFFSET(テストデータ!BP3,99,0))","v":0},{"$f":"SUM(OFFSET(テストデータ!BQ3,99,0):OFFSET(テストデータ!BS3,99,0))","v":0},{"$f":"SUM(OFFSET(テストデータ!BQ3,99,0):OFFSET(テストデータ!BU3,99,0))","v":0},{"$f":"SUM(OFFSET(テストデータ!BV3,99,0):OFFSET(テストデータ!BX3,99,0))","v":0},{"$f":"SUM(OFFSET(テストデータ!BV3,99,0):OFFSET(テストデータ!BZ3,99,0))","v":0},{"$f":"SUM(OFFSET(テストデータ!CA3,99,0):OFFSET(テストデータ!CC3,99,0))","v":0},{"$f":"SUM(OFFSET(テストデータ!CA3,99,0):OFFSET(テストデータ!CE3,99,0))","v":0},{"$f":"SUM(OFFSET(テストデータ!CF3,99,0):OFFSET(テストデータ!CH3,99,0))","v":0},{"$f":"SUM(OFFSET(テストデータ!CF3,99,0):OFFSET(テストデータ!CJ3,99,0))","v":0},{"$f":"SUM(OFFSET(テストデータ!CK3,99,0):OFFSET(テストデータ!CM3,99,0))","v":0},{"$f":"SUM(OFFSET(テストデータ!CK3,99,0):OFFSET(テストデータ!CO3,99,0))","v":0},{"$f":"SUM(OFFSET(テストデータ!CP3,99,0):OFFSET(テストデータ!CR3,99,0))","v":0},{"$f":"SUM(OFFSET(テストデータ!CP3,99,0):OFFSET(テストデータ!CT3,99,0))","v":0}]
[null,null,null,null,null,null,null,null,null,null,null,null,null,{"$f":"SUM(OFFSET(テストデータ!$E3,100,9*成績表1!$B$4-9):OFFSET(テストデータ!$G3,100,9*成績表1!$B$4-9))","v":0},{"$f":"SUM(OFFSET(テストデータ!$E3,100,9*成績表1!$B$4-9):OFFSET(テストデータ!I3,100,9*成績表1!$B$4-9))","v":0},{"$f":"SUM(OFFSET(テストデータ!E3,100,0):OFFSET(テストデータ!G3,100,0))","v":0},{"$f":"SUM(OFFSET(テストデータ!E3,100,0):OFFSET(テストデータ!I3,100,0))","v":0},{"$f":"SUM(OFFSET(テストデータ!N3,100,0):OFFSET(テストデータ!P3,100,0))","v":0},{"$f":"SUM(OFFSET(テストデータ!N3,100,0):OFFSET(テストデータ!R3,100,0))","v":0},{"$f":"SUM(OFFSET(テストデータ!W3,100,0):OFFSET(テストデータ!Y3,100,0))","v":0},{"$f":"SUM(OFFSET(テストデータ!W3,100,0):OFFSET(テストデータ!AA3,100,0))","v":0},{"$f":"SUM(OFFSET(テストデータ!AF3,100,0):OFFSET(テストデータ!AH3,100,0))","v":0},{"$f":"SUM(OFFSET(テストデータ!AF3,100,0):OFFSET(テストデータ!AJ3,100,0))","v":0},{"$f":"SUM(OFFSET(テストデータ!AO3,100,0):OFFSET(テストデータ!AQ3,100,0))","v":0},{"$f":"SUM(OFFSET(テストデータ!AO3,100,0):OFFSET(テストデータ!AS3,100,0))","v":0},{"$f":"SUM(OFFSET(テストデータ!AX3,100,0):OFFSET(テストデータ!AZ3,100,0))","v":0},{"$f":"SUM(OFFSET(テストデータ!AX3,100,0):OFFSET(テストデータ!BB3,100,0))","v":0},{"$f":"SUM(OFFSET(テストデータ!BG3,100,0):OFFSET(テストデータ!BI3,100,0))","v":0},{"$f":"SUM(OFFSET(テストデータ!BG3,100,0):OFFSET(テストデータ!BK3,100,0))","v":0},{"$f":"SUM(OFFSET(テストデータ!BL3,100,0):OFFSET(テストデータ!BN3,100,0))","v":0},{"$f":"SUM(OFFSET(テストデータ!BL3,100,0):OFFSET(テストデータ!BP3,100,0))","v":0},{"$f":"SUM(OFFSET(テストデータ!BQ3,100,0):OFFSET(テストデータ!BS3,100,0))","v":0},{"$f":"SUM(OFFSET(テストデータ!BQ3,100,0):OFFSET(テストデータ!BU3,100,0))","v":0},{"$f":"SUM(OFFSET(テストデータ!BV3,100,0):OFFSET(テストデータ!BX3,100,0))","v":0},{"$f":"SUM(OFFSET(テストデータ!BV3,100,0):OFFSET(テストデータ!BZ3,100,0))","v":0},{"$f":"SUM(OFFSET(テストデータ!CA3,100,0):OFFSET(テストデータ!CC3,100,0))","v":0},{"$f":"SUM(OFFSET(テストデータ!CA3,100,0):OFFSET(テストデータ!CE3,100,0))","v":0},{"$f":"SUM(OFFSET(テストデータ!CF3,100,0):OFFSET(テストデータ!CH3,100,0))","v":0},{"$f":"SUM(OFFSET(テストデータ!CF3,100,0):OFFSET(テストデータ!CJ3,100,0))","v":0},{"$f":"SUM(OFFSET(テストデータ!CK3,100,0):OFFSET(テストデータ!CM3,100,0))","v":0},{"$f":"SUM(OFFSET(テストデータ!CK3,100,0):OFFSET(テストデータ!CO3,100,0))","v":0},{"$f":"SUM(OFFSET(テストデータ!CP3,100,0):OFFSET(テストデータ!CR3,100,0))","v":0},{"$f":"SUM(OFFSET(テストデータ!CP3,100,0):OFFSET(テストデータ!CT3,100,0))","v":0}]
[null,null,null,null,null,null,null,null,null,null,null,null,null,{"$f":"SUM(OFFSET(テストデータ!$E3,101,9*成績表1!$B$4-9):OFFSET(テストデータ!$G3,101,9*成績表1!$B$4-9))","v":0},{"$f":"SUM(OFFSET(テストデータ!$E3,101,9*成績表1!$B$4-9):OFFSET(テストデータ!I3,101,9*成績表1!$B$4-9))","v":0},{"$f":"SUM(OFFSET(テストデータ!E3,101,0):OFFSET(テストデータ!G3,101,0))","v":0},{"$f":"SUM(OFFSET(テストデータ!E3,101,0):OFFSET(テストデータ!I3,101,0))","v":0},{"$f":"SUM(OFFSET(テストデータ!N3,101,0):OFFSET(テストデータ!P3,101,0))","v":0},{"$f":"SUM(OFFSET(テストデータ!N3,101,0):OFFSET(テストデータ!R3,101,0))","v":0},{"$f":"SUM(OFFSET(テストデータ!W3,101,0):OFFSET(テストデータ!Y3,101,0))","v":0},{"$f":"SUM(OFFSET(テストデータ!W3,101,0):OFFSET(テストデータ!AA3,101,0))","v":0},{"$f":"SUM(OFFSET(テストデータ!AF3,101,0):OFFSET(テストデータ!AH3,101,0))","v":0},{"$f":"SUM(OFFSET(テストデータ!AF3,101,0):OFFSET(テストデータ!AJ3,101,0))","v":0},{"$f":"SUM(OFFSET(テストデータ!AO3,101,0):OFFSET(テストデータ!AQ3,101,0))","v":0},{"$f":"SUM(OFFSET(テストデータ!AO3,101,0):OFFSET(テストデータ!AS3,101,0))","v":0},{"$f":"SUM(OFFSET(テストデータ!AX3,101,0):OFFSET(テストデータ!AZ3,101,0))","v":0},{"$f":"SUM(OFFSET(テストデータ!AX3,101,0):OFFSET(テストデータ!BB3,101,0))","v":0},{"$f":"SUM(OFFSET(テストデータ!BG3,101,0):OFFSET(テストデータ!BI3,101,0))","v":0},{"$f":"SUM(OFFSET(テストデータ!BG3,101,0):OFFSET(テストデータ!BK3,101,0))","v":0},{"$f":"SUM(OFFSET(テストデータ!BL3,101,0):OFFSET(テストデータ!BN3,101,0))","v":0},{"$f":"SUM(OFFSET(テストデータ!BL3,101,0):OFFSET(テストデータ!BP3,101,0))","v":0},{"$f":"SUM(OFFSET(テストデータ!BQ3,101,0):OFFSET(テストデータ!BS3,101,0))","v":0},{"$f":"SUM(OFFSET(テストデータ!BQ3,101,0):OFFSET(テストデータ!BU3,101,0))","v":0},{"$f":"SUM(OFFSET(テストデータ!BV3,101,0):OFFSET(テストデータ!BX3,101,0))","v":0},{"$f":"SUM(OFFSET(テストデータ!BV3,101,0):OFFSET(テストデータ!BZ3,101,0))","v":0},{"$f":"SUM(OFFSET(テストデータ!CA3,101,0):OFFSET(テストデータ!CC3,101,0))","v":0},{"$f":"SUM(OFFSET(テストデータ!CA3,101,0):OFFSET(テストデータ!CE3,101,0))","v":0},{"$f":"SUM(OFFSET(テストデータ!CF3,101,0):OFFSET(テストデータ!CH3,101,0))","v":0},{"$f":"SUM(OFFSET(テストデータ!CF3,101,0):OFFSET(テストデータ!CJ3,101,0))","v":0},{"$f":"SUM(OFFSET(テストデータ!CK3,101,0):OFFSET(テストデータ!CM3,101,0))","v":0},{"$f":"SUM(OFFSET(テストデータ!CK3,101,0):OFFSET(テストデータ!CO3,101,0))","v":0},{"$f":"SUM(OFFSET(テストデータ!CP3,101,0):OFFSET(テストデータ!CR3,101,0))","v":0},{"$f":"SUM(OFFSET(テストデータ!CP3,101,0):OFFSET(テストデータ!CT3,101,0))","v":0}]
[null,null,null,null,null,null,null,null,null,null,null,null,null,{"$f":"SUM(OFFSET(テストデータ!$E3,102,9*成績表1!$B$4-9):OFFSET(テストデータ!$G3,102,9*成績表1!$B$4-9))","v":0},{"$f":"SUM(OFFSET(テストデータ!$E3,102,9*成績表1!$B$4-9):OFFSET(テストデータ!I3,102,9*成績表1!$B$4-9))","v":0},{"$f":"SUM(OFFSET(テストデータ!E3,102,0):OFFSET(テストデータ!G3,102,0))","v":0},{"$f":"SUM(OFFSET(テストデータ!E3,102,0):OFFSET(テストデータ!I3,102,0))","v":0},{"$f":"SUM(OFFSET(テストデータ!N3,102,0):OFFSET(テストデータ!P3,102,0))","v":0},{"$f":"SUM(OFFSET(テストデータ!N3,102,0):OFFSET(テストデータ!R3,102,0))","v":0},{"$f":"SUM(OFFSET(テストデータ!W3,102,0):OFFSET(テストデータ!Y3,102,0))","v":0},{"$f":"SUM(OFFSET(テストデータ!W3,102,0):OFFSET(テストデータ!AA3,102,0))","v":0},{"$f":"SUM(OFFSET(テストデータ!AF3,102,0):OFFSET(テストデータ!AH3,102,0))","v":0},{"$f":"SUM(OFFSET(テストデータ!AF3,102,0):OFFSET(テストデータ!AJ3,102,0))","v":0},{"$f":"SUM(OFFSET(テストデータ!AO3,102,0):OFFSET(テストデータ!AQ3,102,0))","v":0},{"$f":"SUM(OFFSET(テストデータ!AO3,102,0):OFFSET(テストデータ!AS3,102,0))","v":0},{"$f":"SUM(OFFSET(テストデータ!AX3,102,0):OFFSET(テストデータ!AZ3,102,0))","v":0},{"$f":"SUM(OFFSET(テストデータ!AX3,102,0):OFFSET(テストデータ!BB3,102,0))","v":0},{"$f":"SUM(OFFSET(テストデータ!BG3,102,0):OFFSET(テストデータ!BI3,102,0))","v":0},{"$f":"SUM(OFFSET(テストデータ!BG3,102,0):OFFSET(テストデータ!BK3,102,0))","v":0},{"$f":"SUM(OFFSET(テストデータ!BL3,102,0):OFFSET(テストデータ!BN3,102,0))","v":0},{"$f":"SUM(OFFSET(テストデータ!BL3,102,0):OFFSET(テストデータ!BP3,102,0))","v":0},{"$f":"SUM(OFFSET(テストデータ!BQ3,102,0):OFFSET(テストデータ!BS3,102,0))","v":0},{"$f":"SUM(OFFSET(テストデータ!BQ3,102,0):OFFSET(テストデータ!BU3,102,0))","v":0},{"$f":"SUM(OFFSET(テストデータ!BV3,102,0):OFFSET(テストデータ!BX3,102,0))","v":0},{"$f":"SUM(OFFSET(テストデータ!BV3,102,0):OFFSET(テストデータ!BZ3,102,0))","v":0},{"$f":"SUM(OFFSET(テストデータ!CA3,102,0):OFFSET(テストデータ!CC3,102,0))","v":0},{"$f":"SUM(OFFSET(テストデータ!CA3,102,0):OFFSET(テストデータ!CE3,102,0))","v":0},{"$f":"SUM(OFFSET(テストデータ!CF3,102,0):OFFSET(テストデータ!CH3,102,0))","v":0},{"$f":"SUM(OFFSET(テストデータ!CF3,102,0):OFFSET(テストデータ!CJ3,102,0))","v":0},{"$f":"SUM(OFFSET(テストデータ!CK3,102,0):OFFSET(テストデータ!CM3,102,0))","v":0},{"$f":"SUM(OFFSET(テストデータ!CK3,102,0):OFFSET(テストデータ!CO3,102,0))","v":0},{"$f":"SUM(OFFSET(テストデータ!CP3,102,0):OFFSET(テストデータ!CR3,102,0))","v":0},{"$f":"SUM(OFFSET(テストデータ!CP3,102,0):OFFSET(テストデータ!CT3,102,0))","v":0}]
[null,null,null,null,null,null,null,null,null,null,null,null,null,{"$f":"SUM(OFFSET(テストデータ!$E3,103,9*成績表1!$B$4-9):OFFSET(テストデータ!$G3,103,9*成績表1!$B$4-9))","v":0},{"$f":"SUM(OFFSET(テストデータ!$E3,103,9*成績表1!$B$4-9):OFFSET(テストデータ!I3,103,9*成績表1!$B$4-9))","v":0},{"$f":"SUM(OFFSET(テストデータ!E3,103,0):OFFSET(テストデータ!G3,103,0))","v":0},{"$f":"SUM(OFFSET(テストデータ!E3,103,0):OFFSET(テストデータ!I3,103,0))","v":0},{"$f":"SUM(OFFSET(テストデータ!N3,103,0):OFFSET(テストデータ!P3,103,0))","v":0},{"$f":"SUM(OFFSET(テストデータ!N3,103,0):OFFSET(テストデータ!R3,103,0))","v":0},{"$f":"SUM(OFFSET(テストデータ!W3,103,0):OFFSET(テストデータ!Y3,103,0))","v":0},{"$f":"SUM(OFFSET(テストデータ!W3,103,0):OFFSET(テストデータ!AA3,103,0))","v":0},{"$f":"SUM(OFFSET(テストデータ!AF3,103,0):OFFSET(テストデータ!AH3,103,0))","v":0},{"$f":"SUM(OFFSET(テストデータ!AF3,103,0):OFFSET(テストデータ!AJ3,103,0))","v":0},{"$f":"SUM(OFFSET(テストデータ!AO3,103,0):OFFSET(テストデータ!AQ3,103,0))","v":0},{"$f":"SUM(OFFSET(テストデータ!AO3,103,0):OFFSET(テストデータ!AS3,103,0))","v":0},{"$f":"SUM(OFFSET(テストデータ!AX3,103,0):OFFSET(テストデータ!AZ3,103,0))","v":0},{"$f":"SUM(OFFSET(テストデータ!AX3,103,0):OFFSET(テストデータ!BB3,103,0))","v":0},{"$f":"SUM(OFFSET(テストデータ!BG3,103,0):OFFSET(テストデータ!BI3,103,0))","v":0},{"$f":"SUM(OFFSET(テストデータ!BG3,103,0):OFFSET(テストデータ!BK3,103,0))","v":0},{"$f":"SUM(OFFSET(テストデータ!BL3,103,0):OFFSET(テストデータ!BN3,103,0))","v":0},{"$f":"SUM(OFFSET(テストデータ!BL3,103,0):OFFSET(テストデータ!BP3,103,0))","v":0},{"$f":"SUM(OFFSET(テストデータ!BQ3,103,0):OFFSET(テストデータ!BS3,103,0))","v":0},{"$f":"SUM(OFFSET(テストデータ!BQ3,103,0):OFFSET(テストデータ!BU3,103,0))","v":0},{"$f":"SUM(OFFSET(テストデータ!BV3,103,0):OFFSET(テストデータ!BX3,103,0))","v":0},{"$f":"SUM(OFFSET(テストデータ!BV3,103,0):OFFSET(テストデータ!BZ3,103,0))","v":0},{"$f":"SUM(OFFSET(テストデータ!CA3,103,0):OFFSET(テストデータ!CC3,103,0))","v":0},{"$f":"SUM(OFFSET(テストデータ!CA3,103,0):OFFSET(テストデータ!CE3,103,0))","v":0},{"$f":"SUM(OFFSET(テストデータ!CF3,103,0):OFFSET(テストデータ!CH3,103,0))","v":0},{"$f":"SUM(OFFSET(テストデータ!CF3,103,0):OFFSET(テストデータ!CJ3,103,0))","v":0},{"$f":"SUM(OFFSET(テストデータ!CK3,103,0):OFFSET(テストデータ!CM3,103,0))","v":0},{"$f":"SUM(OFFSET(テストデータ!CK3,103,0):OFFSET(テストデータ!CO3,103,0))","v":0},{"$f":"SUM(OFFSET(テストデータ!CP3,103,0):OFFSET(テストデータ!CR3,103,0))","v":0},{"$f":"SUM(OFFSET(テストデータ!CP3,103,0):OFFSET(テストデータ!CT3,103,0))","v":0}]
[null,null,null,null,null,null,null,null,null,null,null,null,null,{"$f":"SUM(OFFSET(テストデータ!$E3,104,9*成績表1!$B$4-9):OFFSET(テストデータ!$G3,104,9*成績表1!$B$4-9))","v":0},{"$f":"SUM(OFFSET(テストデータ!$E3,104,9*成績表1!$B$4-9):OFFSET(テストデータ!I3,104,9*成績表1!$B$4-9))","v":0},{"$f":"SUM(OFFSET(テストデータ!E3,104,0):OFFSET(テストデータ!G3,104,0))","v":0},{"$f":"SUM(OFFSET(テストデータ!E3,104,0):OFFSET(テストデータ!I3,104,0))","v":0},{"$f":"SUM(OFFSET(テストデータ!N3,104,0):OFFSET(テストデータ!P3,104,0))","v":0},{"$f":"SUM(OFFSET(テストデータ!N3,104,0):OFFSET(テストデータ!R3,104,0))","v":0},{"$f":"SUM(OFFSET(テストデータ!W3,104,0):OFFSET(テストデータ!Y3,104,0))","v":0},{"$f":"SUM(OFFSET(テストデータ!W3,104,0):OFFSET(テストデータ!AA3,104,0))","v":0},{"$f":"SUM(OFFSET(テストデータ!AF3,104,0):OFFSET(テストデータ!AH3,104,0))","v":0},{"$f":"SUM(OFFSET(テストデータ!AF3,104,0):OFFSET(テストデータ!AJ3,104,0))","v":0},{"$f":"SUM(OFFSET(テストデータ!AO3,104,0):OFFSET(テストデータ!AQ3,104,0))","v":0},{"$f":"SUM(OFFSET(テストデータ!AO3,104,0):OFFSET(テストデータ!AS3,104,0))","v":0},{"$f":"SUM(OFFSET(テストデータ!AX3,104,0):OFFSET(テストデータ!AZ3,104,0))","v":0},{"$f":"SUM(OFFSET(テストデータ!AX3,104,0):OFFSET(テストデータ!BB3,104,0))","v":0},{"$f":"SUM(OFFSET(テストデータ!BG3,104,0):OFFSET(テストデータ!BI3,104,0))","v":0},{"$f":"SUM(OFFSET(テストデータ!BG3,104,0):OFFSET(テストデータ!BK3,104,0))","v":0},{"$f":"SUM(OFFSET(テストデータ!BL3,104,0):OFFSET(テストデータ!BN3,104,0))","v":0},{"$f":"SUM(OFFSET(テストデータ!BL3,104,0):OFFSET(テストデータ!BP3,104,0))","v":0},{"$f":"SUM(OFFSET(テストデータ!BQ3,104,0):OFFSET(テストデータ!BS3,104,0))","v":0},{"$f":"SUM(OFFSET(テストデータ!BQ3,104,0):OFFSET(テストデータ!BU3,104,0))","v":0},{"$f":"SUM(OFFSET(テストデータ!BV3,104,0):OFFSET(テストデータ!BX3,104,0))","v":0},{"$f":"SUM(OFFSET(テストデータ!BV3,104,0):OFFSET(テストデータ!BZ3,104,0))","v":0},{"$f":"SUM(OFFSET(テストデータ!CA3,104,0):OFFSET(テストデータ!CC3,104,0))","v":0},{"$f":"SUM(OFFSET(テストデータ!CA3,104,0):OFFSET(テストデータ!CE3,104,0))","v":0},{"$f":"SUM(OFFSET(テストデータ!CF3,104,0):OFFSET(テストデータ!CH3,104,0))","v":0},{"$f":"SUM(OFFSET(テストデータ!CF3,104,0):OFFSET(テストデータ!CJ3,104,0))","v":0},{"$f":"SUM(OFFSET(テストデータ!CK3,104,0):OFFSET(テストデータ!CM3,104,0))","v":0},{"$f":"SUM(OFFSET(テストデータ!CK3,104,0):OFFSET(テストデータ!CO3,104,0))","v":0},{"$f":"SUM(OFFSET(テストデータ!CP3,104,0):OFFSET(テストデータ!CR3,104,0))","v":0},{"$f":"SUM(OFFSET(テストデータ!CP3,104,0):OFFSET(テストデータ!CT3,104,0))","v":0}]
[null,null,null,null,null,null,null,null,null,null,null,null,null,{"$f":"SUM(OFFSET(テストデータ!$E3,105,9*成績表1!$B$4-9):OFFSET(テストデータ!$G3,105,9*成績表1!$B$4-9))","v":0},{"$f":"SUM(OFFSET(テストデータ!$E3,105,9*成績表1!$B$4-9):OFFSET(テストデータ!I3,105,9*成績表1!$B$4-9))","v":0},{"$f":"SUM(OFFSET(テストデータ!E3,105,0):OFFSET(テストデータ!G3,105,0))","v":0},{"$f":"SUM(OFFSET(テストデータ!E3,105,0):OFFSET(テストデータ!I3,105,0))","v":0},{"$f":"SUM(OFFSET(テストデータ!N3,105,0):OFFSET(テストデータ!P3,105,0))","v":0},{"$f":"SUM(OFFSET(テストデータ!N3,105,0):OFFSET(テストデータ!R3,105,0))","v":0},{"$f":"SUM(OFFSET(テストデータ!W3,105,0):OFFSET(テストデータ!Y3,105,0))","v":0},{"$f":"SUM(OFFSET(テストデータ!W3,105,0):OFFSET(テストデータ!AA3,105,0))","v":0},{"$f":"SUM(OFFSET(テストデータ!AF3,105,0):OFFSET(テストデータ!AH3,105,0))","v":0},{"$f":"SUM(OFFSET(テストデータ!AF3,105,0):OFFSET(テストデータ!AJ3,105,0))","v":0},{"$f":"SUM(OFFSET(テストデータ!AO3,105,0):OFFSET(テストデータ!AQ3,105,0))","v":0},{"$f":"SUM(OFFSET(テストデータ!AO3,105,0):OFFSET(テストデータ!AS3,105,0))","v":0},{"$f":"SUM(OFFSET(テストデータ!AX3,105,0):OFFSET(テストデータ!AZ3,105,0))","v":0},{"$f":"SUM(OFFSET(テストデータ!AX3,105,0):OFFSET(テストデータ!BB3,105,0))","v":0},{"$f":"SUM(OFFSET(テストデータ!BG3,105,0):OFFSET(テストデータ!BI3,105,0))","v":0},{"$f":"SUM(OFFSET(テストデータ!BG3,105,0):OFFSET(テストデータ!BK3,105,0))","v":0},{"$f":"SUM(OFFSET(テストデータ!BL3,105,0):OFFSET(テストデータ!BN3,105,0))","v":0},{"$f":"SUM(OFFSET(テストデータ!BL3,105,0):OFFSET(テストデータ!BP3,105,0))","v":0},{"$f":"SUM(OFFSET(テストデータ!BQ3,105,0):OFFSET(テストデータ!BS3,105,0))","v":0},{"$f":"SUM(OFFSET(テストデータ!BQ3,105,0):OFFSET(テストデータ!BU3,105,0))","v":0},{"$f":"SUM(OFFSET(テストデータ!BV3,105,0):OFFSET(テストデータ!BX3,105,0))","v":0},{"$f":"SUM(OFFSET(テストデータ!BV3,105,0):OFFSET(テストデータ!BZ3,105,0))","v":0},{"$f":"SUM(OFFSET(テストデータ!CA3,105,0):OFFSET(テストデータ!CC3,105,0))","v":0},{"$f":"SUM(OFFSET(テストデータ!CA3,105,0):OFFSET(テストデータ!CE3,105,0))","v":0},{"$f":"SUM(OFFSET(テストデータ!CF3,105,0):OFFSET(テストデータ!CH3,105,0))","v":0},{"$f":"SUM(OFFSET(テストデータ!CF3,105,0):OFFSET(テストデータ!CJ3,105,0))","v":0},{"$f":"SUM(OFFSET(テストデータ!CK3,105,0):OFFSET(テストデータ!CM3,105,0))","v":0},{"$f":"SUM(OFFSET(テストデータ!CK3,105,0):OFFSET(テストデータ!CO3,105,0))","v":0},{"$f":"SUM(OFFSET(テストデータ!CP3,105,0):OFFSET(テストデータ!CR3,105,0))","v":0},{"$f":"SUM(OFFSET(テストデータ!CP3,105,0):OFFSET(テストデータ!CT3,105,0))","v":0}]
[null,null,null,null,null,null,null,null,null,null,null,null,null,{"$f":"SUM(OFFSET(テストデータ!$E3,106,9*成績表1!$B$4-9):OFFSET(テストデータ!$G3,106,9*成績表1!$B$4-9))","v":0},{"$f":"SUM(OFFSET(テストデータ!$E3,106,9*成績表1!$B$4-9):OFFSET(テストデータ!I3,106,9*成績表1!$B$4-9))","v":0},{"$f":"SUM(OFFSET(テストデータ!E3,106,0):OFFSET(テストデータ!G3,106,0))","v":0},{"$f":"SUM(OFFSET(テストデータ!E3,106,0):OFFSET(テストデータ!I3,106,0))","v":0},{"$f":"SUM(OFFSET(テストデータ!N3,106,0):OFFSET(テストデータ!P3,106,0))","v":0},{"$f":"SUM(OFFSET(テストデータ!N3,106,0):OFFSET(テストデータ!R3,106,0))","v":0},{"$f":"SUM(OFFSET(テストデータ!W3,106,0):OFFSET(テストデータ!Y3,106,0))","v":0},{"$f":"SUM(OFFSET(テストデータ!W3,106,0):OFFSET(テストデータ!AA3,106,0))","v":0},{"$f":"SUM(OFFSET(テストデータ!AF3,106,0):OFFSET(テストデータ!AH3,106,0))","v":0},{"$f":"SUM(OFFSET(テストデータ!AF3,106,0):OFFSET(テストデータ!AJ3,106,0))","v":0},{"$f":"SUM(OFFSET(テストデータ!AO3,106,0):OFFSET(テストデータ!AQ3,106,0))","v":0},{"$f":"SUM(OFFSET(テストデータ!AO3,106,0):OFFSET(テストデータ!AS3,106,0))","v":0},{"$f":"SUM(OFFSET(テストデータ!AX3,106,0):OFFSET(テストデータ!AZ3,106,0))","v":0},{"$f":"SUM(OFFSET(テストデータ!AX3,106,0):OFFSET(テストデータ!BB3,106,0))","v":0},{"$f":"SUM(OFFSET(テストデータ!BG3,106,0):OFFSET(テストデータ!BI3,106,0))","v":0},{"$f":"SUM(OFFSET(テストデータ!BG3,106,0):OFFSET(テストデータ!BK3,106,0))","v":0},{"$f":"SUM(OFFSET(テストデータ!BL3,106,0):OFFSET(テストデータ!BN3,106,0))","v":0},{"$f":"SUM(OFFSET(テストデータ!BL3,106,0):OFFSET(テストデータ!BP3,106,0))","v":0},{"$f":"SUM(OFFSET(テストデータ!BQ3,106,0):OFFSET(テストデータ!BS3,106,0))","v":0},{"$f":"SUM(OFFSET(テストデータ!BQ3,106,0):OFFSET(テストデータ!BU3,106,0))","v":0},{"$f":"SUM(OFFSET(テストデータ!BV3,106,0):OFFSET(テストデータ!BX3,106,0))","v":0},{"$f":"SUM(OFFSET(テストデータ!BV3,106,0):OFFSET(テストデータ!BZ3,106,0))","v":0},{"$f":"SUM(OFFSET(テストデータ!CA3,106,0):OFFSET(テストデータ!CC3,106,0))","v":0},{"$f":"SUM(OFFSET(テストデータ!CA3,106,0):OFFSET(テストデータ!CE3,106,0))","v":0},{"$f":"SUM(OFFSET(テストデータ!CF3,106,0):OFFSET(テストデータ!CH3,106,0))","v":0},{"$f":"SUM(OFFSET(テストデータ!CF3,106,0):OFFSET(テストデータ!CJ3,106,0))","v":0},{"$f":"SUM(OFFSET(テストデータ!CK3,106,0):OFFSET(テストデータ!CM3,106,0))","v":0},{"$f":"SUM(OFFSET(テストデータ!CK3,106,0):OFFSET(テストデータ!CO3,106,0))","v":0},{"$f":"SUM(OFFSET(テストデータ!CP3,106,0):OFFSET(テストデータ!CR3,106,0))","v":0},{"$f":"SUM(OFFSET(テストデータ!CP3,106,0):OFFSET(テストデータ!CT3,106,0))","v":0}]
[null,null,null,null,null,null,null,null,null,null,null,null,null,{"$f":"SUM(OFFSET(テストデータ!$E3,107,9*成績表1!$B$4-9):OFFSET(テストデータ!$G3,107,9*成績表1!$B$4-9))","v":0},{"$f":"SUM(OFFSET(テストデータ!$E3,107,9*成績表1!$B$4-9):OFFSET(テストデータ!I3,107,9*成績表1!$B$4-9))","v":0},{"$f":"SUM(OFFSET(テストデータ!E3,107,0):OFFSET(テストデータ!G3,107,0))","v":0},{"$f":"SUM(OFFSET(テストデータ!E3,107,0):OFFSET(テストデータ!I3,107,0))","v":0},{"$f":"SUM(OFFSET(テストデータ!N3,107,0):OFFSET(テストデータ!P3,107,0))","v":0},{"$f":"SUM(OFFSET(テストデータ!N3,107,0):OFFSET(テストデータ!R3,107,0))","v":0},{"$f":"SUM(OFFSET(テストデータ!W3,107,0):OFFSET(テストデータ!Y3,107,0))","v":0},{"$f":"SUM(OFFSET(テストデータ!W3,107,0):OFFSET(テストデータ!AA3,107,0))","v":0},{"$f":"SUM(OFFSET(テストデータ!AF3,107,0):OFFSET(テストデータ!AH3,107,0))","v":0},{"$f":"SUM(OFFSET(テストデータ!AF3,107,0):OFFSET(テストデータ!AJ3,107,0))","v":0},{"$f":"SUM(OFFSET(テストデータ!AO3,107,0):OFFSET(テストデータ!AQ3,107,0))","v":0},{"$f":"SUM(OFFSET(テストデータ!AO3,107,0):OFFSET(テストデータ!AS3,107,0))","v":0},{"$f":"SUM(OFFSET(テストデータ!AX3,107,0):OFFSET(テストデータ!AZ3,107,0))","v":0},{"$f":"SUM(OFFSET(テストデータ!AX3,107,0):OFFSET(テストデータ!BB3,107,0))","v":0},{"$f":"SUM(OFFSET(テストデータ!BG3,107,0):OFFSET(テストデータ!BI3,107,0))","v":0},{"$f":"SUM(OFFSET(テストデータ!BG3,107,0):OFFSET(テストデータ!BK3,107,0))","v":0},{"$f":"SUM(OFFSET(テストデータ!BL3,107,0):OFFSET(テストデータ!BN3,107,0))","v":0},{"$f":"SUM(OFFSET(テストデータ!BL3,107,0):OFFSET(テストデータ!BP3,107,0))","v":0},{"$f":"SUM(OFFSET(テストデータ!BQ3,107,0):OFFSET(テストデータ!BS3,107,0))","v":0},{"$f":"SUM(OFFSET(テストデータ!BQ3,107,0):OFFSET(テストデータ!BU3,107,0))","v":0},{"$f":"SUM(OFFSET(テストデータ!BV3,107,0):OFFSET(テストデータ!BX3,107,0))","v":0},{"$f":"SUM(OFFSET(テストデータ!BV3,107,0):OFFSET(テストデータ!BZ3,107,0))","v":0},{"$f":"SUM(OFFSET(テストデータ!CA3,107,0):OFFSET(テストデータ!CC3,107,0))","v":0},{"$f":"SUM(OFFSET(テストデータ!CA3,107,0):OFFSET(テストデータ!CE3,107,0))","v":0},{"$f":"SUM(OFFSET(テストデータ!CF3,107,0):OFFSET(テストデータ!CH3,107,0))","v":0},{"$f":"SUM(OFFSET(テストデータ!CF3,107,0):OFFSET(テストデータ!CJ3,107,0))","v":0},{"$f":"SUM(OFFSET(テストデータ!CK3,107,0):OFFSET(テストデータ!CM3,107,0))","v":0},{"$f":"SUM(OFFSET(テストデータ!CK3,107,0):OFFSET(テストデータ!CO3,107,0))","v":0},{"$f":"SUM(OFFSET(テストデータ!CP3,107,0):OFFSET(テストデータ!CR3,107,0))","v":0},{"$f":"SUM(OFFSET(テストデータ!CP3,107,0):OFFSET(テストデータ!CT3,107,0))","v":0}]
[null,null,null,null,null,null,null,null,null,null,null,null,null,{"$f":"SUM(OFFSET(テストデータ!$E3,108,9*成績表1!$B$4-9):OFFSET(テストデータ!$G3,108,9*成績表1!$B$4-9))","v":0},{"$f":"SUM(OFFSET(テストデータ!$E3,108,9*成績表1!$B$4-9):OFFSET(テストデータ!I3,108,9*成績表1!$B$4-9))","v":0},{"$f":"SUM(OFFSET(テストデータ!E3,108,0):OFFSET(テストデータ!G3,108,0))","v":0},{"$f":"SUM(OFFSET(テストデータ!E3,108,0):OFFSET(テストデータ!I3,108,0))","v":0},{"$f":"SUM(OFFSET(テストデータ!N3,108,0):OFFSET(テストデータ!P3,108,0))","v":0},{"$f":"SUM(OFFSET(テストデータ!N3,108,0):OFFSET(テストデータ!R3,108,0))","v":0},{"$f":"SUM(OFFSET(テストデータ!W3,108,0):OFFSET(テストデータ!Y3,108,0))","v":0},{"$f":"SUM(OFFSET(テストデータ!W3,108,0):OFFSET(テストデータ!AA3,108,0))","v":0},{"$f":"SUM(OFFSET(テストデータ!AF3,108,0):OFFSET(テストデータ!AH3,108,0))","v":0},{"$f":"SUM(OFFSET(テストデータ!AF3,108,0):OFFSET(テストデータ!AJ3,108,0))","v":0},{"$f":"SUM(OFFSET(テストデータ!AO3,108,0):OFFSET(テストデータ!AQ3,108,0))","v":0},{"$f":"SUM(OFFSET(テストデータ!AO3,108,0):OFFSET(テストデータ!AS3,108,0))","v":0},{"$f":"SUM(OFFSET(テストデータ!AX3,108,0):OFFSET(テストデータ!AZ3,108,0))","v":0},{"$f":"SUM(OFFSET(テストデータ!AX3,108,0):OFFSET(テストデータ!BB3,108,0))","v":0},{"$f":"SUM(OFFSET(テストデータ!BG3,108,0):OFFSET(テストデータ!BI3,108,0))","v":0},{"$f":"SUM(OFFSET(テストデータ!BG3,108,0):OFFSET(テストデータ!BK3,108,0))","v":0},{"$f":"SUM(OFFSET(テストデータ!BL3,108,0):OFFSET(テストデータ!BN3,108,0))","v":0},{"$f":"SUM(OFFSET(テストデータ!BL3,108,0):OFFSET(テストデータ!BP3,108,0))","v":0},{"$f":"SUM(OFFSET(テストデータ!BQ3,108,0):OFFSET(テストデータ!BS3,108,0))","v":0},{"$f":"SUM(OFFSET(テストデータ!BQ3,108,0):OFFSET(テストデータ!BU3,108,0))","v":0},{"$f":"SUM(OFFSET(テストデータ!BV3,108,0):OFFSET(テストデータ!BX3,108,0))","v":0},{"$f":"SUM(OFFSET(テストデータ!BV3,108,0):OFFSET(テストデータ!BZ3,108,0))","v":0},{"$f":"SUM(OFFSET(テストデータ!CA3,108,0):OFFSET(テストデータ!CC3,108,0))","v":0},{"$f":"SUM(OFFSET(テストデータ!CA3,108,0):OFFSET(テストデータ!CE3,108,0))","v":0},{"$f":"SUM(OFFSET(テストデータ!CF3,108,0):OFFSET(テストデータ!CH3,108,0))","v":0},{"$f":"SUM(OFFSET(テストデータ!CF3,108,0):OFFSET(テストデータ!CJ3,108,0))","v":0},{"$f":"SUM(OFFSET(テストデータ!CK3,108,0):OFFSET(テストデータ!CM3,108,0))","v":0},{"$f":"SUM(OFFSET(テストデータ!CK3,108,0):OFFSET(テストデータ!CO3,108,0))","v":0},{"$f":"SUM(OFFSET(テストデータ!CP3,108,0):OFFSET(テストデータ!CR3,108,0))","v":0},{"$f":"SUM(OFFSET(テストデータ!CP3,108,0):OFFSET(テストデータ!CT3,108,0))","v":0}]
[null,null,null,null,null,null,null,null,null,null,null,null,null,{"$f":"SUM(OFFSET(テストデータ!$E3,109,9*成績表1!$B$4-9):OFFSET(テストデータ!$G3,109,9*成績表1!$B$4-9))","v":0},{"$f":"SUM(OFFSET(テストデータ!$E3,109,9*成績表1!$B$4-9):OFFSET(テストデータ!I3,109,9*成績表1!$B$4-9))","v":0},{"$f":"SUM(OFFSET(テストデータ!E3,109,0):OFFSET(テストデータ!G3,109,0))","v":0},{"$f":"SUM(OFFSET(テストデータ!E3,109,0):OFFSET(テストデータ!I3,109,0))","v":0},{"$f":"SUM(OFFSET(テストデータ!N3,109,0):OFFSET(テストデータ!P3,109,0))","v":0},{"$f":"SUM(OFFSET(テストデータ!N3,109,0):OFFSET(テストデータ!R3,109,0))","v":0},{"$f":"SUM(OFFSET(テストデータ!W3,109,0):OFFSET(テストデータ!Y3,109,0))","v":0},{"$f":"SUM(OFFSET(テストデータ!W3,109,0):OFFSET(テストデータ!AA3,109,0))","v":0},{"$f":"SUM(OFFSET(テストデータ!AF3,109,0):OFFSET(テストデータ!AH3,109,0))","v":0},{"$f":"SUM(OFFSET(テストデータ!AF3,109,0):OFFSET(テストデータ!AJ3,109,0))","v":0},{"$f":"SUM(OFFSET(テストデータ!AO3,109,0):OFFSET(テストデータ!AQ3,109,0))","v":0},{"$f":"SUM(OFFSET(テストデータ!AO3,109,0):OFFSET(テストデータ!AS3,109,0))","v":0},{"$f":"SUM(OFFSET(テストデータ!AX3,109,0):OFFSET(テストデータ!AZ3,109,0))","v":0},{"$f":"SUM(OFFSET(テストデータ!AX3,109,0):OFFSET(テストデータ!BB3,109,0))","v":0},{"$f":"SUM(OFFSET(テストデータ!BG3,109,0):OFFSET(テストデータ!BI3,109,0))","v":0},{"$f":"SUM(OFFSET(テストデータ!BG3,109,0):OFFSET(テストデータ!BK3,109,0))","v":0},{"$f":"SUM(OFFSET(テストデータ!BL3,109,0):OFFSET(テストデータ!BN3,109,0))","v":0},{"$f":"SUM(OFFSET(テストデータ!BL3,109,0):OFFSET(テストデータ!BP3,109,0))","v":0},{"$f":"SUM(OFFSET(テストデータ!BQ3,109,0):OFFSET(テストデータ!BS3,109,0))","v":0},{"$f":"SUM(OFFSET(テストデータ!BQ3,109,0):OFFSET(テストデータ!BU3,109,0))","v":0},{"$f":"SUM(OFFSET(テストデータ!BV3,109,0):OFFSET(テストデータ!BX3,109,0))","v":0},{"$f":"SUM(OFFSET(テストデータ!BV3,109,0):OFFSET(テストデータ!BZ3,109,0))","v":0},{"$f":"SUM(OFFSET(テストデータ!CA3,109,0):OFFSET(テストデータ!CC3,109,0))","v":0},{"$f":"SUM(OFFSET(テストデータ!CA3,109,0):OFFSET(テストデータ!CE3,109,0))","v":0},{"$f":"SUM(OFFSET(テストデータ!CF3,109,0):OFFSET(テストデータ!CH3,109,0))","v":0},{"$f":"SUM(OFFSET(テストデータ!CF3,109,0):OFFSET(テストデータ!CJ3,109,0))","v":0},{"$f":"SUM(OFFSET(テストデータ!CK3,109,0):OFFSET(テストデータ!CM3,109,0))","v":0},{"$f":"SUM(OFFSET(テストデータ!CK3,109,0):OFFSET(テストデータ!CO3,109,0))","v":0},{"$f":"SUM(OFFSET(テストデータ!CP3,109,0):OFFSET(テストデータ!CR3,109,0))","v":0},{"$f":"SUM(OFFSET(テストデータ!CP3,109,0):OFFSET(テストデータ!CT3,109,0))","v":0}]
[null,null,null,null,null,null,null,null,null,null,null,null,null,{"$f":"SUM(OFFSET(テストデータ!$E3,110,9*成績表1!$B$4-9):OFFSET(テストデータ!$G3,110,9*成績表1!$B$4-9))","v":0},{"$f":"SUM(OFFSET(テストデータ!$E3,110,9*成績表1!$B$4-9):OFFSET(テストデータ!I3,110,9*成績表1!$B$4-9))","v":0},{"$f":"SUM(OFFSET(テストデータ!E3,110,0):OFFSET(テストデータ!G3,110,0))","v":0},{"$f":"SUM(OFFSET(テストデータ!E3,110,0):OFFSET(テストデータ!I3,110,0))","v":0},{"$f":"SUM(OFFSET(テストデータ!N3,110,0):OFFSET(テストデータ!P3,110,0))","v":0},{"$f":"SUM(OFFSET(テストデータ!N3,110,0):OFFSET(テストデータ!R3,110,0))","v":0},{"$f":"SUM(OFFSET(テストデータ!W3,110,0):OFFSET(テストデータ!Y3,110,0))","v":0},{"$f":"SUM(OFFSET(テストデータ!W3,110,0):OFFSET(テストデータ!AA3,110,0))","v":0},{"$f":"SUM(OFFSET(テストデータ!AF3,110,0):OFFSET(テストデータ!AH3,110,0))","v":0},{"$f":"SUM(OFFSET(テストデータ!AF3,110,0):OFFSET(テストデータ!AJ3,110,0))","v":0},{"$f":"SUM(OFFSET(テストデータ!AO3,110,0):OFFSET(テストデータ!AQ3,110,0))","v":0},{"$f":"SUM(OFFSET(テストデータ!AO3,110,0):OFFSET(テストデータ!AS3,110,0))","v":0},{"$f":"SUM(OFFSET(テストデータ!AX3,110,0):OFFSET(テストデータ!AZ3,110,0))","v":0},{"$f":"SUM(OFFSET(テストデータ!AX3,110,0):OFFSET(テストデータ!BB3,110,0))","v":0},{"$f":"SUM(OFFSET(テストデータ!BG3,110,0):OFFSET(テストデータ!BI3,110,0))","v":0},{"$f":"SUM(OFFSET(テストデータ!BG3,110,0):OFFSET(テストデータ!BK3,110,0))","v":0},{"$f":"SUM(OFFSET(テストデータ!BL3,110,0):OFFSET(テストデータ!BN3,110,0))","v":0},{"$f":"SUM(OFFSET(テストデータ!BL3,110,0):OFFSET(テストデータ!BP3,110,0))","v":0},{"$f":"SUM(OFFSET(テストデータ!BQ3,110,0):OFFSET(テストデータ!BS3,110,0))","v":0},{"$f":"SUM(OFFSET(テストデータ!BQ3,110,0):OFFSET(テストデータ!BU3,110,0))","v":0},{"$f":"SUM(OFFSET(テストデータ!BV3,110,0):OFFSET(テストデータ!BX3,110,0))","v":0},{"$f":"SUM(OFFSET(テストデータ!BV3,110,0):OFFSET(テストデータ!BZ3,110,0))","v":0},{"$f":"SUM(OFFSET(テストデータ!CA3,110,0):OFFSET(テストデータ!CC3,110,0))","v":0},{"$f":"SUM(OFFSET(テストデータ!CA3,110,0):OFFSET(テストデータ!CE3,110,0))","v":0},{"$f":"SUM(OFFSET(テストデータ!CF3,110,0):OFFSET(テストデータ!CH3,110,0))","v":0},{"$f":"SUM(OFFSET(テストデータ!CF3,110,0):OFFSET(テストデータ!CJ3,110,0))","v":0},{"$f":"SUM(OFFSET(テストデータ!CK3,110,0):OFFSET(テストデータ!CM3,110,0))","v":0},{"$f":"SUM(OFFSET(テストデータ!CK3,110,0):OFFSET(テストデータ!CO3,110,0))","v":0},{"$f":"SUM(OFFSET(テストデータ!CP3,110,0):OFFSET(テストデータ!CR3,110,0))","v":0},{"$f":"SUM(OFFSET(テストデータ!CP3,110,0):OFFSET(テストデータ!CT3,110,0))","v":0}]
[null,null,null,null,null,null,null,null,null,null,null,null,null,{"$f":"SUM(OFFSET(テストデータ!$E3,111,9*成績表1!$B$4-9):OFFSET(テストデータ!$G3,111,9*成績表1!$B$4-9))","v":0},{"$f":"SUM(OFFSET(テストデータ!$E3,111,9*成績表1!$B$4-9):OFFSET(テストデータ!I3,111,9*成績表1!$B$4-9))","v":0},{"$f":"SUM(OFFSET(テストデータ!E3,111,0):OFFSET(テストデータ!G3,111,0))","v":0},{"$f":"SUM(OFFSET(テストデータ!E3,111,0):OFFSET(テストデータ!I3,111,0))","v":0},{"$f":"SUM(OFFSET(テストデータ!N3,111,0):OFFSET(テストデータ!P3,111,0))","v":0},{"$f":"SUM(OFFSET(テストデータ!N3,111,0):OFFSET(テストデータ!R3,111,0))","v":0},{"$f":"SUM(OFFSET(テストデータ!W3,111,0):OFFSET(テストデータ!Y3,111,0))","v":0},{"$f":"SUM(OFFSET(テストデータ!W3,111,0):OFFSET(テストデータ!AA3,111,0))","v":0},{"$f":"SUM(OFFSET(テストデータ!AF3,111,0):OFFSET(テストデータ!AH3,111,0))","v":0},{"$f":"SUM(OFFSET(テストデータ!AF3,111,0):OFFSET(テストデータ!AJ3,111,0))","v":0},{"$f":"SUM(OFFSET(テストデータ!AO3,111,0):OFFSET(テストデータ!AQ3,111,0))","v":0},{"$f":"SUM(OFFSET(テストデータ!AO3,111,0):OFFSET(テストデータ!AS3,111,0))","v":0},{"$f":"SUM(OFFSET(テストデータ!AX3,111,0):OFFSET(テストデータ!AZ3,111,0))","v":0},{"$f":"SUM(OFFSET(テストデータ!AX3,111,0):OFFSET(テストデータ!BB3,111,0))","v":0},{"$f":"SUM(OFFSET(テストデータ!BG3,111,0):OFFSET(テストデータ!BI3,111,0))","v":0},{"$f":"SUM(OFFSET(テストデータ!BG3,111,0):OFFSET(テストデータ!BK3,111,0))","v":0},{"$f":"SUM(OFFSET(テストデータ!BL3,111,0):OFFSET(テストデータ!BN3,111,0))","v":0},{"$f":"SUM(OFFSET(テストデータ!BL3,111,0):OFFSET(テストデータ!BP3,111,0))","v":0},{"$f":"SUM(OFFSET(テストデータ!BQ3,111,0):OFFSET(テストデータ!BS3,111,0))","v":0},{"$f":"SUM(OFFSET(テストデータ!BQ3,111,0):OFFSET(テストデータ!BU3,111,0))","v":0},{"$f":"SUM(OFFSET(テストデータ!BV3,111,0):OFFSET(テストデータ!BX3,111,0))","v":0},{"$f":"SUM(OFFSET(テストデータ!BV3,111,0):OFFSET(テストデータ!BZ3,111,0))","v":0},{"$f":"SUM(OFFSET(テストデータ!CA3,111,0):OFFSET(テストデータ!CC3,111,0))","v":0},{"$f":"SUM(OFFSET(テストデータ!CA3,111,0):OFFSET(テストデータ!CE3,111,0))","v":0},{"$f":"SUM(OFFSET(テストデータ!CF3,111,0):OFFSET(テストデータ!CH3,111,0))","v":0},{"$f":"SUM(OFFSET(テストデータ!CF3,111,0):OFFSET(テストデータ!CJ3,111,0))","v":0},{"$f":"SUM(OFFSET(テストデータ!CK3,111,0):OFFSET(テストデータ!CM3,111,0))","v":0},{"$f":"SUM(OFFSET(テストデータ!CK3,111,0):OFFSET(テストデータ!CO3,111,0))","v":0},{"$f":"SUM(OFFSET(テストデータ!CP3,111,0):OFFSET(テストデータ!CR3,111,0))","v":0},{"$f":"SUM(OFFSET(テストデータ!CP3,111,0):OFFSET(テストデータ!CT3,111,0))","v":0}]
[null,null,null,null,null,null,null,null,null,null,null,null,null,{"$f":"SUM(OFFSET(テストデータ!$E3,112,9*成績表1!$B$4-9):OFFSET(テストデータ!$G3,112,9*成績表1!$B$4-9))","v":0},{"$f":"SUM(OFFSET(テストデータ!$E3,112,9*成績表1!$B$4-9):OFFSET(テストデータ!I3,112,9*成績表1!$B$4-9))","v":0},{"$f":"SUM(OFFSET(テストデータ!E3,112,0):OFFSET(テストデータ!G3,112,0))","v":0},{"$f":"SUM(OFFSET(テストデータ!E3,112,0):OFFSET(テストデータ!I3,112,0))","v":0},{"$f":"SUM(OFFSET(テストデータ!N3,112,0):OFFSET(テストデータ!P3,112,0))","v":0},{"$f":"SUM(OFFSET(テストデータ!N3,112,0):OFFSET(テストデータ!R3,112,0))","v":0},{"$f":"SUM(OFFSET(テストデータ!W3,112,0):OFFSET(テストデータ!Y3,112,0))","v":0},{"$f":"SUM(OFFSET(テストデータ!W3,112,0):OFFSET(テストデータ!AA3,112,0))","v":0},{"$f":"SUM(OFFSET(テストデータ!AF3,112,0):OFFSET(テストデータ!AH3,112,0))","v":0},{"$f":"SUM(OFFSET(テストデータ!AF3,112,0):OFFSET(テストデータ!AJ3,112,0))","v":0},{"$f":"SUM(OFFSET(テストデータ!AO3,112,0):OFFSET(テストデータ!AQ3,112,0))","v":0},{"$f":"SUM(OFFSET(テストデータ!AO3,112,0):OFFSET(テストデータ!AS3,112,0))","v":0},{"$f":"SUM(OFFSET(テストデータ!AX3,112,0):OFFSET(テストデータ!AZ3,112,0))","v":0},{"$f":"SUM(OFFSET(テストデータ!AX3,112,0):OFFSET(テストデータ!BB3,112,0))","v":0},{"$f":"SUM(OFFSET(テストデータ!BG3,112,0):OFFSET(テストデータ!BI3,112,0))","v":0},{"$f":"SUM(OFFSET(テストデータ!BG3,112,0):OFFSET(テストデータ!BK3,112,0))","v":0},{"$f":"SUM(OFFSET(テストデータ!BL3,112,0):OFFSET(テストデータ!BN3,112,0))","v":0},{"$f":"SUM(OFFSET(テストデータ!BL3,112,0):OFFSET(テストデータ!BP3,112,0))","v":0},{"$f":"SUM(OFFSET(テストデータ!BQ3,112,0):OFFSET(テストデータ!BS3,112,0))","v":0},{"$f":"SUM(OFFSET(テストデータ!BQ3,112,0):OFFSET(テストデータ!BU3,112,0))","v":0},{"$f":"SUM(OFFSET(テストデータ!BV3,112,0):OFFSET(テストデータ!BX3,112,0))","v":0},{"$f":"SUM(OFFSET(テストデータ!BV3,112,0):OFFSET(テストデータ!BZ3,112,0))","v":0},{"$f":"SUM(OFFSET(テストデータ!CA3,112,0):OFFSET(テストデータ!CC3,112,0))","v":0},{"$f":"SUM(OFFSET(テストデータ!CA3,112,0):OFFSET(テストデータ!CE3,112,0))","v":0},{"$f":"SUM(OFFSET(テストデータ!CF3,112,0):OFFSET(テストデータ!CH3,112,0))","v":0},{"$f":"SUM(OFFSET(テストデータ!CF3,112,0):OFFSET(テストデータ!CJ3,112,0))","v":0},{"$f":"SUM(OFFSET(テストデータ!CK3,112,0):OFFSET(テストデータ!CM3,112,0))","v":0},{"$f":"SUM(OFFSET(テストデータ!CK3,112,0):OFFSET(テストデータ!CO3,112,0))","v":0},{"$f":"SUM(OFFSET(テストデータ!CP3,112,0):OFFSET(テストデータ!CR3,112,0))","v":0},{"$f":"SUM(OFFSET(テストデータ!CP3,112,0):OFFSET(テストデータ!CT3,112,0))","v":0}]
[null,null,null,null,null,null,null,null,null,null,null,null,null,{"$f":"SUM(OFFSET(テストデータ!$E3,113,9*成績表1!$B$4-9):OFFSET(テストデータ!$G3,113,9*成績表1!$B$4-9))","v":0},{"$f":"SUM(OFFSET(テストデータ!$E3,113,9*成績表1!$B$4-9):OFFSET(テストデータ!I3,113,9*成績表1!$B$4-9))","v":0},{"$f":"SUM(OFFSET(テストデータ!E3,113,0):OFFSET(テストデータ!G3,113,0))","v":0},{"$f":"SUM(OFFSET(テストデータ!E3,113,0):OFFSET(テストデータ!I3,113,0))","v":0},{"$f":"SUM(OFFSET(テストデータ!N3,113,0):OFFSET(テストデータ!P3,113,0))","v":0},{"$f":"SUM(OFFSET(テストデータ!N3,113,0):OFFSET(テストデータ!R3,113,0))","v":0},{"$f":"SUM(OFFSET(テストデータ!W3,113,0):OFFSET(テストデータ!Y3,113,0))","v":0},{"$f":"SUM(OFFSET(テストデータ!W3,113,0):OFFSET(テストデータ!AA3,113,0))","v":0},{"$f":"SUM(OFFSET(テストデータ!AF3,113,0):OFFSET(テストデータ!AH3,113,0))","v":0},{"$f":"SUM(OFFSET(テストデータ!AF3,113,0):OFFSET(テストデータ!AJ3,113,0))","v":0},{"$f":"SUM(OFFSET(テストデータ!AO3,113,0):OFFSET(テストデータ!AQ3,113,0))","v":0},{"$f":"SUM(OFFSET(テストデータ!AO3,113,0):OFFSET(テストデータ!AS3,113,0))","v":0},{"$f":"SUM(OFFSET(テストデータ!AX3,113,0):OFFSET(テストデータ!AZ3,113,0))","v":0},{"$f":"SUM(OFFSET(テストデータ!AX3,113,0):OFFSET(テストデータ!BB3,113,0))","v":0},{"$f":"SUM(OFFSET(テストデータ!BG3,113,0):OFFSET(テストデータ!BI3,113,0))","v":0},{"$f":"SUM(OFFSET(テストデータ!BG3,113,0):OFFSET(テストデータ!BK3,113,0))","v":0},{"$f":"SUM(OFFSET(テストデータ!BL3,113,0):OFFSET(テストデータ!BN3,113,0))","v":0},{"$f":"SUM(OFFSET(テストデータ!BL3,113,0):OFFSET(テストデータ!BP3,113,0))","v":0},{"$f":"SUM(OFFSET(テストデータ!BQ3,113,0):OFFSET(テストデータ!BS3,113,0))","v":0},{"$f":"SUM(OFFSET(テストデータ!BQ3,113,0):OFFSET(テストデータ!BU3,113,0))","v":0},{"$f":"SUM(OFFSET(テストデータ!BV3,113,0):OFFSET(テストデータ!BX3,113,0))","v":0},{"$f":"SUM(OFFSET(テストデータ!BV3,113,0):OFFSET(テストデータ!BZ3,113,0))","v":0},{"$f":"SUM(OFFSET(テストデータ!CA3,113,0):OFFSET(テストデータ!CC3,113,0))","v":0},{"$f":"SUM(OFFSET(テストデータ!CA3,113,0):OFFSET(テストデータ!CE3,113,0))","v":0},{"$f":"SUM(OFFSET(テストデータ!CF3,113,0):OFFSET(テストデータ!CH3,113,0))","v":0},{"$f":"SUM(OFFSET(テストデータ!CF3,113,0):OFFSET(テストデータ!CJ3,113,0))","v":0},{"$f":"SUM(OFFSET(テストデータ!CK3,113,0):OFFSET(テストデータ!CM3,113,0))","v":0},{"$f":"SUM(OFFSET(テストデータ!CK3,113,0):OFFSET(テストデータ!CO3,113,0))","v":0},{"$f":"SUM(OFFSET(テストデータ!CP3,113,0):OFFSET(テストデータ!CR3,113,0))","v":0},{"$f":"SUM(OFFSET(テストデータ!CP3,113,0):OFFSET(テストデータ!CT3,113,0))","v":0}]
[null,null,null,null,null,null,null,null,null,null,null,null,null,{"$f":"SUM(OFFSET(テストデータ!$E3,114,9*成績表1!$B$4-9):OFFSET(テストデータ!$G3,114,9*成績表1!$B$4-9))","v":0},{"$f":"SUM(OFFSET(テストデータ!$E3,114,9*成績表1!$B$4-9):OFFSET(テストデータ!I3,114,9*成績表1!$B$4-9))","v":0},{"$f":"SUM(OFFSET(テストデータ!E3,114,0):OFFSET(テストデータ!G3,114,0))","v":0},{"$f":"SUM(OFFSET(テストデータ!E3,114,0):OFFSET(テストデータ!I3,114,0))","v":0},{"$f":"SUM(OFFSET(テストデータ!N3,114,0):OFFSET(テストデータ!P3,114,0))","v":0},{"$f":"SUM(OFFSET(テストデータ!N3,114,0):OFFSET(テストデータ!R3,114,0))","v":0},{"$f":"SUM(OFFSET(テストデータ!W3,114,0):OFFSET(テストデータ!Y3,114,0))","v":0},{"$f":"SUM(OFFSET(テストデータ!W3,114,0):OFFSET(テストデータ!AA3,114,0))","v":0},{"$f":"SUM(OFFSET(テストデータ!AF3,114,0):OFFSET(テストデータ!AH3,114,0))","v":0},{"$f":"SUM(OFFSET(テストデータ!AF3,114,0):OFFSET(テストデータ!AJ3,114,0))","v":0},{"$f":"SUM(OFFSET(テストデータ!AO3,114,0):OFFSET(テストデータ!AQ3,114,0))","v":0},{"$f":"SUM(OFFSET(テストデータ!AO3,114,0):OFFSET(テストデータ!AS3,114,0))","v":0},{"$f":"SUM(OFFSET(テストデータ!AX3,114,0):OFFSET(テストデータ!AZ3,114,0))","v":0},{"$f":"SUM(OFFSET(テストデータ!AX3,114,0):OFFSET(テストデータ!BB3,114,0))","v":0},{"$f":"SUM(OFFSET(テストデータ!BG3,114,0):OFFSET(テストデータ!BI3,114,0))","v":0},{"$f":"SUM(OFFSET(テストデータ!BG3,114,0):OFFSET(テストデータ!BK3,114,0))","v":0},{"$f":"SUM(OFFSET(テストデータ!BL3,114,0):OFFSET(テストデータ!BN3,114,0))","v":0},{"$f":"SUM(OFFSET(テストデータ!BL3,114,0):OFFSET(テストデータ!BP3,114,0))","v":0},{"$f":"SUM(OFFSET(テストデータ!BQ3,114,0):OFFSET(テストデータ!BS3,114,0))","v":0},{"$f":"SUM(OFFSET(テストデータ!BQ3,114,0):OFFSET(テストデータ!BU3,114,0))","v":0},{"$f":"SUM(OFFSET(テストデータ!BV3,114,0):OFFSET(テストデータ!BX3,114,0))","v":0},{"$f":"SUM(OFFSET(テストデータ!BV3,114,0):OFFSET(テストデータ!BZ3,114,0))","v":0},{"$f":"SUM(OFFSET(テストデータ!CA3,114,0):OFFSET(テストデータ!CC3,114,0))","v":0},{"$f":"SUM(OFFSET(テストデータ!CA3,114,0):OFFSET(テストデータ!CE3,114,0))","v":0},{"$f":"SUM(OFFSET(テストデータ!CF3,114,0):OFFSET(テストデータ!CH3,114,0))","v":0},{"$f":"SUM(OFFSET(テストデータ!CF3,114,0):OFFSET(テストデータ!CJ3,114,0))","v":0},{"$f":"SUM(OFFSET(テストデータ!CK3,114,0):OFFSET(テストデータ!CM3,114,0))","v":0},{"$f":"SUM(OFFSET(テストデータ!CK3,114,0):OFFSET(テストデータ!CO3,114,0))","v":0},{"$f":"SUM(OFFSET(テストデータ!CP3,114,0):OFFSET(テストデータ!CR3,114,0))","v":0},{"$f":"SUM(OFFSET(テストデータ!CP3,114,0):OFFSET(テストデータ!CT3,114,0))","v":0}]
[null,null,null,null,null,null,null,null,null,null,null,null,null,{"$f":"SUM(OFFSET(テストデータ!$E3,115,9*成績表1!$B$4-9):OFFSET(テストデータ!$G3,115,9*成績表1!$B$4-9))","v":0},{"$f":"SUM(OFFSET(テストデータ!$E3,115,9*成績表1!$B$4-9):OFFSET(テストデータ!I3,115,9*成績表1!$B$4-9))","v":0},{"$f":"SUM(OFFSET(テストデータ!E3,115,0):OFFSET(テストデータ!G3,115,0))","v":0},{"$f":"SUM(OFFSET(テストデータ!E3,115,0):OFFSET(テストデータ!I3,115,0))","v":0},{"$f":"SUM(OFFSET(テストデータ!N3,115,0):OFFSET(テストデータ!P3,115,0))","v":0},{"$f":"SUM(OFFSET(テストデータ!N3,115,0):OFFSET(テストデータ!R3,115,0))","v":0},{"$f":"SUM(OFFSET(テストデータ!W3,115,0):OFFSET(テストデータ!Y3,115,0))","v":0},{"$f":"SUM(OFFSET(テストデータ!W3,115,0):OFFSET(テストデータ!AA3,115,0))","v":0},{"$f":"SUM(OFFSET(テストデータ!AF3,115,0):OFFSET(テストデータ!AH3,115,0))","v":0},{"$f":"SUM(OFFSET(テストデータ!AF3,115,0):OFFSET(テストデータ!AJ3,115,0))","v":0},{"$f":"SUM(OFFSET(テストデータ!AO3,115,0):OFFSET(テストデータ!AQ3,115,0))","v":0},{"$f":"SUM(OFFSET(テストデータ!AO3,115,0):OFFSET(テストデータ!AS3,115,0))","v":0},{"$f":"SUM(OFFSET(テストデータ!AX3,115,0):OFFSET(テストデータ!AZ3,115,0))","v":0},{"$f":"SUM(OFFSET(テストデータ!AX3,115,0):OFFSET(テストデータ!BB3,115,0))","v":0},{"$f":"SUM(OFFSET(テストデータ!BG3,115,0):OFFSET(テストデータ!BI3,115,0))","v":0},{"$f":"SUM(OFFSET(テストデータ!BG3,115,0):OFFSET(テストデータ!BK3,115,0))","v":0},{"$f":"SUM(OFFSET(テストデータ!BL3,115,0):OFFSET(テストデータ!BN3,115,0))","v":0},{"$f":"SUM(OFFSET(テストデータ!BL3,115,0):OFFSET(テストデータ!BP3,115,0))","v":0},{"$f":"SUM(OFFSET(テストデータ!BQ3,115,0):OFFSET(テストデータ!BS3,115,0))","v":0},{"$f":"SUM(OFFSET(テストデータ!BQ3,115,0):OFFSET(テストデータ!BU3,115,0))","v":0},{"$f":"SUM(OFFSET(テストデータ!BV3,115,0):OFFSET(テストデータ!BX3,115,0))","v":0},{"$f":"SUM(OFFSET(テストデータ!BV3,115,0):OFFSET(テストデータ!BZ3,115,0))","v":0},{"$f":"SUM(OFFSET(テストデータ!CA3,115,0):OFFSET(テストデータ!CC3,115,0))","v":0},{"$f":"SUM(OFFSET(テストデータ!CA3,115,0):OFFSET(テストデータ!CE3,115,0))","v":0},{"$f":"SUM(OFFSET(テストデータ!CF3,115,0):OFFSET(テストデータ!CH3,115,0))","v":0},{"$f":"SUM(OFFSET(テストデータ!CF3,115,0):OFFSET(テストデータ!CJ3,115,0))","v":0},{"$f":"SUM(OFFSET(テストデータ!CK3,115,0):OFFSET(テストデータ!CM3,115,0))","v":0},{"$f":"SUM(OFFSET(テストデータ!CK3,115,0):OFFSET(テストデータ!CO3,115,0))","v":0},{"$f":"SUM(OFFSET(テストデータ!CP3,115,0):OFFSET(テストデータ!CR3,115,0))","v":0},{"$f":"SUM(OFFSET(テストデータ!CP3,115,0):OFFSET(テストデータ!CT3,115,0))","v":0}]
[null,null,null,null,null,null,null,null,null,null,null,null,null,{"$f":"SUM(OFFSET(テストデータ!$E3,116,9*成績表1!$B$4-9):OFFSET(テストデータ!$G3,116,9*成績表1!$B$4-9))","v":0},{"$f":"SUM(OFFSET(テストデータ!$E3,116,9*成績表1!$B$4-9):OFFSET(テストデータ!I3,116,9*成績表1!$B$4-9))","v":0},{"$f":"SUM(OFFSET(テストデータ!E3,116,0):OFFSET(テストデータ!G3,116,0))","v":0},{"$f":"SUM(OFFSET(テストデータ!E3,116,0):OFFSET(テストデータ!I3,116,0))","v":0},{"$f":"SUM(OFFSET(テストデータ!N3,116,0):OFFSET(テストデータ!P3,116,0))","v":0},{"$f":"SUM(OFFSET(テストデータ!N3,116,0):OFFSET(テストデータ!R3,116,0))","v":0},{"$f":"SUM(OFFSET(テストデータ!W3,116,0):OFFSET(テストデータ!Y3,116,0))","v":0},{"$f":"SUM(OFFSET(テストデータ!W3,116,0):OFFSET(テストデータ!AA3,116,0))","v":0},{"$f":"SUM(OFFSET(テストデータ!AF3,116,0):OFFSET(テストデータ!AH3,116,0))","v":0},{"$f":"SUM(OFFSET(テストデータ!AF3,116,0):OFFSET(テストデータ!AJ3,116,0))","v":0},{"$f":"SUM(OFFSET(テストデータ!AO3,116,0):OFFSET(テストデータ!AQ3,116,0))","v":0},{"$f":"SUM(OFFSET(テストデータ!AO3,116,0):OFFSET(テストデータ!AS3,116,0))","v":0},{"$f":"SUM(OFFSET(テストデータ!AX3,116,0):OFFSET(テストデータ!AZ3,116,0))","v":0},{"$f":"SUM(OFFSET(テストデータ!AX3,116,0):OFFSET(テストデータ!BB3,116,0))","v":0},{"$f":"SUM(OFFSET(テストデータ!BG3,116,0):OFFSET(テストデータ!BI3,116,0))","v":0},{"$f":"SUM(OFFSET(テストデータ!BG3,116,0):OFFSET(テストデータ!BK3,116,0))","v":0},{"$f":"SUM(OFFSET(テストデータ!BL3,116,0):OFFSET(テストデータ!BN3,116,0))","v":0},{"$f":"SUM(OFFSET(テストデータ!BL3,116,0):OFFSET(テストデータ!BP3,116,0))","v":0},{"$f":"SUM(OFFSET(テストデータ!BQ3,116,0):OFFSET(テストデータ!BS3,116,0))","v":0},{"$f":"SUM(OFFSET(テストデータ!BQ3,116,0):OFFSET(テストデータ!BU3,116,0))","v":0},{"$f":"SUM(OFFSET(テストデータ!BV3,116,0):OFFSET(テストデータ!BX3,116,0))","v":0},{"$f":"SUM(OFFSET(テストデータ!BV3,116,0):OFFSET(テストデータ!BZ3,116,0))","v":0},{"$f":"SUM(OFFSET(テストデータ!CA3,116,0):OFFSET(テストデータ!CC3,116,0))","v":0},{"$f":"SUM(OFFSET(テストデータ!CA3,116,0):OFFSET(テストデータ!CE3,116,0))","v":0},{"$f":"SUM(OFFSET(テストデータ!CF3,116,0):OFFSET(テストデータ!CH3,116,0))","v":0},{"$f":"SUM(OFFSET(テストデータ!CF3,116,0):OFFSET(テストデータ!CJ3,116,0))","v":0},{"$f":"SUM(OFFSET(テストデータ!CK3,116,0):OFFSET(テストデータ!CM3,116,0))","v":0},{"$f":"SUM(OFFSET(テストデータ!CK3,116,0):OFFSET(テストデータ!CO3,116,0))","v":0},{"$f":"SUM(OFFSET(テストデータ!CP3,116,0):OFFSET(テストデータ!CR3,116,0))","v":0},{"$f":"SUM(OFFSET(テストデータ!CP3,116,0):OFFSET(テストデータ!CT3,116,0))","v":0}]
[null,null,null,null,null,null,null,null,null,null,null,null,null,{"$f":"SUM(OFFSET(テストデータ!$E3,117,9*成績表1!$B$4-9):OFFSET(テストデータ!$G3,117,9*成績表1!$B$4-9))","v":0},{"$f":"SUM(OFFSET(テストデータ!$E3,117,9*成績表1!$B$4-9):OFFSET(テストデータ!I3,117,9*成績表1!$B$4-9))","v":0},{"$f":"SUM(OFFSET(テストデータ!E3,117,0):OFFSET(テストデータ!G3,117,0))","v":0},{"$f":"SUM(OFFSET(テストデータ!E3,117,0):OFFSET(テストデータ!I3,117,0))","v":0},{"$f":"SUM(OFFSET(テストデータ!N3,117,0):OFFSET(テストデータ!P3,117,0))","v":0},{"$f":"SUM(OFFSET(テストデータ!N3,117,0):OFFSET(テストデータ!R3,117,0))","v":0},{"$f":"SUM(OFFSET(テストデータ!W3,117,0):OFFSET(テストデータ!Y3,117,0))","v":0},{"$f":"SUM(OFFSET(テストデータ!W3,117,0):OFFSET(テストデータ!AA3,117,0))","v":0},{"$f":"SUM(OFFSET(テストデータ!AF3,117,0):OFFSET(テストデータ!AH3,117,0))","v":0},{"$f":"SUM(OFFSET(テストデータ!AF3,117,0):OFFSET(テストデータ!AJ3,117,0))","v":0},{"$f":"SUM(OFFSET(テストデータ!AO3,117,0):OFFSET(テストデータ!AQ3,117,0))","v":0},{"$f":"SUM(OFFSET(テストデータ!AO3,117,0):OFFSET(テストデータ!AS3,117,0))","v":0},{"$f":"SUM(OFFSET(テストデータ!AX3,117,0):OFFSET(テストデータ!AZ3,117,0))","v":0},{"$f":"SUM(OFFSET(テストデータ!AX3,117,0):OFFSET(テストデータ!BB3,117,0))","v":0},{"$f":"SUM(OFFSET(テストデータ!BG3,117,0):OFFSET(テストデータ!BI3,117,0))","v":0},{"$f":"SUM(OFFSET(テストデータ!BG3,117,0):OFFSET(テストデータ!BK3,117,0))","v":0},{"$f":"SUM(OFFSET(テストデータ!BL3,117,0):OFFSET(テストデータ!BN3,117,0))","v":0},{"$f":"SUM(OFFSET(テストデータ!BL3,117,0):OFFSET(テストデータ!BP3,117,0))","v":0},{"$f":"SUM(OFFSET(テストデータ!BQ3,117,0):OFFSET(テストデータ!BS3,117,0))","v":0},{"$f":"SUM(OFFSET(テストデータ!BQ3,117,0):OFFSET(テストデータ!BU3,117,0))","v":0},{"$f":"SUM(OFFSET(テストデータ!BV3,117,0):OFFSET(テストデータ!BX3,117,0))","v":0},{"$f":"SUM(OFFSET(テストデータ!BV3,117,0):OFFSET(テストデータ!BZ3,117,0))","v":0},{"$f":"SUM(OFFSET(テストデータ!CA3,117,0):OFFSET(テストデータ!CC3,117,0))","v":0},{"$f":"SUM(OFFSET(テストデータ!CA3,117,0):OFFSET(テストデータ!CE3,117,0))","v":0},{"$f":"SUM(OFFSET(テストデータ!CF3,117,0):OFFSET(テストデータ!CH3,117,0))","v":0},{"$f":"SUM(OFFSET(テストデータ!CF3,117,0):OFFSET(テストデータ!CJ3,117,0))","v":0},{"$f":"SUM(OFFSET(テストデータ!CK3,117,0):OFFSET(テストデータ!CM3,117,0))","v":0},{"$f":"SUM(OFFSET(テストデータ!CK3,117,0):OFFSET(テストデータ!CO3,117,0))","v":0},{"$f":"SUM(OFFSET(テストデータ!CP3,117,0):OFFSET(テストデータ!CR3,117,0))","v":0},{"$f":"SUM(OFFSET(テストデータ!CP3,117,0):OFFSET(テストデータ!CT3,117,0))","v":0}]
[null,null,null,null,null,null,null,null,null,null,null,null,null,{"$f":"SUM(OFFSET(テストデータ!$E3,118,9*成績表1!$B$4-9):OFFSET(テストデータ!$G3,118,9*成績表1!$B$4-9))","v":0},{"$f":"SUM(OFFSET(テストデータ!$E3,118,9*成績表1!$B$4-9):OFFSET(テストデータ!I3,118,9*成績表1!$B$4-9))","v":0},{"$f":"SUM(OFFSET(テストデータ!E3,118,0):OFFSET(テストデータ!G3,118,0))","v":0},{"$f":"SUM(OFFSET(テストデータ!E3,118,0):OFFSET(テストデータ!I3,118,0))","v":0},{"$f":"SUM(OFFSET(テストデータ!N3,118,0):OFFSET(テストデータ!P3,118,0))","v":0},{"$f":"SUM(OFFSET(テストデータ!N3,118,0):OFFSET(テストデータ!R3,118,0))","v":0},{"$f":"SUM(OFFSET(テストデータ!W3,118,0):OFFSET(テストデータ!Y3,118,0))","v":0},{"$f":"SUM(OFFSET(テストデータ!W3,118,0):OFFSET(テストデータ!AA3,118,0))","v":0},{"$f":"SUM(OFFSET(テストデータ!AF3,118,0):OFFSET(テストデータ!AH3,118,0))","v":0},{"$f":"SUM(OFFSET(テストデータ!AF3,118,0):OFFSET(テストデータ!AJ3,118,0))","v":0},{"$f":"SUM(OFFSET(テストデータ!AO3,118,0):OFFSET(テストデータ!AQ3,118,0))","v":0},{"$f":"SUM(OFFSET(テストデータ!AO3,118,0):OFFSET(テストデータ!AS3,118,0))","v":0},{"$f":"SUM(OFFSET(テストデータ!AX3,118,0):OFFSET(テストデータ!AZ3,118,0))","v":0},{"$f":"SUM(OFFSET(テストデータ!AX3,118,0):OFFSET(テストデータ!BB3,118,0))","v":0},{"$f":"SUM(OFFSET(テストデータ!BG3,118,0):OFFSET(テストデータ!BI3,118,0))","v":0},{"$f":"SUM(OFFSET(テストデータ!BG3,118,0):OFFSET(テストデータ!BK3,118,0))","v":0},{"$f":"SUM(OFFSET(テストデータ!BL3,118,0):OFFSET(テストデータ!BN3,118,0))","v":0},{"$f":"SUM(OFFSET(テストデータ!BL3,118,0):OFFSET(テストデータ!BP3,118,0))","v":0},{"$f":"SUM(OFFSET(テストデータ!BQ3,118,0):OFFSET(テストデータ!BS3,118,0))","v":0},{"$f":"SUM(OFFSET(テストデータ!BQ3,118,0):OFFSET(テストデータ!BU3,118,0))","v":0},{"$f":"SUM(OFFSET(テストデータ!BV3,118,0):OFFSET(テストデータ!BX3,118,0))","v":0},{"$f":"SUM(OFFSET(テストデータ!BV3,118,0):OFFSET(テストデータ!BZ3,118,0))","v":0},{"$f":"SUM(OFFSET(テストデータ!CA3,118,0):OFFSET(テストデータ!CC3,118,0))","v":0},{"$f":"SUM(OFFSET(テストデータ!CA3,118,0):OFFSET(テストデータ!CE3,118,0))","v":0},{"$f":"SUM(OFFSET(テストデータ!CF3,118,0):OFFSET(テストデータ!CH3,118,0))","v":0},{"$f":"SUM(OFFSET(テストデータ!CF3,118,0):OFFSET(テストデータ!CJ3,118,0))","v":0},{"$f":"SUM(OFFSET(テストデータ!CK3,118,0):OFFSET(テストデータ!CM3,118,0))","v":0},{"$f":"SUM(OFFSET(テストデータ!CK3,118,0):OFFSET(テストデータ!CO3,118,0))","v":0},{"$f":"SUM(OFFSET(テストデータ!CP3,118,0):OFFSET(テストデータ!CR3,118,0))","v":0},{"$f":"SUM(OFFSET(テストデータ!CP3,118,0):OFFSET(テストデータ!CT3,118,0))","v":0}]
[null,null,null,null,null,null,null,null,null,null,null,null,null,{"$f":"SUM(OFFSET(テストデータ!$E3,119,9*成績表1!$B$4-9):OFFSET(テストデータ!$G3,119,9*成績表1!$B$4-9))","v":0},{"$f":"SUM(OFFSET(テストデータ!$E3,119,9*成績表1!$B$4-9):OFFSET(テストデータ!I3,119,9*成績表1!$B$4-9))","v":0},{"$f":"SUM(OFFSET(テストデータ!E3,119,0):OFFSET(テストデータ!G3,119,0))","v":0},{"$f":"SUM(OFFSET(テストデータ!E3,119,0):OFFSET(テストデータ!I3,119,0))","v":0},{"$f":"SUM(OFFSET(テストデータ!N3,119,0):OFFSET(テストデータ!P3,119,0))","v":0},{"$f":"SUM(OFFSET(テストデータ!N3,119,0):OFFSET(テストデータ!R3,119,0))","v":0},{"$f":"SUM(OFFSET(テストデータ!W3,119,0):OFFSET(テストデータ!Y3,119,0))","v":0},{"$f":"SUM(OFFSET(テストデータ!W3,119,0):OFFSET(テストデータ!AA3,119,0))","v":0},{"$f":"SUM(OFFSET(テストデータ!AF3,119,0):OFFSET(テストデータ!AH3,119,0))","v":0},{"$f":"SUM(OFFSET(テストデータ!AF3,119,0):OFFSET(テストデータ!AJ3,119,0))","v":0},{"$f":"SUM(OFFSET(テストデータ!AO3,119,0):OFFSET(テストデータ!AQ3,119,0))","v":0},{"$f":"SUM(OFFSET(テストデータ!AO3,119,0):OFFSET(テストデータ!AS3,119,0))","v":0},{"$f":"SUM(OFFSET(テストデータ!AX3,119,0):OFFSET(テストデータ!AZ3,119,0))","v":0},{"$f":"SUM(OFFSET(テストデータ!AX3,119,0):OFFSET(テストデータ!BB3,119,0))","v":0},{"$f":"SUM(OFFSET(テストデータ!BG3,119,0):OFFSET(テストデータ!BI3,119,0))","v":0},{"$f":"SUM(OFFSET(テストデータ!BG3,119,0):OFFSET(テストデータ!BK3,119,0))","v":0},{"$f":"SUM(OFFSET(テストデータ!BL3,119,0):OFFSET(テストデータ!BN3,119,0))","v":0},{"$f":"SUM(OFFSET(テストデータ!BL3,119,0):OFFSET(テストデータ!BP3,119,0))","v":0},{"$f":"SUM(OFFSET(テストデータ!BQ3,119,0):OFFSET(テストデータ!BS3,119,0))","v":0},{"$f":"SUM(OFFSET(テストデータ!BQ3,119,0):OFFSET(テストデータ!BU3,119,0))","v":0},{"$f":"SUM(OFFSET(テストデータ!BV3,119,0):OFFSET(テストデータ!BX3,119,0))","v":0},{"$f":"SUM(OFFSET(テストデータ!BV3,119,0):OFFSET(テストデータ!BZ3,119,0))","v":0},{"$f":"SUM(OFFSET(テストデータ!CA3,119,0):OFFSET(テストデータ!CC3,119,0))","v":0},{"$f":"SUM(OFFSET(テストデータ!CA3,119,0):OFFSET(テストデータ!CE3,119,0))","v":0},{"$f":"SUM(OFFSET(テストデータ!CF3,119,0):OFFSET(テストデータ!CH3,119,0))","v":0},{"$f":"SUM(OFFSET(テストデータ!CF3,119,0):OFFSET(テストデータ!CJ3,119,0))","v":0},{"$f":"SUM(OFFSET(テストデータ!CK3,119,0):OFFSET(テストデータ!CM3,119,0))","v":0},{"$f":"SUM(OFFSET(テストデータ!CK3,119,0):OFFSET(テストデータ!CO3,119,0))","v":0},{"$f":"SUM(OFFSET(テストデータ!CP3,119,0):OFFSET(テストデータ!CR3,119,0))","v":0},{"$f":"SUM(OFFSET(テストデータ!CP3,119,0):OFFSET(テストデータ!CT3,119,0))","v":0}]
[null,null,null,null,null,null,null,null,null,null,null,null,null,{"$f":"SUM(OFFSET(テストデータ!$E3,120,9*成績表1!$B$4-9):OFFSET(テストデータ!$G3,120,9*成績表1!$B$4-9))","v":0},{"$f":"SUM(OFFSET(テストデータ!$E3,120,9*成績表1!$B$4-9):OFFSET(テストデータ!I3,120,9*成績表1!$B$4-9))","v":0},{"$f":"SUM(OFFSET(テストデータ!E3,120,0):OFFSET(テストデータ!G3,120,0))","v":0},{"$f":"SUM(OFFSET(テストデータ!E3,120,0):OFFSET(テストデータ!I3,120,0))","v":0},{"$f":"SUM(OFFSET(テストデータ!N3,120,0):OFFSET(テストデータ!P3,120,0))","v":0},{"$f":"SUM(OFFSET(テストデータ!N3,120,0):OFFSET(テストデータ!R3,120,0))","v":0},{"$f":"SUM(OFFSET(テストデータ!W3,120,0):OFFSET(テストデータ!Y3,120,0))","v":0},{"$f":"SUM(OFFSET(テストデータ!W3,120,0):OFFSET(テストデータ!AA3,120,0))","v":0},{"$f":"SUM(OFFSET(テストデータ!AF3,120,0):OFFSET(テストデータ!AH3,120,0))","v":0},{"$f":"SUM(OFFSET(テストデータ!AF3,120,0):OFFSET(テストデータ!AJ3,120,0))","v":0},{"$f":"SUM(OFFSET(テストデータ!AO3,120,0):OFFSET(テストデータ!AQ3,120,0))","v":0},{"$f":"SUM(OFFSET(テストデータ!AO3,120,0):OFFSET(テストデータ!AS3,120,0))","v":0},{"$f":"SUM(OFFSET(テストデータ!AX3,120,0):OFFSET(テストデータ!AZ3,120,0))","v":0},{"$f":"SUM(OFFSET(テストデータ!AX3,120,0):OFFSET(テストデータ!BB3,120,0))","v":0},{"$f":"SUM(OFFSET(テストデータ!BG3,120,0):OFFSET(テストデータ!BI3,120,0))","v":0},{"$f":"SUM(OFFSET(テストデータ!BG3,120,0):OFFSET(テストデータ!BK3,120,0))","v":0},{"$f":"SUM(OFFSET(テストデータ!BL3,120,0):OFFSET(テストデータ!BN3,120,0))","v":0},{"$f":"SUM(OFFSET(テストデータ!BL3,120,0):OFFSET(テストデータ!BP3,120,0))","v":0},{"$f":"SUM(OFFSET(テストデータ!BQ3,120,0):OFFSET(テストデータ!BS3,120,0))","v":0},{"$f":"SUM(OFFSET(テストデータ!BQ3,120,0):OFFSET(テストデータ!BU3,120,0))","v":0},{"$f":"SUM(OFFSET(テストデータ!BV3,120,0):OFFSET(テストデータ!BX3,120,0))","v":0},{"$f":"SUM(OFFSET(テストデータ!BV3,120,0):OFFSET(テストデータ!BZ3,120,0))","v":0},{"$f":"SUM(OFFSET(テストデータ!CA3,120,0):OFFSET(テストデータ!CC3,120,0))","v":0},{"$f":"SUM(OFFSET(テストデータ!CA3,120,0):OFFSET(テストデータ!CE3,120,0))","v":0},{"$f":"SUM(OFFSET(テストデータ!CF3,120,0):OFFSET(テストデータ!CH3,120,0))","v":0},{"$f":"SUM(OFFSET(テストデータ!CF3,120,0):OFFSET(テストデータ!CJ3,120,0))","v":0},{"$f":"SUM(OFFSET(テストデータ!CK3,120,0):OFFSET(テストデータ!CM3,120,0))","v":0},{"$f":"SUM(OFFSET(テストデータ!CK3,120,0):OFFSET(テストデータ!CO3,120,0))","v":0},{"$f":"SUM(OFFSET(テストデータ!CP3,120,0):OFFSET(テストデータ!CR3,120,0))","v":0},{"$f":"SUM(OFFSET(テストデータ!CP3,120,0):OFFSET(テストデータ!CT3,120,0))","v":0}]
[null,null,null,null,null,null,null,null,null,null,null,null,null,{"$f":"SUM(OFFSET(テストデータ!$E3,121,9*成績表1!$B$4-9):OFFSET(テストデータ!$G3,121,9*成績表1!$B$4-9))","v":0},{"$f":"SUM(OFFSET(テストデータ!$E3,121,9*成績表1!$B$4-9):OFFSET(テストデータ!I3,121,9*成績表1!$B$4-9))","v":0},{"$f":"SUM(OFFSET(テストデータ!E3,121,0):OFFSET(テストデータ!G3,121,0))","v":0},{"$f":"SUM(OFFSET(テストデータ!E3,121,0):OFFSET(テストデータ!I3,121,0))","v":0},{"$f":"SUM(OFFSET(テストデータ!N3,121,0):OFFSET(テストデータ!P3,121,0))","v":0},{"$f":"SUM(OFFSET(テストデータ!N3,121,0):OFFSET(テストデータ!R3,121,0))","v":0},{"$f":"SUM(OFFSET(テストデータ!W3,121,0):OFFSET(テストデータ!Y3,121,0))","v":0},{"$f":"SUM(OFFSET(テストデータ!W3,121,0):OFFSET(テストデータ!AA3,121,0))","v":0},{"$f":"SUM(OFFSET(テストデータ!AF3,121,0):OFFSET(テストデータ!AH3,121,0))","v":0},{"$f":"SUM(OFFSET(テストデータ!AF3,121,0):OFFSET(テストデータ!AJ3,121,0))","v":0},{"$f":"SUM(OFFSET(テストデータ!AO3,121,0):OFFSET(テストデータ!AQ3,121,0))","v":0},{"$f":"SUM(OFFSET(テストデータ!AO3,121,0):OFFSET(テストデータ!AS3,121,0))","v":0},{"$f":"SUM(OFFSET(テストデータ!AX3,121,0):OFFSET(テストデータ!AZ3,121,0))","v":0},{"$f":"SUM(OFFSET(テストデータ!AX3,121,0):OFFSET(テストデータ!BB3,121,0))","v":0},{"$f":"SUM(OFFSET(テストデータ!BG3,121,0):OFFSET(テストデータ!BI3,121,0))","v":0},{"$f":"SUM(OFFSET(テストデータ!BG3,121,0):OFFSET(テストデータ!BK3,121,0))","v":0},{"$f":"SUM(OFFSET(テストデータ!BL3,121,0):OFFSET(テストデータ!BN3,121,0))","v":0},{"$f":"SUM(OFFSET(テストデータ!BL3,121,0):OFFSET(テストデータ!BP3,121,0))","v":0},{"$f":"SUM(OFFSET(テストデータ!BQ3,121,0):OFFSET(テストデータ!BS3,121,0))","v":0},{"$f":"SUM(OFFSET(テストデータ!BQ3,121,0):OFFSET(テストデータ!BU3,121,0))","v":0},{"$f":"SUM(OFFSET(テストデータ!BV3,121,0):OFFSET(テストデータ!BX3,121,0))","v":0},{"$f":"SUM(OFFSET(テストデータ!BV3,121,0):OFFSET(テストデータ!BZ3,121,0))","v":0},{"$f":"SUM(OFFSET(テストデータ!CA3,121,0):OFFSET(テストデータ!CC3,121,0))","v":0},{"$f":"SUM(OFFSET(テストデータ!CA3,121,0):OFFSET(テストデータ!CE3,121,0))","v":0},{"$f":"SUM(OFFSET(テストデータ!CF3,121,0):OFFSET(テストデータ!CH3,121,0))","v":0},{"$f":"SUM(OFFSET(テストデータ!CF3,121,0):OFFSET(テストデータ!CJ3,121,0))","v":0},{"$f":"SUM(OFFSET(テストデータ!CK3,121,0):OFFSET(テストデータ!CM3,121,0))","v":0},{"$f":"SUM(OFFSET(テストデータ!CK3,121,0):OFFSET(テストデータ!CO3,121,0))","v":0},{"$f":"SUM(OFFSET(テストデータ!CP3,121,0):OFFSET(テストデータ!CR3,121,0))","v":0},{"$f":"SUM(OFFSET(テストデータ!CP3,121,0):OFFSET(テストデータ!CT3,121,0))","v":0}]
[null,null,null,null,null,null,null,null,null,null,null,null,null,{"$f":"SUM(OFFSET(テストデータ!$E3,122,9*成績表1!$B$4-9):OFFSET(テストデータ!$G3,122,9*成績表1!$B$4-9))","v":0},{"$f":"SUM(OFFSET(テストデータ!$E3,122,9*成績表1!$B$4-9):OFFSET(テストデータ!I3,122,9*成績表1!$B$4-9))","v":0},{"$f":"SUM(OFFSET(テストデータ!E3,122,0):OFFSET(テストデータ!G3,122,0))","v":0},{"$f":"SUM(OFFSET(テストデータ!E3,122,0):OFFSET(テストデータ!I3,122,0))","v":0},{"$f":"SUM(OFFSET(テストデータ!N3,122,0):OFFSET(テストデータ!P3,122,0))","v":0},{"$f":"SUM(OFFSET(テストデータ!N3,122,0):OFFSET(テストデータ!R3,122,0))","v":0},{"$f":"SUM(OFFSET(テストデータ!W3,122,0):OFFSET(テストデータ!Y3,122,0))","v":0},{"$f":"SUM(OFFSET(テストデータ!W3,122,0):OFFSET(テストデータ!AA3,122,0))","v":0},{"$f":"SUM(OFFSET(テストデータ!AF3,122,0):OFFSET(テストデータ!AH3,122,0))","v":0},{"$f":"SUM(OFFSET(テストデータ!AF3,122,0):OFFSET(テストデータ!AJ3,122,0))","v":0},{"$f":"SUM(OFFSET(テストデータ!AO3,122,0):OFFSET(テストデータ!AQ3,122,0))","v":0},{"$f":"SUM(OFFSET(テストデータ!AO3,122,0):OFFSET(テストデータ!AS3,122,0))","v":0},{"$f":"SUM(OFFSET(テストデータ!AX3,122,0):OFFSET(テストデータ!AZ3,122,0))","v":0},{"$f":"SUM(OFFSET(テストデータ!AX3,122,0):OFFSET(テストデータ!BB3,122,0))","v":0},{"$f":"SUM(OFFSET(テストデータ!BG3,122,0):OFFSET(テストデータ!BI3,122,0))","v":0},{"$f":"SUM(OFFSET(テストデータ!BG3,122,0):OFFSET(テストデータ!BK3,122,0))","v":0},{"$f":"SUM(OFFSET(テストデータ!BL3,122,0):OFFSET(テストデータ!BN3,122,0))","v":0},{"$f":"SUM(OFFSET(テストデータ!BL3,122,0):OFFSET(テストデータ!BP3,122,0))","v":0},{"$f":"SUM(OFFSET(テストデータ!BQ3,122,0):OFFSET(テストデータ!BS3,122,0))","v":0},{"$f":"SUM(OFFSET(テストデータ!BQ3,122,0):OFFSET(テストデータ!BU3,122,0))","v":0},{"$f":"SUM(OFFSET(テストデータ!BV3,122,0):OFFSET(テストデータ!BX3,122,0))","v":0},{"$f":"SUM(OFFSET(テストデータ!BV3,122,0):OFFSET(テストデータ!BZ3,122,0))","v":0},{"$f":"SUM(OFFSET(テストデータ!CA3,122,0):OFFSET(テストデータ!CC3,122,0))","v":0},{"$f":"SUM(OFFSET(テストデータ!CA3,122,0):OFFSET(テストデータ!CE3,122,0))","v":0},{"$f":"SUM(OFFSET(テストデータ!CF3,122,0):OFFSET(テストデータ!CH3,122,0))","v":0},{"$f":"SUM(OFFSET(テストデータ!CF3,122,0):OFFSET(テストデータ!CJ3,122,0))","v":0},{"$f":"SUM(OFFSET(テストデータ!CK3,122,0):OFFSET(テストデータ!CM3,122,0))","v":0},{"$f":"SUM(OFFSET(テストデータ!CK3,122,0):OFFSET(テストデータ!CO3,122,0))","v":0},{"$f":"SUM(OFFSET(テストデータ!CP3,122,0):OFFSET(テストデータ!CR3,122,0))","v":0},{"$f":"SUM(OFFSET(テストデータ!CP3,122,0):OFFSET(テストデータ!CT3,122,0))","v":0}]
[null,null,null,null,null,null,null,null,null,null,null,null,null,{"$f":"SUM(OFFSET(テストデータ!$E3,123,9*成績表1!$B$4-9):OFFSET(テストデータ!$G3,123,9*成績表1!$B$4-9))","v":0},{"$f":"SUM(OFFSET(テストデータ!$E3,123,9*成績表1!$B$4-9):OFFSET(テストデータ!I3,123,9*成績表1!$B$4-9))","v":0},{"$f":"SUM(OFFSET(テストデータ!E3,123,0):OFFSET(テストデータ!G3,123,0))","v":0},{"$f":"SUM(OFFSET(テストデータ!E3,123,0):OFFSET(テストデータ!I3,123,0))","v":0},{"$f":"SUM(OFFSET(テストデータ!N3,123,0):OFFSET(テストデータ!P3,123,0))","v":0},{"$f":"SUM(OFFSET(テストデータ!N3,123,0):OFFSET(テストデータ!R3,123,0))","v":0},{"$f":"SUM(OFFSET(テストデータ!W3,123,0):OFFSET(テストデータ!Y3,123,0))","v":0},{"$f":"SUM(OFFSET(テストデータ!W3,123,0):OFFSET(テストデータ!AA3,123,0))","v":0},{"$f":"SUM(OFFSET(テストデータ!AF3,123,0):OFFSET(テストデータ!AH3,123,0))","v":0},{"$f":"SUM(OFFSET(テストデータ!AF3,123,0):OFFSET(テストデータ!AJ3,123,0))","v":0},{"$f":"SUM(OFFSET(テストデータ!AO3,123,0):OFFSET(テストデータ!AQ3,123,0))","v":0},{"$f":"SUM(OFFSET(テストデータ!AO3,123,0):OFFSET(テストデータ!AS3,123,0))","v":0},{"$f":"SUM(OFFSET(テストデータ!AX3,123,0):OFFSET(テストデータ!AZ3,123,0))","v":0},{"$f":"SUM(OFFSET(テストデータ!AX3,123,0):OFFSET(テストデータ!BB3,123,0))","v":0},{"$f":"SUM(OFFSET(テストデータ!BG3,123,0):OFFSET(テストデータ!BI3,123,0))","v":0},{"$f":"SUM(OFFSET(テストデータ!BG3,123,0):OFFSET(テストデータ!BK3,123,0))","v":0},{"$f":"SUM(OFFSET(テストデータ!BL3,123,0):OFFSET(テストデータ!BN3,123,0))","v":0},{"$f":"SUM(OFFSET(テストデータ!BL3,123,0):OFFSET(テストデータ!BP3,123,0))","v":0},{"$f":"SUM(OFFSET(テストデータ!BQ3,123,0):OFFSET(テストデータ!BS3,123,0))","v":0},{"$f":"SUM(OFFSET(テストデータ!BQ3,123,0):OFFSET(テストデータ!BU3,123,0))","v":0},{"$f":"SUM(OFFSET(テストデータ!BV3,123,0):OFFSET(テストデータ!BX3,123,0))","v":0},{"$f":"SUM(OFFSET(テストデータ!BV3,123,0):OFFSET(テストデータ!BZ3,123,0))","v":0},{"$f":"SUM(OFFSET(テストデータ!CA3,123,0):OFFSET(テストデータ!CC3,123,0))","v":0},{"$f":"SUM(OFFSET(テストデータ!CA3,123,0):OFFSET(テストデータ!CE3,123,0))","v":0},{"$f":"SUM(OFFSET(テストデータ!CF3,123,0):OFFSET(テストデータ!CH3,123,0))","v":0},{"$f":"SUM(OFFSET(テストデータ!CF3,123,0):OFFSET(テストデータ!CJ3,123,0))","v":0},{"$f":"SUM(OFFSET(テストデータ!CK3,123,0):OFFSET(テストデータ!CM3,123,0))","v":0},{"$f":"SUM(OFFSET(テストデータ!CK3,123,0):OFFSET(テストデータ!CO3,123,0))","v":0},{"$f":"SUM(OFFSET(テストデータ!CP3,123,0):OFFSET(テストデータ!CR3,123,0))","v":0},{"$f":"SUM(OFFSET(テストデータ!CP3,123,0):OFFSET(テストデータ!CT3,123,0))","v":0}]
[null,null,null,null,null,null,null,null,null,null,null,null,null,{"$f":"SUM(OFFSET(テストデータ!$E3,124,9*成績表1!$B$4-9):OFFSET(テストデータ!$G3,124,9*成績表1!$B$4-9))","v":0},{"$f":"SUM(OFFSET(テストデータ!$E3,124,9*成績表1!$B$4-9):OFFSET(テストデータ!I3,124,9*成績表1!$B$4-9))","v":0},{"$f":"SUM(OFFSET(テストデータ!E3,124,0):OFFSET(テストデータ!G3,124,0))","v":0},{"$f":"SUM(OFFSET(テストデータ!E3,124,0):OFFSET(テストデータ!I3,124,0))","v":0},{"$f":"SUM(OFFSET(テストデータ!N3,124,0):OFFSET(テストデータ!P3,124,0))","v":0},{"$f":"SUM(OFFSET(テストデータ!N3,124,0):OFFSET(テストデータ!R3,124,0))","v":0},{"$f":"SUM(OFFSET(テストデータ!W3,124,0):OFFSET(テストデータ!Y3,124,0))","v":0},{"$f":"SUM(OFFSET(テストデータ!W3,124,0):OFFSET(テストデータ!AA3,124,0))","v":0},{"$f":"SUM(OFFSET(テストデータ!AF3,124,0):OFFSET(テストデータ!AH3,124,0))","v":0},{"$f":"SUM(OFFSET(テストデータ!AF3,124,0):OFFSET(テストデータ!AJ3,124,0))","v":0},{"$f":"SUM(OFFSET(テストデータ!AO3,124,0):OFFSET(テストデータ!AQ3,124,0))","v":0},{"$f":"SUM(OFFSET(テストデータ!AO3,124,0):OFFSET(テストデータ!AS3,124,0))","v":0},{"$f":"SUM(OFFSET(テストデータ!AX3,124,0):OFFSET(テストデータ!AZ3,124,0))","v":0},{"$f":"SUM(OFFSET(テストデータ!AX3,124,0):OFFSET(テストデータ!BB3,124,0))","v":0},{"$f":"SUM(OFFSET(テストデータ!BG3,124,0):OFFSET(テストデータ!BI3,124,0))","v":0},{"$f":"SUM(OFFSET(テストデータ!BG3,124,0):OFFSET(テストデータ!BK3,124,0))","v":0},{"$f":"SUM(OFFSET(テストデータ!BL3,124,0):OFFSET(テストデータ!BN3,124,0))","v":0},{"$f":"SUM(OFFSET(テストデータ!BL3,124,0):OFFSET(テストデータ!BP3,124,0))","v":0},{"$f":"SUM(OFFSET(テストデータ!BQ3,124,0):OFFSET(テストデータ!BS3,124,0))","v":0},{"$f":"SUM(OFFSET(テストデータ!BQ3,124,0):OFFSET(テストデータ!BU3,124,0))","v":0},{"$f":"SUM(OFFSET(テストデータ!BV3,124,0):OFFSET(テストデータ!BX3,124,0))","v":0},{"$f":"SUM(OFFSET(テストデータ!BV3,124,0):OFFSET(テストデータ!BZ3,124,0))","v":0},{"$f":"SUM(OFFSET(テストデータ!CA3,124,0):OFFSET(テストデータ!CC3,124,0))","v":0},{"$f":"SUM(OFFSET(テストデータ!CA3,124,0):OFFSET(テストデータ!CE3,124,0))","v":0},{"$f":"SUM(OFFSET(テストデータ!CF3,124,0):OFFSET(テストデータ!CH3,124,0))","v":0},{"$f":"SUM(OFFSET(テストデータ!CF3,124,0):OFFSET(テストデータ!CJ3,124,0))","v":0},{"$f":"SUM(OFFSET(テストデータ!CK3,124,0):OFFSET(テストデータ!CM3,124,0))","v":0},{"$f":"SUM(OFFSET(テストデータ!CK3,124,0):OFFSET(テストデータ!CO3,124,0))","v":0},{"$f":"SUM(OFFSET(テストデータ!CP3,124,0):OFFSET(テストデータ!CR3,124,0))","v":0},{"$f":"SUM(OFFSET(テストデータ!CP3,124,0):OFFSET(テストデータ!CT3,124,0))","v":0}]
[null,null,null,null,null,null,null,null,null,null,null,null,null,{"$f":"SUM(OFFSET(テストデータ!$E3,125,9*成績表1!$B$4-9):OFFSET(テストデータ!$G3,125,9*成績表1!$B$4-9))","v":0},{"$f":"SUM(OFFSET(テストデータ!$E3,125,9*成績表1!$B$4-9):OFFSET(テストデータ!I3,125,9*成績表1!$B$4-9))","v":0},{"$f":"SUM(OFFSET(テストデータ!E3,125,0):OFFSET(テストデータ!G3,125,0))","v":0},{"$f":"SUM(OFFSET(テストデータ!E3,125,0):OFFSET(テストデータ!I3,125,0))","v":0},{"$f":"SUM(OFFSET(テストデータ!N3,125,0):OFFSET(テストデータ!P3,125,0))","v":0},{"$f":"SUM(OFFSET(テストデータ!N3,125,0):OFFSET(テストデータ!R3,125,0))","v":0},{"$f":"SUM(OFFSET(テストデータ!W3,125,0):OFFSET(テストデータ!Y3,125,0))","v":0},{"$f":"SUM(OFFSET(テストデータ!W3,125,0):OFFSET(テストデータ!AA3,125,0))","v":0},{"$f":"SUM(OFFSET(テストデータ!AF3,125,0):OFFSET(テストデータ!AH3,125,0))","v":0},{"$f":"SUM(OFFSET(テストデータ!AF3,125,0):OFFSET(テストデータ!AJ3,125,0))","v":0},{"$f":"SUM(OFFSET(テストデータ!AO3,125,0):OFFSET(テストデータ!AQ3,125,0))","v":0},{"$f":"SUM(OFFSET(テストデータ!AO3,125,0):OFFSET(テストデータ!AS3,125,0))","v":0},{"$f":"SUM(OFFSET(テストデータ!AX3,125,0):OFFSET(テストデータ!AZ3,125,0))","v":0},{"$f":"SUM(OFFSET(テストデータ!AX3,125,0):OFFSET(テストデータ!BB3,125,0))","v":0},{"$f":"SUM(OFFSET(テストデータ!BG3,125,0):OFFSET(テストデータ!BI3,125,0))","v":0},{"$f":"SUM(OFFSET(テストデータ!BG3,125,0):OFFSET(テストデータ!BK3,125,0))","v":0},{"$f":"SUM(OFFSET(テストデータ!BL3,125,0):OFFSET(テストデータ!BN3,125,0))","v":0},{"$f":"SUM(OFFSET(テストデータ!BL3,125,0):OFFSET(テストデータ!BP3,125,0))","v":0},{"$f":"SUM(OFFSET(テストデータ!BQ3,125,0):OFFSET(テストデータ!BS3,125,0))","v":0},{"$f":"SUM(OFFSET(テストデータ!BQ3,125,0):OFFSET(テストデータ!BU3,125,0))","v":0},{"$f":"SUM(OFFSET(テストデータ!BV3,125,0):OFFSET(テストデータ!BX3,125,0))","v":0},{"$f":"SUM(OFFSET(テストデータ!BV3,125,0):OFFSET(テストデータ!BZ3,125,0))","v":0},{"$f":"SUM(OFFSET(テストデータ!CA3,125,0):OFFSET(テストデータ!CC3,125,0))","v":0},{"$f":"SUM(OFFSET(テストデータ!CA3,125,0):OFFSET(テストデータ!CE3,125,0))","v":0},{"$f":"SUM(OFFSET(テストデータ!CF3,125,0):OFFSET(テストデータ!CH3,125,0))","v":0},{"$f":"SUM(OFFSET(テストデータ!CF3,125,0):OFFSET(テストデータ!CJ3,125,0))","v":0},{"$f":"SUM(OFFSET(テストデータ!CK3,125,0):OFFSET(テストデータ!CM3,125,0))","v":0},{"$f":"SUM(OFFSET(テストデータ!CK3,125,0):OFFSET(テストデータ!CO3,125,0))","v":0},{"$f":"SUM(OFFSET(テストデータ!CP3,125,0):OFFSET(テストデータ!CR3,125,0))","v":0},{"$f":"SUM(OFFSET(テストデータ!CP3,125,0):OFFSET(テストデータ!CT3,125,0))","v":0}]
[null,null,null,null,null,null,null,null,null,null,null,null,null,{"$f":"SUM(OFFSET(テストデータ!$E3,126,9*成績表1!$B$4-9):OFFSET(テストデータ!$G3,126,9*成績表1!$B$4-9))","v":0},{"$f":"SUM(OFFSET(テストデータ!$E3,126,9*成績表1!$B$4-9):OFFSET(テストデータ!I3,126,9*成績表1!$B$4-9))","v":0},{"$f":"SUM(OFFSET(テストデータ!E3,126,0):OFFSET(テストデータ!G3,126,0))","v":0},{"$f":"SUM(OFFSET(テストデータ!E3,126,0):OFFSET(テストデータ!I3,126,0))","v":0},{"$f":"SUM(OFFSET(テストデータ!N3,126,0):OFFSET(テストデータ!P3,126,0))","v":0},{"$f":"SUM(OFFSET(テストデータ!N3,126,0):OFFSET(テストデータ!R3,126,0))","v":0},{"$f":"SUM(OFFSET(テストデータ!W3,126,0):OFFSET(テストデータ!Y3,126,0))","v":0},{"$f":"SUM(OFFSET(テストデータ!W3,126,0):OFFSET(テストデータ!AA3,126,0))","v":0},{"$f":"SUM(OFFSET(テストデータ!AF3,126,0):OFFSET(テストデータ!AH3,126,0))","v":0},{"$f":"SUM(OFFSET(テストデータ!AF3,126,0):OFFSET(テストデータ!AJ3,126,0))","v":0},{"$f":"SUM(OFFSET(テストデータ!AO3,126,0):OFFSET(テストデータ!AQ3,126,0))","v":0},{"$f":"SUM(OFFSET(テストデータ!AO3,126,0):OFFSET(テストデータ!AS3,126,0))","v":0},{"$f":"SUM(OFFSET(テストデータ!AX3,126,0):OFFSET(テストデータ!AZ3,126,0))","v":0},{"$f":"SUM(OFFSET(テストデータ!AX3,126,0):OFFSET(テストデータ!BB3,126,0))","v":0},{"$f":"SUM(OFFSET(テストデータ!BG3,126,0):OFFSET(テストデータ!BI3,126,0))","v":0},{"$f":"SUM(OFFSET(テストデータ!BG3,126,0):OFFSET(テストデータ!BK3,126,0))","v":0},{"$f":"SUM(OFFSET(テストデータ!BL3,126,0):OFFSET(テストデータ!BN3,126,0))","v":0},{"$f":"SUM(OFFSET(テストデータ!BL3,126,0):OFFSET(テストデータ!BP3,126,0))","v":0},{"$f":"SUM(OFFSET(テストデータ!BQ3,126,0):OFFSET(テストデータ!BS3,126,0))","v":0},{"$f":"SUM(OFFSET(テストデータ!BQ3,126,0):OFFSET(テストデータ!BU3,126,0))","v":0},{"$f":"SUM(OFFSET(テストデータ!BV3,126,0):OFFSET(テストデータ!BX3,126,0))","v":0},{"$f":"SUM(OFFSET(テストデータ!BV3,126,0):OFFSET(テストデータ!BZ3,126,0))","v":0},{"$f":"SUM(OFFSET(テストデータ!CA3,126,0):OFFSET(テストデータ!CC3,126,0))","v":0},{"$f":"SUM(OFFSET(テストデータ!CA3,126,0):OFFSET(テストデータ!CE3,126,0))","v":0},{"$f":"SUM(OFFSET(テストデータ!CF3,126,0):OFFSET(テストデータ!CH3,126,0))","v":0},{"$f":"SUM(OFFSET(テストデータ!CF3,126,0):OFFSET(テストデータ!CJ3,126,0))","v":0},{"$f":"SUM(OFFSET(テストデータ!CK3,126,0):OFFSET(テストデータ!CM3,126,0))","v":0},{"$f":"SUM(OFFSET(テストデータ!CK3,126,0):OFFSET(テストデータ!CO3,126,0))","v":0},{"$f":"SUM(OFFSET(テストデータ!CP3,126,0):OFFSET(テストデータ!CR3,126,0))","v":0},{"$f":"SUM(OFFSET(テストデータ!CP3,126,0):OFFSET(テストデータ!CT3,126,0))","v":0}]
[null,null,null,null,null,null,null,null,null,null,null,null,null,{"$f":"SUM(OFFSET(テストデータ!$E3,127,9*成績表1!$B$4-9):OFFSET(テストデータ!$G3,127,9*成績表1!$B$4-9))","v":0},{"$f":"SUM(OFFSET(テストデータ!$E3,127,9*成績表1!$B$4-9):OFFSET(テストデータ!I3,127,9*成績表1!$B$4-9))","v":0},{"$f":"SUM(OFFSET(テストデータ!E3,127,0):OFFSET(テストデータ!G3,127,0))","v":0},{"$f":"SUM(OFFSET(テストデータ!E3,127,0):OFFSET(テストデータ!I3,127,0))","v":0},{"$f":"SUM(OFFSET(テストデータ!N3,127,0):OFFSET(テストデータ!P3,127,0))","v":0},{"$f":"SUM(OFFSET(テストデータ!N3,127,0):OFFSET(テストデータ!R3,127,0))","v":0},{"$f":"SUM(OFFSET(テストデータ!W3,127,0):OFFSET(テストデータ!Y3,127,0))","v":0},{"$f":"SUM(OFFSET(テストデータ!W3,127,0):OFFSET(テストデータ!AA3,127,0))","v":0},{"$f":"SUM(OFFSET(テストデータ!AF3,127,0):OFFSET(テストデータ!AH3,127,0))","v":0},{"$f":"SUM(OFFSET(テストデータ!AF3,127,0):OFFSET(テストデータ!AJ3,127,0))","v":0},{"$f":"SUM(OFFSET(テストデータ!AO3,127,0):OFFSET(テストデータ!AQ3,127,0))","v":0},{"$f":"SUM(OFFSET(テストデータ!AO3,127,0):OFFSET(テストデータ!AS3,127,0))","v":0},{"$f":"SUM(OFFSET(テストデータ!AX3,127,0):OFFSET(テストデータ!AZ3,127,0))","v":0},{"$f":"SUM(OFFSET(テストデータ!AX3,127,0):OFFSET(テストデータ!BB3,127,0))","v":0},{"$f":"SUM(OFFSET(テストデータ!BG3,127,0):OFFSET(テストデータ!BI3,127,0))","v":0},{"$f":"SUM(OFFSET(テストデータ!BG3,127,0):OFFSET(テストデータ!BK3,127,0))","v":0},{"$f":"SUM(OFFSET(テストデータ!BL3,127,0):OFFSET(テストデータ!BN3,127,0))","v":0},{"$f":"SUM(OFFSET(テストデータ!BL3,127,0):OFFSET(テストデータ!BP3,127,0))","v":0},{"$f":"SUM(OFFSET(テストデータ!BQ3,127,0):OFFSET(テストデータ!BS3,127,0))","v":0},{"$f":"SUM(OFFSET(テストデータ!BQ3,127,0):OFFSET(テストデータ!BU3,127,0))","v":0},{"$f":"SUM(OFFSET(テストデータ!BV3,127,0):OFFSET(テストデータ!BX3,127,0))","v":0},{"$f":"SUM(OFFSET(テストデータ!BV3,127,0):OFFSET(テストデータ!BZ3,127,0))","v":0},{"$f":"SUM(OFFSET(テストデータ!CA3,127,0):OFFSET(テストデータ!CC3,127,0))","v":0},{"$f":"SUM(OFFSET(テストデータ!CA3,127,0):OFFSET(テストデータ!CE3,127,0))","v":0},{"$f":"SUM(OFFSET(テストデータ!CF3,127,0):OFFSET(テストデータ!CH3,127,0))","v":0},{"$f":"SUM(OFFSET(テストデータ!CF3,127,0):OFFSET(テストデータ!CJ3,127,0))","v":0},{"$f":"SUM(OFFSET(テストデータ!CK3,127,0):OFFSET(テストデータ!CM3,127,0))","v":0},{"$f":"SUM(OFFSET(テストデータ!CK3,127,0):OFFSET(テストデータ!CO3,127,0))","v":0},{"$f":"SUM(OFFSET(テストデータ!CP3,127,0):OFFSET(テストデータ!CR3,127,0))","v":0},{"$f":"SUM(OFFSET(テストデータ!CP3,127,0):OFFSET(テストデータ!CT3,127,0))","v":0}]
[null,null,null,null,null,null,null,null,null,null,null,null,null,{"$f":"SUM(OFFSET(テストデータ!$E3,128,9*成績表1!$B$4-9):OFFSET(テストデータ!$G3,128,9*成績表1!$B$4-9))","v":0},{"$f":"SUM(OFFSET(テストデータ!$E3,128,9*成績表1!$B$4-9):OFFSET(テストデータ!I3,128,9*成績表1!$B$4-9))","v":0},{"$f":"SUM(OFFSET(テストデータ!E3,128,0):OFFSET(テストデータ!G3,128,0))","v":0},{"$f":"SUM(OFFSET(テストデータ!E3,128,0):OFFSET(テストデータ!I3,128,0))","v":0},{"$f":"SUM(OFFSET(テストデータ!N3,128,0):OFFSET(テストデータ!P3,128,0))","v":0},{"$f":"SUM(OFFSET(テストデータ!N3,128,0):OFFSET(テストデータ!R3,128,0))","v":0},{"$f":"SUM(OFFSET(テストデータ!W3,128,0):OFFSET(テストデータ!Y3,128,0))","v":0},{"$f":"SUM(OFFSET(テストデータ!W3,128,0):OFFSET(テストデータ!AA3,128,0))","v":0},{"$f":"SUM(OFFSET(テストデータ!AF3,128,0):OFFSET(テストデータ!AH3,128,0))","v":0},{"$f":"SUM(OFFSET(テストデータ!AF3,128,0):OFFSET(テストデータ!AJ3,128,0))","v":0},{"$f":"SUM(OFFSET(テストデータ!AO3,128,0):OFFSET(テストデータ!AQ3,128,0))","v":0},{"$f":"SUM(OFFSET(テストデータ!AO3,128,0):OFFSET(テストデータ!AS3,128,0))","v":0},{"$f":"SUM(OFFSET(テストデータ!AX3,128,0):OFFSET(テストデータ!AZ3,128,0))","v":0},{"$f":"SUM(OFFSET(テストデータ!AX3,128,0):OFFSET(テストデータ!BB3,128,0))","v":0},{"$f":"SUM(OFFSET(テストデータ!BG3,128,0):OFFSET(テストデータ!BI3,128,0))","v":0},{"$f":"SUM(OFFSET(テストデータ!BG3,128,0):OFFSET(テストデータ!BK3,128,0))","v":0},{"$f":"SUM(OFFSET(テストデータ!BL3,128,0):OFFSET(テストデータ!BN3,128,0))","v":0},{"$f":"SUM(OFFSET(テストデータ!BL3,128,0):OFFSET(テストデータ!BP3,128,0))","v":0},{"$f":"SUM(OFFSET(テストデータ!BQ3,128,0):OFFSET(テストデータ!BS3,128,0))","v":0},{"$f":"SUM(OFFSET(テストデータ!BQ3,128,0):OFFSET(テストデータ!BU3,128,0))","v":0},{"$f":"SUM(OFFSET(テストデータ!BV3,128,0):OFFSET(テストデータ!BX3,128,0))","v":0},{"$f":"SUM(OFFSET(テストデータ!BV3,128,0):OFFSET(テストデータ!BZ3,128,0))","v":0},{"$f":"SUM(OFFSET(テストデータ!CA3,128,0):OFFSET(テストデータ!CC3,128,0))","v":0},{"$f":"SUM(OFFSET(テストデータ!CA3,128,0):OFFSET(テストデータ!CE3,128,0))","v":0},{"$f":"SUM(OFFSET(テストデータ!CF3,128,0):OFFSET(テストデータ!CH3,128,0))","v":0},{"$f":"SUM(OFFSET(テストデータ!CF3,128,0):OFFSET(テストデータ!CJ3,128,0))","v":0},{"$f":"SUM(OFFSET(テストデータ!CK3,128,0):OFFSET(テストデータ!CM3,128,0))","v":0},{"$f":"SUM(OFFSET(テストデータ!CK3,128,0):OFFSET(テストデータ!CO3,128,0))","v":0},{"$f":"SUM(OFFSET(テストデータ!CP3,128,0):OFFSET(テストデータ!CR3,128,0))","v":0},{"$f":"SUM(OFFSET(テストデータ!CP3,128,0):OFFSET(テストデータ!CT3,128,0))","v":0}]
[null,null,null,null,null,null,null,null,null,null,null,null,null,{"$f":"SUM(OFFSET(テストデータ!$E3,129,9*成績表1!$B$4-9):OFFSET(テストデータ!$G3,129,9*成績表1!$B$4-9))","v":0},{"$f":"SUM(OFFSET(テストデータ!$E3,129,9*成績表1!$B$4-9):OFFSET(テストデータ!I3,129,9*成績表1!$B$4-9))","v":0},{"$f":"SUM(OFFSET(テストデータ!E3,129,0):OFFSET(テストデータ!G3,129,0))","v":0},{"$f":"SUM(OFFSET(テストデータ!E3,129,0):OFFSET(テストデータ!I3,129,0))","v":0},{"$f":"SUM(OFFSET(テストデータ!N3,129,0):OFFSET(テストデータ!P3,129,0))","v":0},{"$f":"SUM(OFFSET(テストデータ!N3,129,0):OFFSET(テストデータ!R3,129,0))","v":0},{"$f":"SUM(OFFSET(テストデータ!W3,129,0):OFFSET(テストデータ!Y3,129,0))","v":0},{"$f":"SUM(OFFSET(テストデータ!W3,129,0):OFFSET(テストデータ!AA3,129,0))","v":0},{"$f":"SUM(OFFSET(テストデータ!AF3,129,0):OFFSET(テストデータ!AH3,129,0))","v":0},{"$f":"SUM(OFFSET(テストデータ!AF3,129,0):OFFSET(テストデータ!AJ3,129,0))","v":0},{"$f":"SUM(OFFSET(テストデータ!AO3,129,0):OFFSET(テストデータ!AQ3,129,0))","v":0},{"$f":"SUM(OFFSET(テストデータ!AO3,129,0):OFFSET(テストデータ!AS3,129,0))","v":0},{"$f":"SUM(OFFSET(テストデータ!AX3,129,0):OFFSET(テストデータ!AZ3,129,0))","v":0},{"$f":"SUM(OFFSET(テストデータ!AX3,129,0):OFFSET(テストデータ!BB3,129,0))","v":0},{"$f":"SUM(OFFSET(テストデータ!BG3,129,0):OFFSET(テストデータ!BI3,129,0))","v":0},{"$f":"SUM(OFFSET(テストデータ!BG3,129,0):OFFSET(テストデータ!BK3,129,0))","v":0},{"$f":"SUM(OFFSET(テストデータ!BL3,129,0):OFFSET(テストデータ!BN3,129,0))","v":0},{"$f":"SUM(OFFSET(テストデータ!BL3,129,0):OFFSET(テストデータ!BP3,129,0))","v":0},{"$f":"SUM(OFFSET(テストデータ!BQ3,129,0):OFFSET(テストデータ!BS3,129,0))","v":0},{"$f":"SUM(OFFSET(テストデータ!BQ3,129,0):OFFSET(テストデータ!BU3,129,0))","v":0},{"$f":"SUM(OFFSET(テストデータ!BV3,129,0):OFFSET(テストデータ!BX3,129,0))","v":0},{"$f":"SUM(OFFSET(テストデータ!BV3,129,0):OFFSET(テストデータ!BZ3,129,0))","v":0},{"$f":"SUM(OFFSET(テストデータ!CA3,129,0):OFFSET(テストデータ!CC3,129,0))","v":0},{"$f":"SUM(OFFSET(テストデータ!CA3,129,0):OFFSET(テストデータ!CE3,129,0))","v":0},{"$f":"SUM(OFFSET(テストデータ!CF3,129,0):OFFSET(テストデータ!CH3,129,0))","v":0},{"$f":"SUM(OFFSET(テストデータ!CF3,129,0):OFFSET(テストデータ!CJ3,129,0))","v":0},{"$f":"SUM(OFFSET(テストデータ!CK3,129,0):OFFSET(テストデータ!CM3,129,0))","v":0},{"$f":"SUM(OFFSET(テストデータ!CK3,129,0):OFFSET(テストデータ!CO3,129,0))","v":0},{"$f":"SUM(OFFSET(テストデータ!CP3,129,0):OFFSET(テストデータ!CR3,129,0))","v":0},{"$f":"SUM(OFFSET(テストデータ!CP3,129,0):OFFSET(テストデータ!CT3,129,0))","v":0}]
[null,null,null,null,null,null,null,null,null,null,null,null,null,{"$f":"SUM(OFFSET(テストデータ!$E3,130,9*成績表1!$B$4-9):OFFSET(テストデータ!$G3,130,9*成績表1!$B$4-9))","v":0},{"$f":"SUM(OFFSET(テストデータ!$E3,130,9*成績表1!$B$4-9):OFFSET(テストデータ!I3,130,9*成績表1!$B$4-9))","v":0},{"$f":"SUM(OFFSET(テストデータ!E3,130,0):OFFSET(テストデータ!G3,130,0))","v":0},{"$f":"SUM(OFFSET(テストデータ!E3,130,0):OFFSET(テストデータ!I3,130,0))","v":0},{"$f":"SUM(OFFSET(テストデータ!N3,130,0):OFFSET(テストデータ!P3,130,0))","v":0},{"$f":"SUM(OFFSET(テストデータ!N3,130,0):OFFSET(テストデータ!R3,130,0))","v":0},{"$f":"SUM(OFFSET(テストデータ!W3,130,0):OFFSET(テストデータ!Y3,130,0))","v":0},{"$f":"SUM(OFFSET(テストデータ!W3,130,0):OFFSET(テストデータ!AA3,130,0))","v":0},{"$f":"SUM(OFFSET(テストデータ!AF3,130,0):OFFSET(テストデータ!AH3,130,0))","v":0},{"$f":"SUM(OFFSET(テストデータ!AF3,130,0):OFFSET(テストデータ!AJ3,130,0))","v":0},{"$f":"SUM(OFFSET(テストデータ!AO3,130,0):OFFSET(テストデータ!AQ3,130,0))","v":0},{"$f":"SUM(OFFSET(テストデータ!AO3,130,0):OFFSET(テストデータ!AS3,130,0))","v":0},{"$f":"SUM(OFFSET(テストデータ!AX3,130,0):OFFSET(テストデータ!AZ3,130,0))","v":0},{"$f":"SUM(OFFSET(テストデータ!AX3,130,0):OFFSET(テストデータ!BB3,130,0))","v":0},{"$f":"SUM(OFFSET(テストデータ!BG3,130,0):OFFSET(テストデータ!BI3,130,0))","v":0},{"$f":"SUM(OFFSET(テストデータ!BG3,130,0):OFFSET(テストデータ!BK3,130,0))","v":0},{"$f":"SUM(OFFSET(テストデータ!BL3,130,0):OFFSET(テストデータ!BN3,130,0))","v":0},{"$f":"SUM(OFFSET(テストデータ!BL3,130,0):OFFSET(テストデータ!BP3,130,0))","v":0},{"$f":"SUM(OFFSET(テストデータ!BQ3,130,0):OFFSET(テストデータ!BS3,130,0))","v":0},{"$f":"SUM(OFFSET(テストデータ!BQ3,130,0):OFFSET(テストデータ!BU3,130,0))","v":0},{"$f":"SUM(OFFSET(テストデータ!BV3,130,0):OFFSET(テストデータ!BX3,130,0))","v":0},{"$f":"SUM(OFFSET(テストデータ!BV3,130,0):OFFSET(テストデータ!BZ3,130,0))","v":0},{"$f":"SUM(OFFSET(テストデータ!CA3,130,0):OFFSET(テストデータ!CC3,130,0))","v":0},{"$f":"SUM(OFFSET(テストデータ!CA3,130,0):OFFSET(テストデータ!CE3,130,0))","v":0},{"$f":"SUM(OFFSET(テストデータ!CF3,130,0):OFFSET(テストデータ!CH3,130,0))","v":0},{"$f":"SUM(OFFSET(テストデータ!CF3,130,0):OFFSET(テストデータ!CJ3,130,0))","v":0},{"$f":"SUM(OFFSET(テストデータ!CK3,130,0):OFFSET(テストデータ!CM3,130,0))","v":0},{"$f":"SUM(OFFSET(テストデータ!CK3,130,0):OFFSET(テストデータ!CO3,130,0))","v":0},{"$f":"SUM(OFFSET(テストデータ!CP3,130,0):OFFSET(テストデータ!CR3,130,0))","v":0},{"$f":"SUM(OFFSET(テストデータ!CP3,130,0):OFFSET(テストデータ!CT3,130,0))","v":0}]
[null,null,null,null,null,null,null,null,null,null,null,null,null,{"$f":"SUM(OFFSET(テストデータ!$E3,131,9*成績表1!$B$4-9):OFFSET(テストデータ!$G3,131,9*成績表1!$B$4-9))","v":0},{"$f":"SUM(OFFSET(テストデータ!$E3,131,9*成績表1!$B$4-9):OFFSET(テストデータ!I3,131,9*成績表1!$B$4-9))","v":0},{"$f":"SUM(OFFSET(テストデータ!E3,131,0):OFFSET(テストデータ!G3,131,0))","v":0},{"$f":"SUM(OFFSET(テストデータ!E3,131,0):OFFSET(テストデータ!I3,131,0))","v":0},{"$f":"SUM(OFFSET(テストデータ!N3,131,0):OFFSET(テストデータ!P3,131,0))","v":0},{"$f":"SUM(OFFSET(テストデータ!N3,131,0):OFFSET(テストデータ!R3,131,0))","v":0},{"$f":"SUM(OFFSET(テストデータ!W3,131,0):OFFSET(テストデータ!Y3,131,0))","v":0},{"$f":"SUM(OFFSET(テストデータ!W3,131,0):OFFSET(テストデータ!AA3,131,0))","v":0},{"$f":"SUM(OFFSET(テストデータ!AF3,131,0):OFFSET(テストデータ!AH3,131,0))","v":0},{"$f":"SUM(OFFSET(テストデータ!AF3,131,0):OFFSET(テストデータ!AJ3,131,0))","v":0},{"$f":"SUM(OFFSET(テストデータ!AO3,131,0):OFFSET(テストデータ!AQ3,131,0))","v":0},{"$f":"SUM(OFFSET(テストデータ!AO3,131,0):OFFSET(テストデータ!AS3,131,0))","v":0},{"$f":"SUM(OFFSET(テストデータ!AX3,131,0):OFFSET(テストデータ!AZ3,131,0))","v":0},{"$f":"SUM(OFFSET(テストデータ!AX3,131,0):OFFSET(テストデータ!BB3,131,0))","v":0},{"$f":"SUM(OFFSET(テストデータ!BG3,131,0):OFFSET(テストデータ!BI3,131,0))","v":0},{"$f":"SUM(OFFSET(テストデータ!BG3,131,0):OFFSET(テストデータ!BK3,131,0))","v":0},{"$f":"SUM(OFFSET(テストデータ!BL3,131,0):OFFSET(テストデータ!BN3,131,0))","v":0},{"$f":"SUM(OFFSET(テストデータ!BL3,131,0):OFFSET(テストデータ!BP3,131,0))","v":0},{"$f":"SUM(OFFSET(テストデータ!BQ3,131,0):OFFSET(テストデータ!BS3,131,0))","v":0},{"$f":"SUM(OFFSET(テストデータ!BQ3,131,0):OFFSET(テストデータ!BU3,131,0))","v":0},{"$f":"SUM(OFFSET(テストデータ!BV3,131,0):OFFSET(テストデータ!BX3,131,0))","v":0},{"$f":"SUM(OFFSET(テストデータ!BV3,131,0):OFFSET(テストデータ!BZ3,131,0))","v":0},{"$f":"SUM(OFFSET(テストデータ!CA3,131,0):OFFSET(テストデータ!CC3,131,0))","v":0},{"$f":"SUM(OFFSET(テストデータ!CA3,131,0):OFFSET(テストデータ!CE3,131,0))","v":0},{"$f":"SUM(OFFSET(テストデータ!CF3,131,0):OFFSET(テストデータ!CH3,131,0))","v":0},{"$f":"SUM(OFFSET(テストデータ!CF3,131,0):OFFSET(テストデータ!CJ3,131,0))","v":0},{"$f":"SUM(OFFSET(テストデータ!CK3,131,0):OFFSET(テストデータ!CM3,131,0))","v":0},{"$f":"SUM(OFFSET(テストデータ!CK3,131,0):OFFSET(テストデータ!CO3,131,0))","v":0},{"$f":"SUM(OFFSET(テストデータ!CP3,131,0):OFFSET(テストデータ!CR3,131,0))","v":0},{"$f":"SUM(OFFSET(テストデータ!CP3,131,0):OFFSET(テストデータ!CT3,131,0))","v":0}]
[null,null,null,null,null,null,null,null,null,null,null,null,null,{"$f":"SUM(OFFSET(テストデータ!$E3,132,9*成績表1!$B$4-9):OFFSET(テストデータ!$G3,132,9*成績表1!$B$4-9))","v":0},{"$f":"SUM(OFFSET(テストデータ!$E3,132,9*成績表1!$B$4-9):OFFSET(テストデータ!I3,132,9*成績表1!$B$4-9))","v":0},{"$f":"SUM(OFFSET(テストデータ!E3,132,0):OFFSET(テストデータ!G3,132,0))","v":0},{"$f":"SUM(OFFSET(テストデータ!E3,132,0):OFFSET(テストデータ!I3,132,0))","v":0},{"$f":"SUM(OFFSET(テストデータ!N3,132,0):OFFSET(テストデータ!P3,132,0))","v":0},{"$f":"SUM(OFFSET(テストデータ!N3,132,0):OFFSET(テストデータ!R3,132,0))","v":0},{"$f":"SUM(OFFSET(テストデータ!W3,132,0):OFFSET(テストデータ!Y3,132,0))","v":0},{"$f":"SUM(OFFSET(テストデータ!W3,132,0):OFFSET(テストデータ!AA3,132,0))","v":0},{"$f":"SUM(OFFSET(テストデータ!AF3,132,0):OFFSET(テストデータ!AH3,132,0))","v":0},{"$f":"SUM(OFFSET(テストデータ!AF3,132,0):OFFSET(テストデータ!AJ3,132,0))","v":0},{"$f":"SUM(OFFSET(テストデータ!AO3,132,0):OFFSET(テストデータ!AQ3,132,0))","v":0},{"$f":"SUM(OFFSET(テストデータ!AO3,132,0):OFFSET(テストデータ!AS3,132,0))","v":0},{"$f":"SUM(OFFSET(テストデータ!AX3,132,0):OFFSET(テストデータ!AZ3,132,0))","v":0},{"$f":"SUM(OFFSET(テストデータ!AX3,132,0):OFFSET(テストデータ!BB3,132,0))","v":0},{"$f":"SUM(OFFSET(テストデータ!BG3,132,0):OFFSET(テストデータ!BI3,132,0))","v":0},{"$f":"SUM(OFFSET(テストデータ!BG3,132,0):OFFSET(テストデータ!BK3,132,0))","v":0},{"$f":"SUM(OFFSET(テストデータ!BL3,132,0):OFFSET(テストデータ!BN3,132,0))","v":0},{"$f":"SUM(OFFSET(テストデータ!BL3,132,0):OFFSET(テストデータ!BP3,132,0))","v":0},{"$f":"SUM(OFFSET(テストデータ!BQ3,132,0):OFFSET(テストデータ!BS3,132,0))","v":0},{"$f":"SUM(OFFSET(テストデータ!BQ3,132,0):OFFSET(テストデータ!BU3,132,0))","v":0},{"$f":"SUM(OFFSET(テストデータ!BV3,132,0):OFFSET(テストデータ!BX3,132,0))","v":0},{"$f":"SUM(OFFSET(テストデータ!BV3,132,0):OFFSET(テストデータ!BZ3,132,0))","v":0},{"$f":"SUM(OFFSET(テストデータ!CA3,132,0):OFFSET(テストデータ!CC3,132,0))","v":0},{"$f":"SUM(OFFSET(テストデータ!CA3,132,0):OFFSET(テストデータ!CE3,132,0))","v":0},{"$f":"SUM(OFFSET(テストデータ!CF3,132,0):OFFSET(テストデータ!CH3,132,0))","v":0},{"$f":"SUM(OFFSET(テストデータ!CF3,132,0):OFFSET(テストデータ!CJ3,132,0))","v":0},{"$f":"SUM(OFFSET(テストデータ!CK3,132,0):OFFSET(テストデータ!CM3,132,0))","v":0},{"$f":"SUM(OFFSET(テストデータ!CK3,132,0):OFFSET(テストデータ!CO3,132,0))","v":0},{"$f":"SUM(OFFSET(テストデータ!CP3,132,0):OFFSET(テストデータ!CR3,132,0))","v":0},{"$f":"SUM(OFFSET(テストデータ!CP3,132,0):OFFSET(テストデータ!CT3,132,0))","v":0}]
[null,null,null,null,null,null,null,null,null,null,null,null,null,{"$f":"SUM(OFFSET(テストデータ!$E3,133,9*成績表1!$B$4-9):OFFSET(テストデータ!$G3,133,9*成績表1!$B$4-9))","v":0},{"$f":"SUM(OFFSET(テストデータ!$E3,133,9*成績表1!$B$4-9):OFFSET(テストデータ!I3,133,9*成績表1!$B$4-9))","v":0},{"$f":"SUM(OFFSET(テストデータ!E3,133,0):OFFSET(テストデータ!G3,133,0))","v":0},{"$f":"SUM(OFFSET(テストデータ!E3,133,0):OFFSET(テストデータ!I3,133,0))","v":0},{"$f":"SUM(OFFSET(テストデータ!N3,133,0):OFFSET(テストデータ!P3,133,0))","v":0},{"$f":"SUM(OFFSET(テストデータ!N3,133,0):OFFSET(テストデータ!R3,133,0))","v":0},{"$f":"SUM(OFFSET(テストデータ!W3,133,0):OFFSET(テストデータ!Y3,133,0))","v":0},{"$f":"SUM(OFFSET(テストデータ!W3,133,0):OFFSET(テストデータ!AA3,133,0))","v":0},{"$f":"SUM(OFFSET(テストデータ!AF3,133,0):OFFSET(テストデータ!AH3,133,0))","v":0},{"$f":"SUM(OFFSET(テストデータ!AF3,133,0):OFFSET(テストデータ!AJ3,133,0))","v":0},{"$f":"SUM(OFFSET(テストデータ!AO3,133,0):OFFSET(テストデータ!AQ3,133,0))","v":0},{"$f":"SUM(OFFSET(テストデータ!AO3,133,0):OFFSET(テストデータ!AS3,133,0))","v":0},{"$f":"SUM(OFFSET(テストデータ!AX3,133,0):OFFSET(テストデータ!AZ3,133,0))","v":0},{"$f":"SUM(OFFSET(テストデータ!AX3,133,0):OFFSET(テストデータ!BB3,133,0))","v":0},{"$f":"SUM(OFFSET(テストデータ!BG3,133,0):OFFSET(テストデータ!BI3,133,0))","v":0},{"$f":"SUM(OFFSET(テストデータ!BG3,133,0):OFFSET(テストデータ!BK3,133,0))","v":0},{"$f":"SUM(OFFSET(テストデータ!BL3,133,0):OFFSET(テストデータ!BN3,133,0))","v":0},{"$f":"SUM(OFFSET(テストデータ!BL3,133,0):OFFSET(テストデータ!BP3,133,0))","v":0},{"$f":"SUM(OFFSET(テストデータ!BQ3,133,0):OFFSET(テストデータ!BS3,133,0))","v":0},{"$f":"SUM(OFFSET(テストデータ!BQ3,133,0):OFFSET(テストデータ!BU3,133,0))","v":0},{"$f":"SUM(OFFSET(テストデータ!BV3,133,0):OFFSET(テストデータ!BX3,133,0))","v":0},{"$f":"SUM(OFFSET(テストデータ!BV3,133,0):OFFSET(テストデータ!BZ3,133,0))","v":0},{"$f":"SUM(OFFSET(テストデータ!CA3,133,0):OFFSET(テストデータ!CC3,133,0))","v":0},{"$f":"SUM(OFFSET(テストデータ!CA3,133,0):OFFSET(テストデータ!CE3,133,0))","v":0},{"$f":"SUM(OFFSET(テストデータ!CF3,133,0):OFFSET(テストデータ!CH3,133,0))","v":0},{"$f":"SUM(OFFSET(テストデータ!CF3,133,0):OFFSET(テストデータ!CJ3,133,0))","v":0},{"$f":"SUM(OFFSET(テストデータ!CK3,133,0):OFFSET(テストデータ!CM3,133,0))","v":0},{"$f":"SUM(OFFSET(テストデータ!CK3,133,0):OFFSET(テストデータ!CO3,133,0))","v":0},{"$f":"SUM(OFFSET(テストデータ!CP3,133,0):OFFSET(テストデータ!CR3,133,0))","v":0},{"$f":"SUM(OFFSET(テストデータ!CP3,133,0):OFFSET(テストデータ!CT3,133,0))","v":0}]
[null,null,null,null,null,null,null,null,null,null,null,null,null,{"$f":"SUM(OFFSET(テストデータ!$E3,134,9*成績表1!$B$4-9):OFFSET(テストデータ!$G3,134,9*成績表1!$B$4-9))","v":0},{"$f":"SUM(OFFSET(テストデータ!$E3,134,9*成績表1!$B$4-9):OFFSET(テストデータ!I3,134,9*成績表1!$B$4-9))","v":0},{"$f":"SUM(OFFSET(テストデータ!E3,134,0):OFFSET(テストデータ!G3,134,0))","v":0},{"$f":"SUM(OFFSET(テストデータ!E3,134,0):OFFSET(テストデータ!I3,134,0))","v":0},{"$f":"SUM(OFFSET(テストデータ!N3,134,0):OFFSET(テストデータ!P3,134,0))","v":0},{"$f":"SUM(OFFSET(テストデータ!N3,134,0):OFFSET(テストデータ!R3,134,0))","v":0},{"$f":"SUM(OFFSET(テストデータ!W3,134,0):OFFSET(テストデータ!Y3,134,0))","v":0},{"$f":"SUM(OFFSET(テストデータ!W3,134,0):OFFSET(テストデータ!AA3,134,0))","v":0},{"$f":"SUM(OFFSET(テストデータ!AF3,134,0):OFFSET(テストデータ!AH3,134,0))","v":0},{"$f":"SUM(OFFSET(テストデータ!AF3,134,0):OFFSET(テストデータ!AJ3,134,0))","v":0},{"$f":"SUM(OFFSET(テストデータ!AO3,134,0):OFFSET(テストデータ!AQ3,134,0))","v":0},{"$f":"SUM(OFFSET(テストデータ!AO3,134,0):OFFSET(テストデータ!AS3,134,0))","v":0},{"$f":"SUM(OFFSET(テストデータ!AX3,134,0):OFFSET(テストデータ!AZ3,134,0))","v":0},{"$f":"SUM(OFFSET(テストデータ!AX3,134,0):OFFSET(テストデータ!BB3,134,0))","v":0},{"$f":"SUM(OFFSET(テストデータ!BG3,134,0):OFFSET(テストデータ!BI3,134,0))","v":0},{"$f":"SUM(OFFSET(テストデータ!BG3,134,0):OFFSET(テストデータ!BK3,134,0))","v":0},{"$f":"SUM(OFFSET(テストデータ!BL3,134,0):OFFSET(テストデータ!BN3,134,0))","v":0},{"$f":"SUM(OFFSET(テストデータ!BL3,134,0):OFFSET(テストデータ!BP3,134,0))","v":0},{"$f":"SUM(OFFSET(テストデータ!BQ3,134,0):OFFSET(テストデータ!BS3,134,0))","v":0},{"$f":"SUM(OFFSET(テストデータ!BQ3,134,0):OFFSET(テストデータ!BU3,134,0))","v":0},{"$f":"SUM(OFFSET(テストデータ!BV3,134,0):OFFSET(テストデータ!BX3,134,0))","v":0},{"$f":"SUM(OFFSET(テストデータ!BV3,134,0):OFFSET(テストデータ!BZ3,134,0))","v":0},{"$f":"SUM(OFFSET(テストデータ!CA3,134,0):OFFSET(テストデータ!CC3,134,0))","v":0},{"$f":"SUM(OFFSET(テストデータ!CA3,134,0):OFFSET(テストデータ!CE3,134,0))","v":0},{"$f":"SUM(OFFSET(テストデータ!CF3,134,0):OFFSET(テストデータ!CH3,134,0))","v":0},{"$f":"SUM(OFFSET(テストデータ!CF3,134,0):OFFSET(テストデータ!CJ3,134,0))","v":0},{"$f":"SUM(OFFSET(テストデータ!CK3,134,0):OFFSET(テストデータ!CM3,134,0))","v":0},{"$f":"SUM(OFFSET(テストデータ!CK3,134,0):OFFSET(テストデータ!CO3,134,0))","v":0},{"$f":"SUM(OFFSET(テストデータ!CP3,134,0):OFFSET(テストデータ!CR3,134,0))","v":0},{"$f":"SUM(OFFSET(テストデータ!CP3,134,0):OFFSET(テストデータ!CT3,134,0))","v":0}]
[null,null,null,null,null,null,null,null,null,null,null,null,null,{"$f":"SUM(OFFSET(テストデータ!$E3,135,9*成績表1!$B$4-9):OFFSET(テストデータ!$G3,135,9*成績表1!$B$4-9))","v":0},{"$f":"SUM(OFFSET(テストデータ!$E3,135,9*成績表1!$B$4-9):OFFSET(テストデータ!I3,135,9*成績表1!$B$4-9))","v":0},{"$f":"SUM(OFFSET(テストデータ!E3,135,0):OFFSET(テストデータ!G3,135,0))","v":0},{"$f":"SUM(OFFSET(テストデータ!E3,135,0):OFFSET(テストデータ!I3,135,0))","v":0},{"$f":"SUM(OFFSET(テストデータ!N3,135,0):OFFSET(テストデータ!P3,135,0))","v":0},{"$f":"SUM(OFFSET(テストデータ!N3,135,0):OFFSET(テストデータ!R3,135,0))","v":0},{"$f":"SUM(OFFSET(テストデータ!W3,135,0):OFFSET(テストデータ!Y3,135,0))","v":0},{"$f":"SUM(OFFSET(テストデータ!W3,135,0):OFFSET(テストデータ!AA3,135,0))","v":0},{"$f":"SUM(OFFSET(テストデータ!AF3,135,0):OFFSET(テストデータ!AH3,135,0))","v":0},{"$f":"SUM(OFFSET(テストデータ!AF3,135,0):OFFSET(テストデータ!AJ3,135,0))","v":0},{"$f":"SUM(OFFSET(テストデータ!AO3,135,0):OFFSET(テストデータ!AQ3,135,0))","v":0},{"$f":"SUM(OFFSET(テストデータ!AO3,135,0):OFFSET(テストデータ!AS3,135,0))","v":0},{"$f":"SUM(OFFSET(テストデータ!AX3,135,0):OFFSET(テストデータ!AZ3,135,0))","v":0},{"$f":"SUM(OFFSET(テストデータ!AX3,135,0):OFFSET(テストデータ!BB3,135,0))","v":0},{"$f":"SUM(OFFSET(テストデータ!BG3,135,0):OFFSET(テストデータ!BI3,135,0))","v":0},{"$f":"SUM(OFFSET(テストデータ!BG3,135,0):OFFSET(テストデータ!BK3,135,0))","v":0},{"$f":"SUM(OFFSET(テストデータ!BL3,135,0):OFFSET(テストデータ!BN3,135,0))","v":0},{"$f":"SUM(OFFSET(テストデータ!BL3,135,0):OFFSET(テストデータ!BP3,135,0))","v":0},{"$f":"SUM(OFFSET(テストデータ!BQ3,135,0):OFFSET(テストデータ!BS3,135,0))","v":0},{"$f":"SUM(OFFSET(テストデータ!BQ3,135,0):OFFSET(テストデータ!BU3,135,0))","v":0},{"$f":"SUM(OFFSET(テストデータ!BV3,135,0):OFFSET(テストデータ!BX3,135,0))","v":0},{"$f":"SUM(OFFSET(テストデータ!BV3,135,0):OFFSET(テストデータ!BZ3,135,0))","v":0},{"$f":"SUM(OFFSET(テストデータ!CA3,135,0):OFFSET(テストデータ!CC3,135,0))","v":0},{"$f":"SUM(OFFSET(テストデータ!CA3,135,0):OFFSET(テストデータ!CE3,135,0))","v":0},{"$f":"SUM(OFFSET(テストデータ!CF3,135,0):OFFSET(テストデータ!CH3,135,0))","v":0},{"$f":"SUM(OFFSET(テストデータ!CF3,135,0):OFFSET(テストデータ!CJ3,135,0))","v":0},{"$f":"SUM(OFFSET(テストデータ!CK3,135,0):OFFSET(テストデータ!CM3,135,0))","v":0},{"$f":"SUM(OFFSET(テストデータ!CK3,135,0):OFFSET(テストデータ!CO3,135,0))","v":0},{"$f":"SUM(OFFSET(テストデータ!CP3,135,0):OFFSET(テストデータ!CR3,135,0))","v":0},{"$f":"SUM(OFFSET(テストデータ!CP3,135,0):OFFSET(テストデータ!CT3,135,0))","v":0}]
[null,null,null,null,null,null,null,null,null,null,null,null,null,{"$f":"SUM(OFFSET(テストデータ!$E3,136,9*成績表1!$B$4-9):OFFSET(テストデータ!$G3,136,9*成績表1!$B$4-9))","v":0},{"$f":"SUM(OFFSET(テストデータ!$E3,136,9*成績表1!$B$4-9):OFFSET(テストデータ!I3,136,9*成績表1!$B$4-9))","v":0},{"$f":"SUM(OFFSET(テストデータ!E3,136,0):OFFSET(テストデータ!G3,136,0))","v":0},{"$f":"SUM(OFFSET(テストデータ!E3,136,0):OFFSET(テストデータ!I3,136,0))","v":0},{"$f":"SUM(OFFSET(テストデータ!N3,136,0):OFFSET(テストデータ!P3,136,0))","v":0},{"$f":"SUM(OFFSET(テストデータ!N3,136,0):OFFSET(テストデータ!R3,136,0))","v":0},{"$f":"SUM(OFFSET(テストデータ!W3,136,0):OFFSET(テストデータ!Y3,136,0))","v":0},{"$f":"SUM(OFFSET(テストデータ!W3,136,0):OFFSET(テストデータ!AA3,136,0))","v":0},{"$f":"SUM(OFFSET(テストデータ!AF3,136,0):OFFSET(テストデータ!AH3,136,0))","v":0},{"$f":"SUM(OFFSET(テストデータ!AF3,136,0):OFFSET(テストデータ!AJ3,136,0))","v":0},{"$f":"SUM(OFFSET(テストデータ!AO3,136,0):OFFSET(テストデータ!AQ3,136,0))","v":0},{"$f":"SUM(OFFSET(テストデータ!AO3,136,0):OFFSET(テストデータ!AS3,136,0))","v":0},{"$f":"SUM(OFFSET(テストデータ!AX3,136,0):OFFSET(テストデータ!AZ3,136,0))","v":0},{"$f":"SUM(OFFSET(テストデータ!AX3,136,0):OFFSET(テストデータ!BB3,136,0))","v":0},{"$f":"SUM(OFFSET(テストデータ!BG3,136,0):OFFSET(テストデータ!BI3,136,0))","v":0},{"$f":"SUM(OFFSET(テストデータ!BG3,136,0):OFFSET(テストデータ!BK3,136,0))","v":0},{"$f":"SUM(OFFSET(テストデータ!BL3,136,0):OFFSET(テストデータ!BN3,136,0))","v":0},{"$f":"SUM(OFFSET(テストデータ!BL3,136,0):OFFSET(テストデータ!BP3,136,0))","v":0},{"$f":"SUM(OFFSET(テストデータ!BQ3,136,0):OFFSET(テストデータ!BS3,136,0))","v":0},{"$f":"SUM(OFFSET(テストデータ!BQ3,136,0):OFFSET(テストデータ!BU3,136,0))","v":0},{"$f":"SUM(OFFSET(テストデータ!BV3,136,0):OFFSET(テストデータ!BX3,136,0))","v":0},{"$f":"SUM(OFFSET(テストデータ!BV3,136,0):OFFSET(テストデータ!BZ3,136,0))","v":0},{"$f":"SUM(OFFSET(テストデータ!CA3,136,0):OFFSET(テストデータ!CC3,136,0))","v":0},{"$f":"SUM(OFFSET(テストデータ!CA3,136,0):OFFSET(テストデータ!CE3,136,0))","v":0},{"$f":"SUM(OFFSET(テストデータ!CF3,136,0):OFFSET(テストデータ!CH3,136,0))","v":0},{"$f":"SUM(OFFSET(テストデータ!CF3,136,0):OFFSET(テストデータ!CJ3,136,0))","v":0},{"$f":"SUM(OFFSET(テストデータ!CK3,136,0):OFFSET(テストデータ!CM3,136,0))","v":0},{"$f":"SUM(OFFSET(テストデータ!CK3,136,0):OFFSET(テストデータ!CO3,136,0))","v":0},{"$f":"SUM(OFFSET(テストデータ!CP3,136,0):OFFSET(テストデータ!CR3,136,0))","v":0},{"$f":"SUM(OFFSET(テストデータ!CP3,136,0):OFFSET(テストデータ!CT3,136,0))","v":0}]
[null,null,null,null,null,null,null,null,null,null,null,null,null,{"$f":"SUM(OFFSET(テストデータ!$E3,137,9*成績表1!$B$4-9):OFFSET(テストデータ!$G3,137,9*成績表1!$B$4-9))","v":0},{"$f":"SUM(OFFSET(テストデータ!$E3,137,9*成績表1!$B$4-9):OFFSET(テストデータ!I3,137,9*成績表1!$B$4-9))","v":0},{"$f":"SUM(OFFSET(テストデータ!E3,137,0):OFFSET(テストデータ!G3,137,0))","v":0},{"$f":"SUM(OFFSET(テストデータ!E3,137,0):OFFSET(テストデータ!I3,137,0))","v":0},{"$f":"SUM(OFFSET(テストデータ!N3,137,0):OFFSET(テストデータ!P3,137,0))","v":0},{"$f":"SUM(OFFSET(テストデータ!N3,137,0):OFFSET(テストデータ!R3,137,0))","v":0},{"$f":"SUM(OFFSET(テストデータ!W3,137,0):OFFSET(テストデータ!Y3,137,0))","v":0},{"$f":"SUM(OFFSET(テストデータ!W3,137,0):OFFSET(テストデータ!AA3,137,0))","v":0},{"$f":"SUM(OFFSET(テストデータ!AF3,137,0):OFFSET(テストデータ!AH3,137,0))","v":0},{"$f":"SUM(OFFSET(テストデータ!AF3,137,0):OFFSET(テストデータ!AJ3,137,0))","v":0},{"$f":"SUM(OFFSET(テストデータ!AO3,137,0):OFFSET(テストデータ!AQ3,137,0))","v":0},{"$f":"SUM(OFFSET(テストデータ!AO3,137,0):OFFSET(テストデータ!AS3,137,0))","v":0},{"$f":"SUM(OFFSET(テストデータ!AX3,137,0):OFFSET(テストデータ!AZ3,137,0))","v":0},{"$f":"SUM(OFFSET(テストデータ!AX3,137,0):OFFSET(テストデータ!BB3,137,0))","v":0},{"$f":"SUM(OFFSET(テストデータ!BG3,137,0):OFFSET(テストデータ!BI3,137,0))","v":0},{"$f":"SUM(OFFSET(テストデータ!BG3,137,0):OFFSET(テストデータ!BK3,137,0))","v":0},{"$f":"SUM(OFFSET(テストデータ!BL3,137,0):OFFSET(テストデータ!BN3,137,0))","v":0},{"$f":"SUM(OFFSET(テストデータ!BL3,137,0):OFFSET(テストデータ!BP3,137,0))","v":0},{"$f":"SUM(OFFSET(テストデータ!BQ3,137,0):OFFSET(テストデータ!BS3,137,0))","v":0},{"$f":"SUM(OFFSET(テストデータ!BQ3,137,0):OFFSET(テストデータ!BU3,137,0))","v":0},{"$f":"SUM(OFFSET(テストデータ!BV3,137,0):OFFSET(テストデータ!BX3,137,0))","v":0},{"$f":"SUM(OFFSET(テストデータ!BV3,137,0):OFFSET(テストデータ!BZ3,137,0))","v":0},{"$f":"SUM(OFFSET(テストデータ!CA3,137,0):OFFSET(テストデータ!CC3,137,0))","v":0},{"$f":"SUM(OFFSET(テストデータ!CA3,137,0):OFFSET(テストデータ!CE3,137,0))","v":0},{"$f":"SUM(OFFSET(テストデータ!CF3,137,0):OFFSET(テストデータ!CH3,137,0))","v":0},{"$f":"SUM(OFFSET(テストデータ!CF3,137,0):OFFSET(テストデータ!CJ3,137,0))","v":0},{"$f":"SUM(OFFSET(テストデータ!CK3,137,0):OFFSET(テストデータ!CM3,137,0))","v":0},{"$f":"SUM(OFFSET(テストデータ!CK3,137,0):OFFSET(テストデータ!CO3,137,0))","v":0},{"$f":"SUM(OFFSET(テストデータ!CP3,137,0):OFFSET(テストデータ!CR3,137,0))","v":0},{"$f":"SUM(OFFSET(テストデータ!CP3,137,0):OFFSET(テストデータ!CT3,137,0))","v":0}]
[null,null,null,null,null,null,null,null,null,null,null,null,null,{"$f":"SUM(OFFSET(テストデータ!$E3,138,9*成績表1!$B$4-9):OFFSET(テストデータ!$G3,138,9*成績表1!$B$4-9))","v":0},{"$f":"SUM(OFFSET(テストデータ!$E3,138,9*成績表1!$B$4-9):OFFSET(テストデータ!I3,138,9*成績表1!$B$4-9))","v":0},{"$f":"SUM(OFFSET(テストデータ!E3,138,0):OFFSET(テストデータ!G3,138,0))","v":0},{"$f":"SUM(OFFSET(テストデータ!E3,138,0):OFFSET(テストデータ!I3,138,0))","v":0},{"$f":"SUM(OFFSET(テストデータ!N3,138,0):OFFSET(テストデータ!P3,138,0))","v":0},{"$f":"SUM(OFFSET(テストデータ!N3,138,0):OFFSET(テストデータ!R3,138,0))","v":0},{"$f":"SUM(OFFSET(テストデータ!W3,138,0):OFFSET(テストデータ!Y3,138,0))","v":0},{"$f":"SUM(OFFSET(テストデータ!W3,138,0):OFFSET(テストデータ!AA3,138,0))","v":0},{"$f":"SUM(OFFSET(テストデータ!AF3,138,0):OFFSET(テストデータ!AH3,138,0))","v":0},{"$f":"SUM(OFFSET(テストデータ!AF3,138,0):OFFSET(テストデータ!AJ3,138,0))","v":0},{"$f":"SUM(OFFSET(テストデータ!AO3,138,0):OFFSET(テストデータ!AQ3,138,0))","v":0},{"$f":"SUM(OFFSET(テストデータ!AO3,138,0):OFFSET(テストデータ!AS3,138,0))","v":0},{"$f":"SUM(OFFSET(テストデータ!AX3,138,0):OFFSET(テストデータ!AZ3,138,0))","v":0},{"$f":"SUM(OFFSET(テストデータ!AX3,138,0):OFFSET(テストデータ!BB3,138,0))","v":0},{"$f":"SUM(OFFSET(テストデータ!BG3,138,0):OFFSET(テストデータ!BI3,138,0))","v":0},{"$f":"SUM(OFFSET(テストデータ!BG3,138,0):OFFSET(テストデータ!BK3,138,0))","v":0},{"$f":"SUM(OFFSET(テストデータ!BL3,138,0):OFFSET(テストデータ!BN3,138,0))","v":0},{"$f":"SUM(OFFSET(テストデータ!BL3,138,0):OFFSET(テストデータ!BP3,138,0))","v":0},{"$f":"SUM(OFFSET(テストデータ!BQ3,138,0):OFFSET(テストデータ!BS3,138,0))","v":0},{"$f":"SUM(OFFSET(テストデータ!BQ3,138,0):OFFSET(テストデータ!BU3,138,0))","v":0},{"$f":"SUM(OFFSET(テストデータ!BV3,138,0):OFFSET(テストデータ!BX3,138,0))","v":0},{"$f":"SUM(OFFSET(テストデータ!BV3,138,0):OFFSET(テストデータ!BZ3,138,0))","v":0},{"$f":"SUM(OFFSET(テストデータ!CA3,138,0):OFFSET(テストデータ!CC3,138,0))","v":0},{"$f":"SUM(OFFSET(テストデータ!CA3,138,0):OFFSET(テストデータ!CE3,138,0))","v":0},{"$f":"SUM(OFFSET(テストデータ!CF3,138,0):OFFSET(テストデータ!CH3,138,0))","v":0},{"$f":"SUM(OFFSET(テストデータ!CF3,138,0):OFFSET(テストデータ!CJ3,138,0))","v":0},{"$f":"SUM(OFFSET(テストデータ!CK3,138,0):OFFSET(テストデータ!CM3,138,0))","v":0},{"$f":"SUM(OFFSET(テストデータ!CK3,138,0):OFFSET(テストデータ!CO3,138,0))","v":0},{"$f":"SUM(OFFSET(テストデータ!CP3,138,0):OFFSET(テストデータ!CR3,138,0))","v":0},{"$f":"SUM(OFFSET(テストデータ!CP3,138,0):OFFSET(テストデータ!CT3,138,0))","v":0}]
[null,null,null,null,null,null,null,null,null,null,null,null,null,{"$f":"SUM(OFFSET(テストデータ!$E3,139,9*成績表1!$B$4-9):OFFSET(テストデータ!$G3,139,9*成績表1!$B$4-9))","v":0},{"$f":"SUM(OFFSET(テストデータ!$E3,139,9*成績表1!$B$4-9):OFFSET(テストデータ!I3,139,9*成績表1!$B$4-9))","v":0},{"$f":"SUM(OFFSET(テストデータ!E3,139,0):OFFSET(テストデータ!G3,139,0))","v":0},{"$f":"SUM(OFFSET(テストデータ!E3,139,0):OFFSET(テストデータ!I3,139,0))","v":0},{"$f":"SUM(OFFSET(テストデータ!N3,139,0):OFFSET(テストデータ!P3,139,0))","v":0},{"$f":"SUM(OFFSET(テストデータ!N3,139,0):OFFSET(テストデータ!R3,139,0))","v":0},{"$f":"SUM(OFFSET(テストデータ!W3,139,0):OFFSET(テストデータ!Y3,139,0))","v":0},{"$f":"SUM(OFFSET(テストデータ!W3,139,0):OFFSET(テストデータ!AA3,139,0))","v":0},{"$f":"SUM(OFFSET(テストデータ!AF3,139,0):OFFSET(テストデータ!AH3,139,0))","v":0},{"$f":"SUM(OFFSET(テストデータ!AF3,139,0):OFFSET(テストデータ!AJ3,139,0))","v":0},{"$f":"SUM(OFFSET(テストデータ!AO3,139,0):OFFSET(テストデータ!AQ3,139,0))","v":0},{"$f":"SUM(OFFSET(テストデータ!AO3,139,0):OFFSET(テストデータ!AS3,139,0))","v":0},{"$f":"SUM(OFFSET(テストデータ!AX3,139,0):OFFSET(テストデータ!AZ3,139,0))","v":0},{"$f":"SUM(OFFSET(テストデータ!AX3,139,0):OFFSET(テストデータ!BB3,139,0))","v":0},{"$f":"SUM(OFFSET(テストデータ!BG3,139,0):OFFSET(テストデータ!BI3,139,0))","v":0},{"$f":"SUM(OFFSET(テストデータ!BG3,139,0):OFFSET(テストデータ!BK3,139,0))","v":0},{"$f":"SUM(OFFSET(テストデータ!BL3,139,0):OFFSET(テストデータ!BN3,139,0))","v":0},{"$f":"SUM(OFFSET(テストデータ!BL3,139,0):OFFSET(テストデータ!BP3,139,0))","v":0},{"$f":"SUM(OFFSET(テストデータ!BQ3,139,0):OFFSET(テストデータ!BS3,139,0))","v":0},{"$f":"SUM(OFFSET(テストデータ!BQ3,139,0):OFFSET(テストデータ!BU3,139,0))","v":0},{"$f":"SUM(OFFSET(テストデータ!BV3,139,0):OFFSET(テストデータ!BX3,139,0))","v":0},{"$f":"SUM(OFFSET(テストデータ!BV3,139,0):OFFSET(テストデータ!BZ3,139,0))","v":0},{"$f":"SUM(OFFSET(テストデータ!CA3,139,0):OFFSET(テストデータ!CC3,139,0))","v":0},{"$f":"SUM(OFFSET(テストデータ!CA3,139,0):OFFSET(テストデータ!CE3,139,0))","v":0},{"$f":"SUM(OFFSET(テストデータ!CF3,139,0):OFFSET(テストデータ!CH3,139,0))","v":0},{"$f":"SUM(OFFSET(テストデータ!CF3,139,0):OFFSET(テストデータ!CJ3,139,0))","v":0},{"$f":"SUM(OFFSET(テストデータ!CK3,139,0):OFFSET(テストデータ!CM3,139,0))","v":0},{"$f":"SUM(OFFSET(テストデータ!CK3,139,0):OFFSET(テストデータ!CO3,139,0))","v":0},{"$f":"SUM(OFFSET(テストデータ!CP3,139,0):OFFSET(テストデータ!CR3,139,0))","v":0},{"$f":"SUM(OFFSET(テストデータ!CP3,139,0):OFFSET(テストデータ!CT3,139,0))","v":0}]
[null,null,null,null,null,null,null,null,null,null,null,null,null,{"$f":"SUM(OFFSET(テストデータ!$E3,140,9*成績表1!$B$4-9):OFFSET(テストデータ!$G3,140,9*成績表1!$B$4-9))","v":0},{"$f":"SUM(OFFSET(テストデータ!$E3,140,9*成績表1!$B$4-9):OFFSET(テストデータ!I3,140,9*成績表1!$B$4-9))","v":0},{"$f":"SUM(OFFSET(テストデータ!E3,140,0):OFFSET(テストデータ!G3,140,0))","v":0},{"$f":"SUM(OFFSET(テストデータ!E3,140,0):OFFSET(テストデータ!I3,140,0))","v":0},{"$f":"SUM(OFFSET(テストデータ!N3,140,0):OFFSET(テストデータ!P3,140,0))","v":0},{"$f":"SUM(OFFSET(テストデータ!N3,140,0):OFFSET(テストデータ!R3,140,0))","v":0},{"$f":"SUM(OFFSET(テストデータ!W3,140,0):OFFSET(テストデータ!Y3,140,0))","v":0},{"$f":"SUM(OFFSET(テストデータ!W3,140,0):OFFSET(テストデータ!AA3,140,0))","v":0},{"$f":"SUM(OFFSET(テストデータ!AF3,140,0):OFFSET(テストデータ!AH3,140,0))","v":0},{"$f":"SUM(OFFSET(テストデータ!AF3,140,0):OFFSET(テストデータ!AJ3,140,0))","v":0},{"$f":"SUM(OFFSET(テストデータ!AO3,140,0):OFFSET(テストデータ!AQ3,140,0))","v":0},{"$f":"SUM(OFFSET(テストデータ!AO3,140,0):OFFSET(テストデータ!AS3,140,0))","v":0},{"$f":"SUM(OFFSET(テストデータ!AX3,140,0):OFFSET(テストデータ!AZ3,140,0))","v":0},{"$f":"SUM(OFFSET(テストデータ!AX3,140,0):OFFSET(テストデータ!BB3,140,0))","v":0},{"$f":"SUM(OFFSET(テストデータ!BG3,140,0):OFFSET(テストデータ!BI3,140,0))","v":0},{"$f":"SUM(OFFSET(テストデータ!BG3,140,0):OFFSET(テストデータ!BK3,140,0))","v":0},{"$f":"SUM(OFFSET(テストデータ!BL3,140,0):OFFSET(テストデータ!BN3,140,0))","v":0},{"$f":"SUM(OFFSET(テストデータ!BL3,140,0):OFFSET(テストデータ!BP3,140,0))","v":0},{"$f":"SUM(OFFSET(テストデータ!BQ3,140,0):OFFSET(テストデータ!BS3,140,0))","v":0},{"$f":"SUM(OFFSET(テストデータ!BQ3,140,0):OFFSET(テストデータ!BU3,140,0))","v":0},{"$f":"SUM(OFFSET(テストデータ!BV3,140,0):OFFSET(テストデータ!BX3,140,0))","v":0},{"$f":"SUM(OFFSET(テストデータ!BV3,140,0):OFFSET(テストデータ!BZ3,140,0))","v":0},{"$f":"SUM(OFFSET(テストデータ!CA3,140,0):OFFSET(テストデータ!CC3,140,0))","v":0},{"$f":"SUM(OFFSET(テストデータ!CA3,140,0):OFFSET(テストデータ!CE3,140,0))","v":0},{"$f":"SUM(OFFSET(テストデータ!CF3,140,0):OFFSET(テストデータ!CH3,140,0))","v":0},{"$f":"SUM(OFFSET(テストデータ!CF3,140,0):OFFSET(テストデータ!CJ3,140,0))","v":0},{"$f":"SUM(OFFSET(テストデータ!CK3,140,0):OFFSET(テストデータ!CM3,140,0))","v":0},{"$f":"SUM(OFFSET(テストデータ!CK3,140,0):OFFSET(テストデータ!CO3,140,0))","v":0},{"$f":"SUM(OFFSET(テストデータ!CP3,140,0):OFFSET(テストデータ!CR3,140,0))","v":0},{"$f":"SUM(OFFSET(テストデータ!CP3,140,0):OFFSET(テストデータ!CT3,140,0))","v":0}]
[null,null,null,null,null,null,null,null,null,null,null,null,null,{"$f":"SUM(OFFSET(テストデータ!$E3,141,9*成績表1!$B$4-9):OFFSET(テストデータ!$G3,141,9*成績表1!$B$4-9))","v":0},{"$f":"SUM(OFFSET(テストデータ!$E3,141,9*成績表1!$B$4-9):OFFSET(テストデータ!I3,141,9*成績表1!$B$4-9))","v":0},{"$f":"SUM(OFFSET(テストデータ!E3,141,0):OFFSET(テストデータ!G3,141,0))","v":0},{"$f":"SUM(OFFSET(テストデータ!E3,141,0):OFFSET(テストデータ!I3,141,0))","v":0},{"$f":"SUM(OFFSET(テストデータ!N3,141,0):OFFSET(テストデータ!P3,141,0))","v":0},{"$f":"SUM(OFFSET(テストデータ!N3,141,0):OFFSET(テストデータ!R3,141,0))","v":0},{"$f":"SUM(OFFSET(テストデータ!W3,141,0):OFFSET(テストデータ!Y3,141,0))","v":0},{"$f":"SUM(OFFSET(テストデータ!W3,141,0):OFFSET(テストデータ!AA3,141,0))","v":0},{"$f":"SUM(OFFSET(テストデータ!AF3,141,0):OFFSET(テストデータ!AH3,141,0))","v":0},{"$f":"SUM(OFFSET(テストデータ!AF3,141,0):OFFSET(テストデータ!AJ3,141,0))","v":0},{"$f":"SUM(OFFSET(テストデータ!AO3,141,0):OFFSET(テストデータ!AQ3,141,0))","v":0},{"$f":"SUM(OFFSET(テストデータ!AO3,141,0):OFFSET(テストデータ!AS3,141,0))","v":0},{"$f":"SUM(OFFSET(テストデータ!AX3,141,0):OFFSET(テストデータ!AZ3,141,0))","v":0},{"$f":"SUM(OFFSET(テストデータ!AX3,141,0):OFFSET(テストデータ!BB3,141,0))","v":0},{"$f":"SUM(OFFSET(テストデータ!BG3,141,0):OFFSET(テストデータ!BI3,141,0))","v":0},{"$f":"SUM(OFFSET(テストデータ!BG3,141,0):OFFSET(テストデータ!BK3,141,0))","v":0},{"$f":"SUM(OFFSET(テストデータ!BL3,141,0):OFFSET(テストデータ!BN3,141,0))","v":0},{"$f":"SUM(OFFSET(テストデータ!BL3,141,0):OFFSET(テストデータ!BP3,141,0))","v":0},{"$f":"SUM(OFFSET(テストデータ!BQ3,141,0):OFFSET(テストデータ!BS3,141,0))","v":0},{"$f":"SUM(OFFSET(テストデータ!BQ3,141,0):OFFSET(テストデータ!BU3,141,0))","v":0},{"$f":"SUM(OFFSET(テストデータ!BV3,141,0):OFFSET(テストデータ!BX3,141,0))","v":0},{"$f":"SUM(OFFSET(テストデータ!BV3,141,0):OFFSET(テストデータ!BZ3,141,0))","v":0},{"$f":"SUM(OFFSET(テストデータ!CA3,141,0):OFFSET(テストデータ!CC3,141,0))","v":0},{"$f":"SUM(OFFSET(テストデータ!CA3,141,0):OFFSET(テストデータ!CE3,141,0))","v":0},{"$f":"SUM(OFFSET(テストデータ!CF3,141,0):OFFSET(テストデータ!CH3,141,0))","v":0},{"$f":"SUM(OFFSET(テストデータ!CF3,141,0):OFFSET(テストデータ!CJ3,141,0))","v":0},{"$f":"SUM(OFFSET(テストデータ!CK3,141,0):OFFSET(テストデータ!CM3,141,0))","v":0},{"$f":"SUM(OFFSET(テストデータ!CK3,141,0):OFFSET(テストデータ!CO3,141,0))","v":0},{"$f":"SUM(OFFSET(テストデータ!CP3,141,0):OFFSET(テストデータ!CR3,141,0))","v":0},{"$f":"SUM(OFFSET(テストデータ!CP3,141,0):OFFSET(テストデータ!CT3,141,0))","v":0}]
[null,null,null,null,null,null,null,null,null,null,null,null,null,{"$f":"SUM(OFFSET(テストデータ!$E3,142,9*成績表1!$B$4-9):OFFSET(テストデータ!$G3,142,9*成績表1!$B$4-9))","v":0},{"$f":"SUM(OFFSET(テストデータ!$E3,142,9*成績表1!$B$4-9):OFFSET(テストデータ!I3,142,9*成績表1!$B$4-9))","v":0},{"$f":"SUM(OFFSET(テストデータ!E3,142,0):OFFSET(テストデータ!G3,142,0))","v":0},{"$f":"SUM(OFFSET(テストデータ!E3,142,0):OFFSET(テストデータ!I3,142,0))","v":0},{"$f":"SUM(OFFSET(テストデータ!N3,142,0):OFFSET(テストデータ!P3,142,0))","v":0},{"$f":"SUM(OFFSET(テストデータ!N3,142,0):OFFSET(テストデータ!R3,142,0))","v":0},{"$f":"SUM(OFFSET(テストデータ!W3,142,0):OFFSET(テストデータ!Y3,142,0))","v":0},{"$f":"SUM(OFFSET(テストデータ!W3,142,0):OFFSET(テストデータ!AA3,142,0))","v":0},{"$f":"SUM(OFFSET(テストデータ!AF3,142,0):OFFSET(テストデータ!AH3,142,0))","v":0},{"$f":"SUM(OFFSET(テストデータ!AF3,142,0):OFFSET(テストデータ!AJ3,142,0))","v":0},{"$f":"SUM(OFFSET(テストデータ!AO3,142,0):OFFSET(テストデータ!AQ3,142,0))","v":0},{"$f":"SUM(OFFSET(テストデータ!AO3,142,0):OFFSET(テストデータ!AS3,142,0))","v":0},{"$f":"SUM(OFFSET(テストデータ!AX3,142,0):OFFSET(テストデータ!AZ3,142,0))","v":0},{"$f":"SUM(OFFSET(テストデータ!AX3,142,0):OFFSET(テストデータ!BB3,142,0))","v":0},{"$f":"SUM(OFFSET(テストデータ!BG3,142,0):OFFSET(テストデータ!BI3,142,0))","v":0},{"$f":"SUM(OFFSET(テストデータ!BG3,142,0):OFFSET(テストデータ!BK3,142,0))","v":0},{"$f":"SUM(OFFSET(テストデータ!BL3,142,0):OFFSET(テストデータ!BN3,142,0))","v":0},{"$f":"SUM(OFFSET(テストデータ!BL3,142,0):OFFSET(テストデータ!BP3,142,0))","v":0},{"$f":"SUM(OFFSET(テストデータ!BQ3,142,0):OFFSET(テストデータ!BS3,142,0))","v":0},{"$f":"SUM(OFFSET(テストデータ!BQ3,142,0):OFFSET(テストデータ!BU3,142,0))","v":0},{"$f":"SUM(OFFSET(テストデータ!BV3,142,0):OFFSET(テストデータ!BX3,142,0))","v":0},{"$f":"SUM(OFFSET(テストデータ!BV3,142,0):OFFSET(テストデータ!BZ3,142,0))","v":0},{"$f":"SUM(OFFSET(テストデータ!CA3,142,0):OFFSET(テストデータ!CC3,142,0))","v":0},{"$f":"SUM(OFFSET(テストデータ!CA3,142,0):OFFSET(テストデータ!CE3,142,0))","v":0},{"$f":"SUM(OFFSET(テストデータ!CF3,142,0):OFFSET(テストデータ!CH3,142,0))","v":0},{"$f":"SUM(OFFSET(テストデータ!CF3,142,0):OFFSET(テストデータ!CJ3,142,0))","v":0},{"$f":"SUM(OFFSET(テストデータ!CK3,142,0):OFFSET(テストデータ!CM3,142,0))","v":0},{"$f":"SUM(OFFSET(テストデータ!CK3,142,0):OFFSET(テストデータ!CO3,142,0))","v":0},{"$f":"SUM(OFFSET(テストデータ!CP3,142,0):OFFSET(テストデータ!CR3,142,0))","v":0},{"$f":"SUM(OFFSET(テストデータ!CP3,142,0):OFFSET(テストデータ!CT3,142,0))","v":0}]
[null,null,null,null,null,null,null,null,null,null,null,null,null,{"$f":"SUM(OFFSET(テストデータ!$E3,143,9*成績表1!$B$4-9):OFFSET(テストデータ!$G3,143,9*成績表1!$B$4-9))","v":0},{"$f":"SUM(OFFSET(テストデータ!$E3,143,9*成績表1!$B$4-9):OFFSET(テストデータ!I3,143,9*成績表1!$B$4-9))","v":0},{"$f":"SUM(OFFSET(テストデータ!E3,143,0):OFFSET(テストデータ!G3,143,0))","v":0},{"$f":"SUM(OFFSET(テストデータ!E3,143,0):OFFSET(テストデータ!I3,143,0))","v":0},{"$f":"SUM(OFFSET(テストデータ!N3,143,0):OFFSET(テストデータ!P3,143,0))","v":0},{"$f":"SUM(OFFSET(テストデータ!N3,143,0):OFFSET(テストデータ!R3,143,0))","v":0},{"$f":"SUM(OFFSET(テストデータ!W3,143,0):OFFSET(テストデータ!Y3,143,0))","v":0},{"$f":"SUM(OFFSET(テストデータ!W3,143,0):OFFSET(テストデータ!AA3,143,0))","v":0},{"$f":"SUM(OFFSET(テストデータ!AF3,143,0):OFFSET(テストデータ!AH3,143,0))","v":0},{"$f":"SUM(OFFSET(テストデータ!AF3,143,0):OFFSET(テストデータ!AJ3,143,0))","v":0},{"$f":"SUM(OFFSET(テストデータ!AO3,143,0):OFFSET(テストデータ!AQ3,143,0))","v":0},{"$f":"SUM(OFFSET(テストデータ!AO3,143,0):OFFSET(テストデータ!AS3,143,0))","v":0},{"$f":"SUM(OFFSET(テストデータ!AX3,143,0):OFFSET(テストデータ!AZ3,143,0))","v":0},{"$f":"SUM(OFFSET(テストデータ!AX3,143,0):OFFSET(テストデータ!BB3,143,0))","v":0},{"$f":"SUM(OFFSET(テストデータ!BG3,143,0):OFFSET(テストデータ!BI3,143,0))","v":0},{"$f":"SUM(OFFSET(テストデータ!BG3,143,0):OFFSET(テストデータ!BK3,143,0))","v":0},{"$f":"SUM(OFFSET(テストデータ!BL3,143,0):OFFSET(テストデータ!BN3,143,0))","v":0},{"$f":"SUM(OFFSET(テストデータ!BL3,143,0):OFFSET(テストデータ!BP3,143,0))","v":0},{"$f":"SUM(OFFSET(テストデータ!BQ3,143,0):OFFSET(テストデータ!BS3,143,0))","v":0},{"$f":"SUM(OFFSET(テストデータ!BQ3,143,0):OFFSET(テストデータ!BU3,143,0))","v":0},{"$f":"SUM(OFFSET(テストデータ!BV3,143,0):OFFSET(テストデータ!BX3,143,0))","v":0},{"$f":"SUM(OFFSET(テストデータ!BV3,143,0):OFFSET(テストデータ!BZ3,143,0))","v":0},{"$f":"SUM(OFFSET(テストデータ!CA3,143,0):OFFSET(テストデータ!CC3,143,0))","v":0},{"$f":"SUM(OFFSET(テストデータ!CA3,143,0):OFFSET(テストデータ!CE3,143,0))","v":0},{"$f":"SUM(OFFSET(テストデータ!CF3,143,0):OFFSET(テストデータ!CH3,143,0))","v":0},{"$f":"SUM(OFFSET(テストデータ!CF3,143,0):OFFSET(テストデータ!CJ3,143,0))","v":0},{"$f":"SUM(OFFSET(テストデータ!CK3,143,0):OFFSET(テストデータ!CM3,143,0))","v":0},{"$f":"SUM(OFFSET(テストデータ!CK3,143,0):OFFSET(テストデータ!CO3,143,0))","v":0},{"$f":"SUM(OFFSET(テストデータ!CP3,143,0):OFFSET(テストデータ!CR3,143,0))","v":0},{"$f":"SUM(OFFSET(テストデータ!CP3,143,0):OFFSET(テストデータ!CT3,143,0))","v":0}]
[null,null,null,null,null,null,null,null,null,null,null,null,null,{"$f":"SUM(OFFSET(テストデータ!$E3,144,9*成績表1!$B$4-9):OFFSET(テストデータ!$G3,144,9*成績表1!$B$4-9))","v":0},{"$f":"SUM(OFFSET(テストデータ!$E3,144,9*成績表1!$B$4-9):OFFSET(テストデータ!I3,144,9*成績表1!$B$4-9))","v":0},{"$f":"SUM(OFFSET(テストデータ!E3,144,0):OFFSET(テストデータ!G3,144,0))","v":0},{"$f":"SUM(OFFSET(テストデータ!E3,144,0):OFFSET(テストデータ!I3,144,0))","v":0},{"$f":"SUM(OFFSET(テストデータ!N3,144,0):OFFSET(テストデータ!P3,144,0))","v":0},{"$f":"SUM(OFFSET(テストデータ!N3,144,0):OFFSET(テストデータ!R3,144,0))","v":0},{"$f":"SUM(OFFSET(テストデータ!W3,144,0):OFFSET(テストデータ!Y3,144,0))","v":0},{"$f":"SUM(OFFSET(テストデータ!W3,144,0):OFFSET(テストデータ!AA3,144,0))","v":0},{"$f":"SUM(OFFSET(テストデータ!AF3,144,0):OFFSET(テストデータ!AH3,144,0))","v":0},{"$f":"SUM(OFFSET(テストデータ!AF3,144,0):OFFSET(テストデータ!AJ3,144,0))","v":0},{"$f":"SUM(OFFSET(テストデータ!AO3,144,0):OFFSET(テストデータ!AQ3,144,0))","v":0},{"$f":"SUM(OFFSET(テストデータ!AO3,144,0):OFFSET(テストデータ!AS3,144,0))","v":0},{"$f":"SUM(OFFSET(テストデータ!AX3,144,0):OFFSET(テストデータ!AZ3,144,0))","v":0},{"$f":"SUM(OFFSET(テストデータ!AX3,144,0):OFFSET(テストデータ!BB3,144,0))","v":0},{"$f":"SUM(OFFSET(テストデータ!BG3,144,0):OFFSET(テストデータ!BI3,144,0))","v":0},{"$f":"SUM(OFFSET(テストデータ!BG3,144,0):OFFSET(テストデータ!BK3,144,0))","v":0},{"$f":"SUM(OFFSET(テストデータ!BL3,144,0):OFFSET(テストデータ!BN3,144,0))","v":0},{"$f":"SUM(OFFSET(テストデータ!BL3,144,0):OFFSET(テストデータ!BP3,144,0))","v":0},{"$f":"SUM(OFFSET(テストデータ!BQ3,144,0):OFFSET(テストデータ!BS3,144,0))","v":0},{"$f":"SUM(OFFSET(テストデータ!BQ3,144,0):OFFSET(テストデータ!BU3,144,0))","v":0},{"$f":"SUM(OFFSET(テストデータ!BV3,144,0):OFFSET(テストデータ!BX3,144,0))","v":0},{"$f":"SUM(OFFSET(テストデータ!BV3,144,0):OFFSET(テストデータ!BZ3,144,0))","v":0},{"$f":"SUM(OFFSET(テストデータ!CA3,144,0):OFFSET(テストデータ!CC3,144,0))","v":0},{"$f":"SUM(OFFSET(テストデータ!CA3,144,0):OFFSET(テストデータ!CE3,144,0))","v":0},{"$f":"SUM(OFFSET(テストデータ!CF3,144,0):OFFSET(テストデータ!CH3,144,0))","v":0},{"$f":"SUM(OFFSET(テストデータ!CF3,144,0):OFFSET(テストデータ!CJ3,144,0))","v":0},{"$f":"SUM(OFFSET(テストデータ!CK3,144,0):OFFSET(テストデータ!CM3,144,0))","v":0},{"$f":"SUM(OFFSET(テストデータ!CK3,144,0):OFFSET(テストデータ!CO3,144,0))","v":0},{"$f":"SUM(OFFSET(テストデータ!CP3,144,0):OFFSET(テストデータ!CR3,144,0))","v":0},{"$f":"SUM(OFFSET(テストデータ!CP3,144,0):OFFSET(テストデータ!CT3,144,0))","v":0}]
[null,null,null,null,null,null,null,null,null,null,null,null,null,{"$f":"SUM(OFFSET(テストデータ!$E3,145,9*成績表1!$B$4-9):OFFSET(テストデータ!$G3,145,9*成績表1!$B$4-9))","v":0},{"$f":"SUM(OFFSET(テストデータ!$E3,145,9*成績表1!$B$4-9):OFFSET(テストデータ!I3,145,9*成績表1!$B$4-9))","v":0},{"$f":"SUM(OFFSET(テストデータ!E3,145,0):OFFSET(テストデータ!G3,145,0))","v":0},{"$f":"SUM(OFFSET(テストデータ!E3,145,0):OFFSET(テストデータ!I3,145,0))","v":0},{"$f":"SUM(OFFSET(テストデータ!N3,145,0):OFFSET(テストデータ!P3,145,0))","v":0},{"$f":"SUM(OFFSET(テストデータ!N3,145,0):OFFSET(テストデータ!R3,145,0))","v":0},{"$f":"SUM(OFFSET(テストデータ!W3,145,0):OFFSET(テストデータ!Y3,145,0))","v":0},{"$f":"SUM(OFFSET(テストデータ!W3,145,0):OFFSET(テストデータ!AA3,145,0))","v":0},{"$f":"SUM(OFFSET(テストデータ!AF3,145,0):OFFSET(テストデータ!AH3,145,0))","v":0},{"$f":"SUM(OFFSET(テストデータ!AF3,145,0):OFFSET(テストデータ!AJ3,145,0))","v":0},{"$f":"SUM(OFFSET(テストデータ!AO3,145,0):OFFSET(テストデータ!AQ3,145,0))","v":0},{"$f":"SUM(OFFSET(テストデータ!AO3,145,0):OFFSET(テストデータ!AS3,145,0))","v":0},{"$f":"SUM(OFFSET(テストデータ!AX3,145,0):OFFSET(テストデータ!AZ3,145,0))","v":0},{"$f":"SUM(OFFSET(テストデータ!AX3,145,0):OFFSET(テストデータ!BB3,145,0))","v":0},{"$f":"SUM(OFFSET(テストデータ!BG3,145,0):OFFSET(テストデータ!BI3,145,0))","v":0},{"$f":"SUM(OFFSET(テストデータ!BG3,145,0):OFFSET(テストデータ!BK3,145,0))","v":0},{"$f":"SUM(OFFSET(テストデータ!BL3,145,0):OFFSET(テストデータ!BN3,145,0))","v":0},{"$f":"SUM(OFFSET(テストデータ!BL3,145,0):OFFSET(テストデータ!BP3,145,0))","v":0},{"$f":"SUM(OFFSET(テストデータ!BQ3,145,0):OFFSET(テストデータ!BS3,145,0))","v":0},{"$f":"SUM(OFFSET(テストデータ!BQ3,145,0):OFFSET(テストデータ!BU3,145,0))","v":0},{"$f":"SUM(OFFSET(テストデータ!BV3,145,0):OFFSET(テストデータ!BX3,145,0))","v":0},{"$f":"SUM(OFFSET(テストデータ!BV3,145,0):OFFSET(テストデータ!BZ3,145,0))","v":0},{"$f":"SUM(OFFSET(テストデータ!CA3,145,0):OFFSET(テストデータ!CC3,145,0))","v":0},{"$f":"SUM(OFFSET(テストデータ!CA3,145,0):OFFSET(テストデータ!CE3,145,0))","v":0},{"$f":"SUM(OFFSET(テストデータ!CF3,145,0):OFFSET(テストデータ!CH3,145,0))","v":0},{"$f":"SUM(OFFSET(テストデータ!CF3,145,0):OFFSET(テストデータ!CJ3,145,0))","v":0},{"$f":"SUM(OFFSET(テストデータ!CK3,145,0):OFFSET(テストデータ!CM3,145,0))","v":0},{"$f":"SUM(OFFSET(テストデータ!CK3,145,0):OFFSET(テストデータ!CO3,145,0))","v":0},{"$f":"SUM(OFFSET(テストデータ!CP3,145,0):OFFSET(テストデータ!CR3,145,0))","v":0},{"$f":"SUM(OFFSET(テストデータ!CP3,145,0):OFFSET(テストデータ!CT3,145,0))","v":0}]
[null,null,null,null,null,null,null,null,null,null,null,null,null,{"$f":"SUM(OFFSET(テストデータ!$E3,146,9*成績表1!$B$4-9):OFFSET(テストデータ!$G3,146,9*成績表1!$B$4-9))","v":0},{"$f":"SUM(OFFSET(テストデータ!$E3,146,9*成績表1!$B$4-9):OFFSET(テストデータ!I3,146,9*成績表1!$B$4-9))","v":0},{"$f":"SUM(OFFSET(テストデータ!E3,146,0):OFFSET(テストデータ!G3,146,0))","v":0},{"$f":"SUM(OFFSET(テストデータ!E3,146,0):OFFSET(テストデータ!I3,146,0))","v":0},{"$f":"SUM(OFFSET(テストデータ!N3,146,0):OFFSET(テストデータ!P3,146,0))","v":0},{"$f":"SUM(OFFSET(テストデータ!N3,146,0):OFFSET(テストデータ!R3,146,0))","v":0},{"$f":"SUM(OFFSET(テストデータ!W3,146,0):OFFSET(テストデータ!Y3,146,0))","v":0},{"$f":"SUM(OFFSET(テストデータ!W3,146,0):OFFSET(テストデータ!AA3,146,0))","v":0},{"$f":"SUM(OFFSET(テストデータ!AF3,146,0):OFFSET(テストデータ!AH3,146,0))","v":0},{"$f":"SUM(OFFSET(テストデータ!AF3,146,0):OFFSET(テストデータ!AJ3,146,0))","v":0},{"$f":"SUM(OFFSET(テストデータ!AO3,146,0):OFFSET(テストデータ!AQ3,146,0))","v":0},{"$f":"SUM(OFFSET(テストデータ!AO3,146,0):OFFSET(テストデータ!AS3,146,0))","v":0},{"$f":"SUM(OFFSET(テストデータ!AX3,146,0):OFFSET(テストデータ!AZ3,146,0))","v":0},{"$f":"SUM(OFFSET(テストデータ!AX3,146,0):OFFSET(テストデータ!BB3,146,0))","v":0},{"$f":"SUM(OFFSET(テストデータ!BG3,146,0):OFFSET(テストデータ!BI3,146,0))","v":0},{"$f":"SUM(OFFSET(テストデータ!BG3,146,0):OFFSET(テストデータ!BK3,146,0))","v":0},{"$f":"SUM(OFFSET(テストデータ!BL3,146,0):OFFSET(テストデータ!BN3,146,0))","v":0},{"$f":"SUM(OFFSET(テストデータ!BL3,146,0):OFFSET(テストデータ!BP3,146,0))","v":0},{"$f":"SUM(OFFSET(テストデータ!BQ3,146,0):OFFSET(テストデータ!BS3,146,0))","v":0},{"$f":"SUM(OFFSET(テストデータ!BQ3,146,0):OFFSET(テストデータ!BU3,146,0))","v":0},{"$f":"SUM(OFFSET(テストデータ!BV3,146,0):OFFSET(テストデータ!BX3,146,0))","v":0},{"$f":"SUM(OFFSET(テストデータ!BV3,146,0):OFFSET(テストデータ!BZ3,146,0))","v":0},{"$f":"SUM(OFFSET(テストデータ!CA3,146,0):OFFSET(テストデータ!CC3,146,0))","v":0},{"$f":"SUM(OFFSET(テストデータ!CA3,146,0):OFFSET(テストデータ!CE3,146,0))","v":0},{"$f":"SUM(OFFSET(テストデータ!CF3,146,0):OFFSET(テストデータ!CH3,146,0))","v":0},{"$f":"SUM(OFFSET(テストデータ!CF3,146,0):OFFSET(テストデータ!CJ3,146,0))","v":0},{"$f":"SUM(OFFSET(テストデータ!CK3,146,0):OFFSET(テストデータ!CM3,146,0))","v":0},{"$f":"SUM(OFFSET(テストデータ!CK3,146,0):OFFSET(テストデータ!CO3,146,0))","v":0},{"$f":"SUM(OFFSET(テストデータ!CP3,146,0):OFFSET(テストデータ!CR3,146,0))","v":0},{"$f":"SUM(OFFSET(テストデータ!CP3,146,0):OFFSET(テストデータ!CT3,146,0))","v":0}]
[null,null,null,null,null,null,null,null,null,null,null,null,null,{"$f":"SUM(OFFSET(テストデータ!$E3,147,9*成績表1!$B$4-9):OFFSET(テストデータ!$G3,147,9*成績表1!$B$4-9))","v":0},{"$f":"SUM(OFFSET(テストデータ!$E3,147,9*成績表1!$B$4-9):OFFSET(テストデータ!I3,147,9*成績表1!$B$4-9))","v":0},{"$f":"SUM(OFFSET(テストデータ!E3,147,0):OFFSET(テストデータ!G3,147,0))","v":0},{"$f":"SUM(OFFSET(テストデータ!E3,147,0):OFFSET(テストデータ!I3,147,0))","v":0},{"$f":"SUM(OFFSET(テストデータ!N3,147,0):OFFSET(テストデータ!P3,147,0))","v":0},{"$f":"SUM(OFFSET(テストデータ!N3,147,0):OFFSET(テストデータ!R3,147,0))","v":0},{"$f":"SUM(OFFSET(テストデータ!W3,147,0):OFFSET(テストデータ!Y3,147,0))","v":0},{"$f":"SUM(OFFSET(テストデータ!W3,147,0):OFFSET(テストデータ!AA3,147,0))","v":0},{"$f":"SUM(OFFSET(テストデータ!AF3,147,0):OFFSET(テストデータ!AH3,147,0))","v":0},{"$f":"SUM(OFFSET(テストデータ!AF3,147,0):OFFSET(テストデータ!AJ3,147,0))","v":0},{"$f":"SUM(OFFSET(テストデータ!AO3,147,0):OFFSET(テストデータ!AQ3,147,0))","v":0},{"$f":"SUM(OFFSET(テストデータ!AO3,147,0):OFFSET(テストデータ!AS3,147,0))","v":0},{"$f":"SUM(OFFSET(テストデータ!AX3,147,0):OFFSET(テストデータ!AZ3,147,0))","v":0},{"$f":"SUM(OFFSET(テストデータ!AX3,147,0):OFFSET(テストデータ!BB3,147,0))","v":0},{"$f":"SUM(OFFSET(テストデータ!BG3,147,0):OFFSET(テストデータ!BI3,147,0))","v":0},{"$f":"SUM(OFFSET(テストデータ!BG3,147,0):OFFSET(テストデータ!BK3,147,0))","v":0},{"$f":"SUM(OFFSET(テストデータ!BL3,147,0):OFFSET(テストデータ!BN3,147,0))","v":0},{"$f":"SUM(OFFSET(テストデータ!BL3,147,0):OFFSET(テストデータ!BP3,147,0))","v":0},{"$f":"SUM(OFFSET(テストデータ!BQ3,147,0):OFFSET(テストデータ!BS3,147,0))","v":0},{"$f":"SUM(OFFSET(テストデータ!BQ3,147,0):OFFSET(テストデータ!BU3,147,0))","v":0},{"$f":"SUM(OFFSET(テストデータ!BV3,147,0):OFFSET(テストデータ!BX3,147,0))","v":0},{"$f":"SUM(OFFSET(テストデータ!BV3,147,0):OFFSET(テストデータ!BZ3,147,0))","v":0},{"$f":"SUM(OFFSET(テストデータ!CA3,147,0):OFFSET(テストデータ!CC3,147,0))","v":0},{"$f":"SUM(OFFSET(テストデータ!CA3,147,0):OFFSET(テストデータ!CE3,147,0))","v":0},{"$f":"SUM(OFFSET(テストデータ!CF3,147,0):OFFSET(テストデータ!CH3,147,0))","v":0},{"$f":"SUM(OFFSET(テストデータ!CF3,147,0):OFFSET(テストデータ!CJ3,147,0))","v":0},{"$f":"SUM(OFFSET(テストデータ!CK3,147,0):OFFSET(テストデータ!CM3,147,0))","v":0},{"$f":"SUM(OFFSET(テストデータ!CK3,147,0):OFFSET(テストデータ!CO3,147,0))","v":0},{"$f":"SUM(OFFSET(テストデータ!CP3,147,0):OFFSET(テストデータ!CR3,147,0))","v":0},{"$f":"SUM(OFFSET(テストデータ!CP3,147,0):OFFSET(テストデータ!CT3,147,0))","v":0}]
[null,null,null,null,null,null,null,null,null,null,null,null,null,{"$f":"SUM(OFFSET(テストデータ!$E3,148,9*成績表1!$B$4-9):OFFSET(テストデータ!$G3,148,9*成績表1!$B$4-9))","v":0},{"$f":"SUM(OFFSET(テストデータ!$E3,148,9*成績表1!$B$4-9):OFFSET(テストデータ!I3,148,9*成績表1!$B$4-9))","v":0},{"$f":"SUM(OFFSET(テストデータ!E3,148,0):OFFSET(テストデータ!G3,148,0))","v":0},{"$f":"SUM(OFFSET(テストデータ!E3,148,0):OFFSET(テストデータ!I3,148,0))","v":0},{"$f":"SUM(OFFSET(テストデータ!N3,148,0):OFFSET(テストデータ!P3,148,0))","v":0},{"$f":"SUM(OFFSET(テストデータ!N3,148,0):OFFSET(テストデータ!R3,148,0))","v":0},{"$f":"SUM(OFFSET(テストデータ!W3,148,0):OFFSET(テストデータ!Y3,148,0))","v":0},{"$f":"SUM(OFFSET(テストデータ!W3,148,0):OFFSET(テストデータ!AA3,148,0))","v":0},{"$f":"SUM(OFFSET(テストデータ!AF3,148,0):OFFSET(テストデータ!AH3,148,0))","v":0},{"$f":"SUM(OFFSET(テストデータ!AF3,148,0):OFFSET(テストデータ!AJ3,148,0))","v":0},{"$f":"SUM(OFFSET(テストデータ!AO3,148,0):OFFSET(テストデータ!AQ3,148,0))","v":0},{"$f":"SUM(OFFSET(テストデータ!AO3,148,0):OFFSET(テストデータ!AS3,148,0))","v":0},{"$f":"SUM(OFFSET(テストデータ!AX3,148,0):OFFSET(テストデータ!AZ3,148,0))","v":0},{"$f":"SUM(OFFSET(テストデータ!AX3,148,0):OFFSET(テストデータ!BB3,148,0))","v":0},{"$f":"SUM(OFFSET(テストデータ!BG3,148,0):OFFSET(テストデータ!BI3,148,0))","v":0},{"$f":"SUM(OFFSET(テストデータ!BG3,148,0):OFFSET(テストデータ!BK3,148,0))","v":0},{"$f":"SUM(OFFSET(テストデータ!BL3,148,0):OFFSET(テストデータ!BN3,148,0))","v":0},{"$f":"SUM(OFFSET(テストデータ!BL3,148,0):OFFSET(テストデータ!BP3,148,0))","v":0},{"$f":"SUM(OFFSET(テストデータ!BQ3,148,0):OFFSET(テストデータ!BS3,148,0))","v":0},{"$f":"SUM(OFFSET(テストデータ!BQ3,148,0):OFFSET(テストデータ!BU3,148,0))","v":0},{"$f":"SUM(OFFSET(テストデータ!BV3,148,0):OFFSET(テストデータ!BX3,148,0))","v":0},{"$f":"SUM(OFFSET(テストデータ!BV3,148,0):OFFSET(テストデータ!BZ3,148,0))","v":0},{"$f":"SUM(OFFSET(テストデータ!CA3,148,0):OFFSET(テストデータ!CC3,148,0))","v":0},{"$f":"SUM(OFFSET(テストデータ!CA3,148,0):OFFSET(テストデータ!CE3,148,0))","v":0},{"$f":"SUM(OFFSET(テストデータ!CF3,148,0):OFFSET(テストデータ!CH3,148,0))","v":0},{"$f":"SUM(OFFSET(テストデータ!CF3,148,0):OFFSET(テストデータ!CJ3,148,0))","v":0},{"$f":"SUM(OFFSET(テストデータ!CK3,148,0):OFFSET(テストデータ!CM3,148,0))","v":0},{"$f":"SUM(OFFSET(テストデータ!CK3,148,0):OFFSET(テストデータ!CO3,148,0))","v":0},{"$f":"SUM(OFFSET(テストデータ!CP3,148,0):OFFSET(テストデータ!CR3,148,0))","v":0},{"$f":"SUM(OFFSET(テストデータ!CP3,148,0):OFFSET(テストデータ!CT3,148,0))","v":0}]
[null,null,null,null,null,null,null,null,null,null,null,null,null,{"$f":"SUM(OFFSET(テストデータ!$E3,149,9*成績表1!$B$4-9):OFFSET(テストデータ!$G3,149,9*成績表1!$B$4-9))","v":0},{"$f":"SUM(OFFSET(テストデータ!$E3,149,9*成績表1!$B$4-9):OFFSET(テストデータ!I3,149,9*成績表1!$B$4-9))","v":0},{"$f":"SUM(OFFSET(テストデータ!E3,149,0):OFFSET(テストデータ!G3,149,0))","v":0},{"$f":"SUM(OFFSET(テストデータ!E3,149,0):OFFSET(テストデータ!I3,149,0))","v":0},{"$f":"SUM(OFFSET(テストデータ!N3,149,0):OFFSET(テストデータ!P3,149,0))","v":0},{"$f":"SUM(OFFSET(テストデータ!N3,149,0):OFFSET(テストデータ!R3,149,0))","v":0},{"$f":"SUM(OFFSET(テストデータ!W3,149,0):OFFSET(テストデータ!Y3,149,0))","v":0},{"$f":"SUM(OFFSET(テストデータ!W3,149,0):OFFSET(テストデータ!AA3,149,0))","v":0},{"$f":"SUM(OFFSET(テストデータ!AF3,149,0):OFFSET(テストデータ!AH3,149,0))","v":0},{"$f":"SUM(OFFSET(テストデータ!AF3,149,0):OFFSET(テストデータ!AJ3,149,0))","v":0},{"$f":"SUM(OFFSET(テストデータ!AO3,149,0):OFFSET(テストデータ!AQ3,149,0))","v":0},{"$f":"SUM(OFFSET(テストデータ!AO3,149,0):OFFSET(テストデータ!AS3,149,0))","v":0},{"$f":"SUM(OFFSET(テストデータ!AX3,149,0):OFFSET(テストデータ!AZ3,149,0))","v":0},{"$f":"SUM(OFFSET(テストデータ!AX3,149,0):OFFSET(テストデータ!BB3,149,0))","v":0},{"$f":"SUM(OFFSET(テストデータ!BG3,149,0):OFFSET(テストデータ!BI3,149,0))","v":0},{"$f":"SUM(OFFSET(テストデータ!BG3,149,0):OFFSET(テストデータ!BK3,149,0))","v":0},{"$f":"SUM(OFFSET(テストデータ!BL3,149,0):OFFSET(テストデータ!BN3,149,0))","v":0},{"$f":"SUM(OFFSET(テストデータ!BL3,149,0):OFFSET(テストデータ!BP3,149,0))","v":0},{"$f":"SUM(OFFSET(テストデータ!BQ3,149,0):OFFSET(テストデータ!BS3,149,0))","v":0},{"$f":"SUM(OFFSET(テストデータ!BQ3,149,0):OFFSET(テストデータ!BU3,149,0))","v":0},{"$f":"SUM(OFFSET(テストデータ!BV3,149,0):OFFSET(テストデータ!BX3,149,0))","v":0},{"$f":"SUM(OFFSET(テストデータ!BV3,149,0):OFFSET(テストデータ!BZ3,149,0))","v":0},{"$f":"SUM(OFFSET(テストデータ!CA3,149,0):OFFSET(テストデータ!CC3,149,0))","v":0},{"$f":"SUM(OFFSET(テストデータ!CA3,149,0):OFFSET(テストデータ!CE3,149,0))","v":0},{"$f":"SUM(OFFSET(テストデータ!CF3,149,0):OFFSET(テストデータ!CH3,149,0))","v":0},{"$f":"SUM(OFFSET(テストデータ!CF3,149,0):OFFSET(テストデータ!CJ3,149,0))","v":0},{"$f":"SUM(OFFSET(テストデータ!CK3,149,0):OFFSET(テストデータ!CM3,149,0))","v":0},{"$f":"SUM(OFFSET(テストデータ!CK3,149,0):OFFSET(テストデータ!CO3,149,0))","v":0},{"$f":"SUM(OFFSET(テストデータ!CP3,149,0):OFFSET(テストデータ!CR3,149,0))","v":0},{"$f":"SUM(OFFSET(テストデータ!CP3,149,0):OFFSET(テストデータ!CT3,149,0))","v":0}]
[null,null,null,null,null,null,null,null,null,null,null,null,null,{"$f":"SUM(OFFSET(テストデータ!$E3,150,9*成績表1!$B$4-9):OFFSET(テストデータ!$G3,150,9*成績表1!$B$4-9))","v":0},{"$f":"SUM(OFFSET(テストデータ!$E3,150,9*成績表1!$B$4-9):OFFSET(テストデータ!I3,150,9*成績表1!$B$4-9))","v":0},{"$f":"SUM(OFFSET(テストデータ!E3,150,0):OFFSET(テストデータ!G3,150,0))","v":0},{"$f":"SUM(OFFSET(テストデータ!E3,150,0):OFFSET(テストデータ!I3,150,0))","v":0},{"$f":"SUM(OFFSET(テストデータ!N3,150,0):OFFSET(テストデータ!P3,150,0))","v":0},{"$f":"SUM(OFFSET(テストデータ!N3,150,0):OFFSET(テストデータ!R3,150,0))","v":0},{"$f":"SUM(OFFSET(テストデータ!W3,150,0):OFFSET(テストデータ!Y3,150,0))","v":0},{"$f":"SUM(OFFSET(テストデータ!W3,150,0):OFFSET(テストデータ!AA3,150,0))","v":0},{"$f":"SUM(OFFSET(テストデータ!AF3,150,0):OFFSET(テストデータ!AH3,150,0))","v":0},{"$f":"SUM(OFFSET(テストデータ!AF3,150,0):OFFSET(テストデータ!AJ3,150,0))","v":0},{"$f":"SUM(OFFSET(テストデータ!AO3,150,0):OFFSET(テストデータ!AQ3,150,0))","v":0},{"$f":"SUM(OFFSET(テストデータ!AO3,150,0):OFFSET(テストデータ!AS3,150,0))","v":0},{"$f":"SUM(OFFSET(テストデータ!AX3,150,0):OFFSET(テストデータ!AZ3,150,0))","v":0},{"$f":"SUM(OFFSET(テストデータ!AX3,150,0):OFFSET(テストデータ!BB3,150,0))","v":0},{"$f":"SUM(OFFSET(テストデータ!BG3,150,0):OFFSET(テストデータ!BI3,150,0))","v":0},{"$f":"SUM(OFFSET(テストデータ!BG3,150,0):OFFSET(テストデータ!BK3,150,0))","v":0},{"$f":"SUM(OFFSET(テストデータ!BL3,150,0):OFFSET(テストデータ!BN3,150,0))","v":0},{"$f":"SUM(OFFSET(テストデータ!BL3,150,0):OFFSET(テストデータ!BP3,150,0))","v":0},{"$f":"SUM(OFFSET(テストデータ!BQ3,150,0):OFFSET(テストデータ!BS3,150,0))","v":0},{"$f":"SUM(OFFSET(テストデータ!BQ3,150,0):OFFSET(テストデータ!BU3,150,0))","v":0},{"$f":"SUM(OFFSET(テストデータ!BV3,150,0):OFFSET(テストデータ!BX3,150,0))","v":0},{"$f":"SUM(OFFSET(テストデータ!BV3,150,0):OFFSET(テストデータ!BZ3,150,0))","v":0},{"$f":"SUM(OFFSET(テストデータ!CA3,150,0):OFFSET(テストデータ!CC3,150,0))","v":0},{"$f":"SUM(OFFSET(テストデータ!CA3,150,0):OFFSET(テストデータ!CE3,150,0))","v":0},{"$f":"SUM(OFFSET(テストデータ!CF3,150,0):OFFSET(テストデータ!CH3,150,0))","v":0},{"$f":"SUM(OFFSET(テストデータ!CF3,150,0):OFFSET(テストデータ!CJ3,150,0))","v":0},{"$f":"SUM(OFFSET(テストデータ!CK3,150,0):OFFSET(テストデータ!CM3,150,0))","v":0},{"$f":"SUM(OFFSET(テストデータ!CK3,150,0):OFFSET(テストデータ!CO3,150,0))","v":0},{"$f":"SUM(OFFSET(テストデータ!CP3,150,0):OFFSET(テストデータ!CR3,150,0))","v":0},{"$f":"SUM(OFFSET(テストデータ!CP3,150,0):OFFSET(テストデータ!CT3,150,0))","v":0}]
[null,null,null,null,null,null,null,null,null,null,null,null,null,{"$f":"SUM(OFFSET(テストデータ!$E3,151,9*成績表1!$B$4-9):OFFSET(テストデータ!$G3,151,9*成績表1!$B$4-9))","v":0},{"$f":"SUM(OFFSET(テストデータ!$E3,151,9*成績表1!$B$4-9):OFFSET(テストデータ!I3,151,9*成績表1!$B$4-9))","v":0},{"$f":"SUM(OFFSET(テストデータ!E3,151,0):OFFSET(テストデータ!G3,151,0))","v":0},{"$f":"SUM(OFFSET(テストデータ!E3,151,0):OFFSET(テストデータ!I3,151,0))","v":0},{"$f":"SUM(OFFSET(テストデータ!N3,151,0):OFFSET(テストデータ!P3,151,0))","v":0},{"$f":"SUM(OFFSET(テストデータ!N3,151,0):OFFSET(テストデータ!R3,151,0))","v":0},{"$f":"SUM(OFFSET(テストデータ!W3,151,0):OFFSET(テストデータ!Y3,151,0))","v":0},{"$f":"SUM(OFFSET(テストデータ!W3,151,0):OFFSET(テストデータ!AA3,151,0))","v":0},{"$f":"SUM(OFFSET(テストデータ!AF3,151,0):OFFSET(テストデータ!AH3,151,0))","v":0},{"$f":"SUM(OFFSET(テストデータ!AF3,151,0):OFFSET(テストデータ!AJ3,151,0))","v":0},{"$f":"SUM(OFFSET(テストデータ!AO3,151,0):OFFSET(テストデータ!AQ3,151,0))","v":0},{"$f":"SUM(OFFSET(テストデータ!AO3,151,0):OFFSET(テストデータ!AS3,151,0))","v":0},{"$f":"SUM(OFFSET(テストデータ!AX3,151,0):OFFSET(テストデータ!AZ3,151,0))","v":0},{"$f":"SUM(OFFSET(テストデータ!AX3,151,0):OFFSET(テストデータ!BB3,151,0))","v":0},{"$f":"SUM(OFFSET(テストデータ!BG3,151,0):OFFSET(テストデータ!BI3,151,0))","v":0},{"$f":"SUM(OFFSET(テストデータ!BG3,151,0):OFFSET(テストデータ!BK3,151,0))","v":0},{"$f":"SUM(OFFSET(テストデータ!BL3,151,0):OFFSET(テストデータ!BN3,151,0))","v":0},{"$f":"SUM(OFFSET(テストデータ!BL3,151,0):OFFSET(テストデータ!BP3,151,0))","v":0},{"$f":"SUM(OFFSET(テストデータ!BQ3,151,0):OFFSET(テストデータ!BS3,151,0))","v":0},{"$f":"SUM(OFFSET(テストデータ!BQ3,151,0):OFFSET(テストデータ!BU3,151,0))","v":0},{"$f":"SUM(OFFSET(テストデータ!BV3,151,0):OFFSET(テストデータ!BX3,151,0))","v":0},{"$f":"SUM(OFFSET(テストデータ!BV3,151,0):OFFSET(テストデータ!BZ3,151,0))","v":0},{"$f":"SUM(OFFSET(テストデータ!CA3,151,0):OFFSET(テストデータ!CC3,151,0))","v":0},{"$f":"SUM(OFFSET(テストデータ!CA3,151,0):OFFSET(テストデータ!CE3,151,0))","v":0},{"$f":"SUM(OFFSET(テストデータ!CF3,151,0):OFFSET(テストデータ!CH3,151,0))","v":0},{"$f":"SUM(OFFSET(テストデータ!CF3,151,0):OFFSET(テストデータ!CJ3,151,0))","v":0},{"$f":"SUM(OFFSET(テストデータ!CK3,151,0):OFFSET(テストデータ!CM3,151,0))","v":0},{"$f":"SUM(OFFSET(テストデータ!CK3,151,0):OFFSET(テストデータ!CO3,151,0))","v":0},{"$f":"SUM(OFFSET(テストデータ!CP3,151,0):OFFSET(テストデータ!CR3,151,0))","v":0},{"$f":"SUM(OFFSET(テストデータ!CP3,151,0):OFFSET(テストデータ!CT3,151,0))","v":0}]
[null,null,null,null,null,null,null,null,null,null,null,null,null,{"$f":"SUM(OFFSET(テストデータ!$E3,152,9*成績表1!$B$4-9):OFFSET(テストデータ!$G3,152,9*成績表1!$B$4-9))","v":0},{"$f":"SUM(OFFSET(テストデータ!$E3,152,9*成績表1!$B$4-9):OFFSET(テストデータ!I3,152,9*成績表1!$B$4-9))","v":0},{"$f":"SUM(OFFSET(テストデータ!E3,152,0):OFFSET(テストデータ!G3,152,0))","v":0},{"$f":"SUM(OFFSET(テストデータ!E3,152,0):OFFSET(テストデータ!I3,152,0))","v":0},{"$f":"SUM(OFFSET(テストデータ!N3,152,0):OFFSET(テストデータ!P3,152,0))","v":0},{"$f":"SUM(OFFSET(テストデータ!N3,152,0):OFFSET(テストデータ!R3,152,0))","v":0},{"$f":"SUM(OFFSET(テストデータ!W3,152,0):OFFSET(テストデータ!Y3,152,0))","v":0},{"$f":"SUM(OFFSET(テストデータ!W3,152,0):OFFSET(テストデータ!AA3,152,0))","v":0},{"$f":"SUM(OFFSET(テストデータ!AF3,152,0):OFFSET(テストデータ!AH3,152,0))","v":0},{"$f":"SUM(OFFSET(テストデータ!AF3,152,0):OFFSET(テストデータ!AJ3,152,0))","v":0},{"$f":"SUM(OFFSET(テストデータ!AO3,152,0):OFFSET(テストデータ!AQ3,152,0))","v":0},{"$f":"SUM(OFFSET(テストデータ!AO3,152,0):OFFSET(テストデータ!AS3,152,0))","v":0},{"$f":"SUM(OFFSET(テストデータ!AX3,152,0):OFFSET(テストデータ!AZ3,152,0))","v":0},{"$f":"SUM(OFFSET(テストデータ!AX3,152,0):OFFSET(テストデータ!BB3,152,0))","v":0},{"$f":"SUM(OFFSET(テストデータ!BG3,152,0):OFFSET(テストデータ!BI3,152,0))","v":0},{"$f":"SUM(OFFSET(テストデータ!BG3,152,0):OFFSET(テストデータ!BK3,152,0))","v":0},{"$f":"SUM(OFFSET(テストデータ!BL3,152,0):OFFSET(テストデータ!BN3,152,0))","v":0},{"$f":"SUM(OFFSET(テストデータ!BL3,152,0):OFFSET(テストデータ!BP3,152,0))","v":0},{"$f":"SUM(OFFSET(テストデータ!BQ3,152,0):OFFSET(テストデータ!BS3,152,0))","v":0},{"$f":"SUM(OFFSET(テストデータ!BQ3,152,0):OFFSET(テストデータ!BU3,152,0))","v":0},{"$f":"SUM(OFFSET(テストデータ!BV3,152,0):OFFSET(テストデータ!BX3,152,0))","v":0},{"$f":"SUM(OFFSET(テストデータ!BV3,152,0):OFFSET(テストデータ!BZ3,152,0))","v":0},{"$f":"SUM(OFFSET(テストデータ!CA3,152,0):OFFSET(テストデータ!CC3,152,0))","v":0},{"$f":"SUM(OFFSET(テストデータ!CA3,152,0):OFFSET(テストデータ!CE3,152,0))","v":0},{"$f":"SUM(OFFSET(テストデータ!CF3,152,0):OFFSET(テストデータ!CH3,152,0))","v":0},{"$f":"SUM(OFFSET(テストデータ!CF3,152,0):OFFSET(テストデータ!CJ3,152,0))","v":0},{"$f":"SUM(OFFSET(テストデータ!CK3,152,0):OFFSET(テストデータ!CM3,152,0))","v":0},{"$f":"SUM(OFFSET(テストデータ!CK3,152,0):OFFSET(テストデータ!CO3,152,0))","v":0},{"$f":"SUM(OFFSET(テストデータ!CP3,152,0):OFFSET(テストデータ!CR3,152,0))","v":0},{"$f":"SUM(OFFSET(テストデータ!CP3,152,0):OFFSET(テストデータ!CT3,152,0))","v":0}]
[null,null,null,null,null,null,null,null,null,null,null,null,null,{"$f":"SUM(OFFSET(テストデータ!$E3,153,9*成績表1!$B$4-9):OFFSET(テストデータ!$G3,153,9*成績表1!$B$4-9))","v":0},{"$f":"SUM(OFFSET(テストデータ!$E3,153,9*成績表1!$B$4-9):OFFSET(テストデータ!I3,153,9*成績表1!$B$4-9))","v":0},{"$f":"SUM(OFFSET(テストデータ!E3,153,0):OFFSET(テストデータ!G3,153,0))","v":0},{"$f":"SUM(OFFSET(テストデータ!E3,153,0):OFFSET(テストデータ!I3,153,0))","v":0},{"$f":"SUM(OFFSET(テストデータ!N3,153,0):OFFSET(テストデータ!P3,153,0))","v":0},{"$f":"SUM(OFFSET(テストデータ!N3,153,0):OFFSET(テストデータ!R3,153,0))","v":0},{"$f":"SUM(OFFSET(テストデータ!W3,153,0):OFFSET(テストデータ!Y3,153,0))","v":0},{"$f":"SUM(OFFSET(テストデータ!W3,153,0):OFFSET(テストデータ!AA3,153,0))","v":0},{"$f":"SUM(OFFSET(テストデータ!AF3,153,0):OFFSET(テストデータ!AH3,153,0))","v":0},{"$f":"SUM(OFFSET(テストデータ!AF3,153,0):OFFSET(テストデータ!AJ3,153,0))","v":0},{"$f":"SUM(OFFSET(テストデータ!AO3,153,0):OFFSET(テストデータ!AQ3,153,0))","v":0},{"$f":"SUM(OFFSET(テストデータ!AO3,153,0):OFFSET(テストデータ!AS3,153,0))","v":0},{"$f":"SUM(OFFSET(テストデータ!AX3,153,0):OFFSET(テストデータ!AZ3,153,0))","v":0},{"$f":"SUM(OFFSET(テストデータ!AX3,153,0):OFFSET(テストデータ!BB3,153,0))","v":0},{"$f":"SUM(OFFSET(テストデータ!BG3,153,0):OFFSET(テストデータ!BI3,153,0))","v":0},{"$f":"SUM(OFFSET(テストデータ!BG3,153,0):OFFSET(テストデータ!BK3,153,0))","v":0},{"$f":"SUM(OFFSET(テストデータ!BL3,153,0):OFFSET(テストデータ!BN3,153,0))","v":0},{"$f":"SUM(OFFSET(テストデータ!BL3,153,0):OFFSET(テストデータ!BP3,153,0))","v":0},{"$f":"SUM(OFFSET(テストデータ!BQ3,153,0):OFFSET(テストデータ!BS3,153,0))","v":0},{"$f":"SUM(OFFSET(テストデータ!BQ3,153,0):OFFSET(テストデータ!BU3,153,0))","v":0},{"$f":"SUM(OFFSET(テストデータ!BV3,153,0):OFFSET(テストデータ!BX3,153,0))","v":0},{"$f":"SUM(OFFSET(テストデータ!BV3,153,0):OFFSET(テストデータ!BZ3,153,0))","v":0},{"$f":"SUM(OFFSET(テストデータ!CA3,153,0):OFFSET(テストデータ!CC3,153,0))","v":0},{"$f":"SUM(OFFSET(テストデータ!CA3,153,0):OFFSET(テストデータ!CE3,153,0))","v":0},{"$f":"SUM(OFFSET(テストデータ!CF3,153,0):OFFSET(テストデータ!CH3,153,0))","v":0},{"$f":"SUM(OFFSET(テストデータ!CF3,153,0):OFFSET(テストデータ!CJ3,153,0))","v":0},{"$f":"SUM(OFFSET(テストデータ!CK3,153,0):OFFSET(テストデータ!CM3,153,0))","v":0},{"$f":"SUM(OFFSET(テストデータ!CK3,153,0):OFFSET(テストデータ!CO3,153,0))","v":0},{"$f":"SUM(OFFSET(テストデータ!CP3,153,0):OFFSET(テストデータ!CR3,153,0))","v":0},{"$f":"SUM(OFFSET(テストデータ!CP3,153,0):OFFSET(テストデータ!CT3,153,0))","v":0}]
[null,null,null,null,null,null,null,null,null,null,null,null,null,{"$f":"SUM(OFFSET(テストデータ!$E3,154,9*成績表1!$B$4-9):OFFSET(テストデータ!$G3,154,9*成績表1!$B$4-9))","v":0},{"$f":"SUM(OFFSET(テストデータ!$E3,154,9*成績表1!$B$4-9):OFFSET(テストデータ!I3,154,9*成績表1!$B$4-9))","v":0},{"$f":"SUM(OFFSET(テストデータ!E3,154,0):OFFSET(テストデータ!G3,154,0))","v":0},{"$f":"SUM(OFFSET(テストデータ!E3,154,0):OFFSET(テストデータ!I3,154,0))","v":0},{"$f":"SUM(OFFSET(テストデータ!N3,154,0):OFFSET(テストデータ!P3,154,0))","v":0},{"$f":"SUM(OFFSET(テストデータ!N3,154,0):OFFSET(テストデータ!R3,154,0))","v":0},{"$f":"SUM(OFFSET(テストデータ!W3,154,0):OFFSET(テストデータ!Y3,154,0))","v":0},{"$f":"SUM(OFFSET(テストデータ!W3,154,0):OFFSET(テストデータ!AA3,154,0))","v":0},{"$f":"SUM(OFFSET(テストデータ!AF3,154,0):OFFSET(テストデータ!AH3,154,0))","v":0},{"$f":"SUM(OFFSET(テストデータ!AF3,154,0):OFFSET(テストデータ!AJ3,154,0))","v":0},{"$f":"SUM(OFFSET(テストデータ!AO3,154,0):OFFSET(テストデータ!AQ3,154,0))","v":0},{"$f":"SUM(OFFSET(テストデータ!AO3,154,0):OFFSET(テストデータ!AS3,154,0))","v":0},{"$f":"SUM(OFFSET(テストデータ!AX3,154,0):OFFSET(テストデータ!AZ3,154,0))","v":0},{"$f":"SUM(OFFSET(テストデータ!AX3,154,0):OFFSET(テストデータ!BB3,154,0))","v":0},{"$f":"SUM(OFFSET(テストデータ!BG3,154,0):OFFSET(テストデータ!BI3,154,0))","v":0},{"$f":"SUM(OFFSET(テストデータ!BG3,154,0):OFFSET(テストデータ!BK3,154,0))","v":0},{"$f":"SUM(OFFSET(テストデータ!BL3,154,0):OFFSET(テストデータ!BN3,154,0))","v":0},{"$f":"SUM(OFFSET(テストデータ!BL3,154,0):OFFSET(テストデータ!BP3,154,0))","v":0},{"$f":"SUM(OFFSET(テストデータ!BQ3,154,0):OFFSET(テストデータ!BS3,154,0))","v":0},{"$f":"SUM(OFFSET(テストデータ!BQ3,154,0):OFFSET(テストデータ!BU3,154,0))","v":0},{"$f":"SUM(OFFSET(テストデータ!BV3,154,0):OFFSET(テストデータ!BX3,154,0))","v":0},{"$f":"SUM(OFFSET(テストデータ!BV3,154,0):OFFSET(テストデータ!BZ3,154,0))","v":0},{"$f":"SUM(OFFSET(テストデータ!CA3,154,0):OFFSET(テストデータ!CC3,154,0))","v":0},{"$f":"SUM(OFFSET(テストデータ!CA3,154,0):OFFSET(テストデータ!CE3,154,0))","v":0},{"$f":"SUM(OFFSET(テストデータ!CF3,154,0):OFFSET(テストデータ!CH3,154,0))","v":0},{"$f":"SUM(OFFSET(テストデータ!CF3,154,0):OFFSET(テストデータ!CJ3,154,0))","v":0},{"$f":"SUM(OFFSET(テストデータ!CK3,154,0):OFFSET(テストデータ!CM3,154,0))","v":0},{"$f":"SUM(OFFSET(テストデータ!CK3,154,0):OFFSET(テストデータ!CO3,154,0))","v":0},{"$f":"SUM(OFFSET(テストデータ!CP3,154,0):OFFSET(テストデータ!CR3,154,0))","v":0},{"$f":"SUM(OFFSET(テストデータ!CP3,154,0):OFFSET(テストデータ!CT3,154,0))","v":0}]
[null,null,null,null,null,null,null,null,null,null,null,null,null,{"$f":"SUM(OFFSET(テストデータ!$E3,155,9*成績表1!$B$4-9):OFFSET(テストデータ!$G3,155,9*成績表1!$B$4-9))","v":0},{"$f":"SUM(OFFSET(テストデータ!$E3,155,9*成績表1!$B$4-9):OFFSET(テストデータ!I3,155,9*成績表1!$B$4-9))","v":0},{"$f":"SUM(OFFSET(テストデータ!E3,155,0):OFFSET(テストデータ!G3,155,0))","v":0},{"$f":"SUM(OFFSET(テストデータ!E3,155,0):OFFSET(テストデータ!I3,155,0))","v":0},{"$f":"SUM(OFFSET(テストデータ!N3,155,0):OFFSET(テストデータ!P3,155,0))","v":0},{"$f":"SUM(OFFSET(テストデータ!N3,155,0):OFFSET(テストデータ!R3,155,0))","v":0},{"$f":"SUM(OFFSET(テストデータ!W3,155,0):OFFSET(テストデータ!Y3,155,0))","v":0},{"$f":"SUM(OFFSET(テストデータ!W3,155,0):OFFSET(テストデータ!AA3,155,0))","v":0},{"$f":"SUM(OFFSET(テストデータ!AF3,155,0):OFFSET(テストデータ!AH3,155,0))","v":0},{"$f":"SUM(OFFSET(テストデータ!AF3,155,0):OFFSET(テストデータ!AJ3,155,0))","v":0},{"$f":"SUM(OFFSET(テストデータ!AO3,155,0):OFFSET(テストデータ!AQ3,155,0))","v":0},{"$f":"SUM(OFFSET(テストデータ!AO3,155,0):OFFSET(テストデータ!AS3,155,0))","v":0},{"$f":"SUM(OFFSET(テストデータ!AX3,155,0):OFFSET(テストデータ!AZ3,155,0))","v":0},{"$f":"SUM(OFFSET(テストデータ!AX3,155,0):OFFSET(テストデータ!BB3,155,0))","v":0},{"$f":"SUM(OFFSET(テストデータ!BG3,155,0):OFFSET(テストデータ!BI3,155,0))","v":0},{"$f":"SUM(OFFSET(テストデータ!BG3,155,0):OFFSET(テストデータ!BK3,155,0))","v":0},{"$f":"SUM(OFFSET(テストデータ!BL3,155,0):OFFSET(テストデータ!BN3,155,0))","v":0},{"$f":"SUM(OFFSET(テストデータ!BL3,155,0):OFFSET(テストデータ!BP3,155,0))","v":0},{"$f":"SUM(OFFSET(テストデータ!BQ3,155,0):OFFSET(テストデータ!BS3,155,0))","v":0},{"$f":"SUM(OFFSET(テストデータ!BQ3,155,0):OFFSET(テストデータ!BU3,155,0))","v":0},{"$f":"SUM(OFFSET(テストデータ!BV3,155,0):OFFSET(テストデータ!BX3,155,0))","v":0},{"$f":"SUM(OFFSET(テストデータ!BV3,155,0):OFFSET(テストデータ!BZ3,155,0))","v":0},{"$f":"SUM(OFFSET(テストデータ!CA3,155,0):OFFSET(テストデータ!CC3,155,0))","v":0},{"$f":"SUM(OFFSET(テストデータ!CA3,155,0):OFFSET(テストデータ!CE3,155,0))","v":0},{"$f":"SUM(OFFSET(テストデータ!CF3,155,0):OFFSET(テストデータ!CH3,155,0))","v":0},{"$f":"SUM(OFFSET(テストデータ!CF3,155,0):OFFSET(テストデータ!CJ3,155,0))","v":0},{"$f":"SUM(OFFSET(テストデータ!CK3,155,0):OFFSET(テストデータ!CM3,155,0))","v":0},{"$f":"SUM(OFFSET(テストデータ!CK3,155,0):OFFSET(テストデータ!CO3,155,0))","v":0},{"$f":"SUM(OFFSET(テストデータ!CP3,155,0):OFFSET(テストデータ!CR3,155,0))","v":0},{"$f":"SUM(OFFSET(テストデータ!CP3,155,0):OFFSET(テストデータ!CT3,155,0))","v":0}]
[null,null,null,null,null,null,null,null,null,null,null,null,null,{"$f":"SUM(OFFSET(テストデータ!$E3,156,9*成績表1!$B$4-9):OFFSET(テストデータ!$G3,156,9*成績表1!$B$4-9))","v":0},{"$f":"SUM(OFFSET(テストデータ!$E3,156,9*成績表1!$B$4-9):OFFSET(テストデータ!I3,156,9*成績表1!$B$4-9))","v":0},{"$f":"SUM(OFFSET(テストデータ!E3,156,0):OFFSET(テストデータ!G3,156,0))","v":0},{"$f":"SUM(OFFSET(テストデータ!E3,156,0):OFFSET(テストデータ!I3,156,0))","v":0},{"$f":"SUM(OFFSET(テストデータ!N3,156,0):OFFSET(テストデータ!P3,156,0))","v":0},{"$f":"SUM(OFFSET(テストデータ!N3,156,0):OFFSET(テストデータ!R3,156,0))","v":0},{"$f":"SUM(OFFSET(テストデータ!W3,156,0):OFFSET(テストデータ!Y3,156,0))","v":0},{"$f":"SUM(OFFSET(テストデータ!W3,156,0):OFFSET(テストデータ!AA3,156,0))","v":0},{"$f":"SUM(OFFSET(テストデータ!AF3,156,0):OFFSET(テストデータ!AH3,156,0))","v":0},{"$f":"SUM(OFFSET(テストデータ!AF3,156,0):OFFSET(テストデータ!AJ3,156,0))","v":0},{"$f":"SUM(OFFSET(テストデータ!AO3,156,0):OFFSET(テストデータ!AQ3,156,0))","v":0},{"$f":"SUM(OFFSET(テストデータ!AO3,156,0):OFFSET(テストデータ!AS3,156,0))","v":0},{"$f":"SUM(OFFSET(テストデータ!AX3,156,0):OFFSET(テストデータ!AZ3,156,0))","v":0},{"$f":"SUM(OFFSET(テストデータ!AX3,156,0):OFFSET(テストデータ!BB3,156,0))","v":0},{"$f":"SUM(OFFSET(テストデータ!BG3,156,0):OFFSET(テストデータ!BI3,156,0))","v":0},{"$f":"SUM(OFFSET(テストデータ!BG3,156,0):OFFSET(テストデータ!BK3,156,0))","v":0},{"$f":"SUM(OFFSET(テストデータ!BL3,156,0):OFFSET(テストデータ!BN3,156,0))","v":0},{"$f":"SUM(OFFSET(テストデータ!BL3,156,0):OFFSET(テストデータ!BP3,156,0))","v":0},{"$f":"SUM(OFFSET(テストデータ!BQ3,156,0):OFFSET(テストデータ!BS3,156,0))","v":0},{"$f":"SUM(OFFSET(テストデータ!BQ3,156,0):OFFSET(テストデータ!BU3,156,0))","v":0},{"$f":"SUM(OFFSET(テストデータ!BV3,156,0):OFFSET(テストデータ!BX3,156,0))","v":0},{"$f":"SUM(OFFSET(テストデータ!BV3,156,0):OFFSET(テストデータ!BZ3,156,0))","v":0},{"$f":"SUM(OFFSET(テストデータ!CA3,156,0):OFFSET(テストデータ!CC3,156,0))","v":0},{"$f":"SUM(OFFSET(テストデータ!CA3,156,0):OFFSET(テストデータ!CE3,156,0))","v":0},{"$f":"SUM(OFFSET(テストデータ!CF3,156,0):OFFSET(テストデータ!CH3,156,0))","v":0},{"$f":"SUM(OFFSET(テストデータ!CF3,156,0):OFFSET(テストデータ!CJ3,156,0))","v":0},{"$f":"SUM(OFFSET(テストデータ!CK3,156,0):OFFSET(テストデータ!CM3,156,0))","v":0},{"$f":"SUM(OFFSET(テストデータ!CK3,156,0):OFFSET(テストデータ!CO3,156,0))","v":0},{"$f":"SUM(OFFSET(テストデータ!CP3,156,0):OFFSET(テストデータ!CR3,156,0))","v":0},{"$f":"SUM(OFFSET(テストデータ!CP3,156,0):OFFSET(テストデータ!CT3,156,0))","v":0}]
[null,null,null,null,null,null,null,null,null,null,null,null,null,{"$f":"SUM(OFFSET(テストデータ!$E3,157,9*成績表1!$B$4-9):OFFSET(テストデータ!$G3,157,9*成績表1!$B$4-9))","v":0},{"$f":"SUM(OFFSET(テストデータ!$E3,157,9*成績表1!$B$4-9):OFFSET(テストデータ!I3,157,9*成績表1!$B$4-9))","v":0},{"$f":"SUM(OFFSET(テストデータ!E3,157,0):OFFSET(テストデータ!G3,157,0))","v":0},{"$f":"SUM(OFFSET(テストデータ!E3,157,0):OFFSET(テストデータ!I3,157,0))","v":0},{"$f":"SUM(OFFSET(テストデータ!N3,157,0):OFFSET(テストデータ!P3,157,0))","v":0},{"$f":"SUM(OFFSET(テストデータ!N3,157,0):OFFSET(テストデータ!R3,157,0))","v":0},{"$f":"SUM(OFFSET(テストデータ!W3,157,0):OFFSET(テストデータ!Y3,157,0))","v":0},{"$f":"SUM(OFFSET(テストデータ!W3,157,0):OFFSET(テストデータ!AA3,157,0))","v":0},{"$f":"SUM(OFFSET(テストデータ!AF3,157,0):OFFSET(テストデータ!AH3,157,0))","v":0},{"$f":"SUM(OFFSET(テストデータ!AF3,157,0):OFFSET(テストデータ!AJ3,157,0))","v":0},{"$f":"SUM(OFFSET(テストデータ!AO3,157,0):OFFSET(テストデータ!AQ3,157,0))","v":0},{"$f":"SUM(OFFSET(テストデータ!AO3,157,0):OFFSET(テストデータ!AS3,157,0))","v":0},{"$f":"SUM(OFFSET(テストデータ!AX3,157,0):OFFSET(テストデータ!AZ3,157,0))","v":0},{"$f":"SUM(OFFSET(テストデータ!AX3,157,0):OFFSET(テストデータ!BB3,157,0))","v":0},{"$f":"SUM(OFFSET(テストデータ!BG3,157,0):OFFSET(テストデータ!BI3,157,0))","v":0},{"$f":"SUM(OFFSET(テストデータ!BG3,157,0):OFFSET(テストデータ!BK3,157,0))","v":0},{"$f":"SUM(OFFSET(テストデータ!BL3,157,0):OFFSET(テストデータ!BN3,157,0))","v":0},{"$f":"SUM(OFFSET(テストデータ!BL3,157,0):OFFSET(テストデータ!BP3,157,0))","v":0},{"$f":"SUM(OFFSET(テストデータ!BQ3,157,0):OFFSET(テストデータ!BS3,157,0))","v":0},{"$f":"SUM(OFFSET(テストデータ!BQ3,157,0):OFFSET(テストデータ!BU3,157,0))","v":0},{"$f":"SUM(OFFSET(テストデータ!BV3,157,0):OFFSET(テストデータ!BX3,157,0))","v":0},{"$f":"SUM(OFFSET(テストデータ!BV3,157,0):OFFSET(テストデータ!BZ3,157,0))","v":0},{"$f":"SUM(OFFSET(テストデータ!CA3,157,0):OFFSET(テストデータ!CC3,157,0))","v":0},{"$f":"SUM(OFFSET(テストデータ!CA3,157,0):OFFSET(テストデータ!CE3,157,0))","v":0},{"$f":"SUM(OFFSET(テストデータ!CF3,157,0):OFFSET(テストデータ!CH3,157,0))","v":0},{"$f":"SUM(OFFSET(テストデータ!CF3,157,0):OFFSET(テストデータ!CJ3,157,0))","v":0},{"$f":"SUM(OFFSET(テストデータ!CK3,157,0):OFFSET(テストデータ!CM3,157,0))","v":0},{"$f":"SUM(OFFSET(テストデータ!CK3,157,0):OFFSET(テストデータ!CO3,157,0))","v":0},{"$f":"SUM(OFFSET(テストデータ!CP3,157,0):OFFSET(テストデータ!CR3,157,0))","v":0},{"$f":"SUM(OFFSET(テストデータ!CP3,157,0):OFFSET(テストデータ!CT3,157,0))","v":0}]
[null,null,null,null,null,null,null,null,null,null,null,null,null,{"$f":"SUM(OFFSET(テストデータ!$E3,158,9*成績表1!$B$4-9):OFFSET(テストデータ!$G3,158,9*成績表1!$B$4-9))","v":0},{"$f":"SUM(OFFSET(テストデータ!$E3,158,9*成績表1!$B$4-9):OFFSET(テストデータ!I3,158,9*成績表1!$B$4-9))","v":0},{"$f":"SUM(OFFSET(テストデータ!E3,158,0):OFFSET(テストデータ!G3,158,0))","v":0},{"$f":"SUM(OFFSET(テストデータ!E3,158,0):OFFSET(テストデータ!I3,158,0))","v":0},{"$f":"SUM(OFFSET(テストデータ!N3,158,0):OFFSET(テストデータ!P3,158,0))","v":0},{"$f":"SUM(OFFSET(テストデータ!N3,158,0):OFFSET(テストデータ!R3,158,0))","v":0},{"$f":"SUM(OFFSET(テストデータ!W3,158,0):OFFSET(テストデータ!Y3,158,0))","v":0},{"$f":"SUM(OFFSET(テストデータ!W3,158,0):OFFSET(テストデータ!AA3,158,0))","v":0},{"$f":"SUM(OFFSET(テストデータ!AF3,158,0):OFFSET(テストデータ!AH3,158,0))","v":0},{"$f":"SUM(OFFSET(テストデータ!AF3,158,0):OFFSET(テストデータ!AJ3,158,0))","v":0},{"$f":"SUM(OFFSET(テストデータ!AO3,158,0):OFFSET(テストデータ!AQ3,158,0))","v":0},{"$f":"SUM(OFFSET(テストデータ!AO3,158,0):OFFSET(テストデータ!AS3,158,0))","v":0},{"$f":"SUM(OFFSET(テストデータ!AX3,158,0):OFFSET(テストデータ!AZ3,158,0))","v":0},{"$f":"SUM(OFFSET(テストデータ!AX3,158,0):OFFSET(テストデータ!BB3,158,0))","v":0},{"$f":"SUM(OFFSET(テストデータ!BG3,158,0):OFFSET(テストデータ!BI3,158,0))","v":0},{"$f":"SUM(OFFSET(テストデータ!BG3,158,0):OFFSET(テストデータ!BK3,158,0))","v":0},{"$f":"SUM(OFFSET(テストデータ!BL3,158,0):OFFSET(テストデータ!BN3,158,0))","v":0},{"$f":"SUM(OFFSET(テストデータ!BL3,158,0):OFFSET(テストデータ!BP3,158,0))","v":0},{"$f":"SUM(OFFSET(テストデータ!BQ3,158,0):OFFSET(テストデータ!BS3,158,0))","v":0},{"$f":"SUM(OFFSET(テストデータ!BQ3,158,0):OFFSET(テストデータ!BU3,158,0))","v":0},{"$f":"SUM(OFFSET(テストデータ!BV3,158,0):OFFSET(テストデータ!BX3,158,0))","v":0},{"$f":"SUM(OFFSET(テストデータ!BV3,158,0):OFFSET(テストデータ!BZ3,158,0))","v":0},{"$f":"SUM(OFFSET(テストデータ!CA3,158,0):OFFSET(テストデータ!CC3,158,0))","v":0},{"$f":"SUM(OFFSET(テストデータ!CA3,158,0):OFFSET(テストデータ!CE3,158,0))","v":0},{"$f":"SUM(OFFSET(テストデータ!CF3,158,0):OFFSET(テストデータ!CH3,158,0))","v":0},{"$f":"SUM(OFFSET(テストデータ!CF3,158,0):OFFSET(テストデータ!CJ3,158,0))","v":0},{"$f":"SUM(OFFSET(テストデータ!CK3,158,0):OFFSET(テストデータ!CM3,158,0))","v":0},{"$f":"SUM(OFFSET(テストデータ!CK3,158,0):OFFSET(テストデータ!CO3,158,0))","v":0},{"$f":"SUM(OFFSET(テストデータ!CP3,158,0):OFFSET(テストデータ!CR3,158,0))","v":0},{"$f":"SUM(OFFSET(テストデータ!CP3,158,0):OFFSET(テストデータ!CT3,158,0))","v":0}]
[null,null,null,null,null,null,null,null,null,null,null,null,null,{"$f":"SUM(OFFSET(テストデータ!$E3,159,9*成績表1!$B$4-9):OFFSET(テストデータ!$G3,159,9*成績表1!$B$4-9))","v":0},{"$f":"SUM(OFFSET(テストデータ!$E3,159,9*成績表1!$B$4-9):OFFSET(テストデータ!I3,159,9*成績表1!$B$4-9))","v":0},{"$f":"SUM(OFFSET(テストデータ!E3,159,0):OFFSET(テストデータ!G3,159,0))","v":0},{"$f":"SUM(OFFSET(テストデータ!E3,159,0):OFFSET(テストデータ!I3,159,0))","v":0},{"$f":"SUM(OFFSET(テストデータ!N3,159,0):OFFSET(テストデータ!P3,159,0))","v":0},{"$f":"SUM(OFFSET(テストデータ!N3,159,0):OFFSET(テストデータ!R3,159,0))","v":0},{"$f":"SUM(OFFSET(テストデータ!W3,159,0):OFFSET(テストデータ!Y3,159,0))","v":0},{"$f":"SUM(OFFSET(テストデータ!W3,159,0):OFFSET(テストデータ!AA3,159,0))","v":0},{"$f":"SUM(OFFSET(テストデータ!AF3,159,0):OFFSET(テストデータ!AH3,159,0))","v":0},{"$f":"SUM(OFFSET(テストデータ!AF3,159,0):OFFSET(テストデータ!AJ3,159,0))","v":0},{"$f":"SUM(OFFSET(テストデータ!AO3,159,0):OFFSET(テストデータ!AQ3,159,0))","v":0},{"$f":"SUM(OFFSET(テストデータ!AO3,159,0):OFFSET(テストデータ!AS3,159,0))","v":0},{"$f":"SUM(OFFSET(テストデータ!AX3,159,0):OFFSET(テストデータ!AZ3,159,0))","v":0},{"$f":"SUM(OFFSET(テストデータ!AX3,159,0):OFFSET(テストデータ!BB3,159,0))","v":0},{"$f":"SUM(OFFSET(テストデータ!BG3,159,0):OFFSET(テストデータ!BI3,159,0))","v":0},{"$f":"SUM(OFFSET(テストデータ!BG3,159,0):OFFSET(テストデータ!BK3,159,0))","v":0},{"$f":"SUM(OFFSET(テストデータ!BL3,159,0):OFFSET(テストデータ!BN3,159,0))","v":0},{"$f":"SUM(OFFSET(テストデータ!BL3,159,0):OFFSET(テストデータ!BP3,159,0))","v":0},{"$f":"SUM(OFFSET(テストデータ!BQ3,159,0):OFFSET(テストデータ!BS3,159,0))","v":0},{"$f":"SUM(OFFSET(テストデータ!BQ3,159,0):OFFSET(テストデータ!BU3,159,0))","v":0},{"$f":"SUM(OFFSET(テストデータ!BV3,159,0):OFFSET(テストデータ!BX3,159,0))","v":0},{"$f":"SUM(OFFSET(テストデータ!BV3,159,0):OFFSET(テストデータ!BZ3,159,0))","v":0},{"$f":"SUM(OFFSET(テストデータ!CA3,159,0):OFFSET(テストデータ!CC3,159,0))","v":0},{"$f":"SUM(OFFSET(テストデータ!CA3,159,0):OFFSET(テストデータ!CE3,159,0))","v":0},{"$f":"SUM(OFFSET(テストデータ!CF3,159,0):OFFSET(テストデータ!CH3,159,0))","v":0},{"$f":"SUM(OFFSET(テストデータ!CF3,159,0):OFFSET(テストデータ!CJ3,159,0))","v":0},{"$f":"SUM(OFFSET(テストデータ!CK3,159,0):OFFSET(テストデータ!CM3,159,0))","v":0},{"$f":"SUM(OFFSET(テストデータ!CK3,159,0):OFFSET(テストデータ!CO3,159,0))","v":0},{"$f":"SUM(OFFSET(テストデータ!CP3,159,0):OFFSET(テストデータ!CR3,159,0))","v":0},{"$f":"SUM(OFFSET(テストデータ!CP3,159,0):OFFSET(テストデータ!CT3,159,0))","v":0}]
[null,null,null,null,null,null,null,null,null,null,null,null,null,{"$f":"SUM(OFFSET(テストデータ!$E3,160,9*成績表1!$B$4-9):OFFSET(テストデータ!$G3,160,9*成績表1!$B$4-9))","v":0},{"$f":"SUM(OFFSET(テストデータ!$E3,160,9*成績表1!$B$4-9):OFFSET(テストデータ!I3,160,9*成績表1!$B$4-9))","v":0},{"$f":"SUM(OFFSET(テストデータ!E3,160,0):OFFSET(テストデータ!G3,160,0))","v":0},{"$f":"SUM(OFFSET(テストデータ!E3,160,0):OFFSET(テストデータ!I3,160,0))","v":0},{"$f":"SUM(OFFSET(テストデータ!N3,160,0):OFFSET(テストデータ!P3,160,0))","v":0},{"$f":"SUM(OFFSET(テストデータ!N3,160,0):OFFSET(テストデータ!R3,160,0))","v":0},{"$f":"SUM(OFFSET(テストデータ!W3,160,0):OFFSET(テストデータ!Y3,160,0))","v":0},{"$f":"SUM(OFFSET(テストデータ!W3,160,0):OFFSET(テストデータ!AA3,160,0))","v":0},{"$f":"SUM(OFFSET(テストデータ!AF3,160,0):OFFSET(テストデータ!AH3,160,0))","v":0},{"$f":"SUM(OFFSET(テストデータ!AF3,160,0):OFFSET(テストデータ!AJ3,160,0))","v":0},{"$f":"SUM(OFFSET(テストデータ!AO3,160,0):OFFSET(テストデータ!AQ3,160,0))","v":0},{"$f":"SUM(OFFSET(テストデータ!AO3,160,0):OFFSET(テストデータ!AS3,160,0))","v":0},{"$f":"SUM(OFFSET(テストデータ!AX3,160,0):OFFSET(テストデータ!AZ3,160,0))","v":0},{"$f":"SUM(OFFSET(テストデータ!AX3,160,0):OFFSET(テストデータ!BB3,160,0))","v":0},{"$f":"SUM(OFFSET(テストデータ!BG3,160,0):OFFSET(テストデータ!BI3,160,0))","v":0},{"$f":"SUM(OFFSET(テストデータ!BG3,160,0):OFFSET(テストデータ!BK3,160,0))","v":0},{"$f":"SUM(OFFSET(テストデータ!BL3,160,0):OFFSET(テストデータ!BN3,160,0))","v":0},{"$f":"SUM(OFFSET(テストデータ!BL3,160,0):OFFSET(テストデータ!BP3,160,0))","v":0},{"$f":"SUM(OFFSET(テストデータ!BQ3,160,0):OFFSET(テストデータ!BS3,160,0))","v":0},{"$f":"SUM(OFFSET(テストデータ!BQ3,160,0):OFFSET(テストデータ!BU3,160,0))","v":0},{"$f":"SUM(OFFSET(テストデータ!BV3,160,0):OFFSET(テストデータ!BX3,160,0))","v":0},{"$f":"SUM(OFFSET(テストデータ!BV3,160,0):OFFSET(テストデータ!BZ3,160,0))","v":0},{"$f":"SUM(OFFSET(テストデータ!CA3,160,0):OFFSET(テストデータ!CC3,160,0))","v":0},{"$f":"SUM(OFFSET(テストデータ!CA3,160,0):OFFSET(テストデータ!CE3,160,0))","v":0},{"$f":"SUM(OFFSET(テストデータ!CF3,160,0):OFFSET(テストデータ!CH3,160,0))","v":0},{"$f":"SUM(OFFSET(テストデータ!CF3,160,0):OFFSET(テストデータ!CJ3,160,0))","v":0},{"$f":"SUM(OFFSET(テストデータ!CK3,160,0):OFFSET(テストデータ!CM3,160,0))","v":0},{"$f":"SUM(OFFSET(テストデータ!CK3,160,0):OFFSET(テストデータ!CO3,160,0))","v":0},{"$f":"SUM(OFFSET(テストデータ!CP3,160,0):OFFSET(テストデータ!CR3,160,0))","v":0},{"$f":"SUM(OFFSET(テストデータ!CP3,160,0):OFFSET(テストデータ!CT3,160,0))","v":0}]
[null,null,null,null,null,null,null,null,null,null,null,null,null,{"$f":"SUM(OFFSET(テストデータ!$E3,161,9*成績表1!$B$4-9):OFFSET(テストデータ!$G3,161,9*成績表1!$B$4-9))","v":0},{"$f":"SUM(OFFSET(テストデータ!$E3,161,9*成績表1!$B$4-9):OFFSET(テストデータ!I3,161,9*成績表1!$B$4-9))","v":0},{"$f":"SUM(OFFSET(テストデータ!E3,161,0):OFFSET(テストデータ!G3,161,0))","v":0},{"$f":"SUM(OFFSET(テストデータ!E3,161,0):OFFSET(テストデータ!I3,161,0))","v":0},{"$f":"SUM(OFFSET(テストデータ!N3,161,0):OFFSET(テストデータ!P3,161,0))","v":0},{"$f":"SUM(OFFSET(テストデータ!N3,161,0):OFFSET(テストデータ!R3,161,0))","v":0},{"$f":"SUM(OFFSET(テストデータ!W3,161,0):OFFSET(テストデータ!Y3,161,0))","v":0},{"$f":"SUM(OFFSET(テストデータ!W3,161,0):OFFSET(テストデータ!AA3,161,0))","v":0},{"$f":"SUM(OFFSET(テストデータ!AF3,161,0):OFFSET(テストデータ!AH3,161,0))","v":0},{"$f":"SUM(OFFSET(テストデータ!AF3,161,0):OFFSET(テストデータ!AJ3,161,0))","v":0},{"$f":"SUM(OFFSET(テストデータ!AO3,161,0):OFFSET(テストデータ!AQ3,161,0))","v":0},{"$f":"SUM(OFFSET(テストデータ!AO3,161,0):OFFSET(テストデータ!AS3,161,0))","v":0},{"$f":"SUM(OFFSET(テストデータ!AX3,161,0):OFFSET(テストデータ!AZ3,161,0))","v":0},{"$f":"SUM(OFFSET(テストデータ!AX3,161,0):OFFSET(テストデータ!BB3,161,0))","v":0},{"$f":"SUM(OFFSET(テストデータ!BG3,161,0):OFFSET(テストデータ!BI3,161,0))","v":0},{"$f":"SUM(OFFSET(テストデータ!BG3,161,0):OFFSET(テストデータ!BK3,161,0))","v":0},{"$f":"SUM(OFFSET(テストデータ!BL3,161,0):OFFSET(テストデータ!BN3,161,0))","v":0},{"$f":"SUM(OFFSET(テストデータ!BL3,161,0):OFFSET(テストデータ!BP3,161,0))","v":0},{"$f":"SUM(OFFSET(テストデータ!BQ3,161,0):OFFSET(テストデータ!BS3,161,0))","v":0},{"$f":"SUM(OFFSET(テストデータ!BQ3,161,0):OFFSET(テストデータ!BU3,161,0))","v":0},{"$f":"SUM(OFFSET(テストデータ!BV3,161,0):OFFSET(テストデータ!BX3,161,0))","v":0},{"$f":"SUM(OFFSET(テストデータ!BV3,161,0):OFFSET(テストデータ!BZ3,161,0))","v":0},{"$f":"SUM(OFFSET(テストデータ!CA3,161,0):OFFSET(テストデータ!CC3,161,0))","v":0},{"$f":"SUM(OFFSET(テストデータ!CA3,161,0):OFFSET(テストデータ!CE3,161,0))","v":0},{"$f":"SUM(OFFSET(テストデータ!CF3,161,0):OFFSET(テストデータ!CH3,161,0))","v":0},{"$f":"SUM(OFFSET(テストデータ!CF3,161,0):OFFSET(テストデータ!CJ3,161,0))","v":0},{"$f":"SUM(OFFSET(テストデータ!CK3,161,0):OFFSET(テストデータ!CM3,161,0))","v":0},{"$f":"SUM(OFFSET(テストデータ!CK3,161,0):OFFSET(テストデータ!CO3,161,0))","v":0},{"$f":"SUM(OFFSET(テストデータ!CP3,161,0):OFFSET(テストデータ!CR3,161,0))","v":0},{"$f":"SUM(OFFSET(テストデータ!CP3,161,0):OFFSET(テストデータ!CT3,161,0))","v":0}]
[null,null,null,null,null,null,null,null,null,null,null,null,null,{"$f":"SUM(OFFSET(テストデータ!$E3,162,9*成績表1!$B$4-9):OFFSET(テストデータ!$G3,162,9*成績表1!$B$4-9))","v":0},{"$f":"SUM(OFFSET(テストデータ!$E3,162,9*成績表1!$B$4-9):OFFSET(テストデータ!I3,162,9*成績表1!$B$4-9))","v":0},{"$f":"SUM(OFFSET(テストデータ!E3,162,0):OFFSET(テストデータ!G3,162,0))","v":0},{"$f":"SUM(OFFSET(テストデータ!E3,162,0):OFFSET(テストデータ!I3,162,0))","v":0},{"$f":"SUM(OFFSET(テストデータ!N3,162,0):OFFSET(テストデータ!P3,162,0))","v":0},{"$f":"SUM(OFFSET(テストデータ!N3,162,0):OFFSET(テストデータ!R3,162,0))","v":0},{"$f":"SUM(OFFSET(テストデータ!W3,162,0):OFFSET(テストデータ!Y3,162,0))","v":0},{"$f":"SUM(OFFSET(テストデータ!W3,162,0):OFFSET(テストデータ!AA3,162,0))","v":0},{"$f":"SUM(OFFSET(テストデータ!AF3,162,0):OFFSET(テストデータ!AH3,162,0))","v":0},{"$f":"SUM(OFFSET(テストデータ!AF3,162,0):OFFSET(テストデータ!AJ3,162,0))","v":0},{"$f":"SUM(OFFSET(テストデータ!AO3,162,0):OFFSET(テストデータ!AQ3,162,0))","v":0},{"$f":"SUM(OFFSET(テストデータ!AO3,162,0):OFFSET(テストデータ!AS3,162,0))","v":0},{"$f":"SUM(OFFSET(テストデータ!AX3,162,0):OFFSET(テストデータ!AZ3,162,0))","v":0},{"$f":"SUM(OFFSET(テストデータ!AX3,162,0):OFFSET(テストデータ!BB3,162,0))","v":0},{"$f":"SUM(OFFSET(テストデータ!BG3,162,0):OFFSET(テストデータ!BI3,162,0))","v":0},{"$f":"SUM(OFFSET(テストデータ!BG3,162,0):OFFSET(テストデータ!BK3,162,0))","v":0},{"$f":"SUM(OFFSET(テストデータ!BL3,162,0):OFFSET(テストデータ!BN3,162,0))","v":0},{"$f":"SUM(OFFSET(テストデータ!BL3,162,0):OFFSET(テストデータ!BP3,162,0))","v":0},{"$f":"SUM(OFFSET(テストデータ!BQ3,162,0):OFFSET(テストデータ!BS3,162,0))","v":0},{"$f":"SUM(OFFSET(テストデータ!BQ3,162,0):OFFSET(テストデータ!BU3,162,0))","v":0},{"$f":"SUM(OFFSET(テストデータ!BV3,162,0):OFFSET(テストデータ!BX3,162,0))","v":0},{"$f":"SUM(OFFSET(テストデータ!BV3,162,0):OFFSET(テストデータ!BZ3,162,0))","v":0},{"$f":"SUM(OFFSET(テストデータ!CA3,162,0):OFFSET(テストデータ!CC3,162,0))","v":0},{"$f":"SUM(OFFSET(テストデータ!CA3,162,0):OFFSET(テストデータ!CE3,162,0))","v":0},{"$f":"SUM(OFFSET(テストデータ!CF3,162,0):OFFSET(テストデータ!CH3,162,0))","v":0},{"$f":"SUM(OFFSET(テストデータ!CF3,162,0):OFFSET(テストデータ!CJ3,162,0))","v":0},{"$f":"SUM(OFFSET(テストデータ!CK3,162,0):OFFSET(テストデータ!CM3,162,0))","v":0},{"$f":"SUM(OFFSET(テストデータ!CK3,162,0):OFFSET(テストデータ!CO3,162,0))","v":0},{"$f":"SUM(OFFSET(テストデータ!CP3,162,0):OFFSET(テストデータ!CR3,162,0))","v":0},{"$f":"SUM(OFFSET(テストデータ!CP3,162,0):OFFSET(テストデータ!CT3,162,0))","v":0}]
[null,null,null,null,null,null,null,null,null,null,null,null,null,{"$f":"SUM(OFFSET(テストデータ!$E3,163,9*成績表1!$B$4-9):OFFSET(テストデータ!$G3,163,9*成績表1!$B$4-9))","v":0},{"$f":"SUM(OFFSET(テストデータ!$E3,163,9*成績表1!$B$4-9):OFFSET(テストデータ!I3,163,9*成績表1!$B$4-9))","v":0},{"$f":"SUM(OFFSET(テストデータ!E3,163,0):OFFSET(テストデータ!G3,163,0))","v":0},{"$f":"SUM(OFFSET(テストデータ!E3,163,0):OFFSET(テストデータ!I3,163,0))","v":0},{"$f":"SUM(OFFSET(テストデータ!N3,163,0):OFFSET(テストデータ!P3,163,0))","v":0},{"$f":"SUM(OFFSET(テストデータ!N3,163,0):OFFSET(テストデータ!R3,163,0))","v":0},{"$f":"SUM(OFFSET(テストデータ!W3,163,0):OFFSET(テストデータ!Y3,163,0))","v":0},{"$f":"SUM(OFFSET(テストデータ!W3,163,0):OFFSET(テストデータ!AA3,163,0))","v":0},{"$f":"SUM(OFFSET(テストデータ!AF3,163,0):OFFSET(テストデータ!AH3,163,0))","v":0},{"$f":"SUM(OFFSET(テストデータ!AF3,163,0):OFFSET(テストデータ!AJ3,163,0))","v":0},{"$f":"SUM(OFFSET(テストデータ!AO3,163,0):OFFSET(テストデータ!AQ3,163,0))","v":0},{"$f":"SUM(OFFSET(テストデータ!AO3,163,0):OFFSET(テストデータ!AS3,163,0))","v":0},{"$f":"SUM(OFFSET(テストデータ!AX3,163,0):OFFSET(テストデータ!AZ3,163,0))","v":0},{"$f":"SUM(OFFSET(テストデータ!AX3,163,0):OFFSET(テストデータ!BB3,163,0))","v":0},{"$f":"SUM(OFFSET(テストデータ!BG3,163,0):OFFSET(テストデータ!BI3,163,0))","v":0},{"$f":"SUM(OFFSET(テストデータ!BG3,163,0):OFFSET(テストデータ!BK3,163,0))","v":0},{"$f":"SUM(OFFSET(テストデータ!BL3,163,0):OFFSET(テストデータ!BN3,163,0))","v":0},{"$f":"SUM(OFFSET(テストデータ!BL3,163,0):OFFSET(テストデータ!BP3,163,0))","v":0},{"$f":"SUM(OFFSET(テストデータ!BQ3,163,0):OFFSET(テストデータ!BS3,163,0))","v":0},{"$f":"SUM(OFFSET(テストデータ!BQ3,163,0):OFFSET(テストデータ!BU3,163,0))","v":0},{"$f":"SUM(OFFSET(テストデータ!BV3,163,0):OFFSET(テストデータ!BX3,163,0))","v":0},{"$f":"SUM(OFFSET(テストデータ!BV3,163,0):OFFSET(テストデータ!BZ3,163,0))","v":0},{"$f":"SUM(OFFSET(テストデータ!CA3,163,0):OFFSET(テストデータ!CC3,163,0))","v":0},{"$f":"SUM(OFFSET(テストデータ!CA3,163,0):OFFSET(テストデータ!CE3,163,0))","v":0},{"$f":"SUM(OFFSET(テストデータ!CF3,163,0):OFFSET(テストデータ!CH3,163,0))","v":0},{"$f":"SUM(OFFSET(テストデータ!CF3,163,0):OFFSET(テストデータ!CJ3,163,0))","v":0},{"$f":"SUM(OFFSET(テストデータ!CK3,163,0):OFFSET(テストデータ!CM3,163,0))","v":0},{"$f":"SUM(OFFSET(テストデータ!CK3,163,0):OFFSET(テストデータ!CO3,163,0))","v":0},{"$f":"SUM(OFFSET(テストデータ!CP3,163,0):OFFSET(テストデータ!CR3,163,0))","v":0},{"$f":"SUM(OFFSET(テストデータ!CP3,163,0):OFFSET(テストデータ!CT3,163,0))","v":0}]
[null,null,null,null,null,null,null,null,null,null,null,null,null,{"$f":"SUM(OFFSET(テストデータ!$E3,164,9*成績表1!$B$4-9):OFFSET(テストデータ!$G3,164,9*成績表1!$B$4-9))","v":0},{"$f":"SUM(OFFSET(テストデータ!$E3,164,9*成績表1!$B$4-9):OFFSET(テストデータ!I3,164,9*成績表1!$B$4-9))","v":0},{"$f":"SUM(OFFSET(テストデータ!E3,164,0):OFFSET(テストデータ!G3,164,0))","v":0},{"$f":"SUM(OFFSET(テストデータ!E3,164,0):OFFSET(テストデータ!I3,164,0))","v":0},{"$f":"SUM(OFFSET(テストデータ!N3,164,0):OFFSET(テストデータ!P3,164,0))","v":0},{"$f":"SUM(OFFSET(テストデータ!N3,164,0):OFFSET(テストデータ!R3,164,0))","v":0},{"$f":"SUM(OFFSET(テストデータ!W3,164,0):OFFSET(テストデータ!Y3,164,0))","v":0},{"$f":"SUM(OFFSET(テストデータ!W3,164,0):OFFSET(テストデータ!AA3,164,0))","v":0},{"$f":"SUM(OFFSET(テストデータ!AF3,164,0):OFFSET(テストデータ!AH3,164,0))","v":0},{"$f":"SUM(OFFSET(テストデータ!AF3,164,0):OFFSET(テストデータ!AJ3,164,0))","v":0},{"$f":"SUM(OFFSET(テストデータ!AO3,164,0):OFFSET(テストデータ!AQ3,164,0))","v":0},{"$f":"SUM(OFFSET(テストデータ!AO3,164,0):OFFSET(テストデータ!AS3,164,0))","v":0},{"$f":"SUM(OFFSET(テストデータ!AX3,164,0):OFFSET(テストデータ!AZ3,164,0))","v":0},{"$f":"SUM(OFFSET(テストデータ!AX3,164,0):OFFSET(テストデータ!BB3,164,0))","v":0},{"$f":"SUM(OFFSET(テストデータ!BG3,164,0):OFFSET(テストデータ!BI3,164,0))","v":0},{"$f":"SUM(OFFSET(テストデータ!BG3,164,0):OFFSET(テストデータ!BK3,164,0))","v":0},{"$f":"SUM(OFFSET(テストデータ!BL3,164,0):OFFSET(テストデータ!BN3,164,0))","v":0},{"$f":"SUM(OFFSET(テストデータ!BL3,164,0):OFFSET(テストデータ!BP3,164,0))","v":0},{"$f":"SUM(OFFSET(テストデータ!BQ3,164,0):OFFSET(テストデータ!BS3,164,0))","v":0},{"$f":"SUM(OFFSET(テストデータ!BQ3,164,0):OFFSET(テストデータ!BU3,164,0))","v":0},{"$f":"SUM(OFFSET(テストデータ!BV3,164,0):OFFSET(テストデータ!BX3,164,0))","v":0},{"$f":"SUM(OFFSET(テストデータ!BV3,164,0):OFFSET(テストデータ!BZ3,164,0))","v":0},{"$f":"SUM(OFFSET(テストデータ!CA3,164,0):OFFSET(テストデータ!CC3,164,0))","v":0},{"$f":"SUM(OFFSET(テストデータ!CA3,164,0):OFFSET(テストデータ!CE3,164,0))","v":0},{"$f":"SUM(OFFSET(テストデータ!CF3,164,0):OFFSET(テストデータ!CH3,164,0))","v":0},{"$f":"SUM(OFFSET(テストデータ!CF3,164,0):OFFSET(テストデータ!CJ3,164,0))","v":0},{"$f":"SUM(OFFSET(テストデータ!CK3,164,0):OFFSET(テストデータ!CM3,164,0))","v":0},{"$f":"SUM(OFFSET(テストデータ!CK3,164,0):OFFSET(テストデータ!CO3,164,0))","v":0},{"$f":"SUM(OFFSET(テストデータ!CP3,164,0):OFFSET(テストデータ!CR3,164,0))","v":0},{"$f":"SUM(OFFSET(テストデータ!CP3,164,0):OFFSET(テストデータ!CT3,164,0))","v":0}]
[null,null,null,null,null,null,null,null,null,null,null,null,null,{"$f":"SUM(OFFSET(テストデータ!$E3,165,9*成績表1!$B$4-9):OFFSET(テストデータ!$G3,165,9*成績表1!$B$4-9))","v":0},{"$f":"SUM(OFFSET(テストデータ!$E3,165,9*成績表1!$B$4-9):OFFSET(テストデータ!I3,165,9*成績表1!$B$4-9))","v":0},{"$f":"SUM(OFFSET(テストデータ!E3,165,0):OFFSET(テストデータ!G3,165,0))","v":0},{"$f":"SUM(OFFSET(テストデータ!E3,165,0):OFFSET(テストデータ!I3,165,0))","v":0},{"$f":"SUM(OFFSET(テストデータ!N3,165,0):OFFSET(テストデータ!P3,165,0))","v":0},{"$f":"SUM(OFFSET(テストデータ!N3,165,0):OFFSET(テストデータ!R3,165,0))","v":0},{"$f":"SUM(OFFSET(テストデータ!W3,165,0):OFFSET(テストデータ!Y3,165,0))","v":0},{"$f":"SUM(OFFSET(テストデータ!W3,165,0):OFFSET(テストデータ!AA3,165,0))","v":0},{"$f":"SUM(OFFSET(テストデータ!AF3,165,0):OFFSET(テストデータ!AH3,165,0))","v":0},{"$f":"SUM(OFFSET(テストデータ!AF3,165,0):OFFSET(テストデータ!AJ3,165,0))","v":0},{"$f":"SUM(OFFSET(テストデータ!AO3,165,0):OFFSET(テストデータ!AQ3,165,0))","v":0},{"$f":"SUM(OFFSET(テストデータ!AO3,165,0):OFFSET(テストデータ!AS3,165,0))","v":0},{"$f":"SUM(OFFSET(テストデータ!AX3,165,0):OFFSET(テストデータ!AZ3,165,0))","v":0},{"$f":"SUM(OFFSET(テストデータ!AX3,165,0):OFFSET(テストデータ!BB3,165,0))","v":0},{"$f":"SUM(OFFSET(テストデータ!BG3,165,0):OFFSET(テストデータ!BI3,165,0))","v":0},{"$f":"SUM(OFFSET(テストデータ!BG3,165,0):OFFSET(テストデータ!BK3,165,0))","v":0},{"$f":"SUM(OFFSET(テストデータ!BL3,165,0):OFFSET(テストデータ!BN3,165,0))","v":0},{"$f":"SUM(OFFSET(テストデータ!BL3,165,0):OFFSET(テストデータ!BP3,165,0))","v":0},{"$f":"SUM(OFFSET(テストデータ!BQ3,165,0):OFFSET(テストデータ!BS3,165,0))","v":0},{"$f":"SUM(OFFSET(テストデータ!BQ3,165,0):OFFSET(テストデータ!BU3,165,0))","v":0},{"$f":"SUM(OFFSET(テストデータ!BV3,165,0):OFFSET(テストデータ!BX3,165,0))","v":0},{"$f":"SUM(OFFSET(テストデータ!BV3,165,0):OFFSET(テストデータ!BZ3,165,0))","v":0},{"$f":"SUM(OFFSET(テストデータ!CA3,165,0):OFFSET(テストデータ!CC3,165,0))","v":0},{"$f":"SUM(OFFSET(テストデータ!CA3,165,0):OFFSET(テストデータ!CE3,165,0))","v":0},{"$f":"SUM(OFFSET(テストデータ!CF3,165,0):OFFSET(テストデータ!CH3,165,0))","v":0},{"$f":"SUM(OFFSET(テストデータ!CF3,165,0):OFFSET(テストデータ!CJ3,165,0))","v":0},{"$f":"SUM(OFFSET(テストデータ!CK3,165,0):OFFSET(テストデータ!CM3,165,0))","v":0},{"$f":"SUM(OFFSET(テストデータ!CK3,165,0):OFFSET(テストデータ!CO3,165,0))","v":0},{"$f":"SUM(OFFSET(テストデータ!CP3,165,0):OFFSET(テストデータ!CR3,165,0))","v":0},{"$f":"SUM(OFFSET(テストデータ!CP3,165,0):OFFSET(テストデータ!CT3,165,0))","v":0}]
[null,null,null,null,null,null,null,null,null,null,null,null,null,{"$f":"SUM(OFFSET(テストデータ!$E3,166,9*成績表1!$B$4-9):OFFSET(テストデータ!$G3,166,9*成績表1!$B$4-9))","v":0},{"$f":"SUM(OFFSET(テストデータ!$E3,166,9*成績表1!$B$4-9):OFFSET(テストデータ!I3,166,9*成績表1!$B$4-9))","v":0},{"$f":"SUM(OFFSET(テストデータ!E3,166,0):OFFSET(テストデータ!G3,166,0))","v":0},{"$f":"SUM(OFFSET(テストデータ!E3,166,0):OFFSET(テストデータ!I3,166,0))","v":0},{"$f":"SUM(OFFSET(テストデータ!N3,166,0):OFFSET(テストデータ!P3,166,0))","v":0},{"$f":"SUM(OFFSET(テストデータ!N3,166,0):OFFSET(テストデータ!R3,166,0))","v":0},{"$f":"SUM(OFFSET(テストデータ!W3,166,0):OFFSET(テストデータ!Y3,166,0))","v":0},{"$f":"SUM(OFFSET(テストデータ!W3,166,0):OFFSET(テストデータ!AA3,166,0))","v":0},{"$f":"SUM(OFFSET(テストデータ!AF3,166,0):OFFSET(テストデータ!AH3,166,0))","v":0},{"$f":"SUM(OFFSET(テストデータ!AF3,166,0):OFFSET(テストデータ!AJ3,166,0))","v":0},{"$f":"SUM(OFFSET(テストデータ!AO3,166,0):OFFSET(テストデータ!AQ3,166,0))","v":0},{"$f":"SUM(OFFSET(テストデータ!AO3,166,0):OFFSET(テストデータ!AS3,166,0))","v":0},{"$f":"SUM(OFFSET(テストデータ!AX3,166,0):OFFSET(テストデータ!AZ3,166,0))","v":0},{"$f":"SUM(OFFSET(テストデータ!AX3,166,0):OFFSET(テストデータ!BB3,166,0))","v":0},{"$f":"SUM(OFFSET(テストデータ!BG3,166,0):OFFSET(テストデータ!BI3,166,0))","v":0},{"$f":"SUM(OFFSET(テストデータ!BG3,166,0):OFFSET(テストデータ!BK3,166,0))","v":0},{"$f":"SUM(OFFSET(テストデータ!BL3,166,0):OFFSET(テストデータ!BN3,166,0))","v":0},{"$f":"SUM(OFFSET(テストデータ!BL3,166,0):OFFSET(テストデータ!BP3,166,0))","v":0},{"$f":"SUM(OFFSET(テストデータ!BQ3,166,0):OFFSET(テストデータ!BS3,166,0))","v":0},{"$f":"SUM(OFFSET(テストデータ!BQ3,166,0):OFFSET(テストデータ!BU3,166,0))","v":0},{"$f":"SUM(OFFSET(テストデータ!BV3,166,0):OFFSET(テストデータ!BX3,166,0))","v":0},{"$f":"SUM(OFFSET(テストデータ!BV3,166,0):OFFSET(テストデータ!BZ3,166,0))","v":0},{"$f":"SUM(OFFSET(テストデータ!CA3,166,0):OFFSET(テストデータ!CC3,166,0))","v":0},{"$f":"SUM(OFFSET(テストデータ!CA3,166,0):OFFSET(テストデータ!CE3,166,0))","v":0},{"$f":"SUM(OFFSET(テストデータ!CF3,166,0):OFFSET(テストデータ!CH3,166,0))","v":0},{"$f":"SUM(OFFSET(テストデータ!CF3,166,0):OFFSET(テストデータ!CJ3,166,0))","v":0},{"$f":"SUM(OFFSET(テストデータ!CK3,166,0):OFFSET(テストデータ!CM3,166,0))","v":0},{"$f":"SUM(OFFSET(テストデータ!CK3,166,0):OFFSET(テストデータ!CO3,166,0))","v":0},{"$f":"SUM(OFFSET(テストデータ!CP3,166,0):OFFSET(テストデータ!CR3,166,0))","v":0},{"$f":"SUM(OFFSET(テストデータ!CP3,166,0):OFFSET(テストデータ!CT3,166,0))","v":0}]
[null,null,null,null,null,null,null,null,null,null,null,null,null,{"$f":"SUM(OFFSET(テストデータ!$E3,167,9*成績表1!$B$4-9):OFFSET(テストデータ!$G3,167,9*成績表1!$B$4-9))","v":0},{"$f":"SUM(OFFSET(テストデータ!$E3,167,9*成績表1!$B$4-9):OFFSET(テストデータ!I3,167,9*成績表1!$B$4-9))","v":0},{"$f":"SUM(OFFSET(テストデータ!E3,167,0):OFFSET(テストデータ!G3,167,0))","v":0},{"$f":"SUM(OFFSET(テストデータ!E3,167,0):OFFSET(テストデータ!I3,167,0))","v":0},{"$f":"SUM(OFFSET(テストデータ!N3,167,0):OFFSET(テストデータ!P3,167,0))","v":0},{"$f":"SUM(OFFSET(テストデータ!N3,167,0):OFFSET(テストデータ!R3,167,0))","v":0},{"$f":"SUM(OFFSET(テストデータ!W3,167,0):OFFSET(テストデータ!Y3,167,0))","v":0},{"$f":"SUM(OFFSET(テストデータ!W3,167,0):OFFSET(テストデータ!AA3,167,0))","v":0},{"$f":"SUM(OFFSET(テストデータ!AF3,167,0):OFFSET(テストデータ!AH3,167,0))","v":0},{"$f":"SUM(OFFSET(テストデータ!AF3,167,0):OFFSET(テストデータ!AJ3,167,0))","v":0},{"$f":"SUM(OFFSET(テストデータ!AO3,167,0):OFFSET(テストデータ!AQ3,167,0))","v":0},{"$f":"SUM(OFFSET(テストデータ!AO3,167,0):OFFSET(テストデータ!AS3,167,0))","v":0},{"$f":"SUM(OFFSET(テストデータ!AX3,167,0):OFFSET(テストデータ!AZ3,167,0))","v":0},{"$f":"SUM(OFFSET(テストデータ!AX3,167,0):OFFSET(テストデータ!BB3,167,0))","v":0},{"$f":"SUM(OFFSET(テストデータ!BG3,167,0):OFFSET(テストデータ!BI3,167,0))","v":0},{"$f":"SUM(OFFSET(テストデータ!BG3,167,0):OFFSET(テストデータ!BK3,167,0))","v":0},{"$f":"SUM(OFFSET(テストデータ!BL3,167,0):OFFSET(テストデータ!BN3,167,0))","v":0},{"$f":"SUM(OFFSET(テストデータ!BL3,167,0):OFFSET(テストデータ!BP3,167,0))","v":0},{"$f":"SUM(OFFSET(テストデータ!BQ3,167,0):OFFSET(テストデータ!BS3,167,0))","v":0},{"$f":"SUM(OFFSET(テストデータ!BQ3,167,0):OFFSET(テストデータ!BU3,167,0))","v":0},{"$f":"SUM(OFFSET(テストデータ!BV3,167,0):OFFSET(テストデータ!BX3,167,0))","v":0},{"$f":"SUM(OFFSET(テストデータ!BV3,167,0):OFFSET(テストデータ!BZ3,167,0))","v":0},{"$f":"SUM(OFFSET(テストデータ!CA3,167,0):OFFSET(テストデータ!CC3,167,0))","v":0},{"$f":"SUM(OFFSET(テストデータ!CA3,167,0):OFFSET(テストデータ!CE3,167,0))","v":0},{"$f":"SUM(OFFSET(テストデータ!CF3,167,0):OFFSET(テストデータ!CH3,167,0))","v":0},{"$f":"SUM(OFFSET(テストデータ!CF3,167,0):OFFSET(テストデータ!CJ3,167,0))","v":0},{"$f":"SUM(OFFSET(テストデータ!CK3,167,0):OFFSET(テストデータ!CM3,167,0))","v":0},{"$f":"SUM(OFFSET(テストデータ!CK3,167,0):OFFSET(テストデータ!CO3,167,0))","v":0},{"$f":"SUM(OFFSET(テストデータ!CP3,167,0):OFFSET(テストデータ!CR3,167,0))","v":0},{"$f":"SUM(OFFSET(テストデータ!CP3,167,0):OFFSET(テストデータ!CT3,167,0))","v":0}]
[null,null,null,null,null,null,null,null,null,null,null,null,null,{"$f":"SUM(OFFSET(テストデータ!$E3,168,9*成績表1!$B$4-9):OFFSET(テストデータ!$G3,168,9*成績表1!$B$4-9))","v":0},{"$f":"SUM(OFFSET(テストデータ!$E3,168,9*成績表1!$B$4-9):OFFSET(テストデータ!I3,168,9*成績表1!$B$4-9))","v":0},{"$f":"SUM(OFFSET(テストデータ!E3,168,0):OFFSET(テストデータ!G3,168,0))","v":0},{"$f":"SUM(OFFSET(テストデータ!E3,168,0):OFFSET(テストデータ!I3,168,0))","v":0},{"$f":"SUM(OFFSET(テストデータ!N3,168,0):OFFSET(テストデータ!P3,168,0))","v":0},{"$f":"SUM(OFFSET(テストデータ!N3,168,0):OFFSET(テストデータ!R3,168,0))","v":0},{"$f":"SUM(OFFSET(テストデータ!W3,168,0):OFFSET(テストデータ!Y3,168,0))","v":0},{"$f":"SUM(OFFSET(テストデータ!W3,168,0):OFFSET(テストデータ!AA3,168,0))","v":0},{"$f":"SUM(OFFSET(テストデータ!AF3,168,0):OFFSET(テストデータ!AH3,168,0))","v":0},{"$f":"SUM(OFFSET(テストデータ!AF3,168,0):OFFSET(テストデータ!AJ3,168,0))","v":0},{"$f":"SUM(OFFSET(テストデータ!AO3,168,0):OFFSET(テストデータ!AQ3,168,0))","v":0},{"$f":"SUM(OFFSET(テストデータ!AO3,168,0):OFFSET(テストデータ!AS3,168,0))","v":0},{"$f":"SUM(OFFSET(テストデータ!AX3,168,0):OFFSET(テストデータ!AZ3,168,0))","v":0},{"$f":"SUM(OFFSET(テストデータ!AX3,168,0):OFFSET(テストデータ!BB3,168,0))","v":0},{"$f":"SUM(OFFSET(テストデータ!BG3,168,0):OFFSET(テストデータ!BI3,168,0))","v":0},{"$f":"SUM(OFFSET(テストデータ!BG3,168,0):OFFSET(テストデータ!BK3,168,0))","v":0},{"$f":"SUM(OFFSET(テストデータ!BL3,168,0):OFFSET(テストデータ!BN3,168,0))","v":0},{"$f":"SUM(OFFSET(テストデータ!BL3,168,0):OFFSET(テストデータ!BP3,168,0))","v":0},{"$f":"SUM(OFFSET(テストデータ!BQ3,168,0):OFFSET(テストデータ!BS3,168,0))","v":0},{"$f":"SUM(OFFSET(テストデータ!BQ3,168,0):OFFSET(テストデータ!BU3,168,0))","v":0},{"$f":"SUM(OFFSET(テストデータ!BV3,168,0):OFFSET(テストデータ!BX3,168,0))","v":0},{"$f":"SUM(OFFSET(テストデータ!BV3,168,0):OFFSET(テストデータ!BZ3,168,0))","v":0},{"$f":"SUM(OFFSET(テストデータ!CA3,168,0):OFFSET(テストデータ!CC3,168,0))","v":0},{"$f":"SUM(OFFSET(テストデータ!CA3,168,0):OFFSET(テストデータ!CE3,168,0))","v":0},{"$f":"SUM(OFFSET(テストデータ!CF3,168,0):OFFSET(テストデータ!CH3,168,0))","v":0},{"$f":"SUM(OFFSET(テストデータ!CF3,168,0):OFFSET(テストデータ!CJ3,168,0))","v":0},{"$f":"SUM(OFFSET(テストデータ!CK3,168,0):OFFSET(テストデータ!CM3,168,0))","v":0},{"$f":"SUM(OFFSET(テストデータ!CK3,168,0):OFFSET(テストデータ!CO3,168,0))","v":0},{"$f":"SUM(OFFSET(テストデータ!CP3,168,0):OFFSET(テストデータ!CR3,168,0))","v":0},{"$f":"SUM(OFFSET(テストデータ!CP3,168,0):OFFSET(テストデータ!CT3,168,0))","v":0}]
[null,null,null,null,null,null,null,null,null,null,null,null,null,{"$f":"SUM(OFFSET(テストデータ!$E3,169,9*成績表1!$B$4-9):OFFSET(テストデータ!$G3,169,9*成績表1!$B$4-9))","v":0},{"$f":"SUM(OFFSET(テストデータ!$E3,169,9*成績表1!$B$4-9):OFFSET(テストデータ!I3,169,9*成績表1!$B$4-9))","v":0},{"$f":"SUM(OFFSET(テストデータ!E3,169,0):OFFSET(テストデータ!G3,169,0))","v":0},{"$f":"SUM(OFFSET(テストデータ!E3,169,0):OFFSET(テストデータ!I3,169,0))","v":0},{"$f":"SUM(OFFSET(テストデータ!N3,169,0):OFFSET(テストデータ!P3,169,0))","v":0},{"$f":"SUM(OFFSET(テストデータ!N3,169,0):OFFSET(テストデータ!R3,169,0))","v":0},{"$f":"SUM(OFFSET(テストデータ!W3,169,0):OFFSET(テストデータ!Y3,169,0))","v":0},{"$f":"SUM(OFFSET(テストデータ!W3,169,0):OFFSET(テストデータ!AA3,169,0))","v":0},{"$f":"SUM(OFFSET(テストデータ!AF3,169,0):OFFSET(テストデータ!AH3,169,0))","v":0},{"$f":"SUM(OFFSET(テストデータ!AF3,169,0):OFFSET(テストデータ!AJ3,169,0))","v":0},{"$f":"SUM(OFFSET(テストデータ!AO3,169,0):OFFSET(テストデータ!AQ3,169,0))","v":0},{"$f":"SUM(OFFSET(テストデータ!AO3,169,0):OFFSET(テストデータ!AS3,169,0))","v":0},{"$f":"SUM(OFFSET(テストデータ!AX3,169,0):OFFSET(テストデータ!AZ3,169,0))","v":0},{"$f":"SUM(OFFSET(テストデータ!AX3,169,0):OFFSET(テストデータ!BB3,169,0))","v":0},{"$f":"SUM(OFFSET(テストデータ!BG3,169,0):OFFSET(テストデータ!BI3,169,0))","v":0},{"$f":"SUM(OFFSET(テストデータ!BG3,169,0):OFFSET(テストデータ!BK3,169,0))","v":0},{"$f":"SUM(OFFSET(テストデータ!BL3,169,0):OFFSET(テストデータ!BN3,169,0))","v":0},{"$f":"SUM(OFFSET(テストデータ!BL3,169,0):OFFSET(テストデータ!BP3,169,0))","v":0},{"$f":"SUM(OFFSET(テストデータ!BQ3,169,0):OFFSET(テストデータ!BS3,169,0))","v":0},{"$f":"SUM(OFFSET(テストデータ!BQ3,169,0):OFFSET(テストデータ!BU3,169,0))","v":0},{"$f":"SUM(OFFSET(テストデータ!BV3,169,0):OFFSET(テストデータ!BX3,169,0))","v":0},{"$f":"SUM(OFFSET(テストデータ!BV3,169,0):OFFSET(テストデータ!BZ3,169,0))","v":0},{"$f":"SUM(OFFSET(テストデータ!CA3,169,0):OFFSET(テストデータ!CC3,169,0))","v":0},{"$f":"SUM(OFFSET(テストデータ!CA3,169,0):OFFSET(テストデータ!CE3,169,0))","v":0},{"$f":"SUM(OFFSET(テストデータ!CF3,169,0):OFFSET(テストデータ!CH3,169,0))","v":0},{"$f":"SUM(OFFSET(テストデータ!CF3,169,0):OFFSET(テストデータ!CJ3,169,0))","v":0},{"$f":"SUM(OFFSET(テストデータ!CK3,169,0):OFFSET(テストデータ!CM3,169,0))","v":0},{"$f":"SUM(OFFSET(テストデータ!CK3,169,0):OFFSET(テストデータ!CO3,169,0))","v":0},{"$f":"SUM(OFFSET(テストデータ!CP3,169,0):OFFSET(テストデータ!CR3,169,0))","v":0},{"$f":"SUM(OFFSET(テストデータ!CP3,169,0):OFFSET(テストデータ!CT3,169,0))","v":0}]
[null,null,null,null,null,null,null,null,null,null,null,null,null,{"$f":"SUM(OFFSET(テストデータ!$E3,170,9*成績表1!$B$4-9):OFFSET(テストデータ!$G3,170,9*成績表1!$B$4-9))","v":0},{"$f":"SUM(OFFSET(テストデータ!$E3,170,9*成績表1!$B$4-9):OFFSET(テストデータ!I3,170,9*成績表1!$B$4-9))","v":0},{"$f":"SUM(OFFSET(テストデータ!E3,170,0):OFFSET(テストデータ!G3,170,0))","v":0},{"$f":"SUM(OFFSET(テストデータ!E3,170,0):OFFSET(テストデータ!I3,170,0))","v":0},{"$f":"SUM(OFFSET(テストデータ!N3,170,0):OFFSET(テストデータ!P3,170,0))","v":0},{"$f":"SUM(OFFSET(テストデータ!N3,170,0):OFFSET(テストデータ!R3,170,0))","v":0},{"$f":"SUM(OFFSET(テストデータ!W3,170,0):OFFSET(テストデータ!Y3,170,0))","v":0},{"$f":"SUM(OFFSET(テストデータ!W3,170,0):OFFSET(テストデータ!AA3,170,0))","v":0},{"$f":"SUM(OFFSET(テストデータ!AF3,170,0):OFFSET(テストデータ!AH3,170,0))","v":0},{"$f":"SUM(OFFSET(テストデータ!AF3,170,0):OFFSET(テストデータ!AJ3,170,0))","v":0},{"$f":"SUM(OFFSET(テストデータ!AO3,170,0):OFFSET(テストデータ!AQ3,170,0))","v":0},{"$f":"SUM(OFFSET(テストデータ!AO3,170,0):OFFSET(テストデータ!AS3,170,0))","v":0},{"$f":"SUM(OFFSET(テストデータ!AX3,170,0):OFFSET(テストデータ!AZ3,170,0))","v":0},{"$f":"SUM(OFFSET(テストデータ!AX3,170,0):OFFSET(テストデータ!BB3,170,0))","v":0},{"$f":"SUM(OFFSET(テストデータ!BG3,170,0):OFFSET(テストデータ!BI3,170,0))","v":0},{"$f":"SUM(OFFSET(テストデータ!BG3,170,0):OFFSET(テストデータ!BK3,170,0))","v":0},{"$f":"SUM(OFFSET(テストデータ!BL3,170,0):OFFSET(テストデータ!BN3,170,0))","v":0},{"$f":"SUM(OFFSET(テストデータ!BL3,170,0):OFFSET(テストデータ!BP3,170,0))","v":0},{"$f":"SUM(OFFSET(テストデータ!BQ3,170,0):OFFSET(テストデータ!BS3,170,0))","v":0},{"$f":"SUM(OFFSET(テストデータ!BQ3,170,0):OFFSET(テストデータ!BU3,170,0))","v":0},{"$f":"SUM(OFFSET(テストデータ!BV3,170,0):OFFSET(テストデータ!BX3,170,0))","v":0},{"$f":"SUM(OFFSET(テストデータ!BV3,170,0):OFFSET(テストデータ!BZ3,170,0))","v":0},{"$f":"SUM(OFFSET(テストデータ!CA3,170,0):OFFSET(テストデータ!CC3,170,0))","v":0},{"$f":"SUM(OFFSET(テストデータ!CA3,170,0):OFFSET(テストデータ!CE3,170,0))","v":0},{"$f":"SUM(OFFSET(テストデータ!CF3,170,0):OFFSET(テストデータ!CH3,170,0))","v":0},{"$f":"SUM(OFFSET(テストデータ!CF3,170,0):OFFSET(テストデータ!CJ3,170,0))","v":0},{"$f":"SUM(OFFSET(テストデータ!CK3,170,0):OFFSET(テストデータ!CM3,170,0))","v":0},{"$f":"SUM(OFFSET(テストデータ!CK3,170,0):OFFSET(テストデータ!CO3,170,0))","v":0},{"$f":"SUM(OFFSET(テストデータ!CP3,170,0):OFFSET(テストデータ!CR3,170,0))","v":0},{"$f":"SUM(OFFSET(テストデータ!CP3,170,0):OFFSET(テストデータ!CT3,170,0))","v":0}]
[null,null,null,null,null,null,null,null,null,null,null,null,null,{"$f":"SUM(OFFSET(テストデータ!$E3,171,9*成績表1!$B$4-9):OFFSET(テストデータ!$G3,171,9*成績表1!$B$4-9))","v":0},{"$f":"SUM(OFFSET(テストデータ!$E3,171,9*成績表1!$B$4-9):OFFSET(テストデータ!I3,171,9*成績表1!$B$4-9))","v":0},{"$f":"SUM(OFFSET(テストデータ!E3,171,0):OFFSET(テストデータ!G3,171,0))","v":0},{"$f":"SUM(OFFSET(テストデータ!E3,171,0):OFFSET(テストデータ!I3,171,0))","v":0},{"$f":"SUM(OFFSET(テストデータ!N3,171,0):OFFSET(テストデータ!P3,171,0))","v":0},{"$f":"SUM(OFFSET(テストデータ!N3,171,0):OFFSET(テストデータ!R3,171,0))","v":0},{"$f":"SUM(OFFSET(テストデータ!W3,171,0):OFFSET(テストデータ!Y3,171,0))","v":0},{"$f":"SUM(OFFSET(テストデータ!W3,171,0):OFFSET(テストデータ!AA3,171,0))","v":0},{"$f":"SUM(OFFSET(テストデータ!AF3,171,0):OFFSET(テストデータ!AH3,171,0))","v":0},{"$f":"SUM(OFFSET(テストデータ!AF3,171,0):OFFSET(テストデータ!AJ3,171,0))","v":0},{"$f":"SUM(OFFSET(テストデータ!AO3,171,0):OFFSET(テストデータ!AQ3,171,0))","v":0},{"$f":"SUM(OFFSET(テストデータ!AO3,171,0):OFFSET(テストデータ!AS3,171,0))","v":0},{"$f":"SUM(OFFSET(テストデータ!AX3,171,0):OFFSET(テストデータ!AZ3,171,0))","v":0},{"$f":"SUM(OFFSET(テストデータ!AX3,171,0):OFFSET(テストデータ!BB3,171,0))","v":0},{"$f":"SUM(OFFSET(テストデータ!BG3,171,0):OFFSET(テストデータ!BI3,171,0))","v":0},{"$f":"SUM(OFFSET(テストデータ!BG3,171,0):OFFSET(テストデータ!BK3,171,0))","v":0},{"$f":"SUM(OFFSET(テストデータ!BL3,171,0):OFFSET(テストデータ!BN3,171,0))","v":0},{"$f":"SUM(OFFSET(テストデータ!BL3,171,0):OFFSET(テストデータ!BP3,171,0))","v":0},{"$f":"SUM(OFFSET(テストデータ!BQ3,171,0):OFFSET(テストデータ!BS3,171,0))","v":0},{"$f":"SUM(OFFSET(テストデータ!BQ3,171,0):OFFSET(テストデータ!BU3,171,0))","v":0},{"$f":"SUM(OFFSET(テストデータ!BV3,171,0):OFFSET(テストデータ!BX3,171,0))","v":0},{"$f":"SUM(OFFSET(テストデータ!BV3,171,0):OFFSET(テストデータ!BZ3,171,0))","v":0},{"$f":"SUM(OFFSET(テストデータ!CA3,171,0):OFFSET(テストデータ!CC3,171,0))","v":0},{"$f":"SUM(OFFSET(テストデータ!CA3,171,0):OFFSET(テストデータ!CE3,171,0))","v":0},{"$f":"SUM(OFFSET(テストデータ!CF3,171,0):OFFSET(テストデータ!CH3,171,0))","v":0},{"$f":"SUM(OFFSET(テストデータ!CF3,171,0):OFFSET(テストデータ!CJ3,171,0))","v":0},{"$f":"SUM(OFFSET(テストデータ!CK3,171,0):OFFSET(テストデータ!CM3,171,0))","v":0},{"$f":"SUM(OFFSET(テストデータ!CK3,171,0):OFFSET(テストデータ!CO3,171,0))","v":0},{"$f":"SUM(OFFSET(テストデータ!CP3,171,0):OFFSET(テストデータ!CR3,171,0))","v":0},{"$f":"SUM(OFFSET(テストデータ!CP3,171,0):OFFSET(テストデータ!CT3,171,0))","v":0}]
[null,null,null,null,null,null,null,null,null,null,null,null,null,{"$f":"SUM(OFFSET(テストデータ!$E3,172,9*成績表1!$B$4-9):OFFSET(テストデータ!$G3,172,9*成績表1!$B$4-9))","v":0},{"$f":"SUM(OFFSET(テストデータ!$E3,172,9*成績表1!$B$4-9):OFFSET(テストデータ!I3,172,9*成績表1!$B$4-9))","v":0},{"$f":"SUM(OFFSET(テストデータ!E3,172,0):OFFSET(テストデータ!G3,172,0))","v":0},{"$f":"SUM(OFFSET(テストデータ!E3,172,0):OFFSET(テストデータ!I3,172,0))","v":0},{"$f":"SUM(OFFSET(テストデータ!N3,172,0):OFFSET(テストデータ!P3,172,0))","v":0},{"$f":"SUM(OFFSET(テストデータ!N3,172,0):OFFSET(テストデータ!R3,172,0))","v":0},{"$f":"SUM(OFFSET(テストデータ!W3,172,0):OFFSET(テストデータ!Y3,172,0))","v":0},{"$f":"SUM(OFFSET(テストデータ!W3,172,0):OFFSET(テストデータ!AA3,172,0))","v":0},{"$f":"SUM(OFFSET(テストデータ!AF3,172,0):OFFSET(テストデータ!AH3,172,0))","v":0},{"$f":"SUM(OFFSET(テストデータ!AF3,172,0):OFFSET(テストデータ!AJ3,172,0))","v":0},{"$f":"SUM(OFFSET(テストデータ!AO3,172,0):OFFSET(テストデータ!AQ3,172,0))","v":0},{"$f":"SUM(OFFSET(テストデータ!AO3,172,0):OFFSET(テストデータ!AS3,172,0))","v":0},{"$f":"SUM(OFFSET(テストデータ!AX3,172,0):OFFSET(テストデータ!AZ3,172,0))","v":0},{"$f":"SUM(OFFSET(テストデータ!AX3,172,0):OFFSET(テストデータ!BB3,172,0))","v":0},{"$f":"SUM(OFFSET(テストデータ!BG3,172,0):OFFSET(テストデータ!BI3,172,0))","v":0},{"$f":"SUM(OFFSET(テストデータ!BG3,172,0):OFFSET(テストデータ!BK3,172,0))","v":0},{"$f":"SUM(OFFSET(テストデータ!BL3,172,0):OFFSET(テストデータ!BN3,172,0))","v":0},{"$f":"SUM(OFFSET(テストデータ!BL3,172,0):OFFSET(テストデータ!BP3,172,0))","v":0},{"$f":"SUM(OFFSET(テストデータ!BQ3,172,0):OFFSET(テストデータ!BS3,172,0))","v":0},{"$f":"SUM(OFFSET(テストデータ!BQ3,172,0):OFFSET(テストデータ!BU3,172,0))","v":0},{"$f":"SUM(OFFSET(テストデータ!BV3,172,0):OFFSET(テストデータ!BX3,172,0))","v":0},{"$f":"SUM(OFFSET(テストデータ!BV3,172,0):OFFSET(テストデータ!BZ3,172,0))","v":0},{"$f":"SUM(OFFSET(テストデータ!CA3,172,0):OFFSET(テストデータ!CC3,172,0))","v":0},{"$f":"SUM(OFFSET(テストデータ!CA3,172,0):OFFSET(テストデータ!CE3,172,0))","v":0},{"$f":"SUM(OFFSET(テストデータ!CF3,172,0):OFFSET(テストデータ!CH3,172,0))","v":0},{"$f":"SUM(OFFSET(テストデータ!CF3,172,0):OFFSET(テストデータ!CJ3,172,0))","v":0},{"$f":"SUM(OFFSET(テストデータ!CK3,172,0):OFFSET(テストデータ!CM3,172,0))","v":0},{"$f":"SUM(OFFSET(テストデータ!CK3,172,0):OFFSET(テストデータ!CO3,172,0))","v":0},{"$f":"SUM(OFFSET(テストデータ!CP3,172,0):OFFSET(テストデータ!CR3,172,0))","v":0},{"$f":"SUM(OFFSET(テストデータ!CP3,172,0):OFFSET(テストデータ!CT3,172,0))","v":0}]
[null,null,null,null,null,null,null,null,null,null,null,null,null,{"$f":"SUM(OFFSET(テストデータ!$E3,173,9*成績表1!$B$4-9):OFFSET(テストデータ!$G3,173,9*成績表1!$B$4-9))","v":0},{"$f":"SUM(OFFSET(テストデータ!$E3,173,9*成績表1!$B$4-9):OFFSET(テストデータ!I3,173,9*成績表1!$B$4-9))","v":0},{"$f":"SUM(OFFSET(テストデータ!E3,173,0):OFFSET(テストデータ!G3,173,0))","v":0},{"$f":"SUM(OFFSET(テストデータ!E3,173,0):OFFSET(テストデータ!I3,173,0))","v":0},{"$f":"SUM(OFFSET(テストデータ!N3,173,0):OFFSET(テストデータ!P3,173,0))","v":0},{"$f":"SUM(OFFSET(テストデータ!N3,173,0):OFFSET(テストデータ!R3,173,0))","v":0},{"$f":"SUM(OFFSET(テストデータ!W3,173,0):OFFSET(テストデータ!Y3,173,0))","v":0},{"$f":"SUM(OFFSET(テストデータ!W3,173,0):OFFSET(テストデータ!AA3,173,0))","v":0},{"$f":"SUM(OFFSET(テストデータ!AF3,173,0):OFFSET(テストデータ!AH3,173,0))","v":0},{"$f":"SUM(OFFSET(テストデータ!AF3,173,0):OFFSET(テストデータ!AJ3,173,0))","v":0},{"$f":"SUM(OFFSET(テストデータ!AO3,173,0):OFFSET(テストデータ!AQ3,173,0))","v":0},{"$f":"SUM(OFFSET(テストデータ!AO3,173,0):OFFSET(テストデータ!AS3,173,0))","v":0},{"$f":"SUM(OFFSET(テストデータ!AX3,173,0):OFFSET(テストデータ!AZ3,173,0))","v":0},{"$f":"SUM(OFFSET(テストデータ!AX3,173,0):OFFSET(テストデータ!BB3,173,0))","v":0},{"$f":"SUM(OFFSET(テストデータ!BG3,173,0):OFFSET(テストデータ!BI3,173,0))","v":0},{"$f":"SUM(OFFSET(テストデータ!BG3,173,0):OFFSET(テストデータ!BK3,173,0))","v":0},{"$f":"SUM(OFFSET(テストデータ!BL3,173,0):OFFSET(テストデータ!BN3,173,0))","v":0},{"$f":"SUM(OFFSET(テストデータ!BL3,173,0):OFFSET(テストデータ!BP3,173,0))","v":0},{"$f":"SUM(OFFSET(テストデータ!BQ3,173,0):OFFSET(テストデータ!BS3,173,0))","v":0},{"$f":"SUM(OFFSET(テストデータ!BQ3,173,0):OFFSET(テストデータ!BU3,173,0))","v":0},{"$f":"SUM(OFFSET(テストデータ!BV3,173,0):OFFSET(テストデータ!BX3,173,0))","v":0},{"$f":"SUM(OFFSET(テストデータ!BV3,173,0):OFFSET(テストデータ!BZ3,173,0))","v":0},{"$f":"SUM(OFFSET(テストデータ!CA3,173,0):OFFSET(テストデータ!CC3,173,0))","v":0},{"$f":"SUM(OFFSET(テストデータ!CA3,173,0):OFFSET(テストデータ!CE3,173,0))","v":0},{"$f":"SUM(OFFSET(テストデータ!CF3,173,0):OFFSET(テストデータ!CH3,173,0))","v":0},{"$f":"SUM(OFFSET(テストデータ!CF3,173,0):OFFSET(テストデータ!CJ3,173,0))","v":0},{"$f":"SUM(OFFSET(テストデータ!CK3,173,0):OFFSET(テストデータ!CM3,173,0))","v":0},{"$f":"SUM(OFFSET(テストデータ!CK3,173,0):OFFSET(テストデータ!CO3,173,0))","v":0},{"$f":"SUM(OFFSET(テストデータ!CP3,173,0):OFFSET(テストデータ!CR3,173,0))","v":0},{"$f":"SUM(OFFSET(テストデータ!CP3,173,0):OFFSET(テストデータ!CT3,173,0))","v":0}]
[null,null,null,null,null,null,null,null,null,null,null,null,null,{"$f":"SUM(OFFSET(テストデータ!$E3,174,9*成績表1!$B$4-9):OFFSET(テストデータ!$G3,174,9*成績表1!$B$4-9))","v":0},{"$f":"SUM(OFFSET(テストデータ!$E3,174,9*成績表1!$B$4-9):OFFSET(テストデータ!I3,174,9*成績表1!$B$4-9))","v":0},{"$f":"SUM(OFFSET(テストデータ!E3,174,0):OFFSET(テストデータ!G3,174,0))","v":0},{"$f":"SUM(OFFSET(テストデータ!E3,174,0):OFFSET(テストデータ!I3,174,0))","v":0},{"$f":"SUM(OFFSET(テストデータ!N3,174,0):OFFSET(テストデータ!P3,174,0))","v":0},{"$f":"SUM(OFFSET(テストデータ!N3,174,0):OFFSET(テストデータ!R3,174,0))","v":0},{"$f":"SUM(OFFSET(テストデータ!W3,174,0):OFFSET(テストデータ!Y3,174,0))","v":0},{"$f":"SUM(OFFSET(テストデータ!W3,174,0):OFFSET(テストデータ!AA3,174,0))","v":0},{"$f":"SUM(OFFSET(テストデータ!AF3,174,0):OFFSET(テストデータ!AH3,174,0))","v":0},{"$f":"SUM(OFFSET(テストデータ!AF3,174,0):OFFSET(テストデータ!AJ3,174,0))","v":0},{"$f":"SUM(OFFSET(テストデータ!AO3,174,0):OFFSET(テストデータ!AQ3,174,0))","v":0},{"$f":"SUM(OFFSET(テストデータ!AO3,174,0):OFFSET(テストデータ!AS3,174,0))","v":0},{"$f":"SUM(OFFSET(テストデータ!AX3,174,0):OFFSET(テストデータ!AZ3,174,0))","v":0},{"$f":"SUM(OFFSET(テストデータ!AX3,174,0):OFFSET(テストデータ!BB3,174,0))","v":0},{"$f":"SUM(OFFSET(テストデータ!BG3,174,0):OFFSET(テストデータ!BI3,174,0))","v":0},{"$f":"SUM(OFFSET(テストデータ!BG3,174,0):OFFSET(テストデータ!BK3,174,0))","v":0},{"$f":"SUM(OFFSET(テストデータ!BL3,174,0):OFFSET(テストデータ!BN3,174,0))","v":0},{"$f":"SUM(OFFSET(テストデータ!BL3,174,0):OFFSET(テストデータ!BP3,174,0))","v":0},{"$f":"SUM(OFFSET(テストデータ!BQ3,174,0):OFFSET(テストデータ!BS3,174,0))","v":0},{"$f":"SUM(OFFSET(テストデータ!BQ3,174,0):OFFSET(テストデータ!BU3,174,0))","v":0},{"$f":"SUM(OFFSET(テストデータ!BV3,174,0):OFFSET(テストデータ!BX3,174,0))","v":0},{"$f":"SUM(OFFSET(テストデータ!BV3,174,0):OFFSET(テストデータ!BZ3,174,0))","v":0},{"$f":"SUM(OFFSET(テストデータ!CA3,174,0):OFFSET(テストデータ!CC3,174,0))","v":0},{"$f":"SUM(OFFSET(テストデータ!CA3,174,0):OFFSET(テストデータ!CE3,174,0))","v":0},{"$f":"SUM(OFFSET(テストデータ!CF3,174,0):OFFSET(テストデータ!CH3,174,0))","v":0},{"$f":"SUM(OFFSET(テストデータ!CF3,174,0):OFFSET(テストデータ!CJ3,174,0))","v":0},{"$f":"SUM(OFFSET(テストデータ!CK3,174,0):OFFSET(テストデータ!CM3,174,0))","v":0},{"$f":"SUM(OFFSET(テストデータ!CK3,174,0):OFFSET(テストデータ!CO3,174,0))","v":0},{"$f":"SUM(OFFSET(テストデータ!CP3,174,0):OFFSET(テストデータ!CR3,174,0))","v":0},{"$f":"SUM(OFFSET(テストデータ!CP3,174,0):OFFSET(テストデータ!CT3,174,0))","v":0}]
[null,null,null,null,null,null,null,null,null,null,null,null,null,{"$f":"SUM(OFFSET(テストデータ!$E3,175,9*成績表1!$B$4-9):OFFSET(テストデータ!$G3,175,9*成績表1!$B$4-9))","v":0},{"$f":"SUM(OFFSET(テストデータ!$E3,175,9*成績表1!$B$4-9):OFFSET(テストデータ!I3,175,9*成績表1!$B$4-9))","v":0},{"$f":"SUM(OFFSET(テストデータ!E3,175,0):OFFSET(テストデータ!G3,175,0))","v":0},{"$f":"SUM(OFFSET(テストデータ!E3,175,0):OFFSET(テストデータ!I3,175,0))","v":0},{"$f":"SUM(OFFSET(テストデータ!N3,175,0):OFFSET(テストデータ!P3,175,0))","v":0},{"$f":"SUM(OFFSET(テストデータ!N3,175,0):OFFSET(テストデータ!R3,175,0))","v":0},{"$f":"SUM(OFFSET(テストデータ!W3,175,0):OFFSET(テストデータ!Y3,175,0))","v":0},{"$f":"SUM(OFFSET(テストデータ!W3,175,0):OFFSET(テストデータ!AA3,175,0))","v":0},{"$f":"SUM(OFFSET(テストデータ!AF3,175,0):OFFSET(テストデータ!AH3,175,0))","v":0},{"$f":"SUM(OFFSET(テストデータ!AF3,175,0):OFFSET(テストデータ!AJ3,175,0))","v":0},{"$f":"SUM(OFFSET(テストデータ!AO3,175,0):OFFSET(テストデータ!AQ3,175,0))","v":0},{"$f":"SUM(OFFSET(テストデータ!AO3,175,0):OFFSET(テストデータ!AS3,175,0))","v":0},{"$f":"SUM(OFFSET(テストデータ!AX3,175,0):OFFSET(テストデータ!AZ3,175,0))","v":0},{"$f":"SUM(OFFSET(テストデータ!AX3,175,0):OFFSET(テストデータ!BB3,175,0))","v":0},{"$f":"SUM(OFFSET(テストデータ!BG3,175,0):OFFSET(テストデータ!BI3,175,0))","v":0},{"$f":"SUM(OFFSET(テストデータ!BG3,175,0):OFFSET(テストデータ!BK3,175,0))","v":0},{"$f":"SUM(OFFSET(テストデータ!BL3,175,0):OFFSET(テストデータ!BN3,175,0))","v":0},{"$f":"SUM(OFFSET(テストデータ!BL3,175,0):OFFSET(テストデータ!BP3,175,0))","v":0},{"$f":"SUM(OFFSET(テストデータ!BQ3,175,0):OFFSET(テストデータ!BS3,175,0))","v":0},{"$f":"SUM(OFFSET(テストデータ!BQ3,175,0):OFFSET(テストデータ!BU3,175,0))","v":0},{"$f":"SUM(OFFSET(テストデータ!BV3,175,0):OFFSET(テストデータ!BX3,175,0))","v":0},{"$f":"SUM(OFFSET(テストデータ!BV3,175,0):OFFSET(テストデータ!BZ3,175,0))","v":0},{"$f":"SUM(OFFSET(テストデータ!CA3,175,0):OFFSET(テストデータ!CC3,175,0))","v":0},{"$f":"SUM(OFFSET(テストデータ!CA3,175,0):OFFSET(テストデータ!CE3,175,0))","v":0},{"$f":"SUM(OFFSET(テストデータ!CF3,175,0):OFFSET(テストデータ!CH3,175,0))","v":0},{"$f":"SUM(OFFSET(テストデータ!CF3,175,0):OFFSET(テストデータ!CJ3,175,0))","v":0},{"$f":"SUM(OFFSET(テストデータ!CK3,175,0):OFFSET(テストデータ!CM3,175,0))","v":0},{"$f":"SUM(OFFSET(テストデータ!CK3,175,0):OFFSET(テストデータ!CO3,175,0))","v":0},{"$f":"SUM(OFFSET(テストデータ!CP3,175,0):OFFSET(テストデータ!CR3,175,0))","v":0},{"$f":"SUM(OFFSET(テストデータ!CP3,175,0):OFFSET(テストデータ!CT3,175,0))","v":0}]
[null,null,null,null,null,null,null,null,null,null,null,null,null,{"$f":"SUM(OFFSET(テストデータ!$E3,176,9*成績表1!$B$4-9):OFFSET(テストデータ!$G3,176,9*成績表1!$B$4-9))","v":0},{"$f":"SUM(OFFSET(テストデータ!$E3,176,9*成績表1!$B$4-9):OFFSET(テストデータ!I3,176,9*成績表1!$B$4-9))","v":0},{"$f":"SUM(OFFSET(テストデータ!E3,176,0):OFFSET(テストデータ!G3,176,0))","v":0},{"$f":"SUM(OFFSET(テストデータ!E3,176,0):OFFSET(テストデータ!I3,176,0))","v":0},{"$f":"SUM(OFFSET(テストデータ!N3,176,0):OFFSET(テストデータ!P3,176,0))","v":0},{"$f":"SUM(OFFSET(テストデータ!N3,176,0):OFFSET(テストデータ!R3,176,0))","v":0},{"$f":"SUM(OFFSET(テストデータ!W3,176,0):OFFSET(テストデータ!Y3,176,0))","v":0},{"$f":"SUM(OFFSET(テストデータ!W3,176,0):OFFSET(テストデータ!AA3,176,0))","v":0},{"$f":"SUM(OFFSET(テストデータ!AF3,176,0):OFFSET(テストデータ!AH3,176,0))","v":0},{"$f":"SUM(OFFSET(テストデータ!AF3,176,0):OFFSET(テストデータ!AJ3,176,0))","v":0},{"$f":"SUM(OFFSET(テストデータ!AO3,176,0):OFFSET(テストデータ!AQ3,176,0))","v":0},{"$f":"SUM(OFFSET(テストデータ!AO3,176,0):OFFSET(テストデータ!AS3,176,0))","v":0},{"$f":"SUM(OFFSET(テストデータ!AX3,176,0):OFFSET(テストデータ!AZ3,176,0))","v":0},{"$f":"SUM(OFFSET(テストデータ!AX3,176,0):OFFSET(テストデータ!BB3,176,0))","v":0},{"$f":"SUM(OFFSET(テストデータ!BG3,176,0):OFFSET(テストデータ!BI3,176,0))","v":0},{"$f":"SUM(OFFSET(テストデータ!BG3,176,0):OFFSET(テストデータ!BK3,176,0))","v":0},{"$f":"SUM(OFFSET(テストデータ!BL3,176,0):OFFSET(テストデータ!BN3,176,0))","v":0},{"$f":"SUM(OFFSET(テストデータ!BL3,176,0):OFFSET(テストデータ!BP3,176,0))","v":0},{"$f":"SUM(OFFSET(テストデータ!BQ3,176,0):OFFSET(テストデータ!BS3,176,0))","v":0},{"$f":"SUM(OFFSET(テストデータ!BQ3,176,0):OFFSET(テストデータ!BU3,176,0))","v":0},{"$f":"SUM(OFFSET(テストデータ!BV3,176,0):OFFSET(テストデータ!BX3,176,0))","v":0},{"$f":"SUM(OFFSET(テストデータ!BV3,176,0):OFFSET(テストデータ!BZ3,176,0))","v":0},{"$f":"SUM(OFFSET(テストデータ!CA3,176,0):OFFSET(テストデータ!CC3,176,0))","v":0},{"$f":"SUM(OFFSET(テストデータ!CA3,176,0):OFFSET(テストデータ!CE3,176,0))","v":0},{"$f":"SUM(OFFSET(テストデータ!CF3,176,0):OFFSET(テストデータ!CH3,176,0))","v":0},{"$f":"SUM(OFFSET(テストデータ!CF3,176,0):OFFSET(テストデータ!CJ3,176,0))","v":0},{"$f":"SUM(OFFSET(テストデータ!CK3,176,0):OFFSET(テストデータ!CM3,176,0))","v":0},{"$f":"SUM(OFFSET(テストデータ!CK3,176,0):OFFSET(テストデータ!CO3,176,0))","v":0},{"$f":"SUM(OFFSET(テストデータ!CP3,176,0):OFFSET(テストデータ!CR3,176,0))","v":0},{"$f":"SUM(OFFSET(テストデータ!CP3,176,0):OFFSET(テストデータ!CT3,176,0))","v":0}]
[null,null,null,null,null,null,null,null,null,null,null,null,null,{"$f":"SUM(OFFSET(テストデータ!$E3,177,9*成績表1!$B$4-9):OFFSET(テストデータ!$G3,177,9*成績表1!$B$4-9))","v":0},{"$f":"SUM(OFFSET(テストデータ!$E3,177,9*成績表1!$B$4-9):OFFSET(テストデータ!I3,177,9*成績表1!$B$4-9))","v":0},{"$f":"SUM(OFFSET(テストデータ!E3,177,0):OFFSET(テストデータ!G3,177,0))","v":0},{"$f":"SUM(OFFSET(テストデータ!E3,177,0):OFFSET(テストデータ!I3,177,0))","v":0},{"$f":"SUM(OFFSET(テストデータ!N3,177,0):OFFSET(テストデータ!P3,177,0))","v":0},{"$f":"SUM(OFFSET(テストデータ!N3,177,0):OFFSET(テストデータ!R3,177,0))","v":0},{"$f":"SUM(OFFSET(テストデータ!W3,177,0):OFFSET(テストデータ!Y3,177,0))","v":0},{"$f":"SUM(OFFSET(テストデータ!W3,177,0):OFFSET(テストデータ!AA3,177,0))","v":0},{"$f":"SUM(OFFSET(テストデータ!AF3,177,0):OFFSET(テストデータ!AH3,177,0))","v":0},{"$f":"SUM(OFFSET(テストデータ!AF3,177,0):OFFSET(テストデータ!AJ3,177,0))","v":0},{"$f":"SUM(OFFSET(テストデータ!AO3,177,0):OFFSET(テストデータ!AQ3,177,0))","v":0},{"$f":"SUM(OFFSET(テストデータ!AO3,177,0):OFFSET(テストデータ!AS3,177,0))","v":0},{"$f":"SUM(OFFSET(テストデータ!AX3,177,0):OFFSET(テストデータ!AZ3,177,0))","v":0},{"$f":"SUM(OFFSET(テストデータ!AX3,177,0):OFFSET(テストデータ!BB3,177,0))","v":0},{"$f":"SUM(OFFSET(テストデータ!BG3,177,0):OFFSET(テストデータ!BI3,177,0))","v":0},{"$f":"SUM(OFFSET(テストデータ!BG3,177,0):OFFSET(テストデータ!BK3,177,0))","v":0},{"$f":"SUM(OFFSET(テストデータ!BL3,177,0):OFFSET(テストデータ!BN3,177,0))","v":0},{"$f":"SUM(OFFSET(テストデータ!BL3,177,0):OFFSET(テストデータ!BP3,177,0))","v":0},{"$f":"SUM(OFFSET(テストデータ!BQ3,177,0):OFFSET(テストデータ!BS3,177,0))","v":0},{"$f":"SUM(OFFSET(テストデータ!BQ3,177,0):OFFSET(テストデータ!BU3,177,0))","v":0},{"$f":"SUM(OFFSET(テストデータ!BV3,177,0):OFFSET(テストデータ!BX3,177,0))","v":0},{"$f":"SUM(OFFSET(テストデータ!BV3,177,0):OFFSET(テストデータ!BZ3,177,0))","v":0},{"$f":"SUM(OFFSET(テストデータ!CA3,177,0):OFFSET(テストデータ!CC3,177,0))","v":0},{"$f":"SUM(OFFSET(テストデータ!CA3,177,0):OFFSET(テストデータ!CE3,177,0))","v":0},{"$f":"SUM(OFFSET(テストデータ!CF3,177,0):OFFSET(テストデータ!CH3,177,0))","v":0},{"$f":"SUM(OFFSET(テストデータ!CF3,177,0):OFFSET(テストデータ!CJ3,177,0))","v":0},{"$f":"SUM(OFFSET(テストデータ!CK3,177,0):OFFSET(テストデータ!CM3,177,0))","v":0},{"$f":"SUM(OFFSET(テストデータ!CK3,177,0):OFFSET(テストデータ!CO3,177,0))","v":0},{"$f":"SUM(OFFSET(テストデータ!CP3,177,0):OFFSET(テストデータ!CR3,177,0))","v":0},{"$f":"SUM(OFFSET(テストデータ!CP3,177,0):OFFSET(テストデータ!CT3,177,0))","v":0}]
[null,null,null,null,null,null,null,null,null,null,null,null,null,{"$f":"SUM(OFFSET(テストデータ!$E3,178,9*成績表1!$B$4-9):OFFSET(テストデータ!$G3,178,9*成績表1!$B$4-9))","v":0},{"$f":"SUM(OFFSET(テストデータ!$E3,178,9*成績表1!$B$4-9):OFFSET(テストデータ!I3,178,9*成績表1!$B$4-9))","v":0},{"$f":"SUM(OFFSET(テストデータ!E3,178,0):OFFSET(テストデータ!G3,178,0))","v":0},{"$f":"SUM(OFFSET(テストデータ!E3,178,0):OFFSET(テストデータ!I3,178,0))","v":0},{"$f":"SUM(OFFSET(テストデータ!N3,178,0):OFFSET(テストデータ!P3,178,0))","v":0},{"$f":"SUM(OFFSET(テストデータ!N3,178,0):OFFSET(テストデータ!R3,178,0))","v":0},{"$f":"SUM(OFFSET(テストデータ!W3,178,0):OFFSET(テストデータ!Y3,178,0))","v":0},{"$f":"SUM(OFFSET(テストデータ!W3,178,0):OFFSET(テストデータ!AA3,178,0))","v":0},{"$f":"SUM(OFFSET(テストデータ!AF3,178,0):OFFSET(テストデータ!AH3,178,0))","v":0},{"$f":"SUM(OFFSET(テストデータ!AF3,178,0):OFFSET(テストデータ!AJ3,178,0))","v":0},{"$f":"SUM(OFFSET(テストデータ!AO3,178,0):OFFSET(テストデータ!AQ3,178,0))","v":0},{"$f":"SUM(OFFSET(テストデータ!AO3,178,0):OFFSET(テストデータ!AS3,178,0))","v":0},{"$f":"SUM(OFFSET(テストデータ!AX3,178,0):OFFSET(テストデータ!AZ3,178,0))","v":0},{"$f":"SUM(OFFSET(テストデータ!AX3,178,0):OFFSET(テストデータ!BB3,178,0))","v":0},{"$f":"SUM(OFFSET(テストデータ!BG3,178,0):OFFSET(テストデータ!BI3,178,0))","v":0},{"$f":"SUM(OFFSET(テストデータ!BG3,178,0):OFFSET(テストデータ!BK3,178,0))","v":0},{"$f":"SUM(OFFSET(テストデータ!BL3,178,0):OFFSET(テストデータ!BN3,178,0))","v":0},{"$f":"SUM(OFFSET(テストデータ!BL3,178,0):OFFSET(テストデータ!BP3,178,0))","v":0},{"$f":"SUM(OFFSET(テストデータ!BQ3,178,0):OFFSET(テストデータ!BS3,178,0))","v":0},{"$f":"SUM(OFFSET(テストデータ!BQ3,178,0):OFFSET(テストデータ!BU3,178,0))","v":0},{"$f":"SUM(OFFSET(テストデータ!BV3,178,0):OFFSET(テストデータ!BX3,178,0))","v":0},{"$f":"SUM(OFFSET(テストデータ!BV3,178,0):OFFSET(テストデータ!BZ3,178,0))","v":0},{"$f":"SUM(OFFSET(テストデータ!CA3,178,0):OFFSET(テストデータ!CC3,178,0))","v":0},{"$f":"SUM(OFFSET(テストデータ!CA3,178,0):OFFSET(テストデータ!CE3,178,0))","v":0},{"$f":"SUM(OFFSET(テストデータ!CF3,178,0):OFFSET(テストデータ!CH3,178,0))","v":0},{"$f":"SUM(OFFSET(テストデータ!CF3,178,0):OFFSET(テストデータ!CJ3,178,0))","v":0},{"$f":"SUM(OFFSET(テストデータ!CK3,178,0):OFFSET(テストデータ!CM3,178,0))","v":0},{"$f":"SUM(OFFSET(テストデータ!CK3,178,0):OFFSET(テストデータ!CO3,178,0))","v":0},{"$f":"SUM(OFFSET(テストデータ!CP3,178,0):OFFSET(テストデータ!CR3,178,0))","v":0},{"$f":"SUM(OFFSET(テストデータ!CP3,178,0):OFFSET(テストデータ!CT3,178,0))","v":0}]
[null,null,null,null,null,null,null,null,null,null,null,null,null,{"$f":"SUM(OFFSET(テストデータ!$E3,179,9*成績表1!$B$4-9):OFFSET(テストデータ!$G3,179,9*成績表1!$B$4-9))","v":0},{"$f":"SUM(OFFSET(テストデータ!$E3,179,9*成績表1!$B$4-9):OFFSET(テストデータ!I3,179,9*成績表1!$B$4-9))","v":0},{"$f":"SUM(OFFSET(テストデータ!E3,179,0):OFFSET(テストデータ!G3,179,0))","v":0},{"$f":"SUM(OFFSET(テストデータ!E3,179,0):OFFSET(テストデータ!I3,179,0))","v":0},{"$f":"SUM(OFFSET(テストデータ!N3,179,0):OFFSET(テストデータ!P3,179,0))","v":0},{"$f":"SUM(OFFSET(テストデータ!N3,179,0):OFFSET(テストデータ!R3,179,0))","v":0},{"$f":"SUM(OFFSET(テストデータ!W3,179,0):OFFSET(テストデータ!Y3,179,0))","v":0},{"$f":"SUM(OFFSET(テストデータ!W3,179,0):OFFSET(テストデータ!AA3,179,0))","v":0},{"$f":"SUM(OFFSET(テストデータ!AF3,179,0):OFFSET(テストデータ!AH3,179,0))","v":0},{"$f":"SUM(OFFSET(テストデータ!AF3,179,0):OFFSET(テストデータ!AJ3,179,0))","v":0},{"$f":"SUM(OFFSET(テストデータ!AO3,179,0):OFFSET(テストデータ!AQ3,179,0))","v":0},{"$f":"SUM(OFFSET(テストデータ!AO3,179,0):OFFSET(テストデータ!AS3,179,0))","v":0},{"$f":"SUM(OFFSET(テストデータ!AX3,179,0):OFFSET(テストデータ!AZ3,179,0))","v":0},{"$f":"SUM(OFFSET(テストデータ!AX3,179,0):OFFSET(テストデータ!BB3,179,0))","v":0},{"$f":"SUM(OFFSET(テストデータ!BG3,179,0):OFFSET(テストデータ!BI3,179,0))","v":0},{"$f":"SUM(OFFSET(テストデータ!BG3,179,0):OFFSET(テストデータ!BK3,179,0))","v":0},{"$f":"SUM(OFFSET(テストデータ!BL3,179,0):OFFSET(テストデータ!BN3,179,0))","v":0},{"$f":"SUM(OFFSET(テストデータ!BL3,179,0):OFFSET(テストデータ!BP3,179,0))","v":0},{"$f":"SUM(OFFSET(テストデータ!BQ3,179,0):OFFSET(テストデータ!BS3,179,0))","v":0},{"$f":"SUM(OFFSET(テストデータ!BQ3,179,0):OFFSET(テストデータ!BU3,179,0))","v":0},{"$f":"SUM(OFFSET(テストデータ!BV3,179,0):OFFSET(テストデータ!BX3,179,0))","v":0},{"$f":"SUM(OFFSET(テストデータ!BV3,179,0):OFFSET(テストデータ!BZ3,179,0))","v":0},{"$f":"SUM(OFFSET(テストデータ!CA3,179,0):OFFSET(テストデータ!CC3,179,0))","v":0},{"$f":"SUM(OFFSET(テストデータ!CA3,179,0):OFFSET(テストデータ!CE3,179,0))","v":0},{"$f":"SUM(OFFSET(テストデータ!CF3,179,0):OFFSET(テストデータ!CH3,179,0))","v":0},{"$f":"SUM(OFFSET(テストデータ!CF3,179,0):OFFSET(テストデータ!CJ3,179,0))","v":0},{"$f":"SUM(OFFSET(テストデータ!CK3,179,0):OFFSET(テストデータ!CM3,179,0))","v":0},{"$f":"SUM(OFFSET(テストデータ!CK3,179,0):OFFSET(テストデータ!CO3,179,0))","v":0},{"$f":"SUM(OFFSET(テストデータ!CP3,179,0):OFFSET(テストデータ!CR3,179,0))","v":0},{"$f":"SUM(OFFSET(テストデータ!CP3,179,0):OFFSET(テストデータ!CT3,179,0))","v":0}]
[null,null,null,null,null,null,null,null,null,null,null,null,null,{"$f":"SUM(OFFSET(テストデータ!$E3,180,9*成績表1!$B$4-9):OFFSET(テストデータ!$G3,180,9*成績表1!$B$4-9))","v":0},{"$f":"SUM(OFFSET(テストデータ!$E3,180,9*成績表1!$B$4-9):OFFSET(テストデータ!I3,180,9*成績表1!$B$4-9))","v":0},{"$f":"SUM(OFFSET(テストデータ!E3,180,0):OFFSET(テストデータ!G3,180,0))","v":0},{"$f":"SUM(OFFSET(テストデータ!E3,180,0):OFFSET(テストデータ!I3,180,0))","v":0},{"$f":"SUM(OFFSET(テストデータ!N3,180,0):OFFSET(テストデータ!P3,180,0))","v":0},{"$f":"SUM(OFFSET(テストデータ!N3,180,0):OFFSET(テストデータ!R3,180,0))","v":0},{"$f":"SUM(OFFSET(テストデータ!W3,180,0):OFFSET(テストデータ!Y3,180,0))","v":0},{"$f":"SUM(OFFSET(テストデータ!W3,180,0):OFFSET(テストデータ!AA3,180,0))","v":0},{"$f":"SUM(OFFSET(テストデータ!AF3,180,0):OFFSET(テストデータ!AH3,180,0))","v":0},{"$f":"SUM(OFFSET(テストデータ!AF3,180,0):OFFSET(テストデータ!AJ3,180,0))","v":0},{"$f":"SUM(OFFSET(テストデータ!AO3,180,0):OFFSET(テストデータ!AQ3,180,0))","v":0},{"$f":"SUM(OFFSET(テストデータ!AO3,180,0):OFFSET(テストデータ!AS3,180,0))","v":0},{"$f":"SUM(OFFSET(テストデータ!AX3,180,0):OFFSET(テストデータ!AZ3,180,0))","v":0},{"$f":"SUM(OFFSET(テストデータ!AX3,180,0):OFFSET(テストデータ!BB3,180,0))","v":0},{"$f":"SUM(OFFSET(テストデータ!BG3,180,0):OFFSET(テストデータ!BI3,180,0))","v":0},{"$f":"SUM(OFFSET(テストデータ!BG3,180,0):OFFSET(テストデータ!BK3,180,0))","v":0},{"$f":"SUM(OFFSET(テストデータ!BL3,180,0):OFFSET(テストデータ!BN3,180,0))","v":0},{"$f":"SUM(OFFSET(テストデータ!BL3,180,0):OFFSET(テストデータ!BP3,180,0))","v":0},{"$f":"SUM(OFFSET(テストデータ!BQ3,180,0):OFFSET(テストデータ!BS3,180,0))","v":0},{"$f":"SUM(OFFSET(テストデータ!BQ3,180,0):OFFSET(テストデータ!BU3,180,0))","v":0},{"$f":"SUM(OFFSET(テストデータ!BV3,180,0):OFFSET(テストデータ!BX3,180,0))","v":0},{"$f":"SUM(OFFSET(テストデータ!BV3,180,0):OFFSET(テストデータ!BZ3,180,0))","v":0},{"$f":"SUM(OFFSET(テストデータ!CA3,180,0):OFFSET(テストデータ!CC3,180,0))","v":0},{"$f":"SUM(OFFSET(テストデータ!CA3,180,0):OFFSET(テストデータ!CE3,180,0))","v":0},{"$f":"SUM(OFFSET(テストデータ!CF3,180,0):OFFSET(テストデータ!CH3,180,0))","v":0},{"$f":"SUM(OFFSET(テストデータ!CF3,180,0):OFFSET(テストデータ!CJ3,180,0))","v":0},{"$f":"SUM(OFFSET(テストデータ!CK3,180,0):OFFSET(テストデータ!CM3,180,0))","v":0},{"$f":"SUM(OFFSET(テストデータ!CK3,180,0):OFFSET(テストデータ!CO3,180,0))","v":0},{"$f":"SUM(OFFSET(テストデータ!CP3,180,0):OFFSET(テストデータ!CR3,180,0))","v":0},{"$f":"SUM(OFFSET(テストデータ!CP3,180,0):OFFSET(テストデータ!CT3,180,0))","v":0}]
[null,null,null,null,null,null,null,null,null,null,null,null,null,{"$f":"SUM(OFFSET(テストデータ!$E3,181,9*成績表1!$B$4-9):OFFSET(テストデータ!$G3,181,9*成績表1!$B$4-9))","v":0},{"$f":"SUM(OFFSET(テストデータ!$E3,181,9*成績表1!$B$4-9):OFFSET(テストデータ!I3,181,9*成績表1!$B$4-9))","v":0},{"$f":"SUM(OFFSET(テストデータ!E3,181,0):OFFSET(テストデータ!G3,181,0))","v":0},{"$f":"SUM(OFFSET(テストデータ!E3,181,0):OFFSET(テストデータ!I3,181,0))","v":0},{"$f":"SUM(OFFSET(テストデータ!N3,181,0):OFFSET(テストデータ!P3,181,0))","v":0},{"$f":"SUM(OFFSET(テストデータ!N3,181,0):OFFSET(テストデータ!R3,181,0))","v":0},{"$f":"SUM(OFFSET(テストデータ!W3,181,0):OFFSET(テストデータ!Y3,181,0))","v":0},{"$f":"SUM(OFFSET(テストデータ!W3,181,0):OFFSET(テストデータ!AA3,181,0))","v":0},{"$f":"SUM(OFFSET(テストデータ!AF3,181,0):OFFSET(テストデータ!AH3,181,0))","v":0},{"$f":"SUM(OFFSET(テストデータ!AF3,181,0):OFFSET(テストデータ!AJ3,181,0))","v":0},{"$f":"SUM(OFFSET(テストデータ!AO3,181,0):OFFSET(テストデータ!AQ3,181,0))","v":0},{"$f":"SUM(OFFSET(テストデータ!AO3,181,0):OFFSET(テストデータ!AS3,181,0))","v":0},{"$f":"SUM(OFFSET(テストデータ!AX3,181,0):OFFSET(テストデータ!AZ3,181,0))","v":0},{"$f":"SUM(OFFSET(テストデータ!AX3,181,0):OFFSET(テストデータ!BB3,181,0))","v":0},{"$f":"SUM(OFFSET(テストデータ!BG3,181,0):OFFSET(テストデータ!BI3,181,0))","v":0},{"$f":"SUM(OFFSET(テストデータ!BG3,181,0):OFFSET(テストデータ!BK3,181,0))","v":0},{"$f":"SUM(OFFSET(テストデータ!BL3,181,0):OFFSET(テストデータ!BN3,181,0))","v":0},{"$f":"SUM(OFFSET(テストデータ!BL3,181,0):OFFSET(テストデータ!BP3,181,0))","v":0},{"$f":"SUM(OFFSET(テストデータ!BQ3,181,0):OFFSET(テストデータ!BS3,181,0))","v":0},{"$f":"SUM(OFFSET(テストデータ!BQ3,181,0):OFFSET(テストデータ!BU3,181,0))","v":0},{"$f":"SUM(OFFSET(テストデータ!BV3,181,0):OFFSET(テストデータ!BX3,181,0))","v":0},{"$f":"SUM(OFFSET(テストデータ!BV3,181,0):OFFSET(テストデータ!BZ3,181,0))","v":0},{"$f":"SUM(OFFSET(テストデータ!CA3,181,0):OFFSET(テストデータ!CC3,181,0))","v":0},{"$f":"SUM(OFFSET(テストデータ!CA3,181,0):OFFSET(テストデータ!CE3,181,0))","v":0},{"$f":"SUM(OFFSET(テストデータ!CF3,181,0):OFFSET(テストデータ!CH3,181,0))","v":0},{"$f":"SUM(OFFSET(テストデータ!CF3,181,0):OFFSET(テストデータ!CJ3,181,0))","v":0},{"$f":"SUM(OFFSET(テストデータ!CK3,181,0):OFFSET(テストデータ!CM3,181,0))","v":0},{"$f":"SUM(OFFSET(テストデータ!CK3,181,0):OFFSET(テストデータ!CO3,181,0))","v":0},{"$f":"SUM(OFFSET(テストデータ!CP3,181,0):OFFSET(テストデータ!CR3,181,0))","v":0},{"$f":"SUM(OFFSET(テストデータ!CP3,181,0):OFFSET(テストデータ!CT3,181,0))","v":0}]
[null,null,null,null,null,null,null,null,null,null,null,null,null,{"$f":"SUM(OFFSET(テストデータ!$E3,182,9*成績表1!$B$4-9):OFFSET(テストデータ!$G3,182,9*成績表1!$B$4-9))","v":0},{"$f":"SUM(OFFSET(テストデータ!$E3,182,9*成績表1!$B$4-9):OFFSET(テストデータ!I3,182,9*成績表1!$B$4-9))","v":0},{"$f":"SUM(OFFSET(テストデータ!E3,182,0):OFFSET(テストデータ!G3,182,0))","v":0},{"$f":"SUM(OFFSET(テストデータ!E3,182,0):OFFSET(テストデータ!I3,182,0))","v":0},{"$f":"SUM(OFFSET(テストデータ!N3,182,0):OFFSET(テストデータ!P3,182,0))","v":0},{"$f":"SUM(OFFSET(テストデータ!N3,182,0):OFFSET(テストデータ!R3,182,0))","v":0},{"$f":"SUM(OFFSET(テストデータ!W3,182,0):OFFSET(テストデータ!Y3,182,0))","v":0},{"$f":"SUM(OFFSET(テストデータ!W3,182,0):OFFSET(テストデータ!AA3,182,0))","v":0},{"$f":"SUM(OFFSET(テストデータ!AF3,182,0):OFFSET(テストデータ!AH3,182,0))","v":0},{"$f":"SUM(OFFSET(テストデータ!AF3,182,0):OFFSET(テストデータ!AJ3,182,0))","v":0},{"$f":"SUM(OFFSET(テストデータ!AO3,182,0):OFFSET(テストデータ!AQ3,182,0))","v":0},{"$f":"SUM(OFFSET(テストデータ!AO3,182,0):OFFSET(テストデータ!AS3,182,0))","v":0},{"$f":"SUM(OFFSET(テストデータ!AX3,182,0):OFFSET(テストデータ!AZ3,182,0))","v":0},{"$f":"SUM(OFFSET(テストデータ!AX3,182,0):OFFSET(テストデータ!BB3,182,0))","v":0},{"$f":"SUM(OFFSET(テストデータ!BG3,182,0):OFFSET(テストデータ!BI3,182,0))","v":0},{"$f":"SUM(OFFSET(テストデータ!BG3,182,0):OFFSET(テストデータ!BK3,182,0))","v":0},{"$f":"SUM(OFFSET(テストデータ!BL3,182,0):OFFSET(テストデータ!BN3,182,0))","v":0},{"$f":"SUM(OFFSET(テストデータ!BL3,182,0):OFFSET(テストデータ!BP3,182,0))","v":0},{"$f":"SUM(OFFSET(テストデータ!BQ3,182,0):OFFSET(テストデータ!BS3,182,0))","v":0},{"$f":"SUM(OFFSET(テストデータ!BQ3,182,0):OFFSET(テストデータ!BU3,182,0))","v":0},{"$f":"SUM(OFFSET(テストデータ!BV3,182,0):OFFSET(テストデータ!BX3,182,0))","v":0},{"$f":"SUM(OFFSET(テストデータ!BV3,182,0):OFFSET(テストデータ!BZ3,182,0))","v":0},{"$f":"SUM(OFFSET(テストデータ!CA3,182,0):OFFSET(テストデータ!CC3,182,0))","v":0},{"$f":"SUM(OFFSET(テストデータ!CA3,182,0):OFFSET(テストデータ!CE3,182,0))","v":0},{"$f":"SUM(OFFSET(テストデータ!CF3,182,0):OFFSET(テストデータ!CH3,182,0))","v":0},{"$f":"SUM(OFFSET(テストデータ!CF3,182,0):OFFSET(テストデータ!CJ3,182,0))","v":0},{"$f":"SUM(OFFSET(テストデータ!CK3,182,0):OFFSET(テストデータ!CM3,182,0))","v":0},{"$f":"SUM(OFFSET(テストデータ!CK3,182,0):OFFSET(テストデータ!CO3,182,0))","v":0},{"$f":"SUM(OFFSET(テストデータ!CP3,182,0):OFFSET(テストデータ!CR3,182,0))","v":0},{"$f":"SUM(OFFSET(テストデータ!CP3,182,0):OFFSET(テストデータ!CT3,182,0))","v":0}]
[null,null,null,null,null,null,null,null,null,null,null,null,null,{"$f":"SUM(OFFSET(テストデータ!$E3,183,9*成績表1!$B$4-9):OFFSET(テストデータ!$G3,183,9*成績表1!$B$4-9))","v":0},{"$f":"SUM(OFFSET(テストデータ!$E3,183,9*成績表1!$B$4-9):OFFSET(テストデータ!I3,183,9*成績表1!$B$4-9))","v":0},{"$f":"SUM(OFFSET(テストデータ!E3,183,0):OFFSET(テストデータ!G3,183,0))","v":0},{"$f":"SUM(OFFSET(テストデータ!E3,183,0):OFFSET(テストデータ!I3,183,0))","v":0},{"$f":"SUM(OFFSET(テストデータ!N3,183,0):OFFSET(テストデータ!P3,183,0))","v":0},{"$f":"SUM(OFFSET(テストデータ!N3,183,0):OFFSET(テストデータ!R3,183,0))","v":0},{"$f":"SUM(OFFSET(テストデータ!W3,183,0):OFFSET(テストデータ!Y3,183,0))","v":0},{"$f":"SUM(OFFSET(テストデータ!W3,183,0):OFFSET(テストデータ!AA3,183,0))","v":0},{"$f":"SUM(OFFSET(テストデータ!AF3,183,0):OFFSET(テストデータ!AH3,183,0))","v":0},{"$f":"SUM(OFFSET(テストデータ!AF3,183,0):OFFSET(テストデータ!AJ3,183,0))","v":0},{"$f":"SUM(OFFSET(テストデータ!AO3,183,0):OFFSET(テストデータ!AQ3,183,0))","v":0},{"$f":"SUM(OFFSET(テストデータ!AO3,183,0):OFFSET(テストデータ!AS3,183,0))","v":0},{"$f":"SUM(OFFSET(テストデータ!AX3,183,0):OFFSET(テストデータ!AZ3,183,0))","v":0},{"$f":"SUM(OFFSET(テストデータ!AX3,183,0):OFFSET(テストデータ!BB3,183,0))","v":0},{"$f":"SUM(OFFSET(テストデータ!BG3,183,0):OFFSET(テストデータ!BI3,183,0))","v":0},{"$f":"SUM(OFFSET(テストデータ!BG3,183,0):OFFSET(テストデータ!BK3,183,0))","v":0},{"$f":"SUM(OFFSET(テストデータ!BL3,183,0):OFFSET(テストデータ!BN3,183,0))","v":0},{"$f":"SUM(OFFSET(テストデータ!BL3,183,0):OFFSET(テストデータ!BP3,183,0))","v":0},{"$f":"SUM(OFFSET(テストデータ!BQ3,183,0):OFFSET(テストデータ!BS3,183,0))","v":0},{"$f":"SUM(OFFSET(テストデータ!BQ3,183,0):OFFSET(テストデータ!BU3,183,0))","v":0},{"$f":"SUM(OFFSET(テストデータ!BV3,183,0):OFFSET(テストデータ!BX3,183,0))","v":0},{"$f":"SUM(OFFSET(テストデータ!BV3,183,0):OFFSET(テストデータ!BZ3,183,0))","v":0},{"$f":"SUM(OFFSET(テストデータ!CA3,183,0):OFFSET(テストデータ!CC3,183,0))","v":0},{"$f":"SUM(OFFSET(テストデータ!CA3,183,0):OFFSET(テストデータ!CE3,183,0))","v":0},{"$f":"SUM(OFFSET(テストデータ!CF3,183,0):OFFSET(テストデータ!CH3,183,0))","v":0},{"$f":"SUM(OFFSET(テストデータ!CF3,183,0):OFFSET(テストデータ!CJ3,183,0))","v":0},{"$f":"SUM(OFFSET(テストデータ!CK3,183,0):OFFSET(テストデータ!CM3,183,0))","v":0},{"$f":"SUM(OFFSET(テストデータ!CK3,183,0):OFFSET(テストデータ!CO3,183,0))","v":0},{"$f":"SUM(OFFSET(テストデータ!CP3,183,0):OFFSET(テストデータ!CR3,183,0))","v":0},{"$f":"SUM(OFFSET(テストデータ!CP3,183,0):OFFSET(テストデータ!CT3,183,0))","v":0}]
[null,null,null,null,null,null,null,null,null,null,null,null,null,{"$f":"SUM(OFFSET(テストデータ!$E3,184,9*成績表1!$B$4-9):OFFSET(テストデータ!$G3,184,9*成績表1!$B$4-9))","v":0},{"$f":"SUM(OFFSET(テストデータ!$E3,184,9*成績表1!$B$4-9):OFFSET(テストデータ!I3,184,9*成績表1!$B$4-9))","v":0},{"$f":"SUM(OFFSET(テストデータ!E3,184,0):OFFSET(テストデータ!G3,184,0))","v":0},{"$f":"SUM(OFFSET(テストデータ!E3,184,0):OFFSET(テストデータ!I3,184,0))","v":0},{"$f":"SUM(OFFSET(テストデータ!N3,184,0):OFFSET(テストデータ!P3,184,0))","v":0},{"$f":"SUM(OFFSET(テストデータ!N3,184,0):OFFSET(テストデータ!R3,184,0))","v":0},{"$f":"SUM(OFFSET(テストデータ!W3,184,0):OFFSET(テストデータ!Y3,184,0))","v":0},{"$f":"SUM(OFFSET(テストデータ!W3,184,0):OFFSET(テストデータ!AA3,184,0))","v":0},{"$f":"SUM(OFFSET(テストデータ!AF3,184,0):OFFSET(テストデータ!AH3,184,0))","v":0},{"$f":"SUM(OFFSET(テストデータ!AF3,184,0):OFFSET(テストデータ!AJ3,184,0))","v":0},{"$f":"SUM(OFFSET(テストデータ!AO3,184,0):OFFSET(テストデータ!AQ3,184,0))","v":0},{"$f":"SUM(OFFSET(テストデータ!AO3,184,0):OFFSET(テストデータ!AS3,184,0))","v":0},{"$f":"SUM(OFFSET(テストデータ!AX3,184,0):OFFSET(テストデータ!AZ3,184,0))","v":0},{"$f":"SUM(OFFSET(テストデータ!AX3,184,0):OFFSET(テストデータ!BB3,184,0))","v":0},{"$f":"SUM(OFFSET(テストデータ!BG3,184,0):OFFSET(テストデータ!BI3,184,0))","v":0},{"$f":"SUM(OFFSET(テストデータ!BG3,184,0):OFFSET(テストデータ!BK3,184,0))","v":0},{"$f":"SUM(OFFSET(テストデータ!BL3,184,0):OFFSET(テストデータ!BN3,184,0))","v":0},{"$f":"SUM(OFFSET(テストデータ!BL3,184,0):OFFSET(テストデータ!BP3,184,0))","v":0},{"$f":"SUM(OFFSET(テストデータ!BQ3,184,0):OFFSET(テストデータ!BS3,184,0))","v":0},{"$f":"SUM(OFFSET(テストデータ!BQ3,184,0):OFFSET(テストデータ!BU3,184,0))","v":0},{"$f":"SUM(OFFSET(テストデータ!BV3,184,0):OFFSET(テストデータ!BX3,184,0))","v":0},{"$f":"SUM(OFFSET(テストデータ!BV3,184,0):OFFSET(テストデータ!BZ3,184,0))","v":0},{"$f":"SUM(OFFSET(テストデータ!CA3,184,0):OFFSET(テストデータ!CC3,184,0))","v":0},{"$f":"SUM(OFFSET(テストデータ!CA3,184,0):OFFSET(テストデータ!CE3,184,0))","v":0},{"$f":"SUM(OFFSET(テストデータ!CF3,184,0):OFFSET(テストデータ!CH3,184,0))","v":0},{"$f":"SUM(OFFSET(テストデータ!CF3,184,0):OFFSET(テストデータ!CJ3,184,0))","v":0},{"$f":"SUM(OFFSET(テストデータ!CK3,184,0):OFFSET(テストデータ!CM3,184,0))","v":0},{"$f":"SUM(OFFSET(テストデータ!CK3,184,0):OFFSET(テストデータ!CO3,184,0))","v":0},{"$f":"SUM(OFFSET(テストデータ!CP3,184,0):OFFSET(テストデータ!CR3,184,0))","v":0},{"$f":"SUM(OFFSET(テストデータ!CP3,184,0):OFFSET(テストデータ!CT3,184,0))","v":0}]
[null,null,null,null,null,null,null,null,null,null,null,null,null,{"$f":"SUM(OFFSET(テストデータ!$E3,185,9*成績表1!$B$4-9):OFFSET(テストデータ!$G3,185,9*成績表1!$B$4-9))","v":0},{"$f":"SUM(OFFSET(テストデータ!$E3,185,9*成績表1!$B$4-9):OFFSET(テストデータ!I3,185,9*成績表1!$B$4-9))","v":0},{"$f":"SUM(OFFSET(テストデータ!E3,185,0):OFFSET(テストデータ!G3,185,0))","v":0},{"$f":"SUM(OFFSET(テストデータ!E3,185,0):OFFSET(テストデータ!I3,185,0))","v":0},{"$f":"SUM(OFFSET(テストデータ!N3,185,0):OFFSET(テストデータ!P3,185,0))","v":0},{"$f":"SUM(OFFSET(テストデータ!N3,185,0):OFFSET(テストデータ!R3,185,0))","v":0},{"$f":"SUM(OFFSET(テストデータ!W3,185,0):OFFSET(テストデータ!Y3,185,0))","v":0},{"$f":"SUM(OFFSET(テストデータ!W3,185,0):OFFSET(テストデータ!AA3,185,0))","v":0},{"$f":"SUM(OFFSET(テストデータ!AF3,185,0):OFFSET(テストデータ!AH3,185,0))","v":0},{"$f":"SUM(OFFSET(テストデータ!AF3,185,0):OFFSET(テストデータ!AJ3,185,0))","v":0},{"$f":"SUM(OFFSET(テストデータ!AO3,185,0):OFFSET(テストデータ!AQ3,185,0))","v":0},{"$f":"SUM(OFFSET(テストデータ!AO3,185,0):OFFSET(テストデータ!AS3,185,0))","v":0},{"$f":"SUM(OFFSET(テストデータ!AX3,185,0):OFFSET(テストデータ!AZ3,185,0))","v":0},{"$f":"SUM(OFFSET(テストデータ!AX3,185,0):OFFSET(テストデータ!BB3,185,0))","v":0},{"$f":"SUM(OFFSET(テストデータ!BG3,185,0):OFFSET(テストデータ!BI3,185,0))","v":0},{"$f":"SUM(OFFSET(テストデータ!BG3,185,0):OFFSET(テストデータ!BK3,185,0))","v":0},{"$f":"SUM(OFFSET(テストデータ!BL3,185,0):OFFSET(テストデータ!BN3,185,0))","v":0},{"$f":"SUM(OFFSET(テストデータ!BL3,185,0):OFFSET(テストデータ!BP3,185,0))","v":0},{"$f":"SUM(OFFSET(テストデータ!BQ3,185,0):OFFSET(テストデータ!BS3,185,0))","v":0},{"$f":"SUM(OFFSET(テストデータ!BQ3,185,0):OFFSET(テストデータ!BU3,185,0))","v":0},{"$f":"SUM(OFFSET(テストデータ!BV3,185,0):OFFSET(テストデータ!BX3,185,0))","v":0},{"$f":"SUM(OFFSET(テストデータ!BV3,185,0):OFFSET(テストデータ!BZ3,185,0))","v":0},{"$f":"SUM(OFFSET(テストデータ!CA3,185,0):OFFSET(テストデータ!CC3,185,0))","v":0},{"$f":"SUM(OFFSET(テストデータ!CA3,185,0):OFFSET(テストデータ!CE3,185,0))","v":0},{"$f":"SUM(OFFSET(テストデータ!CF3,185,0):OFFSET(テストデータ!CH3,185,0))","v":0},{"$f":"SUM(OFFSET(テストデータ!CF3,185,0):OFFSET(テストデータ!CJ3,185,0))","v":0},{"$f":"SUM(OFFSET(テストデータ!CK3,185,0):OFFSET(テストデータ!CM3,185,0))","v":0},{"$f":"SUM(OFFSET(テストデータ!CK3,185,0):OFFSET(テストデータ!CO3,185,0))","v":0},{"$f":"SUM(OFFSET(テストデータ!CP3,185,0):OFFSET(テストデータ!CR3,185,0))","v":0},{"$f":"SUM(OFFSET(テストデータ!CP3,185,0):OFFSET(テストデータ!CT3,185,0))","v":0}]
[null,null,null,null,null,null,null,null,null,null,null,null,null,{"$f":"SUM(OFFSET(テストデータ!$E3,186,9*成績表1!$B$4-9):OFFSET(テストデータ!$G3,186,9*成績表1!$B$4-9))","v":0},{"$f":"SUM(OFFSET(テストデータ!$E3,186,9*成績表1!$B$4-9):OFFSET(テストデータ!I3,186,9*成績表1!$B$4-9))","v":0},{"$f":"SUM(OFFSET(テストデータ!E3,186,0):OFFSET(テストデータ!G3,186,0))","v":0},{"$f":"SUM(OFFSET(テストデータ!E3,186,0):OFFSET(テストデータ!I3,186,0))","v":0},{"$f":"SUM(OFFSET(テストデータ!N3,186,0):OFFSET(テストデータ!P3,186,0))","v":0},{"$f":"SUM(OFFSET(テストデータ!N3,186,0):OFFSET(テストデータ!R3,186,0))","v":0},{"$f":"SUM(OFFSET(テストデータ!W3,186,0):OFFSET(テストデータ!Y3,186,0))","v":0},{"$f":"SUM(OFFSET(テストデータ!W3,186,0):OFFSET(テストデータ!AA3,186,0))","v":0},{"$f":"SUM(OFFSET(テストデータ!AF3,186,0):OFFSET(テストデータ!AH3,186,0))","v":0},{"$f":"SUM(OFFSET(テストデータ!AF3,186,0):OFFSET(テストデータ!AJ3,186,0))","v":0},{"$f":"SUM(OFFSET(テストデータ!AO3,186,0):OFFSET(テストデータ!AQ3,186,0))","v":0},{"$f":"SUM(OFFSET(テストデータ!AO3,186,0):OFFSET(テストデータ!AS3,186,0))","v":0},{"$f":"SUM(OFFSET(テストデータ!AX3,186,0):OFFSET(テストデータ!AZ3,186,0))","v":0},{"$f":"SUM(OFFSET(テストデータ!AX3,186,0):OFFSET(テストデータ!BB3,186,0))","v":0},{"$f":"SUM(OFFSET(テストデータ!BG3,186,0):OFFSET(テストデータ!BI3,186,0))","v":0},{"$f":"SUM(OFFSET(テストデータ!BG3,186,0):OFFSET(テストデータ!BK3,186,0))","v":0},{"$f":"SUM(OFFSET(テストデータ!BL3,186,0):OFFSET(テストデータ!BN3,186,0))","v":0},{"$f":"SUM(OFFSET(テストデータ!BL3,186,0):OFFSET(テストデータ!BP3,186,0))","v":0},{"$f":"SUM(OFFSET(テストデータ!BQ3,186,0):OFFSET(テストデータ!BS3,186,0))","v":0},{"$f":"SUM(OFFSET(テストデータ!BQ3,186,0):OFFSET(テストデータ!BU3,186,0))","v":0},{"$f":"SUM(OFFSET(テストデータ!BV3,186,0):OFFSET(テストデータ!BX3,186,0))","v":0},{"$f":"SUM(OFFSET(テストデータ!BV3,186,0):OFFSET(テストデータ!BZ3,186,0))","v":0},{"$f":"SUM(OFFSET(テストデータ!CA3,186,0):OFFSET(テストデータ!CC3,186,0))","v":0},{"$f":"SUM(OFFSET(テストデータ!CA3,186,0):OFFSET(テストデータ!CE3,186,0))","v":0},{"$f":"SUM(OFFSET(テストデータ!CF3,186,0):OFFSET(テストデータ!CH3,186,0))","v":0},{"$f":"SUM(OFFSET(テストデータ!CF3,186,0):OFFSET(テストデータ!CJ3,186,0))","v":0},{"$f":"SUM(OFFSET(テストデータ!CK3,186,0):OFFSET(テストデータ!CM3,186,0))","v":0},{"$f":"SUM(OFFSET(テストデータ!CK3,186,0):OFFSET(テストデータ!CO3,186,0))","v":0},{"$f":"SUM(OFFSET(テストデータ!CP3,186,0):OFFSET(テストデータ!CR3,186,0))","v":0},{"$f":"SUM(OFFSET(テストデータ!CP3,186,0):OFFSET(テストデータ!CT3,186,0))","v":0}]
[null,null,null,null,null,null,null,null,null,null,null,null,null,{"$f":"SUM(OFFSET(テストデータ!$E3,187,9*成績表1!$B$4-9):OFFSET(テストデータ!$G3,187,9*成績表1!$B$4-9))","v":0},{"$f":"SUM(OFFSET(テストデータ!$E3,187,9*成績表1!$B$4-9):OFFSET(テストデータ!I3,187,9*成績表1!$B$4-9))","v":0},{"$f":"SUM(OFFSET(テストデータ!E3,187,0):OFFSET(テストデータ!G3,187,0))","v":0},{"$f":"SUM(OFFSET(テストデータ!E3,187,0):OFFSET(テストデータ!I3,187,0))","v":0},{"$f":"SUM(OFFSET(テストデータ!N3,187,0):OFFSET(テストデータ!P3,187,0))","v":0},{"$f":"SUM(OFFSET(テストデータ!N3,187,0):OFFSET(テストデータ!R3,187,0))","v":0},{"$f":"SUM(OFFSET(テストデータ!W3,187,0):OFFSET(テストデータ!Y3,187,0))","v":0},{"$f":"SUM(OFFSET(テストデータ!W3,187,0):OFFSET(テストデータ!AA3,187,0))","v":0},{"$f":"SUM(OFFSET(テストデータ!AF3,187,0):OFFSET(テストデータ!AH3,187,0))","v":0},{"$f":"SUM(OFFSET(テストデータ!AF3,187,0):OFFSET(テストデータ!AJ3,187,0))","v":0},{"$f":"SUM(OFFSET(テストデータ!AO3,187,0):OFFSET(テストデータ!AQ3,187,0))","v":0},{"$f":"SUM(OFFSET(テストデータ!AO3,187,0):OFFSET(テストデータ!AS3,187,0))","v":0},{"$f":"SUM(OFFSET(テストデータ!AX3,187,0):OFFSET(テストデータ!AZ3,187,0))","v":0},{"$f":"SUM(OFFSET(テストデータ!AX3,187,0):OFFSET(テストデータ!BB3,187,0))","v":0},{"$f":"SUM(OFFSET(テストデータ!BG3,187,0):OFFSET(テストデータ!BI3,187,0))","v":0},{"$f":"SUM(OFFSET(テストデータ!BG3,187,0):OFFSET(テストデータ!BK3,187,0))","v":0},{"$f":"SUM(OFFSET(テストデータ!BL3,187,0):OFFSET(テストデータ!BN3,187,0))","v":0},{"$f":"SUM(OFFSET(テストデータ!BL3,187,0):OFFSET(テストデータ!BP3,187,0))","v":0},{"$f":"SUM(OFFSET(テストデータ!BQ3,187,0):OFFSET(テストデータ!BS3,187,0))","v":0},{"$f":"SUM(OFFSET(テストデータ!BQ3,187,0):OFFSET(テストデータ!BU3,187,0))","v":0},{"$f":"SUM(OFFSET(テストデータ!BV3,187,0):OFFSET(テストデータ!BX3,187,0))","v":0},{"$f":"SUM(OFFSET(テストデータ!BV3,187,0):OFFSET(テストデータ!BZ3,187,0))","v":0},{"$f":"SUM(OFFSET(テストデータ!CA3,187,0):OFFSET(テストデータ!CC3,187,0))","v":0},{"$f":"SUM(OFFSET(テストデータ!CA3,187,0):OFFSET(テストデータ!CE3,187,0))","v":0},{"$f":"SUM(OFFSET(テストデータ!CF3,187,0):OFFSET(テストデータ!CH3,187,0))","v":0},{"$f":"SUM(OFFSET(テストデータ!CF3,187,0):OFFSET(テストデータ!CJ3,187,0))","v":0},{"$f":"SUM(OFFSET(テストデータ!CK3,187,0):OFFSET(テストデータ!CM3,187,0))","v":0},{"$f":"SUM(OFFSET(テストデータ!CK3,187,0):OFFSET(テストデータ!CO3,187,0))","v":0},{"$f":"SUM(OFFSET(テストデータ!CP3,187,0):OFFSET(テストデータ!CR3,187,0))","v":0},{"$f":"SUM(OFFSET(テストデータ!CP3,187,0):OFFSET(テストデータ!CT3,187,0))","v":0}]
[null,null,null,null,null,null,null,null,null,null,null,null,null,{"$f":"SUM(OFFSET(テストデータ!$E3,188,9*成績表1!$B$4-9):OFFSET(テストデータ!$G3,188,9*成績表1!$B$4-9))","v":0},{"$f":"SUM(OFFSET(テストデータ!$E3,188,9*成績表1!$B$4-9):OFFSET(テストデータ!I3,188,9*成績表1!$B$4-9))","v":0},{"$f":"SUM(OFFSET(テストデータ!E3,188,0):OFFSET(テストデータ!G3,188,0))","v":0},{"$f":"SUM(OFFSET(テストデータ!E3,188,0):OFFSET(テストデータ!I3,188,0))","v":0},{"$f":"SUM(OFFSET(テストデータ!N3,188,0):OFFSET(テストデータ!P3,188,0))","v":0},{"$f":"SUM(OFFSET(テストデータ!N3,188,0):OFFSET(テストデータ!R3,188,0))","v":0},{"$f":"SUM(OFFSET(テストデータ!W3,188,0):OFFSET(テストデータ!Y3,188,0))","v":0},{"$f":"SUM(OFFSET(テストデータ!W3,188,0):OFFSET(テストデータ!AA3,188,0))","v":0},{"$f":"SUM(OFFSET(テストデータ!AF3,188,0):OFFSET(テストデータ!AH3,188,0))","v":0},{"$f":"SUM(OFFSET(テストデータ!AF3,188,0):OFFSET(テストデータ!AJ3,188,0))","v":0},{"$f":"SUM(OFFSET(テストデータ!AO3,188,0):OFFSET(テストデータ!AQ3,188,0))","v":0},{"$f":"SUM(OFFSET(テストデータ!AO3,188,0):OFFSET(テストデータ!AS3,188,0))","v":0},{"$f":"SUM(OFFSET(テストデータ!AX3,188,0):OFFSET(テストデータ!AZ3,188,0))","v":0},{"$f":"SUM(OFFSET(テストデータ!AX3,188,0):OFFSET(テストデータ!BB3,188,0))","v":0},{"$f":"SUM(OFFSET(テストデータ!BG3,188,0):OFFSET(テストデータ!BI3,188,0))","v":0},{"$f":"SUM(OFFSET(テストデータ!BG3,188,0):OFFSET(テストデータ!BK3,188,0))","v":0},{"$f":"SUM(OFFSET(テストデータ!BL3,188,0):OFFSET(テストデータ!BN3,188,0))","v":0},{"$f":"SUM(OFFSET(テストデータ!BL3,188,0):OFFSET(テストデータ!BP3,188,0))","v":0},{"$f":"SUM(OFFSET(テストデータ!BQ3,188,0):OFFSET(テストデータ!BS3,188,0))","v":0},{"$f":"SUM(OFFSET(テストデータ!BQ3,188,0):OFFSET(テストデータ!BU3,188,0))","v":0},{"$f":"SUM(OFFSET(テストデータ!BV3,188,0):OFFSET(テストデータ!BX3,188,0))","v":0},{"$f":"SUM(OFFSET(テストデータ!BV3,188,0):OFFSET(テストデータ!BZ3,188,0))","v":0},{"$f":"SUM(OFFSET(テストデータ!CA3,188,0):OFFSET(テストデータ!CC3,188,0))","v":0},{"$f":"SUM(OFFSET(テストデータ!CA3,188,0):OFFSET(テストデータ!CE3,188,0))","v":0},{"$f":"SUM(OFFSET(テストデータ!CF3,188,0):OFFSET(テストデータ!CH3,188,0))","v":0},{"$f":"SUM(OFFSET(テストデータ!CF3,188,0):OFFSET(テストデータ!CJ3,188,0))","v":0},{"$f":"SUM(OFFSET(テストデータ!CK3,188,0):OFFSET(テストデータ!CM3,188,0))","v":0},{"$f":"SUM(OFFSET(テストデータ!CK3,188,0):OFFSET(テストデータ!CO3,188,0))","v":0},{"$f":"SUM(OFFSET(テストデータ!CP3,188,0):OFFSET(テストデータ!CR3,188,0))","v":0},{"$f":"SUM(OFFSET(テストデータ!CP3,188,0):OFFSET(テストデータ!CT3,188,0))","v":0}]
[null,null,null,null,null,null,null,null,null,null,null,null,null,{"$f":"SUM(OFFSET(テストデータ!$E3,189,9*成績表1!$B$4-9):OFFSET(テストデータ!$G3,189,9*成績表1!$B$4-9))","v":0},{"$f":"SUM(OFFSET(テストデータ!$E3,189,9*成績表1!$B$4-9):OFFSET(テストデータ!I3,189,9*成績表1!$B$4-9))","v":0},{"$f":"SUM(OFFSET(テストデータ!E3,189,0):OFFSET(テストデータ!G3,189,0))","v":0},{"$f":"SUM(OFFSET(テストデータ!E3,189,0):OFFSET(テストデータ!I3,189,0))","v":0},{"$f":"SUM(OFFSET(テストデータ!N3,189,0):OFFSET(テストデータ!P3,189,0))","v":0},{"$f":"SUM(OFFSET(テストデータ!N3,189,0):OFFSET(テストデータ!R3,189,0))","v":0},{"$f":"SUM(OFFSET(テストデータ!W3,189,0):OFFSET(テストデータ!Y3,189,0))","v":0},{"$f":"SUM(OFFSET(テストデータ!W3,189,0):OFFSET(テストデータ!AA3,189,0))","v":0},{"$f":"SUM(OFFSET(テストデータ!AF3,189,0):OFFSET(テストデータ!AH3,189,0))","v":0},{"$f":"SUM(OFFSET(テストデータ!AF3,189,0):OFFSET(テストデータ!AJ3,189,0))","v":0},{"$f":"SUM(OFFSET(テストデータ!AO3,189,0):OFFSET(テストデータ!AQ3,189,0))","v":0},{"$f":"SUM(OFFSET(テストデータ!AO3,189,0):OFFSET(テストデータ!AS3,189,0))","v":0},{"$f":"SUM(OFFSET(テストデータ!AX3,189,0):OFFSET(テストデータ!AZ3,189,0))","v":0},{"$f":"SUM(OFFSET(テストデータ!AX3,189,0):OFFSET(テストデータ!BB3,189,0))","v":0},{"$f":"SUM(OFFSET(テストデータ!BG3,189,0):OFFSET(テストデータ!BI3,189,0))","v":0},{"$f":"SUM(OFFSET(テストデータ!BG3,189,0):OFFSET(テストデータ!BK3,189,0))","v":0},{"$f":"SUM(OFFSET(テストデータ!BL3,189,0):OFFSET(テストデータ!BN3,189,0))","v":0},{"$f":"SUM(OFFSET(テストデータ!BL3,189,0):OFFSET(テストデータ!BP3,189,0))","v":0},{"$f":"SUM(OFFSET(テストデータ!BQ3,189,0):OFFSET(テストデータ!BS3,189,0))","v":0},{"$f":"SUM(OFFSET(テストデータ!BQ3,189,0):OFFSET(テストデータ!BU3,189,0))","v":0},{"$f":"SUM(OFFSET(テストデータ!BV3,189,0):OFFSET(テストデータ!BX3,189,0))","v":0},{"$f":"SUM(OFFSET(テストデータ!BV3,189,0):OFFSET(テストデータ!BZ3,189,0))","v":0},{"$f":"SUM(OFFSET(テストデータ!CA3,189,0):OFFSET(テストデータ!CC3,189,0))","v":0},{"$f":"SUM(OFFSET(テストデータ!CA3,189,0):OFFSET(テストデータ!CE3,189,0))","v":0},{"$f":"SUM(OFFSET(テストデータ!CF3,189,0):OFFSET(テストデータ!CH3,189,0))","v":0},{"$f":"SUM(OFFSET(テストデータ!CF3,189,0):OFFSET(テストデータ!CJ3,189,0))","v":0},{"$f":"SUM(OFFSET(テストデータ!CK3,189,0):OFFSET(テストデータ!CM3,189,0))","v":0},{"$f":"SUM(OFFSET(テストデータ!CK3,189,0):OFFSET(テストデータ!CO3,189,0))","v":0},{"$f":"SUM(OFFSET(テストデータ!CP3,189,0):OFFSET(テストデータ!CR3,189,0))","v":0},{"$f":"SUM(OFFSET(テストデータ!CP3,189,0):OFFSET(テストデータ!CT3,189,0))","v":0}]
[null,null,null,null,null,null,null,null,null,null,null,null,null,{"$f":"SUM(OFFSET(テストデータ!$E3,190,9*成績表1!$B$4-9):OFFSET(テストデータ!$G3,190,9*成績表1!$B$4-9))","v":0},{"$f":"SUM(OFFSET(テストデータ!$E3,190,9*成績表1!$B$4-9):OFFSET(テストデータ!I3,190,9*成績表1!$B$4-9))","v":0},{"$f":"SUM(OFFSET(テストデータ!E3,190,0):OFFSET(テストデータ!G3,190,0))","v":0},{"$f":"SUM(OFFSET(テストデータ!E3,190,0):OFFSET(テストデータ!I3,190,0))","v":0},{"$f":"SUM(OFFSET(テストデータ!N3,190,0):OFFSET(テストデータ!P3,190,0))","v":0},{"$f":"SUM(OFFSET(テストデータ!N3,190,0):OFFSET(テストデータ!R3,190,0))","v":0},{"$f":"SUM(OFFSET(テストデータ!W3,190,0):OFFSET(テストデータ!Y3,190,0))","v":0},{"$f":"SUM(OFFSET(テストデータ!W3,190,0):OFFSET(テストデータ!AA3,190,0))","v":0},{"$f":"SUM(OFFSET(テストデータ!AF3,190,0):OFFSET(テストデータ!AH3,190,0))","v":0},{"$f":"SUM(OFFSET(テストデータ!AF3,190,0):OFFSET(テストデータ!AJ3,190,0))","v":0},{"$f":"SUM(OFFSET(テストデータ!AO3,190,0):OFFSET(テストデータ!AQ3,190,0))","v":0},{"$f":"SUM(OFFSET(テストデータ!AO3,190,0):OFFSET(テストデータ!AS3,190,0))","v":0},{"$f":"SUM(OFFSET(テストデータ!AX3,190,0):OFFSET(テストデータ!AZ3,190,0))","v":0},{"$f":"SUM(OFFSET(テストデータ!AX3,190,0):OFFSET(テストデータ!BB3,190,0))","v":0},{"$f":"SUM(OFFSET(テストデータ!BG3,190,0):OFFSET(テストデータ!BI3,190,0))","v":0},{"$f":"SUM(OFFSET(テストデータ!BG3,190,0):OFFSET(テストデータ!BK3,190,0))","v":0},{"$f":"SUM(OFFSET(テストデータ!BL3,190,0):OFFSET(テストデータ!BN3,190,0))","v":0},{"$f":"SUM(OFFSET(テストデータ!BL3,190,0):OFFSET(テストデータ!BP3,190,0))","v":0},{"$f":"SUM(OFFSET(テストデータ!BQ3,190,0):OFFSET(テストデータ!BS3,190,0))","v":0},{"$f":"SUM(OFFSET(テストデータ!BQ3,190,0):OFFSET(テストデータ!BU3,190,0))","v":0},{"$f":"SUM(OFFSET(テストデータ!BV3,190,0):OFFSET(テストデータ!BX3,190,0))","v":0},{"$f":"SUM(OFFSET(テストデータ!BV3,190,0):OFFSET(テストデータ!BZ3,190,0))","v":0},{"$f":"SUM(OFFSET(テストデータ!CA3,190,0):OFFSET(テストデータ!CC3,190,0))","v":0},{"$f":"SUM(OFFSET(テストデータ!CA3,190,0):OFFSET(テストデータ!CE3,190,0))","v":0},{"$f":"SUM(OFFSET(テストデータ!CF3,190,0):OFFSET(テストデータ!CH3,190,0))","v":0},{"$f":"SUM(OFFSET(テストデータ!CF3,190,0):OFFSET(テストデータ!CJ3,190,0))","v":0},{"$f":"SUM(OFFSET(テストデータ!CK3,190,0):OFFSET(テストデータ!CM3,190,0))","v":0},{"$f":"SUM(OFFSET(テストデータ!CK3,190,0):OFFSET(テストデータ!CO3,190,0))","v":0},{"$f":"SUM(OFFSET(テストデータ!CP3,190,0):OFFSET(テストデータ!CR3,190,0))","v":0},{"$f":"SUM(OFFSET(テストデータ!CP3,190,0):OFFSET(テストデータ!CT3,190,0))","v":0}]
[null,null,null,null,null,null,null,null,null,null,null,null,null,{"$f":"SUM(OFFSET(テストデータ!$E3,191,9*成績表1!$B$4-9):OFFSET(テストデータ!$G3,191,9*成績表1!$B$4-9))","v":0},{"$f":"SUM(OFFSET(テストデータ!$E3,191,9*成績表1!$B$4-9):OFFSET(テストデータ!I3,191,9*成績表1!$B$4-9))","v":0},{"$f":"SUM(OFFSET(テストデータ!E3,191,0):OFFSET(テストデータ!G3,191,0))","v":0},{"$f":"SUM(OFFSET(テストデータ!E3,191,0):OFFSET(テストデータ!I3,191,0))","v":0},{"$f":"SUM(OFFSET(テストデータ!N3,191,0):OFFSET(テストデータ!P3,191,0))","v":0},{"$f":"SUM(OFFSET(テストデータ!N3,191,0):OFFSET(テストデータ!R3,191,0))","v":0},{"$f":"SUM(OFFSET(テストデータ!W3,191,0):OFFSET(テストデータ!Y3,191,0))","v":0},{"$f":"SUM(OFFSET(テストデータ!W3,191,0):OFFSET(テストデータ!AA3,191,0))","v":0},{"$f":"SUM(OFFSET(テストデータ!AF3,191,0):OFFSET(テストデータ!AH3,191,0))","v":0},{"$f":"SUM(OFFSET(テストデータ!AF3,191,0):OFFSET(テストデータ!AJ3,191,0))","v":0},{"$f":"SUM(OFFSET(テストデータ!AO3,191,0):OFFSET(テストデータ!AQ3,191,0))","v":0},{"$f":"SUM(OFFSET(テストデータ!AO3,191,0):OFFSET(テストデータ!AS3,191,0))","v":0},{"$f":"SUM(OFFSET(テストデータ!AX3,191,0):OFFSET(テストデータ!AZ3,191,0))","v":0},{"$f":"SUM(OFFSET(テストデータ!AX3,191,0):OFFSET(テストデータ!BB3,191,0))","v":0},{"$f":"SUM(OFFSET(テストデータ!BG3,191,0):OFFSET(テストデータ!BI3,191,0))","v":0},{"$f":"SUM(OFFSET(テストデータ!BG3,191,0):OFFSET(テストデータ!BK3,191,0))","v":0},{"$f":"SUM(OFFSET(テストデータ!BL3,191,0):OFFSET(テストデータ!BN3,191,0))","v":0},{"$f":"SUM(OFFSET(テストデータ!BL3,191,0):OFFSET(テストデータ!BP3,191,0))","v":0},{"$f":"SUM(OFFSET(テストデータ!BQ3,191,0):OFFSET(テストデータ!BS3,191,0))","v":0},{"$f":"SUM(OFFSET(テストデータ!BQ3,191,0):OFFSET(テストデータ!BU3,191,0))","v":0},{"$f":"SUM(OFFSET(テストデータ!BV3,191,0):OFFSET(テストデータ!BX3,191,0))","v":0},{"$f":"SUM(OFFSET(テストデータ!BV3,191,0):OFFSET(テストデータ!BZ3,191,0))","v":0},{"$f":"SUM(OFFSET(テストデータ!CA3,191,0):OFFSET(テストデータ!CC3,191,0))","v":0},{"$f":"SUM(OFFSET(テストデータ!CA3,191,0):OFFSET(テストデータ!CE3,191,0))","v":0},{"$f":"SUM(OFFSET(テストデータ!CF3,191,0):OFFSET(テストデータ!CH3,191,0))","v":0},{"$f":"SUM(OFFSET(テストデータ!CF3,191,0):OFFSET(テストデータ!CJ3,191,0))","v":0},{"$f":"SUM(OFFSET(テストデータ!CK3,191,0):OFFSET(テストデータ!CM3,191,0))","v":0},{"$f":"SUM(OFFSET(テストデータ!CK3,191,0):OFFSET(テストデータ!CO3,191,0))","v":0},{"$f":"SUM(OFFSET(テストデータ!CP3,191,0):OFFSET(テストデータ!CR3,191,0))","v":0},{"$f":"SUM(OFFSET(テストデータ!CP3,191,0):OFFSET(テストデータ!CT3,191,0))","v":0}]
[null,null,null,null,null,null,null,null,null,null,null,null,null,{"$f":"SUM(OFFSET(テストデータ!$E3,192,9*成績表1!$B$4-9):OFFSET(テストデータ!$G3,192,9*成績表1!$B$4-9))","v":0},{"$f":"SUM(OFFSET(テストデータ!$E3,192,9*成績表1!$B$4-9):OFFSET(テストデータ!I3,192,9*成績表1!$B$4-9))","v":0},{"$f":"SUM(OFFSET(テストデータ!E3,192,0):OFFSET(テストデータ!G3,192,0))","v":0},{"$f":"SUM(OFFSET(テストデータ!E3,192,0):OFFSET(テストデータ!I3,192,0))","v":0},{"$f":"SUM(OFFSET(テストデータ!N3,192,0):OFFSET(テストデータ!P3,192,0))","v":0},{"$f":"SUM(OFFSET(テストデータ!N3,192,0):OFFSET(テストデータ!R3,192,0))","v":0},{"$f":"SUM(OFFSET(テストデータ!W3,192,0):OFFSET(テストデータ!Y3,192,0))","v":0},{"$f":"SUM(OFFSET(テストデータ!W3,192,0):OFFSET(テストデータ!AA3,192,0))","v":0},{"$f":"SUM(OFFSET(テストデータ!AF3,192,0):OFFSET(テストデータ!AH3,192,0))","v":0},{"$f":"SUM(OFFSET(テストデータ!AF3,192,0):OFFSET(テストデータ!AJ3,192,0))","v":0},{"$f":"SUM(OFFSET(テストデータ!AO3,192,0):OFFSET(テストデータ!AQ3,192,0))","v":0},{"$f":"SUM(OFFSET(テストデータ!AO3,192,0):OFFSET(テストデータ!AS3,192,0))","v":0},{"$f":"SUM(OFFSET(テストデータ!AX3,192,0):OFFSET(テストデータ!AZ3,192,0))","v":0},{"$f":"SUM(OFFSET(テストデータ!AX3,192,0):OFFSET(テストデータ!BB3,192,0))","v":0},{"$f":"SUM(OFFSET(テストデータ!BG3,192,0):OFFSET(テストデータ!BI3,192,0))","v":0},{"$f":"SUM(OFFSET(テストデータ!BG3,192,0):OFFSET(テストデータ!BK3,192,0))","v":0},{"$f":"SUM(OFFSET(テストデータ!BL3,192,0):OFFSET(テストデータ!BN3,192,0))","v":0},{"$f":"SUM(OFFSET(テストデータ!BL3,192,0):OFFSET(テストデータ!BP3,192,0))","v":0},{"$f":"SUM(OFFSET(テストデータ!BQ3,192,0):OFFSET(テストデータ!BS3,192,0))","v":0},{"$f":"SUM(OFFSET(テストデータ!BQ3,192,0):OFFSET(テストデータ!BU3,192,0))","v":0},{"$f":"SUM(OFFSET(テストデータ!BV3,192,0):OFFSET(テストデータ!BX3,192,0))","v":0},{"$f":"SUM(OFFSET(テストデータ!BV3,192,0):OFFSET(テストデータ!BZ3,192,0))","v":0},{"$f":"SUM(OFFSET(テストデータ!CA3,192,0):OFFSET(テストデータ!CC3,192,0))","v":0},{"$f":"SUM(OFFSET(テストデータ!CA3,192,0):OFFSET(テストデータ!CE3,192,0))","v":0},{"$f":"SUM(OFFSET(テストデータ!CF3,192,0):OFFSET(テストデータ!CH3,192,0))","v":0},{"$f":"SUM(OFFSET(テストデータ!CF3,192,0):OFFSET(テストデータ!CJ3,192,0))","v":0},{"$f":"SUM(OFFSET(テストデータ!CK3,192,0):OFFSET(テストデータ!CM3,192,0))","v":0},{"$f":"SUM(OFFSET(テストデータ!CK3,192,0):OFFSET(テストデータ!CO3,192,0))","v":0},{"$f":"SUM(OFFSET(テストデータ!CP3,192,0):OFFSET(テストデータ!CR3,192,0))","v":0},{"$f":"SUM(OFFSET(テストデータ!CP3,192,0):OFFSET(テストデータ!CT3,192,0))","v":0}]
[null,null,null,null,null,null,null,null,null,null,null,null,null,{"$f":"SUM(OFFSET(テストデータ!$E3,193,9*成績表1!$B$4-9):OFFSET(テストデータ!$G3,193,9*成績表1!$B$4-9))","v":0},{"$f":"SUM(OFFSET(テストデータ!$E3,193,9*成績表1!$B$4-9):OFFSET(テストデータ!I3,193,9*成績表1!$B$4-9))","v":0},{"$f":"SUM(OFFSET(テストデータ!E3,193,0):OFFSET(テストデータ!G3,193,0))","v":0},{"$f":"SUM(OFFSET(テストデータ!E3,193,0):OFFSET(テストデータ!I3,193,0))","v":0},{"$f":"SUM(OFFSET(テストデータ!N3,193,0):OFFSET(テストデータ!P3,193,0))","v":0},{"$f":"SUM(OFFSET(テストデータ!N3,193,0):OFFSET(テストデータ!R3,193,0))","v":0},{"$f":"SUM(OFFSET(テストデータ!W3,193,0):OFFSET(テストデータ!Y3,193,0))","v":0},{"$f":"SUM(OFFSET(テストデータ!W3,193,0):OFFSET(テストデータ!AA3,193,0))","v":0},{"$f":"SUM(OFFSET(テストデータ!AF3,193,0):OFFSET(テストデータ!AH3,193,0))","v":0},{"$f":"SUM(OFFSET(テストデータ!AF3,193,0):OFFSET(テストデータ!AJ3,193,0))","v":0},{"$f":"SUM(OFFSET(テストデータ!AO3,193,0):OFFSET(テストデータ!AQ3,193,0))","v":0},{"$f":"SUM(OFFSET(テストデータ!AO3,193,0):OFFSET(テストデータ!AS3,193,0))","v":0},{"$f":"SUM(OFFSET(テストデータ!AX3,193,0):OFFSET(テストデータ!AZ3,193,0))","v":0},{"$f":"SUM(OFFSET(テストデータ!AX3,193,0):OFFSET(テストデータ!BB3,193,0))","v":0},{"$f":"SUM(OFFSET(テストデータ!BG3,193,0):OFFSET(テストデータ!BI3,193,0))","v":0},{"$f":"SUM(OFFSET(テストデータ!BG3,193,0):OFFSET(テストデータ!BK3,193,0))","v":0},{"$f":"SUM(OFFSET(テストデータ!BL3,193,0):OFFSET(テストデータ!BN3,193,0))","v":0},{"$f":"SUM(OFFSET(テストデータ!BL3,193,0):OFFSET(テストデータ!BP3,193,0))","v":0},{"$f":"SUM(OFFSET(テストデータ!BQ3,193,0):OFFSET(テストデータ!BS3,193,0))","v":0},{"$f":"SUM(OFFSET(テストデータ!BQ3,193,0):OFFSET(テストデータ!BU3,193,0))","v":0},{"$f":"SUM(OFFSET(テストデータ!BV3,193,0):OFFSET(テストデータ!BX3,193,0))","v":0},{"$f":"SUM(OFFSET(テストデータ!BV3,193,0):OFFSET(テストデータ!BZ3,193,0))","v":0},{"$f":"SUM(OFFSET(テストデータ!CA3,193,0):OFFSET(テストデータ!CC3,193,0))","v":0},{"$f":"SUM(OFFSET(テストデータ!CA3,193,0):OFFSET(テストデータ!CE3,193,0))","v":0},{"$f":"SUM(OFFSET(テストデータ!CF3,193,0):OFFSET(テストデータ!CH3,193,0))","v":0},{"$f":"SUM(OFFSET(テストデータ!CF3,193,0):OFFSET(テストデータ!CJ3,193,0))","v":0},{"$f":"SUM(OFFSET(テストデータ!CK3,193,0):OFFSET(テストデータ!CM3,193,0))","v":0},{"$f":"SUM(OFFSET(テストデータ!CK3,193,0):OFFSET(テストデータ!CO3,193,0))","v":0},{"$f":"SUM(OFFSET(テストデータ!CP3,193,0):OFFSET(テストデータ!CR3,193,0))","v":0},{"$f":"SUM(OFFSET(テストデータ!CP3,193,0):OFFSET(テストデータ!CT3,193,0))","v":0}]
[null,null,null,null,null,null,null,null,null,null,null,null,null,{"$f":"SUM(OFFSET(テストデータ!$E3,194,9*成績表1!$B$4-9):OFFSET(テストデータ!$G3,194,9*成績表1!$B$4-9))","v":0},{"$f":"SUM(OFFSET(テストデータ!$E3,194,9*成績表1!$B$4-9):OFFSET(テストデータ!I3,194,9*成績表1!$B$4-9))","v":0},{"$f":"SUM(OFFSET(テストデータ!E3,194,0):OFFSET(テストデータ!G3,194,0))","v":0},{"$f":"SUM(OFFSET(テストデータ!E3,194,0):OFFSET(テストデータ!I3,194,0))","v":0},{"$f":"SUM(OFFSET(テストデータ!N3,194,0):OFFSET(テストデータ!P3,194,0))","v":0},{"$f":"SUM(OFFSET(テストデータ!N3,194,0):OFFSET(テストデータ!R3,194,0))","v":0},{"$f":"SUM(OFFSET(テストデータ!W3,194,0):OFFSET(テストデータ!Y3,194,0))","v":0},{"$f":"SUM(OFFSET(テストデータ!W3,194,0):OFFSET(テストデータ!AA3,194,0))","v":0},{"$f":"SUM(OFFSET(テストデータ!AF3,194,0):OFFSET(テストデータ!AH3,194,0))","v":0},{"$f":"SUM(OFFSET(テストデータ!AF3,194,0):OFFSET(テストデータ!AJ3,194,0))","v":0},{"$f":"SUM(OFFSET(テストデータ!AO3,194,0):OFFSET(テストデータ!AQ3,194,0))","v":0},{"$f":"SUM(OFFSET(テストデータ!AO3,194,0):OFFSET(テストデータ!AS3,194,0))","v":0},{"$f":"SUM(OFFSET(テストデータ!AX3,194,0):OFFSET(テストデータ!AZ3,194,0))","v":0},{"$f":"SUM(OFFSET(テストデータ!AX3,194,0):OFFSET(テストデータ!BB3,194,0))","v":0},{"$f":"SUM(OFFSET(テストデータ!BG3,194,0):OFFSET(テストデータ!BI3,194,0))","v":0},{"$f":"SUM(OFFSET(テストデータ!BG3,194,0):OFFSET(テストデータ!BK3,194,0))","v":0},{"$f":"SUM(OFFSET(テストデータ!BL3,194,0):OFFSET(テストデータ!BN3,194,0))","v":0},{"$f":"SUM(OFFSET(テストデータ!BL3,194,0):OFFSET(テストデータ!BP3,194,0))","v":0},{"$f":"SUM(OFFSET(テストデータ!BQ3,194,0):OFFSET(テストデータ!BS3,194,0))","v":0},{"$f":"SUM(OFFSET(テストデータ!BQ3,194,0):OFFSET(テストデータ!BU3,194,0))","v":0},{"$f":"SUM(OFFSET(テストデータ!BV3,194,0):OFFSET(テストデータ!BX3,194,0))","v":0},{"$f":"SUM(OFFSET(テストデータ!BV3,194,0):OFFSET(テストデータ!BZ3,194,0))","v":0},{"$f":"SUM(OFFSET(テストデータ!CA3,194,0):OFFSET(テストデータ!CC3,194,0))","v":0},{"$f":"SUM(OFFSET(テストデータ!CA3,194,0):OFFSET(テストデータ!CE3,194,0))","v":0},{"$f":"SUM(OFFSET(テストデータ!CF3,194,0):OFFSET(テストデータ!CH3,194,0))","v":0},{"$f":"SUM(OFFSET(テストデータ!CF3,194,0):OFFSET(テストデータ!CJ3,194,0))","v":0},{"$f":"SUM(OFFSET(テストデータ!CK3,194,0):OFFSET(テストデータ!CM3,194,0))","v":0},{"$f":"SUM(OFFSET(テストデータ!CK3,194,0):OFFSET(テストデータ!CO3,194,0))","v":0},{"$f":"SUM(OFFSET(テストデータ!CP3,194,0):OFFSET(テストデータ!CR3,194,0))","v":0},{"$f":"SUM(OFFSET(テストデータ!CP3,194,0):OFFSET(テストデータ!CT3,194,0))","v":0}]
[null,null,null,null,null,null,null,null,null,null,null,null,null,{"$f":"SUM(OFFSET(テストデータ!$E3,195,9*成績表1!$B$4-9):OFFSET(テストデータ!$G3,195,9*成績表1!$B$4-9))","v":0},{"$f":"SUM(OFFSET(テストデータ!$E3,195,9*成績表1!$B$4-9):OFFSET(テストデータ!I3,195,9*成績表1!$B$4-9))","v":0},{"$f":"SUM(OFFSET(テストデータ!E3,195,0):OFFSET(テストデータ!G3,195,0))","v":0},{"$f":"SUM(OFFSET(テストデータ!E3,195,0):OFFSET(テストデータ!I3,195,0))","v":0},{"$f":"SUM(OFFSET(テストデータ!N3,195,0):OFFSET(テストデータ!P3,195,0))","v":0},{"$f":"SUM(OFFSET(テストデータ!N3,195,0):OFFSET(テストデータ!R3,195,0))","v":0},{"$f":"SUM(OFFSET(テストデータ!W3,195,0):OFFSET(テストデータ!Y3,195,0))","v":0},{"$f":"SUM(OFFSET(テストデータ!W3,195,0):OFFSET(テストデータ!AA3,195,0))","v":0},{"$f":"SUM(OFFSET(テストデータ!AF3,195,0):OFFSET(テストデータ!AH3,195,0))","v":0},{"$f":"SUM(OFFSET(テストデータ!AF3,195,0):OFFSET(テストデータ!AJ3,195,0))","v":0},{"$f":"SUM(OFFSET(テストデータ!AO3,195,0):OFFSET(テストデータ!AQ3,195,0))","v":0},{"$f":"SUM(OFFSET(テストデータ!AO3,195,0):OFFSET(テストデータ!AS3,195,0))","v":0},{"$f":"SUM(OFFSET(テストデータ!AX3,195,0):OFFSET(テストデータ!AZ3,195,0))","v":0},{"$f":"SUM(OFFSET(テストデータ!AX3,195,0):OFFSET(テストデータ!BB3,195,0))","v":0},{"$f":"SUM(OFFSET(テストデータ!BG3,195,0):OFFSET(テストデータ!BI3,195,0))","v":0},{"$f":"SUM(OFFSET(テストデータ!BG3,195,0):OFFSET(テストデータ!BK3,195,0))","v":0},{"$f":"SUM(OFFSET(テストデータ!BL3,195,0):OFFSET(テストデータ!BN3,195,0))","v":0},{"$f":"SUM(OFFSET(テストデータ!BL3,195,0):OFFSET(テストデータ!BP3,195,0))","v":0},{"$f":"SUM(OFFSET(テストデータ!BQ3,195,0):OFFSET(テストデータ!BS3,195,0))","v":0},{"$f":"SUM(OFFSET(テストデータ!BQ3,195,0):OFFSET(テストデータ!BU3,195,0))","v":0},{"$f":"SUM(OFFSET(テストデータ!BV3,195,0):OFFSET(テストデータ!BX3,195,0))","v":0},{"$f":"SUM(OFFSET(テストデータ!BV3,195,0):OFFSET(テストデータ!BZ3,195,0))","v":0},{"$f":"SUM(OFFSET(テストデータ!CA3,195,0):OFFSET(テストデータ!CC3,195,0))","v":0},{"$f":"SUM(OFFSET(テストデータ!CA3,195,0):OFFSET(テストデータ!CE3,195,0))","v":0},{"$f":"SUM(OFFSET(テストデータ!CF3,195,0):OFFSET(テストデータ!CH3,195,0))","v":0},{"$f":"SUM(OFFSET(テストデータ!CF3,195,0):OFFSET(テストデータ!CJ3,195,0))","v":0},{"$f":"SUM(OFFSET(テストデータ!CK3,195,0):OFFSET(テストデータ!CM3,195,0))","v":0},{"$f":"SUM(OFFSET(テストデータ!CK3,195,0):OFFSET(テストデータ!CO3,195,0))","v":0},{"$f":"SUM(OFFSET(テストデータ!CP3,195,0):OFFSET(テストデータ!CR3,195,0))","v":0},{"$f":"SUM(OFFSET(テストデータ!CP3,195,0):OFFSET(テストデータ!CT3,195,0))","v":0}]
[null,null,null,null,null,null,null,null,null,null,null,null,null,{"$f":"SUM(OFFSET(テストデータ!$E3,196,9*成績表1!$B$4-9):OFFSET(テストデータ!$G3,196,9*成績表1!$B$4-9))","v":0},{"$f":"SUM(OFFSET(テストデータ!$E3,196,9*成績表1!$B$4-9):OFFSET(テストデータ!I3,196,9*成績表1!$B$4-9))","v":0},{"$f":"SUM(OFFSET(テストデータ!E3,196,0):OFFSET(テストデータ!G3,196,0))","v":0},{"$f":"SUM(OFFSET(テストデータ!E3,196,0):OFFSET(テストデータ!I3,196,0))","v":0},{"$f":"SUM(OFFSET(テストデータ!N3,196,0):OFFSET(テストデータ!P3,196,0))","v":0},{"$f":"SUM(OFFSET(テストデータ!N3,196,0):OFFSET(テストデータ!R3,196,0))","v":0},{"$f":"SUM(OFFSET(テストデータ!W3,196,0):OFFSET(テストデータ!Y3,196,0))","v":0},{"$f":"SUM(OFFSET(テストデータ!W3,196,0):OFFSET(テストデータ!AA3,196,0))","v":0},{"$f":"SUM(OFFSET(テストデータ!AF3,196,0):OFFSET(テストデータ!AH3,196,0))","v":0},{"$f":"SUM(OFFSET(テストデータ!AF3,196,0):OFFSET(テストデータ!AJ3,196,0))","v":0},{"$f":"SUM(OFFSET(テストデータ!AO3,196,0):OFFSET(テストデータ!AQ3,196,0))","v":0},{"$f":"SUM(OFFSET(テストデータ!AO3,196,0):OFFSET(テストデータ!AS3,196,0))","v":0},{"$f":"SUM(OFFSET(テストデータ!AX3,196,0):OFFSET(テストデータ!AZ3,196,0))","v":0},{"$f":"SUM(OFFSET(テストデータ!AX3,196,0):OFFSET(テストデータ!BB3,196,0))","v":0},{"$f":"SUM(OFFSET(テストデータ!BG3,196,0):OFFSET(テストデータ!BI3,196,0))","v":0},{"$f":"SUM(OFFSET(テストデータ!BG3,196,0):OFFSET(テストデータ!BK3,196,0))","v":0},{"$f":"SUM(OFFSET(テストデータ!BL3,196,0):OFFSET(テストデータ!BN3,196,0))","v":0},{"$f":"SUM(OFFSET(テストデータ!BL3,196,0):OFFSET(テストデータ!BP3,196,0))","v":0},{"$f":"SUM(OFFSET(テストデータ!BQ3,196,0):OFFSET(テストデータ!BS3,196,0))","v":0},{"$f":"SUM(OFFSET(テストデータ!BQ3,196,0):OFFSET(テストデータ!BU3,196,0))","v":0},{"$f":"SUM(OFFSET(テストデータ!BV3,196,0):OFFSET(テストデータ!BX3,196,0))","v":0},{"$f":"SUM(OFFSET(テストデータ!BV3,196,0):OFFSET(テストデータ!BZ3,196,0))","v":0},{"$f":"SUM(OFFSET(テストデータ!CA3,196,0):OFFSET(テストデータ!CC3,196,0))","v":0},{"$f":"SUM(OFFSET(テストデータ!CA3,196,0):OFFSET(テストデータ!CE3,196,0))","v":0},{"$f":"SUM(OFFSET(テストデータ!CF3,196,0):OFFSET(テストデータ!CH3,196,0))","v":0},{"$f":"SUM(OFFSET(テストデータ!CF3,196,0):OFFSET(テストデータ!CJ3,196,0))","v":0},{"$f":"SUM(OFFSET(テストデータ!CK3,196,0):OFFSET(テストデータ!CM3,196,0))","v":0},{"$f":"SUM(OFFSET(テストデータ!CK3,196,0):OFFSET(テストデータ!CO3,196,0))","v":0},{"$f":"SUM(OFFSET(テストデータ!CP3,196,0):OFFSET(テストデータ!CR3,196,0))","v":0},{"$f":"SUM(OFFSET(テストデータ!CP3,196,0):OFFSET(テストデータ!CT3,196,0))","v":0}]
[null,null,null,null,null,null,null,null,null,null,null,null,null,{"$f":"SUM(OFFSET(テストデータ!$E3,197,9*成績表1!$B$4-9):OFFSET(テストデータ!$G3,197,9*成績表1!$B$4-9))","v":0},{"$f":"SUM(OFFSET(テストデータ!$E3,197,9*成績表1!$B$4-9):OFFSET(テストデータ!I3,197,9*成績表1!$B$4-9))","v":0},{"$f":"SUM(OFFSET(テストデータ!E3,197,0):OFFSET(テストデータ!G3,197,0))","v":0},{"$f":"SUM(OFFSET(テストデータ!E3,197,0):OFFSET(テストデータ!I3,197,0))","v":0},{"$f":"SUM(OFFSET(テストデータ!N3,197,0):OFFSET(テストデータ!P3,197,0))","v":0},{"$f":"SUM(OFFSET(テストデータ!N3,197,0):OFFSET(テストデータ!R3,197,0))","v":0},{"$f":"SUM(OFFSET(テストデータ!W3,197,0):OFFSET(テストデータ!Y3,197,0))","v":0},{"$f":"SUM(OFFSET(テストデータ!W3,197,0):OFFSET(テストデータ!AA3,197,0))","v":0},{"$f":"SUM(OFFSET(テストデータ!AF3,197,0):OFFSET(テストデータ!AH3,197,0))","v":0},{"$f":"SUM(OFFSET(テストデータ!AF3,197,0):OFFSET(テストデータ!AJ3,197,0))","v":0},{"$f":"SUM(OFFSET(テストデータ!AO3,197,0):OFFSET(テストデータ!AQ3,197,0))","v":0},{"$f":"SUM(OFFSET(テストデータ!AO3,197,0):OFFSET(テストデータ!AS3,197,0))","v":0},{"$f":"SUM(OFFSET(テストデータ!AX3,197,0):OFFSET(テストデータ!AZ3,197,0))","v":0},{"$f":"SUM(OFFSET(テストデータ!AX3,197,0):OFFSET(テストデータ!BB3,197,0))","v":0},{"$f":"SUM(OFFSET(テストデータ!BG3,197,0):OFFSET(テストデータ!BI3,197,0))","v":0},{"$f":"SUM(OFFSET(テストデータ!BG3,197,0):OFFSET(テストデータ!BK3,197,0))","v":0},{"$f":"SUM(OFFSET(テストデータ!BL3,197,0):OFFSET(テストデータ!BN3,197,0))","v":0},{"$f":"SUM(OFFSET(テストデータ!BL3,197,0):OFFSET(テストデータ!BP3,197,0))","v":0},{"$f":"SUM(OFFSET(テストデータ!BQ3,197,0):OFFSET(テストデータ!BS3,197,0))","v":0},{"$f":"SUM(OFFSET(テストデータ!BQ3,197,0):OFFSET(テストデータ!BU3,197,0))","v":0},{"$f":"SUM(OFFSET(テストデータ!BV3,197,0):OFFSET(テストデータ!BX3,197,0))","v":0},{"$f":"SUM(OFFSET(テストデータ!BV3,197,0):OFFSET(テストデータ!BZ3,197,0))","v":0},{"$f":"SUM(OFFSET(テストデータ!CA3,197,0):OFFSET(テストデータ!CC3,197,0))","v":0},{"$f":"SUM(OFFSET(テストデータ!CA3,197,0):OFFSET(テストデータ!CE3,197,0))","v":0},{"$f":"SUM(OFFSET(テストデータ!CF3,197,0):OFFSET(テストデータ!CH3,197,0))","v":0},{"$f":"SUM(OFFSET(テストデータ!CF3,197,0):OFFSET(テストデータ!CJ3,197,0))","v":0},{"$f":"SUM(OFFSET(テストデータ!CK3,197,0):OFFSET(テストデータ!CM3,197,0))","v":0},{"$f":"SUM(OFFSET(テストデータ!CK3,197,0):OFFSET(テストデータ!CO3,197,0))","v":0},{"$f":"SUM(OFFSET(テストデータ!CP3,197,0):OFFSET(テストデータ!CR3,197,0))","v":0},{"$f":"SUM(OFFSET(テストデータ!CP3,197,0):OFFSET(テストデータ!CT3,197,0))","v":0}]
[null,null,null,null,null,null,null,null,null,null,null,null,null,{"$f":"SUM(OFFSET(テストデータ!$E3,198,9*成績表1!$B$4-9):OFFSET(テストデータ!$G3,198,9*成績表1!$B$4-9))","v":0},{"$f":"SUM(OFFSET(テストデータ!$E3,198,9*成績表1!$B$4-9):OFFSET(テストデータ!I3,198,9*成績表1!$B$4-9))","v":0},{"$f":"SUM(OFFSET(テストデータ!E3,198,0):OFFSET(テストデータ!G3,198,0))","v":0},{"$f":"SUM(OFFSET(テストデータ!E3,198,0):OFFSET(テストデータ!I3,198,0))","v":0},{"$f":"SUM(OFFSET(テストデータ!N3,198,0):OFFSET(テストデータ!P3,198,0))","v":0},{"$f":"SUM(OFFSET(テストデータ!N3,198,0):OFFSET(テストデータ!R3,198,0))","v":0},{"$f":"SUM(OFFSET(テストデータ!W3,198,0):OFFSET(テストデータ!Y3,198,0))","v":0},{"$f":"SUM(OFFSET(テストデータ!W3,198,0):OFFSET(テストデータ!AA3,198,0))","v":0},{"$f":"SUM(OFFSET(テストデータ!AF3,198,0):OFFSET(テストデータ!AH3,198,0))","v":0},{"$f":"SUM(OFFSET(テストデータ!AF3,198,0):OFFSET(テストデータ!AJ3,198,0))","v":0},{"$f":"SUM(OFFSET(テストデータ!AO3,198,0):OFFSET(テストデータ!AQ3,198,0))","v":0},{"$f":"SUM(OFFSET(テストデータ!AO3,198,0):OFFSET(テストデータ!AS3,198,0))","v":0},{"$f":"SUM(OFFSET(テストデータ!AX3,198,0):OFFSET(テストデータ!AZ3,198,0))","v":0},{"$f":"SUM(OFFSET(テストデータ!AX3,198,0):OFFSET(テストデータ!BB3,198,0))","v":0},{"$f":"SUM(OFFSET(テストデータ!BG3,198,0):OFFSET(テストデータ!BI3,198,0))","v":0},{"$f":"SUM(OFFSET(テストデータ!BG3,198,0):OFFSET(テストデータ!BK3,198,0))","v":0},{"$f":"SUM(OFFSET(テストデータ!BL3,198,0):OFFSET(テストデータ!BN3,198,0))","v":0},{"$f":"SUM(OFFSET(テストデータ!BL3,198,0):OFFSET(テストデータ!BP3,198,0))","v":0},{"$f":"SUM(OFFSET(テストデータ!BQ3,198,0):OFFSET(テストデータ!BS3,198,0))","v":0},{"$f":"SUM(OFFSET(テストデータ!BQ3,198,0):OFFSET(テストデータ!BU3,198,0))","v":0},{"$f":"SUM(OFFSET(テストデータ!BV3,198,0):OFFSET(テストデータ!BX3,198,0))","v":0},{"$f":"SUM(OFFSET(テストデータ!BV3,198,0):OFFSET(テストデータ!BZ3,198,0))","v":0},{"$f":"SUM(OFFSET(テストデータ!CA3,198,0):OFFSET(テストデータ!CC3,198,0))","v":0},{"$f":"SUM(OFFSET(テストデータ!CA3,198,0):OFFSET(テストデータ!CE3,198,0))","v":0},{"$f":"SUM(OFFSET(テストデータ!CF3,198,0):OFFSET(テストデータ!CH3,198,0))","v":0},{"$f":"SUM(OFFSET(テストデータ!CF3,198,0):OFFSET(テストデータ!CJ3,198,0))","v":0},{"$f":"SUM(OFFSET(テストデータ!CK3,198,0):OFFSET(テストデータ!CM3,198,0))","v":0},{"$f":"SUM(OFFSET(テストデータ!CK3,198,0):OFFSET(テストデータ!CO3,198,0))","v":0},{"$f":"SUM(OFFSET(テストデータ!CP3,198,0):OFFSET(テストデータ!CR3,198,0))","v":0},{"$f":"SUM(OFFSET(テストデータ!CP3,198,0):OFFSET(テストデータ!CT3,198,0))","v":0}]
[null,null,null,null,null,null,null,null,null,null,null,null,null,{"$f":"SUM(OFFSET(テストデータ!$E3,199,9*成績表1!$B$4-9):OFFSET(テストデータ!$G3,199,9*成績表1!$B$4-9))","v":0},{"$f":"SUM(OFFSET(テストデータ!$E3,199,9*成績表1!$B$4-9):OFFSET(テストデータ!I3,199,9*成績表1!$B$4-9))","v":0},{"$f":"SUM(OFFSET(テストデータ!E3,199,0):OFFSET(テストデータ!G3,199,0))","v":0},{"$f":"SUM(OFFSET(テストデータ!E3,199,0):OFFSET(テストデータ!I3,199,0))","v":0},{"$f":"SUM(OFFSET(テストデータ!N3,199,0):OFFSET(テストデータ!P3,199,0))","v":0},{"$f":"SUM(OFFSET(テストデータ!N3,199,0):OFFSET(テストデータ!R3,199,0))","v":0},{"$f":"SUM(OFFSET(テストデータ!W3,199,0):OFFSET(テストデータ!Y3,199,0))","v":0},{"$f":"SUM(OFFSET(テストデータ!W3,199,0):OFFSET(テストデータ!AA3,199,0))","v":0},{"$f":"SUM(OFFSET(テストデータ!AF3,199,0):OFFSET(テストデータ!AH3,199,0))","v":0},{"$f":"SUM(OFFSET(テストデータ!AF3,199,0):OFFSET(テストデータ!AJ3,199,0))","v":0},{"$f":"SUM(OFFSET(テストデータ!AO3,199,0):OFFSET(テストデータ!AQ3,199,0))","v":0},{"$f":"SUM(OFFSET(テストデータ!AO3,199,0):OFFSET(テストデータ!AS3,199,0))","v":0},{"$f":"SUM(OFFSET(テストデータ!AX3,199,0):OFFSET(テストデータ!AZ3,199,0))","v":0},{"$f":"SUM(OFFSET(テストデータ!AX3,199,0):OFFSET(テストデータ!BB3,199,0))","v":0},{"$f":"SUM(OFFSET(テストデータ!BG3,199,0):OFFSET(テストデータ!BI3,199,0))","v":0},{"$f":"SUM(OFFSET(テストデータ!BG3,199,0):OFFSET(テストデータ!BK3,199,0))","v":0},{"$f":"SUM(OFFSET(テストデータ!BL3,199,0):OFFSET(テストデータ!BN3,199,0))","v":0},{"$f":"SUM(OFFSET(テストデータ!BL3,199,0):OFFSET(テストデータ!BP3,199,0))","v":0},{"$f":"SUM(OFFSET(テストデータ!BQ3,199,0):OFFSET(テストデータ!BS3,199,0))","v":0},{"$f":"SUM(OFFSET(テストデータ!BQ3,199,0):OFFSET(テストデータ!BU3,199,0))","v":0},{"$f":"SUM(OFFSET(テストデータ!BV3,199,0):OFFSET(テストデータ!BX3,199,0))","v":0},{"$f":"SUM(OFFSET(テストデータ!BV3,199,0):OFFSET(テストデータ!BZ3,199,0))","v":0},{"$f":"SUM(OFFSET(テストデータ!CA3,199,0):OFFSET(テストデータ!CC3,199,0))","v":0},{"$f":"SUM(OFFSET(テストデータ!CA3,199,0):OFFSET(テストデータ!CE3,199,0))","v":0},{"$f":"SUM(OFFSET(テストデータ!CF3,199,0):OFFSET(テストデータ!CH3,199,0))","v":0},{"$f":"SUM(OFFSET(テストデータ!CF3,199,0):OFFSET(テストデータ!CJ3,199,0))","v":0},{"$f":"SUM(OFFSET(テストデータ!CK3,199,0):OFFSET(テストデータ!CM3,199,0))","v":0},{"$f":"SUM(OFFSET(テストデータ!CK3,199,0):OFFSET(テストデータ!CO3,199,0))","v":0},{"$f":"SUM(OFFSET(テストデータ!CP3,199,0):OFFSET(テストデータ!CR3,199,0))","v":0},{"$f":"SUM(OFFSET(テストデータ!CP3,199,0):OFFSET(テストデータ!CT3,199,0))","v":0}]
[null,null,null,null,null,null,null,null,null,null,null,null,null,{"$f":"SUM(OFFSET(テストデータ!$E3,200,9*成績表1!$B$4-9):OFFSET(テストデータ!$G3,200,9*成績表1!$B$4-9))","v":0},{"$f":"SUM(OFFSET(テストデータ!$E3,200,9*成績表1!$B$4-9):OFFSET(テストデータ!I3,200,9*成績表1!$B$4-9))","v":0},{"$f":"SUM(OFFSET(テストデータ!E3,200,0):OFFSET(テストデータ!G3,200,0))","v":0},{"$f":"SUM(OFFSET(テストデータ!E3,200,0):OFFSET(テストデータ!I3,200,0))","v":0},{"$f":"SUM(OFFSET(テストデータ!N3,200,0):OFFSET(テストデータ!P3,200,0))","v":0},{"$f":"SUM(OFFSET(テストデータ!N3,200,0):OFFSET(テストデータ!R3,200,0))","v":0},{"$f":"SUM(OFFSET(テストデータ!W3,200,0):OFFSET(テストデータ!Y3,200,0))","v":0},{"$f":"SUM(OFFSET(テストデータ!W3,200,0):OFFSET(テストデータ!AA3,200,0))","v":0},{"$f":"SUM(OFFSET(テストデータ!AF3,200,0):OFFSET(テストデータ!AH3,200,0))","v":0},{"$f":"SUM(OFFSET(テストデータ!AF3,200,0):OFFSET(テストデータ!AJ3,200,0))","v":0},{"$f":"SUM(OFFSET(テストデータ!AO3,200,0):OFFSET(テストデータ!AQ3,200,0))","v":0},{"$f":"SUM(OFFSET(テストデータ!AO3,200,0):OFFSET(テストデータ!AS3,200,0))","v":0},{"$f":"SUM(OFFSET(テストデータ!AX3,200,0):OFFSET(テストデータ!AZ3,200,0))","v":0},{"$f":"SUM(OFFSET(テストデータ!AX3,200,0):OFFSET(テストデータ!BB3,200,0))","v":0},{"$f":"SUM(OFFSET(テストデータ!BG3,200,0):OFFSET(テストデータ!BI3,200,0))","v":0},{"$f":"SUM(OFFSET(テストデータ!BG3,200,0):OFFSET(テストデータ!BK3,200,0))","v":0},{"$f":"SUM(OFFSET(テストデータ!BL3,200,0):OFFSET(テストデータ!BN3,200,0))","v":0},{"$f":"SUM(OFFSET(テストデータ!BL3,200,0):OFFSET(テストデータ!BP3,200,0))","v":0},{"$f":"SUM(OFFSET(テストデータ!BQ3,200,0):OFFSET(テストデータ!BS3,200,0))","v":0},{"$f":"SUM(OFFSET(テストデータ!BQ3,200,0):OFFSET(テストデータ!BU3,200,0))","v":0},{"$f":"SUM(OFFSET(テストデータ!BV3,200,0):OFFSET(テストデータ!BX3,200,0))","v":0},{"$f":"SUM(OFFSET(テストデータ!BV3,200,0):OFFSET(テストデータ!BZ3,200,0))","v":0},{"$f":"SUM(OFFSET(テストデータ!CA3,200,0):OFFSET(テストデータ!CC3,200,0))","v":0},{"$f":"SUM(OFFSET(テストデータ!CA3,200,0):OFFSET(テストデータ!CE3,200,0))","v":0},{"$f":"SUM(OFFSET(テストデータ!CF3,200,0):OFFSET(テストデータ!CH3,200,0))","v":0},{"$f":"SUM(OFFSET(テストデータ!CF3,200,0):OFFSET(テストデータ!CJ3,200,0))","v":0},{"$f":"SUM(OFFSET(テストデータ!CK3,200,0):OFFSET(テストデータ!CM3,200,0))","v":0},{"$f":"SUM(OFFSET(テストデータ!CK3,200,0):OFFSET(テストデータ!CO3,200,0))","v":0},{"$f":"SUM(OFFSET(テストデータ!CP3,200,0):OFFSET(テストデータ!CR3,200,0))","v":0},{"$f":"SUM(OFFSET(テストデータ!CP3,200,0):OFFSET(テストデータ!CT3,200,0))","v":0}]
[null,null,null,null,null,null,null,null,null,null,null,null,null,{"$f":"SUM(OFFSET(テストデータ!$E3,201,9*成績表1!$B$4-9):OFFSET(テストデータ!$G3,201,9*成績表1!$B$4-9))","v":0},{"$f":"SUM(OFFSET(テストデータ!$E3,201,9*成績表1!$B$4-9):OFFSET(テストデータ!I3,201,9*成績表1!$B$4-9))","v":0},{"$f":"SUM(OFFSET(テストデータ!E3,201,0):OFFSET(テストデータ!G3,201,0))","v":0},{"$f":"SUM(OFFSET(テストデータ!E3,201,0):OFFSET(テストデータ!I3,201,0))","v":0},{"$f":"SUM(OFFSET(テストデータ!N3,201,0):OFFSET(テストデータ!P3,201,0))","v":0},{"$f":"SUM(OFFSET(テストデータ!N3,201,0):OFFSET(テストデータ!R3,201,0))","v":0},{"$f":"SUM(OFFSET(テストデータ!W3,201,0):OFFSET(テストデータ!Y3,201,0))","v":0},{"$f":"SUM(OFFSET(テストデータ!W3,201,0):OFFSET(テストデータ!AA3,201,0))","v":0},{"$f":"SUM(OFFSET(テストデータ!AF3,201,0):OFFSET(テストデータ!AH3,201,0))","v":0},{"$f":"SUM(OFFSET(テストデータ!AF3,201,0):OFFSET(テストデータ!AJ3,201,0))","v":0},{"$f":"SUM(OFFSET(テストデータ!AO3,201,0):OFFSET(テストデータ!AQ3,201,0))","v":0},{"$f":"SUM(OFFSET(テストデータ!AO3,201,0):OFFSET(テストデータ!AS3,201,0))","v":0},{"$f":"SUM(OFFSET(テストデータ!AX3,201,0):OFFSET(テストデータ!AZ3,201,0))","v":0},{"$f":"SUM(OFFSET(テストデータ!AX3,201,0):OFFSET(テストデータ!BB3,201,0))","v":0},{"$f":"SUM(OFFSET(テストデータ!BG3,201,0):OFFSET(テストデータ!BI3,201,0))","v":0},{"$f":"SUM(OFFSET(テストデータ!BG3,201,0):OFFSET(テストデータ!BK3,201,0))","v":0},{"$f":"SUM(OFFSET(テストデータ!BL3,201,0):OFFSET(テストデータ!BN3,201,0))","v":0},{"$f":"SUM(OFFSET(テストデータ!BL3,201,0):OFFSET(テストデータ!BP3,201,0))","v":0},{"$f":"SUM(OFFSET(テストデータ!BQ3,201,0):OFFSET(テストデータ!BS3,201,0))","v":0},{"$f":"SUM(OFFSET(テストデータ!BQ3,201,0):OFFSET(テストデータ!BU3,201,0))","v":0},{"$f":"SUM(OFFSET(テストデータ!BV3,201,0):OFFSET(テストデータ!BX3,201,0))","v":0},{"$f":"SUM(OFFSET(テストデータ!BV3,201,0):OFFSET(テストデータ!BZ3,201,0))","v":0},{"$f":"SUM(OFFSET(テストデータ!CA3,201,0):OFFSET(テストデータ!CC3,201,0))","v":0},{"$f":"SUM(OFFSET(テストデータ!CA3,201,0):OFFSET(テストデータ!CE3,201,0))","v":0},{"$f":"SUM(OFFSET(テストデータ!CF3,201,0):OFFSET(テストデータ!CH3,201,0))","v":0},{"$f":"SUM(OFFSET(テストデータ!CF3,201,0):OFFSET(テストデータ!CJ3,201,0))","v":0},{"$f":"SUM(OFFSET(テストデータ!CK3,201,0):OFFSET(テストデータ!CM3,201,0))","v":0},{"$f":"SUM(OFFSET(テストデータ!CK3,201,0):OFFSET(テストデータ!CO3,201,0))","v":0},{"$f":"SUM(OFFSET(テストデータ!CP3,201,0):OFFSET(テストデータ!CR3,201,0))","v":0},{"$f":"SUM(OFFSET(テストデータ!CP3,201,0):OFFSET(テストデータ!CT3,201,0))","v":0}]
[null,null,null,null,null,null,null,null,null,null,null,null,null,{"$f":"SUM(OFFSET(テストデータ!$E3,202,9*成績表1!$B$4-9):OFFSET(テストデータ!$G3,202,9*成績表1!$B$4-9))","v":0},{"$f":"SUM(OFFSET(テストデータ!$E3,202,9*成績表1!$B$4-9):OFFSET(テストデータ!I3,202,9*成績表1!$B$4-9))","v":0},{"$f":"SUM(OFFSET(テストデータ!E3,202,0):OFFSET(テストデータ!G3,202,0))","v":0},{"$f":"SUM(OFFSET(テストデータ!E3,202,0):OFFSET(テストデータ!I3,202,0))","v":0},{"$f":"SUM(OFFSET(テストデータ!N3,202,0):OFFSET(テストデータ!P3,202,0))","v":0},{"$f":"SUM(OFFSET(テストデータ!N3,202,0):OFFSET(テストデータ!R3,202,0))","v":0},{"$f":"SUM(OFFSET(テストデータ!W3,202,0):OFFSET(テストデータ!Y3,202,0))","v":0},{"$f":"SUM(OFFSET(テストデータ!W3,202,0):OFFSET(テストデータ!AA3,202,0))","v":0},{"$f":"SUM(OFFSET(テストデータ!AF3,202,0):OFFSET(テストデータ!AH3,202,0))","v":0},{"$f":"SUM(OFFSET(テストデータ!AF3,202,0):OFFSET(テストデータ!AJ3,202,0))","v":0},{"$f":"SUM(OFFSET(テストデータ!AO3,202,0):OFFSET(テストデータ!AQ3,202,0))","v":0},{"$f":"SUM(OFFSET(テストデータ!AO3,202,0):OFFSET(テストデータ!AS3,202,0))","v":0},{"$f":"SUM(OFFSET(テストデータ!AX3,202,0):OFFSET(テストデータ!AZ3,202,0))","v":0},{"$f":"SUM(OFFSET(テストデータ!AX3,202,0):OFFSET(テストデータ!BB3,202,0))","v":0},{"$f":"SUM(OFFSET(テストデータ!BG3,202,0):OFFSET(テストデータ!BI3,202,0))","v":0},{"$f":"SUM(OFFSET(テストデータ!BG3,202,0):OFFSET(テストデータ!BK3,202,0))","v":0},{"$f":"SUM(OFFSET(テストデータ!BL3,202,0):OFFSET(テストデータ!BN3,202,0))","v":0},{"$f":"SUM(OFFSET(テストデータ!BL3,202,0):OFFSET(テストデータ!BP3,202,0))","v":0},{"$f":"SUM(OFFSET(テストデータ!BQ3,202,0):OFFSET(テストデータ!BS3,202,0))","v":0},{"$f":"SUM(OFFSET(テストデータ!BQ3,202,0):OFFSET(テストデータ!BU3,202,0))","v":0},{"$f":"SUM(OFFSET(テストデータ!BV3,202,0):OFFSET(テストデータ!BX3,202,0))","v":0},{"$f":"SUM(OFFSET(テストデータ!BV3,202,0):OFFSET(テストデータ!BZ3,202,0))","v":0},{"$f":"SUM(OFFSET(テストデータ!CA3,202,0):OFFSET(テストデータ!CC3,202,0))","v":0},{"$f":"SUM(OFFSET(テストデータ!CA3,202,0):OFFSET(テストデータ!CE3,202,0))","v":0},{"$f":"SUM(OFFSET(テストデータ!CF3,202,0):OFFSET(テストデータ!CH3,202,0))","v":0},{"$f":"SUM(OFFSET(テストデータ!CF3,202,0):OFFSET(テストデータ!CJ3,202,0))","v":0},{"$f":"SUM(OFFSET(テストデータ!CK3,202,0):OFFSET(テストデータ!CM3,202,0))","v":0},{"$f":"SUM(OFFSET(テストデータ!CK3,202,0):OFFSET(テストデータ!CO3,202,0))","v":0},{"$f":"SUM(OFFSET(テストデータ!CP3,202,0):OFFSET(テストデータ!CR3,202,0))","v":0},{"$f":"SUM(OFFSET(テストデータ!CP3,202,0):OFFSET(テストデータ!CT3,202,0))","v":0}]
[null,null,null,null,null,null,null,null,null,null,null,null,null,{"$f":"SUM(OFFSET(テストデータ!$E3,203,9*成績表1!$B$4-9):OFFSET(テストデータ!$G3,203,9*成績表1!$B$4-9))","v":0},{"$f":"SUM(OFFSET(テストデータ!$E3,203,9*成績表1!$B$4-9):OFFSET(テストデータ!I3,203,9*成績表1!$B$4-9))","v":0},{"$f":"SUM(OFFSET(テストデータ!E3,203,0):OFFSET(テストデータ!G3,203,0))","v":0},{"$f":"SUM(OFFSET(テストデータ!E3,203,0):OFFSET(テストデータ!I3,203,0))","v":0},{"$f":"SUM(OFFSET(テストデータ!N3,203,0):OFFSET(テストデータ!P3,203,0))","v":0},{"$f":"SUM(OFFSET(テストデータ!N3,203,0):OFFSET(テストデータ!R3,203,0))","v":0},{"$f":"SUM(OFFSET(テストデータ!W3,203,0):OFFSET(テストデータ!Y3,203,0))","v":0},{"$f":"SUM(OFFSET(テストデータ!W3,203,0):OFFSET(テストデータ!AA3,203,0))","v":0},{"$f":"SUM(OFFSET(テストデータ!AF3,203,0):OFFSET(テストデータ!AH3,203,0))","v":0},{"$f":"SUM(OFFSET(テストデータ!AF3,203,0):OFFSET(テストデータ!AJ3,203,0))","v":0},{"$f":"SUM(OFFSET(テストデータ!AO3,203,0):OFFSET(テストデータ!AQ3,203,0))","v":0},{"$f":"SUM(OFFSET(テストデータ!AO3,203,0):OFFSET(テストデータ!AS3,203,0))","v":0},{"$f":"SUM(OFFSET(テストデータ!AX3,203,0):OFFSET(テストデータ!AZ3,203,0))","v":0},{"$f":"SUM(OFFSET(テストデータ!AX3,203,0):OFFSET(テストデータ!BB3,203,0))","v":0},{"$f":"SUM(OFFSET(テストデータ!BG3,203,0):OFFSET(テストデータ!BI3,203,0))","v":0},{"$f":"SUM(OFFSET(テストデータ!BG3,203,0):OFFSET(テストデータ!BK3,203,0))","v":0},{"$f":"SUM(OFFSET(テストデータ!BL3,203,0):OFFSET(テストデータ!BN3,203,0))","v":0},{"$f":"SUM(OFFSET(テストデータ!BL3,203,0):OFFSET(テストデータ!BP3,203,0))","v":0},{"$f":"SUM(OFFSET(テストデータ!BQ3,203,0):OFFSET(テストデータ!BS3,203,0))","v":0},{"$f":"SUM(OFFSET(テストデータ!BQ3,203,0):OFFSET(テストデータ!BU3,203,0))","v":0},{"$f":"SUM(OFFSET(テストデータ!BV3,203,0):OFFSET(テストデータ!BX3,203,0))","v":0},{"$f":"SUM(OFFSET(テストデータ!BV3,203,0):OFFSET(テストデータ!BZ3,203,0))","v":0},{"$f":"SUM(OFFSET(テストデータ!CA3,203,0):OFFSET(テストデータ!CC3,203,0))","v":0},{"$f":"SUM(OFFSET(テストデータ!CA3,203,0):OFFSET(テストデータ!CE3,203,0))","v":0},{"$f":"SUM(OFFSET(テストデータ!CF3,203,0):OFFSET(テストデータ!CH3,203,0))","v":0},{"$f":"SUM(OFFSET(テストデータ!CF3,203,0):OFFSET(テストデータ!CJ3,203,0))","v":0},{"$f":"SUM(OFFSET(テストデータ!CK3,203,0):OFFSET(テストデータ!CM3,203,0))","v":0},{"$f":"SUM(OFFSET(テストデータ!CK3,203,0):OFFSET(テストデータ!CO3,203,0))","v":0},{"$f":"SUM(OFFSET(テストデータ!CP3,203,0):OFFSET(テストデータ!CR3,203,0))","v":0},{"$f":"SUM(OFFSET(テストデータ!CP3,203,0):OFFSET(テストデータ!CT3,203,0))","v":0}]
[null,null,null,null,null,null,null,null,null,null,null,null,null,{"$f":"SUM(OFFSET(テストデータ!$E3,204,9*成績表1!$B$4-9):OFFSET(テストデータ!$G3,204,9*成績表1!$B$4-9))","v":0},{"$f":"SUM(OFFSET(テストデータ!$E3,204,9*成績表1!$B$4-9):OFFSET(テストデータ!I3,204,9*成績表1!$B$4-9))","v":0},{"$f":"SUM(OFFSET(テストデータ!E3,204,0):OFFSET(テストデータ!G3,204,0))","v":0},{"$f":"SUM(OFFSET(テストデータ!E3,204,0):OFFSET(テストデータ!I3,204,0))","v":0},{"$f":"SUM(OFFSET(テストデータ!N3,204,0):OFFSET(テストデータ!P3,204,0))","v":0},{"$f":"SUM(OFFSET(テストデータ!N3,204,0):OFFSET(テストデータ!R3,204,0))","v":0},{"$f":"SUM(OFFSET(テストデータ!W3,204,0):OFFSET(テストデータ!Y3,204,0))","v":0},{"$f":"SUM(OFFSET(テストデータ!W3,204,0):OFFSET(テストデータ!AA3,204,0))","v":0},{"$f":"SUM(OFFSET(テストデータ!AF3,204,0):OFFSET(テストデータ!AH3,204,0))","v":0},{"$f":"SUM(OFFSET(テストデータ!AF3,204,0):OFFSET(テストデータ!AJ3,204,0))","v":0},{"$f":"SUM(OFFSET(テストデータ!AO3,204,0):OFFSET(テストデータ!AQ3,204,0))","v":0},{"$f":"SUM(OFFSET(テストデータ!AO3,204,0):OFFSET(テストデータ!AS3,204,0))","v":0},{"$f":"SUM(OFFSET(テストデータ!AX3,204,0):OFFSET(テストデータ!AZ3,204,0))","v":0},{"$f":"SUM(OFFSET(テストデータ!AX3,204,0):OFFSET(テストデータ!BB3,204,0))","v":0},{"$f":"SUM(OFFSET(テストデータ!BG3,204,0):OFFSET(テストデータ!BI3,204,0))","v":0},{"$f":"SUM(OFFSET(テストデータ!BG3,204,0):OFFSET(テストデータ!BK3,204,0))","v":0},{"$f":"SUM(OFFSET(テストデータ!BL3,204,0):OFFSET(テストデータ!BN3,204,0))","v":0},{"$f":"SUM(OFFSET(テストデータ!BL3,204,0):OFFSET(テストデータ!BP3,204,0))","v":0},{"$f":"SUM(OFFSET(テストデータ!BQ3,204,0):OFFSET(テストデータ!BS3,204,0))","v":0},{"$f":"SUM(OFFSET(テストデータ!BQ3,204,0):OFFSET(テストデータ!BU3,204,0))","v":0},{"$f":"SUM(OFFSET(テストデータ!BV3,204,0):OFFSET(テストデータ!BX3,204,0))","v":0},{"$f":"SUM(OFFSET(テストデータ!BV3,204,0):OFFSET(テストデータ!BZ3,204,0))","v":0},{"$f":"SUM(OFFSET(テストデータ!CA3,204,0):OFFSET(テストデータ!CC3,204,0))","v":0},{"$f":"SUM(OFFSET(テストデータ!CA3,204,0):OFFSET(テストデータ!CE3,204,0))","v":0},{"$f":"SUM(OFFSET(テストデータ!CF3,204,0):OFFSET(テストデータ!CH3,204,0))","v":0},{"$f":"SUM(OFFSET(テストデータ!CF3,204,0):OFFSET(テストデータ!CJ3,204,0))","v":0},{"$f":"SUM(OFFSET(テストデータ!CK3,204,0):OFFSET(テストデータ!CM3,204,0))","v":0},{"$f":"SUM(OFFSET(テストデータ!CK3,204,0):OFFSET(テストデータ!CO3,204,0))","v":0},{"$f":"SUM(OFFSET(テストデータ!CP3,204,0):OFFSET(テストデータ!CR3,204,0))","v":0},{"$f":"SUM(OFFSET(テストデータ!CP3,204,0):OFFSET(テストデータ!CT3,204,0))","v":0}]
[null,null,null,null,null,null,null,null,null,null,null,null,null,{"$f":"SUM(OFFSET(テストデータ!$E3,205,9*成績表1!$B$4-9):OFFSET(テストデータ!$G3,205,9*成績表1!$B$4-9))","v":0},{"$f":"SUM(OFFSET(テストデータ!$E3,205,9*成績表1!$B$4-9):OFFSET(テストデータ!I3,205,9*成績表1!$B$4-9))","v":0},{"$f":"SUM(OFFSET(テストデータ!E3,205,0):OFFSET(テストデータ!G3,205,0))","v":0},{"$f":"SUM(OFFSET(テストデータ!E3,205,0):OFFSET(テストデータ!I3,205,0))","v":0},{"$f":"SUM(OFFSET(テストデータ!N3,205,0):OFFSET(テストデータ!P3,205,0))","v":0},{"$f":"SUM(OFFSET(テストデータ!N3,205,0):OFFSET(テストデータ!R3,205,0))","v":0},{"$f":"SUM(OFFSET(テストデータ!W3,205,0):OFFSET(テストデータ!Y3,205,0))","v":0},{"$f":"SUM(OFFSET(テストデータ!W3,205,0):OFFSET(テストデータ!AA3,205,0))","v":0},{"$f":"SUM(OFFSET(テストデータ!AF3,205,0):OFFSET(テストデータ!AH3,205,0))","v":0},{"$f":"SUM(OFFSET(テストデータ!AF3,205,0):OFFSET(テストデータ!AJ3,205,0))","v":0},{"$f":"SUM(OFFSET(テストデータ!AO3,205,0):OFFSET(テストデータ!AQ3,205,0))","v":0},{"$f":"SUM(OFFSET(テストデータ!AO3,205,0):OFFSET(テストデータ!AS3,205,0))","v":0},{"$f":"SUM(OFFSET(テストデータ!AX3,205,0):OFFSET(テストデータ!AZ3,205,0))","v":0},{"$f":"SUM(OFFSET(テストデータ!AX3,205,0):OFFSET(テストデータ!BB3,205,0))","v":0},{"$f":"SUM(OFFSET(テストデータ!BG3,205,0):OFFSET(テストデータ!BI3,205,0))","v":0},{"$f":"SUM(OFFSET(テストデータ!BG3,205,0):OFFSET(テストデータ!BK3,205,0))","v":0},{"$f":"SUM(OFFSET(テストデータ!BL3,205,0):OFFSET(テストデータ!BN3,205,0))","v":0},{"$f":"SUM(OFFSET(テストデータ!BL3,205,0):OFFSET(テストデータ!BP3,205,0))","v":0},{"$f":"SUM(OFFSET(テストデータ!BQ3,205,0):OFFSET(テストデータ!BS3,205,0))","v":0},{"$f":"SUM(OFFSET(テストデータ!BQ3,205,0):OFFSET(テストデータ!BU3,205,0))","v":0},{"$f":"SUM(OFFSET(テストデータ!BV3,205,0):OFFSET(テストデータ!BX3,205,0))","v":0},{"$f":"SUM(OFFSET(テストデータ!BV3,205,0):OFFSET(テストデータ!BZ3,205,0))","v":0},{"$f":"SUM(OFFSET(テストデータ!CA3,205,0):OFFSET(テストデータ!CC3,205,0))","v":0},{"$f":"SUM(OFFSET(テストデータ!CA3,205,0):OFFSET(テストデータ!CE3,205,0))","v":0},{"$f":"SUM(OFFSET(テストデータ!CF3,205,0):OFFSET(テストデータ!CH3,205,0))","v":0},{"$f":"SUM(OFFSET(テストデータ!CF3,205,0):OFFSET(テストデータ!CJ3,205,0))","v":0},{"$f":"SUM(OFFSET(テストデータ!CK3,205,0):OFFSET(テストデータ!CM3,205,0))","v":0},{"$f":"SUM(OFFSET(テストデータ!CK3,205,0):OFFSET(テストデータ!CO3,205,0))","v":0},{"$f":"SUM(OFFSET(テストデータ!CP3,205,0):OFFSET(テストデータ!CR3,205,0))","v":0},{"$f":"SUM(OFFSET(テストデータ!CP3,205,0):OFFSET(テストデータ!CT3,205,0))","v":0}]
[null,null,null,null,null,null,null,null,null,null,null,null,null,{"$f":"SUM(OFFSET(テストデータ!$E3,206,9*成績表1!$B$4-9):OFFSET(テストデータ!$G3,206,9*成績表1!$B$4-9))","v":0},{"$f":"SUM(OFFSET(テストデータ!$E3,206,9*成績表1!$B$4-9):OFFSET(テストデータ!I3,206,9*成績表1!$B$4-9))","v":0},{"$f":"SUM(OFFSET(テストデータ!E3,206,0):OFFSET(テストデータ!G3,206,0))","v":0},{"$f":"SUM(OFFSET(テストデータ!E3,206,0):OFFSET(テストデータ!I3,206,0))","v":0},{"$f":"SUM(OFFSET(テストデータ!N3,206,0):OFFSET(テストデータ!P3,206,0))","v":0},{"$f":"SUM(OFFSET(テストデータ!N3,206,0):OFFSET(テストデータ!R3,206,0))","v":0},{"$f":"SUM(OFFSET(テストデータ!W3,206,0):OFFSET(テストデータ!Y3,206,0))","v":0},{"$f":"SUM(OFFSET(テストデータ!W3,206,0):OFFSET(テストデータ!AA3,206,0))","v":0},{"$f":"SUM(OFFSET(テストデータ!AF3,206,0):OFFSET(テストデータ!AH3,206,0))","v":0},{"$f":"SUM(OFFSET(テストデータ!AF3,206,0):OFFSET(テストデータ!AJ3,206,0))","v":0},{"$f":"SUM(OFFSET(テストデータ!AO3,206,0):OFFSET(テストデータ!AQ3,206,0))","v":0},{"$f":"SUM(OFFSET(テストデータ!AO3,206,0):OFFSET(テストデータ!AS3,206,0))","v":0},{"$f":"SUM(OFFSET(テストデータ!AX3,206,0):OFFSET(テストデータ!AZ3,206,0))","v":0},{"$f":"SUM(OFFSET(テストデータ!AX3,206,0):OFFSET(テストデータ!BB3,206,0))","v":0},{"$f":"SUM(OFFSET(テストデータ!BG3,206,0):OFFSET(テストデータ!BI3,206,0))","v":0},{"$f":"SUM(OFFSET(テストデータ!BG3,206,0):OFFSET(テストデータ!BK3,206,0))","v":0},{"$f":"SUM(OFFSET(テストデータ!BL3,206,0):OFFSET(テストデータ!BN3,206,0))","v":0},{"$f":"SUM(OFFSET(テストデータ!BL3,206,0):OFFSET(テストデータ!BP3,206,0))","v":0},{"$f":"SUM(OFFSET(テストデータ!BQ3,206,0):OFFSET(テストデータ!BS3,206,0))","v":0},{"$f":"SUM(OFFSET(テストデータ!BQ3,206,0):OFFSET(テストデータ!BU3,206,0))","v":0},{"$f":"SUM(OFFSET(テストデータ!BV3,206,0):OFFSET(テストデータ!BX3,206,0))","v":0},{"$f":"SUM(OFFSET(テストデータ!BV3,206,0):OFFSET(テストデータ!BZ3,206,0))","v":0},{"$f":"SUM(OFFSET(テストデータ!CA3,206,0):OFFSET(テストデータ!CC3,206,0))","v":0},{"$f":"SUM(OFFSET(テストデータ!CA3,206,0):OFFSET(テストデータ!CE3,206,0))","v":0},{"$f":"SUM(OFFSET(テストデータ!CF3,206,0):OFFSET(テストデータ!CH3,206,0))","v":0},{"$f":"SUM(OFFSET(テストデータ!CF3,206,0):OFFSET(テストデータ!CJ3,206,0))","v":0},{"$f":"SUM(OFFSET(テストデータ!CK3,206,0):OFFSET(テストデータ!CM3,206,0))","v":0},{"$f":"SUM(OFFSET(テストデータ!CK3,206,0):OFFSET(テストデータ!CO3,206,0))","v":0},{"$f":"SUM(OFFSET(テストデータ!CP3,206,0):OFFSET(テストデータ!CR3,206,0))","v":0},{"$f":"SUM(OFFSET(テストデータ!CP3,206,0):OFFSET(テストデータ!CT3,206,0))","v":0}]
[null,null,null,null,null,null,null,null,null,null,null,null,null,{"$f":"SUM(OFFSET(テストデータ!$E3,207,9*成績表1!$B$4-9):OFFSET(テストデータ!$G3,207,9*成績表1!$B$4-9))","v":0},{"$f":"SUM(OFFSET(テストデータ!$E3,207,9*成績表1!$B$4-9):OFFSET(テストデータ!I3,207,9*成績表1!$B$4-9))","v":0},{"$f":"SUM(OFFSET(テストデータ!E3,207,0):OFFSET(テストデータ!G3,207,0))","v":0},{"$f":"SUM(OFFSET(テストデータ!E3,207,0):OFFSET(テストデータ!I3,207,0))","v":0},{"$f":"SUM(OFFSET(テストデータ!N3,207,0):OFFSET(テストデータ!P3,207,0))","v":0},{"$f":"SUM(OFFSET(テストデータ!N3,207,0):OFFSET(テストデータ!R3,207,0))","v":0},{"$f":"SUM(OFFSET(テストデータ!W3,207,0):OFFSET(テストデータ!Y3,207,0))","v":0},{"$f":"SUM(OFFSET(テストデータ!W3,207,0):OFFSET(テストデータ!AA3,207,0))","v":0},{"$f":"SUM(OFFSET(テストデータ!AF3,207,0):OFFSET(テストデータ!AH3,207,0))","v":0},{"$f":"SUM(OFFSET(テストデータ!AF3,207,0):OFFSET(テストデータ!AJ3,207,0))","v":0},{"$f":"SUM(OFFSET(テストデータ!AO3,207,0):OFFSET(テストデータ!AQ3,207,0))","v":0},{"$f":"SUM(OFFSET(テストデータ!AO3,207,0):OFFSET(テストデータ!AS3,207,0))","v":0},{"$f":"SUM(OFFSET(テストデータ!AX3,207,0):OFFSET(テストデータ!AZ3,207,0))","v":0},{"$f":"SUM(OFFSET(テストデータ!AX3,207,0):OFFSET(テストデータ!BB3,207,0))","v":0},{"$f":"SUM(OFFSET(テストデータ!BG3,207,0):OFFSET(テストデータ!BI3,207,0))","v":0},{"$f":"SUM(OFFSET(テストデータ!BG3,207,0):OFFSET(テストデータ!BK3,207,0))","v":0},{"$f":"SUM(OFFSET(テストデータ!BL3,207,0):OFFSET(テストデータ!BN3,207,0))","v":0},{"$f":"SUM(OFFSET(テストデータ!BL3,207,0):OFFSET(テストデータ!BP3,207,0))","v":0},{"$f":"SUM(OFFSET(テストデータ!BQ3,207,0):OFFSET(テストデータ!BS3,207,0))","v":0},{"$f":"SUM(OFFSET(テストデータ!BQ3,207,0):OFFSET(テストデータ!BU3,207,0))","v":0},{"$f":"SUM(OFFSET(テストデータ!BV3,207,0):OFFSET(テストデータ!BX3,207,0))","v":0},{"$f":"SUM(OFFSET(テストデータ!BV3,207,0):OFFSET(テストデータ!BZ3,207,0))","v":0},{"$f":"SUM(OFFSET(テストデータ!CA3,207,0):OFFSET(テストデータ!CC3,207,0))","v":0},{"$f":"SUM(OFFSET(テストデータ!CA3,207,0):OFFSET(テストデータ!CE3,207,0))","v":0},{"$f":"SUM(OFFSET(テストデータ!CF3,207,0):OFFSET(テストデータ!CH3,207,0))","v":0},{"$f":"SUM(OFFSET(テストデータ!CF3,207,0):OFFSET(テストデータ!CJ3,207,0))","v":0},{"$f":"SUM(OFFSET(テストデータ!CK3,207,0):OFFSET(テストデータ!CM3,207,0))","v":0},{"$f":"SUM(OFFSET(テストデータ!CK3,207,0):OFFSET(テストデータ!CO3,207,0))","v":0},{"$f":"SUM(OFFSET(テストデータ!CP3,207,0):OFFSET(テストデータ!CR3,207,0))","v":0},{"$f":"SUM(OFFSET(テストデータ!CP3,207,0):OFFSET(テストデータ!CT3,207,0))","v":0}]
[null,null,null,null,null,null,null,null,null,null,null,null,null,{"$f":"SUM(OFFSET(テストデータ!$E3,208,9*成績表1!$B$4-9):OFFSET(テストデータ!$G3,208,9*成績表1!$B$4-9))","v":0},{"$f":"SUM(OFFSET(テストデータ!$E3,208,9*成績表1!$B$4-9):OFFSET(テストデータ!I3,208,9*成績表1!$B$4-9))","v":0},{"$f":"SUM(OFFSET(テストデータ!E3,208,0):OFFSET(テストデータ!G3,208,0))","v":0},{"$f":"SUM(OFFSET(テストデータ!E3,208,0):OFFSET(テストデータ!I3,208,0))","v":0},{"$f":"SUM(OFFSET(テストデータ!N3,208,0):OFFSET(テストデータ!P3,208,0))","v":0},{"$f":"SUM(OFFSET(テストデータ!N3,208,0):OFFSET(テストデータ!R3,208,0))","v":0},{"$f":"SUM(OFFSET(テストデータ!W3,208,0):OFFSET(テストデータ!Y3,208,0))","v":0},{"$f":"SUM(OFFSET(テストデータ!W3,208,0):OFFSET(テストデータ!AA3,208,0))","v":0},{"$f":"SUM(OFFSET(テストデータ!AF3,208,0):OFFSET(テストデータ!AH3,208,0))","v":0},{"$f":"SUM(OFFSET(テストデータ!AF3,208,0):OFFSET(テストデータ!AJ3,208,0))","v":0},{"$f":"SUM(OFFSET(テストデータ!AO3,208,0):OFFSET(テストデータ!AQ3,208,0))","v":0},{"$f":"SUM(OFFSET(テストデータ!AO3,208,0):OFFSET(テストデータ!AS3,208,0))","v":0},{"$f":"SUM(OFFSET(テストデータ!AX3,208,0):OFFSET(テストデータ!AZ3,208,0))","v":0},{"$f":"SUM(OFFSET(テストデータ!AX3,208,0):OFFSET(テストデータ!BB3,208,0))","v":0},{"$f":"SUM(OFFSET(テストデータ!BG3,208,0):OFFSET(テストデータ!BI3,208,0))","v":0},{"$f":"SUM(OFFSET(テストデータ!BG3,208,0):OFFSET(テストデータ!BK3,208,0))","v":0},{"$f":"SUM(OFFSET(テストデータ!BL3,208,0):OFFSET(テストデータ!BN3,208,0))","v":0},{"$f":"SUM(OFFSET(テストデータ!BL3,208,0):OFFSET(テストデータ!BP3,208,0))","v":0},{"$f":"SUM(OFFSET(テストデータ!BQ3,208,0):OFFSET(テストデータ!BS3,208,0))","v":0},{"$f":"SUM(OFFSET(テストデータ!BQ3,208,0):OFFSET(テストデータ!BU3,208,0))","v":0},{"$f":"SUM(OFFSET(テストデータ!BV3,208,0):OFFSET(テストデータ!BX3,208,0))","v":0},{"$f":"SUM(OFFSET(テストデータ!BV3,208,0):OFFSET(テストデータ!BZ3,208,0))","v":0},{"$f":"SUM(OFFSET(テストデータ!CA3,208,0):OFFSET(テストデータ!CC3,208,0))","v":0},{"$f":"SUM(OFFSET(テストデータ!CA3,208,0):OFFSET(テストデータ!CE3,208,0))","v":0},{"$f":"SUM(OFFSET(テストデータ!CF3,208,0):OFFSET(テストデータ!CH3,208,0))","v":0},{"$f":"SUM(OFFSET(テストデータ!CF3,208,0):OFFSET(テストデータ!CJ3,208,0))","v":0},{"$f":"SUM(OFFSET(テストデータ!CK3,208,0):OFFSET(テストデータ!CM3,208,0))","v":0},{"$f":"SUM(OFFSET(テストデータ!CK3,208,0):OFFSET(テストデータ!CO3,208,0))","v":0},{"$f":"SUM(OFFSET(テストデータ!CP3,208,0):OFFSET(テストデータ!CR3,208,0))","v":0},{"$f":"SUM(OFFSET(テストデータ!CP3,208,0):OFFSET(テストデータ!CT3,208,0))","v":0}]
[null,null,null,null,null,null,null,null,null,null,null,null,null,{"$f":"SUM(OFFSET(テストデータ!$E3,209,9*成績表1!$B$4-9):OFFSET(テストデータ!$G3,209,9*成績表1!$B$4-9))","v":0},{"$f":"SUM(OFFSET(テストデータ!$E3,209,9*成績表1!$B$4-9):OFFSET(テストデータ!I3,209,9*成績表1!$B$4-9))","v":0},{"$f":"SUM(OFFSET(テストデータ!E3,209,0):OFFSET(テストデータ!G3,209,0))","v":0},{"$f":"SUM(OFFSET(テストデータ!E3,209,0):OFFSET(テストデータ!I3,209,0))","v":0},{"$f":"SUM(OFFSET(テストデータ!N3,209,0):OFFSET(テストデータ!P3,209,0))","v":0},{"$f":"SUM(OFFSET(テストデータ!N3,209,0):OFFSET(テストデータ!R3,209,0))","v":0},{"$f":"SUM(OFFSET(テストデータ!W3,209,0):OFFSET(テストデータ!Y3,209,0))","v":0},{"$f":"SUM(OFFSET(テストデータ!W3,209,0):OFFSET(テストデータ!AA3,209,0))","v":0},{"$f":"SUM(OFFSET(テストデータ!AF3,209,0):OFFSET(テストデータ!AH3,209,0))","v":0},{"$f":"SUM(OFFSET(テストデータ!AF3,209,0):OFFSET(テストデータ!AJ3,209,0))","v":0},{"$f":"SUM(OFFSET(テストデータ!AO3,209,0):OFFSET(テストデータ!AQ3,209,0))","v":0},{"$f":"SUM(OFFSET(テストデータ!AO3,209,0):OFFSET(テストデータ!AS3,209,0))","v":0},{"$f":"SUM(OFFSET(テストデータ!AX3,209,0):OFFSET(テストデータ!AZ3,209,0))","v":0},{"$f":"SUM(OFFSET(テストデータ!AX3,209,0):OFFSET(テストデータ!BB3,209,0))","v":0},{"$f":"SUM(OFFSET(テストデータ!BG3,209,0):OFFSET(テストデータ!BI3,209,0))","v":0},{"$f":"SUM(OFFSET(テストデータ!BG3,209,0):OFFSET(テストデータ!BK3,209,0))","v":0},{"$f":"SUM(OFFSET(テストデータ!BL3,209,0):OFFSET(テストデータ!BN3,209,0))","v":0},{"$f":"SUM(OFFSET(テストデータ!BL3,209,0):OFFSET(テストデータ!BP3,209,0))","v":0},{"$f":"SUM(OFFSET(テストデータ!BQ3,209,0):OFFSET(テストデータ!BS3,209,0))","v":0},{"$f":"SUM(OFFSET(テストデータ!BQ3,209,0):OFFSET(テストデータ!BU3,209,0))","v":0},{"$f":"SUM(OFFSET(テストデータ!BV3,209,0):OFFSET(テストデータ!BX3,209,0))","v":0},{"$f":"SUM(OFFSET(テストデータ!BV3,209,0):OFFSET(テストデータ!BZ3,209,0))","v":0},{"$f":"SUM(OFFSET(テストデータ!CA3,209,0):OFFSET(テストデータ!CC3,209,0))","v":0},{"$f":"SUM(OFFSET(テストデータ!CA3,209,0):OFFSET(テストデータ!CE3,209,0))","v":0},{"$f":"SUM(OFFSET(テストデータ!CF3,209,0):OFFSET(テストデータ!CH3,209,0))","v":0},{"$f":"SUM(OFFSET(テストデータ!CF3,209,0):OFFSET(テストデータ!CJ3,209,0))","v":0},{"$f":"SUM(OFFSET(テストデータ!CK3,209,0):OFFSET(テストデータ!CM3,209,0))","v":0},{"$f":"SUM(OFFSET(テストデータ!CK3,209,0):OFFSET(テストデータ!CO3,209,0))","v":0},{"$f":"SUM(OFFSET(テストデータ!CP3,209,0):OFFSET(テストデータ!CR3,209,0))","v":0},{"$f":"SUM(OFFSET(テストデータ!CP3,209,0):OFFSET(テストデータ!CT3,209,0))","v":0}]
[null,null,null,null,null,null,null,null,null,null,null,null,null,{"$f":"SUM(OFFSET(テストデータ!$E3,210,9*成績表1!$B$4-9):OFFSET(テストデータ!$G3,210,9*成績表1!$B$4-9))","v":0},{"$f":"SUM(OFFSET(テストデータ!$E3,210,9*成績表1!$B$4-9):OFFSET(テストデータ!I3,210,9*成績表1!$B$4-9))","v":0},{"$f":"SUM(OFFSET(テストデータ!E3,210,0):OFFSET(テストデータ!G3,210,0))","v":0},{"$f":"SUM(OFFSET(テストデータ!E3,210,0):OFFSET(テストデータ!I3,210,0))","v":0},{"$f":"SUM(OFFSET(テストデータ!N3,210,0):OFFSET(テストデータ!P3,210,0))","v":0},{"$f":"SUM(OFFSET(テストデータ!N3,210,0):OFFSET(テストデータ!R3,210,0))","v":0},{"$f":"SUM(OFFSET(テストデータ!W3,210,0):OFFSET(テストデータ!Y3,210,0))","v":0},{"$f":"SUM(OFFSET(テストデータ!W3,210,0):OFFSET(テストデータ!AA3,210,0))","v":0},{"$f":"SUM(OFFSET(テストデータ!AF3,210,0):OFFSET(テストデータ!AH3,210,0))","v":0},{"$f":"SUM(OFFSET(テストデータ!AF3,210,0):OFFSET(テストデータ!AJ3,210,0))","v":0},{"$f":"SUM(OFFSET(テストデータ!AO3,210,0):OFFSET(テストデータ!AQ3,210,0))","v":0},{"$f":"SUM(OFFSET(テストデータ!AO3,210,0):OFFSET(テストデータ!AS3,210,0))","v":0},{"$f":"SUM(OFFSET(テストデータ!AX3,210,0):OFFSET(テストデータ!AZ3,210,0))","v":0},{"$f":"SUM(OFFSET(テストデータ!AX3,210,0):OFFSET(テストデータ!BB3,210,0))","v":0},{"$f":"SUM(OFFSET(テストデータ!BG3,210,0):OFFSET(テストデータ!BI3,210,0))","v":0},{"$f":"SUM(OFFSET(テストデータ!BG3,210,0):OFFSET(テストデータ!BK3,210,0))","v":0},{"$f":"SUM(OFFSET(テストデータ!BL3,210,0):OFFSET(テストデータ!BN3,210,0))","v":0},{"$f":"SUM(OFFSET(テストデータ!BL3,210,0):OFFSET(テストデータ!BP3,210,0))","v":0},{"$f":"SUM(OFFSET(テストデータ!BQ3,210,0):OFFSET(テストデータ!BS3,210,0))","v":0},{"$f":"SUM(OFFSET(テストデータ!BQ3,210,0):OFFSET(テストデータ!BU3,210,0))","v":0},{"$f":"SUM(OFFSET(テストデータ!BV3,210,0):OFFSET(テストデータ!BX3,210,0))","v":0},{"$f":"SUM(OFFSET(テストデータ!BV3,210,0):OFFSET(テストデータ!BZ3,210,0))","v":0},{"$f":"SUM(OFFSET(テストデータ!CA3,210,0):OFFSET(テストデータ!CC3,210,0))","v":0},{"$f":"SUM(OFFSET(テストデータ!CA3,210,0):OFFSET(テストデータ!CE3,210,0))","v":0},{"$f":"SUM(OFFSET(テストデータ!CF3,210,0):OFFSET(テストデータ!CH3,210,0))","v":0},{"$f":"SUM(OFFSET(テストデータ!CF3,210,0):OFFSET(テストデータ!CJ3,210,0))","v":0},{"$f":"SUM(OFFSET(テストデータ!CK3,210,0):OFFSET(テストデータ!CM3,210,0))","v":0},{"$f":"SUM(OFFSET(テストデータ!CK3,210,0):OFFSET(テストデータ!CO3,210,0))","v":0},{"$f":"SUM(OFFSET(テストデータ!CP3,210,0):OFFSET(テストデータ!CR3,210,0))","v":0},{"$f":"SUM(OFFSET(テストデータ!CP3,210,0):OFFSET(テストデータ!CT3,210,0))","v":0}]
[null,null,null,null,null,null,null,null,null,null,null,null,null,{"$f":"SUM(OFFSET(テストデータ!$E3,211,9*成績表1!$B$4-9):OFFSET(テストデータ!$G3,211,9*成績表1!$B$4-9))","v":0},{"$f":"SUM(OFFSET(テストデータ!$E3,211,9*成績表1!$B$4-9):OFFSET(テストデータ!I3,211,9*成績表1!$B$4-9))","v":0},{"$f":"SUM(OFFSET(テストデータ!E3,211,0):OFFSET(テストデータ!G3,211,0))","v":0},{"$f":"SUM(OFFSET(テストデータ!E3,211,0):OFFSET(テストデータ!I3,211,0))","v":0},{"$f":"SUM(OFFSET(テストデータ!N3,211,0):OFFSET(テストデータ!P3,211,0))","v":0},{"$f":"SUM(OFFSET(テストデータ!N3,211,0):OFFSET(テストデータ!R3,211,0))","v":0},{"$f":"SUM(OFFSET(テストデータ!W3,211,0):OFFSET(テストデータ!Y3,211,0))","v":0},{"$f":"SUM(OFFSET(テストデータ!W3,211,0):OFFSET(テストデータ!AA3,211,0))","v":0},{"$f":"SUM(OFFSET(テストデータ!AF3,211,0):OFFSET(テストデータ!AH3,211,0))","v":0},{"$f":"SUM(OFFSET(テストデータ!AF3,211,0):OFFSET(テストデータ!AJ3,211,0))","v":0},{"$f":"SUM(OFFSET(テストデータ!AO3,211,0):OFFSET(テストデータ!AQ3,211,0))","v":0},{"$f":"SUM(OFFSET(テストデータ!AO3,211,0):OFFSET(テストデータ!AS3,211,0))","v":0},{"$f":"SUM(OFFSET(テストデータ!AX3,211,0):OFFSET(テストデータ!AZ3,211,0))","v":0},{"$f":"SUM(OFFSET(テストデータ!AX3,211,0):OFFSET(テストデータ!BB3,211,0))","v":0},{"$f":"SUM(OFFSET(テストデータ!BG3,211,0):OFFSET(テストデータ!BI3,211,0))","v":0},{"$f":"SUM(OFFSET(テストデータ!BG3,211,0):OFFSET(テストデータ!BK3,211,0))","v":0},{"$f":"SUM(OFFSET(テストデータ!BL3,211,0):OFFSET(テストデータ!BN3,211,0))","v":0},{"$f":"SUM(OFFSET(テストデータ!BL3,211,0):OFFSET(テストデータ!BP3,211,0))","v":0},{"$f":"SUM(OFFSET(テストデータ!BQ3,211,0):OFFSET(テストデータ!BS3,211,0))","v":0},{"$f":"SUM(OFFSET(テストデータ!BQ3,211,0):OFFSET(テストデータ!BU3,211,0))","v":0},{"$f":"SUM(OFFSET(テストデータ!BV3,211,0):OFFSET(テストデータ!BX3,211,0))","v":0},{"$f":"SUM(OFFSET(テストデータ!BV3,211,0):OFFSET(テストデータ!BZ3,211,0))","v":0},{"$f":"SUM(OFFSET(テストデータ!CA3,211,0):OFFSET(テストデータ!CC3,211,0))","v":0},{"$f":"SUM(OFFSET(テストデータ!CA3,211,0):OFFSET(テストデータ!CE3,211,0))","v":0},{"$f":"SUM(OFFSET(テストデータ!CF3,211,0):OFFSET(テストデータ!CH3,211,0))","v":0},{"$f":"SUM(OFFSET(テストデータ!CF3,211,0):OFFSET(テストデータ!CJ3,211,0))","v":0},{"$f":"SUM(OFFSET(テストデータ!CK3,211,0):OFFSET(テストデータ!CM3,211,0))","v":0},{"$f":"SUM(OFFSET(テストデータ!CK3,211,0):OFFSET(テストデータ!CO3,211,0))","v":0},{"$f":"SUM(OFFSET(テストデータ!CP3,211,0):OFFSET(テストデータ!CR3,211,0))","v":0},{"$f":"SUM(OFFSET(テストデータ!CP3,211,0):OFFSET(テストデータ!CT3,211,0))","v":0}]
[null,null,null,null,null,null,null,null,null,null,null,null,null,{"$f":"SUM(OFFSET(テストデータ!$E3,212,9*成績表1!$B$4-9):OFFSET(テストデータ!$G3,212,9*成績表1!$B$4-9))","v":0},{"$f":"SUM(OFFSET(テストデータ!$E3,212,9*成績表1!$B$4-9):OFFSET(テストデータ!I3,212,9*成績表1!$B$4-9))","v":0},{"$f":"SUM(OFFSET(テストデータ!E3,212,0):OFFSET(テストデータ!G3,212,0))","v":0},{"$f":"SUM(OFFSET(テストデータ!E3,212,0):OFFSET(テストデータ!I3,212,0))","v":0},{"$f":"SUM(OFFSET(テストデータ!N3,212,0):OFFSET(テストデータ!P3,212,0))","v":0},{"$f":"SUM(OFFSET(テストデータ!N3,212,0):OFFSET(テストデータ!R3,212,0))","v":0},{"$f":"SUM(OFFSET(テストデータ!W3,212,0):OFFSET(テストデータ!Y3,212,0))","v":0},{"$f":"SUM(OFFSET(テストデータ!W3,212,0):OFFSET(テストデータ!AA3,212,0))","v":0},{"$f":"SUM(OFFSET(テストデータ!AF3,212,0):OFFSET(テストデータ!AH3,212,0))","v":0},{"$f":"SUM(OFFSET(テストデータ!AF3,212,0):OFFSET(テストデータ!AJ3,212,0))","v":0},{"$f":"SUM(OFFSET(テストデータ!AO3,212,0):OFFSET(テストデータ!AQ3,212,0))","v":0},{"$f":"SUM(OFFSET(テストデータ!AO3,212,0):OFFSET(テストデータ!AS3,212,0))","v":0},{"$f":"SUM(OFFSET(テストデータ!AX3,212,0):OFFSET(テストデータ!AZ3,212,0))","v":0},{"$f":"SUM(OFFSET(テストデータ!AX3,212,0):OFFSET(テストデータ!BB3,212,0))","v":0},{"$f":"SUM(OFFSET(テストデータ!BG3,212,0):OFFSET(テストデータ!BI3,212,0))","v":0},{"$f":"SUM(OFFSET(テストデータ!BG3,212,0):OFFSET(テストデータ!BK3,212,0))","v":0},{"$f":"SUM(OFFSET(テストデータ!BL3,212,0):OFFSET(テストデータ!BN3,212,0))","v":0},{"$f":"SUM(OFFSET(テストデータ!BL3,212,0):OFFSET(テストデータ!BP3,212,0))","v":0},{"$f":"SUM(OFFSET(テストデータ!BQ3,212,0):OFFSET(テストデータ!BS3,212,0))","v":0},{"$f":"SUM(OFFSET(テストデータ!BQ3,212,0):OFFSET(テストデータ!BU3,212,0))","v":0},{"$f":"SUM(OFFSET(テストデータ!BV3,212,0):OFFSET(テストデータ!BX3,212,0))","v":0},{"$f":"SUM(OFFSET(テストデータ!BV3,212,0):OFFSET(テストデータ!BZ3,212,0))","v":0},{"$f":"SUM(OFFSET(テストデータ!CA3,212,0):OFFSET(テストデータ!CC3,212,0))","v":0},{"$f":"SUM(OFFSET(テストデータ!CA3,212,0):OFFSET(テストデータ!CE3,212,0))","v":0},{"$f":"SUM(OFFSET(テストデータ!CF3,212,0):OFFSET(テストデータ!CH3,212,0))","v":0},{"$f":"SUM(OFFSET(テストデータ!CF3,212,0):OFFSET(テストデータ!CJ3,212,0))","v":0},{"$f":"SUM(OFFSET(テストデータ!CK3,212,0):OFFSET(テストデータ!CM3,212,0))","v":0},{"$f":"SUM(OFFSET(テストデータ!CK3,212,0):OFFSET(テストデータ!CO3,212,0))","v":0},{"$f":"SUM(OFFSET(テストデータ!CP3,212,0):OFFSET(テストデータ!CR3,212,0))","v":0},{"$f":"SUM(OFFSET(テストデータ!CP3,212,0):OFFSET(テストデータ!CT3,212,0))","v":0}]
[null,null,null,null,null,null,null,null,null,null,null,null,null,{"$f":"SUM(OFFSET(テストデータ!$E3,213,9*成績表1!$B$4-9):OFFSET(テストデータ!$G3,213,9*成績表1!$B$4-9))","v":0},{"$f":"SUM(OFFSET(テストデータ!$E3,213,9*成績表1!$B$4-9):OFFSET(テストデータ!I3,213,9*成績表1!$B$4-9))","v":0},{"$f":"SUM(OFFSET(テストデータ!E3,213,0):OFFSET(テストデータ!G3,213,0))","v":0},{"$f":"SUM(OFFSET(テストデータ!E3,213,0):OFFSET(テストデータ!I3,213,0))","v":0},{"$f":"SUM(OFFSET(テストデータ!N3,213,0):OFFSET(テストデータ!P3,213,0))","v":0},{"$f":"SUM(OFFSET(テストデータ!N3,213,0):OFFSET(テストデータ!R3,213,0))","v":0},{"$f":"SUM(OFFSET(テストデータ!W3,213,0):OFFSET(テストデータ!Y3,213,0))","v":0},{"$f":"SUM(OFFSET(テストデータ!W3,213,0):OFFSET(テストデータ!AA3,213,0))","v":0},{"$f":"SUM(OFFSET(テストデータ!AF3,213,0):OFFSET(テストデータ!AH3,213,0))","v":0},{"$f":"SUM(OFFSET(テストデータ!AF3,213,0):OFFSET(テストデータ!AJ3,213,0))","v":0},{"$f":"SUM(OFFSET(テストデータ!AO3,213,0):OFFSET(テストデータ!AQ3,213,0))","v":0},{"$f":"SUM(OFFSET(テストデータ!AO3,213,0):OFFSET(テストデータ!AS3,213,0))","v":0},{"$f":"SUM(OFFSET(テストデータ!AX3,213,0):OFFSET(テストデータ!AZ3,213,0))","v":0},{"$f":"SUM(OFFSET(テストデータ!AX3,213,0):OFFSET(テストデータ!BB3,213,0))","v":0},{"$f":"SUM(OFFSET(テストデータ!BG3,213,0):OFFSET(テストデータ!BI3,213,0))","v":0},{"$f":"SUM(OFFSET(テストデータ!BG3,213,0):OFFSET(テストデータ!BK3,213,0))","v":0},{"$f":"SUM(OFFSET(テストデータ!BL3,213,0):OFFSET(テストデータ!BN3,213,0))","v":0},{"$f":"SUM(OFFSET(テストデータ!BL3,213,0):OFFSET(テストデータ!BP3,213,0))","v":0},{"$f":"SUM(OFFSET(テストデータ!BQ3,213,0):OFFSET(テストデータ!BS3,213,0))","v":0},{"$f":"SUM(OFFSET(テストデータ!BQ3,213,0):OFFSET(テストデータ!BU3,213,0))","v":0},{"$f":"SUM(OFFSET(テストデータ!BV3,213,0):OFFSET(テストデータ!BX3,213,0))","v":0},{"$f":"SUM(OFFSET(テストデータ!BV3,213,0):OFFSET(テストデータ!BZ3,213,0))","v":0},{"$f":"SUM(OFFSET(テストデータ!CA3,213,0):OFFSET(テストデータ!CC3,213,0))","v":0},{"$f":"SUM(OFFSET(テストデータ!CA3,213,0):OFFSET(テストデータ!CE3,213,0))","v":0},{"$f":"SUM(OFFSET(テストデータ!CF3,213,0):OFFSET(テストデータ!CH3,213,0))","v":0},{"$f":"SUM(OFFSET(テストデータ!CF3,213,0):OFFSET(テストデータ!CJ3,213,0))","v":0},{"$f":"SUM(OFFSET(テストデータ!CK3,213,0):OFFSET(テストデータ!CM3,213,0))","v":0},{"$f":"SUM(OFFSET(テストデータ!CK3,213,0):OFFSET(テストデータ!CO3,213,0))","v":0},{"$f":"SUM(OFFSET(テストデータ!CP3,213,0):OFFSET(テストデータ!CR3,213,0))","v":0},{"$f":"SUM(OFFSET(テストデータ!CP3,213,0):OFFSET(テストデータ!CT3,213,0))","v":0}]
[null,null,null,null,null,null,null,null,null,null,null,null,null,{"$f":"SUM(OFFSET(テストデータ!$E3,214,9*成績表1!$B$4-9):OFFSET(テストデータ!$G3,214,9*成績表1!$B$4-9))","v":0},{"$f":"SUM(OFFSET(テストデータ!$E3,214,9*成績表1!$B$4-9):OFFSET(テストデータ!I3,214,9*成績表1!$B$4-9))","v":0},{"$f":"SUM(OFFSET(テストデータ!E3,214,0):OFFSET(テストデータ!G3,214,0))","v":0},{"$f":"SUM(OFFSET(テストデータ!E3,214,0):OFFSET(テストデータ!I3,214,0))","v":0},{"$f":"SUM(OFFSET(テストデータ!N3,214,0):OFFSET(テストデータ!P3,214,0))","v":0},{"$f":"SUM(OFFSET(テストデータ!N3,214,0):OFFSET(テストデータ!R3,214,0))","v":0},{"$f":"SUM(OFFSET(テストデータ!W3,214,0):OFFSET(テストデータ!Y3,214,0))","v":0},{"$f":"SUM(OFFSET(テストデータ!W3,214,0):OFFSET(テストデータ!AA3,214,0))","v":0},{"$f":"SUM(OFFSET(テストデータ!AF3,214,0):OFFSET(テストデータ!AH3,214,0))","v":0},{"$f":"SUM(OFFSET(テストデータ!AF3,214,0):OFFSET(テストデータ!AJ3,214,0))","v":0},{"$f":"SUM(OFFSET(テストデータ!AO3,214,0):OFFSET(テストデータ!AQ3,214,0))","v":0},{"$f":"SUM(OFFSET(テストデータ!AO3,214,0):OFFSET(テストデータ!AS3,214,0))","v":0},{"$f":"SUM(OFFSET(テストデータ!AX3,214,0):OFFSET(テストデータ!AZ3,214,0))","v":0},{"$f":"SUM(OFFSET(テストデータ!AX3,214,0):OFFSET(テストデータ!BB3,214,0))","v":0},{"$f":"SUM(OFFSET(テストデータ!BG3,214,0):OFFSET(テストデータ!BI3,214,0))","v":0},{"$f":"SUM(OFFSET(テストデータ!BG3,214,0):OFFSET(テストデータ!BK3,214,0))","v":0},{"$f":"SUM(OFFSET(テストデータ!BL3,214,0):OFFSET(テストデータ!BN3,214,0))","v":0},{"$f":"SUM(OFFSET(テストデータ!BL3,214,0):OFFSET(テストデータ!BP3,214,0))","v":0},{"$f":"SUM(OFFSET(テストデータ!BQ3,214,0):OFFSET(テストデータ!BS3,214,0))","v":0},{"$f":"SUM(OFFSET(テストデータ!BQ3,214,0):OFFSET(テストデータ!BU3,214,0))","v":0},{"$f":"SUM(OFFSET(テストデータ!BV3,214,0):OFFSET(テストデータ!BX3,214,0))","v":0},{"$f":"SUM(OFFSET(テストデータ!BV3,214,0):OFFSET(テストデータ!BZ3,214,0))","v":0},{"$f":"SUM(OFFSET(テストデータ!CA3,214,0):OFFSET(テストデータ!CC3,214,0))","v":0},{"$f":"SUM(OFFSET(テストデータ!CA3,214,0):OFFSET(テストデータ!CE3,214,0))","v":0},{"$f":"SUM(OFFSET(テストデータ!CF3,214,0):OFFSET(テストデータ!CH3,214,0))","v":0},{"$f":"SUM(OFFSET(テストデータ!CF3,214,0):OFFSET(テストデータ!CJ3,214,0))","v":0},{"$f":"SUM(OFFSET(テストデータ!CK3,214,0):OFFSET(テストデータ!CM3,214,0))","v":0},{"$f":"SUM(OFFSET(テストデータ!CK3,214,0):OFFSET(テストデータ!CO3,214,0))","v":0},{"$f":"SUM(OFFSET(テストデータ!CP3,214,0):OFFSET(テストデータ!CR3,214,0))","v":0},{"$f":"SUM(OFFSET(テストデータ!CP3,214,0):OFFSET(テストデータ!CT3,214,0))","v":0}]
[null,null,null,null,null,null,null,null,null,null,null,null,null,{"$f":"SUM(OFFSET(テストデータ!$E3,215,9*成績表1!$B$4-9):OFFSET(テストデータ!$G3,215,9*成績表1!$B$4-9))","v":0},{"$f":"SUM(OFFSET(テストデータ!$E3,215,9*成績表1!$B$4-9):OFFSET(テストデータ!I3,215,9*成績表1!$B$4-9))","v":0},{"$f":"SUM(OFFSET(テストデータ!E3,215,0):OFFSET(テストデータ!G3,215,0))","v":0},{"$f":"SUM(OFFSET(テストデータ!E3,215,0):OFFSET(テストデータ!I3,215,0))","v":0},{"$f":"SUM(OFFSET(テストデータ!N3,215,0):OFFSET(テストデータ!P3,215,0))","v":0},{"$f":"SUM(OFFSET(テストデータ!N3,215,0):OFFSET(テストデータ!R3,215,0))","v":0},{"$f":"SUM(OFFSET(テストデータ!W3,215,0):OFFSET(テストデータ!Y3,215,0))","v":0},{"$f":"SUM(OFFSET(テストデータ!W3,215,0):OFFSET(テストデータ!AA3,215,0))","v":0},{"$f":"SUM(OFFSET(テストデータ!AF3,215,0):OFFSET(テストデータ!AH3,215,0))","v":0},{"$f":"SUM(OFFSET(テストデータ!AF3,215,0):OFFSET(テストデータ!AJ3,215,0))","v":0},{"$f":"SUM(OFFSET(テストデータ!AO3,215,0):OFFSET(テストデータ!AQ3,215,0))","v":0},{"$f":"SUM(OFFSET(テストデータ!AO3,215,0):OFFSET(テストデータ!AS3,215,0))","v":0},{"$f":"SUM(OFFSET(テストデータ!AX3,215,0):OFFSET(テストデータ!AZ3,215,0))","v":0},{"$f":"SUM(OFFSET(テストデータ!AX3,215,0):OFFSET(テストデータ!BB3,215,0))","v":0},{"$f":"SUM(OFFSET(テストデータ!BG3,215,0):OFFSET(テストデータ!BI3,215,0))","v":0},{"$f":"SUM(OFFSET(テストデータ!BG3,215,0):OFFSET(テストデータ!BK3,215,0))","v":0},{"$f":"SUM(OFFSET(テストデータ!BL3,215,0):OFFSET(テストデータ!BN3,215,0))","v":0},{"$f":"SUM(OFFSET(テストデータ!BL3,215,0):OFFSET(テストデータ!BP3,215,0))","v":0},{"$f":"SUM(OFFSET(テストデータ!BQ3,215,0):OFFSET(テストデータ!BS3,215,0))","v":0},{"$f":"SUM(OFFSET(テストデータ!BQ3,215,0):OFFSET(テストデータ!BU3,215,0))","v":0},{"$f":"SUM(OFFSET(テストデータ!BV3,215,0):OFFSET(テストデータ!BX3,215,0))","v":0},{"$f":"SUM(OFFSET(テストデータ!BV3,215,0):OFFSET(テストデータ!BZ3,215,0))","v":0},{"$f":"SUM(OFFSET(テストデータ!CA3,215,0):OFFSET(テストデータ!CC3,215,0))","v":0},{"$f":"SUM(OFFSET(テストデータ!CA3,215,0):OFFSET(テストデータ!CE3,215,0))","v":0},{"$f":"SUM(OFFSET(テストデータ!CF3,215,0):OFFSET(テストデータ!CH3,215,0))","v":0},{"$f":"SUM(OFFSET(テストデータ!CF3,215,0):OFFSET(テストデータ!CJ3,215,0))","v":0},{"$f":"SUM(OFFSET(テストデータ!CK3,215,0):OFFSET(テストデータ!CM3,215,0))","v":0},{"$f":"SUM(OFFSET(テストデータ!CK3,215,0):OFFSET(テストデータ!CO3,215,0))","v":0},{"$f":"SUM(OFFSET(テストデータ!CP3,215,0):OFFSET(テストデータ!CR3,215,0))","v":0},{"$f":"SUM(OFFSET(テストデータ!CP3,215,0):OFFSET(テストデータ!CT3,215,0))","v":0}]
[null,null,null,null,null,null,null,null,null,null,null,null,null,{"$f":"SUM(OFFSET(テストデータ!$E3,216,9*成績表1!$B$4-9):OFFSET(テストデータ!$G3,216,9*成績表1!$B$4-9))","v":0},{"$f":"SUM(OFFSET(テストデータ!$E3,216,9*成績表1!$B$4-9):OFFSET(テストデータ!I3,216,9*成績表1!$B$4-9))","v":0},{"$f":"SUM(OFFSET(テストデータ!E3,216,0):OFFSET(テストデータ!G3,216,0))","v":0},{"$f":"SUM(OFFSET(テストデータ!E3,216,0):OFFSET(テストデータ!I3,216,0))","v":0},{"$f":"SUM(OFFSET(テストデータ!N3,216,0):OFFSET(テストデータ!P3,216,0))","v":0},{"$f":"SUM(OFFSET(テストデータ!N3,216,0):OFFSET(テストデータ!R3,216,0))","v":0},{"$f":"SUM(OFFSET(テストデータ!W3,216,0):OFFSET(テストデータ!Y3,216,0))","v":0},{"$f":"SUM(OFFSET(テストデータ!W3,216,0):OFFSET(テストデータ!AA3,216,0))","v":0},{"$f":"SUM(OFFSET(テストデータ!AF3,216,0):OFFSET(テストデータ!AH3,216,0))","v":0},{"$f":"SUM(OFFSET(テストデータ!AF3,216,0):OFFSET(テストデータ!AJ3,216,0))","v":0},{"$f":"SUM(OFFSET(テストデータ!AO3,216,0):OFFSET(テストデータ!AQ3,216,0))","v":0},{"$f":"SUM(OFFSET(テストデータ!AO3,216,0):OFFSET(テストデータ!AS3,216,0))","v":0},{"$f":"SUM(OFFSET(テストデータ!AX3,216,0):OFFSET(テストデータ!AZ3,216,0))","v":0},{"$f":"SUM(OFFSET(テストデータ!AX3,216,0):OFFSET(テストデータ!BB3,216,0))","v":0},{"$f":"SUM(OFFSET(テストデータ!BG3,216,0):OFFSET(テストデータ!BI3,216,0))","v":0},{"$f":"SUM(OFFSET(テストデータ!BG3,216,0):OFFSET(テストデータ!BK3,216,0))","v":0},{"$f":"SUM(OFFSET(テストデータ!BL3,216,0):OFFSET(テストデータ!BN3,216,0))","v":0},{"$f":"SUM(OFFSET(テストデータ!BL3,216,0):OFFSET(テストデータ!BP3,216,0))","v":0},{"$f":"SUM(OFFSET(テストデータ!BQ3,216,0):OFFSET(テストデータ!BS3,216,0))","v":0},{"$f":"SUM(OFFSET(テストデータ!BQ3,216,0):OFFSET(テストデータ!BU3,216,0))","v":0},{"$f":"SUM(OFFSET(テストデータ!BV3,216,0):OFFSET(テストデータ!BX3,216,0))","v":0},{"$f":"SUM(OFFSET(テストデータ!BV3,216,0):OFFSET(テストデータ!BZ3,216,0))","v":0},{"$f":"SUM(OFFSET(テストデータ!CA3,216,0):OFFSET(テストデータ!CC3,216,0))","v":0},{"$f":"SUM(OFFSET(テストデータ!CA3,216,0):OFFSET(テストデータ!CE3,216,0))","v":0},{"$f":"SUM(OFFSET(テストデータ!CF3,216,0):OFFSET(テストデータ!CH3,216,0))","v":0},{"$f":"SUM(OFFSET(テストデータ!CF3,216,0):OFFSET(テストデータ!CJ3,216,0))","v":0},{"$f":"SUM(OFFSET(テストデータ!CK3,216,0):OFFSET(テストデータ!CM3,216,0))","v":0},{"$f":"SUM(OFFSET(テストデータ!CK3,216,0):OFFSET(テストデータ!CO3,216,0))","v":0},{"$f":"SUM(OFFSET(テストデータ!CP3,216,0):OFFSET(テストデータ!CR3,216,0))","v":0},{"$f":"SUM(OFFSET(テストデータ!CP3,216,0):OFFSET(テストデータ!CT3,216,0))","v":0}]
[null,null,null,null,null,null,null,null,null,null,null,null,null,{"$f":"SUM(OFFSET(テストデータ!$E3,217,9*成績表1!$B$4-9):OFFSET(テストデータ!$G3,217,9*成績表1!$B$4-9))","v":0},{"$f":"SUM(OFFSET(テストデータ!$E3,217,9*成績表1!$B$4-9):OFFSET(テストデータ!I3,217,9*成績表1!$B$4-9))","v":0},{"$f":"SUM(OFFSET(テストデータ!E3,217,0):OFFSET(テストデータ!G3,217,0))","v":0},{"$f":"SUM(OFFSET(テストデータ!E3,217,0):OFFSET(テストデータ!I3,217,0))","v":0},{"$f":"SUM(OFFSET(テストデータ!N3,217,0):OFFSET(テストデータ!P3,217,0))","v":0},{"$f":"SUM(OFFSET(テストデータ!N3,217,0):OFFSET(テストデータ!R3,217,0))","v":0},{"$f":"SUM(OFFSET(テストデータ!W3,217,0):OFFSET(テストデータ!Y3,217,0))","v":0},{"$f":"SUM(OFFSET(テストデータ!W3,217,0):OFFSET(テストデータ!AA3,217,0))","v":0},{"$f":"SUM(OFFSET(テストデータ!AF3,217,0):OFFSET(テストデータ!AH3,217,0))","v":0},{"$f":"SUM(OFFSET(テストデータ!AF3,217,0):OFFSET(テストデータ!AJ3,217,0))","v":0},{"$f":"SUM(OFFSET(テストデータ!AO3,217,0):OFFSET(テストデータ!AQ3,217,0))","v":0},{"$f":"SUM(OFFSET(テストデータ!AO3,217,0):OFFSET(テストデータ!AS3,217,0))","v":0},{"$f":"SUM(OFFSET(テストデータ!AX3,217,0):OFFSET(テストデータ!AZ3,217,0))","v":0},{"$f":"SUM(OFFSET(テストデータ!AX3,217,0):OFFSET(テストデータ!BB3,217,0))","v":0},{"$f":"SUM(OFFSET(テストデータ!BG3,217,0):OFFSET(テストデータ!BI3,217,0))","v":0},{"$f":"SUM(OFFSET(テストデータ!BG3,217,0):OFFSET(テストデータ!BK3,217,0))","v":0},{"$f":"SUM(OFFSET(テストデータ!BL3,217,0):OFFSET(テストデータ!BN3,217,0))","v":0},{"$f":"SUM(OFFSET(テストデータ!BL3,217,0):OFFSET(テストデータ!BP3,217,0))","v":0},{"$f":"SUM(OFFSET(テストデータ!BQ3,217,0):OFFSET(テストデータ!BS3,217,0))","v":0},{"$f":"SUM(OFFSET(テストデータ!BQ3,217,0):OFFSET(テストデータ!BU3,217,0))","v":0},{"$f":"SUM(OFFSET(テストデータ!BV3,217,0):OFFSET(テストデータ!BX3,217,0))","v":0},{"$f":"SUM(OFFSET(テストデータ!BV3,217,0):OFFSET(テストデータ!BZ3,217,0))","v":0},{"$f":"SUM(OFFSET(テストデータ!CA3,217,0):OFFSET(テストデータ!CC3,217,0))","v":0},{"$f":"SUM(OFFSET(テストデータ!CA3,217,0):OFFSET(テストデータ!CE3,217,0))","v":0},{"$f":"SUM(OFFSET(テストデータ!CF3,217,0):OFFSET(テストデータ!CH3,217,0))","v":0},{"$f":"SUM(OFFSET(テストデータ!CF3,217,0):OFFSET(テストデータ!CJ3,217,0))","v":0},{"$f":"SUM(OFFSET(テストデータ!CK3,217,0):OFFSET(テストデータ!CM3,217,0))","v":0},{"$f":"SUM(OFFSET(テストデータ!CK3,217,0):OFFSET(テストデータ!CO3,217,0))","v":0},{"$f":"SUM(OFFSET(テストデータ!CP3,217,0):OFFSET(テストデータ!CR3,217,0))","v":0},{"$f":"SUM(OFFSET(テストデータ!CP3,217,0):OFFSET(テストデータ!CT3,217,0))","v":0}]
[null,null,null,null,null,null,null,null,null,null,null,null,null,{"$f":"SUM(OFFSET(テストデータ!$E3,218,9*成績表1!$B$4-9):OFFSET(テストデータ!$G3,218,9*成績表1!$B$4-9))","v":0},{"$f":"SUM(OFFSET(テストデータ!$E3,218,9*成績表1!$B$4-9):OFFSET(テストデータ!I3,218,9*成績表1!$B$4-9))","v":0},{"$f":"SUM(OFFSET(テストデータ!E3,218,0):OFFSET(テストデータ!G3,218,0))","v":0},{"$f":"SUM(OFFSET(テストデータ!E3,218,0):OFFSET(テストデータ!I3,218,0))","v":0},{"$f":"SUM(OFFSET(テストデータ!N3,218,0):OFFSET(テストデータ!P3,218,0))","v":0},{"$f":"SUM(OFFSET(テストデータ!N3,218,0):OFFSET(テストデータ!R3,218,0))","v":0},{"$f":"SUM(OFFSET(テストデータ!W3,218,0):OFFSET(テストデータ!Y3,218,0))","v":0},{"$f":"SUM(OFFSET(テストデータ!W3,218,0):OFFSET(テストデータ!AA3,218,0))","v":0},{"$f":"SUM(OFFSET(テストデータ!AF3,218,0):OFFSET(テストデータ!AH3,218,0))","v":0},{"$f":"SUM(OFFSET(テストデータ!AF3,218,0):OFFSET(テストデータ!AJ3,218,0))","v":0},{"$f":"SUM(OFFSET(テストデータ!AO3,218,0):OFFSET(テストデータ!AQ3,218,0))","v":0},{"$f":"SUM(OFFSET(テストデータ!AO3,218,0):OFFSET(テストデータ!AS3,218,0))","v":0},{"$f":"SUM(OFFSET(テストデータ!AX3,218,0):OFFSET(テストデータ!AZ3,218,0))","v":0},{"$f":"SUM(OFFSET(テストデータ!AX3,218,0):OFFSET(テストデータ!BB3,218,0))","v":0},{"$f":"SUM(OFFSET(テストデータ!BG3,218,0):OFFSET(テストデータ!BI3,218,0))","v":0},{"$f":"SUM(OFFSET(テストデータ!BG3,218,0):OFFSET(テストデータ!BK3,218,0))","v":0},{"$f":"SUM(OFFSET(テストデータ!BL3,218,0):OFFSET(テストデータ!BN3,218,0))","v":0},{"$f":"SUM(OFFSET(テストデータ!BL3,218,0):OFFSET(テストデータ!BP3,218,0))","v":0},{"$f":"SUM(OFFSET(テストデータ!BQ3,218,0):OFFSET(テストデータ!BS3,218,0))","v":0},{"$f":"SUM(OFFSET(テストデータ!BQ3,218,0):OFFSET(テストデータ!BU3,218,0))","v":0},{"$f":"SUM(OFFSET(テストデータ!BV3,218,0):OFFSET(テストデータ!BX3,218,0))","v":0},{"$f":"SUM(OFFSET(テストデータ!BV3,218,0):OFFSET(テストデータ!BZ3,218,0))","v":0},{"$f":"SUM(OFFSET(テストデータ!CA3,218,0):OFFSET(テストデータ!CC3,218,0))","v":0},{"$f":"SUM(OFFSET(テストデータ!CA3,218,0):OFFSET(テストデータ!CE3,218,0))","v":0},{"$f":"SUM(OFFSET(テストデータ!CF3,218,0):OFFSET(テストデータ!CH3,218,0))","v":0},{"$f":"SUM(OFFSET(テストデータ!CF3,218,0):OFFSET(テストデータ!CJ3,218,0))","v":0},{"$f":"SUM(OFFSET(テストデータ!CK3,218,0):OFFSET(テストデータ!CM3,218,0))","v":0},{"$f":"SUM(OFFSET(テストデータ!CK3,218,0):OFFSET(テストデータ!CO3,218,0))","v":0},{"$f":"SUM(OFFSET(テストデータ!CP3,218,0):OFFSET(テストデータ!CR3,218,0))","v":0},{"$f":"SUM(OFFSET(テストデータ!CP3,218,0):OFFSET(テストデータ!CT3,218,0))","v":0}]
[null,null,null,null,null,null,null,null,null,null,null,null,null,{"$f":"SUM(OFFSET(テストデータ!$E3,219,9*成績表1!$B$4-9):OFFSET(テストデータ!$G3,219,9*成績表1!$B$4-9))","v":0},{"$f":"SUM(OFFSET(テストデータ!$E3,219,9*成績表1!$B$4-9):OFFSET(テストデータ!I3,219,9*成績表1!$B$4-9))","v":0},{"$f":"SUM(OFFSET(テストデータ!E3,219,0):OFFSET(テストデータ!G3,219,0))","v":0},{"$f":"SUM(OFFSET(テストデータ!E3,219,0):OFFSET(テストデータ!I3,219,0))","v":0},{"$f":"SUM(OFFSET(テストデータ!N3,219,0):OFFSET(テストデータ!P3,219,0))","v":0},{"$f":"SUM(OFFSET(テストデータ!N3,219,0):OFFSET(テストデータ!R3,219,0))","v":0},{"$f":"SUM(OFFSET(テストデータ!W3,219,0):OFFSET(テストデータ!Y3,219,0))","v":0},{"$f":"SUM(OFFSET(テストデータ!W3,219,0):OFFSET(テストデータ!AA3,219,0))","v":0},{"$f":"SUM(OFFSET(テストデータ!AF3,219,0):OFFSET(テストデータ!AH3,219,0))","v":0},{"$f":"SUM(OFFSET(テストデータ!AF3,219,0):OFFSET(テストデータ!AJ3,219,0))","v":0},{"$f":"SUM(OFFSET(テストデータ!AO3,219,0):OFFSET(テストデータ!AQ3,219,0))","v":0},{"$f":"SUM(OFFSET(テストデータ!AO3,219,0):OFFSET(テストデータ!AS3,219,0))","v":0},{"$f":"SUM(OFFSET(テストデータ!AX3,219,0):OFFSET(テストデータ!AZ3,219,0))","v":0},{"$f":"SUM(OFFSET(テストデータ!AX3,219,0):OFFSET(テストデータ!BB3,219,0))","v":0},{"$f":"SUM(OFFSET(テストデータ!BG3,219,0):OFFSET(テストデータ!BI3,219,0))","v":0},{"$f":"SUM(OFFSET(テストデータ!BG3,219,0):OFFSET(テストデータ!BK3,219,0))","v":0},{"$f":"SUM(OFFSET(テストデータ!BL3,219,0):OFFSET(テストデータ!BN3,219,0))","v":0},{"$f":"SUM(OFFSET(テストデータ!BL3,219,0):OFFSET(テストデータ!BP3,219,0))","v":0},{"$f":"SUM(OFFSET(テストデータ!BQ3,219,0):OFFSET(テストデータ!BS3,219,0))","v":0},{"$f":"SUM(OFFSET(テストデータ!BQ3,219,0):OFFSET(テストデータ!BU3,219,0))","v":0},{"$f":"SUM(OFFSET(テストデータ!BV3,219,0):OFFSET(テストデータ!BX3,219,0))","v":0},{"$f":"SUM(OFFSET(テストデータ!BV3,219,0):OFFSET(テストデータ!BZ3,219,0))","v":0},{"$f":"SUM(OFFSET(テストデータ!CA3,219,0):OFFSET(テストデータ!CC3,219,0))","v":0},{"$f":"SUM(OFFSET(テストデータ!CA3,219,0):OFFSET(テストデータ!CE3,219,0))","v":0},{"$f":"SUM(OFFSET(テストデータ!CF3,219,0):OFFSET(テストデータ!CH3,219,0))","v":0},{"$f":"SUM(OFFSET(テストデータ!CF3,219,0):OFFSET(テストデータ!CJ3,219,0))","v":0},{"$f":"SUM(OFFSET(テストデータ!CK3,219,0):OFFSET(テストデータ!CM3,219,0))","v":0},{"$f":"SUM(OFFSET(テストデータ!CK3,219,0):OFFSET(テストデータ!CO3,219,0))","v":0},{"$f":"SUM(OFFSET(テストデータ!CP3,219,0):OFFSET(テストデータ!CR3,219,0))","v":0},{"$f":"SUM(OFFSET(テストデータ!CP3,219,0):OFFSET(テストデータ!CT3,219,0))","v":0}]
[null,null,null,null,null,null,null,null,null,null,null,null,null,{"$f":"SUM(OFFSET(テストデータ!$E3,220,9*成績表1!$B$4-9):OFFSET(テストデータ!$G3,220,9*成績表1!$B$4-9))","v":0},{"$f":"SUM(OFFSET(テストデータ!$E3,220,9*成績表1!$B$4-9):OFFSET(テストデータ!I3,220,9*成績表1!$B$4-9))","v":0},{"$f":"SUM(OFFSET(テストデータ!E3,220,0):OFFSET(テストデータ!G3,220,0))","v":0},{"$f":"SUM(OFFSET(テストデータ!E3,220,0):OFFSET(テストデータ!I3,220,0))","v":0},{"$f":"SUM(OFFSET(テストデータ!N3,220,0):OFFSET(テストデータ!P3,220,0))","v":0},{"$f":"SUM(OFFSET(テストデータ!N3,220,0):OFFSET(テストデータ!R3,220,0))","v":0},{"$f":"SUM(OFFSET(テストデータ!W3,220,0):OFFSET(テストデータ!Y3,220,0))","v":0},{"$f":"SUM(OFFSET(テストデータ!W3,220,0):OFFSET(テストデータ!AA3,220,0))","v":0},{"$f":"SUM(OFFSET(テストデータ!AF3,220,0):OFFSET(テストデータ!AH3,220,0))","v":0},{"$f":"SUM(OFFSET(テストデータ!AF3,220,0):OFFSET(テストデータ!AJ3,220,0))","v":0},{"$f":"SUM(OFFSET(テストデータ!AO3,220,0):OFFSET(テストデータ!AQ3,220,0))","v":0},{"$f":"SUM(OFFSET(テストデータ!AO3,220,0):OFFSET(テストデータ!AS3,220,0))","v":0},{"$f":"SUM(OFFSET(テストデータ!AX3,220,0):OFFSET(テストデータ!AZ3,220,0))","v":0},{"$f":"SUM(OFFSET(テストデータ!AX3,220,0):OFFSET(テストデータ!BB3,220,0))","v":0},{"$f":"SUM(OFFSET(テストデータ!BG3,220,0):OFFSET(テストデータ!BI3,220,0))","v":0},{"$f":"SUM(OFFSET(テストデータ!BG3,220,0):OFFSET(テストデータ!BK3,220,0))","v":0},{"$f":"SUM(OFFSET(テストデータ!BL3,220,0):OFFSET(テストデータ!BN3,220,0))","v":0},{"$f":"SUM(OFFSET(テストデータ!BL3,220,0):OFFSET(テストデータ!BP3,220,0))","v":0},{"$f":"SUM(OFFSET(テストデータ!BQ3,220,0):OFFSET(テストデータ!BS3,220,0))","v":0},{"$f":"SUM(OFFSET(テストデータ!BQ3,220,0):OFFSET(テストデータ!BU3,220,0))","v":0},{"$f":"SUM(OFFSET(テストデータ!BV3,220,0):OFFSET(テストデータ!BX3,220,0))","v":0},{"$f":"SUM(OFFSET(テストデータ!BV3,220,0):OFFSET(テストデータ!BZ3,220,0))","v":0},{"$f":"SUM(OFFSET(テストデータ!CA3,220,0):OFFSET(テストデータ!CC3,220,0))","v":0},{"$f":"SUM(OFFSET(テストデータ!CA3,220,0):OFFSET(テストデータ!CE3,220,0))","v":0},{"$f":"SUM(OFFSET(テストデータ!CF3,220,0):OFFSET(テストデータ!CH3,220,0))","v":0},{"$f":"SUM(OFFSET(テストデータ!CF3,220,0):OFFSET(テストデータ!CJ3,220,0))","v":0},{"$f":"SUM(OFFSET(テストデータ!CK3,220,0):OFFSET(テストデータ!CM3,220,0))","v":0},{"$f":"SUM(OFFSET(テストデータ!CK3,220,0):OFFSET(テストデータ!CO3,220,0))","v":0},{"$f":"SUM(OFFSET(テストデータ!CP3,220,0):OFFSET(テストデータ!CR3,220,0))","v":0},{"$f":"SUM(OFFSET(テストデータ!CP3,220,0):OFFSET(テストデータ!CT3,220,0))","v":0}]
[null,null,null,null,null,null,null,null,null,null,null,null,null,{"$f":"SUM(OFFSET(テストデータ!$E3,221,9*成績表1!$B$4-9):OFFSET(テストデータ!$G3,221,9*成績表1!$B$4-9))","v":0},{"$f":"SUM(OFFSET(テストデータ!$E3,221,9*成績表1!$B$4-9):OFFSET(テストデータ!I3,221,9*成績表1!$B$4-9))","v":0},{"$f":"SUM(OFFSET(テストデータ!E3,221,0):OFFSET(テストデータ!G3,221,0))","v":0},{"$f":"SUM(OFFSET(テストデータ!E3,221,0):OFFSET(テストデータ!I3,221,0))","v":0},{"$f":"SUM(OFFSET(テストデータ!N3,221,0):OFFSET(テストデータ!P3,221,0))","v":0},{"$f":"SUM(OFFSET(テストデータ!N3,221,0):OFFSET(テストデータ!R3,221,0))","v":0},{"$f":"SUM(OFFSET(テストデータ!W3,221,0):OFFSET(テストデータ!Y3,221,0))","v":0},{"$f":"SUM(OFFSET(テストデータ!W3,221,0):OFFSET(テストデータ!AA3,221,0))","v":0},{"$f":"SUM(OFFSET(テストデータ!AF3,221,0):OFFSET(テストデータ!AH3,221,0))","v":0},{"$f":"SUM(OFFSET(テストデータ!AF3,221,0):OFFSET(テストデータ!AJ3,221,0))","v":0},{"$f":"SUM(OFFSET(テストデータ!AO3,221,0):OFFSET(テストデータ!AQ3,221,0))","v":0},{"$f":"SUM(OFFSET(テストデータ!AO3,221,0):OFFSET(テストデータ!AS3,221,0))","v":0},{"$f":"SUM(OFFSET(テストデータ!AX3,221,0):OFFSET(テストデータ!AZ3,221,0))","v":0},{"$f":"SUM(OFFSET(テストデータ!AX3,221,0):OFFSET(テストデータ!BB3,221,0))","v":0},{"$f":"SUM(OFFSET(テストデータ!BG3,221,0):OFFSET(テストデータ!BI3,221,0))","v":0},{"$f":"SUM(OFFSET(テストデータ!BG3,221,0):OFFSET(テストデータ!BK3,221,0))","v":0},{"$f":"SUM(OFFSET(テストデータ!BL3,221,0):OFFSET(テストデータ!BN3,221,0))","v":0},{"$f":"SUM(OFFSET(テストデータ!BL3,221,0):OFFSET(テストデータ!BP3,221,0))","v":0},{"$f":"SUM(OFFSET(テストデータ!BQ3,221,0):OFFSET(テストデータ!BS3,221,0))","v":0},{"$f":"SUM(OFFSET(テストデータ!BQ3,221,0):OFFSET(テストデータ!BU3,221,0))","v":0},{"$f":"SUM(OFFSET(テストデータ!BV3,221,0):OFFSET(テストデータ!BX3,221,0))","v":0},{"$f":"SUM(OFFSET(テストデータ!BV3,221,0):OFFSET(テストデータ!BZ3,221,0))","v":0},{"$f":"SUM(OFFSET(テストデータ!CA3,221,0):OFFSET(テストデータ!CC3,221,0))","v":0},{"$f":"SUM(OFFSET(テストデータ!CA3,221,0):OFFSET(テストデータ!CE3,221,0))","v":0},{"$f":"SUM(OFFSET(テストデータ!CF3,221,0):OFFSET(テストデータ!CH3,221,0))","v":0},{"$f":"SUM(OFFSET(テストデータ!CF3,221,0):OFFSET(テストデータ!CJ3,221,0))","v":0},{"$f":"SUM(OFFSET(テストデータ!CK3,221,0):OFFSET(テストデータ!CM3,221,0))","v":0},{"$f":"SUM(OFFSET(テストデータ!CK3,221,0):OFFSET(テストデータ!CO3,221,0))","v":0},{"$f":"SUM(OFFSET(テストデータ!CP3,221,0):OFFSET(テストデータ!CR3,221,0))","v":0},{"$f":"SUM(OFFSET(テストデータ!CP3,221,0):OFFSET(テストデータ!CT3,221,0))","v":0}]
[null,null,null,null,null,null,null,null,null,null,null,null,null,{"$f":"SUM(OFFSET(テストデータ!$E3,222,9*成績表1!$B$4-9):OFFSET(テストデータ!$G3,222,9*成績表1!$B$4-9))","v":0},{"$f":"SUM(OFFSET(テストデータ!$E3,222,9*成績表1!$B$4-9):OFFSET(テストデータ!I3,222,9*成績表1!$B$4-9))","v":0},{"$f":"SUM(OFFSET(テストデータ!E3,222,0):OFFSET(テストデータ!G3,222,0))","v":0},{"$f":"SUM(OFFSET(テストデータ!E3,222,0):OFFSET(テストデータ!I3,222,0))","v":0},{"$f":"SUM(OFFSET(テストデータ!N3,222,0):OFFSET(テストデータ!P3,222,0))","v":0},{"$f":"SUM(OFFSET(テストデータ!N3,222,0):OFFSET(テストデータ!R3,222,0))","v":0},{"$f":"SUM(OFFSET(テストデータ!W3,222,0):OFFSET(テストデータ!Y3,222,0))","v":0},{"$f":"SUM(OFFSET(テストデータ!W3,222,0):OFFSET(テストデータ!AA3,222,0))","v":0},{"$f":"SUM(OFFSET(テストデータ!AF3,222,0):OFFSET(テストデータ!AH3,222,0))","v":0},{"$f":"SUM(OFFSET(テストデータ!AF3,222,0):OFFSET(テストデータ!AJ3,222,0))","v":0},{"$f":"SUM(OFFSET(テストデータ!AO3,222,0):OFFSET(テストデータ!AQ3,222,0))","v":0},{"$f":"SUM(OFFSET(テストデータ!AO3,222,0):OFFSET(テストデータ!AS3,222,0))","v":0},{"$f":"SUM(OFFSET(テストデータ!AX3,222,0):OFFSET(テストデータ!AZ3,222,0))","v":0},{"$f":"SUM(OFFSET(テストデータ!AX3,222,0):OFFSET(テストデータ!BB3,222,0))","v":0},{"$f":"SUM(OFFSET(テストデータ!BG3,222,0):OFFSET(テストデータ!BI3,222,0))","v":0},{"$f":"SUM(OFFSET(テストデータ!BG3,222,0):OFFSET(テストデータ!BK3,222,0))","v":0},{"$f":"SUM(OFFSET(テストデータ!BL3,222,0):OFFSET(テストデータ!BN3,222,0))","v":0},{"$f":"SUM(OFFSET(テストデータ!BL3,222,0):OFFSET(テストデータ!BP3,222,0))","v":0},{"$f":"SUM(OFFSET(テストデータ!BQ3,222,0):OFFSET(テストデータ!BS3,222,0))","v":0},{"$f":"SUM(OFFSET(テストデータ!BQ3,222,0):OFFSET(テストデータ!BU3,222,0))","v":0},{"$f":"SUM(OFFSET(テストデータ!BV3,222,0):OFFSET(テストデータ!BX3,222,0))","v":0},{"$f":"SUM(OFFSET(テストデータ!BV3,222,0):OFFSET(テストデータ!BZ3,222,0))","v":0},{"$f":"SUM(OFFSET(テストデータ!CA3,222,0):OFFSET(テストデータ!CC3,222,0))","v":0},{"$f":"SUM(OFFSET(テストデータ!CA3,222,0):OFFSET(テストデータ!CE3,222,0))","v":0},{"$f":"SUM(OFFSET(テストデータ!CF3,222,0):OFFSET(テストデータ!CH3,222,0))","v":0},{"$f":"SUM(OFFSET(テストデータ!CF3,222,0):OFFSET(テストデータ!CJ3,222,0))","v":0},{"$f":"SUM(OFFSET(テストデータ!CK3,222,0):OFFSET(テストデータ!CM3,222,0))","v":0},{"$f":"SUM(OFFSET(テストデータ!CK3,222,0):OFFSET(テストデータ!CO3,222,0))","v":0},{"$f":"SUM(OFFSET(テストデータ!CP3,222,0):OFFSET(テストデータ!CR3,222,0))","v":0},{"$f":"SUM(OFFSET(テストデータ!CP3,222,0):OFFSET(テストデータ!CT3,222,0))","v":0}]
[null,null,null,null,null,null,null,null,null,null,null,null,null,{"$f":"SUM(OFFSET(テストデータ!$E3,223,9*成績表1!$B$4-9):OFFSET(テストデータ!$G3,223,9*成績表1!$B$4-9))","v":0},{"$f":"SUM(OFFSET(テストデータ!$E3,223,9*成績表1!$B$4-9):OFFSET(テストデータ!I3,223,9*成績表1!$B$4-9))","v":0},{"$f":"SUM(OFFSET(テストデータ!E3,223,0):OFFSET(テストデータ!G3,223,0))","v":0},{"$f":"SUM(OFFSET(テストデータ!E3,223,0):OFFSET(テストデータ!I3,223,0))","v":0},{"$f":"SUM(OFFSET(テストデータ!N3,223,0):OFFSET(テストデータ!P3,223,0))","v":0},{"$f":"SUM(OFFSET(テストデータ!N3,223,0):OFFSET(テストデータ!R3,223,0))","v":0},{"$f":"SUM(OFFSET(テストデータ!W3,223,0):OFFSET(テストデータ!Y3,223,0))","v":0},{"$f":"SUM(OFFSET(テストデータ!W3,223,0):OFFSET(テストデータ!AA3,223,0))","v":0},{"$f":"SUM(OFFSET(テストデータ!AF3,223,0):OFFSET(テストデータ!AH3,223,0))","v":0},{"$f":"SUM(OFFSET(テストデータ!AF3,223,0):OFFSET(テストデータ!AJ3,223,0))","v":0},{"$f":"SUM(OFFSET(テストデータ!AO3,223,0):OFFSET(テストデータ!AQ3,223,0))","v":0},{"$f":"SUM(OFFSET(テストデータ!AO3,223,0):OFFSET(テストデータ!AS3,223,0))","v":0},{"$f":"SUM(OFFSET(テストデータ!AX3,223,0):OFFSET(テストデータ!AZ3,223,0))","v":0},{"$f":"SUM(OFFSET(テストデータ!AX3,223,0):OFFSET(テストデータ!BB3,223,0))","v":0},{"$f":"SUM(OFFSET(テストデータ!BG3,223,0):OFFSET(テストデータ!BI3,223,0))","v":0},{"$f":"SUM(OFFSET(テストデータ!BG3,223,0):OFFSET(テストデータ!BK3,223,0))","v":0},{"$f":"SUM(OFFSET(テストデータ!BL3,223,0):OFFSET(テストデータ!BN3,223,0))","v":0},{"$f":"SUM(OFFSET(テストデータ!BL3,223,0):OFFSET(テストデータ!BP3,223,0))","v":0},{"$f":"SUM(OFFSET(テストデータ!BQ3,223,0):OFFSET(テストデータ!BS3,223,0))","v":0},{"$f":"SUM(OFFSET(テストデータ!BQ3,223,0):OFFSET(テストデータ!BU3,223,0))","v":0},{"$f":"SUM(OFFSET(テストデータ!BV3,223,0):OFFSET(テストデータ!BX3,223,0))","v":0},{"$f":"SUM(OFFSET(テストデータ!BV3,223,0):OFFSET(テストデータ!BZ3,223,0))","v":0},{"$f":"SUM(OFFSET(テストデータ!CA3,223,0):OFFSET(テストデータ!CC3,223,0))","v":0},{"$f":"SUM(OFFSET(テストデータ!CA3,223,0):OFFSET(テストデータ!CE3,223,0))","v":0},{"$f":"SUM(OFFSET(テストデータ!CF3,223,0):OFFSET(テストデータ!CH3,223,0))","v":0},{"$f":"SUM(OFFSET(テストデータ!CF3,223,0):OFFSET(テストデータ!CJ3,223,0))","v":0},{"$f":"SUM(OFFSET(テストデータ!CK3,223,0):OFFSET(テストデータ!CM3,223,0))","v":0},{"$f":"SUM(OFFSET(テストデータ!CK3,223,0):OFFSET(テストデータ!CO3,223,0))","v":0},{"$f":"SUM(OFFSET(テストデータ!CP3,223,0):OFFSET(テストデータ!CR3,223,0))","v":0},{"$f":"SUM(OFFSET(テストデータ!CP3,223,0):OFFSET(テストデータ!CT3,223,0))","v":0}]
[null,null,null,null,null,null,null,null,null,null,null,null,null,{"$f":"SUM(OFFSET(テストデータ!$E3,224,9*成績表1!$B$4-9):OFFSET(テストデータ!$G3,224,9*成績表1!$B$4-9))","v":0},{"$f":"SUM(OFFSET(テストデータ!$E3,224,9*成績表1!$B$4-9):OFFSET(テストデータ!I3,224,9*成績表1!$B$4-9))","v":0},{"$f":"SUM(OFFSET(テストデータ!E3,224,0):OFFSET(テストデータ!G3,224,0))","v":0},{"$f":"SUM(OFFSET(テストデータ!E3,224,0):OFFSET(テストデータ!I3,224,0))","v":0},{"$f":"SUM(OFFSET(テストデータ!N3,224,0):OFFSET(テストデータ!P3,224,0))","v":0},{"$f":"SUM(OFFSET(テストデータ!N3,224,0):OFFSET(テストデータ!R3,224,0))","v":0},{"$f":"SUM(OFFSET(テストデータ!W3,224,0):OFFSET(テストデータ!Y3,224,0))","v":0},{"$f":"SUM(OFFSET(テストデータ!W3,224,0):OFFSET(テストデータ!AA3,224,0))","v":0},{"$f":"SUM(OFFSET(テストデータ!AF3,224,0):OFFSET(テストデータ!AH3,224,0))","v":0},{"$f":"SUM(OFFSET(テストデータ!AF3,224,0):OFFSET(テストデータ!AJ3,224,0))","v":0},{"$f":"SUM(OFFSET(テストデータ!AO3,224,0):OFFSET(テストデータ!AQ3,224,0))","v":0},{"$f":"SUM(OFFSET(テストデータ!AO3,224,0):OFFSET(テストデータ!AS3,224,0))","v":0},{"$f":"SUM(OFFSET(テストデータ!AX3,224,0):OFFSET(テストデータ!AZ3,224,0))","v":0},{"$f":"SUM(OFFSET(テストデータ!AX3,224,0):OFFSET(テストデータ!BB3,224,0))","v":0},{"$f":"SUM(OFFSET(テストデータ!BG3,224,0):OFFSET(テストデータ!BI3,224,0))","v":0},{"$f":"SUM(OFFSET(テストデータ!BG3,224,0):OFFSET(テストデータ!BK3,224,0))","v":0},{"$f":"SUM(OFFSET(テストデータ!BL3,224,0):OFFSET(テストデータ!BN3,224,0))","v":0},{"$f":"SUM(OFFSET(テストデータ!BL3,224,0):OFFSET(テストデータ!BP3,224,0))","v":0},{"$f":"SUM(OFFSET(テストデータ!BQ3,224,0):OFFSET(テストデータ!BS3,224,0))","v":0},{"$f":"SUM(OFFSET(テストデータ!BQ3,224,0):OFFSET(テストデータ!BU3,224,0))","v":0},{"$f":"SUM(OFFSET(テストデータ!BV3,224,0):OFFSET(テストデータ!BX3,224,0))","v":0},{"$f":"SUM(OFFSET(テストデータ!BV3,224,0):OFFSET(テストデータ!BZ3,224,0))","v":0},{"$f":"SUM(OFFSET(テストデータ!CA3,224,0):OFFSET(テストデータ!CC3,224,0))","v":0},{"$f":"SUM(OFFSET(テストデータ!CA3,224,0):OFFSET(テストデータ!CE3,224,0))","v":0},{"$f":"SUM(OFFSET(テストデータ!CF3,224,0):OFFSET(テストデータ!CH3,224,0))","v":0},{"$f":"SUM(OFFSET(テストデータ!CF3,224,0):OFFSET(テストデータ!CJ3,224,0))","v":0},{"$f":"SUM(OFFSET(テストデータ!CK3,224,0):OFFSET(テストデータ!CM3,224,0))","v":0},{"$f":"SUM(OFFSET(テストデータ!CK3,224,0):OFFSET(テストデータ!CO3,224,0))","v":0},{"$f":"SUM(OFFSET(テストデータ!CP3,224,0):OFFSET(テストデータ!CR3,224,0))","v":0},{"$f":"SUM(OFFSET(テストデータ!CP3,224,0):OFFSET(テストデータ!CT3,224,0))","v":0}]
[null,null,null,null,null,null,null,null,null,null,null,null,null,{"$f":"SUM(OFFSET(テストデータ!$E3,225,9*成績表1!$B$4-9):OFFSET(テストデータ!$G3,225,9*成績表1!$B$4-9))","v":0},{"$f":"SUM(OFFSET(テストデータ!$E3,225,9*成績表1!$B$4-9):OFFSET(テストデータ!I3,225,9*成績表1!$B$4-9))","v":0},{"$f":"SUM(OFFSET(テストデータ!E3,225,0):OFFSET(テストデータ!G3,225,0))","v":0},{"$f":"SUM(OFFSET(テストデータ!E3,225,0):OFFSET(テストデータ!I3,225,0))","v":0},{"$f":"SUM(OFFSET(テストデータ!N3,225,0):OFFSET(テストデータ!P3,225,0))","v":0},{"$f":"SUM(OFFSET(テストデータ!N3,225,0):OFFSET(テストデータ!R3,225,0))","v":0},{"$f":"SUM(OFFSET(テストデータ!W3,225,0):OFFSET(テストデータ!Y3,225,0))","v":0},{"$f":"SUM(OFFSET(テストデータ!W3,225,0):OFFSET(テストデータ!AA3,225,0))","v":0},{"$f":"SUM(OFFSET(テストデータ!AF3,225,0):OFFSET(テストデータ!AH3,225,0))","v":0},{"$f":"SUM(OFFSET(テストデータ!AF3,225,0):OFFSET(テストデータ!AJ3,225,0))","v":0},{"$f":"SUM(OFFSET(テストデータ!AO3,225,0):OFFSET(テストデータ!AQ3,225,0))","v":0},{"$f":"SUM(OFFSET(テストデータ!AO3,225,0):OFFSET(テストデータ!AS3,225,0))","v":0},{"$f":"SUM(OFFSET(テストデータ!AX3,225,0):OFFSET(テストデータ!AZ3,225,0))","v":0},{"$f":"SUM(OFFSET(テストデータ!AX3,225,0):OFFSET(テストデータ!BB3,225,0))","v":0},{"$f":"SUM(OFFSET(テストデータ!BG3,225,0):OFFSET(テストデータ!BI3,225,0))","v":0},{"$f":"SUM(OFFSET(テストデータ!BG3,225,0):OFFSET(テストデータ!BK3,225,0))","v":0},{"$f":"SUM(OFFSET(テストデータ!BL3,225,0):OFFSET(テストデータ!BN3,225,0))","v":0},{"$f":"SUM(OFFSET(テストデータ!BL3,225,0):OFFSET(テストデータ!BP3,225,0))","v":0},{"$f":"SUM(OFFSET(テストデータ!BQ3,225,0):OFFSET(テストデータ!BS3,225,0))","v":0},{"$f":"SUM(OFFSET(テストデータ!BQ3,225,0):OFFSET(テストデータ!BU3,225,0))","v":0},{"$f":"SUM(OFFSET(テストデータ!BV3,225,0):OFFSET(テストデータ!BX3,225,0))","v":0},{"$f":"SUM(OFFSET(テストデータ!BV3,225,0):OFFSET(テストデータ!BZ3,225,0))","v":0},{"$f":"SUM(OFFSET(テストデータ!CA3,225,0):OFFSET(テストデータ!CC3,225,0))","v":0},{"$f":"SUM(OFFSET(テストデータ!CA3,225,0):OFFSET(テストデータ!CE3,225,0))","v":0},{"$f":"SUM(OFFSET(テストデータ!CF3,225,0):OFFSET(テストデータ!CH3,225,0))","v":0},{"$f":"SUM(OFFSET(テストデータ!CF3,225,0):OFFSET(テストデータ!CJ3,225,0))","v":0},{"$f":"SUM(OFFSET(テストデータ!CK3,225,0):OFFSET(テストデータ!CM3,225,0))","v":0},{"$f":"SUM(OFFSET(テストデータ!CK3,225,0):OFFSET(テストデータ!CO3,225,0))","v":0},{"$f":"SUM(OFFSET(テストデータ!CP3,225,0):OFFSET(テストデータ!CR3,225,0))","v":0},{"$f":"SUM(OFFSET(テストデータ!CP3,225,0):OFFSET(テストデータ!CT3,225,0))","v":0}]
[null,null,null,null,null,null,null,null,null,null,null,null,null,{"$f":"SUM(OFFSET(テストデータ!$E3,226,9*成績表1!$B$4-9):OFFSET(テストデータ!$G3,226,9*成績表1!$B$4-9))","v":0},{"$f":"SUM(OFFSET(テストデータ!$E3,226,9*成績表1!$B$4-9):OFFSET(テストデータ!I3,226,9*成績表1!$B$4-9))","v":0},{"$f":"SUM(OFFSET(テストデータ!E3,226,0):OFFSET(テストデータ!G3,226,0))","v":0},{"$f":"SUM(OFFSET(テストデータ!E3,226,0):OFFSET(テストデータ!I3,226,0))","v":0},{"$f":"SUM(OFFSET(テストデータ!N3,226,0):OFFSET(テストデータ!P3,226,0))","v":0},{"$f":"SUM(OFFSET(テストデータ!N3,226,0):OFFSET(テストデータ!R3,226,0))","v":0},{"$f":"SUM(OFFSET(テストデータ!W3,226,0):OFFSET(テストデータ!Y3,226,0))","v":0},{"$f":"SUM(OFFSET(テストデータ!W3,226,0):OFFSET(テストデータ!AA3,226,0))","v":0},{"$f":"SUM(OFFSET(テストデータ!AF3,226,0):OFFSET(テストデータ!AH3,226,0))","v":0},{"$f":"SUM(OFFSET(テストデータ!AF3,226,0):OFFSET(テストデータ!AJ3,226,0))","v":0},{"$f":"SUM(OFFSET(テストデータ!AO3,226,0):OFFSET(テストデータ!AQ3,226,0))","v":0},{"$f":"SUM(OFFSET(テストデータ!AO3,226,0):OFFSET(テストデータ!AS3,226,0))","v":0},{"$f":"SUM(OFFSET(テストデータ!AX3,226,0):OFFSET(テストデータ!AZ3,226,0))","v":0},{"$f":"SUM(OFFSET(テストデータ!AX3,226,0):OFFSET(テストデータ!BB3,226,0))","v":0},{"$f":"SUM(OFFSET(テストデータ!BG3,226,0):OFFSET(テストデータ!BI3,226,0))","v":0},{"$f":"SUM(OFFSET(テストデータ!BG3,226,0):OFFSET(テストデータ!BK3,226,0))","v":0},{"$f":"SUM(OFFSET(テストデータ!BL3,226,0):OFFSET(テストデータ!BN3,226,0))","v":0},{"$f":"SUM(OFFSET(テストデータ!BL3,226,0):OFFSET(テストデータ!BP3,226,0))","v":0},{"$f":"SUM(OFFSET(テストデータ!BQ3,226,0):OFFSET(テストデータ!BS3,226,0))","v":0},{"$f":"SUM(OFFSET(テストデータ!BQ3,226,0):OFFSET(テストデータ!BU3,226,0))","v":0},{"$f":"SUM(OFFSET(テストデータ!BV3,226,0):OFFSET(テストデータ!BX3,226,0))","v":0},{"$f":"SUM(OFFSET(テストデータ!BV3,226,0):OFFSET(テストデータ!BZ3,226,0))","v":0},{"$f":"SUM(OFFSET(テストデータ!CA3,226,0):OFFSET(テストデータ!CC3,226,0))","v":0},{"$f":"SUM(OFFSET(テストデータ!CA3,226,0):OFFSET(テストデータ!CE3,226,0))","v":0},{"$f":"SUM(OFFSET(テストデータ!CF3,226,0):OFFSET(テストデータ!CH3,226,0))","v":0},{"$f":"SUM(OFFSET(テストデータ!CF3,226,0):OFFSET(テストデータ!CJ3,226,0))","v":0},{"$f":"SUM(OFFSET(テストデータ!CK3,226,0):OFFSET(テストデータ!CM3,226,0))","v":0},{"$f":"SUM(OFFSET(テストデータ!CK3,226,0):OFFSET(テストデータ!CO3,226,0))","v":0},{"$f":"SUM(OFFSET(テストデータ!CP3,226,0):OFFSET(テストデータ!CR3,226,0))","v":0},{"$f":"SUM(OFFSET(テストデータ!CP3,226,0):OFFSET(テストデータ!CT3,226,0))","v":0}]
[null,null,null,null,null,null,null,null,null,null,null,null,null,{"$f":"SUM(OFFSET(テストデータ!$E3,227,9*成績表1!$B$4-9):OFFSET(テストデータ!$G3,227,9*成績表1!$B$4-9))","v":0},{"$f":"SUM(OFFSET(テストデータ!$E3,227,9*成績表1!$B$4-9):OFFSET(テストデータ!I3,227,9*成績表1!$B$4-9))","v":0},{"$f":"SUM(OFFSET(テストデータ!E3,227,0):OFFSET(テストデータ!G3,227,0))","v":0},{"$f":"SUM(OFFSET(テストデータ!E3,227,0):OFFSET(テストデータ!I3,227,0))","v":0},{"$f":"SUM(OFFSET(テストデータ!N3,227,0):OFFSET(テストデータ!P3,227,0))","v":0},{"$f":"SUM(OFFSET(テストデータ!N3,227,0):OFFSET(テストデータ!R3,227,0))","v":0},{"$f":"SUM(OFFSET(テストデータ!W3,227,0):OFFSET(テストデータ!Y3,227,0))","v":0},{"$f":"SUM(OFFSET(テストデータ!W3,227,0):OFFSET(テストデータ!AA3,227,0))","v":0},{"$f":"SUM(OFFSET(テストデータ!AF3,227,0):OFFSET(テストデータ!AH3,227,0))","v":0},{"$f":"SUM(OFFSET(テストデータ!AF3,227,0):OFFSET(テストデータ!AJ3,227,0))","v":0},{"$f":"SUM(OFFSET(テストデータ!AO3,227,0):OFFSET(テストデータ!AQ3,227,0))","v":0},{"$f":"SUM(OFFSET(テストデータ!AO3,227,0):OFFSET(テストデータ!AS3,227,0))","v":0},{"$f":"SUM(OFFSET(テストデータ!AX3,227,0):OFFSET(テストデータ!AZ3,227,0))","v":0},{"$f":"SUM(OFFSET(テストデータ!AX3,227,0):OFFSET(テストデータ!BB3,227,0))","v":0},{"$f":"SUM(OFFSET(テストデータ!BG3,227,0):OFFSET(テストデータ!BI3,227,0))","v":0},{"$f":"SUM(OFFSET(テストデータ!BG3,227,0):OFFSET(テストデータ!BK3,227,0))","v":0},{"$f":"SUM(OFFSET(テストデータ!BL3,227,0):OFFSET(テストデータ!BN3,227,0))","v":0},{"$f":"SUM(OFFSET(テストデータ!BL3,227,0):OFFSET(テストデータ!BP3,227,0))","v":0},{"$f":"SUM(OFFSET(テストデータ!BQ3,227,0):OFFSET(テストデータ!BS3,227,0))","v":0},{"$f":"SUM(OFFSET(テストデータ!BQ3,227,0):OFFSET(テストデータ!BU3,227,0))","v":0},{"$f":"SUM(OFFSET(テストデータ!BV3,227,0):OFFSET(テストデータ!BX3,227,0))","v":0},{"$f":"SUM(OFFSET(テストデータ!BV3,227,0):OFFSET(テストデータ!BZ3,227,0))","v":0},{"$f":"SUM(OFFSET(テストデータ!CA3,227,0):OFFSET(テストデータ!CC3,227,0))","v":0},{"$f":"SUM(OFFSET(テストデータ!CA3,227,0):OFFSET(テストデータ!CE3,227,0))","v":0},{"$f":"SUM(OFFSET(テストデータ!CF3,227,0):OFFSET(テストデータ!CH3,227,0))","v":0},{"$f":"SUM(OFFSET(テストデータ!CF3,227,0):OFFSET(テストデータ!CJ3,227,0))","v":0},{"$f":"SUM(OFFSET(テストデータ!CK3,227,0):OFFSET(テストデータ!CM3,227,0))","v":0},{"$f":"SUM(OFFSET(テストデータ!CK3,227,0):OFFSET(テストデータ!CO3,227,0))","v":0},{"$f":"SUM(OFFSET(テストデータ!CP3,227,0):OFFSET(テストデータ!CR3,227,0))","v":0},{"$f":"SUM(OFFSET(テストデータ!CP3,227,0):OFFSET(テストデータ!CT3,227,0))","v":0}]
[null,null,null,null,null,null,null,null,null,null,null,null,null,{"$f":"SUM(OFFSET(テストデータ!$E3,228,9*成績表1!$B$4-9):OFFSET(テストデータ!$G3,228,9*成績表1!$B$4-9))","v":0},{"$f":"SUM(OFFSET(テストデータ!$E3,228,9*成績表1!$B$4-9):OFFSET(テストデータ!I3,228,9*成績表1!$B$4-9))","v":0},{"$f":"SUM(OFFSET(テストデータ!E3,228,0):OFFSET(テストデータ!G3,228,0))","v":0},{"$f":"SUM(OFFSET(テストデータ!E3,228,0):OFFSET(テストデータ!I3,228,0))","v":0},{"$f":"SUM(OFFSET(テストデータ!N3,228,0):OFFSET(テストデータ!P3,228,0))","v":0},{"$f":"SUM(OFFSET(テストデータ!N3,228,0):OFFSET(テストデータ!R3,228,0))","v":0},{"$f":"SUM(OFFSET(テストデータ!W3,228,0):OFFSET(テストデータ!Y3,228,0))","v":0},{"$f":"SUM(OFFSET(テストデータ!W3,228,0):OFFSET(テストデータ!AA3,228,0))","v":0},{"$f":"SUM(OFFSET(テストデータ!AF3,228,0):OFFSET(テストデータ!AH3,228,0))","v":0},{"$f":"SUM(OFFSET(テストデータ!AF3,228,0):OFFSET(テストデータ!AJ3,228,0))","v":0},{"$f":"SUM(OFFSET(テストデータ!AO3,228,0):OFFSET(テストデータ!AQ3,228,0))","v":0},{"$f":"SUM(OFFSET(テストデータ!AO3,228,0):OFFSET(テストデータ!AS3,228,0))","v":0},{"$f":"SUM(OFFSET(テストデータ!AX3,228,0):OFFSET(テストデータ!AZ3,228,0))","v":0},{"$f":"SUM(OFFSET(テストデータ!AX3,228,0):OFFSET(テストデータ!BB3,228,0))","v":0},{"$f":"SUM(OFFSET(テストデータ!BG3,228,0):OFFSET(テストデータ!BI3,228,0))","v":0},{"$f":"SUM(OFFSET(テストデータ!BG3,228,0):OFFSET(テストデータ!BK3,228,0))","v":0},{"$f":"SUM(OFFSET(テストデータ!BL3,228,0):OFFSET(テストデータ!BN3,228,0))","v":0},{"$f":"SUM(OFFSET(テストデータ!BL3,228,0):OFFSET(テストデータ!BP3,228,0))","v":0},{"$f":"SUM(OFFSET(テストデータ!BQ3,228,0):OFFSET(テストデータ!BS3,228,0))","v":0},{"$f":"SUM(OFFSET(テストデータ!BQ3,228,0):OFFSET(テストデータ!BU3,228,0))","v":0},{"$f":"SUM(OFFSET(テストデータ!BV3,228,0):OFFSET(テストデータ!BX3,228,0))","v":0},{"$f":"SUM(OFFSET(テストデータ!BV3,228,0):OFFSET(テストデータ!BZ3,228,0))","v":0},{"$f":"SUM(OFFSET(テストデータ!CA3,228,0):OFFSET(テストデータ!CC3,228,0))","v":0},{"$f":"SUM(OFFSET(テストデータ!CA3,228,0):OFFSET(テストデータ!CE3,228,0))","v":0},{"$f":"SUM(OFFSET(テストデータ!CF3,228,0):OFFSET(テストデータ!CH3,228,0))","v":0},{"$f":"SUM(OFFSET(テストデータ!CF3,228,0):OFFSET(テストデータ!CJ3,228,0))","v":0},{"$f":"SUM(OFFSET(テストデータ!CK3,228,0):OFFSET(テストデータ!CM3,228,0))","v":0},{"$f":"SUM(OFFSET(テストデータ!CK3,228,0):OFFSET(テストデータ!CO3,228,0))","v":0},{"$f":"SUM(OFFSET(テストデータ!CP3,228,0):OFFSET(テストデータ!CR3,228,0))","v":0},{"$f":"SUM(OFFSET(テストデータ!CP3,228,0):OFFSET(テストデータ!CT3,228,0))","v":0}]
[null,null,null,null,null,null,null,null,null,null,null,null,null,{"$f":"SUM(OFFSET(テストデータ!$E3,229,9*成績表1!$B$4-9):OFFSET(テストデータ!$G3,229,9*成績表1!$B$4-9))","v":0},{"$f":"SUM(OFFSET(テストデータ!$E3,229,9*成績表1!$B$4-9):OFFSET(テストデータ!I3,229,9*成績表1!$B$4-9))","v":0},{"$f":"SUM(OFFSET(テストデータ!E3,229,0):OFFSET(テストデータ!G3,229,0))","v":0},{"$f":"SUM(OFFSET(テストデータ!E3,229,0):OFFSET(テストデータ!I3,229,0))","v":0},{"$f":"SUM(OFFSET(テストデータ!N3,229,0):OFFSET(テストデータ!P3,229,0))","v":0},{"$f":"SUM(OFFSET(テストデータ!N3,229,0):OFFSET(テストデータ!R3,229,0))","v":0},{"$f":"SUM(OFFSET(テストデータ!W3,229,0):OFFSET(テストデータ!Y3,229,0))","v":0},{"$f":"SUM(OFFSET(テストデータ!W3,229,0):OFFSET(テストデータ!AA3,229,0))","v":0},{"$f":"SUM(OFFSET(テストデータ!AF3,229,0):OFFSET(テストデータ!AH3,229,0))","v":0},{"$f":"SUM(OFFSET(テストデータ!AF3,229,0):OFFSET(テストデータ!AJ3,229,0))","v":0},{"$f":"SUM(OFFSET(テストデータ!AO3,229,0):OFFSET(テストデータ!AQ3,229,0))","v":0},{"$f":"SUM(OFFSET(テストデータ!AO3,229,0):OFFSET(テストデータ!AS3,229,0))","v":0},{"$f":"SUM(OFFSET(テストデータ!AX3,229,0):OFFSET(テストデータ!AZ3,229,0))","v":0},{"$f":"SUM(OFFSET(テストデータ!AX3,229,0):OFFSET(テストデータ!BB3,229,0))","v":0},{"$f":"SUM(OFFSET(テストデータ!BG3,229,0):OFFSET(テストデータ!BI3,229,0))","v":0},{"$f":"SUM(OFFSET(テストデータ!BG3,229,0):OFFSET(テストデータ!BK3,229,0))","v":0},{"$f":"SUM(OFFSET(テストデータ!BL3,229,0):OFFSET(テストデータ!BN3,229,0))","v":0},{"$f":"SUM(OFFSET(テストデータ!BL3,229,0):OFFSET(テストデータ!BP3,229,0))","v":0},{"$f":"SUM(OFFSET(テストデータ!BQ3,229,0):OFFSET(テストデータ!BS3,229,0))","v":0},{"$f":"SUM(OFFSET(テストデータ!BQ3,229,0):OFFSET(テストデータ!BU3,229,0))","v":0},{"$f":"SUM(OFFSET(テストデータ!BV3,229,0):OFFSET(テストデータ!BX3,229,0))","v":0},{"$f":"SUM(OFFSET(テストデータ!BV3,229,0):OFFSET(テストデータ!BZ3,229,0))","v":0},{"$f":"SUM(OFFSET(テストデータ!CA3,229,0):OFFSET(テストデータ!CC3,229,0))","v":0},{"$f":"SUM(OFFSET(テストデータ!CA3,229,0):OFFSET(テストデータ!CE3,229,0))","v":0},{"$f":"SUM(OFFSET(テストデータ!CF3,229,0):OFFSET(テストデータ!CH3,229,0))","v":0},{"$f":"SUM(OFFSET(テストデータ!CF3,229,0):OFFSET(テストデータ!CJ3,229,0))","v":0},{"$f":"SUM(OFFSET(テストデータ!CK3,229,0):OFFSET(テストデータ!CM3,229,0))","v":0},{"$f":"SUM(OFFSET(テストデータ!CK3,229,0):OFFSET(テストデータ!CO3,229,0))","v":0},{"$f":"SUM(OFFSET(テストデータ!CP3,229,0):OFFSET(テストデータ!CR3,229,0))","v":0},{"$f":"SUM(OFFSET(テストデータ!CP3,229,0):OFFSET(テストデータ!CT3,229,0))","v":0}]
[null,null,null,null,null,null,null,null,null,null,null,null,null,{"$f":"SUM(OFFSET(テストデータ!$E3,230,9*成績表1!$B$4-9):OFFSET(テストデータ!$G3,230,9*成績表1!$B$4-9))","v":0},{"$f":"SUM(OFFSET(テストデータ!$E3,230,9*成績表1!$B$4-9):OFFSET(テストデータ!I3,230,9*成績表1!$B$4-9))","v":0},{"$f":"SUM(OFFSET(テストデータ!E3,230,0):OFFSET(テストデータ!G3,230,0))","v":0},{"$f":"SUM(OFFSET(テストデータ!E3,230,0):OFFSET(テストデータ!I3,230,0))","v":0},{"$f":"SUM(OFFSET(テストデータ!N3,230,0):OFFSET(テストデータ!P3,230,0))","v":0},{"$f":"SUM(OFFSET(テストデータ!N3,230,0):OFFSET(テストデータ!R3,230,0))","v":0},{"$f":"SUM(OFFSET(テストデータ!W3,230,0):OFFSET(テストデータ!Y3,230,0))","v":0},{"$f":"SUM(OFFSET(テストデータ!W3,230,0):OFFSET(テストデータ!AA3,230,0))","v":0},{"$f":"SUM(OFFSET(テストデータ!AF3,230,0):OFFSET(テストデータ!AH3,230,0))","v":0},{"$f":"SUM(OFFSET(テストデータ!AF3,230,0):OFFSET(テストデータ!AJ3,230,0))","v":0},{"$f":"SUM(OFFSET(テストデータ!AO3,230,0):OFFSET(テストデータ!AQ3,230,0))","v":0},{"$f":"SUM(OFFSET(テストデータ!AO3,230,0):OFFSET(テストデータ!AS3,230,0))","v":0},{"$f":"SUM(OFFSET(テストデータ!AX3,230,0):OFFSET(テストデータ!AZ3,230,0))","v":0},{"$f":"SUM(OFFSET(テストデータ!AX3,230,0):OFFSET(テストデータ!BB3,230,0))","v":0},{"$f":"SUM(OFFSET(テストデータ!BG3,230,0):OFFSET(テストデータ!BI3,230,0))","v":0},{"$f":"SUM(OFFSET(テストデータ!BG3,230,0):OFFSET(テストデータ!BK3,230,0))","v":0},{"$f":"SUM(OFFSET(テストデータ!BL3,230,0):OFFSET(テストデータ!BN3,230,0))","v":0},{"$f":"SUM(OFFSET(テストデータ!BL3,230,0):OFFSET(テストデータ!BP3,230,0))","v":0},{"$f":"SUM(OFFSET(テストデータ!BQ3,230,0):OFFSET(テストデータ!BS3,230,0))","v":0},{"$f":"SUM(OFFSET(テストデータ!BQ3,230,0):OFFSET(テストデータ!BU3,230,0))","v":0},{"$f":"SUM(OFFSET(テストデータ!BV3,230,0):OFFSET(テストデータ!BX3,230,0))","v":0},{"$f":"SUM(OFFSET(テストデータ!BV3,230,0):OFFSET(テストデータ!BZ3,230,0))","v":0},{"$f":"SUM(OFFSET(テストデータ!CA3,230,0):OFFSET(テストデータ!CC3,230,0))","v":0},{"$f":"SUM(OFFSET(テストデータ!CA3,230,0):OFFSET(テストデータ!CE3,230,0))","v":0},{"$f":"SUM(OFFSET(テストデータ!CF3,230,0):OFFSET(テストデータ!CH3,230,0))","v":0},{"$f":"SUM(OFFSET(テストデータ!CF3,230,0):OFFSET(テストデータ!CJ3,230,0))","v":0},{"$f":"SUM(OFFSET(テストデータ!CK3,230,0):OFFSET(テストデータ!CM3,230,0))","v":0},{"$f":"SUM(OFFSET(テストデータ!CK3,230,0):OFFSET(テストデータ!CO3,230,0))","v":0},{"$f":"SUM(OFFSET(テストデータ!CP3,230,0):OFFSET(テストデータ!CR3,230,0))","v":0},{"$f":"SUM(OFFSET(テストデータ!CP3,230,0):OFFSET(テストデータ!CT3,230,0))","v":0}]
[null,null,null,null,null,null,null,null,null,null,null,null,null,{"$f":"SUM(OFFSET(テストデータ!$E3,231,9*成績表1!$B$4-9):OFFSET(テストデータ!$G3,231,9*成績表1!$B$4-9))","v":0},{"$f":"SUM(OFFSET(テストデータ!$E3,231,9*成績表1!$B$4-9):OFFSET(テストデータ!I3,231,9*成績表1!$B$4-9))","v":0},{"$f":"SUM(OFFSET(テストデータ!E3,231,0):OFFSET(テストデータ!G3,231,0))","v":0},{"$f":"SUM(OFFSET(テストデータ!E3,231,0):OFFSET(テストデータ!I3,231,0))","v":0},{"$f":"SUM(OFFSET(テストデータ!N3,231,0):OFFSET(テストデータ!P3,231,0))","v":0},{"$f":"SUM(OFFSET(テストデータ!N3,231,0):OFFSET(テストデータ!R3,231,0))","v":0},{"$f":"SUM(OFFSET(テストデータ!W3,231,0):OFFSET(テストデータ!Y3,231,0))","v":0},{"$f":"SUM(OFFSET(テストデータ!W3,231,0):OFFSET(テストデータ!AA3,231,0))","v":0},{"$f":"SUM(OFFSET(テストデータ!AF3,231,0):OFFSET(テストデータ!AH3,231,0))","v":0},{"$f":"SUM(OFFSET(テストデータ!AF3,231,0):OFFSET(テストデータ!AJ3,231,0))","v":0},{"$f":"SUM(OFFSET(テストデータ!AO3,231,0):OFFSET(テストデータ!AQ3,231,0))","v":0},{"$f":"SUM(OFFSET(テストデータ!AO3,231,0):OFFSET(テストデータ!AS3,231,0))","v":0},{"$f":"SUM(OFFSET(テストデータ!AX3,231,0):OFFSET(テストデータ!AZ3,231,0))","v":0},{"$f":"SUM(OFFSET(テストデータ!AX3,231,0):OFFSET(テストデータ!BB3,231,0))","v":0},{"$f":"SUM(OFFSET(テストデータ!BG3,231,0):OFFSET(テストデータ!BI3,231,0))","v":0},{"$f":"SUM(OFFSET(テストデータ!BG3,231,0):OFFSET(テストデータ!BK3,231,0))","v":0},{"$f":"SUM(OFFSET(テストデータ!BL3,231,0):OFFSET(テストデータ!BN3,231,0))","v":0},{"$f":"SUM(OFFSET(テストデータ!BL3,231,0):OFFSET(テストデータ!BP3,231,0))","v":0},{"$f":"SUM(OFFSET(テストデータ!BQ3,231,0):OFFSET(テストデータ!BS3,231,0))","v":0},{"$f":"SUM(OFFSET(テストデータ!BQ3,231,0):OFFSET(テストデータ!BU3,231,0))","v":0},{"$f":"SUM(OFFSET(テストデータ!BV3,231,0):OFFSET(テストデータ!BX3,231,0))","v":0},{"$f":"SUM(OFFSET(テストデータ!BV3,231,0):OFFSET(テストデータ!BZ3,231,0))","v":0},{"$f":"SUM(OFFSET(テストデータ!CA3,231,0):OFFSET(テストデータ!CC3,231,0))","v":0},{"$f":"SUM(OFFSET(テストデータ!CA3,231,0):OFFSET(テストデータ!CE3,231,0))","v":0},{"$f":"SUM(OFFSET(テストデータ!CF3,231,0):OFFSET(テストデータ!CH3,231,0))","v":0},{"$f":"SUM(OFFSET(テストデータ!CF3,231,0):OFFSET(テストデータ!CJ3,231,0))","v":0},{"$f":"SUM(OFFSET(テストデータ!CK3,231,0):OFFSET(テストデータ!CM3,231,0))","v":0},{"$f":"SUM(OFFSET(テストデータ!CK3,231,0):OFFSET(テストデータ!CO3,231,0))","v":0},{"$f":"SUM(OFFSET(テストデータ!CP3,231,0):OFFSET(テストデータ!CR3,231,0))","v":0},{"$f":"SUM(OFFSET(テストデータ!CP3,231,0):OFFSET(テストデータ!CT3,231,0))","v":0}]
[null,null,null,null,null,null,null,null,null,null,null,null,null,{"$f":"SUM(OFFSET(テストデータ!$E3,232,9*成績表1!$B$4-9):OFFSET(テストデータ!$G3,232,9*成績表1!$B$4-9))","v":0},{"$f":"SUM(OFFSET(テストデータ!$E3,232,9*成績表1!$B$4-9):OFFSET(テストデータ!I3,232,9*成績表1!$B$4-9))","v":0},{"$f":"SUM(OFFSET(テストデータ!E3,232,0):OFFSET(テストデータ!G3,232,0))","v":0},{"$f":"SUM(OFFSET(テストデータ!E3,232,0):OFFSET(テストデータ!I3,232,0))","v":0},{"$f":"SUM(OFFSET(テストデータ!N3,232,0):OFFSET(テストデータ!P3,232,0))","v":0},{"$f":"SUM(OFFSET(テストデータ!N3,232,0):OFFSET(テストデータ!R3,232,0))","v":0},{"$f":"SUM(OFFSET(テストデータ!W3,232,0):OFFSET(テストデータ!Y3,232,0))","v":0},{"$f":"SUM(OFFSET(テストデータ!W3,232,0):OFFSET(テストデータ!AA3,232,0))","v":0},{"$f":"SUM(OFFSET(テストデータ!AF3,232,0):OFFSET(テストデータ!AH3,232,0))","v":0},{"$f":"SUM(OFFSET(テストデータ!AF3,232,0):OFFSET(テストデータ!AJ3,232,0))","v":0},{"$f":"SUM(OFFSET(テストデータ!AO3,232,0):OFFSET(テストデータ!AQ3,232,0))","v":0},{"$f":"SUM(OFFSET(テストデータ!AO3,232,0):OFFSET(テストデータ!AS3,232,0))","v":0},{"$f":"SUM(OFFSET(テストデータ!AX3,232,0):OFFSET(テストデータ!AZ3,232,0))","v":0},{"$f":"SUM(OFFSET(テストデータ!AX3,232,0):OFFSET(テストデータ!BB3,232,0))","v":0},{"$f":"SUM(OFFSET(テストデータ!BG3,232,0):OFFSET(テストデータ!BI3,232,0))","v":0},{"$f":"SUM(OFFSET(テストデータ!BG3,232,0):OFFSET(テストデータ!BK3,232,0))","v":0},{"$f":"SUM(OFFSET(テストデータ!BL3,232,0):OFFSET(テストデータ!BN3,232,0))","v":0},{"$f":"SUM(OFFSET(テストデータ!BL3,232,0):OFFSET(テストデータ!BP3,232,0))","v":0},{"$f":"SUM(OFFSET(テストデータ!BQ3,232,0):OFFSET(テストデータ!BS3,232,0))","v":0},{"$f":"SUM(OFFSET(テストデータ!BQ3,232,0):OFFSET(テストデータ!BU3,232,0))","v":0},{"$f":"SUM(OFFSET(テストデータ!BV3,232,0):OFFSET(テストデータ!BX3,232,0))","v":0},{"$f":"SUM(OFFSET(テストデータ!BV3,232,0):OFFSET(テストデータ!BZ3,232,0))","v":0},{"$f":"SUM(OFFSET(テストデータ!CA3,232,0):OFFSET(テストデータ!CC3,232,0))","v":0},{"$f":"SUM(OFFSET(テストデータ!CA3,232,0):OFFSET(テストデータ!CE3,232,0))","v":0},{"$f":"SUM(OFFSET(テストデータ!CF3,232,0):OFFSET(テストデータ!CH3,232,0))","v":0},{"$f":"SUM(OFFSET(テストデータ!CF3,232,0):OFFSET(テストデータ!CJ3,232,0))","v":0},{"$f":"SUM(OFFSET(テストデータ!CK3,232,0):OFFSET(テストデータ!CM3,232,0))","v":0},{"$f":"SUM(OFFSET(テストデータ!CK3,232,0):OFFSET(テストデータ!CO3,232,0))","v":0},{"$f":"SUM(OFFSET(テストデータ!CP3,232,0):OFFSET(テストデータ!CR3,232,0))","v":0},{"$f":"SUM(OFFSET(テストデータ!CP3,232,0):OFFSET(テストデータ!CT3,232,0))","v":0}]
[null,null,null,null,null,null,null,null,null,null,null,null,null,{"$f":"SUM(OFFSET(テストデータ!$E3,233,9*成績表1!$B$4-9):OFFSET(テストデータ!$G3,233,9*成績表1!$B$4-9))","v":0},{"$f":"SUM(OFFSET(テストデータ!$E3,233,9*成績表1!$B$4-9):OFFSET(テストデータ!I3,233,9*成績表1!$B$4-9))","v":0},{"$f":"SUM(OFFSET(テストデータ!E3,233,0):OFFSET(テストデータ!G3,233,0))","v":0},{"$f":"SUM(OFFSET(テストデータ!E3,233,0):OFFSET(テストデータ!I3,233,0))","v":0},{"$f":"SUM(OFFSET(テストデータ!N3,233,0):OFFSET(テストデータ!P3,233,0))","v":0},{"$f":"SUM(OFFSET(テストデータ!N3,233,0):OFFSET(テストデータ!R3,233,0))","v":0},{"$f":"SUM(OFFSET(テストデータ!W3,233,0):OFFSET(テストデータ!Y3,233,0))","v":0},{"$f":"SUM(OFFSET(テストデータ!W3,233,0):OFFSET(テストデータ!AA3,233,0))","v":0},{"$f":"SUM(OFFSET(テストデータ!AF3,233,0):OFFSET(テストデータ!AH3,233,0))","v":0},{"$f":"SUM(OFFSET(テストデータ!AF3,233,0):OFFSET(テストデータ!AJ3,233,0))","v":0},{"$f":"SUM(OFFSET(テストデータ!AO3,233,0):OFFSET(テストデータ!AQ3,233,0))","v":0},{"$f":"SUM(OFFSET(テストデータ!AO3,233,0):OFFSET(テストデータ!AS3,233,0))","v":0},{"$f":"SUM(OFFSET(テストデータ!AX3,233,0):OFFSET(テストデータ!AZ3,233,0))","v":0},{"$f":"SUM(OFFSET(テストデータ!AX3,233,0):OFFSET(テストデータ!BB3,233,0))","v":0},{"$f":"SUM(OFFSET(テストデータ!BG3,233,0):OFFSET(テストデータ!BI3,233,0))","v":0},{"$f":"SUM(OFFSET(テストデータ!BG3,233,0):OFFSET(テストデータ!BK3,233,0))","v":0},{"$f":"SUM(OFFSET(テストデータ!BL3,233,0):OFFSET(テストデータ!BN3,233,0))","v":0},{"$f":"SUM(OFFSET(テストデータ!BL3,233,0):OFFSET(テストデータ!BP3,233,0))","v":0},{"$f":"SUM(OFFSET(テストデータ!BQ3,233,0):OFFSET(テストデータ!BS3,233,0))","v":0},{"$f":"SUM(OFFSET(テストデータ!BQ3,233,0):OFFSET(テストデータ!BU3,233,0))","v":0},{"$f":"SUM(OFFSET(テストデータ!BV3,233,0):OFFSET(テストデータ!BX3,233,0))","v":0},{"$f":"SUM(OFFSET(テストデータ!BV3,233,0):OFFSET(テストデータ!BZ3,233,0))","v":0},{"$f":"SUM(OFFSET(テストデータ!CA3,233,0):OFFSET(テストデータ!CC3,233,0))","v":0},{"$f":"SUM(OFFSET(テストデータ!CA3,233,0):OFFSET(テストデータ!CE3,233,0))","v":0},{"$f":"SUM(OFFSET(テストデータ!CF3,233,0):OFFSET(テストデータ!CH3,233,0))","v":0},{"$f":"SUM(OFFSET(テストデータ!CF3,233,0):OFFSET(テストデータ!CJ3,233,0))","v":0},{"$f":"SUM(OFFSET(テストデータ!CK3,233,0):OFFSET(テストデータ!CM3,233,0))","v":0},{"$f":"SUM(OFFSET(テストデータ!CK3,233,0):OFFSET(テストデータ!CO3,233,0))","v":0},{"$f":"SUM(OFFSET(テストデータ!CP3,233,0):OFFSET(テストデータ!CR3,233,0))","v":0},{"$f":"SUM(OFFSET(テストデータ!CP3,233,0):OFFSET(テストデータ!CT3,233,0))","v":0}]
[null,null,null,null,null,null,null,null,null,null,null,null,null,{"$f":"SUM(OFFSET(テストデータ!$E3,234,9*成績表1!$B$4-9):OFFSET(テストデータ!$G3,234,9*成績表1!$B$4-9))","v":0},{"$f":"SUM(OFFSET(テストデータ!$E3,234,9*成績表1!$B$4-9):OFFSET(テストデータ!I3,234,9*成績表1!$B$4-9))","v":0},{"$f":"SUM(OFFSET(テストデータ!E3,234,0):OFFSET(テストデータ!G3,234,0))","v":0},{"$f":"SUM(OFFSET(テストデータ!E3,234,0):OFFSET(テストデータ!I3,234,0))","v":0},{"$f":"SUM(OFFSET(テストデータ!N3,234,0):OFFSET(テストデータ!P3,234,0))","v":0},{"$f":"SUM(OFFSET(テストデータ!N3,234,0):OFFSET(テストデータ!R3,234,0))","v":0},{"$f":"SUM(OFFSET(テストデータ!W3,234,0):OFFSET(テストデータ!Y3,234,0))","v":0},{"$f":"SUM(OFFSET(テストデータ!W3,234,0):OFFSET(テストデータ!AA3,234,0))","v":0},{"$f":"SUM(OFFSET(テストデータ!AF3,234,0):OFFSET(テストデータ!AH3,234,0))","v":0},{"$f":"SUM(OFFSET(テストデータ!AF3,234,0):OFFSET(テストデータ!AJ3,234,0))","v":0},{"$f":"SUM(OFFSET(テストデータ!AO3,234,0):OFFSET(テストデータ!AQ3,234,0))","v":0},{"$f":"SUM(OFFSET(テストデータ!AO3,234,0):OFFSET(テストデータ!AS3,234,0))","v":0},{"$f":"SUM(OFFSET(テストデータ!AX3,234,0):OFFSET(テストデータ!AZ3,234,0))","v":0},{"$f":"SUM(OFFSET(テストデータ!AX3,234,0):OFFSET(テストデータ!BB3,234,0))","v":0},{"$f":"SUM(OFFSET(テストデータ!BG3,234,0):OFFSET(テストデータ!BI3,234,0))","v":0},{"$f":"SUM(OFFSET(テストデータ!BG3,234,0):OFFSET(テストデータ!BK3,234,0))","v":0},{"$f":"SUM(OFFSET(テストデータ!BL3,234,0):OFFSET(テストデータ!BN3,234,0))","v":0},{"$f":"SUM(OFFSET(テストデータ!BL3,234,0):OFFSET(テストデータ!BP3,234,0))","v":0},{"$f":"SUM(OFFSET(テストデータ!BQ3,234,0):OFFSET(テストデータ!BS3,234,0))","v":0},{"$f":"SUM(OFFSET(テストデータ!BQ3,234,0):OFFSET(テストデータ!BU3,234,0))","v":0},{"$f":"SUM(OFFSET(テストデータ!BV3,234,0):OFFSET(テストデータ!BX3,234,0))","v":0},{"$f":"SUM(OFFSET(テストデータ!BV3,234,0):OFFSET(テストデータ!BZ3,234,0))","v":0},{"$f":"SUM(OFFSET(テストデータ!CA3,234,0):OFFSET(テストデータ!CC3,234,0))","v":0},{"$f":"SUM(OFFSET(テストデータ!CA3,234,0):OFFSET(テストデータ!CE3,234,0))","v":0},{"$f":"SUM(OFFSET(テストデータ!CF3,234,0):OFFSET(テストデータ!CH3,234,0))","v":0},{"$f":"SUM(OFFSET(テストデータ!CF3,234,0):OFFSET(テストデータ!CJ3,234,0))","v":0},{"$f":"SUM(OFFSET(テストデータ!CK3,234,0):OFFSET(テストデータ!CM3,234,0))","v":0},{"$f":"SUM(OFFSET(テストデータ!CK3,234,0):OFFSET(テストデータ!CO3,234,0))","v":0},{"$f":"SUM(OFFSET(テストデータ!CP3,234,0):OFFSET(テストデータ!CR3,234,0))","v":0},{"$f":"SUM(OFFSET(テストデータ!CP3,234,0):OFFSET(テストデータ!CT3,234,0))","v":0}]
[null,null,null,null,null,null,null,null,null,null,null,null,null,{"$f":"SUM(OFFSET(テストデータ!$E3,235,9*成績表1!$B$4-9):OFFSET(テストデータ!$G3,235,9*成績表1!$B$4-9))","v":0},{"$f":"SUM(OFFSET(テストデータ!$E3,235,9*成績表1!$B$4-9):OFFSET(テストデータ!I3,235,9*成績表1!$B$4-9))","v":0},{"$f":"SUM(OFFSET(テストデータ!E3,235,0):OFFSET(テストデータ!G3,235,0))","v":0},{"$f":"SUM(OFFSET(テストデータ!E3,235,0):OFFSET(テストデータ!I3,235,0))","v":0},{"$f":"SUM(OFFSET(テストデータ!N3,235,0):OFFSET(テストデータ!P3,235,0))","v":0},{"$f":"SUM(OFFSET(テストデータ!N3,235,0):OFFSET(テストデータ!R3,235,0))","v":0},{"$f":"SUM(OFFSET(テストデータ!W3,235,0):OFFSET(テストデータ!Y3,235,0))","v":0},{"$f":"SUM(OFFSET(テストデータ!W3,235,0):OFFSET(テストデータ!AA3,235,0))","v":0},{"$f":"SUM(OFFSET(テストデータ!AF3,235,0):OFFSET(テストデータ!AH3,235,0))","v":0},{"$f":"SUM(OFFSET(テストデータ!AF3,235,0):OFFSET(テストデータ!AJ3,235,0))","v":0},{"$f":"SUM(OFFSET(テストデータ!AO3,235,0):OFFSET(テストデータ!AQ3,235,0))","v":0},{"$f":"SUM(OFFSET(テストデータ!AO3,235,0):OFFSET(テストデータ!AS3,235,0))","v":0},{"$f":"SUM(OFFSET(テストデータ!AX3,235,0):OFFSET(テストデータ!AZ3,235,0))","v":0},{"$f":"SUM(OFFSET(テストデータ!AX3,235,0):OFFSET(テストデータ!BB3,235,0))","v":0},{"$f":"SUM(OFFSET(テストデータ!BG3,235,0):OFFSET(テストデータ!BI3,235,0))","v":0},{"$f":"SUM(OFFSET(テストデータ!BG3,235,0):OFFSET(テストデータ!BK3,235,0))","v":0},{"$f":"SUM(OFFSET(テストデータ!BL3,235,0):OFFSET(テストデータ!BN3,235,0))","v":0},{"$f":"SUM(OFFSET(テストデータ!BL3,235,0):OFFSET(テストデータ!BP3,235,0))","v":0},{"$f":"SUM(OFFSET(テストデータ!BQ3,235,0):OFFSET(テストデータ!BS3,235,0))","v":0},{"$f":"SUM(OFFSET(テストデータ!BQ3,235,0):OFFSET(テストデータ!BU3,235,0))","v":0},{"$f":"SUM(OFFSET(テストデータ!BV3,235,0):OFFSET(テストデータ!BX3,235,0))","v":0},{"$f":"SUM(OFFSET(テストデータ!BV3,235,0):OFFSET(テストデータ!BZ3,235,0))","v":0},{"$f":"SUM(OFFSET(テストデータ!CA3,235,0):OFFSET(テストデータ!CC3,235,0))","v":0},{"$f":"SUM(OFFSET(テストデータ!CA3,235,0):OFFSET(テストデータ!CE3,235,0))","v":0},{"$f":"SUM(OFFSET(テストデータ!CF3,235,0):OFFSET(テストデータ!CH3,235,0))","v":0},{"$f":"SUM(OFFSET(テストデータ!CF3,235,0):OFFSET(テストデータ!CJ3,235,0))","v":0},{"$f":"SUM(OFFSET(テストデータ!CK3,235,0):OFFSET(テストデータ!CM3,235,0))","v":0},{"$f":"SUM(OFFSET(テストデータ!CK3,235,0):OFFSET(テストデータ!CO3,235,0))","v":0},{"$f":"SUM(OFFSET(テストデータ!CP3,235,0):OFFSET(テストデータ!CR3,235,0))","v":0},{"$f":"SUM(OFFSET(テストデータ!CP3,235,0):OFFSET(テストデータ!CT3,235,0))","v":0}]
[null,null,null,null,null,null,null,null,null,null,null,null,null,{"$f":"SUM(OFFSET(テストデータ!$E3,236,9*成績表1!$B$4-9):OFFSET(テストデータ!$G3,236,9*成績表1!$B$4-9))","v":0},{"$f":"SUM(OFFSET(テストデータ!$E3,236,9*成績表1!$B$4-9):OFFSET(テストデータ!I3,236,9*成績表1!$B$4-9))","v":0},{"$f":"SUM(OFFSET(テストデータ!E3,236,0):OFFSET(テストデータ!G3,236,0))","v":0},{"$f":"SUM(OFFSET(テストデータ!E3,236,0):OFFSET(テストデータ!I3,236,0))","v":0},{"$f":"SUM(OFFSET(テストデータ!N3,236,0):OFFSET(テストデータ!P3,236,0))","v":0},{"$f":"SUM(OFFSET(テストデータ!N3,236,0):OFFSET(テストデータ!R3,236,0))","v":0},{"$f":"SUM(OFFSET(テストデータ!W3,236,0):OFFSET(テストデータ!Y3,236,0))","v":0},{"$f":"SUM(OFFSET(テストデータ!W3,236,0):OFFSET(テストデータ!AA3,236,0))","v":0},{"$f":"SUM(OFFSET(テストデータ!AF3,236,0):OFFSET(テストデータ!AH3,236,0))","v":0},{"$f":"SUM(OFFSET(テストデータ!AF3,236,0):OFFSET(テストデータ!AJ3,236,0))","v":0},{"$f":"SUM(OFFSET(テストデータ!AO3,236,0):OFFSET(テストデータ!AQ3,236,0))","v":0},{"$f":"SUM(OFFSET(テストデータ!AO3,236,0):OFFSET(テストデータ!AS3,236,0))","v":0},{"$f":"SUM(OFFSET(テストデータ!AX3,236,0):OFFSET(テストデータ!AZ3,236,0))","v":0},{"$f":"SUM(OFFSET(テストデータ!AX3,236,0):OFFSET(テストデータ!BB3,236,0))","v":0},{"$f":"SUM(OFFSET(テストデータ!BG3,236,0):OFFSET(テストデータ!BI3,236,0))","v":0},{"$f":"SUM(OFFSET(テストデータ!BG3,236,0):OFFSET(テストデータ!BK3,236,0))","v":0},{"$f":"SUM(OFFSET(テストデータ!BL3,236,0):OFFSET(テストデータ!BN3,236,0))","v":0},{"$f":"SUM(OFFSET(テストデータ!BL3,236,0):OFFSET(テストデータ!BP3,236,0))","v":0},{"$f":"SUM(OFFSET(テストデータ!BQ3,236,0):OFFSET(テストデータ!BS3,236,0))","v":0},{"$f":"SUM(OFFSET(テストデータ!BQ3,236,0):OFFSET(テストデータ!BU3,236,0))","v":0},{"$f":"SUM(OFFSET(テストデータ!BV3,236,0):OFFSET(テストデータ!BX3,236,0))","v":0},{"$f":"SUM(OFFSET(テストデータ!BV3,236,0):OFFSET(テストデータ!BZ3,236,0))","v":0},{"$f":"SUM(OFFSET(テストデータ!CA3,236,0):OFFSET(テストデータ!CC3,236,0))","v":0},{"$f":"SUM(OFFSET(テストデータ!CA3,236,0):OFFSET(テストデータ!CE3,236,0))","v":0},{"$f":"SUM(OFFSET(テストデータ!CF3,236,0):OFFSET(テストデータ!CH3,236,0))","v":0},{"$f":"SUM(OFFSET(テストデータ!CF3,236,0):OFFSET(テストデータ!CJ3,236,0))","v":0},{"$f":"SUM(OFFSET(テストデータ!CK3,236,0):OFFSET(テストデータ!CM3,236,0))","v":0},{"$f":"SUM(OFFSET(テストデータ!CK3,236,0):OFFSET(テストデータ!CO3,236,0))","v":0},{"$f":"SUM(OFFSET(テストデータ!CP3,236,0):OFFSET(テストデータ!CR3,236,0))","v":0},{"$f":"SUM(OFFSET(テストデータ!CP3,236,0):OFFSET(テストデータ!CT3,236,0))","v":0}]
[null,null,null,null,null,null,null,null,null,null,null,null,null,{"$f":"SUM(OFFSET(テストデータ!$E3,237,9*成績表1!$B$4-9):OFFSET(テストデータ!$G3,237,9*成績表1!$B$4-9))","v":0},{"$f":"SUM(OFFSET(テストデータ!$E3,237,9*成績表1!$B$4-9):OFFSET(テストデータ!I3,237,9*成績表1!$B$4-9))","v":0},{"$f":"SUM(OFFSET(テストデータ!E3,237,0):OFFSET(テストデータ!G3,237,0))","v":0},{"$f":"SUM(OFFSET(テストデータ!E3,237,0):OFFSET(テストデータ!I3,237,0))","v":0},{"$f":"SUM(OFFSET(テストデータ!N3,237,0):OFFSET(テストデータ!P3,237,0))","v":0},{"$f":"SUM(OFFSET(テストデータ!N3,237,0):OFFSET(テストデータ!R3,237,0))","v":0},{"$f":"SUM(OFFSET(テストデータ!W3,237,0):OFFSET(テストデータ!Y3,237,0))","v":0},{"$f":"SUM(OFFSET(テストデータ!W3,237,0):OFFSET(テストデータ!AA3,237,0))","v":0},{"$f":"SUM(OFFSET(テストデータ!AF3,237,0):OFFSET(テストデータ!AH3,237,0))","v":0},{"$f":"SUM(OFFSET(テストデータ!AF3,237,0):OFFSET(テストデータ!AJ3,237,0))","v":0},{"$f":"SUM(OFFSET(テストデータ!AO3,237,0):OFFSET(テストデータ!AQ3,237,0))","v":0},{"$f":"SUM(OFFSET(テストデータ!AO3,237,0):OFFSET(テストデータ!AS3,237,0))","v":0},{"$f":"SUM(OFFSET(テストデータ!AX3,237,0):OFFSET(テストデータ!AZ3,237,0))","v":0},{"$f":"SUM(OFFSET(テストデータ!AX3,237,0):OFFSET(テストデータ!BB3,237,0))","v":0},{"$f":"SUM(OFFSET(テストデータ!BG3,237,0):OFFSET(テストデータ!BI3,237,0))","v":0},{"$f":"SUM(OFFSET(テストデータ!BG3,237,0):OFFSET(テストデータ!BK3,237,0))","v":0},{"$f":"SUM(OFFSET(テストデータ!BL3,237,0):OFFSET(テストデータ!BN3,237,0))","v":0},{"$f":"SUM(OFFSET(テストデータ!BL3,237,0):OFFSET(テストデータ!BP3,237,0))","v":0},{"$f":"SUM(OFFSET(テストデータ!BQ3,237,0):OFFSET(テストデータ!BS3,237,0))","v":0},{"$f":"SUM(OFFSET(テストデータ!BQ3,237,0):OFFSET(テストデータ!BU3,237,0))","v":0},{"$f":"SUM(OFFSET(テストデータ!BV3,237,0):OFFSET(テストデータ!BX3,237,0))","v":0},{"$f":"SUM(OFFSET(テストデータ!BV3,237,0):OFFSET(テストデータ!BZ3,237,0))","v":0},{"$f":"SUM(OFFSET(テストデータ!CA3,237,0):OFFSET(テストデータ!CC3,237,0))","v":0},{"$f":"SUM(OFFSET(テストデータ!CA3,237,0):OFFSET(テストデータ!CE3,237,0))","v":0},{"$f":"SUM(OFFSET(テストデータ!CF3,237,0):OFFSET(テストデータ!CH3,237,0))","v":0},{"$f":"SUM(OFFSET(テストデータ!CF3,237,0):OFFSET(テストデータ!CJ3,237,0))","v":0},{"$f":"SUM(OFFSET(テストデータ!CK3,237,0):OFFSET(テストデータ!CM3,237,0))","v":0},{"$f":"SUM(OFFSET(テストデータ!CK3,237,0):OFFSET(テストデータ!CO3,237,0))","v":0},{"$f":"SUM(OFFSET(テストデータ!CP3,237,0):OFFSET(テストデータ!CR3,237,0))","v":0},{"$f":"SUM(OFFSET(テストデータ!CP3,237,0):OFFSET(テストデータ!CT3,237,0))","v":0}]
[null,null,null,null,null,null,null,null,null,null,null,null,null,{"$f":"SUM(OFFSET(テストデータ!$E3,238,9*成績表1!$B$4-9):OFFSET(テストデータ!$G3,238,9*成績表1!$B$4-9))","v":0},{"$f":"SUM(OFFSET(テストデータ!$E3,238,9*成績表1!$B$4-9):OFFSET(テストデータ!I3,238,9*成績表1!$B$4-9))","v":0},{"$f":"SUM(OFFSET(テストデータ!E3,238,0):OFFSET(テストデータ!G3,238,0))","v":0},{"$f":"SUM(OFFSET(テストデータ!E3,238,0):OFFSET(テストデータ!I3,238,0))","v":0},{"$f":"SUM(OFFSET(テストデータ!N3,238,0):OFFSET(テストデータ!P3,238,0))","v":0},{"$f":"SUM(OFFSET(テストデータ!N3,238,0):OFFSET(テストデータ!R3,238,0))","v":0},{"$f":"SUM(OFFSET(テストデータ!W3,238,0):OFFSET(テストデータ!Y3,238,0))","v":0},{"$f":"SUM(OFFSET(テストデータ!W3,238,0):OFFSET(テストデータ!AA3,238,0))","v":0},{"$f":"SUM(OFFSET(テストデータ!AF3,238,0):OFFSET(テストデータ!AH3,238,0))","v":0},{"$f":"SUM(OFFSET(テストデータ!AF3,238,0):OFFSET(テストデータ!AJ3,238,0))","v":0},{"$f":"SUM(OFFSET(テストデータ!AO3,238,0):OFFSET(テストデータ!AQ3,238,0))","v":0},{"$f":"SUM(OFFSET(テストデータ!AO3,238,0):OFFSET(テストデータ!AS3,238,0))","v":0},{"$f":"SUM(OFFSET(テストデータ!AX3,238,0):OFFSET(テストデータ!AZ3,238,0))","v":0},{"$f":"SUM(OFFSET(テストデータ!AX3,238,0):OFFSET(テストデータ!BB3,238,0))","v":0},{"$f":"SUM(OFFSET(テストデータ!BG3,238,0):OFFSET(テストデータ!BI3,238,0))","v":0},{"$f":"SUM(OFFSET(テストデータ!BG3,238,0):OFFSET(テストデータ!BK3,238,0))","v":0},{"$f":"SUM(OFFSET(テストデータ!BL3,238,0):OFFSET(テストデータ!BN3,238,0))","v":0},{"$f":"SUM(OFFSET(テストデータ!BL3,238,0):OFFSET(テストデータ!BP3,238,0))","v":0},{"$f":"SUM(OFFSET(テストデータ!BQ3,238,0):OFFSET(テストデータ!BS3,238,0))","v":0},{"$f":"SUM(OFFSET(テストデータ!BQ3,238,0):OFFSET(テストデータ!BU3,238,0))","v":0},{"$f":"SUM(OFFSET(テストデータ!BV3,238,0):OFFSET(テストデータ!BX3,238,0))","v":0},{"$f":"SUM(OFFSET(テストデータ!BV3,238,0):OFFSET(テストデータ!BZ3,238,0))","v":0},{"$f":"SUM(OFFSET(テストデータ!CA3,238,0):OFFSET(テストデータ!CC3,238,0))","v":0},{"$f":"SUM(OFFSET(テストデータ!CA3,238,0):OFFSET(テストデータ!CE3,238,0))","v":0},{"$f":"SUM(OFFSET(テストデータ!CF3,238,0):OFFSET(テストデータ!CH3,238,0))","v":0},{"$f":"SUM(OFFSET(テストデータ!CF3,238,0):OFFSET(テストデータ!CJ3,238,0))","v":0},{"$f":"SUM(OFFSET(テストデータ!CK3,238,0):OFFSET(テストデータ!CM3,238,0))","v":0},{"$f":"SUM(OFFSET(テストデータ!CK3,238,0):OFFSET(テストデータ!CO3,238,0))","v":0},{"$f":"SUM(OFFSET(テストデータ!CP3,238,0):OFFSET(テストデータ!CR3,238,0))","v":0},{"$f":"SUM(OFFSET(テストデータ!CP3,238,0):OFFSET(テストデータ!CT3,238,0))","v":0}]
[null,null,null,null,null,null,null,null,null,null,null,null,null,{"$f":"SUM(OFFSET(テストデータ!$E3,239,9*成績表1!$B$4-9):OFFSET(テストデータ!$G3,239,9*成績表1!$B$4-9))","v":0},{"$f":"SUM(OFFSET(テストデータ!$E3,239,9*成績表1!$B$4-9):OFFSET(テストデータ!I3,239,9*成績表1!$B$4-9))","v":0},{"$f":"SUM(OFFSET(テストデータ!E3,239,0):OFFSET(テストデータ!G3,239,0))","v":0},{"$f":"SUM(OFFSET(テストデータ!E3,239,0):OFFSET(テストデータ!I3,239,0))","v":0},{"$f":"SUM(OFFSET(テストデータ!N3,239,0):OFFSET(テストデータ!P3,239,0))","v":0},{"$f":"SUM(OFFSET(テストデータ!N3,239,0):OFFSET(テストデータ!R3,239,0))","v":0},{"$f":"SUM(OFFSET(テストデータ!W3,239,0):OFFSET(テストデータ!Y3,239,0))","v":0},{"$f":"SUM(OFFSET(テストデータ!W3,239,0):OFFSET(テストデータ!AA3,239,0))","v":0},{"$f":"SUM(OFFSET(テストデータ!AF3,239,0):OFFSET(テストデータ!AH3,239,0))","v":0},{"$f":"SUM(OFFSET(テストデータ!AF3,239,0):OFFSET(テストデータ!AJ3,239,0))","v":0},{"$f":"SUM(OFFSET(テストデータ!AO3,239,0):OFFSET(テストデータ!AQ3,239,0))","v":0},{"$f":"SUM(OFFSET(テストデータ!AO3,239,0):OFFSET(テストデータ!AS3,239,0))","v":0},{"$f":"SUM(OFFSET(テストデータ!AX3,239,0):OFFSET(テストデータ!AZ3,239,0))","v":0},{"$f":"SUM(OFFSET(テストデータ!AX3,239,0):OFFSET(テストデータ!BB3,239,0))","v":0},{"$f":"SUM(OFFSET(テストデータ!BG3,239,0):OFFSET(テストデータ!BI3,239,0))","v":0},{"$f":"SUM(OFFSET(テストデータ!BG3,239,0):OFFSET(テストデータ!BK3,239,0))","v":0},{"$f":"SUM(OFFSET(テストデータ!BL3,239,0):OFFSET(テストデータ!BN3,239,0))","v":0},{"$f":"SUM(OFFSET(テストデータ!BL3,239,0):OFFSET(テストデータ!BP3,239,0))","v":0},{"$f":"SUM(OFFSET(テストデータ!BQ3,239,0):OFFSET(テストデータ!BS3,239,0))","v":0},{"$f":"SUM(OFFSET(テストデータ!BQ3,239,0):OFFSET(テストデータ!BU3,239,0))","v":0},{"$f":"SUM(OFFSET(テストデータ!BV3,239,0):OFFSET(テストデータ!BX3,239,0))","v":0},{"$f":"SUM(OFFSET(テストデータ!BV3,239,0):OFFSET(テストデータ!BZ3,239,0))","v":0},{"$f":"SUM(OFFSET(テストデータ!CA3,239,0):OFFSET(テストデータ!CC3,239,0))","v":0},{"$f":"SUM(OFFSET(テストデータ!CA3,239,0):OFFSET(テストデータ!CE3,239,0))","v":0},{"$f":"SUM(OFFSET(テストデータ!CF3,239,0):OFFSET(テストデータ!CH3,239,0))","v":0},{"$f":"SUM(OFFSET(テストデータ!CF3,239,0):OFFSET(テストデータ!CJ3,239,0))","v":0},{"$f":"SUM(OFFSET(テストデータ!CK3,239,0):OFFSET(テストデータ!CM3,239,0))","v":0},{"$f":"SUM(OFFSET(テストデータ!CK3,239,0):OFFSET(テストデータ!CO3,239,0))","v":0},{"$f":"SUM(OFFSET(テストデータ!CP3,239,0):OFFSET(テストデータ!CR3,239,0))","v":0},{"$f":"SUM(OFFSET(テストデータ!CP3,239,0):OFFSET(テストデータ!CT3,239,0))","v":0}]
[null,null,null,null,null,null,null,null,null,null,null,null,null,{"$f":"SUM(OFFSET(テストデータ!$E3,240,9*成績表1!$B$4-9):OFFSET(テストデータ!$G3,240,9*成績表1!$B$4-9))","v":0},{"$f":"SUM(OFFSET(テストデータ!$E3,240,9*成績表1!$B$4-9):OFFSET(テストデータ!I3,240,9*成績表1!$B$4-9))","v":0},{"$f":"SUM(OFFSET(テストデータ!E3,240,0):OFFSET(テストデータ!G3,240,0))","v":0},{"$f":"SUM(OFFSET(テストデータ!E3,240,0):OFFSET(テストデータ!I3,240,0))","v":0},{"$f":"SUM(OFFSET(テストデータ!N3,240,0):OFFSET(テストデータ!P3,240,0))","v":0},{"$f":"SUM(OFFSET(テストデータ!N3,240,0):OFFSET(テストデータ!R3,240,0))","v":0},{"$f":"SUM(OFFSET(テストデータ!W3,240,0):OFFSET(テストデータ!Y3,240,0))","v":0},{"$f":"SUM(OFFSET(テストデータ!W3,240,0):OFFSET(テストデータ!AA3,240,0))","v":0},{"$f":"SUM(OFFSET(テストデータ!AF3,240,0):OFFSET(テストデータ!AH3,240,0))","v":0},{"$f":"SUM(OFFSET(テストデータ!AF3,240,0):OFFSET(テストデータ!AJ3,240,0))","v":0},{"$f":"SUM(OFFSET(テストデータ!AO3,240,0):OFFSET(テストデータ!AQ3,240,0))","v":0},{"$f":"SUM(OFFSET(テストデータ!AO3,240,0):OFFSET(テストデータ!AS3,240,0))","v":0},{"$f":"SUM(OFFSET(テストデータ!AX3,240,0):OFFSET(テストデータ!AZ3,240,0))","v":0},{"$f":"SUM(OFFSET(テストデータ!AX3,240,0):OFFSET(テストデータ!BB3,240,0))","v":0},{"$f":"SUM(OFFSET(テストデータ!BG3,240,0):OFFSET(テストデータ!BI3,240,0))","v":0},{"$f":"SUM(OFFSET(テストデータ!BG3,240,0):OFFSET(テストデータ!BK3,240,0))","v":0},{"$f":"SUM(OFFSET(テストデータ!BL3,240,0):OFFSET(テストデータ!BN3,240,0))","v":0},{"$f":"SUM(OFFSET(テストデータ!BL3,240,0):OFFSET(テストデータ!BP3,240,0))","v":0},{"$f":"SUM(OFFSET(テストデータ!BQ3,240,0):OFFSET(テストデータ!BS3,240,0))","v":0},{"$f":"SUM(OFFSET(テストデータ!BQ3,240,0):OFFSET(テストデータ!BU3,240,0))","v":0},{"$f":"SUM(OFFSET(テストデータ!BV3,240,0):OFFSET(テストデータ!BX3,240,0))","v":0},{"$f":"SUM(OFFSET(テストデータ!BV3,240,0):OFFSET(テストデータ!BZ3,240,0))","v":0},{"$f":"SUM(OFFSET(テストデータ!CA3,240,0):OFFSET(テストデータ!CC3,240,0))","v":0},{"$f":"SUM(OFFSET(テストデータ!CA3,240,0):OFFSET(テストデータ!CE3,240,0))","v":0},{"$f":"SUM(OFFSET(テストデータ!CF3,240,0):OFFSET(テストデータ!CH3,240,0))","v":0},{"$f":"SUM(OFFSET(テストデータ!CF3,240,0):OFFSET(テストデータ!CJ3,240,0))","v":0},{"$f":"SUM(OFFSET(テストデータ!CK3,240,0):OFFSET(テストデータ!CM3,240,0))","v":0},{"$f":"SUM(OFFSET(テストデータ!CK3,240,0):OFFSET(テストデータ!CO3,240,0))","v":0},{"$f":"SUM(OFFSET(テストデータ!CP3,240,0):OFFSET(テストデータ!CR3,240,0))","v":0},{"$f":"SUM(OFFSET(テストデータ!CP3,240,0):OFFSET(テストデータ!CT3,240,0))","v":0}]
[null,null,null,null,null,null,null,null,null,null,null,null,null,{"$f":"SUM(OFFSET(テストデータ!$E3,241,9*成績表1!$B$4-9):OFFSET(テストデータ!$G3,241,9*成績表1!$B$4-9))","v":0},{"$f":"SUM(OFFSET(テストデータ!$E3,241,9*成績表1!$B$4-9):OFFSET(テストデータ!I3,241,9*成績表1!$B$4-9))","v":0},{"$f":"SUM(OFFSET(テストデータ!E3,241,0):OFFSET(テストデータ!G3,241,0))","v":0},{"$f":"SUM(OFFSET(テストデータ!E3,241,0):OFFSET(テストデータ!I3,241,0))","v":0},{"$f":"SUM(OFFSET(テストデータ!N3,241,0):OFFSET(テストデータ!P3,241,0))","v":0},{"$f":"SUM(OFFSET(テストデータ!N3,241,0):OFFSET(テストデータ!R3,241,0))","v":0},{"$f":"SUM(OFFSET(テストデータ!W3,241,0):OFFSET(テストデータ!Y3,241,0))","v":0},{"$f":"SUM(OFFSET(テストデータ!W3,241,0):OFFSET(テストデータ!AA3,241,0))","v":0},{"$f":"SUM(OFFSET(テストデータ!AF3,241,0):OFFSET(テストデータ!AH3,241,0))","v":0},{"$f":"SUM(OFFSET(テストデータ!AF3,241,0):OFFSET(テストデータ!AJ3,241,0))","v":0},{"$f":"SUM(OFFSET(テストデータ!AO3,241,0):OFFSET(テストデータ!AQ3,241,0))","v":0},{"$f":"SUM(OFFSET(テストデータ!AO3,241,0):OFFSET(テストデータ!AS3,241,0))","v":0},{"$f":"SUM(OFFSET(テストデータ!AX3,241,0):OFFSET(テストデータ!AZ3,241,0))","v":0},{"$f":"SUM(OFFSET(テストデータ!AX3,241,0):OFFSET(テストデータ!BB3,241,0))","v":0},{"$f":"SUM(OFFSET(テストデータ!BG3,241,0):OFFSET(テストデータ!BI3,241,0))","v":0},{"$f":"SUM(OFFSET(テストデータ!BG3,241,0):OFFSET(テストデータ!BK3,241,0))","v":0},{"$f":"SUM(OFFSET(テストデータ!BL3,241,0):OFFSET(テストデータ!BN3,241,0))","v":0},{"$f":"SUM(OFFSET(テストデータ!BL3,241,0):OFFSET(テストデータ!BP3,241,0))","v":0},{"$f":"SUM(OFFSET(テストデータ!BQ3,241,0):OFFSET(テストデータ!BS3,241,0))","v":0},{"$f":"SUM(OFFSET(テストデータ!BQ3,241,0):OFFSET(テストデータ!BU3,241,0))","v":0},{"$f":"SUM(OFFSET(テストデータ!BV3,241,0):OFFSET(テストデータ!BX3,241,0))","v":0},{"$f":"SUM(OFFSET(テストデータ!BV3,241,0):OFFSET(テストデータ!BZ3,241,0))","v":0},{"$f":"SUM(OFFSET(テストデータ!CA3,241,0):OFFSET(テストデータ!CC3,241,0))","v":0},{"$f":"SUM(OFFSET(テストデータ!CA3,241,0):OFFSET(テストデータ!CE3,241,0))","v":0},{"$f":"SUM(OFFSET(テストデータ!CF3,241,0):OFFSET(テストデータ!CH3,241,0))","v":0},{"$f":"SUM(OFFSET(テストデータ!CF3,241,0):OFFSET(テストデータ!CJ3,241,0))","v":0},{"$f":"SUM(OFFSET(テストデータ!CK3,241,0):OFFSET(テストデータ!CM3,241,0))","v":0},{"$f":"SUM(OFFSET(テストデータ!CK3,241,0):OFFSET(テストデータ!CO3,241,0))","v":0},{"$f":"SUM(OFFSET(テストデータ!CP3,241,0):OFFSET(テストデータ!CR3,241,0))","v":0},{"$f":"SUM(OFFSET(テストデータ!CP3,241,0):OFFSET(テストデータ!CT3,241,0))","v":0}]
[null,null,null,null,null,null,null,null,null,null,null,null,null,{"$f":"SUM(OFFSET(テストデータ!$E3,242,9*成績表1!$B$4-9):OFFSET(テストデータ!$G3,242,9*成績表1!$B$4-9))","v":0},{"$f":"SUM(OFFSET(テストデータ!$E3,242,9*成績表1!$B$4-9):OFFSET(テストデータ!I3,242,9*成績表1!$B$4-9))","v":0},{"$f":"SUM(OFFSET(テストデータ!E3,242,0):OFFSET(テストデータ!G3,242,0))","v":0},{"$f":"SUM(OFFSET(テストデータ!E3,242,0):OFFSET(テストデータ!I3,242,0))","v":0},{"$f":"SUM(OFFSET(テストデータ!N3,242,0):OFFSET(テストデータ!P3,242,0))","v":0},{"$f":"SUM(OFFSET(テストデータ!N3,242,0):OFFSET(テストデータ!R3,242,0))","v":0},{"$f":"SUM(OFFSET(テストデータ!W3,242,0):OFFSET(テストデータ!Y3,242,0))","v":0},{"$f":"SUM(OFFSET(テストデータ!W3,242,0):OFFSET(テストデータ!AA3,242,0))","v":0},{"$f":"SUM(OFFSET(テストデータ!AF3,242,0):OFFSET(テストデータ!AH3,242,0))","v":0},{"$f":"SUM(OFFSET(テストデータ!AF3,242,0):OFFSET(テストデータ!AJ3,242,0))","v":0},{"$f":"SUM(OFFSET(テストデータ!AO3,242,0):OFFSET(テストデータ!AQ3,242,0))","v":0},{"$f":"SUM(OFFSET(テストデータ!AO3,242,0):OFFSET(テストデータ!AS3,242,0))","v":0},{"$f":"SUM(OFFSET(テストデータ!AX3,242,0):OFFSET(テストデータ!AZ3,242,0))","v":0},{"$f":"SUM(OFFSET(テストデータ!AX3,242,0):OFFSET(テストデータ!BB3,242,0))","v":0},{"$f":"SUM(OFFSET(テストデータ!BG3,242,0):OFFSET(テストデータ!BI3,242,0))","v":0},{"$f":"SUM(OFFSET(テストデータ!BG3,242,0):OFFSET(テストデータ!BK3,242,0))","v":0},{"$f":"SUM(OFFSET(テストデータ!BL3,242,0):OFFSET(テストデータ!BN3,242,0))","v":0},{"$f":"SUM(OFFSET(テストデータ!BL3,242,0):OFFSET(テストデータ!BP3,242,0))","v":0},{"$f":"SUM(OFFSET(テストデータ!BQ3,242,0):OFFSET(テストデータ!BS3,242,0))","v":0},{"$f":"SUM(OFFSET(テストデータ!BQ3,242,0):OFFSET(テストデータ!BU3,242,0))","v":0},{"$f":"SUM(OFFSET(テストデータ!BV3,242,0):OFFSET(テストデータ!BX3,242,0))","v":0},{"$f":"SUM(OFFSET(テストデータ!BV3,242,0):OFFSET(テストデータ!BZ3,242,0))","v":0},{"$f":"SUM(OFFSET(テストデータ!CA3,242,0):OFFSET(テストデータ!CC3,242,0))","v":0},{"$f":"SUM(OFFSET(テストデータ!CA3,242,0):OFFSET(テストデータ!CE3,242,0))","v":0},{"$f":"SUM(OFFSET(テストデータ!CF3,242,0):OFFSET(テストデータ!CH3,242,0))","v":0},{"$f":"SUM(OFFSET(テストデータ!CF3,242,0):OFFSET(テストデータ!CJ3,242,0))","v":0},{"$f":"SUM(OFFSET(テストデータ!CK3,242,0):OFFSET(テストデータ!CM3,242,0))","v":0},{"$f":"SUM(OFFSET(テストデータ!CK3,242,0):OFFSET(テストデータ!CO3,242,0))","v":0},{"$f":"SUM(OFFSET(テストデータ!CP3,242,0):OFFSET(テストデータ!CR3,242,0))","v":0},{"$f":"SUM(OFFSET(テストデータ!CP3,242,0):OFFSET(テストデータ!CT3,242,0))","v":0}]
[null,null,null,null,null,null,null,null,null,null,null,null,null,{"$f":"SUM(OFFSET(テストデータ!$E3,243,9*成績表1!$B$4-9):OFFSET(テストデータ!$G3,243,9*成績表1!$B$4-9))","v":0},{"$f":"SUM(OFFSET(テストデータ!$E3,243,9*成績表1!$B$4-9):OFFSET(テストデータ!I3,243,9*成績表1!$B$4-9))","v":0},{"$f":"SUM(OFFSET(テストデータ!E3,243,0):OFFSET(テストデータ!G3,243,0))","v":0},{"$f":"SUM(OFFSET(テストデータ!E3,243,0):OFFSET(テストデータ!I3,243,0))","v":0},{"$f":"SUM(OFFSET(テストデータ!N3,243,0):OFFSET(テストデータ!P3,243,0))","v":0},{"$f":"SUM(OFFSET(テストデータ!N3,243,0):OFFSET(テストデータ!R3,243,0))","v":0},{"$f":"SUM(OFFSET(テストデータ!W3,243,0):OFFSET(テストデータ!Y3,243,0))","v":0},{"$f":"SUM(OFFSET(テストデータ!W3,243,0):OFFSET(テストデータ!AA3,243,0))","v":0},{"$f":"SUM(OFFSET(テストデータ!AF3,243,0):OFFSET(テストデータ!AH3,243,0))","v":0},{"$f":"SUM(OFFSET(テストデータ!AF3,243,0):OFFSET(テストデータ!AJ3,243,0))","v":0},{"$f":"SUM(OFFSET(テストデータ!AO3,243,0):OFFSET(テストデータ!AQ3,243,0))","v":0},{"$f":"SUM(OFFSET(テストデータ!AO3,243,0):OFFSET(テストデータ!AS3,243,0))","v":0},{"$f":"SUM(OFFSET(テストデータ!AX3,243,0):OFFSET(テストデータ!AZ3,243,0))","v":0},{"$f":"SUM(OFFSET(テストデータ!AX3,243,0):OFFSET(テストデータ!BB3,243,0))","v":0},{"$f":"SUM(OFFSET(テストデータ!BG3,243,0):OFFSET(テストデータ!BI3,243,0))","v":0},{"$f":"SUM(OFFSET(テストデータ!BG3,243,0):OFFSET(テストデータ!BK3,243,0))","v":0},{"$f":"SUM(OFFSET(テストデータ!BL3,243,0):OFFSET(テストデータ!BN3,243,0))","v":0},{"$f":"SUM(OFFSET(テストデータ!BL3,243,0):OFFSET(テストデータ!BP3,243,0))","v":0},{"$f":"SUM(OFFSET(テストデータ!BQ3,243,0):OFFSET(テストデータ!BS3,243,0))","v":0},{"$f":"SUM(OFFSET(テストデータ!BQ3,243,0):OFFSET(テストデータ!BU3,243,0))","v":0},{"$f":"SUM(OFFSET(テストデータ!BV3,243,0):OFFSET(テストデータ!BX3,243,0))","v":0},{"$f":"SUM(OFFSET(テストデータ!BV3,243,0):OFFSET(テストデータ!BZ3,243,0))","v":0},{"$f":"SUM(OFFSET(テストデータ!CA3,243,0):OFFSET(テストデータ!CC3,243,0))","v":0},{"$f":"SUM(OFFSET(テストデータ!CA3,243,0):OFFSET(テストデータ!CE3,243,0))","v":0},{"$f":"SUM(OFFSET(テストデータ!CF3,243,0):OFFSET(テストデータ!CH3,243,0))","v":0},{"$f":"SUM(OFFSET(テストデータ!CF3,243,0):OFFSET(テストデータ!CJ3,243,0))","v":0},{"$f":"SUM(OFFSET(テストデータ!CK3,243,0):OFFSET(テストデータ!CM3,243,0))","v":0},{"$f":"SUM(OFFSET(テストデータ!CK3,243,0):OFFSET(テストデータ!CO3,243,0))","v":0},{"$f":"SUM(OFFSET(テストデータ!CP3,243,0):OFFSET(テストデータ!CR3,243,0))","v":0},{"$f":"SUM(OFFSET(テストデータ!CP3,243,0):OFFSET(テストデータ!CT3,243,0))","v":0}]
[null,null,null,null,null,null,null,null,null,null,null,null,null,{"$f":"SUM(OFFSET(テストデータ!$E3,244,9*成績表1!$B$4-9):OFFSET(テストデータ!$G3,244,9*成績表1!$B$4-9))","v":0},{"$f":"SUM(OFFSET(テストデータ!$E3,244,9*成績表1!$B$4-9):OFFSET(テストデータ!I3,244,9*成績表1!$B$4-9))","v":0},{"$f":"SUM(OFFSET(テストデータ!E3,244,0):OFFSET(テストデータ!G3,244,0))","v":0},{"$f":"SUM(OFFSET(テストデータ!E3,244,0):OFFSET(テストデータ!I3,244,0))","v":0},{"$f":"SUM(OFFSET(テストデータ!N3,244,0):OFFSET(テストデータ!P3,244,0))","v":0},{"$f":"SUM(OFFSET(テストデータ!N3,244,0):OFFSET(テストデータ!R3,244,0))","v":0},{"$f":"SUM(OFFSET(テストデータ!W3,244,0):OFFSET(テストデータ!Y3,244,0))","v":0},{"$f":"SUM(OFFSET(テストデータ!W3,244,0):OFFSET(テストデータ!AA3,244,0))","v":0},{"$f":"SUM(OFFSET(テストデータ!AF3,244,0):OFFSET(テストデータ!AH3,244,0))","v":0},{"$f":"SUM(OFFSET(テストデータ!AF3,244,0):OFFSET(テストデータ!AJ3,244,0))","v":0},{"$f":"SUM(OFFSET(テストデータ!AO3,244,0):OFFSET(テストデータ!AQ3,244,0))","v":0},{"$f":"SUM(OFFSET(テストデータ!AO3,244,0):OFFSET(テストデータ!AS3,244,0))","v":0},{"$f":"SUM(OFFSET(テストデータ!AX3,244,0):OFFSET(テストデータ!AZ3,244,0))","v":0},{"$f":"SUM(OFFSET(テストデータ!AX3,244,0):OFFSET(テストデータ!BB3,244,0))","v":0},{"$f":"SUM(OFFSET(テストデータ!BG3,244,0):OFFSET(テストデータ!BI3,244,0))","v":0},{"$f":"SUM(OFFSET(テストデータ!BG3,244,0):OFFSET(テストデータ!BK3,244,0))","v":0},{"$f":"SUM(OFFSET(テストデータ!BL3,244,0):OFFSET(テストデータ!BN3,244,0))","v":0},{"$f":"SUM(OFFSET(テストデータ!BL3,244,0):OFFSET(テストデータ!BP3,244,0))","v":0},{"$f":"SUM(OFFSET(テストデータ!BQ3,244,0):OFFSET(テストデータ!BS3,244,0))","v":0},{"$f":"SUM(OFFSET(テストデータ!BQ3,244,0):OFFSET(テストデータ!BU3,244,0))","v":0},{"$f":"SUM(OFFSET(テストデータ!BV3,244,0):OFFSET(テストデータ!BX3,244,0))","v":0},{"$f":"SUM(OFFSET(テストデータ!BV3,244,0):OFFSET(テストデータ!BZ3,244,0))","v":0},{"$f":"SUM(OFFSET(テストデータ!CA3,244,0):OFFSET(テストデータ!CC3,244,0))","v":0},{"$f":"SUM(OFFSET(テストデータ!CA3,244,0):OFFSET(テストデータ!CE3,244,0))","v":0},{"$f":"SUM(OFFSET(テストデータ!CF3,244,0):OFFSET(テストデータ!CH3,244,0))","v":0},{"$f":"SUM(OFFSET(テストデータ!CF3,244,0):OFFSET(テストデータ!CJ3,244,0))","v":0},{"$f":"SUM(OFFSET(テストデータ!CK3,244,0):OFFSET(テストデータ!CM3,244,0))","v":0},{"$f":"SUM(OFFSET(テストデータ!CK3,244,0):OFFSET(テストデータ!CO3,244,0))","v":0},{"$f":"SUM(OFFSET(テストデータ!CP3,244,0):OFFSET(テストデータ!CR3,244,0))","v":0},{"$f":"SUM(OFFSET(テストデータ!CP3,244,0):OFFSET(テストデータ!CT3,244,0))","v":0}]
[null,null,null,null,null,null,null,null,null,null,null,null,null,{"$f":"SUM(OFFSET(テストデータ!$E3,245,9*成績表1!$B$4-9):OFFSET(テストデータ!$G3,245,9*成績表1!$B$4-9))","v":0},{"$f":"SUM(OFFSET(テストデータ!$E3,245,9*成績表1!$B$4-9):OFFSET(テストデータ!I3,245,9*成績表1!$B$4-9))","v":0},{"$f":"SUM(OFFSET(テストデータ!E3,245,0):OFFSET(テストデータ!G3,245,0))","v":0},{"$f":"SUM(OFFSET(テストデータ!E3,245,0):OFFSET(テストデータ!I3,245,0))","v":0},{"$f":"SUM(OFFSET(テストデータ!N3,245,0):OFFSET(テストデータ!P3,245,0))","v":0},{"$f":"SUM(OFFSET(テストデータ!N3,245,0):OFFSET(テストデータ!R3,245,0))","v":0},{"$f":"SUM(OFFSET(テストデータ!W3,245,0):OFFSET(テストデータ!Y3,245,0))","v":0},{"$f":"SUM(OFFSET(テストデータ!W3,245,0):OFFSET(テストデータ!AA3,245,0))","v":0},{"$f":"SUM(OFFSET(テストデータ!AF3,245,0):OFFSET(テストデータ!AH3,245,0))","v":0},{"$f":"SUM(OFFSET(テストデータ!AF3,245,0):OFFSET(テストデータ!AJ3,245,0))","v":0},{"$f":"SUM(OFFSET(テストデータ!AO3,245,0):OFFSET(テストデータ!AQ3,245,0))","v":0},{"$f":"SUM(OFFSET(テストデータ!AO3,245,0):OFFSET(テストデータ!AS3,245,0))","v":0},{"$f":"SUM(OFFSET(テストデータ!AX3,245,0):OFFSET(テストデータ!AZ3,245,0))","v":0},{"$f":"SUM(OFFSET(テストデータ!AX3,245,0):OFFSET(テストデータ!BB3,245,0))","v":0},{"$f":"SUM(OFFSET(テストデータ!BG3,245,0):OFFSET(テストデータ!BI3,245,0))","v":0},{"$f":"SUM(OFFSET(テストデータ!BG3,245,0):OFFSET(テストデータ!BK3,245,0))","v":0},{"$f":"SUM(OFFSET(テストデータ!BL3,245,0):OFFSET(テストデータ!BN3,245,0))","v":0},{"$f":"SUM(OFFSET(テストデータ!BL3,245,0):OFFSET(テストデータ!BP3,245,0))","v":0},{"$f":"SUM(OFFSET(テストデータ!BQ3,245,0):OFFSET(テストデータ!BS3,245,0))","v":0},{"$f":"SUM(OFFSET(テストデータ!BQ3,245,0):OFFSET(テストデータ!BU3,245,0))","v":0},{"$f":"SUM(OFFSET(テストデータ!BV3,245,0):OFFSET(テストデータ!BX3,245,0))","v":0},{"$f":"SUM(OFFSET(テストデータ!BV3,245,0):OFFSET(テストデータ!BZ3,245,0))","v":0},{"$f":"SUM(OFFSET(テストデータ!CA3,245,0):OFFSET(テストデータ!CC3,245,0))","v":0},{"$f":"SUM(OFFSET(テストデータ!CA3,245,0):OFFSET(テストデータ!CE3,245,0))","v":0},{"$f":"SUM(OFFSET(テストデータ!CF3,245,0):OFFSET(テストデータ!CH3,245,0))","v":0},{"$f":"SUM(OFFSET(テストデータ!CF3,245,0):OFFSET(テストデータ!CJ3,245,0))","v":0},{"$f":"SUM(OFFSET(テストデータ!CK3,245,0):OFFSET(テストデータ!CM3,245,0))","v":0},{"$f":"SUM(OFFSET(テストデータ!CK3,245,0):OFFSET(テストデータ!CO3,245,0))","v":0},{"$f":"SUM(OFFSET(テストデータ!CP3,245,0):OFFSET(テストデータ!CR3,245,0))","v":0},{"$f":"SUM(OFFSET(テストデータ!CP3,245,0):OFFSET(テストデータ!CT3,245,0))","v":0}]
[null,null,null,null,null,null,null,null,null,null,null,null,null,{"$f":"SUM(OFFSET(テストデータ!$E3,246,9*成績表1!$B$4-9):OFFSET(テストデータ!$G3,246,9*成績表1!$B$4-9))","v":0},{"$f":"SUM(OFFSET(テストデータ!$E3,246,9*成績表1!$B$4-9):OFFSET(テストデータ!I3,246,9*成績表1!$B$4-9))","v":0},{"$f":"SUM(OFFSET(テストデータ!E3,246,0):OFFSET(テストデータ!G3,246,0))","v":0},{"$f":"SUM(OFFSET(テストデータ!E3,246,0):OFFSET(テストデータ!I3,246,0))","v":0},{"$f":"SUM(OFFSET(テストデータ!N3,246,0):OFFSET(テストデータ!P3,246,0))","v":0},{"$f":"SUM(OFFSET(テストデータ!N3,246,0):OFFSET(テストデータ!R3,246,0))","v":0},{"$f":"SUM(OFFSET(テストデータ!W3,246,0):OFFSET(テストデータ!Y3,246,0))","v":0},{"$f":"SUM(OFFSET(テストデータ!W3,246,0):OFFSET(テストデータ!AA3,246,0))","v":0},{"$f":"SUM(OFFSET(テストデータ!AF3,246,0):OFFSET(テストデータ!AH3,246,0))","v":0},{"$f":"SUM(OFFSET(テストデータ!AF3,246,0):OFFSET(テストデータ!AJ3,246,0))","v":0},{"$f":"SUM(OFFSET(テストデータ!AO3,246,0):OFFSET(テストデータ!AQ3,246,0))","v":0},{"$f":"SUM(OFFSET(テストデータ!AO3,246,0):OFFSET(テストデータ!AS3,246,0))","v":0},{"$f":"SUM(OFFSET(テストデータ!AX3,246,0):OFFSET(テストデータ!AZ3,246,0))","v":0},{"$f":"SUM(OFFSET(テストデータ!AX3,246,0):OFFSET(テストデータ!BB3,246,0))","v":0},{"$f":"SUM(OFFSET(テストデータ!BG3,246,0):OFFSET(テストデータ!BI3,246,0))","v":0},{"$f":"SUM(OFFSET(テストデータ!BG3,246,0):OFFSET(テストデータ!BK3,246,0))","v":0},{"$f":"SUM(OFFSET(テストデータ!BL3,246,0):OFFSET(テストデータ!BN3,246,0))","v":0},{"$f":"SUM(OFFSET(テストデータ!BL3,246,0):OFFSET(テストデータ!BP3,246,0))","v":0},{"$f":"SUM(OFFSET(テストデータ!BQ3,246,0):OFFSET(テストデータ!BS3,246,0))","v":0},{"$f":"SUM(OFFSET(テストデータ!BQ3,246,0):OFFSET(テストデータ!BU3,246,0))","v":0},{"$f":"SUM(OFFSET(テストデータ!BV3,246,0):OFFSET(テストデータ!BX3,246,0))","v":0},{"$f":"SUM(OFFSET(テストデータ!BV3,246,0):OFFSET(テストデータ!BZ3,246,0))","v":0},{"$f":"SUM(OFFSET(テストデータ!CA3,246,0):OFFSET(テストデータ!CC3,246,0))","v":0},{"$f":"SUM(OFFSET(テストデータ!CA3,246,0):OFFSET(テストデータ!CE3,246,0))","v":0},{"$f":"SUM(OFFSET(テストデータ!CF3,246,0):OFFSET(テストデータ!CH3,246,0))","v":0},{"$f":"SUM(OFFSET(テストデータ!CF3,246,0):OFFSET(テストデータ!CJ3,246,0))","v":0},{"$f":"SUM(OFFSET(テストデータ!CK3,246,0):OFFSET(テストデータ!CM3,246,0))","v":0},{"$f":"SUM(OFFSET(テストデータ!CK3,246,0):OFFSET(テストデータ!CO3,246,0))","v":0},{"$f":"SUM(OFFSET(テストデータ!CP3,246,0):OFFSET(テストデータ!CR3,246,0))","v":0},{"$f":"SUM(OFFSET(テストデータ!CP3,246,0):OFFSET(テストデータ!CT3,246,0))","v":0}]
[null,null,null,null,null,null,null,null,null,null,null,null,null,{"$f":"SUM(OFFSET(テストデータ!$E3,247,9*成績表1!$B$4-9):OFFSET(テストデータ!$G3,247,9*成績表1!$B$4-9))","v":0},{"$f":"SUM(OFFSET(テストデータ!$E3,247,9*成績表1!$B$4-9):OFFSET(テストデータ!I3,247,9*成績表1!$B$4-9))","v":0},{"$f":"SUM(OFFSET(テストデータ!E3,247,0):OFFSET(テストデータ!G3,247,0))","v":0},{"$f":"SUM(OFFSET(テストデータ!E3,247,0):OFFSET(テストデータ!I3,247,0))","v":0},{"$f":"SUM(OFFSET(テストデータ!N3,247,0):OFFSET(テストデータ!P3,247,0))","v":0},{"$f":"SUM(OFFSET(テストデータ!N3,247,0):OFFSET(テストデータ!R3,247,0))","v":0},{"$f":"SUM(OFFSET(テストデータ!W3,247,0):OFFSET(テストデータ!Y3,247,0))","v":0},{"$f":"SUM(OFFSET(テストデータ!W3,247,0):OFFSET(テストデータ!AA3,247,0))","v":0},{"$f":"SUM(OFFSET(テストデータ!AF3,247,0):OFFSET(テストデータ!AH3,247,0))","v":0},{"$f":"SUM(OFFSET(テストデータ!AF3,247,0):OFFSET(テストデータ!AJ3,247,0))","v":0},{"$f":"SUM(OFFSET(テストデータ!AO3,247,0):OFFSET(テストデータ!AQ3,247,0))","v":0},{"$f":"SUM(OFFSET(テストデータ!AO3,247,0):OFFSET(テストデータ!AS3,247,0))","v":0},{"$f":"SUM(OFFSET(テストデータ!AX3,247,0):OFFSET(テストデータ!AZ3,247,0))","v":0},{"$f":"SUM(OFFSET(テストデータ!AX3,247,0):OFFSET(テストデータ!BB3,247,0))","v":0},{"$f":"SUM(OFFSET(テストデータ!BG3,247,0):OFFSET(テストデータ!BI3,247,0))","v":0},{"$f":"SUM(OFFSET(テストデータ!BG3,247,0):OFFSET(テストデータ!BK3,247,0))","v":0},{"$f":"SUM(OFFSET(テストデータ!BL3,247,0):OFFSET(テストデータ!BN3,247,0))","v":0},{"$f":"SUM(OFFSET(テストデータ!BL3,247,0):OFFSET(テストデータ!BP3,247,0))","v":0},{"$f":"SUM(OFFSET(テストデータ!BQ3,247,0):OFFSET(テストデータ!BS3,247,0))","v":0},{"$f":"SUM(OFFSET(テストデータ!BQ3,247,0):OFFSET(テストデータ!BU3,247,0))","v":0},{"$f":"SUM(OFFSET(テストデータ!BV3,247,0):OFFSET(テストデータ!BX3,247,0))","v":0},{"$f":"SUM(OFFSET(テストデータ!BV3,247,0):OFFSET(テストデータ!BZ3,247,0))","v":0},{"$f":"SUM(OFFSET(テストデータ!CA3,247,0):OFFSET(テストデータ!CC3,247,0))","v":0},{"$f":"SUM(OFFSET(テストデータ!CA3,247,0):OFFSET(テストデータ!CE3,247,0))","v":0},{"$f":"SUM(OFFSET(テストデータ!CF3,247,0):OFFSET(テストデータ!CH3,247,0))","v":0},{"$f":"SUM(OFFSET(テストデータ!CF3,247,0):OFFSET(テストデータ!CJ3,247,0))","v":0},{"$f":"SUM(OFFSET(テストデータ!CK3,247,0):OFFSET(テストデータ!CM3,247,0))","v":0},{"$f":"SUM(OFFSET(テストデータ!CK3,247,0):OFFSET(テストデータ!CO3,247,0))","v":0},{"$f":"SUM(OFFSET(テストデータ!CP3,247,0):OFFSET(テストデータ!CR3,247,0))","v":0},{"$f":"SUM(OFFSET(テストデータ!CP3,247,0):OFFSET(テストデータ!CT3,247,0))","v":0}]
[null,null,null,null,null,null,null,null,null,null,null,null,null,{"$f":"SUM(OFFSET(テストデータ!$E3,248,9*成績表1!$B$4-9):OFFSET(テストデータ!$G3,248,9*成績表1!$B$4-9))","v":0},{"$f":"SUM(OFFSET(テストデータ!$E3,248,9*成績表1!$B$4-9):OFFSET(テストデータ!I3,248,9*成績表1!$B$4-9))","v":0},{"$f":"SUM(OFFSET(テストデータ!E3,248,0):OFFSET(テストデータ!G3,248,0))","v":0},{"$f":"SUM(OFFSET(テストデータ!E3,248,0):OFFSET(テストデータ!I3,248,0))","v":0},{"$f":"SUM(OFFSET(テストデータ!N3,248,0):OFFSET(テストデータ!P3,248,0))","v":0},{"$f":"SUM(OFFSET(テストデータ!N3,248,0):OFFSET(テストデータ!R3,248,0))","v":0},{"$f":"SUM(OFFSET(テストデータ!W3,248,0):OFFSET(テストデータ!Y3,248,0))","v":0},{"$f":"SUM(OFFSET(テストデータ!W3,248,0):OFFSET(テストデータ!AA3,248,0))","v":0},{"$f":"SUM(OFFSET(テストデータ!AF3,248,0):OFFSET(テストデータ!AH3,248,0))","v":0},{"$f":"SUM(OFFSET(テストデータ!AF3,248,0):OFFSET(テストデータ!AJ3,248,0))","v":0},{"$f":"SUM(OFFSET(テストデータ!AO3,248,0):OFFSET(テストデータ!AQ3,248,0))","v":0},{"$f":"SUM(OFFSET(テストデータ!AO3,248,0):OFFSET(テストデータ!AS3,248,0))","v":0},{"$f":"SUM(OFFSET(テストデータ!AX3,248,0):OFFSET(テストデータ!AZ3,248,0))","v":0},{"$f":"SUM(OFFSET(テストデータ!AX3,248,0):OFFSET(テストデータ!BB3,248,0))","v":0},{"$f":"SUM(OFFSET(テストデータ!BG3,248,0):OFFSET(テストデータ!BI3,248,0))","v":0},{"$f":"SUM(OFFSET(テストデータ!BG3,248,0):OFFSET(テストデータ!BK3,248,0))","v":0},{"$f":"SUM(OFFSET(テストデータ!BL3,248,0):OFFSET(テストデータ!BN3,248,0))","v":0},{"$f":"SUM(OFFSET(テストデータ!BL3,248,0):OFFSET(テストデータ!BP3,248,0))","v":0},{"$f":"SUM(OFFSET(テストデータ!BQ3,248,0):OFFSET(テストデータ!BS3,248,0))","v":0},{"$f":"SUM(OFFSET(テストデータ!BQ3,248,0):OFFSET(テストデータ!BU3,248,0))","v":0},{"$f":"SUM(OFFSET(テストデータ!BV3,248,0):OFFSET(テストデータ!BX3,248,0))","v":0},{"$f":"SUM(OFFSET(テストデータ!BV3,248,0):OFFSET(テストデータ!BZ3,248,0))","v":0},{"$f":"SUM(OFFSET(テストデータ!CA3,248,0):OFFSET(テストデータ!CC3,248,0))","v":0},{"$f":"SUM(OFFSET(テストデータ!CA3,248,0):OFFSET(テストデータ!CE3,248,0))","v":0},{"$f":"SUM(OFFSET(テストデータ!CF3,248,0):OFFSET(テストデータ!CH3,248,0))","v":0},{"$f":"SUM(OFFSET(テストデータ!CF3,248,0):OFFSET(テストデータ!CJ3,248,0))","v":0},{"$f":"SUM(OFFSET(テストデータ!CK3,248,0):OFFSET(テストデータ!CM3,248,0))","v":0},{"$f":"SUM(OFFSET(テストデータ!CK3,248,0):OFFSET(テストデータ!CO3,248,0))","v":0},{"$f":"SUM(OFFSET(テストデータ!CP3,248,0):OFFSET(テストデータ!CR3,248,0))","v":0},{"$f":"SUM(OFFSET(テストデータ!CP3,248,0):OFFSET(テストデータ!CT3,248,0))","v":0}]
[null,null,null,null,null,null,null,null,null,null,null,null,null,{"$f":"SUM(OFFSET(テストデータ!$E3,249,9*成績表1!$B$4-9):OFFSET(テストデータ!$G3,249,9*成績表1!$B$4-9))","v":0},{"$f":"SUM(OFFSET(テストデータ!$E3,249,9*成績表1!$B$4-9):OFFSET(テストデータ!I3,249,9*成績表1!$B$4-9))","v":0},{"$f":"SUM(OFFSET(テストデータ!E3,249,0):OFFSET(テストデータ!G3,249,0))","v":0},{"$f":"SUM(OFFSET(テストデータ!E3,249,0):OFFSET(テストデータ!I3,249,0))","v":0},{"$f":"SUM(OFFSET(テストデータ!N3,249,0):OFFSET(テストデータ!P3,249,0))","v":0},{"$f":"SUM(OFFSET(テストデータ!N3,249,0):OFFSET(テストデータ!R3,249,0))","v":0},{"$f":"SUM(OFFSET(テストデータ!W3,249,0):OFFSET(テストデータ!Y3,249,0))","v":0},{"$f":"SUM(OFFSET(テストデータ!W3,249,0):OFFSET(テストデータ!AA3,249,0))","v":0},{"$f":"SUM(OFFSET(テストデータ!AF3,249,0):OFFSET(テストデータ!AH3,249,0))","v":0},{"$f":"SUM(OFFSET(テストデータ!AF3,249,0):OFFSET(テストデータ!AJ3,249,0))","v":0},{"$f":"SUM(OFFSET(テストデータ!AO3,249,0):OFFSET(テストデータ!AQ3,249,0))","v":0},{"$f":"SUM(OFFSET(テストデータ!AO3,249,0):OFFSET(テストデータ!AS3,249,0))","v":0},{"$f":"SUM(OFFSET(テストデータ!AX3,249,0):OFFSET(テストデータ!AZ3,249,0))","v":0},{"$f":"SUM(OFFSET(テストデータ!AX3,249,0):OFFSET(テストデータ!BB3,249,0))","v":0},{"$f":"SUM(OFFSET(テストデータ!BG3,249,0):OFFSET(テストデータ!BI3,249,0))","v":0},{"$f":"SUM(OFFSET(テストデータ!BG3,249,0):OFFSET(テストデータ!BK3,249,0))","v":0},{"$f":"SUM(OFFSET(テストデータ!BL3,249,0):OFFSET(テストデータ!BN3,249,0))","v":0},{"$f":"SUM(OFFSET(テストデータ!BL3,249,0):OFFSET(テストデータ!BP3,249,0))","v":0},{"$f":"SUM(OFFSET(テストデータ!BQ3,249,0):OFFSET(テストデータ!BS3,249,0))","v":0},{"$f":"SUM(OFFSET(テストデータ!BQ3,249,0):OFFSET(テストデータ!BU3,249,0))","v":0},{"$f":"SUM(OFFSET(テストデータ!BV3,249,0):OFFSET(テストデータ!BX3,249,0))","v":0},{"$f":"SUM(OFFSET(テストデータ!BV3,249,0):OFFSET(テストデータ!BZ3,249,0))","v":0},{"$f":"SUM(OFFSET(テストデータ!CA3,249,0):OFFSET(テストデータ!CC3,249,0))","v":0},{"$f":"SUM(OFFSET(テストデータ!CA3,249,0):OFFSET(テストデータ!CE3,249,0))","v":0},{"$f":"SUM(OFFSET(テストデータ!CF3,249,0):OFFSET(テストデータ!CH3,249,0))","v":0},{"$f":"SUM(OFFSET(テストデータ!CF3,249,0):OFFSET(テストデータ!CJ3,249,0))","v":0},{"$f":"SUM(OFFSET(テストデータ!CK3,249,0):OFFSET(テストデータ!CM3,249,0))","v":0},{"$f":"SUM(OFFSET(テストデータ!CK3,249,0):OFFSET(テストデータ!CO3,249,0))","v":0},{"$f":"SUM(OFFSET(テストデータ!CP3,249,0):OFFSET(テストデータ!CR3,249,0))","v":0},{"$f":"SUM(OFFSET(テストデータ!CP3,249,0):OFFSET(テストデータ!CT3,249,0))","v":0}]
[null,null,null,null,null,null,null,null,null,null,null,null,null,{"$f":"SUM(OFFSET(テストデータ!$E3,250,9*成績表1!$B$4-9):OFFSET(テストデータ!$G3,250,9*成績表1!$B$4-9))","v":0},{"$f":"SUM(OFFSET(テストデータ!$E3,250,9*成績表1!$B$4-9):OFFSET(テストデータ!I3,250,9*成績表1!$B$4-9))","v":0},{"$f":"SUM(OFFSET(テストデータ!E3,250,0):OFFSET(テストデータ!G3,250,0))","v":0},{"$f":"SUM(OFFSET(テストデータ!E3,250,0):OFFSET(テストデータ!I3,250,0))","v":0},{"$f":"SUM(OFFSET(テストデータ!N3,250,0):OFFSET(テストデータ!P3,250,0))","v":0},{"$f":"SUM(OFFSET(テストデータ!N3,250,0):OFFSET(テストデータ!R3,250,0))","v":0},{"$f":"SUM(OFFSET(テストデータ!W3,250,0):OFFSET(テストデータ!Y3,250,0))","v":0},{"$f":"SUM(OFFSET(テストデータ!W3,250,0):OFFSET(テストデータ!AA3,250,0))","v":0},{"$f":"SUM(OFFSET(テストデータ!AF3,250,0):OFFSET(テストデータ!AH3,250,0))","v":0},{"$f":"SUM(OFFSET(テストデータ!AF3,250,0):OFFSET(テストデータ!AJ3,250,0))","v":0},{"$f":"SUM(OFFSET(テストデータ!AO3,250,0):OFFSET(テストデータ!AQ3,250,0))","v":0},{"$f":"SUM(OFFSET(テストデータ!AO3,250,0):OFFSET(テストデータ!AS3,250,0))","v":0},{"$f":"SUM(OFFSET(テストデータ!AX3,250,0):OFFSET(テストデータ!AZ3,250,0))","v":0},{"$f":"SUM(OFFSET(テストデータ!AX3,250,0):OFFSET(テストデータ!BB3,250,0))","v":0},{"$f":"SUM(OFFSET(テストデータ!BG3,250,0):OFFSET(テストデータ!BI3,250,0))","v":0},{"$f":"SUM(OFFSET(テストデータ!BG3,250,0):OFFSET(テストデータ!BK3,250,0))","v":0},{"$f":"SUM(OFFSET(テストデータ!BL3,250,0):OFFSET(テストデータ!BN3,250,0))","v":0},{"$f":"SUM(OFFSET(テストデータ!BL3,250,0):OFFSET(テストデータ!BP3,250,0))","v":0},{"$f":"SUM(OFFSET(テストデータ!BQ3,250,0):OFFSET(テストデータ!BS3,250,0))","v":0},{"$f":"SUM(OFFSET(テストデータ!BQ3,250,0):OFFSET(テストデータ!BU3,250,0))","v":0},{"$f":"SUM(OFFSET(テストデータ!BV3,250,0):OFFSET(テストデータ!BX3,250,0))","v":0},{"$f":"SUM(OFFSET(テストデータ!BV3,250,0):OFFSET(テストデータ!BZ3,250,0))","v":0},{"$f":"SUM(OFFSET(テストデータ!CA3,250,0):OFFSET(テストデータ!CC3,250,0))","v":0},{"$f":"SUM(OFFSET(テストデータ!CA3,250,0):OFFSET(テストデータ!CE3,250,0))","v":0},{"$f":"SUM(OFFSET(テストデータ!CF3,250,0):OFFSET(テストデータ!CH3,250,0))","v":0},{"$f":"SUM(OFFSET(テストデータ!CF3,250,0):OFFSET(テストデータ!CJ3,250,0))","v":0},{"$f":"SUM(OFFSET(テストデータ!CK3,250,0):OFFSET(テストデータ!CM3,250,0))","v":0},{"$f":"SUM(OFFSET(テストデータ!CK3,250,0):OFFSET(テストデータ!CO3,250,0))","v":0},{"$f":"SUM(OFFSET(テストデータ!CP3,250,0):OFFSET(テストデータ!CR3,250,0))","v":0},{"$f":"SUM(OFFSET(テストデータ!CP3,250,0):OFFSET(テストデータ!CT3,250,0))","v":0}]
[null,null,null,null,null,null,null,null,null,null,null,null,null,{"$f":"SUM(OFFSET(テストデータ!$E3,251,9*成績表1!$B$4-9):OFFSET(テストデータ!$G3,251,9*成績表1!$B$4-9))","v":0},{"$f":"SUM(OFFSET(テストデータ!$E3,251,9*成績表1!$B$4-9):OFFSET(テストデータ!I3,251,9*成績表1!$B$4-9))","v":0},{"$f":"SUM(OFFSET(テストデータ!E3,251,0):OFFSET(テストデータ!G3,251,0))","v":0},{"$f":"SUM(OFFSET(テストデータ!E3,251,0):OFFSET(テストデータ!I3,251,0))","v":0},{"$f":"SUM(OFFSET(テストデータ!N3,251,0):OFFSET(テストデータ!P3,251,0))","v":0},{"$f":"SUM(OFFSET(テストデータ!N3,251,0):OFFSET(テストデータ!R3,251,0))","v":0},{"$f":"SUM(OFFSET(テストデータ!W3,251,0):OFFSET(テストデータ!Y3,251,0))","v":0},{"$f":"SUM(OFFSET(テストデータ!W3,251,0):OFFSET(テストデータ!AA3,251,0))","v":0},{"$f":"SUM(OFFSET(テストデータ!AF3,251,0):OFFSET(テストデータ!AH3,251,0))","v":0},{"$f":"SUM(OFFSET(テストデータ!AF3,251,0):OFFSET(テストデータ!AJ3,251,0))","v":0},{"$f":"SUM(OFFSET(テストデータ!AO3,251,0):OFFSET(テストデータ!AQ3,251,0))","v":0},{"$f":"SUM(OFFSET(テストデータ!AO3,251,0):OFFSET(テストデータ!AS3,251,0))","v":0},{"$f":"SUM(OFFSET(テストデータ!AX3,251,0):OFFSET(テストデータ!AZ3,251,0))","v":0},{"$f":"SUM(OFFSET(テストデータ!AX3,251,0):OFFSET(テストデータ!BB3,251,0))","v":0},{"$f":"SUM(OFFSET(テストデータ!BG3,251,0):OFFSET(テストデータ!BI3,251,0))","v":0},{"$f":"SUM(OFFSET(テストデータ!BG3,251,0):OFFSET(テストデータ!BK3,251,0))","v":0},{"$f":"SUM(OFFSET(テストデータ!BL3,251,0):OFFSET(テストデータ!BN3,251,0))","v":0},{"$f":"SUM(OFFSET(テストデータ!BL3,251,0):OFFSET(テストデータ!BP3,251,0))","v":0},{"$f":"SUM(OFFSET(テストデータ!BQ3,251,0):OFFSET(テストデータ!BS3,251,0))","v":0},{"$f":"SUM(OFFSET(テストデータ!BQ3,251,0):OFFSET(テストデータ!BU3,251,0))","v":0},{"$f":"SUM(OFFSET(テストデータ!BV3,251,0):OFFSET(テストデータ!BX3,251,0))","v":0},{"$f":"SUM(OFFSET(テストデータ!BV3,251,0):OFFSET(テストデータ!BZ3,251,0))","v":0},{"$f":"SUM(OFFSET(テストデータ!CA3,251,0):OFFSET(テストデータ!CC3,251,0))","v":0},{"$f":"SUM(OFFSET(テストデータ!CA3,251,0):OFFSET(テストデータ!CE3,251,0))","v":0},{"$f":"SUM(OFFSET(テストデータ!CF3,251,0):OFFSET(テストデータ!CH3,251,0))","v":0},{"$f":"SUM(OFFSET(テストデータ!CF3,251,0):OFFSET(テストデータ!CJ3,251,0))","v":0},{"$f":"SUM(OFFSET(テストデータ!CK3,251,0):OFFSET(テストデータ!CM3,251,0))","v":0},{"$f":"SUM(OFFSET(テストデータ!CK3,251,0):OFFSET(テストデータ!CO3,251,0))","v":0},{"$f":"SUM(OFFSET(テストデータ!CP3,251,0):OFFSET(テストデータ!CR3,251,0))","v":0},{"$f":"SUM(OFFSET(テストデータ!CP3,251,0):OFFSET(テストデータ!CT3,251,0))","v":0}]
[null,null,null,null,null,null,null,null,null,null,null,null,null,{"$f":"SUM(OFFSET(テストデータ!$E3,252,9*成績表1!$B$4-9):OFFSET(テストデータ!$G3,252,9*成績表1!$B$4-9))","v":0},{"$f":"SUM(OFFSET(テストデータ!$E3,252,9*成績表1!$B$4-9):OFFSET(テストデータ!I3,252,9*成績表1!$B$4-9))","v":0},{"$f":"SUM(OFFSET(テストデータ!E3,252,0):OFFSET(テストデータ!G3,252,0))","v":0},{"$f":"SUM(OFFSET(テストデータ!E3,252,0):OFFSET(テストデータ!I3,252,0))","v":0},{"$f":"SUM(OFFSET(テストデータ!N3,252,0):OFFSET(テストデータ!P3,252,0))","v":0},{"$f":"SUM(OFFSET(テストデータ!N3,252,0):OFFSET(テストデータ!R3,252,0))","v":0},{"$f":"SUM(OFFSET(テストデータ!W3,252,0):OFFSET(テストデータ!Y3,252,0))","v":0},{"$f":"SUM(OFFSET(テストデータ!W3,252,0):OFFSET(テストデータ!AA3,252,0))","v":0},{"$f":"SUM(OFFSET(テストデータ!AF3,252,0):OFFSET(テストデータ!AH3,252,0))","v":0},{"$f":"SUM(OFFSET(テストデータ!AF3,252,0):OFFSET(テストデータ!AJ3,252,0))","v":0},{"$f":"SUM(OFFSET(テストデータ!AO3,252,0):OFFSET(テストデータ!AQ3,252,0))","v":0},{"$f":"SUM(OFFSET(テストデータ!AO3,252,0):OFFSET(テストデータ!AS3,252,0))","v":0},{"$f":"SUM(OFFSET(テストデータ!AX3,252,0):OFFSET(テストデータ!AZ3,252,0))","v":0},{"$f":"SUM(OFFSET(テストデータ!AX3,252,0):OFFSET(テストデータ!BB3,252,0))","v":0},{"$f":"SUM(OFFSET(テストデータ!BG3,252,0):OFFSET(テストデータ!BI3,252,0))","v":0},{"$f":"SUM(OFFSET(テストデータ!BG3,252,0):OFFSET(テストデータ!BK3,252,0))","v":0},{"$f":"SUM(OFFSET(テストデータ!BL3,252,0):OFFSET(テストデータ!BN3,252,0))","v":0},{"$f":"SUM(OFFSET(テストデータ!BL3,252,0):OFFSET(テストデータ!BP3,252,0))","v":0},{"$f":"SUM(OFFSET(テストデータ!BQ3,252,0):OFFSET(テストデータ!BS3,252,0))","v":0},{"$f":"SUM(OFFSET(テストデータ!BQ3,252,0):OFFSET(テストデータ!BU3,252,0))","v":0},{"$f":"SUM(OFFSET(テストデータ!BV3,252,0):OFFSET(テストデータ!BX3,252,0))","v":0},{"$f":"SUM(OFFSET(テストデータ!BV3,252,0):OFFSET(テストデータ!BZ3,252,0))","v":0},{"$f":"SUM(OFFSET(テストデータ!CA3,252,0):OFFSET(テストデータ!CC3,252,0))","v":0},{"$f":"SUM(OFFSET(テストデータ!CA3,252,0):OFFSET(テストデータ!CE3,252,0))","v":0},{"$f":"SUM(OFFSET(テストデータ!CF3,252,0):OFFSET(テストデータ!CH3,252,0))","v":0},{"$f":"SUM(OFFSET(テストデータ!CF3,252,0):OFFSET(テストデータ!CJ3,252,0))","v":0},{"$f":"SUM(OFFSET(テストデータ!CK3,252,0):OFFSET(テストデータ!CM3,252,0))","v":0},{"$f":"SUM(OFFSET(テストデータ!CK3,252,0):OFFSET(テストデータ!CO3,252,0))","v":0},{"$f":"SUM(OFFSET(テストデータ!CP3,252,0):OFFSET(テストデータ!CR3,252,0))","v":0},{"$f":"SUM(OFFSET(テストデータ!CP3,252,0):OFFSET(テストデータ!CT3,252,0))","v":0}]
[null,null,null,null,null,null,null,null,null,null,null,null,null,{"$f":"SUM(OFFSET(テストデータ!$E3,253,9*成績表1!$B$4-9):OFFSET(テストデータ!$G3,253,9*成績表1!$B$4-9))","v":0},{"$f":"SUM(OFFSET(テストデータ!$E3,253,9*成績表1!$B$4-9):OFFSET(テストデータ!I3,253,9*成績表1!$B$4-9))","v":0},{"$f":"SUM(OFFSET(テストデータ!E3,253,0):OFFSET(テストデータ!G3,253,0))","v":0},{"$f":"SUM(OFFSET(テストデータ!E3,253,0):OFFSET(テストデータ!I3,253,0))","v":0},{"$f":"SUM(OFFSET(テストデータ!N3,253,0):OFFSET(テストデータ!P3,253,0))","v":0},{"$f":"SUM(OFFSET(テストデータ!N3,253,0):OFFSET(テストデータ!R3,253,0))","v":0},{"$f":"SUM(OFFSET(テストデータ!W3,253,0):OFFSET(テストデータ!Y3,253,0))","v":0},{"$f":"SUM(OFFSET(テストデータ!W3,253,0):OFFSET(テストデータ!AA3,253,0))","v":0},{"$f":"SUM(OFFSET(テストデータ!AF3,253,0):OFFSET(テストデータ!AH3,253,0))","v":0},{"$f":"SUM(OFFSET(テストデータ!AF3,253,0):OFFSET(テストデータ!AJ3,253,0))","v":0},{"$f":"SUM(OFFSET(テストデータ!AO3,253,0):OFFSET(テストデータ!AQ3,253,0))","v":0},{"$f":"SUM(OFFSET(テストデータ!AO3,253,0):OFFSET(テストデータ!AS3,253,0))","v":0},{"$f":"SUM(OFFSET(テストデータ!AX3,253,0):OFFSET(テストデータ!AZ3,253,0))","v":0},{"$f":"SUM(OFFSET(テストデータ!AX3,253,0):OFFSET(テストデータ!BB3,253,0))","v":0},{"$f":"SUM(OFFSET(テストデータ!BG3,253,0):OFFSET(テストデータ!BI3,253,0))","v":0},{"$f":"SUM(OFFSET(テストデータ!BG3,253,0):OFFSET(テストデータ!BK3,253,0))","v":0},{"$f":"SUM(OFFSET(テストデータ!BL3,253,0):OFFSET(テストデータ!BN3,253,0))","v":0},{"$f":"SUM(OFFSET(テストデータ!BL3,253,0):OFFSET(テストデータ!BP3,253,0))","v":0},{"$f":"SUM(OFFSET(テストデータ!BQ3,253,0):OFFSET(テストデータ!BS3,253,0))","v":0},{"$f":"SUM(OFFSET(テストデータ!BQ3,253,0):OFFSET(テストデータ!BU3,253,0))","v":0},{"$f":"SUM(OFFSET(テストデータ!BV3,253,0):OFFSET(テストデータ!BX3,253,0))","v":0},{"$f":"SUM(OFFSET(テストデータ!BV3,253,0):OFFSET(テストデータ!BZ3,253,0))","v":0},{"$f":"SUM(OFFSET(テストデータ!CA3,253,0):OFFSET(テストデータ!CC3,253,0))","v":0},{"$f":"SUM(OFFSET(テストデータ!CA3,253,0):OFFSET(テストデータ!CE3,253,0))","v":0},{"$f":"SUM(OFFSET(テストデータ!CF3,253,0):OFFSET(テストデータ!CH3,253,0))","v":0},{"$f":"SUM(OFFSET(テストデータ!CF3,253,0):OFFSET(テストデータ!CJ3,253,0))","v":0},{"$f":"SUM(OFFSET(テストデータ!CK3,253,0):OFFSET(テストデータ!CM3,253,0))","v":0},{"$f":"SUM(OFFSET(テストデータ!CK3,253,0):OFFSET(テストデータ!CO3,253,0))","v":0},{"$f":"SUM(OFFSET(テストデータ!CP3,253,0):OFFSET(テストデータ!CR3,253,0))","v":0},{"$f":"SUM(OFFSET(テストデータ!CP3,253,0):OFFSET(テストデータ!CT3,253,0))","v":0}]
[null,null,null,null,null,null,null,null,null,null,null,null,null,{"$f":"SUM(OFFSET(テストデータ!$E3,254,9*成績表1!$B$4-9):OFFSET(テストデータ!$G3,254,9*成績表1!$B$4-9))","v":0},{"$f":"SUM(OFFSET(テストデータ!$E3,254,9*成績表1!$B$4-9):OFFSET(テストデータ!I3,254,9*成績表1!$B$4-9))","v":0},{"$f":"SUM(OFFSET(テストデータ!E3,254,0):OFFSET(テストデータ!G3,254,0))","v":0},{"$f":"SUM(OFFSET(テストデータ!E3,254,0):OFFSET(テストデータ!I3,254,0))","v":0},{"$f":"SUM(OFFSET(テストデータ!N3,254,0):OFFSET(テストデータ!P3,254,0))","v":0},{"$f":"SUM(OFFSET(テストデータ!N3,254,0):OFFSET(テストデータ!R3,254,0))","v":0},{"$f":"SUM(OFFSET(テストデータ!W3,254,0):OFFSET(テストデータ!Y3,254,0))","v":0},{"$f":"SUM(OFFSET(テストデータ!W3,254,0):OFFSET(テストデータ!AA3,254,0))","v":0},{"$f":"SUM(OFFSET(テストデータ!AF3,254,0):OFFSET(テストデータ!AH3,254,0))","v":0},{"$f":"SUM(OFFSET(テストデータ!AF3,254,0):OFFSET(テストデータ!AJ3,254,0))","v":0},{"$f":"SUM(OFFSET(テストデータ!AO3,254,0):OFFSET(テストデータ!AQ3,254,0))","v":0},{"$f":"SUM(OFFSET(テストデータ!AO3,254,0):OFFSET(テストデータ!AS3,254,0))","v":0},{"$f":"SUM(OFFSET(テストデータ!AX3,254,0):OFFSET(テストデータ!AZ3,254,0))","v":0},{"$f":"SUM(OFFSET(テストデータ!AX3,254,0):OFFSET(テストデータ!BB3,254,0))","v":0},{"$f":"SUM(OFFSET(テストデータ!BG3,254,0):OFFSET(テストデータ!BI3,254,0))","v":0},{"$f":"SUM(OFFSET(テストデータ!BG3,254,0):OFFSET(テストデータ!BK3,254,0))","v":0},{"$f":"SUM(OFFSET(テストデータ!BL3,254,0):OFFSET(テストデータ!BN3,254,0))","v":0},{"$f":"SUM(OFFSET(テストデータ!BL3,254,0):OFFSET(テストデータ!BP3,254,0))","v":0},{"$f":"SUM(OFFSET(テストデータ!BQ3,254,0):OFFSET(テストデータ!BS3,254,0))","v":0},{"$f":"SUM(OFFSET(テストデータ!BQ3,254,0):OFFSET(テストデータ!BU3,254,0))","v":0},{"$f":"SUM(OFFSET(テストデータ!BV3,254,0):OFFSET(テストデータ!BX3,254,0))","v":0},{"$f":"SUM(OFFSET(テストデータ!BV3,254,0):OFFSET(テストデータ!BZ3,254,0))","v":0},{"$f":"SUM(OFFSET(テストデータ!CA3,254,0):OFFSET(テストデータ!CC3,254,0))","v":0},{"$f":"SUM(OFFSET(テストデータ!CA3,254,0):OFFSET(テストデータ!CE3,254,0))","v":0},{"$f":"SUM(OFFSET(テストデータ!CF3,254,0):OFFSET(テストデータ!CH3,254,0))","v":0},{"$f":"SUM(OFFSET(テストデータ!CF3,254,0):OFFSET(テストデータ!CJ3,254,0))","v":0},{"$f":"SUM(OFFSET(テストデータ!CK3,254,0):OFFSET(テストデータ!CM3,254,0))","v":0},{"$f":"SUM(OFFSET(テストデータ!CK3,254,0):OFFSET(テストデータ!CO3,254,0))","v":0},{"$f":"SUM(OFFSET(テストデータ!CP3,254,0):OFFSET(テストデータ!CR3,254,0))","v":0},{"$f":"SUM(OFFSET(テストデータ!CP3,254,0):OFFSET(テストデータ!CT3,254,0))","v":0}]
[null,null,null,null,null,null,null,null,null,null,null,null,null,{"$f":"SUM(OFFSET(テストデータ!$E3,255,9*成績表1!$B$4-9):OFFSET(テストデータ!$G3,255,9*成績表1!$B$4-9))","v":0},{"$f":"SUM(OFFSET(テストデータ!$E3,255,9*成績表1!$B$4-9):OFFSET(テストデータ!I3,255,9*成績表1!$B$4-9))","v":0},{"$f":"SUM(OFFSET(テストデータ!E3,255,0):OFFSET(テストデータ!G3,255,0))","v":0},{"$f":"SUM(OFFSET(テストデータ!E3,255,0):OFFSET(テストデータ!I3,255,0))","v":0},{"$f":"SUM(OFFSET(テストデータ!N3,255,0):OFFSET(テストデータ!P3,255,0))","v":0},{"$f":"SUM(OFFSET(テストデータ!N3,255,0):OFFSET(テストデータ!R3,255,0))","v":0},{"$f":"SUM(OFFSET(テストデータ!W3,255,0):OFFSET(テストデータ!Y3,255,0))","v":0},{"$f":"SUM(OFFSET(テストデータ!W3,255,0):OFFSET(テストデータ!AA3,255,0))","v":0},{"$f":"SUM(OFFSET(テストデータ!AF3,255,0):OFFSET(テストデータ!AH3,255,0))","v":0},{"$f":"SUM(OFFSET(テストデータ!AF3,255,0):OFFSET(テストデータ!AJ3,255,0))","v":0},{"$f":"SUM(OFFSET(テストデータ!AO3,255,0):OFFSET(テストデータ!AQ3,255,0))","v":0},{"$f":"SUM(OFFSET(テストデータ!AO3,255,0):OFFSET(テストデータ!AS3,255,0))","v":0},{"$f":"SUM(OFFSET(テストデータ!AX3,255,0):OFFSET(テストデータ!AZ3,255,0))","v":0},{"$f":"SUM(OFFSET(テストデータ!AX3,255,0):OFFSET(テストデータ!BB3,255,0))","v":0},{"$f":"SUM(OFFSET(テストデータ!BG3,255,0):OFFSET(テストデータ!BI3,255,0))","v":0},{"$f":"SUM(OFFSET(テストデータ!BG3,255,0):OFFSET(テストデータ!BK3,255,0))","v":0},{"$f":"SUM(OFFSET(テストデータ!BL3,255,0):OFFSET(テストデータ!BN3,255,0))","v":0},{"$f":"SUM(OFFSET(テストデータ!BL3,255,0):OFFSET(テストデータ!BP3,255,0))","v":0},{"$f":"SUM(OFFSET(テストデータ!BQ3,255,0):OFFSET(テストデータ!BS3,255,0))","v":0},{"$f":"SUM(OFFSET(テストデータ!BQ3,255,0):OFFSET(テストデータ!BU3,255,0))","v":0},{"$f":"SUM(OFFSET(テストデータ!BV3,255,0):OFFSET(テストデータ!BX3,255,0))","v":0},{"$f":"SUM(OFFSET(テストデータ!BV3,255,0):OFFSET(テストデータ!BZ3,255,0))","v":0},{"$f":"SUM(OFFSET(テストデータ!CA3,255,0):OFFSET(テストデータ!CC3,255,0))","v":0},{"$f":"SUM(OFFSET(テストデータ!CA3,255,0):OFFSET(テストデータ!CE3,255,0))","v":0},{"$f":"SUM(OFFSET(テストデータ!CF3,255,0):OFFSET(テストデータ!CH3,255,0))","v":0},{"$f":"SUM(OFFSET(テストデータ!CF3,255,0):OFFSET(テストデータ!CJ3,255,0))","v":0},{"$f":"SUM(OFFSET(テストデータ!CK3,255,0):OFFSET(テストデータ!CM3,255,0))","v":0},{"$f":"SUM(OFFSET(テストデータ!CK3,255,0):OFFSET(テストデータ!CO3,255,0))","v":0},{"$f":"SUM(OFFSET(テストデータ!CP3,255,0):OFFSET(テストデータ!CR3,255,0))","v":0},{"$f":"SUM(OFFSET(テストデータ!CP3,255,0):OFFSET(テストデータ!CT3,255,0))","v":0}]
[null,null,null,null,null,null,null,null,null,null,null,null,null,{"$f":"SUM(OFFSET(テストデータ!$E3,256,9*成績表1!$B$4-9):OFFSET(テストデータ!$G3,256,9*成績表1!$B$4-9))","v":0},{"$f":"SUM(OFFSET(テストデータ!$E3,256,9*成績表1!$B$4-9):OFFSET(テストデータ!I3,256,9*成績表1!$B$4-9))","v":0},{"$f":"SUM(OFFSET(テストデータ!E3,256,0):OFFSET(テストデータ!G3,256,0))","v":0},{"$f":"SUM(OFFSET(テストデータ!E3,256,0):OFFSET(テストデータ!I3,256,0))","v":0},{"$f":"SUM(OFFSET(テストデータ!N3,256,0):OFFSET(テストデータ!P3,256,0))","v":0},{"$f":"SUM(OFFSET(テストデータ!N3,256,0):OFFSET(テストデータ!R3,256,0))","v":0},{"$f":"SUM(OFFSET(テストデータ!W3,256,0):OFFSET(テストデータ!Y3,256,0))","v":0},{"$f":"SUM(OFFSET(テストデータ!W3,256,0):OFFSET(テストデータ!AA3,256,0))","v":0},{"$f":"SUM(OFFSET(テストデータ!AF3,256,0):OFFSET(テストデータ!AH3,256,0))","v":0},{"$f":"SUM(OFFSET(テストデータ!AF3,256,0):OFFSET(テストデータ!AJ3,256,0))","v":0},{"$f":"SUM(OFFSET(テストデータ!AO3,256,0):OFFSET(テストデータ!AQ3,256,0))","v":0},{"$f":"SUM(OFFSET(テストデータ!AO3,256,0):OFFSET(テストデータ!AS3,256,0))","v":0},{"$f":"SUM(OFFSET(テストデータ!AX3,256,0):OFFSET(テストデータ!AZ3,256,0))","v":0},{"$f":"SUM(OFFSET(テストデータ!AX3,256,0):OFFSET(テストデータ!BB3,256,0))","v":0},{"$f":"SUM(OFFSET(テストデータ!BG3,256,0):OFFSET(テストデータ!BI3,256,0))","v":0},{"$f":"SUM(OFFSET(テストデータ!BG3,256,0):OFFSET(テストデータ!BK3,256,0))","v":0},{"$f":"SUM(OFFSET(テストデータ!BL3,256,0):OFFSET(テストデータ!BN3,256,0))","v":0},{"$f":"SUM(OFFSET(テストデータ!BL3,256,0):OFFSET(テストデータ!BP3,256,0))","v":0},{"$f":"SUM(OFFSET(テストデータ!BQ3,256,0):OFFSET(テストデータ!BS3,256,0))","v":0},{"$f":"SUM(OFFSET(テストデータ!BQ3,256,0):OFFSET(テストデータ!BU3,256,0))","v":0},{"$f":"SUM(OFFSET(テストデータ!BV3,256,0):OFFSET(テストデータ!BX3,256,0))","v":0},{"$f":"SUM(OFFSET(テストデータ!BV3,256,0):OFFSET(テストデータ!BZ3,256,0))","v":0},{"$f":"SUM(OFFSET(テストデータ!CA3,256,0):OFFSET(テストデータ!CC3,256,0))","v":0},{"$f":"SUM(OFFSET(テストデータ!CA3,256,0):OFFSET(テストデータ!CE3,256,0))","v":0},{"$f":"SUM(OFFSET(テストデータ!CF3,256,0):OFFSET(テストデータ!CH3,256,0))","v":0},{"$f":"SUM(OFFSET(テストデータ!CF3,256,0):OFFSET(テストデータ!CJ3,256,0))","v":0},{"$f":"SUM(OFFSET(テストデータ!CK3,256,0):OFFSET(テストデータ!CM3,256,0))","v":0},{"$f":"SUM(OFFSET(テストデータ!CK3,256,0):OFFSET(テストデータ!CO3,256,0))","v":0},{"$f":"SUM(OFFSET(テストデータ!CP3,256,0):OFFSET(テストデータ!CR3,256,0))","v":0},{"$f":"SUM(OFFSET(テストデータ!CP3,256,0):OFFSET(テストデータ!CT3,256,0))","v":0}]
[null,null,null,null,null,null,null,null,null,null,null,null,null,{"$f":"SUM(OFFSET(テストデータ!$E3,257,9*成績表1!$B$4-9):OFFSET(テストデータ!$G3,257,9*成績表1!$B$4-9))","v":0},{"$f":"SUM(OFFSET(テストデータ!$E3,257,9*成績表1!$B$4-9):OFFSET(テストデータ!I3,257,9*成績表1!$B$4-9))","v":0},{"$f":"SUM(OFFSET(テストデータ!E3,257,0):OFFSET(テストデータ!G3,257,0))","v":0},{"$f":"SUM(OFFSET(テストデータ!E3,257,0):OFFSET(テストデータ!I3,257,0))","v":0},{"$f":"SUM(OFFSET(テストデータ!N3,257,0):OFFSET(テストデータ!P3,257,0))","v":0},{"$f":"SUM(OFFSET(テストデータ!N3,257,0):OFFSET(テストデータ!R3,257,0))","v":0},{"$f":"SUM(OFFSET(テストデータ!W3,257,0):OFFSET(テストデータ!Y3,257,0))","v":0},{"$f":"SUM(OFFSET(テストデータ!W3,257,0):OFFSET(テストデータ!AA3,257,0))","v":0},{"$f":"SUM(OFFSET(テストデータ!AF3,257,0):OFFSET(テストデータ!AH3,257,0))","v":0},{"$f":"SUM(OFFSET(テストデータ!AF3,257,0):OFFSET(テストデータ!AJ3,257,0))","v":0},{"$f":"SUM(OFFSET(テストデータ!AO3,257,0):OFFSET(テストデータ!AQ3,257,0))","v":0},{"$f":"SUM(OFFSET(テストデータ!AO3,257,0):OFFSET(テストデータ!AS3,257,0))","v":0},{"$f":"SUM(OFFSET(テストデータ!AX3,257,0):OFFSET(テストデータ!AZ3,257,0))","v":0},{"$f":"SUM(OFFSET(テストデータ!AX3,257,0):OFFSET(テストデータ!BB3,257,0))","v":0},{"$f":"SUM(OFFSET(テストデータ!BG3,257,0):OFFSET(テストデータ!BI3,257,0))","v":0},{"$f":"SUM(OFFSET(テストデータ!BG3,257,0):OFFSET(テストデータ!BK3,257,0))","v":0},{"$f":"SUM(OFFSET(テストデータ!BL3,257,0):OFFSET(テストデータ!BN3,257,0))","v":0},{"$f":"SUM(OFFSET(テストデータ!BL3,257,0):OFFSET(テストデータ!BP3,257,0))","v":0},{"$f":"SUM(OFFSET(テストデータ!BQ3,257,0):OFFSET(テストデータ!BS3,257,0))","v":0},{"$f":"SUM(OFFSET(テストデータ!BQ3,257,0):OFFSET(テストデータ!BU3,257,0))","v":0},{"$f":"SUM(OFFSET(テストデータ!BV3,257,0):OFFSET(テストデータ!BX3,257,0))","v":0},{"$f":"SUM(OFFSET(テストデータ!BV3,257,0):OFFSET(テストデータ!BZ3,257,0))","v":0},{"$f":"SUM(OFFSET(テストデータ!CA3,257,0):OFFSET(テストデータ!CC3,257,0))","v":0},{"$f":"SUM(OFFSET(テストデータ!CA3,257,0):OFFSET(テストデータ!CE3,257,0))","v":0},{"$f":"SUM(OFFSET(テストデータ!CF3,257,0):OFFSET(テストデータ!CH3,257,0))","v":0},{"$f":"SUM(OFFSET(テストデータ!CF3,257,0):OFFSET(テストデータ!CJ3,257,0))","v":0},{"$f":"SUM(OFFSET(テストデータ!CK3,257,0):OFFSET(テストデータ!CM3,257,0))","v":0},{"$f":"SUM(OFFSET(テストデータ!CK3,257,0):OFFSET(テストデータ!CO3,257,0))","v":0},{"$f":"SUM(OFFSET(テストデータ!CP3,257,0):OFFSET(テストデータ!CR3,257,0))","v":0},{"$f":"SUM(OFFSET(テストデータ!CP3,257,0):OFFSET(テストデータ!CT3,257,0))","v":0}]
[null,null,null,null,null,null,null,null,null,null,null,null,null,{"$f":"SUM(OFFSET(テストデータ!$E3,258,9*成績表1!$B$4-9):OFFSET(テストデータ!$G3,258,9*成績表1!$B$4-9))","v":0},{"$f":"SUM(OFFSET(テストデータ!$E3,258,9*成績表1!$B$4-9):OFFSET(テストデータ!I3,258,9*成績表1!$B$4-9))","v":0},{"$f":"SUM(OFFSET(テストデータ!E3,258,0):OFFSET(テストデータ!G3,258,0))","v":0},{"$f":"SUM(OFFSET(テストデータ!E3,258,0):OFFSET(テストデータ!I3,258,0))","v":0},{"$f":"SUM(OFFSET(テストデータ!N3,258,0):OFFSET(テストデータ!P3,258,0))","v":0},{"$f":"SUM(OFFSET(テストデータ!N3,258,0):OFFSET(テストデータ!R3,258,0))","v":0},{"$f":"SUM(OFFSET(テストデータ!W3,258,0):OFFSET(テストデータ!Y3,258,0))","v":0},{"$f":"SUM(OFFSET(テストデータ!W3,258,0):OFFSET(テストデータ!AA3,258,0))","v":0},{"$f":"SUM(OFFSET(テストデータ!AF3,258,0):OFFSET(テストデータ!AH3,258,0))","v":0},{"$f":"SUM(OFFSET(テストデータ!AF3,258,0):OFFSET(テストデータ!AJ3,258,0))","v":0},{"$f":"SUM(OFFSET(テストデータ!AO3,258,0):OFFSET(テストデータ!AQ3,258,0))","v":0},{"$f":"SUM(OFFSET(テストデータ!AO3,258,0):OFFSET(テストデータ!AS3,258,0))","v":0},{"$f":"SUM(OFFSET(テストデータ!AX3,258,0):OFFSET(テストデータ!AZ3,258,0))","v":0},{"$f":"SUM(OFFSET(テストデータ!AX3,258,0):OFFSET(テストデータ!BB3,258,0))","v":0},{"$f":"SUM(OFFSET(テストデータ!BG3,258,0):OFFSET(テストデータ!BI3,258,0))","v":0},{"$f":"SUM(OFFSET(テストデータ!BG3,258,0):OFFSET(テストデータ!BK3,258,0))","v":0},{"$f":"SUM(OFFSET(テストデータ!BL3,258,0):OFFSET(テストデータ!BN3,258,0))","v":0},{"$f":"SUM(OFFSET(テストデータ!BL3,258,0):OFFSET(テストデータ!BP3,258,0))","v":0},{"$f":"SUM(OFFSET(テストデータ!BQ3,258,0):OFFSET(テストデータ!BS3,258,0))","v":0},{"$f":"SUM(OFFSET(テストデータ!BQ3,258,0):OFFSET(テストデータ!BU3,258,0))","v":0},{"$f":"SUM(OFFSET(テストデータ!BV3,258,0):OFFSET(テストデータ!BX3,258,0))","v":0},{"$f":"SUM(OFFSET(テストデータ!BV3,258,0):OFFSET(テストデータ!BZ3,258,0))","v":0},{"$f":"SUM(OFFSET(テストデータ!CA3,258,0):OFFSET(テストデータ!CC3,258,0))","v":0},{"$f":"SUM(OFFSET(テストデータ!CA3,258,0):OFFSET(テストデータ!CE3,258,0))","v":0},{"$f":"SUM(OFFSET(テストデータ!CF3,258,0):OFFSET(テストデータ!CH3,258,0))","v":0},{"$f":"SUM(OFFSET(テストデータ!CF3,258,0):OFFSET(テストデータ!CJ3,258,0))","v":0},{"$f":"SUM(OFFSET(テストデータ!CK3,258,0):OFFSET(テストデータ!CM3,258,0))","v":0},{"$f":"SUM(OFFSET(テストデータ!CK3,258,0):OFFSET(テストデータ!CO3,258,0))","v":0},{"$f":"SUM(OFFSET(テストデータ!CP3,258,0):OFFSET(テストデータ!CR3,258,0))","v":0},{"$f":"SUM(OFFSET(テストデータ!CP3,258,0):OFFSET(テストデータ!CT3,258,0))","v":0}]
[null,null,null,null,null,null,null,null,null,null,null,null,null,{"$f":"SUM(OFFSET(テストデータ!$E3,259,9*成績表1!$B$4-9):OFFSET(テストデータ!$G3,259,9*成績表1!$B$4-9))","v":0},{"$f":"SUM(OFFSET(テストデータ!$E3,259,9*成績表1!$B$4-9):OFFSET(テストデータ!I3,259,9*成績表1!$B$4-9))","v":0},{"$f":"SUM(OFFSET(テストデータ!E3,259,0):OFFSET(テストデータ!G3,259,0))","v":0},{"$f":"SUM(OFFSET(テストデータ!E3,259,0):OFFSET(テストデータ!I3,259,0))","v":0},{"$f":"SUM(OFFSET(テストデータ!N3,259,0):OFFSET(テストデータ!P3,259,0))","v":0},{"$f":"SUM(OFFSET(テストデータ!N3,259,0):OFFSET(テストデータ!R3,259,0))","v":0},{"$f":"SUM(OFFSET(テストデータ!W3,259,0):OFFSET(テストデータ!Y3,259,0))","v":0},{"$f":"SUM(OFFSET(テストデータ!W3,259,0):OFFSET(テストデータ!AA3,259,0))","v":0},{"$f":"SUM(OFFSET(テストデータ!AF3,259,0):OFFSET(テストデータ!AH3,259,0))","v":0},{"$f":"SUM(OFFSET(テストデータ!AF3,259,0):OFFSET(テストデータ!AJ3,259,0))","v":0},{"$f":"SUM(OFFSET(テストデータ!AO3,259,0):OFFSET(テストデータ!AQ3,259,0))","v":0},{"$f":"SUM(OFFSET(テストデータ!AO3,259,0):OFFSET(テストデータ!AS3,259,0))","v":0},{"$f":"SUM(OFFSET(テストデータ!AX3,259,0):OFFSET(テストデータ!AZ3,259,0))","v":0},{"$f":"SUM(OFFSET(テストデータ!AX3,259,0):OFFSET(テストデータ!BB3,259,0))","v":0},{"$f":"SUM(OFFSET(テストデータ!BG3,259,0):OFFSET(テストデータ!BI3,259,0))","v":0},{"$f":"SUM(OFFSET(テストデータ!BG3,259,0):OFFSET(テストデータ!BK3,259,0))","v":0},{"$f":"SUM(OFFSET(テストデータ!BL3,259,0):OFFSET(テストデータ!BN3,259,0))","v":0},{"$f":"SUM(OFFSET(テストデータ!BL3,259,0):OFFSET(テストデータ!BP3,259,0))","v":0},{"$f":"SUM(OFFSET(テストデータ!BQ3,259,0):OFFSET(テストデータ!BS3,259,0))","v":0},{"$f":"SUM(OFFSET(テストデータ!BQ3,259,0):OFFSET(テストデータ!BU3,259,0))","v":0},{"$f":"SUM(OFFSET(テストデータ!BV3,259,0):OFFSET(テストデータ!BX3,259,0))","v":0},{"$f":"SUM(OFFSET(テストデータ!BV3,259,0):OFFSET(テストデータ!BZ3,259,0))","v":0},{"$f":"SUM(OFFSET(テストデータ!CA3,259,0):OFFSET(テストデータ!CC3,259,0))","v":0},{"$f":"SUM(OFFSET(テストデータ!CA3,259,0):OFFSET(テストデータ!CE3,259,0))","v":0},{"$f":"SUM(OFFSET(テストデータ!CF3,259,0):OFFSET(テストデータ!CH3,259,0))","v":0},{"$f":"SUM(OFFSET(テストデータ!CF3,259,0):OFFSET(テストデータ!CJ3,259,0))","v":0},{"$f":"SUM(OFFSET(テストデータ!CK3,259,0):OFFSET(テストデータ!CM3,259,0))","v":0},{"$f":"SUM(OFFSET(テストデータ!CK3,259,0):OFFSET(テストデータ!CO3,259,0))","v":0},{"$f":"SUM(OFFSET(テストデータ!CP3,259,0):OFFSET(テストデータ!CR3,259,0))","v":0},{"$f":"SUM(OFFSET(テストデータ!CP3,259,0):OFFSET(テストデータ!CT3,259,0))","v":0}]
[null,null,null,null,null,null,null,null,null,null,null,null,null,{"$f":"SUM(OFFSET(テストデータ!$E3,260,9*成績表1!$B$4-9):OFFSET(テストデータ!$G3,260,9*成績表1!$B$4-9))","v":0},{"$f":"SUM(OFFSET(テストデータ!$E3,260,9*成績表1!$B$4-9):OFFSET(テストデータ!I3,260,9*成績表1!$B$4-9))","v":0},{"$f":"SUM(OFFSET(テストデータ!E3,260,0):OFFSET(テストデータ!G3,260,0))","v":0},{"$f":"SUM(OFFSET(テストデータ!E3,260,0):OFFSET(テストデータ!I3,260,0))","v":0},{"$f":"SUM(OFFSET(テストデータ!N3,260,0):OFFSET(テストデータ!P3,260,0))","v":0},{"$f":"SUM(OFFSET(テストデータ!N3,260,0):OFFSET(テストデータ!R3,260,0))","v":0},{"$f":"SUM(OFFSET(テストデータ!W3,260,0):OFFSET(テストデータ!Y3,260,0))","v":0},{"$f":"SUM(OFFSET(テストデータ!W3,260,0):OFFSET(テストデータ!AA3,260,0))","v":0},{"$f":"SUM(OFFSET(テストデータ!AF3,260,0):OFFSET(テストデータ!AH3,260,0))","v":0},{"$f":"SUM(OFFSET(テストデータ!AF3,260,0):OFFSET(テストデータ!AJ3,260,0))","v":0},{"$f":"SUM(OFFSET(テストデータ!AO3,260,0):OFFSET(テストデータ!AQ3,260,0))","v":0},{"$f":"SUM(OFFSET(テストデータ!AO3,260,0):OFFSET(テストデータ!AS3,260,0))","v":0},{"$f":"SUM(OFFSET(テストデータ!AX3,260,0):OFFSET(テストデータ!AZ3,260,0))","v":0},{"$f":"SUM(OFFSET(テストデータ!AX3,260,0):OFFSET(テストデータ!BB3,260,0))","v":0},{"$f":"SUM(OFFSET(テストデータ!BG3,260,0):OFFSET(テストデータ!BI3,260,0))","v":0},{"$f":"SUM(OFFSET(テストデータ!BG3,260,0):OFFSET(テストデータ!BK3,260,0))","v":0},{"$f":"SUM(OFFSET(テストデータ!BL3,260,0):OFFSET(テストデータ!BN3,260,0))","v":0},{"$f":"SUM(OFFSET(テストデータ!BL3,260,0):OFFSET(テストデータ!BP3,260,0))","v":0},{"$f":"SUM(OFFSET(テストデータ!BQ3,260,0):OFFSET(テストデータ!BS3,260,0))","v":0},{"$f":"SUM(OFFSET(テストデータ!BQ3,260,0):OFFSET(テストデータ!BU3,260,0))","v":0},{"$f":"SUM(OFFSET(テストデータ!BV3,260,0):OFFSET(テストデータ!BX3,260,0))","v":0},{"$f":"SUM(OFFSET(テストデータ!BV3,260,0):OFFSET(テストデータ!BZ3,260,0))","v":0},{"$f":"SUM(OFFSET(テストデータ!CA3,260,0):OFFSET(テストデータ!CC3,260,0))","v":0},{"$f":"SUM(OFFSET(テストデータ!CA3,260,0):OFFSET(テストデータ!CE3,260,0))","v":0},{"$f":"SUM(OFFSET(テストデータ!CF3,260,0):OFFSET(テストデータ!CH3,260,0))","v":0},{"$f":"SUM(OFFSET(テストデータ!CF3,260,0):OFFSET(テストデータ!CJ3,260,0))","v":0},{"$f":"SUM(OFFSET(テストデータ!CK3,260,0):OFFSET(テストデータ!CM3,260,0))","v":0},{"$f":"SUM(OFFSET(テストデータ!CK3,260,0):OFFSET(テストデータ!CO3,260,0))","v":0},{"$f":"SUM(OFFSET(テストデータ!CP3,260,0):OFFSET(テストデータ!CR3,260,0))","v":0},{"$f":"SUM(OFFSET(テストデータ!CP3,260,0):OFFSET(テストデータ!CT3,260,0))","v":0}]
[null,null,null,null,null,null,null,null,null,null,null,null,null,{"$f":"SUM(OFFSET(テストデータ!$E3,261,9*成績表1!$B$4-9):OFFSET(テストデータ!$G3,261,9*成績表1!$B$4-9))","v":0},{"$f":"SUM(OFFSET(テストデータ!$E3,261,9*成績表1!$B$4-9):OFFSET(テストデータ!I3,261,9*成績表1!$B$4-9))","v":0},{"$f":"SUM(OFFSET(テストデータ!E3,261,0):OFFSET(テストデータ!G3,261,0))","v":0},{"$f":"SUM(OFFSET(テストデータ!E3,261,0):OFFSET(テストデータ!I3,261,0))","v":0},{"$f":"SUM(OFFSET(テストデータ!N3,261,0):OFFSET(テストデータ!P3,261,0))","v":0},{"$f":"SUM(OFFSET(テストデータ!N3,261,0):OFFSET(テストデータ!R3,261,0))","v":0},{"$f":"SUM(OFFSET(テストデータ!W3,261,0):OFFSET(テストデータ!Y3,261,0))","v":0},{"$f":"SUM(OFFSET(テストデータ!W3,261,0):OFFSET(テストデータ!AA3,261,0))","v":0},{"$f":"SUM(OFFSET(テストデータ!AF3,261,0):OFFSET(テストデータ!AH3,261,0))","v":0},{"$f":"SUM(OFFSET(テストデータ!AF3,261,0):OFFSET(テストデータ!AJ3,261,0))","v":0},{"$f":"SUM(OFFSET(テストデータ!AO3,261,0):OFFSET(テストデータ!AQ3,261,0))","v":0},{"$f":"SUM(OFFSET(テストデータ!AO3,261,0):OFFSET(テストデータ!AS3,261,0))","v":0},{"$f":"SUM(OFFSET(テストデータ!AX3,261,0):OFFSET(テストデータ!AZ3,261,0))","v":0},{"$f":"SUM(OFFSET(テストデータ!AX3,261,0):OFFSET(テストデータ!BB3,261,0))","v":0},{"$f":"SUM(OFFSET(テストデータ!BG3,261,0):OFFSET(テストデータ!BI3,261,0))","v":0},{"$f":"SUM(OFFSET(テストデータ!BG3,261,0):OFFSET(テストデータ!BK3,261,0))","v":0},{"$f":"SUM(OFFSET(テストデータ!BL3,261,0):OFFSET(テストデータ!BN3,261,0))","v":0},{"$f":"SUM(OFFSET(テストデータ!BL3,261,0):OFFSET(テストデータ!BP3,261,0))","v":0},{"$f":"SUM(OFFSET(テストデータ!BQ3,261,0):OFFSET(テストデータ!BS3,261,0))","v":0},{"$f":"SUM(OFFSET(テストデータ!BQ3,261,0):OFFSET(テストデータ!BU3,261,0))","v":0},{"$f":"SUM(OFFSET(テストデータ!BV3,261,0):OFFSET(テストデータ!BX3,261,0))","v":0},{"$f":"SUM(OFFSET(テストデータ!BV3,261,0):OFFSET(テストデータ!BZ3,261,0))","v":0},{"$f":"SUM(OFFSET(テストデータ!CA3,261,0):OFFSET(テストデータ!CC3,261,0))","v":0},{"$f":"SUM(OFFSET(テストデータ!CA3,261,0):OFFSET(テストデータ!CE3,261,0))","v":0},{"$f":"SUM(OFFSET(テストデータ!CF3,261,0):OFFSET(テストデータ!CH3,261,0))","v":0},{"$f":"SUM(OFFSET(テストデータ!CF3,261,0):OFFSET(テストデータ!CJ3,261,0))","v":0},{"$f":"SUM(OFFSET(テストデータ!CK3,261,0):OFFSET(テストデータ!CM3,261,0))","v":0},{"$f":"SUM(OFFSET(テストデータ!CK3,261,0):OFFSET(テストデータ!CO3,261,0))","v":0},{"$f":"SUM(OFFSET(テストデータ!CP3,261,0):OFFSET(テストデータ!CR3,261,0))","v":0},{"$f":"SUM(OFFSET(テストデータ!CP3,261,0):OFFSET(テストデータ!CT3,261,0))","v":0}]
[null,null,null,null,null,null,null,null,null,null,null,null,null,{"$f":"SUM(OFFSET(テストデータ!$E3,262,9*成績表1!$B$4-9):OFFSET(テストデータ!$G3,262,9*成績表1!$B$4-9))","v":0},{"$f":"SUM(OFFSET(テストデータ!$E3,262,9*成績表1!$B$4-9):OFFSET(テストデータ!I3,262,9*成績表1!$B$4-9))","v":0},{"$f":"SUM(OFFSET(テストデータ!E3,262,0):OFFSET(テストデータ!G3,262,0))","v":0},{"$f":"SUM(OFFSET(テストデータ!E3,262,0):OFFSET(テストデータ!I3,262,0))","v":0},{"$f":"SUM(OFFSET(テストデータ!N3,262,0):OFFSET(テストデータ!P3,262,0))","v":0},{"$f":"SUM(OFFSET(テストデータ!N3,262,0):OFFSET(テストデータ!R3,262,0))","v":0},{"$f":"SUM(OFFSET(テストデータ!W3,262,0):OFFSET(テストデータ!Y3,262,0))","v":0},{"$f":"SUM(OFFSET(テストデータ!W3,262,0):OFFSET(テストデータ!AA3,262,0))","v":0},{"$f":"SUM(OFFSET(テストデータ!AF3,262,0):OFFSET(テストデータ!AH3,262,0))","v":0},{"$f":"SUM(OFFSET(テストデータ!AF3,262,0):OFFSET(テストデータ!AJ3,262,0))","v":0},{"$f":"SUM(OFFSET(テストデータ!AO3,262,0):OFFSET(テストデータ!AQ3,262,0))","v":0},{"$f":"SUM(OFFSET(テストデータ!AO3,262,0):OFFSET(テストデータ!AS3,262,0))","v":0},{"$f":"SUM(OFFSET(テストデータ!AX3,262,0):OFFSET(テストデータ!AZ3,262,0))","v":0},{"$f":"SUM(OFFSET(テストデータ!AX3,262,0):OFFSET(テストデータ!BB3,262,0))","v":0},{"$f":"SUM(OFFSET(テストデータ!BG3,262,0):OFFSET(テストデータ!BI3,262,0))","v":0},{"$f":"SUM(OFFSET(テストデータ!BG3,262,0):OFFSET(テストデータ!BK3,262,0))","v":0},{"$f":"SUM(OFFSET(テストデータ!BL3,262,0):OFFSET(テストデータ!BN3,262,0))","v":0},{"$f":"SUM(OFFSET(テストデータ!BL3,262,0):OFFSET(テストデータ!BP3,262,0))","v":0},{"$f":"SUM(OFFSET(テストデータ!BQ3,262,0):OFFSET(テストデータ!BS3,262,0))","v":0},{"$f":"SUM(OFFSET(テストデータ!BQ3,262,0):OFFSET(テストデータ!BU3,262,0))","v":0},{"$f":"SUM(OFFSET(テストデータ!BV3,262,0):OFFSET(テストデータ!BX3,262,0))","v":0},{"$f":"SUM(OFFSET(テストデータ!BV3,262,0):OFFSET(テストデータ!BZ3,262,0))","v":0},{"$f":"SUM(OFFSET(テストデータ!CA3,262,0):OFFSET(テストデータ!CC3,262,0))","v":0},{"$f":"SUM(OFFSET(テストデータ!CA3,262,0):OFFSET(テストデータ!CE3,262,0))","v":0},{"$f":"SUM(OFFSET(テストデータ!CF3,262,0):OFFSET(テストデータ!CH3,262,0))","v":0},{"$f":"SUM(OFFSET(テストデータ!CF3,262,0):OFFSET(テストデータ!CJ3,262,0))","v":0},{"$f":"SUM(OFFSET(テストデータ!CK3,262,0):OFFSET(テストデータ!CM3,262,0))","v":0},{"$f":"SUM(OFFSET(テストデータ!CK3,262,0):OFFSET(テストデータ!CO3,262,0))","v":0},{"$f":"SUM(OFFSET(テストデータ!CP3,262,0):OFFSET(テストデータ!CR3,262,0))","v":0},{"$f":"SUM(OFFSET(テストデータ!CP3,262,0):OFFSET(テストデータ!CT3,262,0))","v":0}]
[null,null,null,null,null,null,null,null,null,null,null,null,null,{"$f":"SUM(OFFSET(テストデータ!$E3,263,9*成績表1!$B$4-9):OFFSET(テストデータ!$G3,263,9*成績表1!$B$4-9))","v":0},{"$f":"SUM(OFFSET(テストデータ!$E3,263,9*成績表1!$B$4-9):OFFSET(テストデータ!I3,263,9*成績表1!$B$4-9))","v":0},{"$f":"SUM(OFFSET(テストデータ!E3,263,0):OFFSET(テストデータ!G3,263,0))","v":0},{"$f":"SUM(OFFSET(テストデータ!E3,263,0):OFFSET(テストデータ!I3,263,0))","v":0},{"$f":"SUM(OFFSET(テストデータ!N3,263,0):OFFSET(テストデータ!P3,263,0))","v":0},{"$f":"SUM(OFFSET(テストデータ!N3,263,0):OFFSET(テストデータ!R3,263,0))","v":0},{"$f":"SUM(OFFSET(テストデータ!W3,263,0):OFFSET(テストデータ!Y3,263,0))","v":0},{"$f":"SUM(OFFSET(テストデータ!W3,263,0):OFFSET(テストデータ!AA3,263,0))","v":0},{"$f":"SUM(OFFSET(テストデータ!AF3,263,0):OFFSET(テストデータ!AH3,263,0))","v":0},{"$f":"SUM(OFFSET(テストデータ!AF3,263,0):OFFSET(テストデータ!AJ3,263,0))","v":0},{"$f":"SUM(OFFSET(テストデータ!AO3,263,0):OFFSET(テストデータ!AQ3,263,0))","v":0},{"$f":"SUM(OFFSET(テストデータ!AO3,263,0):OFFSET(テストデータ!AS3,263,0))","v":0},{"$f":"SUM(OFFSET(テストデータ!AX3,263,0):OFFSET(テストデータ!AZ3,263,0))","v":0},{"$f":"SUM(OFFSET(テストデータ!AX3,263,0):OFFSET(テストデータ!BB3,263,0))","v":0},{"$f":"SUM(OFFSET(テストデータ!BG3,263,0):OFFSET(テストデータ!BI3,263,0))","v":0},{"$f":"SUM(OFFSET(テストデータ!BG3,263,0):OFFSET(テストデータ!BK3,263,0))","v":0},{"$f":"SUM(OFFSET(テストデータ!BL3,263,0):OFFSET(テストデータ!BN3,263,0))","v":0},{"$f":"SUM(OFFSET(テストデータ!BL3,263,0):OFFSET(テストデータ!BP3,263,0))","v":0},{"$f":"SUM(OFFSET(テストデータ!BQ3,263,0):OFFSET(テストデータ!BS3,263,0))","v":0},{"$f":"SUM(OFFSET(テストデータ!BQ3,263,0):OFFSET(テストデータ!BU3,263,0))","v":0},{"$f":"SUM(OFFSET(テストデータ!BV3,263,0):OFFSET(テストデータ!BX3,263,0))","v":0},{"$f":"SUM(OFFSET(テストデータ!BV3,263,0):OFFSET(テストデータ!BZ3,263,0))","v":0},{"$f":"SUM(OFFSET(テストデータ!CA3,263,0):OFFSET(テストデータ!CC3,263,0))","v":0},{"$f":"SUM(OFFSET(テストデータ!CA3,263,0):OFFSET(テストデータ!CE3,263,0))","v":0},{"$f":"SUM(OFFSET(テストデータ!CF3,263,0):OFFSET(テストデータ!CH3,263,0))","v":0},{"$f":"SUM(OFFSET(テストデータ!CF3,263,0):OFFSET(テストデータ!CJ3,263,0))","v":0},{"$f":"SUM(OFFSET(テストデータ!CK3,263,0):OFFSET(テストデータ!CM3,263,0))","v":0},{"$f":"SUM(OFFSET(テストデータ!CK3,263,0):OFFSET(テストデータ!CO3,263,0))","v":0},{"$f":"SUM(OFFSET(テストデータ!CP3,263,0):OFFSET(テストデータ!CR3,263,0))","v":0},{"$f":"SUM(OFFSET(テストデータ!CP3,263,0):OFFSET(テストデータ!CT3,263,0))","v":0}]
[null,null,null,null,null,null,null,null,null,null,null,null,null,{"$f":"SUM(OFFSET(テストデータ!$E3,264,9*成績表1!$B$4-9):OFFSET(テストデータ!$G3,264,9*成績表1!$B$4-9))","v":0},{"$f":"SUM(OFFSET(テストデータ!$E3,264,9*成績表1!$B$4-9):OFFSET(テストデータ!I3,264,9*成績表1!$B$4-9))","v":0},{"$f":"SUM(OFFSET(テストデータ!E3,264,0):OFFSET(テストデータ!G3,264,0))","v":0},{"$f":"SUM(OFFSET(テストデータ!E3,264,0):OFFSET(テストデータ!I3,264,0))","v":0},{"$f":"SUM(OFFSET(テストデータ!N3,264,0):OFFSET(テストデータ!P3,264,0))","v":0},{"$f":"SUM(OFFSET(テストデータ!N3,264,0):OFFSET(テストデータ!R3,264,0))","v":0},{"$f":"SUM(OFFSET(テストデータ!W3,264,0):OFFSET(テストデータ!Y3,264,0))","v":0},{"$f":"SUM(OFFSET(テストデータ!W3,264,0):OFFSET(テストデータ!AA3,264,0))","v":0},{"$f":"SUM(OFFSET(テストデータ!AF3,264,0):OFFSET(テストデータ!AH3,264,0))","v":0},{"$f":"SUM(OFFSET(テストデータ!AF3,264,0):OFFSET(テストデータ!AJ3,264,0))","v":0},{"$f":"SUM(OFFSET(テストデータ!AO3,264,0):OFFSET(テストデータ!AQ3,264,0))","v":0},{"$f":"SUM(OFFSET(テストデータ!AO3,264,0):OFFSET(テストデータ!AS3,264,0))","v":0},{"$f":"SUM(OFFSET(テストデータ!AX3,264,0):OFFSET(テストデータ!AZ3,264,0))","v":0},{"$f":"SUM(OFFSET(テストデータ!AX3,264,0):OFFSET(テストデータ!BB3,264,0))","v":0},{"$f":"SUM(OFFSET(テストデータ!BG3,264,0):OFFSET(テストデータ!BI3,264,0))","v":0},{"$f":"SUM(OFFSET(テストデータ!BG3,264,0):OFFSET(テストデータ!BK3,264,0))","v":0},{"$f":"SUM(OFFSET(テストデータ!BL3,264,0):OFFSET(テストデータ!BN3,264,0))","v":0},{"$f":"SUM(OFFSET(テストデータ!BL3,264,0):OFFSET(テストデータ!BP3,264,0))","v":0},{"$f":"SUM(OFFSET(テストデータ!BQ3,264,0):OFFSET(テストデータ!BS3,264,0))","v":0},{"$f":"SUM(OFFSET(テストデータ!BQ3,264,0):OFFSET(テストデータ!BU3,264,0))","v":0},{"$f":"SUM(OFFSET(テストデータ!BV3,264,0):OFFSET(テストデータ!BX3,264,0))","v":0},{"$f":"SUM(OFFSET(テストデータ!BV3,264,0):OFFSET(テストデータ!BZ3,264,0))","v":0},{"$f":"SUM(OFFSET(テストデータ!CA3,264,0):OFFSET(テストデータ!CC3,264,0))","v":0},{"$f":"SUM(OFFSET(テストデータ!CA3,264,0):OFFSET(テストデータ!CE3,264,0))","v":0},{"$f":"SUM(OFFSET(テストデータ!CF3,264,0):OFFSET(テストデータ!CH3,264,0))","v":0},{"$f":"SUM(OFFSET(テストデータ!CF3,264,0):OFFSET(テストデータ!CJ3,264,0))","v":0},{"$f":"SUM(OFFSET(テストデータ!CK3,264,0):OFFSET(テストデータ!CM3,264,0))","v":0},{"$f":"SUM(OFFSET(テストデータ!CK3,264,0):OFFSET(テストデータ!CO3,264,0))","v":0},{"$f":"SUM(OFFSET(テストデータ!CP3,264,0):OFFSET(テストデータ!CR3,264,0))","v":0},{"$f":"SUM(OFFSET(テストデータ!CP3,264,0):OFFSET(テストデータ!CT3,264,0))","v":0}]
[null,null,null,null,null,null,null,null,null,null,null,null,null,{"$f":"SUM(OFFSET(テストデータ!$E3,265,9*成績表1!$B$4-9):OFFSET(テストデータ!$G3,265,9*成績表1!$B$4-9))","v":0},{"$f":"SUM(OFFSET(テストデータ!$E3,265,9*成績表1!$B$4-9):OFFSET(テストデータ!I3,265,9*成績表1!$B$4-9))","v":0},{"$f":"SUM(OFFSET(テストデータ!E3,265,0):OFFSET(テストデータ!G3,265,0))","v":0},{"$f":"SUM(OFFSET(テストデータ!E3,265,0):OFFSET(テストデータ!I3,265,0))","v":0},{"$f":"SUM(OFFSET(テストデータ!N3,265,0):OFFSET(テストデータ!P3,265,0))","v":0},{"$f":"SUM(OFFSET(テストデータ!N3,265,0):OFFSET(テストデータ!R3,265,0))","v":0},{"$f":"SUM(OFFSET(テストデータ!W3,265,0):OFFSET(テストデータ!Y3,265,0))","v":0},{"$f":"SUM(OFFSET(テストデータ!W3,265,0):OFFSET(テストデータ!AA3,265,0))","v":0},{"$f":"SUM(OFFSET(テストデータ!AF3,265,0):OFFSET(テストデータ!AH3,265,0))","v":0},{"$f":"SUM(OFFSET(テストデータ!AF3,265,0):OFFSET(テストデータ!AJ3,265,0))","v":0},{"$f":"SUM(OFFSET(テストデータ!AO3,265,0):OFFSET(テストデータ!AQ3,265,0))","v":0},{"$f":"SUM(OFFSET(テストデータ!AO3,265,0):OFFSET(テストデータ!AS3,265,0))","v":0},{"$f":"SUM(OFFSET(テストデータ!AX3,265,0):OFFSET(テストデータ!AZ3,265,0))","v":0},{"$f":"SUM(OFFSET(テストデータ!AX3,265,0):OFFSET(テストデータ!BB3,265,0))","v":0},{"$f":"SUM(OFFSET(テストデータ!BG3,265,0):OFFSET(テストデータ!BI3,265,0))","v":0},{"$f":"SUM(OFFSET(テストデータ!BG3,265,0):OFFSET(テストデータ!BK3,265,0))","v":0},{"$f":"SUM(OFFSET(テストデータ!BL3,265,0):OFFSET(テストデータ!BN3,265,0))","v":0},{"$f":"SUM(OFFSET(テストデータ!BL3,265,0):OFFSET(テストデータ!BP3,265,0))","v":0},{"$f":"SUM(OFFSET(テストデータ!BQ3,265,0):OFFSET(テストデータ!BS3,265,0))","v":0},{"$f":"SUM(OFFSET(テストデータ!BQ3,265,0):OFFSET(テストデータ!BU3,265,0))","v":0},{"$f":"SUM(OFFSET(テストデータ!BV3,265,0):OFFSET(テストデータ!BX3,265,0))","v":0},{"$f":"SUM(OFFSET(テストデータ!BV3,265,0):OFFSET(テストデータ!BZ3,265,0))","v":0},{"$f":"SUM(OFFSET(テストデータ!CA3,265,0):OFFSET(テストデータ!CC3,265,0))","v":0},{"$f":"SUM(OFFSET(テストデータ!CA3,265,0):OFFSET(テストデータ!CE3,265,0))","v":0},{"$f":"SUM(OFFSET(テストデータ!CF3,265,0):OFFSET(テストデータ!CH3,265,0))","v":0},{"$f":"SUM(OFFSET(テストデータ!CF3,265,0):OFFSET(テストデータ!CJ3,265,0))","v":0},{"$f":"SUM(OFFSET(テストデータ!CK3,265,0):OFFSET(テストデータ!CM3,265,0))","v":0},{"$f":"SUM(OFFSET(テストデータ!CK3,265,0):OFFSET(テストデータ!CO3,265,0))","v":0},{"$f":"SUM(OFFSET(テストデータ!CP3,265,0):OFFSET(テストデータ!CR3,265,0))","v":0},{"$f":"SUM(OFFSET(テストデータ!CP3,265,0):OFFSET(テストデータ!CT3,265,0))","v":0}]
[null,null,null,null,null,null,null,null,null,null,null,null,null,{"$f":"SUM(OFFSET(テストデータ!$E3,266,9*成績表1!$B$4-9):OFFSET(テストデータ!$G3,266,9*成績表1!$B$4-9))","v":0},{"$f":"SUM(OFFSET(テストデータ!$E3,266,9*成績表1!$B$4-9):OFFSET(テストデータ!I3,266,9*成績表1!$B$4-9))","v":0},{"$f":"SUM(OFFSET(テストデータ!E3,266,0):OFFSET(テストデータ!G3,266,0))","v":0},{"$f":"SUM(OFFSET(テストデータ!E3,266,0):OFFSET(テストデータ!I3,266,0))","v":0},{"$f":"SUM(OFFSET(テストデータ!N3,266,0):OFFSET(テストデータ!P3,266,0))","v":0},{"$f":"SUM(OFFSET(テストデータ!N3,266,0):OFFSET(テストデータ!R3,266,0))","v":0},{"$f":"SUM(OFFSET(テストデータ!W3,266,0):OFFSET(テストデータ!Y3,266,0))","v":0},{"$f":"SUM(OFFSET(テストデータ!W3,266,0):OFFSET(テストデータ!AA3,266,0))","v":0},{"$f":"SUM(OFFSET(テストデータ!AF3,266,0):OFFSET(テストデータ!AH3,266,0))","v":0},{"$f":"SUM(OFFSET(テストデータ!AF3,266,0):OFFSET(テストデータ!AJ3,266,0))","v":0},{"$f":"SUM(OFFSET(テストデータ!AO3,266,0):OFFSET(テストデータ!AQ3,266,0))","v":0},{"$f":"SUM(OFFSET(テストデータ!AO3,266,0):OFFSET(テストデータ!AS3,266,0))","v":0},{"$f":"SUM(OFFSET(テストデータ!AX3,266,0):OFFSET(テストデータ!AZ3,266,0))","v":0},{"$f":"SUM(OFFSET(テストデータ!AX3,266,0):OFFSET(テストデータ!BB3,266,0))","v":0},{"$f":"SUM(OFFSET(テストデータ!BG3,266,0):OFFSET(テストデータ!BI3,266,0))","v":0},{"$f":"SUM(OFFSET(テストデータ!BG3,266,0):OFFSET(テストデータ!BK3,266,0))","v":0},{"$f":"SUM(OFFSET(テストデータ!BL3,266,0):OFFSET(テストデータ!BN3,266,0))","v":0},{"$f":"SUM(OFFSET(テストデータ!BL3,266,0):OFFSET(テストデータ!BP3,266,0))","v":0},{"$f":"SUM(OFFSET(テストデータ!BQ3,266,0):OFFSET(テストデータ!BS3,266,0))","v":0},{"$f":"SUM(OFFSET(テストデータ!BQ3,266,0):OFFSET(テストデータ!BU3,266,0))","v":0},{"$f":"SUM(OFFSET(テストデータ!BV3,266,0):OFFSET(テストデータ!BX3,266,0))","v":0},{"$f":"SUM(OFFSET(テストデータ!BV3,266,0):OFFSET(テストデータ!BZ3,266,0))","v":0},{"$f":"SUM(OFFSET(テストデータ!CA3,266,0):OFFSET(テストデータ!CC3,266,0))","v":0},{"$f":"SUM(OFFSET(テストデータ!CA3,266,0):OFFSET(テストデータ!CE3,266,0))","v":0},{"$f":"SUM(OFFSET(テストデータ!CF3,266,0):OFFSET(テストデータ!CH3,266,0))","v":0},{"$f":"SUM(OFFSET(テストデータ!CF3,266,0):OFFSET(テストデータ!CJ3,266,0))","v":0},{"$f":"SUM(OFFSET(テストデータ!CK3,266,0):OFFSET(テストデータ!CM3,266,0))","v":0},{"$f":"SUM(OFFSET(テストデータ!CK3,266,0):OFFSET(テストデータ!CO3,266,0))","v":0},{"$f":"SUM(OFFSET(テストデータ!CP3,266,0):OFFSET(テストデータ!CR3,266,0))","v":0},{"$f":"SUM(OFFSET(テストデータ!CP3,266,0):OFFSET(テストデータ!CT3,266,0))","v":0}]
[null,null,null,null,null,null,null,null,null,null,null,null,null,{"$f":"SUM(OFFSET(テストデータ!$E3,267,9*成績表1!$B$4-9):OFFSET(テストデータ!$G3,267,9*成績表1!$B$4-9))","v":0},{"$f":"SUM(OFFSET(テストデータ!$E3,267,9*成績表1!$B$4-9):OFFSET(テストデータ!I3,267,9*成績表1!$B$4-9))","v":0},{"$f":"SUM(OFFSET(テストデータ!E3,267,0):OFFSET(テストデータ!G3,267,0))","v":0},{"$f":"SUM(OFFSET(テストデータ!E3,267,0):OFFSET(テストデータ!I3,267,0))","v":0},{"$f":"SUM(OFFSET(テストデータ!N3,267,0):OFFSET(テストデータ!P3,267,0))","v":0},{"$f":"SUM(OFFSET(テストデータ!N3,267,0):OFFSET(テストデータ!R3,267,0))","v":0},{"$f":"SUM(OFFSET(テストデータ!W3,267,0):OFFSET(テストデータ!Y3,267,0))","v":0},{"$f":"SUM(OFFSET(テストデータ!W3,267,0):OFFSET(テストデータ!AA3,267,0))","v":0},{"$f":"SUM(OFFSET(テストデータ!AF3,267,0):OFFSET(テストデータ!AH3,267,0))","v":0},{"$f":"SUM(OFFSET(テストデータ!AF3,267,0):OFFSET(テストデータ!AJ3,267,0))","v":0},{"$f":"SUM(OFFSET(テストデータ!AO3,267,0):OFFSET(テストデータ!AQ3,267,0))","v":0},{"$f":"SUM(OFFSET(テストデータ!AO3,267,0):OFFSET(テストデータ!AS3,267,0))","v":0},{"$f":"SUM(OFFSET(テストデータ!AX3,267,0):OFFSET(テストデータ!AZ3,267,0))","v":0},{"$f":"SUM(OFFSET(テストデータ!AX3,267,0):OFFSET(テストデータ!BB3,267,0))","v":0},{"$f":"SUM(OFFSET(テストデータ!BG3,267,0):OFFSET(テストデータ!BI3,267,0))","v":0},{"$f":"SUM(OFFSET(テストデータ!BG3,267,0):OFFSET(テストデータ!BK3,267,0))","v":0},{"$f":"SUM(OFFSET(テストデータ!BL3,267,0):OFFSET(テストデータ!BN3,267,0))","v":0},{"$f":"SUM(OFFSET(テストデータ!BL3,267,0):OFFSET(テストデータ!BP3,267,0))","v":0},{"$f":"SUM(OFFSET(テストデータ!BQ3,267,0):OFFSET(テストデータ!BS3,267,0))","v":0},{"$f":"SUM(OFFSET(テストデータ!BQ3,267,0):OFFSET(テストデータ!BU3,267,0))","v":0},{"$f":"SUM(OFFSET(テストデータ!BV3,267,0):OFFSET(テストデータ!BX3,267,0))","v":0},{"$f":"SUM(OFFSET(テストデータ!BV3,267,0):OFFSET(テストデータ!BZ3,267,0))","v":0},{"$f":"SUM(OFFSET(テストデータ!CA3,267,0):OFFSET(テストデータ!CC3,267,0))","v":0},{"$f":"SUM(OFFSET(テストデータ!CA3,267,0):OFFSET(テストデータ!CE3,267,0))","v":0},{"$f":"SUM(OFFSET(テストデータ!CF3,267,0):OFFSET(テストデータ!CH3,267,0))","v":0},{"$f":"SUM(OFFSET(テストデータ!CF3,267,0):OFFSET(テストデータ!CJ3,267,0))","v":0},{"$f":"SUM(OFFSET(テストデータ!CK3,267,0):OFFSET(テストデータ!CM3,267,0))","v":0},{"$f":"SUM(OFFSET(テストデータ!CK3,267,0):OFFSET(テストデータ!CO3,267,0))","v":0},{"$f":"SUM(OFFSET(テストデータ!CP3,267,0):OFFSET(テストデータ!CR3,267,0))","v":0},{"$f":"SUM(OFFSET(テストデータ!CP3,267,0):OFFSET(テストデータ!CT3,267,0))","v":0}]
[null,null,null,null,null,null,null,null,null,null,null,null,null,{"$f":"SUM(OFFSET(テストデータ!$E3,268,9*成績表1!$B$4-9):OFFSET(テストデータ!$G3,268,9*成績表1!$B$4-9))","v":0},{"$f":"SUM(OFFSET(テストデータ!$E3,268,9*成績表1!$B$4-9):OFFSET(テストデータ!I3,268,9*成績表1!$B$4-9))","v":0},{"$f":"SUM(OFFSET(テストデータ!E3,268,0):OFFSET(テストデータ!G3,268,0))","v":0},{"$f":"SUM(OFFSET(テストデータ!E3,268,0):OFFSET(テストデータ!I3,268,0))","v":0},{"$f":"SUM(OFFSET(テストデータ!N3,268,0):OFFSET(テストデータ!P3,268,0))","v":0},{"$f":"SUM(OFFSET(テストデータ!N3,268,0):OFFSET(テストデータ!R3,268,0))","v":0},{"$f":"SUM(OFFSET(テストデータ!W3,268,0):OFFSET(テストデータ!Y3,268,0))","v":0},{"$f":"SUM(OFFSET(テストデータ!W3,268,0):OFFSET(テストデータ!AA3,268,0))","v":0},{"$f":"SUM(OFFSET(テストデータ!AF3,268,0):OFFSET(テストデータ!AH3,268,0))","v":0},{"$f":"SUM(OFFSET(テストデータ!AF3,268,0):OFFSET(テストデータ!AJ3,268,0))","v":0},{"$f":"SUM(OFFSET(テストデータ!AO3,268,0):OFFSET(テストデータ!AQ3,268,0))","v":0},{"$f":"SUM(OFFSET(テストデータ!AO3,268,0):OFFSET(テストデータ!AS3,268,0))","v":0},{"$f":"SUM(OFFSET(テストデータ!AX3,268,0):OFFSET(テストデータ!AZ3,268,0))","v":0},{"$f":"SUM(OFFSET(テストデータ!AX3,268,0):OFFSET(テストデータ!BB3,268,0))","v":0},{"$f":"SUM(OFFSET(テストデータ!BG3,268,0):OFFSET(テストデータ!BI3,268,0))","v":0},{"$f":"SUM(OFFSET(テストデータ!BG3,268,0):OFFSET(テストデータ!BK3,268,0))","v":0},{"$f":"SUM(OFFSET(テストデータ!BL3,268,0):OFFSET(テストデータ!BN3,268,0))","v":0},{"$f":"SUM(OFFSET(テストデータ!BL3,268,0):OFFSET(テストデータ!BP3,268,0))","v":0},{"$f":"SUM(OFFSET(テストデータ!BQ3,268,0):OFFSET(テストデータ!BS3,268,0))","v":0},{"$f":"SUM(OFFSET(テストデータ!BQ3,268,0):OFFSET(テストデータ!BU3,268,0))","v":0},{"$f":"SUM(OFFSET(テストデータ!BV3,268,0):OFFSET(テストデータ!BX3,268,0))","v":0},{"$f":"SUM(OFFSET(テストデータ!BV3,268,0):OFFSET(テストデータ!BZ3,268,0))","v":0},{"$f":"SUM(OFFSET(テストデータ!CA3,268,0):OFFSET(テストデータ!CC3,268,0))","v":0},{"$f":"SUM(OFFSET(テストデータ!CA3,268,0):OFFSET(テストデータ!CE3,268,0))","v":0},{"$f":"SUM(OFFSET(テストデータ!CF3,268,0):OFFSET(テストデータ!CH3,268,0))","v":0},{"$f":"SUM(OFFSET(テストデータ!CF3,268,0):OFFSET(テストデータ!CJ3,268,0))","v":0},{"$f":"SUM(OFFSET(テストデータ!CK3,268,0):OFFSET(テストデータ!CM3,268,0))","v":0},{"$f":"SUM(OFFSET(テストデータ!CK3,268,0):OFFSET(テストデータ!CO3,268,0))","v":0},{"$f":"SUM(OFFSET(テストデータ!CP3,268,0):OFFSET(テストデータ!CR3,268,0))","v":0},{"$f":"SUM(OFFSET(テストデータ!CP3,268,0):OFFSET(テストデータ!CT3,268,0))","v":0}]
[null,null,null,null,null,null,null,null,null,null,null,null,null,{"$f":"SUM(OFFSET(テストデータ!$E3,269,9*成績表1!$B$4-9):OFFSET(テストデータ!$G3,269,9*成績表1!$B$4-9))","v":0},{"$f":"SUM(OFFSET(テストデータ!$E3,269,9*成績表1!$B$4-9):OFFSET(テストデータ!I3,269,9*成績表1!$B$4-9))","v":0},{"$f":"SUM(OFFSET(テストデータ!E3,269,0):OFFSET(テストデータ!G3,269,0))","v":0},{"$f":"SUM(OFFSET(テストデータ!E3,269,0):OFFSET(テストデータ!I3,269,0))","v":0},{"$f":"SUM(OFFSET(テストデータ!N3,269,0):OFFSET(テストデータ!P3,269,0))","v":0},{"$f":"SUM(OFFSET(テストデータ!N3,269,0):OFFSET(テストデータ!R3,269,0))","v":0},{"$f":"SUM(OFFSET(テストデータ!W3,269,0):OFFSET(テストデータ!Y3,269,0))","v":0},{"$f":"SUM(OFFSET(テストデータ!W3,269,0):OFFSET(テストデータ!AA3,269,0))","v":0},{"$f":"SUM(OFFSET(テストデータ!AF3,269,0):OFFSET(テストデータ!AH3,269,0))","v":0},{"$f":"SUM(OFFSET(テストデータ!AF3,269,0):OFFSET(テストデータ!AJ3,269,0))","v":0},{"$f":"SUM(OFFSET(テストデータ!AO3,269,0):OFFSET(テストデータ!AQ3,269,0))","v":0},{"$f":"SUM(OFFSET(テストデータ!AO3,269,0):OFFSET(テストデータ!AS3,269,0))","v":0},{"$f":"SUM(OFFSET(テストデータ!AX3,269,0):OFFSET(テストデータ!AZ3,269,0))","v":0},{"$f":"SUM(OFFSET(テストデータ!AX3,269,0):OFFSET(テストデータ!BB3,269,0))","v":0},{"$f":"SUM(OFFSET(テストデータ!BG3,269,0):OFFSET(テストデータ!BI3,269,0))","v":0},{"$f":"SUM(OFFSET(テストデータ!BG3,269,0):OFFSET(テストデータ!BK3,269,0))","v":0},{"$f":"SUM(OFFSET(テストデータ!BL3,269,0):OFFSET(テストデータ!BN3,269,0))","v":0},{"$f":"SUM(OFFSET(テストデータ!BL3,269,0):OFFSET(テストデータ!BP3,269,0))","v":0},{"$f":"SUM(OFFSET(テストデータ!BQ3,269,0):OFFSET(テストデータ!BS3,269,0))","v":0},{"$f":"SUM(OFFSET(テストデータ!BQ3,269,0):OFFSET(テストデータ!BU3,269,0))","v":0},{"$f":"SUM(OFFSET(テストデータ!BV3,269,0):OFFSET(テストデータ!BX3,269,0))","v":0},{"$f":"SUM(OFFSET(テストデータ!BV3,269,0):OFFSET(テストデータ!BZ3,269,0))","v":0},{"$f":"SUM(OFFSET(テストデータ!CA3,269,0):OFFSET(テストデータ!CC3,269,0))","v":0},{"$f":"SUM(OFFSET(テストデータ!CA3,269,0):OFFSET(テストデータ!CE3,269,0))","v":0},{"$f":"SUM(OFFSET(テストデータ!CF3,269,0):OFFSET(テストデータ!CH3,269,0))","v":0},{"$f":"SUM(OFFSET(テストデータ!CF3,269,0):OFFSET(テストデータ!CJ3,269,0))","v":0},{"$f":"SUM(OFFSET(テストデータ!CK3,269,0):OFFSET(テストデータ!CM3,269,0))","v":0},{"$f":"SUM(OFFSET(テストデータ!CK3,269,0):OFFSET(テストデータ!CO3,269,0))","v":0},{"$f":"SUM(OFFSET(テストデータ!CP3,269,0):OFFSET(テストデータ!CR3,269,0))","v":0},{"$f":"SUM(OFFSET(テストデータ!CP3,269,0):OFFSET(テストデータ!CT3,269,0))","v":0}]
[null,null,null,null,null,null,null,null,null,null,null,null,null,{"$f":"SUM(OFFSET(テストデータ!$E3,270,9*成績表1!$B$4-9):OFFSET(テストデータ!$G3,270,9*成績表1!$B$4-9))","v":0},{"$f":"SUM(OFFSET(テストデータ!$E3,270,9*成績表1!$B$4-9):OFFSET(テストデータ!I3,270,9*成績表1!$B$4-9))","v":0},{"$f":"SUM(OFFSET(テストデータ!E3,270,0):OFFSET(テストデータ!G3,270,0))","v":0},{"$f":"SUM(OFFSET(テストデータ!E3,270,0):OFFSET(テストデータ!I3,270,0))","v":0},{"$f":"SUM(OFFSET(テストデータ!N3,270,0):OFFSET(テストデータ!P3,270,0))","v":0},{"$f":"SUM(OFFSET(テストデータ!N3,270,0):OFFSET(テストデータ!R3,270,0))","v":0},{"$f":"SUM(OFFSET(テストデータ!W3,270,0):OFFSET(テストデータ!Y3,270,0))","v":0},{"$f":"SUM(OFFSET(テストデータ!W3,270,0):OFFSET(テストデータ!AA3,270,0))","v":0},{"$f":"SUM(OFFSET(テストデータ!AF3,270,0):OFFSET(テストデータ!AH3,270,0))","v":0},{"$f":"SUM(OFFSET(テストデータ!AF3,270,0):OFFSET(テストデータ!AJ3,270,0))","v":0},{"$f":"SUM(OFFSET(テストデータ!AO3,270,0):OFFSET(テストデータ!AQ3,270,0))","v":0},{"$f":"SUM(OFFSET(テストデータ!AO3,270,0):OFFSET(テストデータ!AS3,270,0))","v":0},{"$f":"SUM(OFFSET(テストデータ!AX3,270,0):OFFSET(テストデータ!AZ3,270,0))","v":0},{"$f":"SUM(OFFSET(テストデータ!AX3,270,0):OFFSET(テストデータ!BB3,270,0))","v":0},{"$f":"SUM(OFFSET(テストデータ!BG3,270,0):OFFSET(テストデータ!BI3,270,0))","v":0},{"$f":"SUM(OFFSET(テストデータ!BG3,270,0):OFFSET(テストデータ!BK3,270,0))","v":0},{"$f":"SUM(OFFSET(テストデータ!BL3,270,0):OFFSET(テストデータ!BN3,270,0))","v":0},{"$f":"SUM(OFFSET(テストデータ!BL3,270,0):OFFSET(テストデータ!BP3,270,0))","v":0},{"$f":"SUM(OFFSET(テストデータ!BQ3,270,0):OFFSET(テストデータ!BS3,270,0))","v":0},{"$f":"SUM(OFFSET(テストデータ!BQ3,270,0):OFFSET(テストデータ!BU3,270,0))","v":0},{"$f":"SUM(OFFSET(テストデータ!BV3,270,0):OFFSET(テストデータ!BX3,270,0))","v":0},{"$f":"SUM(OFFSET(テストデータ!BV3,270,0):OFFSET(テストデータ!BZ3,270,0))","v":0},{"$f":"SUM(OFFSET(テストデータ!CA3,270,0):OFFSET(テストデータ!CC3,270,0))","v":0},{"$f":"SUM(OFFSET(テストデータ!CA3,270,0):OFFSET(テストデータ!CE3,270,0))","v":0},{"$f":"SUM(OFFSET(テストデータ!CF3,270,0):OFFSET(テストデータ!CH3,270,0))","v":0},{"$f":"SUM(OFFSET(テストデータ!CF3,270,0):OFFSET(テストデータ!CJ3,270,0))","v":0},{"$f":"SUM(OFFSET(テストデータ!CK3,270,0):OFFSET(テストデータ!CM3,270,0))","v":0},{"$f":"SUM(OFFSET(テストデータ!CK3,270,0):OFFSET(テストデータ!CO3,270,0))","v":0},{"$f":"SUM(OFFSET(テストデータ!CP3,270,0):OFFSET(テストデータ!CR3,270,0))","v":0},{"$f":"SUM(OFFSET(テストデータ!CP3,270,0):OFFSET(テストデータ!CT3,270,0))","v":0}]
[null,null,null,null,null,null,null,null,null,null,null,null,null,{"$f":"SUM(OFFSET(テストデータ!$E3,271,9*成績表1!$B$4-9):OFFSET(テストデータ!$G3,271,9*成績表1!$B$4-9))","v":0},{"$f":"SUM(OFFSET(テストデータ!$E3,271,9*成績表1!$B$4-9):OFFSET(テストデータ!I3,271,9*成績表1!$B$4-9))","v":0},{"$f":"SUM(OFFSET(テストデータ!E3,271,0):OFFSET(テストデータ!G3,271,0))","v":0},{"$f":"SUM(OFFSET(テストデータ!E3,271,0):OFFSET(テストデータ!I3,271,0))","v":0},{"$f":"SUM(OFFSET(テストデータ!N3,271,0):OFFSET(テストデータ!P3,271,0))","v":0},{"$f":"SUM(OFFSET(テストデータ!N3,271,0):OFFSET(テストデータ!R3,271,0))","v":0},{"$f":"SUM(OFFSET(テストデータ!W3,271,0):OFFSET(テストデータ!Y3,271,0))","v":0},{"$f":"SUM(OFFSET(テストデータ!W3,271,0):OFFSET(テストデータ!AA3,271,0))","v":0},{"$f":"SUM(OFFSET(テストデータ!AF3,271,0):OFFSET(テストデータ!AH3,271,0))","v":0},{"$f":"SUM(OFFSET(テストデータ!AF3,271,0):OFFSET(テストデータ!AJ3,271,0))","v":0},{"$f":"SUM(OFFSET(テストデータ!AO3,271,0):OFFSET(テストデータ!AQ3,271,0))","v":0},{"$f":"SUM(OFFSET(テストデータ!AO3,271,0):OFFSET(テストデータ!AS3,271,0))","v":0},{"$f":"SUM(OFFSET(テストデータ!AX3,271,0):OFFSET(テストデータ!AZ3,271,0))","v":0},{"$f":"SUM(OFFSET(テストデータ!AX3,271,0):OFFSET(テストデータ!BB3,271,0))","v":0},{"$f":"SUM(OFFSET(テストデータ!BG3,271,0):OFFSET(テストデータ!BI3,271,0))","v":0},{"$f":"SUM(OFFSET(テストデータ!BG3,271,0):OFFSET(テストデータ!BK3,271,0))","v":0},{"$f":"SUM(OFFSET(テストデータ!BL3,271,0):OFFSET(テストデータ!BN3,271,0))","v":0},{"$f":"SUM(OFFSET(テストデータ!BL3,271,0):OFFSET(テストデータ!BP3,271,0))","v":0},{"$f":"SUM(OFFSET(テストデータ!BQ3,271,0):OFFSET(テストデータ!BS3,271,0))","v":0},{"$f":"SUM(OFFSET(テストデータ!BQ3,271,0):OFFSET(テストデータ!BU3,271,0))","v":0},{"$f":"SUM(OFFSET(テストデータ!BV3,271,0):OFFSET(テストデータ!BX3,271,0))","v":0},{"$f":"SUM(OFFSET(テストデータ!BV3,271,0):OFFSET(テストデータ!BZ3,271,0))","v":0},{"$f":"SUM(OFFSET(テストデータ!CA3,271,0):OFFSET(テストデータ!CC3,271,0))","v":0},{"$f":"SUM(OFFSET(テストデータ!CA3,271,0):OFFSET(テストデータ!CE3,271,0))","v":0},{"$f":"SUM(OFFSET(テストデータ!CF3,271,0):OFFSET(テストデータ!CH3,271,0))","v":0},{"$f":"SUM(OFFSET(テストデータ!CF3,271,0):OFFSET(テストデータ!CJ3,271,0))","v":0},{"$f":"SUM(OFFSET(テストデータ!CK3,271,0):OFFSET(テストデータ!CM3,271,0))","v":0},{"$f":"SUM(OFFSET(テストデータ!CK3,271,0):OFFSET(テストデータ!CO3,271,0))","v":0},{"$f":"SUM(OFFSET(テストデータ!CP3,271,0):OFFSET(テストデータ!CR3,271,0))","v":0},{"$f":"SUM(OFFSET(テストデータ!CP3,271,0):OFFSET(テストデータ!CT3,271,0))","v":0}]
[null,null,null,null,null,null,null,null,null,null,null,null,null,{"$f":"SUM(OFFSET(テストデータ!$E3,272,9*成績表1!$B$4-9):OFFSET(テストデータ!$G3,272,9*成績表1!$B$4-9))","v":0},{"$f":"SUM(OFFSET(テストデータ!$E3,272,9*成績表1!$B$4-9):OFFSET(テストデータ!I3,272,9*成績表1!$B$4-9))","v":0},{"$f":"SUM(OFFSET(テストデータ!E3,272,0):OFFSET(テストデータ!G3,272,0))","v":0},{"$f":"SUM(OFFSET(テストデータ!E3,272,0):OFFSET(テストデータ!I3,272,0))","v":0},{"$f":"SUM(OFFSET(テストデータ!N3,272,0):OFFSET(テストデータ!P3,272,0))","v":0},{"$f":"SUM(OFFSET(テストデータ!N3,272,0):OFFSET(テストデータ!R3,272,0))","v":0},{"$f":"SUM(OFFSET(テストデータ!W3,272,0):OFFSET(テストデータ!Y3,272,0))","v":0},{"$f":"SUM(OFFSET(テストデータ!W3,272,0):OFFSET(テストデータ!AA3,272,0))","v":0},{"$f":"SUM(OFFSET(テストデータ!AF3,272,0):OFFSET(テストデータ!AH3,272,0))","v":0},{"$f":"SUM(OFFSET(テストデータ!AF3,272,0):OFFSET(テストデータ!AJ3,272,0))","v":0},{"$f":"SUM(OFFSET(テストデータ!AO3,272,0):OFFSET(テストデータ!AQ3,272,0))","v":0},{"$f":"SUM(OFFSET(テストデータ!AO3,272,0):OFFSET(テストデータ!AS3,272,0))","v":0},{"$f":"SUM(OFFSET(テストデータ!AX3,272,0):OFFSET(テストデータ!AZ3,272,0))","v":0},{"$f":"SUM(OFFSET(テストデータ!AX3,272,0):OFFSET(テストデータ!BB3,272,0))","v":0},{"$f":"SUM(OFFSET(テストデータ!BG3,272,0):OFFSET(テストデータ!BI3,272,0))","v":0},{"$f":"SUM(OFFSET(テストデータ!BG3,272,0):OFFSET(テストデータ!BK3,272,0))","v":0},{"$f":"SUM(OFFSET(テストデータ!BL3,272,0):OFFSET(テストデータ!BN3,272,0))","v":0},{"$f":"SUM(OFFSET(テストデータ!BL3,272,0):OFFSET(テストデータ!BP3,272,0))","v":0},{"$f":"SUM(OFFSET(テストデータ!BQ3,272,0):OFFSET(テストデータ!BS3,272,0))","v":0},{"$f":"SUM(OFFSET(テストデータ!BQ3,272,0):OFFSET(テストデータ!BU3,272,0))","v":0},{"$f":"SUM(OFFSET(テストデータ!BV3,272,0):OFFSET(テストデータ!BX3,272,0))","v":0},{"$f":"SUM(OFFSET(テストデータ!BV3,272,0):OFFSET(テストデータ!BZ3,272,0))","v":0},{"$f":"SUM(OFFSET(テストデータ!CA3,272,0):OFFSET(テストデータ!CC3,272,0))","v":0},{"$f":"SUM(OFFSET(テストデータ!CA3,272,0):OFFSET(テストデータ!CE3,272,0))","v":0},{"$f":"SUM(OFFSET(テストデータ!CF3,272,0):OFFSET(テストデータ!CH3,272,0))","v":0},{"$f":"SUM(OFFSET(テストデータ!CF3,272,0):OFFSET(テストデータ!CJ3,272,0))","v":0},{"$f":"SUM(OFFSET(テストデータ!CK3,272,0):OFFSET(テストデータ!CM3,272,0))","v":0},{"$f":"SUM(OFFSET(テストデータ!CK3,272,0):OFFSET(テストデータ!CO3,272,0))","v":0},{"$f":"SUM(OFFSET(テストデータ!CP3,272,0):OFFSET(テストデータ!CR3,272,0))","v":0},{"$f":"SUM(OFFSET(テストデータ!CP3,272,0):OFFSET(テストデータ!CT3,272,0))","v":0}]
[null,null,null,null,null,null,null,null,null,null,null,null,null,{"$f":"SUM(OFFSET(テストデータ!$E3,273,9*成績表1!$B$4-9):OFFSET(テストデータ!$G3,273,9*成績表1!$B$4-9))","v":0},{"$f":"SUM(OFFSET(テストデータ!$E3,273,9*成績表1!$B$4-9):OFFSET(テストデータ!I3,273,9*成績表1!$B$4-9))","v":0},{"$f":"SUM(OFFSET(テストデータ!E3,273,0):OFFSET(テストデータ!G3,273,0))","v":0},{"$f":"SUM(OFFSET(テストデータ!E3,273,0):OFFSET(テストデータ!I3,273,0))","v":0},{"$f":"SUM(OFFSET(テストデータ!N3,273,0):OFFSET(テストデータ!P3,273,0))","v":0},{"$f":"SUM(OFFSET(テストデータ!N3,273,0):OFFSET(テストデータ!R3,273,0))","v":0},{"$f":"SUM(OFFSET(テストデータ!W3,273,0):OFFSET(テストデータ!Y3,273,0))","v":0},{"$f":"SUM(OFFSET(テストデータ!W3,273,0):OFFSET(テストデータ!AA3,273,0))","v":0},{"$f":"SUM(OFFSET(テストデータ!AF3,273,0):OFFSET(テストデータ!AH3,273,0))","v":0},{"$f":"SUM(OFFSET(テストデータ!AF3,273,0):OFFSET(テストデータ!AJ3,273,0))","v":0},{"$f":"SUM(OFFSET(テストデータ!AO3,273,0):OFFSET(テストデータ!AQ3,273,0))","v":0},{"$f":"SUM(OFFSET(テストデータ!AO3,273,0):OFFSET(テストデータ!AS3,273,0))","v":0},{"$f":"SUM(OFFSET(テストデータ!AX3,273,0):OFFSET(テストデータ!AZ3,273,0))","v":0},{"$f":"SUM(OFFSET(テストデータ!AX3,273,0):OFFSET(テストデータ!BB3,273,0))","v":0},{"$f":"SUM(OFFSET(テストデータ!BG3,273,0):OFFSET(テストデータ!BI3,273,0))","v":0},{"$f":"SUM(OFFSET(テストデータ!BG3,273,0):OFFSET(テストデータ!BK3,273,0))","v":0},{"$f":"SUM(OFFSET(テストデータ!BL3,273,0):OFFSET(テストデータ!BN3,273,0))","v":0},{"$f":"SUM(OFFSET(テストデータ!BL3,273,0):OFFSET(テストデータ!BP3,273,0))","v":0},{"$f":"SUM(OFFSET(テストデータ!BQ3,273,0):OFFSET(テストデータ!BS3,273,0))","v":0},{"$f":"SUM(OFFSET(テストデータ!BQ3,273,0):OFFSET(テストデータ!BU3,273,0))","v":0},{"$f":"SUM(OFFSET(テストデータ!BV3,273,0):OFFSET(テストデータ!BX3,273,0))","v":0},{"$f":"SUM(OFFSET(テストデータ!BV3,273,0):OFFSET(テストデータ!BZ3,273,0))","v":0},{"$f":"SUM(OFFSET(テストデータ!CA3,273,0):OFFSET(テストデータ!CC3,273,0))","v":0},{"$f":"SUM(OFFSET(テストデータ!CA3,273,0):OFFSET(テストデータ!CE3,273,0))","v":0},{"$f":"SUM(OFFSET(テストデータ!CF3,273,0):OFFSET(テストデータ!CH3,273,0))","v":0},{"$f":"SUM(OFFSET(テストデータ!CF3,273,0):OFFSET(テストデータ!CJ3,273,0))","v":0},{"$f":"SUM(OFFSET(テストデータ!CK3,273,0):OFFSET(テストデータ!CM3,273,0))","v":0},{"$f":"SUM(OFFSET(テストデータ!CK3,273,0):OFFSET(テストデータ!CO3,273,0))","v":0},{"$f":"SUM(OFFSET(テストデータ!CP3,273,0):OFFSET(テストデータ!CR3,273,0))","v":0},{"$f":"SUM(OFFSET(テストデータ!CP3,273,0):OFFSET(テストデータ!CT3,273,0))","v":0}]
[null,null,null,null,null,null,null,null,null,null,null,null,null,{"$f":"SUM(OFFSET(テストデータ!$E3,274,9*成績表1!$B$4-9):OFFSET(テストデータ!$G3,274,9*成績表1!$B$4-9))","v":0},{"$f":"SUM(OFFSET(テストデータ!$E3,274,9*成績表1!$B$4-9):OFFSET(テストデータ!I3,274,9*成績表1!$B$4-9))","v":0},{"$f":"SUM(OFFSET(テストデータ!E3,274,0):OFFSET(テストデータ!G3,274,0))","v":0},{"$f":"SUM(OFFSET(テストデータ!E3,274,0):OFFSET(テストデータ!I3,274,0))","v":0},{"$f":"SUM(OFFSET(テストデータ!N3,274,0):OFFSET(テストデータ!P3,274,0))","v":0},{"$f":"SUM(OFFSET(テストデータ!N3,274,0):OFFSET(テストデータ!R3,274,0))","v":0},{"$f":"SUM(OFFSET(テストデータ!W3,274,0):OFFSET(テストデータ!Y3,274,0))","v":0},{"$f":"SUM(OFFSET(テストデータ!W3,274,0):OFFSET(テストデータ!AA3,274,0))","v":0},{"$f":"SUM(OFFSET(テストデータ!AF3,274,0):OFFSET(テストデータ!AH3,274,0))","v":0},{"$f":"SUM(OFFSET(テストデータ!AF3,274,0):OFFSET(テストデータ!AJ3,274,0))","v":0},{"$f":"SUM(OFFSET(テストデータ!AO3,274,0):OFFSET(テストデータ!AQ3,274,0))","v":0},{"$f":"SUM(OFFSET(テストデータ!AO3,274,0):OFFSET(テストデータ!AS3,274,0))","v":0},{"$f":"SUM(OFFSET(テストデータ!AX3,274,0):OFFSET(テストデータ!AZ3,274,0))","v":0},{"$f":"SUM(OFFSET(テストデータ!AX3,274,0):OFFSET(テストデータ!BB3,274,0))","v":0},{"$f":"SUM(OFFSET(テストデータ!BG3,274,0):OFFSET(テストデータ!BI3,274,0))","v":0},{"$f":"SUM(OFFSET(テストデータ!BG3,274,0):OFFSET(テストデータ!BK3,274,0))","v":0},{"$f":"SUM(OFFSET(テストデータ!BL3,274,0):OFFSET(テストデータ!BN3,274,0))","v":0},{"$f":"SUM(OFFSET(テストデータ!BL3,274,0):OFFSET(テストデータ!BP3,274,0))","v":0},{"$f":"SUM(OFFSET(テストデータ!BQ3,274,0):OFFSET(テストデータ!BS3,274,0))","v":0},{"$f":"SUM(OFFSET(テストデータ!BQ3,274,0):OFFSET(テストデータ!BU3,274,0))","v":0},{"$f":"SUM(OFFSET(テストデータ!BV3,274,0):OFFSET(テストデータ!BX3,274,0))","v":0},{"$f":"SUM(OFFSET(テストデータ!BV3,274,0):OFFSET(テストデータ!BZ3,274,0))","v":0},{"$f":"SUM(OFFSET(テストデータ!CA3,274,0):OFFSET(テストデータ!CC3,274,0))","v":0},{"$f":"SUM(OFFSET(テストデータ!CA3,274,0):OFFSET(テストデータ!CE3,274,0))","v":0},{"$f":"SUM(OFFSET(テストデータ!CF3,274,0):OFFSET(テストデータ!CH3,274,0))","v":0},{"$f":"SUM(OFFSET(テストデータ!CF3,274,0):OFFSET(テストデータ!CJ3,274,0))","v":0},{"$f":"SUM(OFFSET(テストデータ!CK3,274,0):OFFSET(テストデータ!CM3,274,0))","v":0},{"$f":"SUM(OFFSET(テストデータ!CK3,274,0):OFFSET(テストデータ!CO3,274,0))","v":0},{"$f":"SUM(OFFSET(テストデータ!CP3,274,0):OFFSET(テストデータ!CR3,274,0))","v":0},{"$f":"SUM(OFFSET(テストデータ!CP3,274,0):OFFSET(テストデータ!CT3,274,0))","v":0}]
[null,null,null,null,null,null,null,null,null,null,null,null,null,{"$f":"SUM(OFFSET(テストデータ!$E3,275,9*成績表1!$B$4-9):OFFSET(テストデータ!$G3,275,9*成績表1!$B$4-9))","v":0},{"$f":"SUM(OFFSET(テストデータ!$E3,275,9*成績表1!$B$4-9):OFFSET(テストデータ!I3,275,9*成績表1!$B$4-9))","v":0},{"$f":"SUM(OFFSET(テストデータ!E3,275,0):OFFSET(テストデータ!G3,275,0))","v":0},{"$f":"SUM(OFFSET(テストデータ!E3,275,0):OFFSET(テストデータ!I3,275,0))","v":0},{"$f":"SUM(OFFSET(テストデータ!N3,275,0):OFFSET(テストデータ!P3,275,0))","v":0},{"$f":"SUM(OFFSET(テストデータ!N3,275,0):OFFSET(テストデータ!R3,275,0))","v":0},{"$f":"SUM(OFFSET(テストデータ!W3,275,0):OFFSET(テストデータ!Y3,275,0))","v":0},{"$f":"SUM(OFFSET(テストデータ!W3,275,0):OFFSET(テストデータ!AA3,275,0))","v":0},{"$f":"SUM(OFFSET(テストデータ!AF3,275,0):OFFSET(テストデータ!AH3,275,0))","v":0},{"$f":"SUM(OFFSET(テストデータ!AF3,275,0):OFFSET(テストデータ!AJ3,275,0))","v":0},{"$f":"SUM(OFFSET(テストデータ!AO3,275,0):OFFSET(テストデータ!AQ3,275,0))","v":0},{"$f":"SUM(OFFSET(テストデータ!AO3,275,0):OFFSET(テストデータ!AS3,275,0))","v":0},{"$f":"SUM(OFFSET(テストデータ!AX3,275,0):OFFSET(テストデータ!AZ3,275,0))","v":0},{"$f":"SUM(OFFSET(テストデータ!AX3,275,0):OFFSET(テストデータ!BB3,275,0))","v":0},{"$f":"SUM(OFFSET(テストデータ!BG3,275,0):OFFSET(テストデータ!BI3,275,0))","v":0},{"$f":"SUM(OFFSET(テストデータ!BG3,275,0):OFFSET(テストデータ!BK3,275,0))","v":0},{"$f":"SUM(OFFSET(テストデータ!BL3,275,0):OFFSET(テストデータ!BN3,275,0))","v":0},{"$f":"SUM(OFFSET(テストデータ!BL3,275,0):OFFSET(テストデータ!BP3,275,0))","v":0},{"$f":"SUM(OFFSET(テストデータ!BQ3,275,0):OFFSET(テストデータ!BS3,275,0))","v":0},{"$f":"SUM(OFFSET(テストデータ!BQ3,275,0):OFFSET(テストデータ!BU3,275,0))","v":0},{"$f":"SUM(OFFSET(テストデータ!BV3,275,0):OFFSET(テストデータ!BX3,275,0))","v":0},{"$f":"SUM(OFFSET(テストデータ!BV3,275,0):OFFSET(テストデータ!BZ3,275,0))","v":0},{"$f":"SUM(OFFSET(テストデータ!CA3,275,0):OFFSET(テストデータ!CC3,275,0))","v":0},{"$f":"SUM(OFFSET(テストデータ!CA3,275,0):OFFSET(テストデータ!CE3,275,0))","v":0},{"$f":"SUM(OFFSET(テストデータ!CF3,275,0):OFFSET(テストデータ!CH3,275,0))","v":0},{"$f":"SUM(OFFSET(テストデータ!CF3,275,0):OFFSET(テストデータ!CJ3,275,0))","v":0},{"$f":"SUM(OFFSET(テストデータ!CK3,275,0):OFFSET(テストデータ!CM3,275,0))","v":0},{"$f":"SUM(OFFSET(テストデータ!CK3,275,0):OFFSET(テストデータ!CO3,275,0))","v":0},{"$f":"SUM(OFFSET(テストデータ!CP3,275,0):OFFSET(テストデータ!CR3,275,0))","v":0},{"$f":"SUM(OFFSET(テストデータ!CP3,275,0):OFFSET(テストデータ!CT3,275,0))","v":0}]
[null,null,null,null,null,null,null,null,null,null,null,null,null,{"$f":"SUM(OFFSET(テストデータ!$E3,276,9*成績表1!$B$4-9):OFFSET(テストデータ!$G3,276,9*成績表1!$B$4-9))","v":0},{"$f":"SUM(OFFSET(テストデータ!$E3,276,9*成績表1!$B$4-9):OFFSET(テストデータ!I3,276,9*成績表1!$B$4-9))","v":0},{"$f":"SUM(OFFSET(テストデータ!E3,276,0):OFFSET(テストデータ!G3,276,0))","v":0},{"$f":"SUM(OFFSET(テストデータ!E3,276,0):OFFSET(テストデータ!I3,276,0))","v":0},{"$f":"SUM(OFFSET(テストデータ!N3,276,0):OFFSET(テストデータ!P3,276,0))","v":0},{"$f":"SUM(OFFSET(テストデータ!N3,276,0):OFFSET(テストデータ!R3,276,0))","v":0},{"$f":"SUM(OFFSET(テストデータ!W3,276,0):OFFSET(テストデータ!Y3,276,0))","v":0},{"$f":"SUM(OFFSET(テストデータ!W3,276,0):OFFSET(テストデータ!AA3,276,0))","v":0},{"$f":"SUM(OFFSET(テストデータ!AF3,276,0):OFFSET(テストデータ!AH3,276,0))","v":0},{"$f":"SUM(OFFSET(テストデータ!AF3,276,0):OFFSET(テストデータ!AJ3,276,0))","v":0},{"$f":"SUM(OFFSET(テストデータ!AO3,276,0):OFFSET(テストデータ!AQ3,276,0))","v":0},{"$f":"SUM(OFFSET(テストデータ!AO3,276,0):OFFSET(テストデータ!AS3,276,0))","v":0},{"$f":"SUM(OFFSET(テストデータ!AX3,276,0):OFFSET(テストデータ!AZ3,276,0))","v":0},{"$f":"SUM(OFFSET(テストデータ!AX3,276,0):OFFSET(テストデータ!BB3,276,0))","v":0},{"$f":"SUM(OFFSET(テストデータ!BG3,276,0):OFFSET(テストデータ!BI3,276,0))","v":0},{"$f":"SUM(OFFSET(テストデータ!BG3,276,0):OFFSET(テストデータ!BK3,276,0))","v":0},{"$f":"SUM(OFFSET(テストデータ!BL3,276,0):OFFSET(テストデータ!BN3,276,0))","v":0},{"$f":"SUM(OFFSET(テストデータ!BL3,276,0):OFFSET(テストデータ!BP3,276,0))","v":0},{"$f":"SUM(OFFSET(テストデータ!BQ3,276,0):OFFSET(テストデータ!BS3,276,0))","v":0},{"$f":"SUM(OFFSET(テストデータ!BQ3,276,0):OFFSET(テストデータ!BU3,276,0))","v":0},{"$f":"SUM(OFFSET(テストデータ!BV3,276,0):OFFSET(テストデータ!BX3,276,0))","v":0},{"$f":"SUM(OFFSET(テストデータ!BV3,276,0):OFFSET(テストデータ!BZ3,276,0))","v":0},{"$f":"SUM(OFFSET(テストデータ!CA3,276,0):OFFSET(テストデータ!CC3,276,0))","v":0},{"$f":"SUM(OFFSET(テストデータ!CA3,276,0):OFFSET(テストデータ!CE3,276,0))","v":0},{"$f":"SUM(OFFSET(テストデータ!CF3,276,0):OFFSET(テストデータ!CH3,276,0))","v":0},{"$f":"SUM(OFFSET(テストデータ!CF3,276,0):OFFSET(テストデータ!CJ3,276,0))","v":0},{"$f":"SUM(OFFSET(テストデータ!CK3,276,0):OFFSET(テストデータ!CM3,276,0))","v":0},{"$f":"SUM(OFFSET(テストデータ!CK3,276,0):OFFSET(テストデータ!CO3,276,0))","v":0},{"$f":"SUM(OFFSET(テストデータ!CP3,276,0):OFFSET(テストデータ!CR3,276,0))","v":0},{"$f":"SUM(OFFSET(テストデータ!CP3,276,0):OFFSET(テストデータ!CT3,276,0))","v":0}]
[null,null,null,null,null,null,null,null,null,null,null,null,null,{"$f":"SUM(OFFSET(テストデータ!$E3,277,9*成績表1!$B$4-9):OFFSET(テストデータ!$G3,277,9*成績表1!$B$4-9))","v":0},{"$f":"SUM(OFFSET(テストデータ!$E3,277,9*成績表1!$B$4-9):OFFSET(テストデータ!I3,277,9*成績表1!$B$4-9))","v":0},{"$f":"SUM(OFFSET(テストデータ!E3,277,0):OFFSET(テストデータ!G3,277,0))","v":0},{"$f":"SUM(OFFSET(テストデータ!E3,277,0):OFFSET(テストデータ!I3,277,0))","v":0},{"$f":"SUM(OFFSET(テストデータ!N3,277,0):OFFSET(テストデータ!P3,277,0))","v":0},{"$f":"SUM(OFFSET(テストデータ!N3,277,0):OFFSET(テストデータ!R3,277,0))","v":0},{"$f":"SUM(OFFSET(テストデータ!W3,277,0):OFFSET(テストデータ!Y3,277,0))","v":0},{"$f":"SUM(OFFSET(テストデータ!W3,277,0):OFFSET(テストデータ!AA3,277,0))","v":0},{"$f":"SUM(OFFSET(テストデータ!AF3,277,0):OFFSET(テストデータ!AH3,277,0))","v":0},{"$f":"SUM(OFFSET(テストデータ!AF3,277,0):OFFSET(テストデータ!AJ3,277,0))","v":0},{"$f":"SUM(OFFSET(テストデータ!AO3,277,0):OFFSET(テストデータ!AQ3,277,0))","v":0},{"$f":"SUM(OFFSET(テストデータ!AO3,277,0):OFFSET(テストデータ!AS3,277,0))","v":0},{"$f":"SUM(OFFSET(テストデータ!AX3,277,0):OFFSET(テストデータ!AZ3,277,0))","v":0},{"$f":"SUM(OFFSET(テストデータ!AX3,277,0):OFFSET(テストデータ!BB3,277,0))","v":0},{"$f":"SUM(OFFSET(テストデータ!BG3,277,0):OFFSET(テストデータ!BI3,277,0))","v":0},{"$f":"SUM(OFFSET(テストデータ!BG3,277,0):OFFSET(テストデータ!BK3,277,0))","v":0},{"$f":"SUM(OFFSET(テストデータ!BL3,277,0):OFFSET(テストデータ!BN3,277,0))","v":0},{"$f":"SUM(OFFSET(テストデータ!BL3,277,0):OFFSET(テストデータ!BP3,277,0))","v":0},{"$f":"SUM(OFFSET(テストデータ!BQ3,277,0):OFFSET(テストデータ!BS3,277,0))","v":0},{"$f":"SUM(OFFSET(テストデータ!BQ3,277,0):OFFSET(テストデータ!BU3,277,0))","v":0},{"$f":"SUM(OFFSET(テストデータ!BV3,277,0):OFFSET(テストデータ!BX3,277,0))","v":0},{"$f":"SUM(OFFSET(テストデータ!BV3,277,0):OFFSET(テストデータ!BZ3,277,0))","v":0},{"$f":"SUM(OFFSET(テストデータ!CA3,277,0):OFFSET(テストデータ!CC3,277,0))","v":0},{"$f":"SUM(OFFSET(テストデータ!CA3,277,0):OFFSET(テストデータ!CE3,277,0))","v":0},{"$f":"SUM(OFFSET(テストデータ!CF3,277,0):OFFSET(テストデータ!CH3,277,0))","v":0},{"$f":"SUM(OFFSET(テストデータ!CF3,277,0):OFFSET(テストデータ!CJ3,277,0))","v":0},{"$f":"SUM(OFFSET(テストデータ!CK3,277,0):OFFSET(テストデータ!CM3,277,0))","v":0},{"$f":"SUM(OFFSET(テストデータ!CK3,277,0):OFFSET(テストデータ!CO3,277,0))","v":0},{"$f":"SUM(OFFSET(テストデータ!CP3,277,0):OFFSET(テストデータ!CR3,277,0))","v":0},{"$f":"SUM(OFFSET(テストデータ!CP3,277,0):OFFSET(テストデータ!CT3,277,0))","v":0}]
[null,null,null,null,null,null,null,null,null,null,null,null,null,{"$f":"SUM(OFFSET(テストデータ!$E3,278,9*成績表1!$B$4-9):OFFSET(テストデータ!$G3,278,9*成績表1!$B$4-9))","v":0},{"$f":"SUM(OFFSET(テストデータ!$E3,278,9*成績表1!$B$4-9):OFFSET(テストデータ!I3,278,9*成績表1!$B$4-9))","v":0},{"$f":"SUM(OFFSET(テストデータ!E3,278,0):OFFSET(テストデータ!G3,278,0))","v":0},{"$f":"SUM(OFFSET(テストデータ!E3,278,0):OFFSET(テストデータ!I3,278,0))","v":0},{"$f":"SUM(OFFSET(テストデータ!N3,278,0):OFFSET(テストデータ!P3,278,0))","v":0},{"$f":"SUM(OFFSET(テストデータ!N3,278,0):OFFSET(テストデータ!R3,278,0))","v":0},{"$f":"SUM(OFFSET(テストデータ!W3,278,0):OFFSET(テストデータ!Y3,278,0))","v":0},{"$f":"SUM(OFFSET(テストデータ!W3,278,0):OFFSET(テストデータ!AA3,278,0))","v":0},{"$f":"SUM(OFFSET(テストデータ!AF3,278,0):OFFSET(テストデータ!AH3,278,0))","v":0},{"$f":"SUM(OFFSET(テストデータ!AF3,278,0):OFFSET(テストデータ!AJ3,278,0))","v":0},{"$f":"SUM(OFFSET(テストデータ!AO3,278,0):OFFSET(テストデータ!AQ3,278,0))","v":0},{"$f":"SUM(OFFSET(テストデータ!AO3,278,0):OFFSET(テストデータ!AS3,278,0))","v":0},{"$f":"SUM(OFFSET(テストデータ!AX3,278,0):OFFSET(テストデータ!AZ3,278,0))","v":0},{"$f":"SUM(OFFSET(テストデータ!AX3,278,0):OFFSET(テストデータ!BB3,278,0))","v":0},{"$f":"SUM(OFFSET(テストデータ!BG3,278,0):OFFSET(テストデータ!BI3,278,0))","v":0},{"$f":"SUM(OFFSET(テストデータ!BG3,278,0):OFFSET(テストデータ!BK3,278,0))","v":0},{"$f":"SUM(OFFSET(テストデータ!BL3,278,0):OFFSET(テストデータ!BN3,278,0))","v":0},{"$f":"SUM(OFFSET(テストデータ!BL3,278,0):OFFSET(テストデータ!BP3,278,0))","v":0},{"$f":"SUM(OFFSET(テストデータ!BQ3,278,0):OFFSET(テストデータ!BS3,278,0))","v":0},{"$f":"SUM(OFFSET(テストデータ!BQ3,278,0):OFFSET(テストデータ!BU3,278,0))","v":0},{"$f":"SUM(OFFSET(テストデータ!BV3,278,0):OFFSET(テストデータ!BX3,278,0))","v":0},{"$f":"SUM(OFFSET(テストデータ!BV3,278,0):OFFSET(テストデータ!BZ3,278,0))","v":0},{"$f":"SUM(OFFSET(テストデータ!CA3,278,0):OFFSET(テストデータ!CC3,278,0))","v":0},{"$f":"SUM(OFFSET(テストデータ!CA3,278,0):OFFSET(テストデータ!CE3,278,0))","v":0},{"$f":"SUM(OFFSET(テストデータ!CF3,278,0):OFFSET(テストデータ!CH3,278,0))","v":0},{"$f":"SUM(OFFSET(テストデータ!CF3,278,0):OFFSET(テストデータ!CJ3,278,0))","v":0},{"$f":"SUM(OFFSET(テストデータ!CK3,278,0):OFFSET(テストデータ!CM3,278,0))","v":0},{"$f":"SUM(OFFSET(テストデータ!CK3,278,0):OFFSET(テストデータ!CO3,278,0))","v":0},{"$f":"SUM(OFFSET(テストデータ!CP3,278,0):OFFSET(テストデータ!CR3,278,0))","v":0},{"$f":"SUM(OFFSET(テストデータ!CP3,278,0):OFFSET(テストデータ!CT3,278,0))","v":0}]
[null,null,null,null,null,null,null,null,null,null,null,null,null,{"$f":"SUM(OFFSET(テストデータ!$E3,279,9*成績表1!$B$4-9):OFFSET(テストデータ!$G3,279,9*成績表1!$B$4-9))","v":0},{"$f":"SUM(OFFSET(テストデータ!$E3,279,9*成績表1!$B$4-9):OFFSET(テストデータ!I3,279,9*成績表1!$B$4-9))","v":0},{"$f":"SUM(OFFSET(テストデータ!E3,279,0):OFFSET(テストデータ!G3,279,0))","v":0},{"$f":"SUM(OFFSET(テストデータ!E3,279,0):OFFSET(テストデータ!I3,279,0))","v":0},{"$f":"SUM(OFFSET(テストデータ!N3,279,0):OFFSET(テストデータ!P3,279,0))","v":0},{"$f":"SUM(OFFSET(テストデータ!N3,279,0):OFFSET(テストデータ!R3,279,0))","v":0},{"$f":"SUM(OFFSET(テストデータ!W3,279,0):OFFSET(テストデータ!Y3,279,0))","v":0},{"$f":"SUM(OFFSET(テストデータ!W3,279,0):OFFSET(テストデータ!AA3,279,0))","v":0},{"$f":"SUM(OFFSET(テストデータ!AF3,279,0):OFFSET(テストデータ!AH3,279,0))","v":0},{"$f":"SUM(OFFSET(テストデータ!AF3,279,0):OFFSET(テストデータ!AJ3,279,0))","v":0},{"$f":"SUM(OFFSET(テストデータ!AO3,279,0):OFFSET(テストデータ!AQ3,279,0))","v":0},{"$f":"SUM(OFFSET(テストデータ!AO3,279,0):OFFSET(テストデータ!AS3,279,0))","v":0},{"$f":"SUM(OFFSET(テストデータ!AX3,279,0):OFFSET(テストデータ!AZ3,279,0))","v":0},{"$f":"SUM(OFFSET(テストデータ!AX3,279,0):OFFSET(テストデータ!BB3,279,0))","v":0},{"$f":"SUM(OFFSET(テストデータ!BG3,279,0):OFFSET(テストデータ!BI3,279,0))","v":0},{"$f":"SUM(OFFSET(テストデータ!BG3,279,0):OFFSET(テストデータ!BK3,279,0))","v":0},{"$f":"SUM(OFFSET(テストデータ!BL3,279,0):OFFSET(テストデータ!BN3,279,0))","v":0},{"$f":"SUM(OFFSET(テストデータ!BL3,279,0):OFFSET(テストデータ!BP3,279,0))","v":0},{"$f":"SUM(OFFSET(テストデータ!BQ3,279,0):OFFSET(テストデータ!BS3,279,0))","v":0},{"$f":"SUM(OFFSET(テストデータ!BQ3,279,0):OFFSET(テストデータ!BU3,279,0))","v":0},{"$f":"SUM(OFFSET(テストデータ!BV3,279,0):OFFSET(テストデータ!BX3,279,0))","v":0},{"$f":"SUM(OFFSET(テストデータ!BV3,279,0):OFFSET(テストデータ!BZ3,279,0))","v":0},{"$f":"SUM(OFFSET(テストデータ!CA3,279,0):OFFSET(テストデータ!CC3,279,0))","v":0},{"$f":"SUM(OFFSET(テストデータ!CA3,279,0):OFFSET(テストデータ!CE3,279,0))","v":0},{"$f":"SUM(OFFSET(テストデータ!CF3,279,0):OFFSET(テストデータ!CH3,279,0))","v":0},{"$f":"SUM(OFFSET(テストデータ!CF3,279,0):OFFSET(テストデータ!CJ3,279,0))","v":0},{"$f":"SUM(OFFSET(テストデータ!CK3,279,0):OFFSET(テストデータ!CM3,279,0))","v":0},{"$f":"SUM(OFFSET(テストデータ!CK3,279,0):OFFSET(テストデータ!CO3,279,0))","v":0},{"$f":"SUM(OFFSET(テストデータ!CP3,279,0):OFFSET(テストデータ!CR3,279,0))","v":0},{"$f":"SUM(OFFSET(テストデータ!CP3,279,0):OFFSET(テストデータ!CT3,279,0))","v":0}]
[null,null,null,null,null,null,null,null,null,null,null,null,null,{"$f":"SUM(OFFSET(テストデータ!$E3,280,9*成績表1!$B$4-9):OFFSET(テストデータ!$G3,280,9*成績表1!$B$4-9))","v":0},{"$f":"SUM(OFFSET(テストデータ!$E3,280,9*成績表1!$B$4-9):OFFSET(テストデータ!I3,280,9*成績表1!$B$4-9))","v":0},{"$f":"SUM(OFFSET(テストデータ!E3,280,0):OFFSET(テストデータ!G3,280,0))","v":0},{"$f":"SUM(OFFSET(テストデータ!E3,280,0):OFFSET(テストデータ!I3,280,0))","v":0},{"$f":"SUM(OFFSET(テストデータ!N3,280,0):OFFSET(テストデータ!P3,280,0))","v":0},{"$f":"SUM(OFFSET(テストデータ!N3,280,0):OFFSET(テストデータ!R3,280,0))","v":0},{"$f":"SUM(OFFSET(テストデータ!W3,280,0):OFFSET(テストデータ!Y3,280,0))","v":0},{"$f":"SUM(OFFSET(テストデータ!W3,280,0):OFFSET(テストデータ!AA3,280,0))","v":0},{"$f":"SUM(OFFSET(テストデータ!AF3,280,0):OFFSET(テストデータ!AH3,280,0))","v":0},{"$f":"SUM(OFFSET(テストデータ!AF3,280,0):OFFSET(テストデータ!AJ3,280,0))","v":0},{"$f":"SUM(OFFSET(テストデータ!AO3,280,0):OFFSET(テストデータ!AQ3,280,0))","v":0},{"$f":"SUM(OFFSET(テストデータ!AO3,280,0):OFFSET(テストデータ!AS3,280,0))","v":0},{"$f":"SUM(OFFSET(テストデータ!AX3,280,0):OFFSET(テストデータ!AZ3,280,0))","v":0},{"$f":"SUM(OFFSET(テストデータ!AX3,280,0):OFFSET(テストデータ!BB3,280,0))","v":0},{"$f":"SUM(OFFSET(テストデータ!BG3,280,0):OFFSET(テストデータ!BI3,280,0))","v":0},{"$f":"SUM(OFFSET(テストデータ!BG3,280,0):OFFSET(テストデータ!BK3,280,0))","v":0},{"$f":"SUM(OFFSET(テストデータ!BL3,280,0):OFFSET(テストデータ!BN3,280,0))","v":0},{"$f":"SUM(OFFSET(テストデータ!BL3,280,0):OFFSET(テストデータ!BP3,280,0))","v":0},{"$f":"SUM(OFFSET(テストデータ!BQ3,280,0):OFFSET(テストデータ!BS3,280,0))","v":0},{"$f":"SUM(OFFSET(テストデータ!BQ3,280,0):OFFSET(テストデータ!BU3,280,0))","v":0},{"$f":"SUM(OFFSET(テストデータ!BV3,280,0):OFFSET(テストデータ!BX3,280,0))","v":0},{"$f":"SUM(OFFSET(テストデータ!BV3,280,0):OFFSET(テストデータ!BZ3,280,0))","v":0},{"$f":"SUM(OFFSET(テストデータ!CA3,280,0):OFFSET(テストデータ!CC3,280,0))","v":0},{"$f":"SUM(OFFSET(テストデータ!CA3,280,0):OFFSET(テストデータ!CE3,280,0))","v":0},{"$f":"SUM(OFFSET(テストデータ!CF3,280,0):OFFSET(テストデータ!CH3,280,0))","v":0},{"$f":"SUM(OFFSET(テストデータ!CF3,280,0):OFFSET(テストデータ!CJ3,280,0))","v":0},{"$f":"SUM(OFFSET(テストデータ!CK3,280,0):OFFSET(テストデータ!CM3,280,0))","v":0},{"$f":"SUM(OFFSET(テストデータ!CK3,280,0):OFFSET(テストデータ!CO3,280,0))","v":0},{"$f":"SUM(OFFSET(テストデータ!CP3,280,0):OFFSET(テストデータ!CR3,280,0))","v":0},{"$f":"SUM(OFFSET(テストデータ!CP3,280,0):OFFSET(テストデータ!CT3,280,0))","v":0}]
[null,null,null,null,null,null,null,null,null,null,null,null,null,{"$f":"SUM(OFFSET(テストデータ!$E3,281,9*成績表1!$B$4-9):OFFSET(テストデータ!$G3,281,9*成績表1!$B$4-9))","v":0},{"$f":"SUM(OFFSET(テストデータ!$E3,281,9*成績表1!$B$4-9):OFFSET(テストデータ!I3,281,9*成績表1!$B$4-9))","v":0},{"$f":"SUM(OFFSET(テストデータ!E3,281,0):OFFSET(テストデータ!G3,281,0))","v":0},{"$f":"SUM(OFFSET(テストデータ!E3,281,0):OFFSET(テストデータ!I3,281,0))","v":0},{"$f":"SUM(OFFSET(テストデータ!N3,281,0):OFFSET(テストデータ!P3,281,0))","v":0},{"$f":"SUM(OFFSET(テストデータ!N3,281,0):OFFSET(テストデータ!R3,281,0))","v":0},{"$f":"SUM(OFFSET(テストデータ!W3,281,0):OFFSET(テストデータ!Y3,281,0))","v":0},{"$f":"SUM(OFFSET(テストデータ!W3,281,0):OFFSET(テストデータ!AA3,281,0))","v":0},{"$f":"SUM(OFFSET(テストデータ!AF3,281,0):OFFSET(テストデータ!AH3,281,0))","v":0},{"$f":"SUM(OFFSET(テストデータ!AF3,281,0):OFFSET(テストデータ!AJ3,281,0))","v":0},{"$f":"SUM(OFFSET(テストデータ!AO3,281,0):OFFSET(テストデータ!AQ3,281,0))","v":0},{"$f":"SUM(OFFSET(テストデータ!AO3,281,0):OFFSET(テストデータ!AS3,281,0))","v":0},{"$f":"SUM(OFFSET(テストデータ!AX3,281,0):OFFSET(テストデータ!AZ3,281,0))","v":0},{"$f":"SUM(OFFSET(テストデータ!AX3,281,0):OFFSET(テストデータ!BB3,281,0))","v":0},{"$f":"SUM(OFFSET(テストデータ!BG3,281,0):OFFSET(テストデータ!BI3,281,0))","v":0},{"$f":"SUM(OFFSET(テストデータ!BG3,281,0):OFFSET(テストデータ!BK3,281,0))","v":0},{"$f":"SUM(OFFSET(テストデータ!BL3,281,0):OFFSET(テストデータ!BN3,281,0))","v":0},{"$f":"SUM(OFFSET(テストデータ!BL3,281,0):OFFSET(テストデータ!BP3,281,0))","v":0},{"$f":"SUM(OFFSET(テストデータ!BQ3,281,0):OFFSET(テストデータ!BS3,281,0))","v":0},{"$f":"SUM(OFFSET(テストデータ!BQ3,281,0):OFFSET(テストデータ!BU3,281,0))","v":0},{"$f":"SUM(OFFSET(テストデータ!BV3,281,0):OFFSET(テストデータ!BX3,281,0))","v":0},{"$f":"SUM(OFFSET(テストデータ!BV3,281,0):OFFSET(テストデータ!BZ3,281,0))","v":0},{"$f":"SUM(OFFSET(テストデータ!CA3,281,0):OFFSET(テストデータ!CC3,281,0))","v":0},{"$f":"SUM(OFFSET(テストデータ!CA3,281,0):OFFSET(テストデータ!CE3,281,0))","v":0},{"$f":"SUM(OFFSET(テストデータ!CF3,281,0):OFFSET(テストデータ!CH3,281,0))","v":0},{"$f":"SUM(OFFSET(テストデータ!CF3,281,0):OFFSET(テストデータ!CJ3,281,0))","v":0},{"$f":"SUM(OFFSET(テストデータ!CK3,281,0):OFFSET(テストデータ!CM3,281,0))","v":0},{"$f":"SUM(OFFSET(テストデータ!CK3,281,0):OFFSET(テストデータ!CO3,281,0))","v":0},{"$f":"SUM(OFFSET(テストデータ!CP3,281,0):OFFSET(テストデータ!CR3,281,0))","v":0},{"$f":"SUM(OFFSET(テストデータ!CP3,281,0):OFFSET(テストデータ!CT3,281,0))","v":0}]
[null,null,null,null,null,null,null,null,null,null,null,null,null,{"$f":"SUM(OFFSET(テストデータ!$E3,282,9*成績表1!$B$4-9):OFFSET(テストデータ!$G3,282,9*成績表1!$B$4-9))","v":0},{"$f":"SUM(OFFSET(テストデータ!$E3,282,9*成績表1!$B$4-9):OFFSET(テストデータ!I3,282,9*成績表1!$B$4-9))","v":0},{"$f":"SUM(OFFSET(テストデータ!E3,282,0):OFFSET(テストデータ!G3,282,0))","v":0},{"$f":"SUM(OFFSET(テストデータ!E3,282,0):OFFSET(テストデータ!I3,282,0))","v":0},{"$f":"SUM(OFFSET(テストデータ!N3,282,0):OFFSET(テストデータ!P3,282,0))","v":0},{"$f":"SUM(OFFSET(テストデータ!N3,282,0):OFFSET(テストデータ!R3,282,0))","v":0},{"$f":"SUM(OFFSET(テストデータ!W3,282,0):OFFSET(テストデータ!Y3,282,0))","v":0},{"$f":"SUM(OFFSET(テストデータ!W3,282,0):OFFSET(テストデータ!AA3,282,0))","v":0},{"$f":"SUM(OFFSET(テストデータ!AF3,282,0):OFFSET(テストデータ!AH3,282,0))","v":0},{"$f":"SUM(OFFSET(テストデータ!AF3,282,0):OFFSET(テストデータ!AJ3,282,0))","v":0},{"$f":"SUM(OFFSET(テストデータ!AO3,282,0):OFFSET(テストデータ!AQ3,282,0))","v":0},{"$f":"SUM(OFFSET(テストデータ!AO3,282,0):OFFSET(テストデータ!AS3,282,0))","v":0},{"$f":"SUM(OFFSET(テストデータ!AX3,282,0):OFFSET(テストデータ!AZ3,282,0))","v":0},{"$f":"SUM(OFFSET(テストデータ!AX3,282,0):OFFSET(テストデータ!BB3,282,0))","v":0},{"$f":"SUM(OFFSET(テストデータ!BG3,282,0):OFFSET(テストデータ!BI3,282,0))","v":0},{"$f":"SUM(OFFSET(テストデータ!BG3,282,0):OFFSET(テストデータ!BK3,282,0))","v":0},{"$f":"SUM(OFFSET(テストデータ!BL3,282,0):OFFSET(テストデータ!BN3,282,0))","v":0},{"$f":"SUM(OFFSET(テストデータ!BL3,282,0):OFFSET(テストデータ!BP3,282,0))","v":0},{"$f":"SUM(OFFSET(テストデータ!BQ3,282,0):OFFSET(テストデータ!BS3,282,0))","v":0},{"$f":"SUM(OFFSET(テストデータ!BQ3,282,0):OFFSET(テストデータ!BU3,282,0))","v":0},{"$f":"SUM(OFFSET(テストデータ!BV3,282,0):OFFSET(テストデータ!BX3,282,0))","v":0},{"$f":"SUM(OFFSET(テストデータ!BV3,282,0):OFFSET(テストデータ!BZ3,282,0))","v":0},{"$f":"SUM(OFFSET(テストデータ!CA3,282,0):OFFSET(テストデータ!CC3,282,0))","v":0},{"$f":"SUM(OFFSET(テストデータ!CA3,282,0):OFFSET(テストデータ!CE3,282,0))","v":0},{"$f":"SUM(OFFSET(テストデータ!CF3,282,0):OFFSET(テストデータ!CH3,282,0))","v":0},{"$f":"SUM(OFFSET(テストデータ!CF3,282,0):OFFSET(テストデータ!CJ3,282,0))","v":0},{"$f":"SUM(OFFSET(テストデータ!CK3,282,0):OFFSET(テストデータ!CM3,282,0))","v":0},{"$f":"SUM(OFFSET(テストデータ!CK3,282,0):OFFSET(テストデータ!CO3,282,0))","v":0},{"$f":"SUM(OFFSET(テストデータ!CP3,282,0):OFFSET(テストデータ!CR3,282,0))","v":0},{"$f":"SUM(OFFSET(テストデータ!CP3,282,0):OFFSET(テストデータ!CT3,282,0))","v":0}]
[null,null,null,null,null,null,null,null,null,null,null,null,null,{"$f":"SUM(OFFSET(テストデータ!$E3,283,9*成績表1!$B$4-9):OFFSET(テストデータ!$G3,283,9*成績表1!$B$4-9))","v":0},{"$f":"SUM(OFFSET(テストデータ!$E3,283,9*成績表1!$B$4-9):OFFSET(テストデータ!I3,283,9*成績表1!$B$4-9))","v":0},{"$f":"SUM(OFFSET(テストデータ!E3,283,0):OFFSET(テストデータ!G3,283,0))","v":0},{"$f":"SUM(OFFSET(テストデータ!E3,283,0):OFFSET(テストデータ!I3,283,0))","v":0},{"$f":"SUM(OFFSET(テストデータ!N3,283,0):OFFSET(テストデータ!P3,283,0))","v":0},{"$f":"SUM(OFFSET(テストデータ!N3,283,0):OFFSET(テストデータ!R3,283,0))","v":0},{"$f":"SUM(OFFSET(テストデータ!W3,283,0):OFFSET(テストデータ!Y3,283,0))","v":0},{"$f":"SUM(OFFSET(テストデータ!W3,283,0):OFFSET(テストデータ!AA3,283,0))","v":0},{"$f":"SUM(OFFSET(テストデータ!AF3,283,0):OFFSET(テストデータ!AH3,283,0))","v":0},{"$f":"SUM(OFFSET(テストデータ!AF3,283,0):OFFSET(テストデータ!AJ3,283,0))","v":0},{"$f":"SUM(OFFSET(テストデータ!AO3,283,0):OFFSET(テストデータ!AQ3,283,0))","v":0},{"$f":"SUM(OFFSET(テストデータ!AO3,283,0):OFFSET(テストデータ!AS3,283,0))","v":0},{"$f":"SUM(OFFSET(テストデータ!AX3,283,0):OFFSET(テストデータ!AZ3,283,0))","v":0},{"$f":"SUM(OFFSET(テストデータ!AX3,283,0):OFFSET(テストデータ!BB3,283,0))","v":0},{"$f":"SUM(OFFSET(テストデータ!BG3,283,0):OFFSET(テストデータ!BI3,283,0))","v":0},{"$f":"SUM(OFFSET(テストデータ!BG3,283,0):OFFSET(テストデータ!BK3,283,0))","v":0},{"$f":"SUM(OFFSET(テストデータ!BL3,283,0):OFFSET(テストデータ!BN3,283,0))","v":0},{"$f":"SUM(OFFSET(テストデータ!BL3,283,0):OFFSET(テストデータ!BP3,283,0))","v":0},{"$f":"SUM(OFFSET(テストデータ!BQ3,283,0):OFFSET(テストデータ!BS3,283,0))","v":0},{"$f":"SUM(OFFSET(テストデータ!BQ3,283,0):OFFSET(テストデータ!BU3,283,0))","v":0},{"$f":"SUM(OFFSET(テストデータ!BV3,283,0):OFFSET(テストデータ!BX3,283,0))","v":0},{"$f":"SUM(OFFSET(テストデータ!BV3,283,0):OFFSET(テストデータ!BZ3,283,0))","v":0},{"$f":"SUM(OFFSET(テストデータ!CA3,283,0):OFFSET(テストデータ!CC3,283,0))","v":0},{"$f":"SUM(OFFSET(テストデータ!CA3,283,0):OFFSET(テストデータ!CE3,283,0))","v":0},{"$f":"SUM(OFFSET(テストデータ!CF3,283,0):OFFSET(テストデータ!CH3,283,0))","v":0},{"$f":"SUM(OFFSET(テストデータ!CF3,283,0):OFFSET(テストデータ!CJ3,283,0))","v":0},{"$f":"SUM(OFFSET(テストデータ!CK3,283,0):OFFSET(テストデータ!CM3,283,0))","v":0},{"$f":"SUM(OFFSET(テストデータ!CK3,283,0):OFFSET(テストデータ!CO3,283,0))","v":0},{"$f":"SUM(OFFSET(テストデータ!CP3,283,0):OFFSET(テストデータ!CR3,283,0))","v":0},{"$f":"SUM(OFFSET(テストデータ!CP3,283,0):OFFSET(テストデータ!CT3,283,0))","v":0}]
[null,null,null,null,null,null,null,null,null,null,null,null,null,{"$f":"SUM(OFFSET(テストデータ!$E3,284,9*成績表1!$B$4-9):OFFSET(テストデータ!$G3,284,9*成績表1!$B$4-9))","v":0},{"$f":"SUM(OFFSET(テストデータ!$E3,284,9*成績表1!$B$4-9):OFFSET(テストデータ!I3,284,9*成績表1!$B$4-9))","v":0},{"$f":"SUM(OFFSET(テストデータ!E3,284,0):OFFSET(テストデータ!G3,284,0))","v":0},{"$f":"SUM(OFFSET(テストデータ!E3,284,0):OFFSET(テストデータ!I3,284,0))","v":0},{"$f":"SUM(OFFSET(テストデータ!N3,284,0):OFFSET(テストデータ!P3,284,0))","v":0},{"$f":"SUM(OFFSET(テストデータ!N3,284,0):OFFSET(テストデータ!R3,284,0))","v":0},{"$f":"SUM(OFFSET(テストデータ!W3,284,0):OFFSET(テストデータ!Y3,284,0))","v":0},{"$f":"SUM(OFFSET(テストデータ!W3,284,0):OFFSET(テストデータ!AA3,284,0))","v":0},{"$f":"SUM(OFFSET(テストデータ!AF3,284,0):OFFSET(テストデータ!AH3,284,0))","v":0},{"$f":"SUM(OFFSET(テストデータ!AF3,284,0):OFFSET(テストデータ!AJ3,284,0))","v":0},{"$f":"SUM(OFFSET(テストデータ!AO3,284,0):OFFSET(テストデータ!AQ3,284,0))","v":0},{"$f":"SUM(OFFSET(テストデータ!AO3,284,0):OFFSET(テストデータ!AS3,284,0))","v":0},{"$f":"SUM(OFFSET(テストデータ!AX3,284,0):OFFSET(テストデータ!AZ3,284,0))","v":0},{"$f":"SUM(OFFSET(テストデータ!AX3,284,0):OFFSET(テストデータ!BB3,284,0))","v":0},{"$f":"SUM(OFFSET(テストデータ!BG3,284,0):OFFSET(テストデータ!BI3,284,0))","v":0},{"$f":"SUM(OFFSET(テストデータ!BG3,284,0):OFFSET(テストデータ!BK3,284,0))","v":0},{"$f":"SUM(OFFSET(テストデータ!BL3,284,0):OFFSET(テストデータ!BN3,284,0))","v":0},{"$f":"SUM(OFFSET(テストデータ!BL3,284,0):OFFSET(テストデータ!BP3,284,0))","v":0},{"$f":"SUM(OFFSET(テストデータ!BQ3,284,0):OFFSET(テストデータ!BS3,284,0))","v":0},{"$f":"SUM(OFFSET(テストデータ!BQ3,284,0):OFFSET(テストデータ!BU3,284,0))","v":0},{"$f":"SUM(OFFSET(テストデータ!BV3,284,0):OFFSET(テストデータ!BX3,284,0))","v":0},{"$f":"SUM(OFFSET(テストデータ!BV3,284,0):OFFSET(テストデータ!BZ3,284,0))","v":0},{"$f":"SUM(OFFSET(テストデータ!CA3,284,0):OFFSET(テストデータ!CC3,284,0))","v":0},{"$f":"SUM(OFFSET(テストデータ!CA3,284,0):OFFSET(テストデータ!CE3,284,0))","v":0},{"$f":"SUM(OFFSET(テストデータ!CF3,284,0):OFFSET(テストデータ!CH3,284,0))","v":0},{"$f":"SUM(OFFSET(テストデータ!CF3,284,0):OFFSET(テストデータ!CJ3,284,0))","v":0},{"$f":"SUM(OFFSET(テストデータ!CK3,284,0):OFFSET(テストデータ!CM3,284,0))","v":0},{"$f":"SUM(OFFSET(テストデータ!CK3,284,0):OFFSET(テストデータ!CO3,284,0))","v":0},{"$f":"SUM(OFFSET(テストデータ!CP3,284,0):OFFSET(テストデータ!CR3,284,0))","v":0},{"$f":"SUM(OFFSET(テストデータ!CP3,284,0):OFFSET(テストデータ!CT3,284,0))","v":0}]
[null,null,null,null,null,null,null,null,null,null,null,null,null,{"$f":"SUM(OFFSET(テストデータ!$E3,285,9*成績表1!$B$4-9):OFFSET(テストデータ!$G3,285,9*成績表1!$B$4-9))","v":0},{"$f":"SUM(OFFSET(テストデータ!$E3,285,9*成績表1!$B$4-9):OFFSET(テストデータ!I3,285,9*成績表1!$B$4-9))","v":0},{"$f":"SUM(OFFSET(テストデータ!E3,285,0):OFFSET(テストデータ!G3,285,0))","v":0},{"$f":"SUM(OFFSET(テストデータ!E3,285,0):OFFSET(テストデータ!I3,285,0))","v":0},{"$f":"SUM(OFFSET(テストデータ!N3,285,0):OFFSET(テストデータ!P3,285,0))","v":0},{"$f":"SUM(OFFSET(テストデータ!N3,285,0):OFFSET(テストデータ!R3,285,0))","v":0},{"$f":"SUM(OFFSET(テストデータ!W3,285,0):OFFSET(テストデータ!Y3,285,0))","v":0},{"$f":"SUM(OFFSET(テストデータ!W3,285,0):OFFSET(テストデータ!AA3,285,0))","v":0},{"$f":"SUM(OFFSET(テストデータ!AF3,285,0):OFFSET(テストデータ!AH3,285,0))","v":0},{"$f":"SUM(OFFSET(テストデータ!AF3,285,0):OFFSET(テストデータ!AJ3,285,0))","v":0},{"$f":"SUM(OFFSET(テストデータ!AO3,285,0):OFFSET(テストデータ!AQ3,285,0))","v":0},{"$f":"SUM(OFFSET(テストデータ!AO3,285,0):OFFSET(テストデータ!AS3,285,0))","v":0},{"$f":"SUM(OFFSET(テストデータ!AX3,285,0):OFFSET(テストデータ!AZ3,285,0))","v":0},{"$f":"SUM(OFFSET(テストデータ!AX3,285,0):OFFSET(テストデータ!BB3,285,0))","v":0},{"$f":"SUM(OFFSET(テストデータ!BG3,285,0):OFFSET(テストデータ!BI3,285,0))","v":0},{"$f":"SUM(OFFSET(テストデータ!BG3,285,0):OFFSET(テストデータ!BK3,285,0))","v":0},{"$f":"SUM(OFFSET(テストデータ!BL3,285,0):OFFSET(テストデータ!BN3,285,0))","v":0},{"$f":"SUM(OFFSET(テストデータ!BL3,285,0):OFFSET(テストデータ!BP3,285,0))","v":0},{"$f":"SUM(OFFSET(テストデータ!BQ3,285,0):OFFSET(テストデータ!BS3,285,0))","v":0},{"$f":"SUM(OFFSET(テストデータ!BQ3,285,0):OFFSET(テストデータ!BU3,285,0))","v":0},{"$f":"SUM(OFFSET(テストデータ!BV3,285,0):OFFSET(テストデータ!BX3,285,0))","v":0},{"$f":"SUM(OFFSET(テストデータ!BV3,285,0):OFFSET(テストデータ!BZ3,285,0))","v":0},{"$f":"SUM(OFFSET(テストデータ!CA3,285,0):OFFSET(テストデータ!CC3,285,0))","v":0},{"$f":"SUM(OFFSET(テストデータ!CA3,285,0):OFFSET(テストデータ!CE3,285,0))","v":0},{"$f":"SUM(OFFSET(テストデータ!CF3,285,0):OFFSET(テストデータ!CH3,285,0))","v":0},{"$f":"SUM(OFFSET(テストデータ!CF3,285,0):OFFSET(テストデータ!CJ3,285,0))","v":0},{"$f":"SUM(OFFSET(テストデータ!CK3,285,0):OFFSET(テストデータ!CM3,285,0))","v":0},{"$f":"SUM(OFFSET(テストデータ!CK3,285,0):OFFSET(テストデータ!CO3,285,0))","v":0},{"$f":"SUM(OFFSET(テストデータ!CP3,285,0):OFFSET(テストデータ!CR3,285,0))","v":0},{"$f":"SUM(OFFSET(テストデータ!CP3,285,0):OFFSET(テストデータ!CT3,285,0))","v":0}]
[null,null,null,null,null,null,null,null,null,null,null,null,null,{"$f":"SUM(OFFSET(テストデータ!$E3,286,9*成績表1!$B$4-9):OFFSET(テストデータ!$G3,286,9*成績表1!$B$4-9))","v":0},{"$f":"SUM(OFFSET(テストデータ!$E3,286,9*成績表1!$B$4-9):OFFSET(テストデータ!I3,286,9*成績表1!$B$4-9))","v":0},{"$f":"SUM(OFFSET(テストデータ!E3,286,0):OFFSET(テストデータ!G3,286,0))","v":0},{"$f":"SUM(OFFSET(テストデータ!E3,286,0):OFFSET(テストデータ!I3,286,0))","v":0},{"$f":"SUM(OFFSET(テストデータ!N3,286,0):OFFSET(テストデータ!P3,286,0))","v":0},{"$f":"SUM(OFFSET(テストデータ!N3,286,0):OFFSET(テストデータ!R3,286,0))","v":0},{"$f":"SUM(OFFSET(テストデータ!W3,286,0):OFFSET(テストデータ!Y3,286,0))","v":0},{"$f":"SUM(OFFSET(テストデータ!W3,286,0):OFFSET(テストデータ!AA3,286,0))","v":0},{"$f":"SUM(OFFSET(テストデータ!AF3,286,0):OFFSET(テストデータ!AH3,286,0))","v":0},{"$f":"SUM(OFFSET(テストデータ!AF3,286,0):OFFSET(テストデータ!AJ3,286,0))","v":0},{"$f":"SUM(OFFSET(テストデータ!AO3,286,0):OFFSET(テストデータ!AQ3,286,0))","v":0},{"$f":"SUM(OFFSET(テストデータ!AO3,286,0):OFFSET(テストデータ!AS3,286,0))","v":0},{"$f":"SUM(OFFSET(テストデータ!AX3,286,0):OFFSET(テストデータ!AZ3,286,0))","v":0},{"$f":"SUM(OFFSET(テストデータ!AX3,286,0):OFFSET(テストデータ!BB3,286,0))","v":0},{"$f":"SUM(OFFSET(テストデータ!BG3,286,0):OFFSET(テストデータ!BI3,286,0))","v":0},{"$f":"SUM(OFFSET(テストデータ!BG3,286,0):OFFSET(テストデータ!BK3,286,0))","v":0},{"$f":"SUM(OFFSET(テストデータ!BL3,286,0):OFFSET(テストデータ!BN3,286,0))","v":0},{"$f":"SUM(OFFSET(テストデータ!BL3,286,0):OFFSET(テストデータ!BP3,286,0))","v":0},{"$f":"SUM(OFFSET(テストデータ!BQ3,286,0):OFFSET(テストデータ!BS3,286,0))","v":0},{"$f":"SUM(OFFSET(テストデータ!BQ3,286,0):OFFSET(テストデータ!BU3,286,0))","v":0},{"$f":"SUM(OFFSET(テストデータ!BV3,286,0):OFFSET(テストデータ!BX3,286,0))","v":0},{"$f":"SUM(OFFSET(テストデータ!BV3,286,0):OFFSET(テストデータ!BZ3,286,0))","v":0},{"$f":"SUM(OFFSET(テストデータ!CA3,286,0):OFFSET(テストデータ!CC3,286,0))","v":0},{"$f":"SUM(OFFSET(テストデータ!CA3,286,0):OFFSET(テストデータ!CE3,286,0))","v":0},{"$f":"SUM(OFFSET(テストデータ!CF3,286,0):OFFSET(テストデータ!CH3,286,0))","v":0},{"$f":"SUM(OFFSET(テストデータ!CF3,286,0):OFFSET(テストデータ!CJ3,286,0))","v":0},{"$f":"SUM(OFFSET(テストデータ!CK3,286,0):OFFSET(テストデータ!CM3,286,0))","v":0},{"$f":"SUM(OFFSET(テストデータ!CK3,286,0):OFFSET(テストデータ!CO3,286,0))","v":0},{"$f":"SUM(OFFSET(テストデータ!CP3,286,0):OFFSET(テストデータ!CR3,286,0))","v":0},{"$f":"SUM(OFFSET(テストデータ!CP3,286,0):OFFSET(テストデータ!CT3,286,0))","v":0}]
[null,null,null,null,null,null,null,null,null,null,null,null,null,{"$f":"SUM(OFFSET(テストデータ!$E3,287,9*成績表1!$B$4-9):OFFSET(テストデータ!$G3,287,9*成績表1!$B$4-9))","v":0},{"$f":"SUM(OFFSET(テストデータ!$E3,287,9*成績表1!$B$4-9):OFFSET(テストデータ!I3,287,9*成績表1!$B$4-9))","v":0},{"$f":"SUM(OFFSET(テストデータ!E3,287,0):OFFSET(テストデータ!G3,287,0))","v":0},{"$f":"SUM(OFFSET(テストデータ!E3,287,0):OFFSET(テストデータ!I3,287,0))","v":0},{"$f":"SUM(OFFSET(テストデータ!N3,287,0):OFFSET(テストデータ!P3,287,0))","v":0},{"$f":"SUM(OFFSET(テストデータ!N3,287,0):OFFSET(テストデータ!R3,287,0))","v":0},{"$f":"SUM(OFFSET(テストデータ!W3,287,0):OFFSET(テストデータ!Y3,287,0))","v":0},{"$f":"SUM(OFFSET(テストデータ!W3,287,0):OFFSET(テストデータ!AA3,287,0))","v":0},{"$f":"SUM(OFFSET(テストデータ!AF3,287,0):OFFSET(テストデータ!AH3,287,0))","v":0},{"$f":"SUM(OFFSET(テストデータ!AF3,287,0):OFFSET(テストデータ!AJ3,287,0))","v":0},{"$f":"SUM(OFFSET(テストデータ!AO3,287,0):OFFSET(テストデータ!AQ3,287,0))","v":0},{"$f":"SUM(OFFSET(テストデータ!AO3,287,0):OFFSET(テストデータ!AS3,287,0))","v":0},{"$f":"SUM(OFFSET(テストデータ!AX3,287,0):OFFSET(テストデータ!AZ3,287,0))","v":0},{"$f":"SUM(OFFSET(テストデータ!AX3,287,0):OFFSET(テストデータ!BB3,287,0))","v":0},{"$f":"SUM(OFFSET(テストデータ!BG3,287,0):OFFSET(テストデータ!BI3,287,0))","v":0},{"$f":"SUM(OFFSET(テストデータ!BG3,287,0):OFFSET(テストデータ!BK3,287,0))","v":0},{"$f":"SUM(OFFSET(テストデータ!BL3,287,0):OFFSET(テストデータ!BN3,287,0))","v":0},{"$f":"SUM(OFFSET(テストデータ!BL3,287,0):OFFSET(テストデータ!BP3,287,0))","v":0},{"$f":"SUM(OFFSET(テストデータ!BQ3,287,0):OFFSET(テストデータ!BS3,287,0))","v":0},{"$f":"SUM(OFFSET(テストデータ!BQ3,287,0):OFFSET(テストデータ!BU3,287,0))","v":0},{"$f":"SUM(OFFSET(テストデータ!BV3,287,0):OFFSET(テストデータ!BX3,287,0))","v":0},{"$f":"SUM(OFFSET(テストデータ!BV3,287,0):OFFSET(テストデータ!BZ3,287,0))","v":0},{"$f":"SUM(OFFSET(テストデータ!CA3,287,0):OFFSET(テストデータ!CC3,287,0))","v":0},{"$f":"SUM(OFFSET(テストデータ!CA3,287,0):OFFSET(テストデータ!CE3,287,0))","v":0},{"$f":"SUM(OFFSET(テストデータ!CF3,287,0):OFFSET(テストデータ!CH3,287,0))","v":0},{"$f":"SUM(OFFSET(テストデータ!CF3,287,0):OFFSET(テストデータ!CJ3,287,0))","v":0},{"$f":"SUM(OFFSET(テストデータ!CK3,287,0):OFFSET(テストデータ!CM3,287,0))","v":0},{"$f":"SUM(OFFSET(テストデータ!CK3,287,0):OFFSET(テストデータ!CO3,287,0))","v":0},{"$f":"SUM(OFFSET(テストデータ!CP3,287,0):OFFSET(テストデータ!CR3,287,0))","v":0},{"$f":"SUM(OFFSET(テストデータ!CP3,287,0):OFFSET(テストデータ!CT3,287,0))","v":0}]
[null,null,null,null,null,null,null,null,null,null,null,null,null,{"$f":"SUM(OFFSET(テストデータ!$E3,288,9*成績表1!$B$4-9):OFFSET(テストデータ!$G3,288,9*成績表1!$B$4-9))","v":0},{"$f":"SUM(OFFSET(テストデータ!$E3,288,9*成績表1!$B$4-9):OFFSET(テストデータ!I3,288,9*成績表1!$B$4-9))","v":0},{"$f":"SUM(OFFSET(テストデータ!E3,288,0):OFFSET(テストデータ!G3,288,0))","v":0},{"$f":"SUM(OFFSET(テストデータ!E3,288,0):OFFSET(テストデータ!I3,288,0))","v":0},{"$f":"SUM(OFFSET(テストデータ!N3,288,0):OFFSET(テストデータ!P3,288,0))","v":0},{"$f":"SUM(OFFSET(テストデータ!N3,288,0):OFFSET(テストデータ!R3,288,0))","v":0},{"$f":"SUM(OFFSET(テストデータ!W3,288,0):OFFSET(テストデータ!Y3,288,0))","v":0},{"$f":"SUM(OFFSET(テストデータ!W3,288,0):OFFSET(テストデータ!AA3,288,0))","v":0},{"$f":"SUM(OFFSET(テストデータ!AF3,288,0):OFFSET(テストデータ!AH3,288,0))","v":0},{"$f":"SUM(OFFSET(テストデータ!AF3,288,0):OFFSET(テストデータ!AJ3,288,0))","v":0},{"$f":"SUM(OFFSET(テストデータ!AO3,288,0):OFFSET(テストデータ!AQ3,288,0))","v":0},{"$f":"SUM(OFFSET(テストデータ!AO3,288,0):OFFSET(テストデータ!AS3,288,0))","v":0},{"$f":"SUM(OFFSET(テストデータ!AX3,288,0):OFFSET(テストデータ!AZ3,288,0))","v":0},{"$f":"SUM(OFFSET(テストデータ!AX3,288,0):OFFSET(テストデータ!BB3,288,0))","v":0},{"$f":"SUM(OFFSET(テストデータ!BG3,288,0):OFFSET(テストデータ!BI3,288,0))","v":0},{"$f":"SUM(OFFSET(テストデータ!BG3,288,0):OFFSET(テストデータ!BK3,288,0))","v":0},{"$f":"SUM(OFFSET(テストデータ!BL3,288,0):OFFSET(テストデータ!BN3,288,0))","v":0},{"$f":"SUM(OFFSET(テストデータ!BL3,288,0):OFFSET(テストデータ!BP3,288,0))","v":0},{"$f":"SUM(OFFSET(テストデータ!BQ3,288,0):OFFSET(テストデータ!BS3,288,0))","v":0},{"$f":"SUM(OFFSET(テストデータ!BQ3,288,0):OFFSET(テストデータ!BU3,288,0))","v":0},{"$f":"SUM(OFFSET(テストデータ!BV3,288,0):OFFSET(テストデータ!BX3,288,0))","v":0},{"$f":"SUM(OFFSET(テストデータ!BV3,288,0):OFFSET(テストデータ!BZ3,288,0))","v":0},{"$f":"SUM(OFFSET(テストデータ!CA3,288,0):OFFSET(テストデータ!CC3,288,0))","v":0},{"$f":"SUM(OFFSET(テストデータ!CA3,288,0):OFFSET(テストデータ!CE3,288,0))","v":0},{"$f":"SUM(OFFSET(テストデータ!CF3,288,0):OFFSET(テストデータ!CH3,288,0))","v":0},{"$f":"SUM(OFFSET(テストデータ!CF3,288,0):OFFSET(テストデータ!CJ3,288,0))","v":0},{"$f":"SUM(OFFSET(テストデータ!CK3,288,0):OFFSET(テストデータ!CM3,288,0))","v":0},{"$f":"SUM(OFFSET(テストデータ!CK3,288,0):OFFSET(テストデータ!CO3,288,0))","v":0},{"$f":"SUM(OFFSET(テストデータ!CP3,288,0):OFFSET(テストデータ!CR3,288,0))","v":0},{"$f":"SUM(OFFSET(テストデータ!CP3,288,0):OFFSET(テストデータ!CT3,288,0))","v":0}]
[null,null,null,null,null,null,null,null,null,null,null,null,null,{"$f":"SUM(OFFSET(テストデータ!$E3,289,9*成績表1!$B$4-9):OFFSET(テストデータ!$G3,289,9*成績表1!$B$4-9))","v":0},{"$f":"SUM(OFFSET(テストデータ!$E3,289,9*成績表1!$B$4-9):OFFSET(テストデータ!I3,289,9*成績表1!$B$4-9))","v":0},{"$f":"SUM(OFFSET(テストデータ!E3,289,0):OFFSET(テストデータ!G3,289,0))","v":0},{"$f":"SUM(OFFSET(テストデータ!E3,289,0):OFFSET(テストデータ!I3,289,0))","v":0},{"$f":"SUM(OFFSET(テストデータ!N3,289,0):OFFSET(テストデータ!P3,289,0))","v":0},{"$f":"SUM(OFFSET(テストデータ!N3,289,0):OFFSET(テストデータ!R3,289,0))","v":0},{"$f":"SUM(OFFSET(テストデータ!W3,289,0):OFFSET(テストデータ!Y3,289,0))","v":0},{"$f":"SUM(OFFSET(テストデータ!W3,289,0):OFFSET(テストデータ!AA3,289,0))","v":0},{"$f":"SUM(OFFSET(テストデータ!AF3,289,0):OFFSET(テストデータ!AH3,289,0))","v":0},{"$f":"SUM(OFFSET(テストデータ!AF3,289,0):OFFSET(テストデータ!AJ3,289,0))","v":0},{"$f":"SUM(OFFSET(テストデータ!AO3,289,0):OFFSET(テストデータ!AQ3,289,0))","v":0},{"$f":"SUM(OFFSET(テストデータ!AO3,289,0):OFFSET(テストデータ!AS3,289,0))","v":0},{"$f":"SUM(OFFSET(テストデータ!AX3,289,0):OFFSET(テストデータ!AZ3,289,0))","v":0},{"$f":"SUM(OFFSET(テストデータ!AX3,289,0):OFFSET(テストデータ!BB3,289,0))","v":0},{"$f":"SUM(OFFSET(テストデータ!BG3,289,0):OFFSET(テストデータ!BI3,289,0))","v":0},{"$f":"SUM(OFFSET(テストデータ!BG3,289,0):OFFSET(テストデータ!BK3,289,0))","v":0},{"$f":"SUM(OFFSET(テストデータ!BL3,289,0):OFFSET(テストデータ!BN3,289,0))","v":0},{"$f":"SUM(OFFSET(テストデータ!BL3,289,0):OFFSET(テストデータ!BP3,289,0))","v":0},{"$f":"SUM(OFFSET(テストデータ!BQ3,289,0):OFFSET(テストデータ!BS3,289,0))","v":0},{"$f":"SUM(OFFSET(テストデータ!BQ3,289,0):OFFSET(テストデータ!BU3,289,0))","v":0},{"$f":"SUM(OFFSET(テストデータ!BV3,289,0):OFFSET(テストデータ!BX3,289,0))","v":0},{"$f":"SUM(OFFSET(テストデータ!BV3,289,0):OFFSET(テストデータ!BZ3,289,0))","v":0},{"$f":"SUM(OFFSET(テストデータ!CA3,289,0):OFFSET(テストデータ!CC3,289,0))","v":0},{"$f":"SUM(OFFSET(テストデータ!CA3,289,0):OFFSET(テストデータ!CE3,289,0))","v":0},{"$f":"SUM(OFFSET(テストデータ!CF3,289,0):OFFSET(テストデータ!CH3,289,0))","v":0},{"$f":"SUM(OFFSET(テストデータ!CF3,289,0):OFFSET(テストデータ!CJ3,289,0))","v":0},{"$f":"SUM(OFFSET(テストデータ!CK3,289,0):OFFSET(テストデータ!CM3,289,0))","v":0},{"$f":"SUM(OFFSET(テストデータ!CK3,289,0):OFFSET(テストデータ!CO3,289,0))","v":0},{"$f":"SUM(OFFSET(テストデータ!CP3,289,0):OFFSET(テストデータ!CR3,289,0))","v":0},{"$f":"SUM(OFFSET(テストデータ!CP3,289,0):OFFSET(テストデータ!CT3,289,0))","v":0}]
[null,null,null,null,null,null,null,null,null,null,null,null,null,{"$f":"SUM(OFFSET(テストデータ!$E3,290,9*成績表1!$B$4-9):OFFSET(テストデータ!$G3,290,9*成績表1!$B$4-9))","v":0},{"$f":"SUM(OFFSET(テストデータ!$E3,290,9*成績表1!$B$4-9):OFFSET(テストデータ!I3,290,9*成績表1!$B$4-9))","v":0},{"$f":"SUM(OFFSET(テストデータ!E3,290,0):OFFSET(テストデータ!G3,290,0))","v":0},{"$f":"SUM(OFFSET(テストデータ!E3,290,0):OFFSET(テストデータ!I3,290,0))","v":0},{"$f":"SUM(OFFSET(テストデータ!N3,290,0):OFFSET(テストデータ!P3,290,0))","v":0},{"$f":"SUM(OFFSET(テストデータ!N3,290,0):OFFSET(テストデータ!R3,290,0))","v":0},{"$f":"SUM(OFFSET(テストデータ!W3,290,0):OFFSET(テストデータ!Y3,290,0))","v":0},{"$f":"SUM(OFFSET(テストデータ!W3,290,0):OFFSET(テストデータ!AA3,290,0))","v":0},{"$f":"SUM(OFFSET(テストデータ!AF3,290,0):OFFSET(テストデータ!AH3,290,0))","v":0},{"$f":"SUM(OFFSET(テストデータ!AF3,290,0):OFFSET(テストデータ!AJ3,290,0))","v":0},{"$f":"SUM(OFFSET(テストデータ!AO3,290,0):OFFSET(テストデータ!AQ3,290,0))","v":0},{"$f":"SUM(OFFSET(テストデータ!AO3,290,0):OFFSET(テストデータ!AS3,290,0))","v":0},{"$f":"SUM(OFFSET(テストデータ!AX3,290,0):OFFSET(テストデータ!AZ3,290,0))","v":0},{"$f":"SUM(OFFSET(テストデータ!AX3,290,0):OFFSET(テストデータ!BB3,290,0))","v":0},{"$f":"SUM(OFFSET(テストデータ!BG3,290,0):OFFSET(テストデータ!BI3,290,0))","v":0},{"$f":"SUM(OFFSET(テストデータ!BG3,290,0):OFFSET(テストデータ!BK3,290,0))","v":0},{"$f":"SUM(OFFSET(テストデータ!BL3,290,0):OFFSET(テストデータ!BN3,290,0))","v":0},{"$f":"SUM(OFFSET(テストデータ!BL3,290,0):OFFSET(テストデータ!BP3,290,0))","v":0},{"$f":"SUM(OFFSET(テストデータ!BQ3,290,0):OFFSET(テストデータ!BS3,290,0))","v":0},{"$f":"SUM(OFFSET(テストデータ!BQ3,290,0):OFFSET(テストデータ!BU3,290,0))","v":0},{"$f":"SUM(OFFSET(テストデータ!BV3,290,0):OFFSET(テストデータ!BX3,290,0))","v":0},{"$f":"SUM(OFFSET(テストデータ!BV3,290,0):OFFSET(テストデータ!BZ3,290,0))","v":0},{"$f":"SUM(OFFSET(テストデータ!CA3,290,0):OFFSET(テストデータ!CC3,290,0))","v":0},{"$f":"SUM(OFFSET(テストデータ!CA3,290,0):OFFSET(テストデータ!CE3,290,0))","v":0},{"$f":"SUM(OFFSET(テストデータ!CF3,290,0):OFFSET(テストデータ!CH3,290,0))","v":0},{"$f":"SUM(OFFSET(テストデータ!CF3,290,0):OFFSET(テストデータ!CJ3,290,0))","v":0},{"$f":"SUM(OFFSET(テストデータ!CK3,290,0):OFFSET(テストデータ!CM3,290,0))","v":0},{"$f":"SUM(OFFSET(テストデータ!CK3,290,0):OFFSET(テストデータ!CO3,290,0))","v":0},{"$f":"SUM(OFFSET(テストデータ!CP3,290,0):OFFSET(テストデータ!CR3,290,0))","v":0},{"$f":"SUM(OFFSET(テストデータ!CP3,290,0):OFFSET(テストデータ!CT3,290,0))","v":0}]
[null,null,null,null,null,null,null,null,null,null,null,null,null,{"$f":"SUM(OFFSET(テストデータ!$E3,291,9*成績表1!$B$4-9):OFFSET(テストデータ!$G3,291,9*成績表1!$B$4-9))","v":0},{"$f":"SUM(OFFSET(テストデータ!$E3,291,9*成績表1!$B$4-9):OFFSET(テストデータ!I3,291,9*成績表1!$B$4-9))","v":0},{"$f":"SUM(OFFSET(テストデータ!E3,291,0):OFFSET(テストデータ!G3,291,0))","v":0},{"$f":"SUM(OFFSET(テストデータ!E3,291,0):OFFSET(テストデータ!I3,291,0))","v":0},{"$f":"SUM(OFFSET(テストデータ!N3,291,0):OFFSET(テストデータ!P3,291,0))","v":0},{"$f":"SUM(OFFSET(テストデータ!N3,291,0):OFFSET(テストデータ!R3,291,0))","v":0},{"$f":"SUM(OFFSET(テストデータ!W3,291,0):OFFSET(テストデータ!Y3,291,0))","v":0},{"$f":"SUM(OFFSET(テストデータ!W3,291,0):OFFSET(テストデータ!AA3,291,0))","v":0},{"$f":"SUM(OFFSET(テストデータ!AF3,291,0):OFFSET(テストデータ!AH3,291,0))","v":0},{"$f":"SUM(OFFSET(テストデータ!AF3,291,0):OFFSET(テストデータ!AJ3,291,0))","v":0},{"$f":"SUM(OFFSET(テストデータ!AO3,291,0):OFFSET(テストデータ!AQ3,291,0))","v":0},{"$f":"SUM(OFFSET(テストデータ!AO3,291,0):OFFSET(テストデータ!AS3,291,0))","v":0},{"$f":"SUM(OFFSET(テストデータ!AX3,291,0):OFFSET(テストデータ!AZ3,291,0))","v":0},{"$f":"SUM(OFFSET(テストデータ!AX3,291,0):OFFSET(テストデータ!BB3,291,0))","v":0},{"$f":"SUM(OFFSET(テストデータ!BG3,291,0):OFFSET(テストデータ!BI3,291,0))","v":0},{"$f":"SUM(OFFSET(テストデータ!BG3,291,0):OFFSET(テストデータ!BK3,291,0))","v":0},{"$f":"SUM(OFFSET(テストデータ!BL3,291,0):OFFSET(テストデータ!BN3,291,0))","v":0},{"$f":"SUM(OFFSET(テストデータ!BL3,291,0):OFFSET(テストデータ!BP3,291,0))","v":0},{"$f":"SUM(OFFSET(テストデータ!BQ3,291,0):OFFSET(テストデータ!BS3,291,0))","v":0},{"$f":"SUM(OFFSET(テストデータ!BQ3,291,0):OFFSET(テストデータ!BU3,291,0))","v":0},{"$f":"SUM(OFFSET(テストデータ!BV3,291,0):OFFSET(テストデータ!BX3,291,0))","v":0},{"$f":"SUM(OFFSET(テストデータ!BV3,291,0):OFFSET(テストデータ!BZ3,291,0))","v":0},{"$f":"SUM(OFFSET(テストデータ!CA3,291,0):OFFSET(テストデータ!CC3,291,0))","v":0},{"$f":"SUM(OFFSET(テストデータ!CA3,291,0):OFFSET(テストデータ!CE3,291,0))","v":0},{"$f":"SUM(OFFSET(テストデータ!CF3,291,0):OFFSET(テストデータ!CH3,291,0))","v":0},{"$f":"SUM(OFFSET(テストデータ!CF3,291,0):OFFSET(テストデータ!CJ3,291,0))","v":0},{"$f":"SUM(OFFSET(テストデータ!CK3,291,0):OFFSET(テストデータ!CM3,291,0))","v":0},{"$f":"SUM(OFFSET(テストデータ!CK3,291,0):OFFSET(テストデータ!CO3,291,0))","v":0},{"$f":"SUM(OFFSET(テストデータ!CP3,291,0):OFFSET(テストデータ!CR3,291,0))","v":0},{"$f":"SUM(OFFSET(テストデータ!CP3,291,0):OFFSET(テストデータ!CT3,291,0))","v":0}]
[null,null,null,null,null,null,null,null,null,null,null,null,null,{"$f":"SUM(OFFSET(テストデータ!$E3,292,9*成績表1!$B$4-9):OFFSET(テストデータ!$G3,292,9*成績表1!$B$4-9))","v":0},{"$f":"SUM(OFFSET(テストデータ!$E3,292,9*成績表1!$B$4-9):OFFSET(テストデータ!I3,292,9*成績表1!$B$4-9))","v":0},{"$f":"SUM(OFFSET(テストデータ!E3,292,0):OFFSET(テストデータ!G3,292,0))","v":0},{"$f":"SUM(OFFSET(テストデータ!E3,292,0):OFFSET(テストデータ!I3,292,0))","v":0},{"$f":"SUM(OFFSET(テストデータ!N3,292,0):OFFSET(テストデータ!P3,292,0))","v":0},{"$f":"SUM(OFFSET(テストデータ!N3,292,0):OFFSET(テストデータ!R3,292,0))","v":0},{"$f":"SUM(OFFSET(テストデータ!W3,292,0):OFFSET(テストデータ!Y3,292,0))","v":0},{"$f":"SUM(OFFSET(テストデータ!W3,292,0):OFFSET(テストデータ!AA3,292,0))","v":0},{"$f":"SUM(OFFSET(テストデータ!AF3,292,0):OFFSET(テストデータ!AH3,292,0))","v":0},{"$f":"SUM(OFFSET(テストデータ!AF3,292,0):OFFSET(テストデータ!AJ3,292,0))","v":0},{"$f":"SUM(OFFSET(テストデータ!AO3,292,0):OFFSET(テストデータ!AQ3,292,0))","v":0},{"$f":"SUM(OFFSET(テストデータ!AO3,292,0):OFFSET(テストデータ!AS3,292,0))","v":0},{"$f":"SUM(OFFSET(テストデータ!AX3,292,0):OFFSET(テストデータ!AZ3,292,0))","v":0},{"$f":"SUM(OFFSET(テストデータ!AX3,292,0):OFFSET(テストデータ!BB3,292,0))","v":0},{"$f":"SUM(OFFSET(テストデータ!BG3,292,0):OFFSET(テストデータ!BI3,292,0))","v":0},{"$f":"SUM(OFFSET(テストデータ!BG3,292,0):OFFSET(テストデータ!BK3,292,0))","v":0},{"$f":"SUM(OFFSET(テストデータ!BL3,292,0):OFFSET(テストデータ!BN3,292,0))","v":0},{"$f":"SUM(OFFSET(テストデータ!BL3,292,0):OFFSET(テストデータ!BP3,292,0))","v":0},{"$f":"SUM(OFFSET(テストデータ!BQ3,292,0):OFFSET(テストデータ!BS3,292,0))","v":0},{"$f":"SUM(OFFSET(テストデータ!BQ3,292,0):OFFSET(テストデータ!BU3,292,0))","v":0},{"$f":"SUM(OFFSET(テストデータ!BV3,292,0):OFFSET(テストデータ!BX3,292,0))","v":0},{"$f":"SUM(OFFSET(テストデータ!BV3,292,0):OFFSET(テストデータ!BZ3,292,0))","v":0},{"$f":"SUM(OFFSET(テストデータ!CA3,292,0):OFFSET(テストデータ!CC3,292,0))","v":0},{"$f":"SUM(OFFSET(テストデータ!CA3,292,0):OFFSET(テストデータ!CE3,292,0))","v":0},{"$f":"SUM(OFFSET(テストデータ!CF3,292,0):OFFSET(テストデータ!CH3,292,0))","v":0},{"$f":"SUM(OFFSET(テストデータ!CF3,292,0):OFFSET(テストデータ!CJ3,292,0))","v":0},{"$f":"SUM(OFFSET(テストデータ!CK3,292,0):OFFSET(テストデータ!CM3,292,0))","v":0},{"$f":"SUM(OFFSET(テストデータ!CK3,292,0):OFFSET(テストデータ!CO3,292,0))","v":0},{"$f":"SUM(OFFSET(テストデータ!CP3,292,0):OFFSET(テストデータ!CR3,292,0))","v":0},{"$f":"SUM(OFFSET(テストデータ!CP3,292,0):OFFSET(テストデータ!CT3,292,0))","v":0}]
[null,null,null,null,null,null,null,null,null,null,null,null,null,{"$f":"SUM(OFFSET(テストデータ!$E3,293,9*成績表1!$B$4-9):OFFSET(テストデータ!$G3,293,9*成績表1!$B$4-9))","v":0},{"$f":"SUM(OFFSET(テストデータ!$E3,293,9*成績表1!$B$4-9):OFFSET(テストデータ!I3,293,9*成績表1!$B$4-9))","v":0},{"$f":"SUM(OFFSET(テストデータ!E3,293,0):OFFSET(テストデータ!G3,293,0))","v":0},{"$f":"SUM(OFFSET(テストデータ!E3,293,0):OFFSET(テストデータ!I3,293,0))","v":0},{"$f":"SUM(OFFSET(テストデータ!N3,293,0):OFFSET(テストデータ!P3,293,0))","v":0},{"$f":"SUM(OFFSET(テストデータ!N3,293,0):OFFSET(テストデータ!R3,293,0))","v":0},{"$f":"SUM(OFFSET(テストデータ!W3,293,0):OFFSET(テストデータ!Y3,293,0))","v":0},{"$f":"SUM(OFFSET(テストデータ!W3,293,0):OFFSET(テストデータ!AA3,293,0))","v":0},{"$f":"SUM(OFFSET(テストデータ!AF3,293,0):OFFSET(テストデータ!AH3,293,0))","v":0},{"$f":"SUM(OFFSET(テストデータ!AF3,293,0):OFFSET(テストデータ!AJ3,293,0))","v":0},{"$f":"SUM(OFFSET(テストデータ!AO3,293,0):OFFSET(テストデータ!AQ3,293,0))","v":0},{"$f":"SUM(OFFSET(テストデータ!AO3,293,0):OFFSET(テストデータ!AS3,293,0))","v":0},{"$f":"SUM(OFFSET(テストデータ!AX3,293,0):OFFSET(テストデータ!AZ3,293,0))","v":0},{"$f":"SUM(OFFSET(テストデータ!AX3,293,0):OFFSET(テストデータ!BB3,293,0))","v":0},{"$f":"SUM(OFFSET(テストデータ!BG3,293,0):OFFSET(テストデータ!BI3,293,0))","v":0},{"$f":"SUM(OFFSET(テストデータ!BG3,293,0):OFFSET(テストデータ!BK3,293,0))","v":0},{"$f":"SUM(OFFSET(テストデータ!BL3,293,0):OFFSET(テストデータ!BN3,293,0))","v":0},{"$f":"SUM(OFFSET(テストデータ!BL3,293,0):OFFSET(テストデータ!BP3,293,0))","v":0},{"$f":"SUM(OFFSET(テストデータ!BQ3,293,0):OFFSET(テストデータ!BS3,293,0))","v":0},{"$f":"SUM(OFFSET(テストデータ!BQ3,293,0):OFFSET(テストデータ!BU3,293,0))","v":0},{"$f":"SUM(OFFSET(テストデータ!BV3,293,0):OFFSET(テストデータ!BX3,293,0))","v":0},{"$f":"SUM(OFFSET(テストデータ!BV3,293,0):OFFSET(テストデータ!BZ3,293,0))","v":0},{"$f":"SUM(OFFSET(テストデータ!CA3,293,0):OFFSET(テストデータ!CC3,293,0))","v":0},{"$f":"SUM(OFFSET(テストデータ!CA3,293,0):OFFSET(テストデータ!CE3,293,0))","v":0},{"$f":"SUM(OFFSET(テストデータ!CF3,293,0):OFFSET(テストデータ!CH3,293,0))","v":0},{"$f":"SUM(OFFSET(テストデータ!CF3,293,0):OFFSET(テストデータ!CJ3,293,0))","v":0},{"$f":"SUM(OFFSET(テストデータ!CK3,293,0):OFFSET(テストデータ!CM3,293,0))","v":0},{"$f":"SUM(OFFSET(テストデータ!CK3,293,0):OFFSET(テストデータ!CO3,293,0))","v":0},{"$f":"SUM(OFFSET(テストデータ!CP3,293,0):OFFSET(テストデータ!CR3,293,0))","v":0},{"$f":"SUM(OFFSET(テストデータ!CP3,293,0):OFFSET(テストデータ!CT3,293,0))","v":0}]
[null,null,null,null,null,null,null,null,null,null,null,null,null,{"$f":"SUM(OFFSET(テストデータ!$E3,294,9*成績表1!$B$4-9):OFFSET(テストデータ!$G3,294,9*成績表1!$B$4-9))","v":0},{"$f":"SUM(OFFSET(テストデータ!$E3,294,9*成績表1!$B$4-9):OFFSET(テストデータ!I3,294,9*成績表1!$B$4-9))","v":0},{"$f":"SUM(OFFSET(テストデータ!E3,294,0):OFFSET(テストデータ!G3,294,0))","v":0},{"$f":"SUM(OFFSET(テストデータ!E3,294,0):OFFSET(テストデータ!I3,294,0))","v":0},{"$f":"SUM(OFFSET(テストデータ!N3,294,0):OFFSET(テストデータ!P3,294,0))","v":0},{"$f":"SUM(OFFSET(テストデータ!N3,294,0):OFFSET(テストデータ!R3,294,0))","v":0},{"$f":"SUM(OFFSET(テストデータ!W3,294,0):OFFSET(テストデータ!Y3,294,0))","v":0},{"$f":"SUM(OFFSET(テストデータ!W3,294,0):OFFSET(テストデータ!AA3,294,0))","v":0},{"$f":"SUM(OFFSET(テストデータ!AF3,294,0):OFFSET(テストデータ!AH3,294,0))","v":0},{"$f":"SUM(OFFSET(テストデータ!AF3,294,0):OFFSET(テストデータ!AJ3,294,0))","v":0},{"$f":"SUM(OFFSET(テストデータ!AO3,294,0):OFFSET(テストデータ!AQ3,294,0))","v":0},{"$f":"SUM(OFFSET(テストデータ!AO3,294,0):OFFSET(テストデータ!AS3,294,0))","v":0},{"$f":"SUM(OFFSET(テストデータ!AX3,294,0):OFFSET(テストデータ!AZ3,294,0))","v":0},{"$f":"SUM(OFFSET(テストデータ!AX3,294,0):OFFSET(テストデータ!BB3,294,0))","v":0},{"$f":"SUM(OFFSET(テストデータ!BG3,294,0):OFFSET(テストデータ!BI3,294,0))","v":0},{"$f":"SUM(OFFSET(テストデータ!BG3,294,0):OFFSET(テストデータ!BK3,294,0))","v":0},{"$f":"SUM(OFFSET(テストデータ!BL3,294,0):OFFSET(テストデータ!BN3,294,0))","v":0},{"$f":"SUM(OFFSET(テストデータ!BL3,294,0):OFFSET(テストデータ!BP3,294,0))","v":0},{"$f":"SUM(OFFSET(テストデータ!BQ3,294,0):OFFSET(テストデータ!BS3,294,0))","v":0},{"$f":"SUM(OFFSET(テストデータ!BQ3,294,0):OFFSET(テストデータ!BU3,294,0))","v":0},{"$f":"SUM(OFFSET(テストデータ!BV3,294,0):OFFSET(テストデータ!BX3,294,0))","v":0},{"$f":"SUM(OFFSET(テストデータ!BV3,294,0):OFFSET(テストデータ!BZ3,294,0))","v":0},{"$f":"SUM(OFFSET(テストデータ!CA3,294,0):OFFSET(テストデータ!CC3,294,0))","v":0},{"$f":"SUM(OFFSET(テストデータ!CA3,294,0):OFFSET(テストデータ!CE3,294,0))","v":0},{"$f":"SUM(OFFSET(テストデータ!CF3,294,0):OFFSET(テストデータ!CH3,294,0))","v":0},{"$f":"SUM(OFFSET(テストデータ!CF3,294,0):OFFSET(テストデータ!CJ3,294,0))","v":0},{"$f":"SUM(OFFSET(テストデータ!CK3,294,0):OFFSET(テストデータ!CM3,294,0))","v":0},{"$f":"SUM(OFFSET(テストデータ!CK3,294,0):OFFSET(テストデータ!CO3,294,0))","v":0},{"$f":"SUM(OFFSET(テストデータ!CP3,294,0):OFFSET(テストデータ!CR3,294,0))","v":0},{"$f":"SUM(OFFSET(テストデータ!CP3,294,0):OFFSET(テストデータ!CT3,294,0))","v":0}]
[null,null,null,null,null,null,null,null,null,null,null,null,null,{"$f":"SUM(OFFSET(テストデータ!$E3,295,9*成績表1!$B$4-9):OFFSET(テストデータ!$G3,295,9*成績表1!$B$4-9))","v":0},{"$f":"SUM(OFFSET(テストデータ!$E3,295,9*成績表1!$B$4-9):OFFSET(テストデータ!I3,295,9*成績表1!$B$4-9))","v":0},{"$f":"SUM(OFFSET(テストデータ!E3,295,0):OFFSET(テストデータ!G3,295,0))","v":0},{"$f":"SUM(OFFSET(テストデータ!E3,295,0):OFFSET(テストデータ!I3,295,0))","v":0},{"$f":"SUM(OFFSET(テストデータ!N3,295,0):OFFSET(テストデータ!P3,295,0))","v":0},{"$f":"SUM(OFFSET(テストデータ!N3,295,0):OFFSET(テストデータ!R3,295,0))","v":0},{"$f":"SUM(OFFSET(テストデータ!W3,295,0):OFFSET(テストデータ!Y3,295,0))","v":0},{"$f":"SUM(OFFSET(テストデータ!W3,295,0):OFFSET(テストデータ!AA3,295,0))","v":0},{"$f":"SUM(OFFSET(テストデータ!AF3,295,0):OFFSET(テストデータ!AH3,295,0))","v":0},{"$f":"SUM(OFFSET(テストデータ!AF3,295,0):OFFSET(テストデータ!AJ3,295,0))","v":0},{"$f":"SUM(OFFSET(テストデータ!AO3,295,0):OFFSET(テストデータ!AQ3,295,0))","v":0},{"$f":"SUM(OFFSET(テストデータ!AO3,295,0):OFFSET(テストデータ!AS3,295,0))","v":0},{"$f":"SUM(OFFSET(テストデータ!AX3,295,0):OFFSET(テストデータ!AZ3,295,0))","v":0},{"$f":"SUM(OFFSET(テストデータ!AX3,295,0):OFFSET(テストデータ!BB3,295,0))","v":0},{"$f":"SUM(OFFSET(テストデータ!BG3,295,0):OFFSET(テストデータ!BI3,295,0))","v":0},{"$f":"SUM(OFFSET(テストデータ!BG3,295,0):OFFSET(テストデータ!BK3,295,0))","v":0},{"$f":"SUM(OFFSET(テストデータ!BL3,295,0):OFFSET(テストデータ!BN3,295,0))","v":0},{"$f":"SUM(OFFSET(テストデータ!BL3,295,0):OFFSET(テストデータ!BP3,295,0))","v":0},{"$f":"SUM(OFFSET(テストデータ!BQ3,295,0):OFFSET(テストデータ!BS3,295,0))","v":0},{"$f":"SUM(OFFSET(テストデータ!BQ3,295,0):OFFSET(テストデータ!BU3,295,0))","v":0},{"$f":"SUM(OFFSET(テストデータ!BV3,295,0):OFFSET(テストデータ!BX3,295,0))","v":0},{"$f":"SUM(OFFSET(テストデータ!BV3,295,0):OFFSET(テストデータ!BZ3,295,0))","v":0},{"$f":"SUM(OFFSET(テストデータ!CA3,295,0):OFFSET(テストデータ!CC3,295,0))","v":0},{"$f":"SUM(OFFSET(テストデータ!CA3,295,0):OFFSET(テストデータ!CE3,295,0))","v":0},{"$f":"SUM(OFFSET(テストデータ!CF3,295,0):OFFSET(テストデータ!CH3,295,0))","v":0},{"$f":"SUM(OFFSET(テストデータ!CF3,295,0):OFFSET(テストデータ!CJ3,295,0))","v":0},{"$f":"SUM(OFFSET(テストデータ!CK3,295,0):OFFSET(テストデータ!CM3,295,0))","v":0},{"$f":"SUM(OFFSET(テストデータ!CK3,295,0):OFFSET(テストデータ!CO3,295,0))","v":0},{"$f":"SUM(OFFSET(テストデータ!CP3,295,0):OFFSET(テストデータ!CR3,295,0))","v":0},{"$f":"SUM(OFFSET(テストデータ!CP3,295,0):OFFSET(テストデータ!CT3,295,0))","v":0}]
[null,null,null,null,null,null,null,null,null,null,null,null,null,{"$f":"SUM(OFFSET(テストデータ!$E3,296,9*成績表1!$B$4-9):OFFSET(テストデータ!$G3,296,9*成績表1!$B$4-9))","v":0},{"$f":"SUM(OFFSET(テストデータ!$E3,296,9*成績表1!$B$4-9):OFFSET(テストデータ!I3,296,9*成績表1!$B$4-9))","v":0},{"$f":"SUM(OFFSET(テストデータ!E3,296,0):OFFSET(テストデータ!G3,296,0))","v":0},{"$f":"SUM(OFFSET(テストデータ!E3,296,0):OFFSET(テストデータ!I3,296,0))","v":0},{"$f":"SUM(OFFSET(テストデータ!N3,296,0):OFFSET(テストデータ!P3,296,0))","v":0},{"$f":"SUM(OFFSET(テストデータ!N3,296,0):OFFSET(テストデータ!R3,296,0))","v":0},{"$f":"SUM(OFFSET(テストデータ!W3,296,0):OFFSET(テストデータ!Y3,296,0))","v":0},{"$f":"SUM(OFFSET(テストデータ!W3,296,0):OFFSET(テストデータ!AA3,296,0))","v":0},{"$f":"SUM(OFFSET(テストデータ!AF3,296,0):OFFSET(テストデータ!AH3,296,0))","v":0},{"$f":"SUM(OFFSET(テストデータ!AF3,296,0):OFFSET(テストデータ!AJ3,296,0))","v":0},{"$f":"SUM(OFFSET(テストデータ!AO3,296,0):OFFSET(テストデータ!AQ3,296,0))","v":0},{"$f":"SUM(OFFSET(テストデータ!AO3,296,0):OFFSET(テストデータ!AS3,296,0))","v":0},{"$f":"SUM(OFFSET(テストデータ!AX3,296,0):OFFSET(テストデータ!AZ3,296,0))","v":0},{"$f":"SUM(OFFSET(テストデータ!AX3,296,0):OFFSET(テストデータ!BB3,296,0))","v":0},{"$f":"SUM(OFFSET(テストデータ!BG3,296,0):OFFSET(テストデータ!BI3,296,0))","v":0},{"$f":"SUM(OFFSET(テストデータ!BG3,296,0):OFFSET(テストデータ!BK3,296,0))","v":0},{"$f":"SUM(OFFSET(テストデータ!BL3,296,0):OFFSET(テストデータ!BN3,296,0))","v":0},{"$f":"SUM(OFFSET(テストデータ!BL3,296,0):OFFSET(テストデータ!BP3,296,0))","v":0},{"$f":"SUM(OFFSET(テストデータ!BQ3,296,0):OFFSET(テストデータ!BS3,296,0))","v":0},{"$f":"SUM(OFFSET(テストデータ!BQ3,296,0):OFFSET(テストデータ!BU3,296,0))","v":0},{"$f":"SUM(OFFSET(テストデータ!BV3,296,0):OFFSET(テストデータ!BX3,296,0))","v":0},{"$f":"SUM(OFFSET(テストデータ!BV3,296,0):OFFSET(テストデータ!BZ3,296,0))","v":0},{"$f":"SUM(OFFSET(テストデータ!CA3,296,0):OFFSET(テストデータ!CC3,296,0))","v":0},{"$f":"SUM(OFFSET(テストデータ!CA3,296,0):OFFSET(テストデータ!CE3,296,0))","v":0},{"$f":"SUM(OFFSET(テストデータ!CF3,296,0):OFFSET(テストデータ!CH3,296,0))","v":0},{"$f":"SUM(OFFSET(テストデータ!CF3,296,0):OFFSET(テストデータ!CJ3,296,0))","v":0},{"$f":"SUM(OFFSET(テストデータ!CK3,296,0):OFFSET(テストデータ!CM3,296,0))","v":0},{"$f":"SUM(OFFSET(テストデータ!CK3,296,0):OFFSET(テストデータ!CO3,296,0))","v":0},{"$f":"SUM(OFFSET(テストデータ!CP3,296,0):OFFSET(テストデータ!CR3,296,0))","v":0},{"$f":"SUM(OFFSET(テストデータ!CP3,296,0):OFFSET(テストデータ!CT3,296,0))","v":0}]
[null,null,null,null,null,null,null,null,null,null,null,null,null,{"$f":"SUM(OFFSET(テストデータ!$E3,297,9*成績表1!$B$4-9):OFFSET(テストデータ!$G3,297,9*成績表1!$B$4-9))","v":0},{"$f":"SUM(OFFSET(テストデータ!$E3,297,9*成績表1!$B$4-9):OFFSET(テストデータ!I3,297,9*成績表1!$B$4-9))","v":0},{"$f":"SUM(OFFSET(テストデータ!E3,297,0):OFFSET(テストデータ!G3,297,0))","v":0},{"$f":"SUM(OFFSET(テストデータ!E3,297,0):OFFSET(テストデータ!I3,297,0))","v":0},{"$f":"SUM(OFFSET(テストデータ!N3,297,0):OFFSET(テストデータ!P3,297,0))","v":0},{"$f":"SUM(OFFSET(テストデータ!N3,297,0):OFFSET(テストデータ!R3,297,0))","v":0},{"$f":"SUM(OFFSET(テストデータ!W3,297,0):OFFSET(テストデータ!Y3,297,0))","v":0},{"$f":"SUM(OFFSET(テストデータ!W3,297,0):OFFSET(テストデータ!AA3,297,0))","v":0},{"$f":"SUM(OFFSET(テストデータ!AF3,297,0):OFFSET(テストデータ!AH3,297,0))","v":0},{"$f":"SUM(OFFSET(テストデータ!AF3,297,0):OFFSET(テストデータ!AJ3,297,0))","v":0},{"$f":"SUM(OFFSET(テストデータ!AO3,297,0):OFFSET(テストデータ!AQ3,297,0))","v":0},{"$f":"SUM(OFFSET(テストデータ!AO3,297,0):OFFSET(テストデータ!AS3,297,0))","v":0},{"$f":"SUM(OFFSET(テストデータ!AX3,297,0):OFFSET(テストデータ!AZ3,297,0))","v":0},{"$f":"SUM(OFFSET(テストデータ!AX3,297,0):OFFSET(テストデータ!BB3,297,0))","v":0},{"$f":"SUM(OFFSET(テストデータ!BG3,297,0):OFFSET(テストデータ!BI3,297,0))","v":0},{"$f":"SUM(OFFSET(テストデータ!BG3,297,0):OFFSET(テストデータ!BK3,297,0))","v":0},{"$f":"SUM(OFFSET(テストデータ!BL3,297,0):OFFSET(テストデータ!BN3,297,0))","v":0},{"$f":"SUM(OFFSET(テストデータ!BL3,297,0):OFFSET(テストデータ!BP3,297,0))","v":0},{"$f":"SUM(OFFSET(テストデータ!BQ3,297,0):OFFSET(テストデータ!BS3,297,0))","v":0},{"$f":"SUM(OFFSET(テストデータ!BQ3,297,0):OFFSET(テストデータ!BU3,297,0))","v":0},{"$f":"SUM(OFFSET(テストデータ!BV3,297,0):OFFSET(テストデータ!BX3,297,0))","v":0},{"$f":"SUM(OFFSET(テストデータ!BV3,297,0):OFFSET(テストデータ!BZ3,297,0))","v":0},{"$f":"SUM(OFFSET(テストデータ!CA3,297,0):OFFSET(テストデータ!CC3,297,0))","v":0},{"$f":"SUM(OFFSET(テストデータ!CA3,297,0):OFFSET(テストデータ!CE3,297,0))","v":0},{"$f":"SUM(OFFSET(テストデータ!CF3,297,0):OFFSET(テストデータ!CH3,297,0))","v":0},{"$f":"SUM(OFFSET(テストデータ!CF3,297,0):OFFSET(テストデータ!CJ3,297,0))","v":0},{"$f":"SUM(OFFSET(テストデータ!CK3,297,0):OFFSET(テストデータ!CM3,297,0))","v":0},{"$f":"SUM(OFFSET(テストデータ!CK3,297,0):OFFSET(テストデータ!CO3,297,0))","v":0},{"$f":"SUM(OFFSET(テストデータ!CP3,297,0):OFFSET(テストデータ!CR3,297,0))","v":0},{"$f":"SUM(OFFSET(テストデータ!CP3,297,0):OFFSET(テストデータ!CT3,297,0))","v":0}]
[null,null,null,null,null,null,null,null,null,null,null,null,null,{"$f":"SUM(OFFSET(テストデータ!$E3,298,9*成績表1!$B$4-9):OFFSET(テストデータ!$G3,298,9*成績表1!$B$4-9))","v":0},{"$f":"SUM(OFFSET(テストデータ!$E3,298,9*成績表1!$B$4-9):OFFSET(テストデータ!I3,298,9*成績表1!$B$4-9))","v":0},{"$f":"SUM(OFFSET(テストデータ!E3,298,0):OFFSET(テストデータ!G3,298,0))","v":0},{"$f":"SUM(OFFSET(テストデータ!E3,298,0):OFFSET(テストデータ!I3,298,0))","v":0},{"$f":"SUM(OFFSET(テストデータ!N3,298,0):OFFSET(テストデータ!P3,298,0))","v":0},{"$f":"SUM(OFFSET(テストデータ!N3,298,0):OFFSET(テストデータ!R3,298,0))","v":0},{"$f":"SUM(OFFSET(テストデータ!W3,298,0):OFFSET(テストデータ!Y3,298,0))","v":0},{"$f":"SUM(OFFSET(テストデータ!W3,298,0):OFFSET(テストデータ!AA3,298,0))","v":0},{"$f":"SUM(OFFSET(テストデータ!AF3,298,0):OFFSET(テストデータ!AH3,298,0))","v":0},{"$f":"SUM(OFFSET(テストデータ!AF3,298,0):OFFSET(テストデータ!AJ3,298,0))","v":0},{"$f":"SUM(OFFSET(テストデータ!AO3,298,0):OFFSET(テストデータ!AQ3,298,0))","v":0},{"$f":"SUM(OFFSET(テストデータ!AO3,298,0):OFFSET(テストデータ!AS3,298,0))","v":0},{"$f":"SUM(OFFSET(テストデータ!AX3,298,0):OFFSET(テストデータ!AZ3,298,0))","v":0},{"$f":"SUM(OFFSET(テストデータ!AX3,298,0):OFFSET(テストデータ!BB3,298,0))","v":0},{"$f":"SUM(OFFSET(テストデータ!BG3,298,0):OFFSET(テストデータ!BI3,298,0))","v":0},{"$f":"SUM(OFFSET(テストデータ!BG3,298,0):OFFSET(テストデータ!BK3,298,0))","v":0},{"$f":"SUM(OFFSET(テストデータ!BL3,298,0):OFFSET(テストデータ!BN3,298,0))","v":0},{"$f":"SUM(OFFSET(テストデータ!BL3,298,0):OFFSET(テストデータ!BP3,298,0))","v":0},{"$f":"SUM(OFFSET(テストデータ!BQ3,298,0):OFFSET(テストデータ!BS3,298,0))","v":0},{"$f":"SUM(OFFSET(テストデータ!BQ3,298,0):OFFSET(テストデータ!BU3,298,0))","v":0},{"$f":"SUM(OFFSET(テストデータ!BV3,298,0):OFFSET(テストデータ!BX3,298,0))","v":0},{"$f":"SUM(OFFSET(テストデータ!BV3,298,0):OFFSET(テストデータ!BZ3,298,0))","v":0},{"$f":"SUM(OFFSET(テストデータ!CA3,298,0):OFFSET(テストデータ!CC3,298,0))","v":0},{"$f":"SUM(OFFSET(テストデータ!CA3,298,0):OFFSET(テストデータ!CE3,298,0))","v":0},{"$f":"SUM(OFFSET(テストデータ!CF3,298,0):OFFSET(テストデータ!CH3,298,0))","v":0},{"$f":"SUM(OFFSET(テストデータ!CF3,298,0):OFFSET(テストデータ!CJ3,298,0))","v":0},{"$f":"SUM(OFFSET(テストデータ!CK3,298,0):OFFSET(テストデータ!CM3,298,0))","v":0},{"$f":"SUM(OFFSET(テストデータ!CK3,298,0):OFFSET(テストデータ!CO3,298,0))","v":0},{"$f":"SUM(OFFSET(テストデータ!CP3,298,0):OFFSET(テストデータ!CR3,298,0))","v":0},{"$f":"SUM(OFFSET(テストデータ!CP3,298,0):OFFSET(テストデータ!CT3,298,0))","v":0}]
[null,null,null,null,null,null,null,null,null,null,null,null,null,{"$f":"SUM(OFFSET(テストデータ!$E3,299,9*成績表1!$B$4-9):OFFSET(テストデータ!$G3,299,9*成績表1!$B$4-9))","v":0},{"$f":"SUM(OFFSET(テストデータ!$E3,299,9*成績表1!$B$4-9):OFFSET(テストデータ!I3,299,9*成績表1!$B$4-9))","v":0},{"$f":"SUM(OFFSET(テストデータ!E3,299,0):OFFSET(テストデータ!G3,299,0))","v":0},{"$f":"SUM(OFFSET(テストデータ!E3,299,0):OFFSET(テストデータ!I3,299,0))","v":0},{"$f":"SUM(OFFSET(テストデータ!N3,299,0):OFFSET(テストデータ!P3,299,0))","v":0},{"$f":"SUM(OFFSET(テストデータ!N3,299,0):OFFSET(テストデータ!R3,299,0))","v":0},{"$f":"SUM(OFFSET(テストデータ!W3,299,0):OFFSET(テストデータ!Y3,299,0))","v":0},{"$f":"SUM(OFFSET(テストデータ!W3,299,0):OFFSET(テストデータ!AA3,299,0))","v":0},{"$f":"SUM(OFFSET(テストデータ!AF3,299,0):OFFSET(テストデータ!AH3,299,0))","v":0},{"$f":"SUM(OFFSET(テストデータ!AF3,299,0):OFFSET(テストデータ!AJ3,299,0))","v":0},{"$f":"SUM(OFFSET(テストデータ!AO3,299,0):OFFSET(テストデータ!AQ3,299,0))","v":0},{"$f":"SUM(OFFSET(テストデータ!AO3,299,0):OFFSET(テストデータ!AS3,299,0))","v":0},{"$f":"SUM(OFFSET(テストデータ!AX3,299,0):OFFSET(テストデータ!AZ3,299,0))","v":0},{"$f":"SUM(OFFSET(テストデータ!AX3,299,0):OFFSET(テストデータ!BB3,299,0))","v":0},{"$f":"SUM(OFFSET(テストデータ!BG3,299,0):OFFSET(テストデータ!BI3,299,0))","v":0},{"$f":"SUM(OFFSET(テストデータ!BG3,299,0):OFFSET(テストデータ!BK3,299,0))","v":0},{"$f":"SUM(OFFSET(テストデータ!BL3,299,0):OFFSET(テストデータ!BN3,299,0))","v":0},{"$f":"SUM(OFFSET(テストデータ!BL3,299,0):OFFSET(テストデータ!BP3,299,0))","v":0},{"$f":"SUM(OFFSET(テストデータ!BQ3,299,0):OFFSET(テストデータ!BS3,299,0))","v":0},{"$f":"SUM(OFFSET(テストデータ!BQ3,299,0):OFFSET(テストデータ!BU3,299,0))","v":0},{"$f":"SUM(OFFSET(テストデータ!BV3,299,0):OFFSET(テストデータ!BX3,299,0))","v":0},{"$f":"SUM(OFFSET(テストデータ!BV3,299,0):OFFSET(テストデータ!BZ3,299,0))","v":0},{"$f":"SUM(OFFSET(テストデータ!CA3,299,0):OFFSET(テストデータ!CC3,299,0))","v":0},{"$f":"SUM(OFFSET(テストデータ!CA3,299,0):OFFSET(テストデータ!CE3,299,0))","v":0},{"$f":"SUM(OFFSET(テストデータ!CF3,299,0):OFFSET(テストデータ!CH3,299,0))","v":0},{"$f":"SUM(OFFSET(テストデータ!CF3,299,0):OFFSET(テストデータ!CJ3,299,0))","v":0},{"$f":"SUM(OFFSET(テストデータ!CK3,299,0):OFFSET(テストデータ!CM3,299,0))","v":0},{"$f":"SUM(OFFSET(テストデータ!CK3,299,0):OFFSET(テストデータ!CO3,299,0))","v":0},{"$f":"SUM(OFFSET(テストデータ!CP3,299,0):OFFSET(テストデータ!CR3,299,0))","v":0},{"$f":"SUM(OFFSET(テストデータ!CP3,299,0):OFFSET(テストデータ!CT3,299,0))","v":0}]
[null,null,null,null,null,null,null,null,null,null,null,null,null,{"$f":"SUM(OFFSET(テストデータ!$E3,300,9*成績表1!$B$4-9):OFFSET(テストデータ!$G3,300,9*成績表1!$B$4-9))","v":0},{"$f":"SUM(OFFSET(テストデータ!$E3,300,9*成績表1!$B$4-9):OFFSET(テストデータ!I3,300,9*成績表1!$B$4-9))","v":0},{"$f":"SUM(OFFSET(テストデータ!E3,300,0):OFFSET(テストデータ!G3,300,0))","v":0},{"$f":"SUM(OFFSET(テストデータ!E3,300,0):OFFSET(テストデータ!I3,300,0))","v":0},{"$f":"SUM(OFFSET(テストデータ!N3,300,0):OFFSET(テストデータ!P3,300,0))","v":0},{"$f":"SUM(OFFSET(テストデータ!N3,300,0):OFFSET(テストデータ!R3,300,0))","v":0},{"$f":"SUM(OFFSET(テストデータ!W3,300,0):OFFSET(テストデータ!Y3,300,0))","v":0},{"$f":"SUM(OFFSET(テストデータ!W3,300,0):OFFSET(テストデータ!AA3,300,0))","v":0},{"$f":"SUM(OFFSET(テストデータ!AF3,300,0):OFFSET(テストデータ!AH3,300,0))","v":0},{"$f":"SUM(OFFSET(テストデータ!AF3,300,0):OFFSET(テストデータ!AJ3,300,0))","v":0},{"$f":"SUM(OFFSET(テストデータ!AO3,300,0):OFFSET(テストデータ!AQ3,300,0))","v":0},{"$f":"SUM(OFFSET(テストデータ!AO3,300,0):OFFSET(テストデータ!AS3,300,0))","v":0},{"$f":"SUM(OFFSET(テストデータ!AX3,300,0):OFFSET(テストデータ!AZ3,300,0))","v":0},{"$f":"SUM(OFFSET(テストデータ!AX3,300,0):OFFSET(テストデータ!BB3,300,0))","v":0},{"$f":"SUM(OFFSET(テストデータ!BG3,300,0):OFFSET(テストデータ!BI3,300,0))","v":0},{"$f":"SUM(OFFSET(テストデータ!BG3,300,0):OFFSET(テストデータ!BK3,300,0))","v":0},{"$f":"SUM(OFFSET(テストデータ!BL3,300,0):OFFSET(テストデータ!BN3,300,0))","v":0},{"$f":"SUM(OFFSET(テストデータ!BL3,300,0):OFFSET(テストデータ!BP3,300,0))","v":0},{"$f":"SUM(OFFSET(テストデータ!BQ3,300,0):OFFSET(テストデータ!BS3,300,0))","v":0},{"$f":"SUM(OFFSET(テストデータ!BQ3,300,0):OFFSET(テストデータ!BU3,300,0))","v":0},{"$f":"SUM(OFFSET(テストデータ!BV3,300,0):OFFSET(テストデータ!BX3,300,0))","v":0},{"$f":"SUM(OFFSET(テストデータ!BV3,300,0):OFFSET(テストデータ!BZ3,300,0))","v":0},{"$f":"SUM(OFFSET(テストデータ!CA3,300,0):OFFSET(テストデータ!CC3,300,0))","v":0},{"$f":"SUM(OFFSET(テストデータ!CA3,300,0):OFFSET(テストデータ!CE3,300,0))","v":0},{"$f":"SUM(OFFSET(テストデータ!CF3,300,0):OFFSET(テストデータ!CH3,300,0))","v":0},{"$f":"SUM(OFFSET(テストデータ!CF3,300,0):OFFSET(テストデータ!CJ3,300,0))","v":0},{"$f":"SUM(OFFSET(テストデータ!CK3,300,0):OFFSET(テストデータ!CM3,300,0))","v":0},{"$f":"SUM(OFFSET(テストデータ!CK3,300,0):OFFSET(テストデータ!CO3,300,0))","v":0},{"$f":"SUM(OFFSET(テストデータ!CP3,300,0):OFFSET(テストデータ!CR3,300,0))","v":0},{"$f":"SUM(OFFSET(テストデータ!CP3,300,0):OFFSET(テストデータ!CT3,300,0))","v":0}]
[null,null,null,null,null,null,null,null,null,null,null,null,null,{"$f":"SUM(OFFSET(テストデータ!$E3,301,9*成績表1!$B$4-9):OFFSET(テストデータ!$G3,301,9*成績表1!$B$4-9))","v":0},{"$f":"SUM(OFFSET(テストデータ!$E3,301,9*成績表1!$B$4-9):OFFSET(テストデータ!I3,301,9*成績表1!$B$4-9))","v":0},{"$f":"SUM(OFFSET(テストデータ!E3,301,0):OFFSET(テストデータ!G3,301,0))","v":0},{"$f":"SUM(OFFSET(テストデータ!E3,301,0):OFFSET(テストデータ!I3,301,0))","v":0},{"$f":"SUM(OFFSET(テストデータ!N3,301,0):OFFSET(テストデータ!P3,301,0))","v":0},{"$f":"SUM(OFFSET(テストデータ!N3,301,0):OFFSET(テストデータ!R3,301,0))","v":0},{"$f":"SUM(OFFSET(テストデータ!W3,301,0):OFFSET(テストデータ!Y3,301,0))","v":0},{"$f":"SUM(OFFSET(テストデータ!W3,301,0):OFFSET(テストデータ!AA3,301,0))","v":0},{"$f":"SUM(OFFSET(テストデータ!AF3,301,0):OFFSET(テストデータ!AH3,301,0))","v":0},{"$f":"SUM(OFFSET(テストデータ!AF3,301,0):OFFSET(テストデータ!AJ3,301,0))","v":0},{"$f":"SUM(OFFSET(テストデータ!AO3,301,0):OFFSET(テストデータ!AQ3,301,0))","v":0},{"$f":"SUM(OFFSET(テストデータ!AO3,301,0):OFFSET(テストデータ!AS3,301,0))","v":0},{"$f":"SUM(OFFSET(テストデータ!AX3,301,0):OFFSET(テストデータ!AZ3,301,0))","v":0},{"$f":"SUM(OFFSET(テストデータ!AX3,301,0):OFFSET(テストデータ!BB3,301,0))","v":0},{"$f":"SUM(OFFSET(テストデータ!BG3,301,0):OFFSET(テストデータ!BI3,301,0))","v":0},{"$f":"SUM(OFFSET(テストデータ!BG3,301,0):OFFSET(テストデータ!BK3,301,0))","v":0},{"$f":"SUM(OFFSET(テストデータ!BL3,301,0):OFFSET(テストデータ!BN3,301,0))","v":0},{"$f":"SUM(OFFSET(テストデータ!BL3,301,0):OFFSET(テストデータ!BP3,301,0))","v":0},{"$f":"SUM(OFFSET(テストデータ!BQ3,301,0):OFFSET(テストデータ!BS3,301,0))","v":0},{"$f":"SUM(OFFSET(テストデータ!BQ3,301,0):OFFSET(テストデータ!BU3,301,0))","v":0},{"$f":"SUM(OFFSET(テストデータ!BV3,301,0):OFFSET(テストデータ!BX3,301,0))","v":0},{"$f":"SUM(OFFSET(テストデータ!BV3,301,0):OFFSET(テストデータ!BZ3,301,0))","v":0},{"$f":"SUM(OFFSET(テストデータ!CA3,301,0):OFFSET(テストデータ!CC3,301,0))","v":0},{"$f":"SUM(OFFSET(テストデータ!CA3,301,0):OFFSET(テストデータ!CE3,301,0))","v":0},{"$f":"SUM(OFFSET(テストデータ!CF3,301,0):OFFSET(テストデータ!CH3,301,0))","v":0},{"$f":"SUM(OFFSET(テストデータ!CF3,301,0):OFFSET(テストデータ!CJ3,301,0))","v":0},{"$f":"SUM(OFFSET(テストデータ!CK3,301,0):OFFSET(テストデータ!CM3,301,0))","v":0},{"$f":"SUM(OFFSET(テストデータ!CK3,301,0):OFFSET(テストデータ!CO3,301,0))","v":0},{"$f":"SUM(OFFSET(テストデータ!CP3,301,0):OFFSET(テストデータ!CR3,301,0))","v":0},{"$f":"SUM(OFFSET(テストデータ!CP3,301,0):OFFSET(テストデータ!CT3,301,0))","v":0}]
[null,null,null,null,null,null,null,null,null,null,null,null,null,{"$f":"SUM(OFFSET(テストデータ!$E3,302,9*成績表1!$B$4-9):OFFSET(テストデータ!$G3,302,9*成績表1!$B$4-9))","v":0},{"$f":"SUM(OFFSET(テストデータ!$E3,302,9*成績表1!$B$4-9):OFFSET(テストデータ!I3,302,9*成績表1!$B$4-9))","v":0},{"$f":"SUM(OFFSET(テストデータ!E3,302,0):OFFSET(テストデータ!G3,302,0))","v":0},{"$f":"SUM(OFFSET(テストデータ!E3,302,0):OFFSET(テストデータ!I3,302,0))","v":0},{"$f":"SUM(OFFSET(テストデータ!N3,302,0):OFFSET(テストデータ!P3,302,0))","v":0},{"$f":"SUM(OFFSET(テストデータ!N3,302,0):OFFSET(テストデータ!R3,302,0))","v":0},{"$f":"SUM(OFFSET(テストデータ!W3,302,0):OFFSET(テストデータ!Y3,302,0))","v":0},{"$f":"SUM(OFFSET(テストデータ!W3,302,0):OFFSET(テストデータ!AA3,302,0))","v":0},{"$f":"SUM(OFFSET(テストデータ!AF3,302,0):OFFSET(テストデータ!AH3,302,0))","v":0},{"$f":"SUM(OFFSET(テストデータ!AF3,302,0):OFFSET(テストデータ!AJ3,302,0))","v":0},{"$f":"SUM(OFFSET(テストデータ!AO3,302,0):OFFSET(テストデータ!AQ3,302,0))","v":0},{"$f":"SUM(OFFSET(テストデータ!AO3,302,0):OFFSET(テストデータ!AS3,302,0))","v":0},{"$f":"SUM(OFFSET(テストデータ!AX3,302,0):OFFSET(テストデータ!AZ3,302,0))","v":0},{"$f":"SUM(OFFSET(テストデータ!AX3,302,0):OFFSET(テストデータ!BB3,302,0))","v":0},{"$f":"SUM(OFFSET(テストデータ!BG3,302,0):OFFSET(テストデータ!BI3,302,0))","v":0},{"$f":"SUM(OFFSET(テストデータ!BG3,302,0):OFFSET(テストデータ!BK3,302,0))","v":0},{"$f":"SUM(OFFSET(テストデータ!BL3,302,0):OFFSET(テストデータ!BN3,302,0))","v":0},{"$f":"SUM(OFFSET(テストデータ!BL3,302,0):OFFSET(テストデータ!BP3,302,0))","v":0},{"$f":"SUM(OFFSET(テストデータ!BQ3,302,0):OFFSET(テストデータ!BS3,302,0))","v":0},{"$f":"SUM(OFFSET(テストデータ!BQ3,302,0):OFFSET(テストデータ!BU3,302,0))","v":0},{"$f":"SUM(OFFSET(テストデータ!BV3,302,0):OFFSET(テストデータ!BX3,302,0))","v":0},{"$f":"SUM(OFFSET(テストデータ!BV3,302,0):OFFSET(テストデータ!BZ3,302,0))","v":0},{"$f":"SUM(OFFSET(テストデータ!CA3,302,0):OFFSET(テストデータ!CC3,302,0))","v":0},{"$f":"SUM(OFFSET(テストデータ!CA3,302,0):OFFSET(テストデータ!CE3,302,0))","v":0},{"$f":"SUM(OFFSET(テストデータ!CF3,302,0):OFFSET(テストデータ!CH3,302,0))","v":0},{"$f":"SUM(OFFSET(テストデータ!CF3,302,0):OFFSET(テストデータ!CJ3,302,0))","v":0},{"$f":"SUM(OFFSET(テストデータ!CK3,302,0):OFFSET(テストデータ!CM3,302,0))","v":0},{"$f":"SUM(OFFSET(テストデータ!CK3,302,0):OFFSET(テストデータ!CO3,302,0))","v":0},{"$f":"SUM(OFFSET(テストデータ!CP3,302,0):OFFSET(テストデータ!CR3,302,0))","v":0},{"$f":"SUM(OFFSET(テストデータ!CP3,302,0):OFFSET(テストデータ!CT3,302,0))","v":0}]
[null,null,null,null,null,null,null,null,null,null,null,null,null,{"$f":"SUM(OFFSET(テストデータ!$E3,303,9*成績表1!$B$4-9):OFFSET(テストデータ!$G3,303,9*成績表1!$B$4-9))","v":0},{"$f":"SUM(OFFSET(テストデータ!$E3,303,9*成績表1!$B$4-9):OFFSET(テストデータ!I3,303,9*成績表1!$B$4-9))","v":0},{"$f":"SUM(OFFSET(テストデータ!E3,303,0):OFFSET(テストデータ!G3,303,0))","v":0},{"$f":"SUM(OFFSET(テストデータ!E3,303,0):OFFSET(テストデータ!I3,303,0))","v":0},{"$f":"SUM(OFFSET(テストデータ!N3,303,0):OFFSET(テストデータ!P3,303,0))","v":0},{"$f":"SUM(OFFSET(テストデータ!N3,303,0):OFFSET(テストデータ!R3,303,0))","v":0},{"$f":"SUM(OFFSET(テストデータ!W3,303,0):OFFSET(テストデータ!Y3,303,0))","v":0},{"$f":"SUM(OFFSET(テストデータ!W3,303,0):OFFSET(テストデータ!AA3,303,0))","v":0},{"$f":"SUM(OFFSET(テストデータ!AF3,303,0):OFFSET(テストデータ!AH3,303,0))","v":0},{"$f":"SUM(OFFSET(テストデータ!AF3,303,0):OFFSET(テストデータ!AJ3,303,0))","v":0},{"$f":"SUM(OFFSET(テストデータ!AO3,303,0):OFFSET(テストデータ!AQ3,303,0))","v":0},{"$f":"SUM(OFFSET(テストデータ!AO3,303,0):OFFSET(テストデータ!AS3,303,0))","v":0},{"$f":"SUM(OFFSET(テストデータ!AX3,303,0):OFFSET(テストデータ!AZ3,303,0))","v":0},{"$f":"SUM(OFFSET(テストデータ!AX3,303,0):OFFSET(テストデータ!BB3,303,0))","v":0},{"$f":"SUM(OFFSET(テストデータ!BG3,303,0):OFFSET(テストデータ!BI3,303,0))","v":0},{"$f":"SUM(OFFSET(テストデータ!BG3,303,0):OFFSET(テストデータ!BK3,303,0))","v":0},{"$f":"SUM(OFFSET(テストデータ!BL3,303,0):OFFSET(テストデータ!BN3,303,0))","v":0},{"$f":"SUM(OFFSET(テストデータ!BL3,303,0):OFFSET(テストデータ!BP3,303,0))","v":0},{"$f":"SUM(OFFSET(テストデータ!BQ3,303,0):OFFSET(テストデータ!BS3,303,0))","v":0},{"$f":"SUM(OFFSET(テストデータ!BQ3,303,0):OFFSET(テストデータ!BU3,303,0))","v":0},{"$f":"SUM(OFFSET(テストデータ!BV3,303,0):OFFSET(テストデータ!BX3,303,0))","v":0},{"$f":"SUM(OFFSET(テストデータ!BV3,303,0):OFFSET(テストデータ!BZ3,303,0))","v":0},{"$f":"SUM(OFFSET(テストデータ!CA3,303,0):OFFSET(テストデータ!CC3,303,0))","v":0},{"$f":"SUM(OFFSET(テストデータ!CA3,303,0):OFFSET(テストデータ!CE3,303,0))","v":0},{"$f":"SUM(OFFSET(テストデータ!CF3,303,0):OFFSET(テストデータ!CH3,303,0))","v":0},{"$f":"SUM(OFFSET(テストデータ!CF3,303,0):OFFSET(テストデータ!CJ3,303,0))","v":0},{"$f":"SUM(OFFSET(テストデータ!CK3,303,0):OFFSET(テストデータ!CM3,303,0))","v":0},{"$f":"SUM(OFFSET(テストデータ!CK3,303,0):OFFSET(テストデータ!CO3,303,0))","v":0},{"$f":"SUM(OFFSET(テストデータ!CP3,303,0):OFFSET(テストデータ!CR3,303,0))","v":0},{"$f":"SUM(OFFSET(テストデータ!CP3,303,0):OFFSET(テストデータ!CT3,303,0))","v":0}]
[null,null,null,null,null,null,null,null,null,null,null,null,null,{"$f":"SUM(OFFSET(テストデータ!$E3,304,9*成績表1!$B$4-9):OFFSET(テストデータ!$G3,304,9*成績表1!$B$4-9))","v":0},{"$f":"SUM(OFFSET(テストデータ!$E3,304,9*成績表1!$B$4-9):OFFSET(テストデータ!I3,304,9*成績表1!$B$4-9))","v":0},{"$f":"SUM(OFFSET(テストデータ!E3,304,0):OFFSET(テストデータ!G3,304,0))","v":0},{"$f":"SUM(OFFSET(テストデータ!E3,304,0):OFFSET(テストデータ!I3,304,0))","v":0},{"$f":"SUM(OFFSET(テストデータ!N3,304,0):OFFSET(テストデータ!P3,304,0))","v":0},{"$f":"SUM(OFFSET(テストデータ!N3,304,0):OFFSET(テストデータ!R3,304,0))","v":0},{"$f":"SUM(OFFSET(テストデータ!W3,304,0):OFFSET(テストデータ!Y3,304,0))","v":0},{"$f":"SUM(OFFSET(テストデータ!W3,304,0):OFFSET(テストデータ!AA3,304,0))","v":0},{"$f":"SUM(OFFSET(テストデータ!AF3,304,0):OFFSET(テストデータ!AH3,304,0))","v":0},{"$f":"SUM(OFFSET(テストデータ!AF3,304,0):OFFSET(テストデータ!AJ3,304,0))","v":0},{"$f":"SUM(OFFSET(テストデータ!AO3,304,0):OFFSET(テストデータ!AQ3,304,0))","v":0},{"$f":"SUM(OFFSET(テストデータ!AO3,304,0):OFFSET(テストデータ!AS3,304,0))","v":0},{"$f":"SUM(OFFSET(テストデータ!AX3,304,0):OFFSET(テストデータ!AZ3,304,0))","v":0},{"$f":"SUM(OFFSET(テストデータ!AX3,304,0):OFFSET(テストデータ!BB3,304,0))","v":0},{"$f":"SUM(OFFSET(テストデータ!BG3,304,0):OFFSET(テストデータ!BI3,304,0))","v":0},{"$f":"SUM(OFFSET(テストデータ!BG3,304,0):OFFSET(テストデータ!BK3,304,0))","v":0},{"$f":"SUM(OFFSET(テストデータ!BL3,304,0):OFFSET(テストデータ!BN3,304,0))","v":0},{"$f":"SUM(OFFSET(テストデータ!BL3,304,0):OFFSET(テストデータ!BP3,304,0))","v":0},{"$f":"SUM(OFFSET(テストデータ!BQ3,304,0):OFFSET(テストデータ!BS3,304,0))","v":0},{"$f":"SUM(OFFSET(テストデータ!BQ3,304,0):OFFSET(テストデータ!BU3,304,0))","v":0},{"$f":"SUM(OFFSET(テストデータ!BV3,304,0):OFFSET(テストデータ!BX3,304,0))","v":0},{"$f":"SUM(OFFSET(テストデータ!BV3,304,0):OFFSET(テストデータ!BZ3,304,0))","v":0},{"$f":"SUM(OFFSET(テストデータ!CA3,304,0):OFFSET(テストデータ!CC3,304,0))","v":0},{"$f":"SUM(OFFSET(テストデータ!CA3,304,0):OFFSET(テストデータ!CE3,304,0))","v":0},{"$f":"SUM(OFFSET(テストデータ!CF3,304,0):OFFSET(テストデータ!CH3,304,0))","v":0},{"$f":"SUM(OFFSET(テストデータ!CF3,304,0):OFFSET(テストデータ!CJ3,304,0))","v":0},{"$f":"SUM(OFFSET(テストデータ!CK3,304,0):OFFSET(テストデータ!CM3,304,0))","v":0},{"$f":"SUM(OFFSET(テストデータ!CK3,304,0):OFFSET(テストデータ!CO3,304,0))","v":0},{"$f":"SUM(OFFSET(テストデータ!CP3,304,0):OFFSET(テストデータ!CR3,304,0))","v":0},{"$f":"SUM(OFFSET(テストデータ!CP3,304,0):OFFSET(テストデータ!CT3,304,0))","v":0}]
[null,null,null,null,null,null,null,null,null,null,null,null,null,{"$f":"SUM(OFFSET(テストデータ!$E3,305,9*成績表1!$B$4-9):OFFSET(テストデータ!$G3,305,9*成績表1!$B$4-9))","v":0},{"$f":"SUM(OFFSET(テストデータ!$E3,305,9*成績表1!$B$4-9):OFFSET(テストデータ!I3,305,9*成績表1!$B$4-9))","v":0},{"$f":"SUM(OFFSET(テストデータ!E3,305,0):OFFSET(テストデータ!G3,305,0))","v":0},{"$f":"SUM(OFFSET(テストデータ!E3,305,0):OFFSET(テストデータ!I3,305,0))","v":0},{"$f":"SUM(OFFSET(テストデータ!N3,305,0):OFFSET(テストデータ!P3,305,0))","v":0},{"$f":"SUM(OFFSET(テストデータ!N3,305,0):OFFSET(テストデータ!R3,305,0))","v":0},{"$f":"SUM(OFFSET(テストデータ!W3,305,0):OFFSET(テストデータ!Y3,305,0))","v":0},{"$f":"SUM(OFFSET(テストデータ!W3,305,0):OFFSET(テストデータ!AA3,305,0))","v":0},{"$f":"SUM(OFFSET(テストデータ!AF3,305,0):OFFSET(テストデータ!AH3,305,0))","v":0},{"$f":"SUM(OFFSET(テストデータ!AF3,305,0):OFFSET(テストデータ!AJ3,305,0))","v":0},{"$f":"SUM(OFFSET(テストデータ!AO3,305,0):OFFSET(テストデータ!AQ3,305,0))","v":0},{"$f":"SUM(OFFSET(テストデータ!AO3,305,0):OFFSET(テストデータ!AS3,305,0))","v":0},{"$f":"SUM(OFFSET(テストデータ!AX3,305,0):OFFSET(テストデータ!AZ3,305,0))","v":0},{"$f":"SUM(OFFSET(テストデータ!AX3,305,0):OFFSET(テストデータ!BB3,305,0))","v":0},{"$f":"SUM(OFFSET(テストデータ!BG3,305,0):OFFSET(テストデータ!BI3,305,0))","v":0},{"$f":"SUM(OFFSET(テストデータ!BG3,305,0):OFFSET(テストデータ!BK3,305,0))","v":0},{"$f":"SUM(OFFSET(テストデータ!BL3,305,0):OFFSET(テストデータ!BN3,305,0))","v":0},{"$f":"SUM(OFFSET(テストデータ!BL3,305,0):OFFSET(テストデータ!BP3,305,0))","v":0},{"$f":"SUM(OFFSET(テストデータ!BQ3,305,0):OFFSET(テストデータ!BS3,305,0))","v":0},{"$f":"SUM(OFFSET(テストデータ!BQ3,305,0):OFFSET(テストデータ!BU3,305,0))","v":0},{"$f":"SUM(OFFSET(テストデータ!BV3,305,0):OFFSET(テストデータ!BX3,305,0))","v":0},{"$f":"SUM(OFFSET(テストデータ!BV3,305,0):OFFSET(テストデータ!BZ3,305,0))","v":0},{"$f":"SUM(OFFSET(テストデータ!CA3,305,0):OFFSET(テストデータ!CC3,305,0))","v":0},{"$f":"SUM(OFFSET(テストデータ!CA3,305,0):OFFSET(テストデータ!CE3,305,0))","v":0},{"$f":"SUM(OFFSET(テストデータ!CF3,305,0):OFFSET(テストデータ!CH3,305,0))","v":0},{"$f":"SUM(OFFSET(テストデータ!CF3,305,0):OFFSET(テストデータ!CJ3,305,0))","v":0},{"$f":"SUM(OFFSET(テストデータ!CK3,305,0):OFFSET(テストデータ!CM3,305,0))","v":0},{"$f":"SUM(OFFSET(テストデータ!CK3,305,0):OFFSET(テストデータ!CO3,305,0))","v":0},{"$f":"SUM(OFFSET(テストデータ!CP3,305,0):OFFSET(テストデータ!CR3,305,0))","v":0},{"$f":"SUM(OFFSET(テストデータ!CP3,305,0):OFFSET(テストデータ!CT3,305,0))","v":0}]
[null,null,null,null,null,null,null,null,null,null,null,null,null,{"$f":"SUM(OFFSET(テストデータ!$E3,306,9*成績表1!$B$4-9):OFFSET(テストデータ!$G3,306,9*成績表1!$B$4-9))","v":0},{"$f":"SUM(OFFSET(テストデータ!$E3,306,9*成績表1!$B$4-9):OFFSET(テストデータ!I3,306,9*成績表1!$B$4-9))","v":0},{"$f":"SUM(OFFSET(テストデータ!E3,306,0):OFFSET(テストデータ!G3,306,0))","v":0},{"$f":"SUM(OFFSET(テストデータ!E3,306,0):OFFSET(テストデータ!I3,306,0))","v":0},{"$f":"SUM(OFFSET(テストデータ!N3,306,0):OFFSET(テストデータ!P3,306,0))","v":0},{"$f":"SUM(OFFSET(テストデータ!N3,306,0):OFFSET(テストデータ!R3,306,0))","v":0},{"$f":"SUM(OFFSET(テストデータ!W3,306,0):OFFSET(テストデータ!Y3,306,0))","v":0},{"$f":"SUM(OFFSET(テストデータ!W3,306,0):OFFSET(テストデータ!AA3,306,0))","v":0},{"$f":"SUM(OFFSET(テストデータ!AF3,306,0):OFFSET(テストデータ!AH3,306,0))","v":0},{"$f":"SUM(OFFSET(テストデータ!AF3,306,0):OFFSET(テストデータ!AJ3,306,0))","v":0},{"$f":"SUM(OFFSET(テストデータ!AO3,306,0):OFFSET(テストデータ!AQ3,306,0))","v":0},{"$f":"SUM(OFFSET(テストデータ!AO3,306,0):OFFSET(テストデータ!AS3,306,0))","v":0},{"$f":"SUM(OFFSET(テストデータ!AX3,306,0):OFFSET(テストデータ!AZ3,306,0))","v":0},{"$f":"SUM(OFFSET(テストデータ!AX3,306,0):OFFSET(テストデータ!BB3,306,0))","v":0},{"$f":"SUM(OFFSET(テストデータ!BG3,306,0):OFFSET(テストデータ!BI3,306,0))","v":0},{"$f":"SUM(OFFSET(テストデータ!BG3,306,0):OFFSET(テストデータ!BK3,306,0))","v":0},{"$f":"SUM(OFFSET(テストデータ!BL3,306,0):OFFSET(テストデータ!BN3,306,0))","v":0},{"$f":"SUM(OFFSET(テストデータ!BL3,306,0):OFFSET(テストデータ!BP3,306,0))","v":0},{"$f":"SUM(OFFSET(テストデータ!BQ3,306,0):OFFSET(テストデータ!BS3,306,0))","v":0},{"$f":"SUM(OFFSET(テストデータ!BQ3,306,0):OFFSET(テストデータ!BU3,306,0))","v":0},{"$f":"SUM(OFFSET(テストデータ!BV3,306,0):OFFSET(テストデータ!BX3,306,0))","v":0},{"$f":"SUM(OFFSET(テストデータ!BV3,306,0):OFFSET(テストデータ!BZ3,306,0))","v":0},{"$f":"SUM(OFFSET(テストデータ!CA3,306,0):OFFSET(テストデータ!CC3,306,0))","v":0},{"$f":"SUM(OFFSET(テストデータ!CA3,306,0):OFFSET(テストデータ!CE3,306,0))","v":0},{"$f":"SUM(OFFSET(テストデータ!CF3,306,0):OFFSET(テストデータ!CH3,306,0))","v":0},{"$f":"SUM(OFFSET(テストデータ!CF3,306,0):OFFSET(テストデータ!CJ3,306,0))","v":0},{"$f":"SUM(OFFSET(テストデータ!CK3,306,0):OFFSET(テストデータ!CM3,306,0))","v":0},{"$f":"SUM(OFFSET(テストデータ!CK3,306,0):OFFSET(テストデータ!CO3,306,0))","v":0},{"$f":"SUM(OFFSET(テストデータ!CP3,306,0):OFFSET(テストデータ!CR3,306,0))","v":0},{"$f":"SUM(OFFSET(テストデータ!CP3,306,0):OFFSET(テストデータ!CT3,306,0))","v":0}]
[null,null,null,null,null,null,null,null,null,null,null,null,null,{"$f":"SUM(OFFSET(テストデータ!$E3,307,9*成績表1!$B$4-9):OFFSET(テストデータ!$G3,307,9*成績表1!$B$4-9))","v":0},{"$f":"SUM(OFFSET(テストデータ!$E3,307,9*成績表1!$B$4-9):OFFSET(テストデータ!I3,307,9*成績表1!$B$4-9))","v":0},{"$f":"SUM(OFFSET(テストデータ!E3,307,0):OFFSET(テストデータ!G3,307,0))","v":0},{"$f":"SUM(OFFSET(テストデータ!E3,307,0):OFFSET(テストデータ!I3,307,0))","v":0},{"$f":"SUM(OFFSET(テストデータ!N3,307,0):OFFSET(テストデータ!P3,307,0))","v":0},{"$f":"SUM(OFFSET(テストデータ!N3,307,0):OFFSET(テストデータ!R3,307,0))","v":0},{"$f":"SUM(OFFSET(テストデータ!W3,307,0):OFFSET(テストデータ!Y3,307,0))","v":0},{"$f":"SUM(OFFSET(テストデータ!W3,307,0):OFFSET(テストデータ!AA3,307,0))","v":0},{"$f":"SUM(OFFSET(テストデータ!AF3,307,0):OFFSET(テストデータ!AH3,307,0))","v":0},{"$f":"SUM(OFFSET(テストデータ!AF3,307,0):OFFSET(テストデータ!AJ3,307,0))","v":0},{"$f":"SUM(OFFSET(テストデータ!AO3,307,0):OFFSET(テストデータ!AQ3,307,0))","v":0},{"$f":"SUM(OFFSET(テストデータ!AO3,307,0):OFFSET(テストデータ!AS3,307,0))","v":0},{"$f":"SUM(OFFSET(テストデータ!AX3,307,0):OFFSET(テストデータ!AZ3,307,0))","v":0},{"$f":"SUM(OFFSET(テストデータ!AX3,307,0):OFFSET(テストデータ!BB3,307,0))","v":0},{"$f":"SUM(OFFSET(テストデータ!BG3,307,0):OFFSET(テストデータ!BI3,307,0))","v":0},{"$f":"SUM(OFFSET(テストデータ!BG3,307,0):OFFSET(テストデータ!BK3,307,0))","v":0},{"$f":"SUM(OFFSET(テストデータ!BL3,307,0):OFFSET(テストデータ!BN3,307,0))","v":0},{"$f":"SUM(OFFSET(テストデータ!BL3,307,0):OFFSET(テストデータ!BP3,307,0))","v":0},{"$f":"SUM(OFFSET(テストデータ!BQ3,307,0):OFFSET(テストデータ!BS3,307,0))","v":0},{"$f":"SUM(OFFSET(テストデータ!BQ3,307,0):OFFSET(テストデータ!BU3,307,0))","v":0},{"$f":"SUM(OFFSET(テストデータ!BV3,307,0):OFFSET(テストデータ!BX3,307,0))","v":0},{"$f":"SUM(OFFSET(テストデータ!BV3,307,0):OFFSET(テストデータ!BZ3,307,0))","v":0},{"$f":"SUM(OFFSET(テストデータ!CA3,307,0):OFFSET(テストデータ!CC3,307,0))","v":0},{"$f":"SUM(OFFSET(テストデータ!CA3,307,0):OFFSET(テストデータ!CE3,307,0))","v":0},{"$f":"SUM(OFFSET(テストデータ!CF3,307,0):OFFSET(テストデータ!CH3,307,0))","v":0},{"$f":"SUM(OFFSET(テストデータ!CF3,307,0):OFFSET(テストデータ!CJ3,307,0))","v":0},{"$f":"SUM(OFFSET(テストデータ!CK3,307,0):OFFSET(テストデータ!CM3,307,0))","v":0},{"$f":"SUM(OFFSET(テストデータ!CK3,307,0):OFFSET(テストデータ!CO3,307,0))","v":0},{"$f":"SUM(OFFSET(テストデータ!CP3,307,0):OFFSET(テストデータ!CR3,307,0))","v":0},{"$f":"SUM(OFFSET(テストデータ!CP3,307,0):OFFSET(テストデータ!CT3,307,0))","v":0}]
[null,null,null,null,null,null,null,null,null,null,null,null,null,{"$f":"SUM(OFFSET(テストデータ!$E3,308,9*成績表1!$B$4-9):OFFSET(テストデータ!$G3,308,9*成績表1!$B$4-9))","v":0},{"$f":"SUM(OFFSET(テストデータ!$E3,308,9*成績表1!$B$4-9):OFFSET(テストデータ!I3,308,9*成績表1!$B$4-9))","v":0},{"$f":"SUM(OFFSET(テストデータ!E3,308,0):OFFSET(テストデータ!G3,308,0))","v":0},{"$f":"SUM(OFFSET(テストデータ!E3,308,0):OFFSET(テストデータ!I3,308,0))","v":0},{"$f":"SUM(OFFSET(テストデータ!N3,308,0):OFFSET(テストデータ!P3,308,0))","v":0},{"$f":"SUM(OFFSET(テストデータ!N3,308,0):OFFSET(テストデータ!R3,308,0))","v":0},{"$f":"SUM(OFFSET(テストデータ!W3,308,0):OFFSET(テストデータ!Y3,308,0))","v":0},{"$f":"SUM(OFFSET(テストデータ!W3,308,0):OFFSET(テストデータ!AA3,308,0))","v":0},{"$f":"SUM(OFFSET(テストデータ!AF3,308,0):OFFSET(テストデータ!AH3,308,0))","v":0},{"$f":"SUM(OFFSET(テストデータ!AF3,308,0):OFFSET(テストデータ!AJ3,308,0))","v":0},{"$f":"SUM(OFFSET(テストデータ!AO3,308,0):OFFSET(テストデータ!AQ3,308,0))","v":0},{"$f":"SUM(OFFSET(テストデータ!AO3,308,0):OFFSET(テストデータ!AS3,308,0))","v":0},{"$f":"SUM(OFFSET(テストデータ!AX3,308,0):OFFSET(テストデータ!AZ3,308,0))","v":0},{"$f":"SUM(OFFSET(テストデータ!AX3,308,0):OFFSET(テストデータ!BB3,308,0))","v":0},{"$f":"SUM(OFFSET(テストデータ!BG3,308,0):OFFSET(テストデータ!BI3,308,0))","v":0},{"$f":"SUM(OFFSET(テストデータ!BG3,308,0):OFFSET(テストデータ!BK3,308,0))","v":0},{"$f":"SUM(OFFSET(テストデータ!BL3,308,0):OFFSET(テストデータ!BN3,308,0))","v":0},{"$f":"SUM(OFFSET(テストデータ!BL3,308,0):OFFSET(テストデータ!BP3,308,0))","v":0},{"$f":"SUM(OFFSET(テストデータ!BQ3,308,0):OFFSET(テストデータ!BS3,308,0))","v":0},{"$f":"SUM(OFFSET(テストデータ!BQ3,308,0):OFFSET(テストデータ!BU3,308,0))","v":0},{"$f":"SUM(OFFSET(テストデータ!BV3,308,0):OFFSET(テストデータ!BX3,308,0))","v":0},{"$f":"SUM(OFFSET(テストデータ!BV3,308,0):OFFSET(テストデータ!BZ3,308,0))","v":0},{"$f":"SUM(OFFSET(テストデータ!CA3,308,0):OFFSET(テストデータ!CC3,308,0))","v":0},{"$f":"SUM(OFFSET(テストデータ!CA3,308,0):OFFSET(テストデータ!CE3,308,0))","v":0},{"$f":"SUM(OFFSET(テストデータ!CF3,308,0):OFFSET(テストデータ!CH3,308,0))","v":0},{"$f":"SUM(OFFSET(テストデータ!CF3,308,0):OFFSET(テストデータ!CJ3,308,0))","v":0},{"$f":"SUM(OFFSET(テストデータ!CK3,308,0):OFFSET(テストデータ!CM3,308,0))","v":0},{"$f":"SUM(OFFSET(テストデータ!CK3,308,0):OFFSET(テストデータ!CO3,308,0))","v":0},{"$f":"SUM(OFFSET(テストデータ!CP3,308,0):OFFSET(テストデータ!CR3,308,0))","v":0},{"$f":"SUM(OFFSET(テストデータ!CP3,308,0):OFFSET(テストデータ!CT3,308,0))","v":0}]
[null,null,null,null,null,null,null,null,null,null,null,null,null,{"$f":"SUM(OFFSET(テストデータ!$E3,309,9*成績表1!$B$4-9):OFFSET(テストデータ!$G3,309,9*成績表1!$B$4-9))","v":0},{"$f":"SUM(OFFSET(テストデータ!$E3,309,9*成績表1!$B$4-9):OFFSET(テストデータ!I3,309,9*成績表1!$B$4-9))","v":0},{"$f":"SUM(OFFSET(テストデータ!E3,309,0):OFFSET(テストデータ!G3,309,0))","v":0},{"$f":"SUM(OFFSET(テストデータ!E3,309,0):OFFSET(テストデータ!I3,309,0))","v":0},{"$f":"SUM(OFFSET(テストデータ!N3,309,0):OFFSET(テストデータ!P3,309,0))","v":0},{"$f":"SUM(OFFSET(テストデータ!N3,309,0):OFFSET(テストデータ!R3,309,0))","v":0},{"$f":"SUM(OFFSET(テストデータ!W3,309,0):OFFSET(テストデータ!Y3,309,0))","v":0},{"$f":"SUM(OFFSET(テストデータ!W3,309,0):OFFSET(テストデータ!AA3,309,0))","v":0},{"$f":"SUM(OFFSET(テストデータ!AF3,309,0):OFFSET(テストデータ!AH3,309,0))","v":0},{"$f":"SUM(OFFSET(テストデータ!AF3,309,0):OFFSET(テストデータ!AJ3,309,0))","v":0},{"$f":"SUM(OFFSET(テストデータ!AO3,309,0):OFFSET(テストデータ!AQ3,309,0))","v":0},{"$f":"SUM(OFFSET(テストデータ!AO3,309,0):OFFSET(テストデータ!AS3,309,0))","v":0},{"$f":"SUM(OFFSET(テストデータ!AX3,309,0):OFFSET(テストデータ!AZ3,309,0))","v":0},{"$f":"SUM(OFFSET(テストデータ!AX3,309,0):OFFSET(テストデータ!BB3,309,0))","v":0},{"$f":"SUM(OFFSET(テストデータ!BG3,309,0):OFFSET(テストデータ!BI3,309,0))","v":0},{"$f":"SUM(OFFSET(テストデータ!BG3,309,0):OFFSET(テストデータ!BK3,309,0))","v":0},{"$f":"SUM(OFFSET(テストデータ!BL3,309,0):OFFSET(テストデータ!BN3,309,0))","v":0},{"$f":"SUM(OFFSET(テストデータ!BL3,309,0):OFFSET(テストデータ!BP3,309,0))","v":0},{"$f":"SUM(OFFSET(テストデータ!BQ3,309,0):OFFSET(テストデータ!BS3,309,0))","v":0},{"$f":"SUM(OFFSET(テストデータ!BQ3,309,0):OFFSET(テストデータ!BU3,309,0))","v":0},{"$f":"SUM(OFFSET(テストデータ!BV3,309,0):OFFSET(テストデータ!BX3,309,0))","v":0},{"$f":"SUM(OFFSET(テストデータ!BV3,309,0):OFFSET(テストデータ!BZ3,309,0))","v":0},{"$f":"SUM(OFFSET(テストデータ!CA3,309,0):OFFSET(テストデータ!CC3,309,0))","v":0},{"$f":"SUM(OFFSET(テストデータ!CA3,309,0):OFFSET(テストデータ!CE3,309,0))","v":0},{"$f":"SUM(OFFSET(テストデータ!CF3,309,0):OFFSET(テストデータ!CH3,309,0))","v":0},{"$f":"SUM(OFFSET(テストデータ!CF3,309,0):OFFSET(テストデータ!CJ3,309,0))","v":0},{"$f":"SUM(OFFSET(テストデータ!CK3,309,0):OFFSET(テストデータ!CM3,309,0))","v":0},{"$f":"SUM(OFFSET(テストデータ!CK3,309,0):OFFSET(テストデータ!CO3,309,0))","v":0},{"$f":"SUM(OFFSET(テストデータ!CP3,309,0):OFFSET(テストデータ!CR3,309,0))","v":0},{"$f":"SUM(OFFSET(テストデータ!CP3,309,0):OFFSET(テストデータ!CT3,309,0))","v":0}]
[null,null,null,null,null,null,null,null,null,null,null,null,null,{"$f":"SUM(OFFSET(テストデータ!$E3,310,9*成績表1!$B$4-9):OFFSET(テストデータ!$G3,310,9*成績表1!$B$4-9))","v":0},{"$f":"SUM(OFFSET(テストデータ!$E3,310,9*成績表1!$B$4-9):OFFSET(テストデータ!I3,310,9*成績表1!$B$4-9))","v":0},{"$f":"SUM(OFFSET(テストデータ!E3,310,0):OFFSET(テストデータ!G3,310,0))","v":0},{"$f":"SUM(OFFSET(テストデータ!E3,310,0):OFFSET(テストデータ!I3,310,0))","v":0},{"$f":"SUM(OFFSET(テストデータ!N3,310,0):OFFSET(テストデータ!P3,310,0))","v":0},{"$f":"SUM(OFFSET(テストデータ!N3,310,0):OFFSET(テストデータ!R3,310,0))","v":0},{"$f":"SUM(OFFSET(テストデータ!W3,310,0):OFFSET(テストデータ!Y3,310,0))","v":0},{"$f":"SUM(OFFSET(テストデータ!W3,310,0):OFFSET(テストデータ!AA3,310,0))","v":0},{"$f":"SUM(OFFSET(テストデータ!AF3,310,0):OFFSET(テストデータ!AH3,310,0))","v":0},{"$f":"SUM(OFFSET(テストデータ!AF3,310,0):OFFSET(テストデータ!AJ3,310,0))","v":0},{"$f":"SUM(OFFSET(テストデータ!AO3,310,0):OFFSET(テストデータ!AQ3,310,0))","v":0},{"$f":"SUM(OFFSET(テストデータ!AO3,310,0):OFFSET(テストデータ!AS3,310,0))","v":0},{"$f":"SUM(OFFSET(テストデータ!AX3,310,0):OFFSET(テストデータ!AZ3,310,0))","v":0},{"$f":"SUM(OFFSET(テストデータ!AX3,310,0):OFFSET(テストデータ!BB3,310,0))","v":0},{"$f":"SUM(OFFSET(テストデータ!BG3,310,0):OFFSET(テストデータ!BI3,310,0))","v":0},{"$f":"SUM(OFFSET(テストデータ!BG3,310,0):OFFSET(テストデータ!BK3,310,0))","v":0},{"$f":"SUM(OFFSET(テストデータ!BL3,310,0):OFFSET(テストデータ!BN3,310,0))","v":0},{"$f":"SUM(OFFSET(テストデータ!BL3,310,0):OFFSET(テストデータ!BP3,310,0))","v":0},{"$f":"SUM(OFFSET(テストデータ!BQ3,310,0):OFFSET(テストデータ!BS3,310,0))","v":0},{"$f":"SUM(OFFSET(テストデータ!BQ3,310,0):OFFSET(テストデータ!BU3,310,0))","v":0},{"$f":"SUM(OFFSET(テストデータ!BV3,310,0):OFFSET(テストデータ!BX3,310,0))","v":0},{"$f":"SUM(OFFSET(テストデータ!BV3,310,0):OFFSET(テストデータ!BZ3,310,0))","v":0},{"$f":"SUM(OFFSET(テストデータ!CA3,310,0):OFFSET(テストデータ!CC3,310,0))","v":0},{"$f":"SUM(OFFSET(テストデータ!CA3,310,0):OFFSET(テストデータ!CE3,310,0))","v":0},{"$f":"SUM(OFFSET(テストデータ!CF3,310,0):OFFSET(テストデータ!CH3,310,0))","v":0},{"$f":"SUM(OFFSET(テストデータ!CF3,310,0):OFFSET(テストデータ!CJ3,310,0))","v":0},{"$f":"SUM(OFFSET(テストデータ!CK3,310,0):OFFSET(テストデータ!CM3,310,0))","v":0},{"$f":"SUM(OFFSET(テストデータ!CK3,310,0):OFFSET(テストデータ!CO3,310,0))","v":0},{"$f":"SUM(OFFSET(テストデータ!CP3,310,0):OFFSET(テストデータ!CR3,310,0))","v":0},{"$f":"SUM(OFFSET(テストデータ!CP3,310,0):OFFSET(テストデータ!CT3,310,0))","v":0}]
[null,null,null,null,null,null,null,null,null,null,null,null,null,{"$f":"SUM(OFFSET(テストデータ!$E3,311,9*成績表1!$B$4-9):OFFSET(テストデータ!$G3,311,9*成績表1!$B$4-9))","v":0},{"$f":"SUM(OFFSET(テストデータ!$E3,311,9*成績表1!$B$4-9):OFFSET(テストデータ!I3,311,9*成績表1!$B$4-9))","v":0},{"$f":"SUM(OFFSET(テストデータ!E3,311,0):OFFSET(テストデータ!G3,311,0))","v":0},{"$f":"SUM(OFFSET(テストデータ!E3,311,0):OFFSET(テストデータ!I3,311,0))","v":0},{"$f":"SUM(OFFSET(テストデータ!N3,311,0):OFFSET(テストデータ!P3,311,0))","v":0},{"$f":"SUM(OFFSET(テストデータ!N3,311,0):OFFSET(テストデータ!R3,311,0))","v":0},{"$f":"SUM(OFFSET(テストデータ!W3,311,0):OFFSET(テストデータ!Y3,311,0))","v":0},{"$f":"SUM(OFFSET(テストデータ!W3,311,0):OFFSET(テストデータ!AA3,311,0))","v":0},{"$f":"SUM(OFFSET(テストデータ!AF3,311,0):OFFSET(テストデータ!AH3,311,0))","v":0},{"$f":"SUM(OFFSET(テストデータ!AF3,311,0):OFFSET(テストデータ!AJ3,311,0))","v":0},{"$f":"SUM(OFFSET(テストデータ!AO3,311,0):OFFSET(テストデータ!AQ3,311,0))","v":0},{"$f":"SUM(OFFSET(テストデータ!AO3,311,0):OFFSET(テストデータ!AS3,311,0))","v":0},{"$f":"SUM(OFFSET(テストデータ!AX3,311,0):OFFSET(テストデータ!AZ3,311,0))","v":0},{"$f":"SUM(OFFSET(テストデータ!AX3,311,0):OFFSET(テストデータ!BB3,311,0))","v":0},{"$f":"SUM(OFFSET(テストデータ!BG3,311,0):OFFSET(テストデータ!BI3,311,0))","v":0},{"$f":"SUM(OFFSET(テストデータ!BG3,311,0):OFFSET(テストデータ!BK3,311,0))","v":0},{"$f":"SUM(OFFSET(テストデータ!BL3,311,0):OFFSET(テストデータ!BN3,311,0))","v":0},{"$f":"SUM(OFFSET(テストデータ!BL3,311,0):OFFSET(テストデータ!BP3,311,0))","v":0},{"$f":"SUM(OFFSET(テストデータ!BQ3,311,0):OFFSET(テストデータ!BS3,311,0))","v":0},{"$f":"SUM(OFFSET(テストデータ!BQ3,311,0):OFFSET(テストデータ!BU3,311,0))","v":0},{"$f":"SUM(OFFSET(テストデータ!BV3,311,0):OFFSET(テストデータ!BX3,311,0))","v":0},{"$f":"SUM(OFFSET(テストデータ!BV3,311,0):OFFSET(テストデータ!BZ3,311,0))","v":0},{"$f":"SUM(OFFSET(テストデータ!CA3,311,0):OFFSET(テストデータ!CC3,311,0))","v":0},{"$f":"SUM(OFFSET(テストデータ!CA3,311,0):OFFSET(テストデータ!CE3,311,0))","v":0},{"$f":"SUM(OFFSET(テストデータ!CF3,311,0):OFFSET(テストデータ!CH3,311,0))","v":0},{"$f":"SUM(OFFSET(テストデータ!CF3,311,0):OFFSET(テストデータ!CJ3,311,0))","v":0},{"$f":"SUM(OFFSET(テストデータ!CK3,311,0):OFFSET(テストデータ!CM3,311,0))","v":0},{"$f":"SUM(OFFSET(テストデータ!CK3,311,0):OFFSET(テストデータ!CO3,311,0))","v":0},{"$f":"SUM(OFFSET(テストデータ!CP3,311,0):OFFSET(テストデータ!CR3,311,0))","v":0},{"$f":"SUM(OFFSET(テストデータ!CP3,311,0):OFFSET(テストデータ!CT3,311,0))","v":0}]
[null,null,null,null,null,null,null,null,null,null,null,null,null,{"$f":"SUM(OFFSET(テストデータ!$E3,312,9*成績表1!$B$4-9):OFFSET(テストデータ!$G3,312,9*成績表1!$B$4-9))","v":0},{"$f":"SUM(OFFSET(テストデータ!$E3,312,9*成績表1!$B$4-9):OFFSET(テストデータ!I3,312,9*成績表1!$B$4-9))","v":0},{"$f":"SUM(OFFSET(テストデータ!E3,312,0):OFFSET(テストデータ!G3,312,0))","v":0},{"$f":"SUM(OFFSET(テストデータ!E3,312,0):OFFSET(テストデータ!I3,312,0))","v":0},{"$f":"SUM(OFFSET(テストデータ!N3,312,0):OFFSET(テストデータ!P3,312,0))","v":0},{"$f":"SUM(OFFSET(テストデータ!N3,312,0):OFFSET(テストデータ!R3,312,0))","v":0},{"$f":"SUM(OFFSET(テストデータ!W3,312,0):OFFSET(テストデータ!Y3,312,0))","v":0},{"$f":"SUM(OFFSET(テストデータ!W3,312,0):OFFSET(テストデータ!AA3,312,0))","v":0},{"$f":"SUM(OFFSET(テストデータ!AF3,312,0):OFFSET(テストデータ!AH3,312,0))","v":0},{"$f":"SUM(OFFSET(テストデータ!AF3,312,0):OFFSET(テストデータ!AJ3,312,0))","v":0},{"$f":"SUM(OFFSET(テストデータ!AO3,312,0):OFFSET(テストデータ!AQ3,312,0))","v":0},{"$f":"SUM(OFFSET(テストデータ!AO3,312,0):OFFSET(テストデータ!AS3,312,0))","v":0},{"$f":"SUM(OFFSET(テストデータ!AX3,312,0):OFFSET(テストデータ!AZ3,312,0))","v":0},{"$f":"SUM(OFFSET(テストデータ!AX3,312,0):OFFSET(テストデータ!BB3,312,0))","v":0},{"$f":"SUM(OFFSET(テストデータ!BG3,312,0):OFFSET(テストデータ!BI3,312,0))","v":0},{"$f":"SUM(OFFSET(テストデータ!BG3,312,0):OFFSET(テストデータ!BK3,312,0))","v":0},{"$f":"SUM(OFFSET(テストデータ!BL3,312,0):OFFSET(テストデータ!BN3,312,0))","v":0},{"$f":"SUM(OFFSET(テストデータ!BL3,312,0):OFFSET(テストデータ!BP3,312,0))","v":0},{"$f":"SUM(OFFSET(テストデータ!BQ3,312,0):OFFSET(テストデータ!BS3,312,0))","v":0},{"$f":"SUM(OFFSET(テストデータ!BQ3,312,0):OFFSET(テストデータ!BU3,312,0))","v":0},{"$f":"SUM(OFFSET(テストデータ!BV3,312,0):OFFSET(テストデータ!BX3,312,0))","v":0},{"$f":"SUM(OFFSET(テストデータ!BV3,312,0):OFFSET(テストデータ!BZ3,312,0))","v":0},{"$f":"SUM(OFFSET(テストデータ!CA3,312,0):OFFSET(テストデータ!CC3,312,0))","v":0},{"$f":"SUM(OFFSET(テストデータ!CA3,312,0):OFFSET(テストデータ!CE3,312,0))","v":0},{"$f":"SUM(OFFSET(テストデータ!CF3,312,0):OFFSET(テストデータ!CH3,312,0))","v":0},{"$f":"SUM(OFFSET(テストデータ!CF3,312,0):OFFSET(テストデータ!CJ3,312,0))","v":0},{"$f":"SUM(OFFSET(テストデータ!CK3,312,0):OFFSET(テストデータ!CM3,312,0))","v":0},{"$f":"SUM(OFFSET(テストデータ!CK3,312,0):OFFSET(テストデータ!CO3,312,0))","v":0},{"$f":"SUM(OFFSET(テストデータ!CP3,312,0):OFFSET(テストデータ!CR3,312,0))","v":0},{"$f":"SUM(OFFSET(テストデータ!CP3,312,0):OFFSET(テストデータ!CT3,312,0))","v":0}]
[null,null,null,null,null,null,null,null,null,null,null,null,null,{"$f":"SUM(OFFSET(テストデータ!$E3,313,9*成績表1!$B$4-9):OFFSET(テストデータ!$G3,313,9*成績表1!$B$4-9))","v":0},{"$f":"SUM(OFFSET(テストデータ!$E3,313,9*成績表1!$B$4-9):OFFSET(テストデータ!I3,313,9*成績表1!$B$4-9))","v":0},{"$f":"SUM(OFFSET(テストデータ!E3,313,0):OFFSET(テストデータ!G3,313,0))","v":0},{"$f":"SUM(OFFSET(テストデータ!E3,313,0):OFFSET(テストデータ!I3,313,0))","v":0},{"$f":"SUM(OFFSET(テストデータ!N3,313,0):OFFSET(テストデータ!P3,313,0))","v":0},{"$f":"SUM(OFFSET(テストデータ!N3,313,0):OFFSET(テストデータ!R3,313,0))","v":0},{"$f":"SUM(OFFSET(テストデータ!W3,313,0):OFFSET(テストデータ!Y3,313,0))","v":0},{"$f":"SUM(OFFSET(テストデータ!W3,313,0):OFFSET(テストデータ!AA3,313,0))","v":0},{"$f":"SUM(OFFSET(テストデータ!AF3,313,0):OFFSET(テストデータ!AH3,313,0))","v":0},{"$f":"SUM(OFFSET(テストデータ!AF3,313,0):OFFSET(テストデータ!AJ3,313,0))","v":0},{"$f":"SUM(OFFSET(テストデータ!AO3,313,0):OFFSET(テストデータ!AQ3,313,0))","v":0},{"$f":"SUM(OFFSET(テストデータ!AO3,313,0):OFFSET(テストデータ!AS3,313,0))","v":0},{"$f":"SUM(OFFSET(テストデータ!AX3,313,0):OFFSET(テストデータ!AZ3,313,0))","v":0},{"$f":"SUM(OFFSET(テストデータ!AX3,313,0):OFFSET(テストデータ!BB3,313,0))","v":0},{"$f":"SUM(OFFSET(テストデータ!BG3,313,0):OFFSET(テストデータ!BI3,313,0))","v":0},{"$f":"SUM(OFFSET(テストデータ!BG3,313,0):OFFSET(テストデータ!BK3,313,0))","v":0},{"$f":"SUM(OFFSET(テストデータ!BL3,313,0):OFFSET(テストデータ!BN3,313,0))","v":0},{"$f":"SUM(OFFSET(テストデータ!BL3,313,0):OFFSET(テストデータ!BP3,313,0))","v":0},{"$f":"SUM(OFFSET(テストデータ!BQ3,313,0):OFFSET(テストデータ!BS3,313,0))","v":0},{"$f":"SUM(OFFSET(テストデータ!BQ3,313,0):OFFSET(テストデータ!BU3,313,0))","v":0},{"$f":"SUM(OFFSET(テストデータ!BV3,313,0):OFFSET(テストデータ!BX3,313,0))","v":0},{"$f":"SUM(OFFSET(テストデータ!BV3,313,0):OFFSET(テストデータ!BZ3,313,0))","v":0},{"$f":"SUM(OFFSET(テストデータ!CA3,313,0):OFFSET(テストデータ!CC3,313,0))","v":0},{"$f":"SUM(OFFSET(テストデータ!CA3,313,0):OFFSET(テストデータ!CE3,313,0))","v":0},{"$f":"SUM(OFFSET(テストデータ!CF3,313,0):OFFSET(テストデータ!CH3,313,0))","v":0},{"$f":"SUM(OFFSET(テストデータ!CF3,313,0):OFFSET(テストデータ!CJ3,313,0))","v":0},{"$f":"SUM(OFFSET(テストデータ!CK3,313,0):OFFSET(テストデータ!CM3,313,0))","v":0},{"$f":"SUM(OFFSET(テストデータ!CK3,313,0):OFFSET(テストデータ!CO3,313,0))","v":0},{"$f":"SUM(OFFSET(テストデータ!CP3,313,0):OFFSET(テストデータ!CR3,313,0))","v":0},{"$f":"SUM(OFFSET(テストデータ!CP3,313,0):OFFSET(テストデータ!CT3,313,0))","v":0}]
[null,null,null,null,null,null,null,null,null,null,null,null,null,{"$f":"SUM(OFFSET(テストデータ!$E3,314,9*成績表1!$B$4-9):OFFSET(テストデータ!$G3,314,9*成績表1!$B$4-9))","v":0},{"$f":"SUM(OFFSET(テストデータ!$E3,314,9*成績表1!$B$4-9):OFFSET(テストデータ!I3,314,9*成績表1!$B$4-9))","v":0},{"$f":"SUM(OFFSET(テストデータ!E3,314,0):OFFSET(テストデータ!G3,314,0))","v":0},{"$f":"SUM(OFFSET(テストデータ!E3,314,0):OFFSET(テストデータ!I3,314,0))","v":0},{"$f":"SUM(OFFSET(テストデータ!N3,314,0):OFFSET(テストデータ!P3,314,0))","v":0},{"$f":"SUM(OFFSET(テストデータ!N3,314,0):OFFSET(テストデータ!R3,314,0))","v":0},{"$f":"SUM(OFFSET(テストデータ!W3,314,0):OFFSET(テストデータ!Y3,314,0))","v":0},{"$f":"SUM(OFFSET(テストデータ!W3,314,0):OFFSET(テストデータ!AA3,314,0))","v":0},{"$f":"SUM(OFFSET(テストデータ!AF3,314,0):OFFSET(テストデータ!AH3,314,0))","v":0},{"$f":"SUM(OFFSET(テストデータ!AF3,314,0):OFFSET(テストデータ!AJ3,314,0))","v":0},{"$f":"SUM(OFFSET(テストデータ!AO3,314,0):OFFSET(テストデータ!AQ3,314,0))","v":0},{"$f":"SUM(OFFSET(テストデータ!AO3,314,0):OFFSET(テストデータ!AS3,314,0))","v":0},{"$f":"SUM(OFFSET(テストデータ!AX3,314,0):OFFSET(テストデータ!AZ3,314,0))","v":0},{"$f":"SUM(OFFSET(テストデータ!AX3,314,0):OFFSET(テストデータ!BB3,314,0))","v":0},{"$f":"SUM(OFFSET(テストデータ!BG3,314,0):OFFSET(テストデータ!BI3,314,0))","v":0},{"$f":"SUM(OFFSET(テストデータ!BG3,314,0):OFFSET(テストデータ!BK3,314,0))","v":0},{"$f":"SUM(OFFSET(テストデータ!BL3,314,0):OFFSET(テストデータ!BN3,314,0))","v":0},{"$f":"SUM(OFFSET(テストデータ!BL3,314,0):OFFSET(テストデータ!BP3,314,0))","v":0},{"$f":"SUM(OFFSET(テストデータ!BQ3,314,0):OFFSET(テストデータ!BS3,314,0))","v":0},{"$f":"SUM(OFFSET(テストデータ!BQ3,314,0):OFFSET(テストデータ!BU3,314,0))","v":0},{"$f":"SUM(OFFSET(テストデータ!BV3,314,0):OFFSET(テストデータ!BX3,314,0))","v":0},{"$f":"SUM(OFFSET(テストデータ!BV3,314,0):OFFSET(テストデータ!BZ3,314,0))","v":0},{"$f":"SUM(OFFSET(テストデータ!CA3,314,0):OFFSET(テストデータ!CC3,314,0))","v":0},{"$f":"SUM(OFFSET(テストデータ!CA3,314,0):OFFSET(テストデータ!CE3,314,0))","v":0},{"$f":"SUM(OFFSET(テストデータ!CF3,314,0):OFFSET(テストデータ!CH3,314,0))","v":0},{"$f":"SUM(OFFSET(テストデータ!CF3,314,0):OFFSET(テストデータ!CJ3,314,0))","v":0},{"$f":"SUM(OFFSET(テストデータ!CK3,314,0):OFFSET(テストデータ!CM3,314,0))","v":0},{"$f":"SUM(OFFSET(テストデータ!CK3,314,0):OFFSET(テストデータ!CO3,314,0))","v":0},{"$f":"SUM(OFFSET(テストデータ!CP3,314,0):OFFSET(テストデータ!CR3,314,0))","v":0},{"$f":"SUM(OFFSET(テストデータ!CP3,314,0):OFFSET(テストデータ!CT3,314,0))","v":0}]
[null,null,null,null,null,null,null,null,null,null,null,null,null,{"$f":"SUM(OFFSET(テストデータ!$E3,315,9*成績表1!$B$4-9):OFFSET(テストデータ!$G3,315,9*成績表1!$B$4-9))","v":0},{"$f":"SUM(OFFSET(テストデータ!$E3,315,9*成績表1!$B$4-9):OFFSET(テストデータ!I3,315,9*成績表1!$B$4-9))","v":0},{"$f":"SUM(OFFSET(テストデータ!E3,315,0):OFFSET(テストデータ!G3,315,0))","v":0},{"$f":"SUM(OFFSET(テストデータ!E3,315,0):OFFSET(テストデータ!I3,315,0))","v":0},{"$f":"SUM(OFFSET(テストデータ!N3,315,0):OFFSET(テストデータ!P3,315,0))","v":0},{"$f":"SUM(OFFSET(テストデータ!N3,315,0):OFFSET(テストデータ!R3,315,0))","v":0},{"$f":"SUM(OFFSET(テストデータ!W3,315,0):OFFSET(テストデータ!Y3,315,0))","v":0},{"$f":"SUM(OFFSET(テストデータ!W3,315,0):OFFSET(テストデータ!AA3,315,0))","v":0},{"$f":"SUM(OFFSET(テストデータ!AF3,315,0):OFFSET(テストデータ!AH3,315,0))","v":0},{"$f":"SUM(OFFSET(テストデータ!AF3,315,0):OFFSET(テストデータ!AJ3,315,0))","v":0},{"$f":"SUM(OFFSET(テストデータ!AO3,315,0):OFFSET(テストデータ!AQ3,315,0))","v":0},{"$f":"SUM(OFFSET(テストデータ!AO3,315,0):OFFSET(テストデータ!AS3,315,0))","v":0},{"$f":"SUM(OFFSET(テストデータ!AX3,315,0):OFFSET(テストデータ!AZ3,315,0))","v":0},{"$f":"SUM(OFFSET(テストデータ!AX3,315,0):OFFSET(テストデータ!BB3,315,0))","v":0},{"$f":"SUM(OFFSET(テストデータ!BG3,315,0):OFFSET(テストデータ!BI3,315,0))","v":0},{"$f":"SUM(OFFSET(テストデータ!BG3,315,0):OFFSET(テストデータ!BK3,315,0))","v":0},{"$f":"SUM(OFFSET(テストデータ!BL3,315,0):OFFSET(テストデータ!BN3,315,0))","v":0},{"$f":"SUM(OFFSET(テストデータ!BL3,315,0):OFFSET(テストデータ!BP3,315,0))","v":0},{"$f":"SUM(OFFSET(テストデータ!BQ3,315,0):OFFSET(テストデータ!BS3,315,0))","v":0},{"$f":"SUM(OFFSET(テストデータ!BQ3,315,0):OFFSET(テストデータ!BU3,315,0))","v":0},{"$f":"SUM(OFFSET(テストデータ!BV3,315,0):OFFSET(テストデータ!BX3,315,0))","v":0},{"$f":"SUM(OFFSET(テストデータ!BV3,315,0):OFFSET(テストデータ!BZ3,315,0))","v":0},{"$f":"SUM(OFFSET(テストデータ!CA3,315,0):OFFSET(テストデータ!CC3,315,0))","v":0},{"$f":"SUM(OFFSET(テストデータ!CA3,315,0):OFFSET(テストデータ!CE3,315,0))","v":0},{"$f":"SUM(OFFSET(テストデータ!CF3,315,0):OFFSET(テストデータ!CH3,315,0))","v":0},{"$f":"SUM(OFFSET(テストデータ!CF3,315,0):OFFSET(テストデータ!CJ3,315,0))","v":0},{"$f":"SUM(OFFSET(テストデータ!CK3,315,0):OFFSET(テストデータ!CM3,315,0))","v":0},{"$f":"SUM(OFFSET(テストデータ!CK3,315,0):OFFSET(テストデータ!CO3,315,0))","v":0},{"$f":"SUM(OFFSET(テストデータ!CP3,315,0):OFFSET(テストデータ!CR3,315,0))","v":0},{"$f":"SUM(OFFSET(テストデータ!CP3,315,0):OFFSET(テストデータ!CT3,315,0))","v":0}]
[null,null,null,null,null,null,null,null,null,null,null,null,null,{"$f":"SUM(OFFSET(テストデータ!$E3,316,9*成績表1!$B$4-9):OFFSET(テストデータ!$G3,316,9*成績表1!$B$4-9))","v":0},{"$f":"SUM(OFFSET(テストデータ!$E3,316,9*成績表1!$B$4-9):OFFSET(テストデータ!I3,316,9*成績表1!$B$4-9))","v":0},{"$f":"SUM(OFFSET(テストデータ!E3,316,0):OFFSET(テストデータ!G3,316,0))","v":0},{"$f":"SUM(OFFSET(テストデータ!E3,316,0):OFFSET(テストデータ!I3,316,0))","v":0},{"$f":"SUM(OFFSET(テストデータ!N3,316,0):OFFSET(テストデータ!P3,316,0))","v":0},{"$f":"SUM(OFFSET(テストデータ!N3,316,0):OFFSET(テストデータ!R3,316,0))","v":0},{"$f":"SUM(OFFSET(テストデータ!W3,316,0):OFFSET(テストデータ!Y3,316,0))","v":0},{"$f":"SUM(OFFSET(テストデータ!W3,316,0):OFFSET(テストデータ!AA3,316,0))","v":0},{"$f":"SUM(OFFSET(テストデータ!AF3,316,0):OFFSET(テストデータ!AH3,316,0))","v":0},{"$f":"SUM(OFFSET(テストデータ!AF3,316,0):OFFSET(テストデータ!AJ3,316,0))","v":0},{"$f":"SUM(OFFSET(テストデータ!AO3,316,0):OFFSET(テストデータ!AQ3,316,0))","v":0},{"$f":"SUM(OFFSET(テストデータ!AO3,316,0):OFFSET(テストデータ!AS3,316,0))","v":0},{"$f":"SUM(OFFSET(テストデータ!AX3,316,0):OFFSET(テストデータ!AZ3,316,0))","v":0},{"$f":"SUM(OFFSET(テストデータ!AX3,316,0):OFFSET(テストデータ!BB3,316,0))","v":0},{"$f":"SUM(OFFSET(テストデータ!BG3,316,0):OFFSET(テストデータ!BI3,316,0))","v":0},{"$f":"SUM(OFFSET(テストデータ!BG3,316,0):OFFSET(テストデータ!BK3,316,0))","v":0},{"$f":"SUM(OFFSET(テストデータ!BL3,316,0):OFFSET(テストデータ!BN3,316,0))","v":0},{"$f":"SUM(OFFSET(テストデータ!BL3,316,0):OFFSET(テストデータ!BP3,316,0))","v":0},{"$f":"SUM(OFFSET(テストデータ!BQ3,316,0):OFFSET(テストデータ!BS3,316,0))","v":0},{"$f":"SUM(OFFSET(テストデータ!BQ3,316,0):OFFSET(テストデータ!BU3,316,0))","v":0},{"$f":"SUM(OFFSET(テストデータ!BV3,316,0):OFFSET(テストデータ!BX3,316,0))","v":0},{"$f":"SUM(OFFSET(テストデータ!BV3,316,0):OFFSET(テストデータ!BZ3,316,0))","v":0},{"$f":"SUM(OFFSET(テストデータ!CA3,316,0):OFFSET(テストデータ!CC3,316,0))","v":0},{"$f":"SUM(OFFSET(テストデータ!CA3,316,0):OFFSET(テストデータ!CE3,316,0))","v":0},{"$f":"SUM(OFFSET(テストデータ!CF3,316,0):OFFSET(テストデータ!CH3,316,0))","v":0},{"$f":"SUM(OFFSET(テストデータ!CF3,316,0):OFFSET(テストデータ!CJ3,316,0))","v":0},{"$f":"SUM(OFFSET(テストデータ!CK3,316,0):OFFSET(テストデータ!CM3,316,0))","v":0},{"$f":"SUM(OFFSET(テストデータ!CK3,316,0):OFFSET(テストデータ!CO3,316,0))","v":0},{"$f":"SUM(OFFSET(テストデータ!CP3,316,0):OFFSET(テストデータ!CR3,316,0))","v":0},{"$f":"SUM(OFFSET(テストデータ!CP3,316,0):OFFSET(テストデータ!CT3,316,0))","v":0}]
[null,null,null,null,null,null,null,null,null,null,null,null,null,{"$f":"SUM(OFFSET(テストデータ!$E3,317,9*成績表1!$B$4-9):OFFSET(テストデータ!$G3,317,9*成績表1!$B$4-9))","v":0},{"$f":"SUM(OFFSET(テストデータ!$E3,317,9*成績表1!$B$4-9):OFFSET(テストデータ!I3,317,9*成績表1!$B$4-9))","v":0},{"$f":"SUM(OFFSET(テストデータ!E3,317,0):OFFSET(テストデータ!G3,317,0))","v":0},{"$f":"SUM(OFFSET(テストデータ!E3,317,0):OFFSET(テストデータ!I3,317,0))","v":0},{"$f":"SUM(OFFSET(テストデータ!N3,317,0):OFFSET(テストデータ!P3,317,0))","v":0},{"$f":"SUM(OFFSET(テストデータ!N3,317,0):OFFSET(テストデータ!R3,317,0))","v":0},{"$f":"SUM(OFFSET(テストデータ!W3,317,0):OFFSET(テストデータ!Y3,317,0))","v":0},{"$f":"SUM(OFFSET(テストデータ!W3,317,0):OFFSET(テストデータ!AA3,317,0))","v":0},{"$f":"SUM(OFFSET(テストデータ!AF3,317,0):OFFSET(テストデータ!AH3,317,0))","v":0},{"$f":"SUM(OFFSET(テストデータ!AF3,317,0):OFFSET(テストデータ!AJ3,317,0))","v":0},{"$f":"SUM(OFFSET(テストデータ!AO3,317,0):OFFSET(テストデータ!AQ3,317,0))","v":0},{"$f":"SUM(OFFSET(テストデータ!AO3,317,0):OFFSET(テストデータ!AS3,317,0))","v":0},{"$f":"SUM(OFFSET(テストデータ!AX3,317,0):OFFSET(テストデータ!AZ3,317,0))","v":0},{"$f":"SUM(OFFSET(テストデータ!AX3,317,0):OFFSET(テストデータ!BB3,317,0))","v":0},{"$f":"SUM(OFFSET(テストデータ!BG3,317,0):OFFSET(テストデータ!BI3,317,0))","v":0},{"$f":"SUM(OFFSET(テストデータ!BG3,317,0):OFFSET(テストデータ!BK3,317,0))","v":0},{"$f":"SUM(OFFSET(テストデータ!BL3,317,0):OFFSET(テストデータ!BN3,317,0))","v":0},{"$f":"SUM(OFFSET(テストデータ!BL3,317,0):OFFSET(テストデータ!BP3,317,0))","v":0},{"$f":"SUM(OFFSET(テストデータ!BQ3,317,0):OFFSET(テストデータ!BS3,317,0))","v":0},{"$f":"SUM(OFFSET(テストデータ!BQ3,317,0):OFFSET(テストデータ!BU3,317,0))","v":0},{"$f":"SUM(OFFSET(テストデータ!BV3,317,0):OFFSET(テストデータ!BX3,317,0))","v":0},{"$f":"SUM(OFFSET(テストデータ!BV3,317,0):OFFSET(テストデータ!BZ3,317,0))","v":0},{"$f":"SUM(OFFSET(テストデータ!CA3,317,0):OFFSET(テストデータ!CC3,317,0))","v":0},{"$f":"SUM(OFFSET(テストデータ!CA3,317,0):OFFSET(テストデータ!CE3,317,0))","v":0},{"$f":"SUM(OFFSET(テストデータ!CF3,317,0):OFFSET(テストデータ!CH3,317,0))","v":0},{"$f":"SUM(OFFSET(テストデータ!CF3,317,0):OFFSET(テストデータ!CJ3,317,0))","v":0},{"$f":"SUM(OFFSET(テストデータ!CK3,317,0):OFFSET(テストデータ!CM3,317,0))","v":0},{"$f":"SUM(OFFSET(テストデータ!CK3,317,0):OFFSET(テストデータ!CO3,317,0))","v":0},{"$f":"SUM(OFFSET(テストデータ!CP3,317,0):OFFSET(テストデータ!CR3,317,0))","v":0},{"$f":"SUM(OFFSET(テストデータ!CP3,317,0):OFFSET(テストデータ!CT3,317,0))","v":0}]
[null,null,null,null,null,null,null,null,null,null,null,null,null,{"$f":"SUM(OFFSET(テストデータ!$E3,318,9*成績表1!$B$4-9):OFFSET(テストデータ!$G3,318,9*成績表1!$B$4-9))","v":0},{"$f":"SUM(OFFSET(テストデータ!$E3,318,9*成績表1!$B$4-9):OFFSET(テストデータ!I3,318,9*成績表1!$B$4-9))","v":0},{"$f":"SUM(OFFSET(テストデータ!E3,318,0):OFFSET(テストデータ!G3,318,0))","v":0},{"$f":"SUM(OFFSET(テストデータ!E3,318,0):OFFSET(テストデータ!I3,318,0))","v":0},{"$f":"SUM(OFFSET(テストデータ!N3,318,0):OFFSET(テストデータ!P3,318,0))","v":0},{"$f":"SUM(OFFSET(テストデータ!N3,318,0):OFFSET(テストデータ!R3,318,0))","v":0},{"$f":"SUM(OFFSET(テストデータ!W3,318,0):OFFSET(テストデータ!Y3,318,0))","v":0},{"$f":"SUM(OFFSET(テストデータ!W3,318,0):OFFSET(テストデータ!AA3,318,0))","v":0},{"$f":"SUM(OFFSET(テストデータ!AF3,318,0):OFFSET(テストデータ!AH3,318,0))","v":0},{"$f":"SUM(OFFSET(テストデータ!AF3,318,0):OFFSET(テストデータ!AJ3,318,0))","v":0},{"$f":"SUM(OFFSET(テストデータ!AO3,318,0):OFFSET(テストデータ!AQ3,318,0))","v":0},{"$f":"SUM(OFFSET(テストデータ!AO3,318,0):OFFSET(テストデータ!AS3,318,0))","v":0},{"$f":"SUM(OFFSET(テストデータ!AX3,318,0):OFFSET(テストデータ!AZ3,318,0))","v":0},{"$f":"SUM(OFFSET(テストデータ!AX3,318,0):OFFSET(テストデータ!BB3,318,0))","v":0},{"$f":"SUM(OFFSET(テストデータ!BG3,318,0):OFFSET(テストデータ!BI3,318,0))","v":0},{"$f":"SUM(OFFSET(テストデータ!BG3,318,0):OFFSET(テストデータ!BK3,318,0))","v":0},{"$f":"SUM(OFFSET(テストデータ!BL3,318,0):OFFSET(テストデータ!BN3,318,0))","v":0},{"$f":"SUM(OFFSET(テストデータ!BL3,318,0):OFFSET(テストデータ!BP3,318,0))","v":0},{"$f":"SUM(OFFSET(テストデータ!BQ3,318,0):OFFSET(テストデータ!BS3,318,0))","v":0},{"$f":"SUM(OFFSET(テストデータ!BQ3,318,0):OFFSET(テストデータ!BU3,318,0))","v":0},{"$f":"SUM(OFFSET(テストデータ!BV3,318,0):OFFSET(テストデータ!BX3,318,0))","v":0},{"$f":"SUM(OFFSET(テストデータ!BV3,318,0):OFFSET(テストデータ!BZ3,318,0))","v":0},{"$f":"SUM(OFFSET(テストデータ!CA3,318,0):OFFSET(テストデータ!CC3,318,0))","v":0},{"$f":"SUM(OFFSET(テストデータ!CA3,318,0):OFFSET(テストデータ!CE3,318,0))","v":0},{"$f":"SUM(OFFSET(テストデータ!CF3,318,0):OFFSET(テストデータ!CH3,318,0))","v":0},{"$f":"SUM(OFFSET(テストデータ!CF3,318,0):OFFSET(テストデータ!CJ3,318,0))","v":0},{"$f":"SUM(OFFSET(テストデータ!CK3,318,0):OFFSET(テストデータ!CM3,318,0))","v":0},{"$f":"SUM(OFFSET(テストデータ!CK3,318,0):OFFSET(テストデータ!CO3,318,0))","v":0},{"$f":"SUM(OFFSET(テストデータ!CP3,318,0):OFFSET(テストデータ!CR3,318,0))","v":0},{"$f":"SUM(OFFSET(テストデータ!CP3,318,0):OFFSET(テストデータ!CT3,318,0))","v":0}]
[null,null,null,null,null,null,null,null,null,null,null,null,null,{"$f":"SUM(OFFSET(テストデータ!$E3,319,9*成績表1!$B$4-9):OFFSET(テストデータ!$G3,319,9*成績表1!$B$4-9))","v":0},{"$f":"SUM(OFFSET(テストデータ!$E3,319,9*成績表1!$B$4-9):OFFSET(テストデータ!I3,319,9*成績表1!$B$4-9))","v":0},{"$f":"SUM(OFFSET(テストデータ!E3,319,0):OFFSET(テストデータ!G3,319,0))","v":0},{"$f":"SUM(OFFSET(テストデータ!E3,319,0):OFFSET(テストデータ!I3,319,0))","v":0},{"$f":"SUM(OFFSET(テストデータ!N3,319,0):OFFSET(テストデータ!P3,319,0))","v":0},{"$f":"SUM(OFFSET(テストデータ!N3,319,0):OFFSET(テストデータ!R3,319,0))","v":0},{"$f":"SUM(OFFSET(テストデータ!W3,319,0):OFFSET(テストデータ!Y3,319,0))","v":0},{"$f":"SUM(OFFSET(テストデータ!W3,319,0):OFFSET(テストデータ!AA3,319,0))","v":0},{"$f":"SUM(OFFSET(テストデータ!AF3,319,0):OFFSET(テストデータ!AH3,319,0))","v":0},{"$f":"SUM(OFFSET(テストデータ!AF3,319,0):OFFSET(テストデータ!AJ3,319,0))","v":0},{"$f":"SUM(OFFSET(テストデータ!AO3,319,0):OFFSET(テストデータ!AQ3,319,0))","v":0},{"$f":"SUM(OFFSET(テストデータ!AO3,319,0):OFFSET(テストデータ!AS3,319,0))","v":0},{"$f":"SUM(OFFSET(テストデータ!AX3,319,0):OFFSET(テストデータ!AZ3,319,0))","v":0},{"$f":"SUM(OFFSET(テストデータ!AX3,319,0):OFFSET(テストデータ!BB3,319,0))","v":0},{"$f":"SUM(OFFSET(テストデータ!BG3,319,0):OFFSET(テストデータ!BI3,319,0))","v":0},{"$f":"SUM(OFFSET(テストデータ!BG3,319,0):OFFSET(テストデータ!BK3,319,0))","v":0},{"$f":"SUM(OFFSET(テストデータ!BL3,319,0):OFFSET(テストデータ!BN3,319,0))","v":0},{"$f":"SUM(OFFSET(テストデータ!BL3,319,0):OFFSET(テストデータ!BP3,319,0))","v":0},{"$f":"SUM(OFFSET(テストデータ!BQ3,319,0):OFFSET(テストデータ!BS3,319,0))","v":0},{"$f":"SUM(OFFSET(テストデータ!BQ3,319,0):OFFSET(テストデータ!BU3,319,0))","v":0},{"$f":"SUM(OFFSET(テストデータ!BV3,319,0):OFFSET(テストデータ!BX3,319,0))","v":0},{"$f":"SUM(OFFSET(テストデータ!BV3,319,0):OFFSET(テストデータ!BZ3,319,0))","v":0},{"$f":"SUM(OFFSET(テストデータ!CA3,319,0):OFFSET(テストデータ!CC3,319,0))","v":0},{"$f":"SUM(OFFSET(テストデータ!CA3,319,0):OFFSET(テストデータ!CE3,319,0))","v":0},{"$f":"SUM(OFFSET(テストデータ!CF3,319,0):OFFSET(テストデータ!CH3,319,0))","v":0},{"$f":"SUM(OFFSET(テストデータ!CF3,319,0):OFFSET(テストデータ!CJ3,319,0))","v":0},{"$f":"SUM(OFFSET(テストデータ!CK3,319,0):OFFSET(テストデータ!CM3,319,0))","v":0},{"$f":"SUM(OFFSET(テストデータ!CK3,319,0):OFFSET(テストデータ!CO3,319,0))","v":0},{"$f":"SUM(OFFSET(テストデータ!CP3,319,0):OFFSET(テストデータ!CR3,319,0))","v":0},{"$f":"SUM(OFFSET(テストデータ!CP3,319,0):OFFSET(テストデータ!CT3,319,0))","v":0}]
[null,null,null,null,null,null,null,null,null,null,null,null,null,{"$f":"SUM(OFFSET(テストデータ!$E3,320,9*成績表1!$B$4-9):OFFSET(テストデータ!$G3,320,9*成績表1!$B$4-9))","v":0},{"$f":"SUM(OFFSET(テストデータ!$E3,320,9*成績表1!$B$4-9):OFFSET(テストデータ!I3,320,9*成績表1!$B$4-9))","v":0},{"$f":"SUM(OFFSET(テストデータ!E3,320,0):OFFSET(テストデータ!G3,320,0))","v":0},{"$f":"SUM(OFFSET(テストデータ!E3,320,0):OFFSET(テストデータ!I3,320,0))","v":0},{"$f":"SUM(OFFSET(テストデータ!N3,320,0):OFFSET(テストデータ!P3,320,0))","v":0},{"$f":"SUM(OFFSET(テストデータ!N3,320,0):OFFSET(テストデータ!R3,320,0))","v":0},{"$f":"SUM(OFFSET(テストデータ!W3,320,0):OFFSET(テストデータ!Y3,320,0))","v":0},{"$f":"SUM(OFFSET(テストデータ!W3,320,0):OFFSET(テストデータ!AA3,320,0))","v":0},{"$f":"SUM(OFFSET(テストデータ!AF3,320,0):OFFSET(テストデータ!AH3,320,0))","v":0},{"$f":"SUM(OFFSET(テストデータ!AF3,320,0):OFFSET(テストデータ!AJ3,320,0))","v":0},{"$f":"SUM(OFFSET(テストデータ!AO3,320,0):OFFSET(テストデータ!AQ3,320,0))","v":0},{"$f":"SUM(OFFSET(テストデータ!AO3,320,0):OFFSET(テストデータ!AS3,320,0))","v":0},{"$f":"SUM(OFFSET(テストデータ!AX3,320,0):OFFSET(テストデータ!AZ3,320,0))","v":0},{"$f":"SUM(OFFSET(テストデータ!AX3,320,0):OFFSET(テストデータ!BB3,320,0))","v":0},{"$f":"SUM(OFFSET(テストデータ!BG3,320,0):OFFSET(テストデータ!BI3,320,0))","v":0},{"$f":"SUM(OFFSET(テストデータ!BG3,320,0):OFFSET(テストデータ!BK3,320,0))","v":0},{"$f":"SUM(OFFSET(テストデータ!BL3,320,0):OFFSET(テストデータ!BN3,320,0))","v":0},{"$f":"SUM(OFFSET(テストデータ!BL3,320,0):OFFSET(テストデータ!BP3,320,0))","v":0},{"$f":"SUM(OFFSET(テストデータ!BQ3,320,0):OFFSET(テストデータ!BS3,320,0))","v":0},{"$f":"SUM(OFFSET(テストデータ!BQ3,320,0):OFFSET(テストデータ!BU3,320,0))","v":0},{"$f":"SUM(OFFSET(テストデータ!BV3,320,0):OFFSET(テストデータ!BX3,320,0))","v":0},{"$f":"SUM(OFFSET(テストデータ!BV3,320,0):OFFSET(テストデータ!BZ3,320,0))","v":0},{"$f":"SUM(OFFSET(テストデータ!CA3,320,0):OFFSET(テストデータ!CC3,320,0))","v":0},{"$f":"SUM(OFFSET(テストデータ!CA3,320,0):OFFSET(テストデータ!CE3,320,0))","v":0},{"$f":"SUM(OFFSET(テストデータ!CF3,320,0):OFFSET(テストデータ!CH3,320,0))","v":0},{"$f":"SUM(OFFSET(テストデータ!CF3,320,0):OFFSET(テストデータ!CJ3,320,0))","v":0},{"$f":"SUM(OFFSET(テストデータ!CK3,320,0):OFFSET(テストデータ!CM3,320,0))","v":0},{"$f":"SUM(OFFSET(テストデータ!CK3,320,0):OFFSET(テストデータ!CO3,320,0))","v":0},{"$f":"SUM(OFFSET(テストデータ!CP3,320,0):OFFSET(テストデータ!CR3,320,0))","v":0},{"$f":"SUM(OFFSET(テストデータ!CP3,320,0):OFFSET(テストデータ!CT3,320,0))","v":0}]
[null,null,null,null,null,null,null,null,null,null,null,null,null,{"$f":"SUM(OFFSET(テストデータ!$E3,321,9*成績表1!$B$4-9):OFFSET(テストデータ!$G3,321,9*成績表1!$B$4-9))","v":0},{"$f":"SUM(OFFSET(テストデータ!$E3,321,9*成績表1!$B$4-9):OFFSET(テストデータ!I3,321,9*成績表1!$B$4-9))","v":0},{"$f":"SUM(OFFSET(テストデータ!E3,321,0):OFFSET(テストデータ!G3,321,0))","v":0},{"$f":"SUM(OFFSET(テストデータ!E3,321,0):OFFSET(テストデータ!I3,321,0))","v":0},{"$f":"SUM(OFFSET(テストデータ!N3,321,0):OFFSET(テストデータ!P3,321,0))","v":0},{"$f":"SUM(OFFSET(テストデータ!N3,321,0):OFFSET(テストデータ!R3,321,0))","v":0},{"$f":"SUM(OFFSET(テストデータ!W3,321,0):OFFSET(テストデータ!Y3,321,0))","v":0},{"$f":"SUM(OFFSET(テストデータ!W3,321,0):OFFSET(テストデータ!AA3,321,0))","v":0},{"$f":"SUM(OFFSET(テストデータ!AF3,321,0):OFFSET(テストデータ!AH3,321,0))","v":0},{"$f":"SUM(OFFSET(テストデータ!AF3,321,0):OFFSET(テストデータ!AJ3,321,0))","v":0},{"$f":"SUM(OFFSET(テストデータ!AO3,321,0):OFFSET(テストデータ!AQ3,321,0))","v":0},{"$f":"SUM(OFFSET(テストデータ!AO3,321,0):OFFSET(テストデータ!AS3,321,0))","v":0},{"$f":"SUM(OFFSET(テストデータ!AX3,321,0):OFFSET(テストデータ!AZ3,321,0))","v":0},{"$f":"SUM(OFFSET(テストデータ!AX3,321,0):OFFSET(テストデータ!BB3,321,0))","v":0},{"$f":"SUM(OFFSET(テストデータ!BG3,321,0):OFFSET(テストデータ!BI3,321,0))","v":0},{"$f":"SUM(OFFSET(テストデータ!BG3,321,0):OFFSET(テストデータ!BK3,321,0))","v":0},{"$f":"SUM(OFFSET(テストデータ!BL3,321,0):OFFSET(テストデータ!BN3,321,0))","v":0},{"$f":"SUM(OFFSET(テストデータ!BL3,321,0):OFFSET(テストデータ!BP3,321,0))","v":0},{"$f":"SUM(OFFSET(テストデータ!BQ3,321,0):OFFSET(テストデータ!BS3,321,0))","v":0},{"$f":"SUM(OFFSET(テストデータ!BQ3,321,0):OFFSET(テストデータ!BU3,321,0))","v":0},{"$f":"SUM(OFFSET(テストデータ!BV3,321,0):OFFSET(テストデータ!BX3,321,0))","v":0},{"$f":"SUM(OFFSET(テストデータ!BV3,321,0):OFFSET(テストデータ!BZ3,321,0))","v":0},{"$f":"SUM(OFFSET(テストデータ!CA3,321,0):OFFSET(テストデータ!CC3,321,0))","v":0},{"$f":"SUM(OFFSET(テストデータ!CA3,321,0):OFFSET(テストデータ!CE3,321,0))","v":0},{"$f":"SUM(OFFSET(テストデータ!CF3,321,0):OFFSET(テストデータ!CH3,321,0))","v":0},{"$f":"SUM(OFFSET(テストデータ!CF3,321,0):OFFSET(テストデータ!CJ3,321,0))","v":0},{"$f":"SUM(OFFSET(テストデータ!CK3,321,0):OFFSET(テストデータ!CM3,321,0))","v":0},{"$f":"SUM(OFFSET(テストデータ!CK3,321,0):OFFSET(テストデータ!CO3,321,0))","v":0},{"$f":"SUM(OFFSET(テストデータ!CP3,321,0):OFFSET(テストデータ!CR3,321,0))","v":0},{"$f":"SUM(OFFSET(テストデータ!CP3,321,0):OFFSET(テストデータ!CT3,321,0))","v":0}]
[null,null,null,null,null,null,null,null,null,null,null,null,null,{"$f":"SUM(OFFSET(テストデータ!$E3,322,9*成績表1!$B$4-9):OFFSET(テストデータ!$G3,322,9*成績表1!$B$4-9))","v":0},{"$f":"SUM(OFFSET(テストデータ!$E3,322,9*成績表1!$B$4-9):OFFSET(テストデータ!I3,322,9*成績表1!$B$4-9))","v":0},{"$f":"SUM(OFFSET(テストデータ!E3,322,0):OFFSET(テストデータ!G3,322,0))","v":0},{"$f":"SUM(OFFSET(テストデータ!E3,322,0):OFFSET(テストデータ!I3,322,0))","v":0},{"$f":"SUM(OFFSET(テストデータ!N3,322,0):OFFSET(テストデータ!P3,322,0))","v":0},{"$f":"SUM(OFFSET(テストデータ!N3,322,0):OFFSET(テストデータ!R3,322,0))","v":0},{"$f":"SUM(OFFSET(テストデータ!W3,322,0):OFFSET(テストデータ!Y3,322,0))","v":0},{"$f":"SUM(OFFSET(テストデータ!W3,322,0):OFFSET(テストデータ!AA3,322,0))","v":0},{"$f":"SUM(OFFSET(テストデータ!AF3,322,0):OFFSET(テストデータ!AH3,322,0))","v":0},{"$f":"SUM(OFFSET(テストデータ!AF3,322,0):OFFSET(テストデータ!AJ3,322,0))","v":0},{"$f":"SUM(OFFSET(テストデータ!AO3,322,0):OFFSET(テストデータ!AQ3,322,0))","v":0},{"$f":"SUM(OFFSET(テストデータ!AO3,322,0):OFFSET(テストデータ!AS3,322,0))","v":0},{"$f":"SUM(OFFSET(テストデータ!AX3,322,0):OFFSET(テストデータ!AZ3,322,0))","v":0},{"$f":"SUM(OFFSET(テストデータ!AX3,322,0):OFFSET(テストデータ!BB3,322,0))","v":0},{"$f":"SUM(OFFSET(テストデータ!BG3,322,0):OFFSET(テストデータ!BI3,322,0))","v":0},{"$f":"SUM(OFFSET(テストデータ!BG3,322,0):OFFSET(テストデータ!BK3,322,0))","v":0},{"$f":"SUM(OFFSET(テストデータ!BL3,322,0):OFFSET(テストデータ!BN3,322,0))","v":0},{"$f":"SUM(OFFSET(テストデータ!BL3,322,0):OFFSET(テストデータ!BP3,322,0))","v":0},{"$f":"SUM(OFFSET(テストデータ!BQ3,322,0):OFFSET(テストデータ!BS3,322,0))","v":0},{"$f":"SUM(OFFSET(テストデータ!BQ3,322,0):OFFSET(テストデータ!BU3,322,0))","v":0},{"$f":"SUM(OFFSET(テストデータ!BV3,322,0):OFFSET(テストデータ!BX3,322,0))","v":0},{"$f":"SUM(OFFSET(テストデータ!BV3,322,0):OFFSET(テストデータ!BZ3,322,0))","v":0},{"$f":"SUM(OFFSET(テストデータ!CA3,322,0):OFFSET(テストデータ!CC3,322,0))","v":0},{"$f":"SUM(OFFSET(テストデータ!CA3,322,0):OFFSET(テストデータ!CE3,322,0))","v":0},{"$f":"SUM(OFFSET(テストデータ!CF3,322,0):OFFSET(テストデータ!CH3,322,0))","v":0},{"$f":"SUM(OFFSET(テストデータ!CF3,322,0):OFFSET(テストデータ!CJ3,322,0))","v":0},{"$f":"SUM(OFFSET(テストデータ!CK3,322,0):OFFSET(テストデータ!CM3,322,0))","v":0},{"$f":"SUM(OFFSET(テストデータ!CK3,322,0):OFFSET(テストデータ!CO3,322,0))","v":0},{"$f":"SUM(OFFSET(テストデータ!CP3,322,0):OFFSET(テストデータ!CR3,322,0))","v":0},{"$f":"SUM(OFFSET(テストデータ!CP3,322,0):OFFSET(テストデータ!CT3,322,0))","v":0}]
[null,null,null,null,null,null,null,null,null,null,null,null,null,{"$f":"SUM(OFFSET(テストデータ!$E3,323,9*成績表1!$B$4-9):OFFSET(テストデータ!$G3,323,9*成績表1!$B$4-9))","v":0},{"$f":"SUM(OFFSET(テストデータ!$E3,323,9*成績表1!$B$4-9):OFFSET(テストデータ!I3,323,9*成績表1!$B$4-9))","v":0},{"$f":"SUM(OFFSET(テストデータ!E3,323,0):OFFSET(テストデータ!G3,323,0))","v":0},{"$f":"SUM(OFFSET(テストデータ!E3,323,0):OFFSET(テストデータ!I3,323,0))","v":0},{"$f":"SUM(OFFSET(テストデータ!N3,323,0):OFFSET(テストデータ!P3,323,0))","v":0},{"$f":"SUM(OFFSET(テストデータ!N3,323,0):OFFSET(テストデータ!R3,323,0))","v":0},{"$f":"SUM(OFFSET(テストデータ!W3,323,0):OFFSET(テストデータ!Y3,323,0))","v":0},{"$f":"SUM(OFFSET(テストデータ!W3,323,0):OFFSET(テストデータ!AA3,323,0))","v":0},{"$f":"SUM(OFFSET(テストデータ!AF3,323,0):OFFSET(テストデータ!AH3,323,0))","v":0},{"$f":"SUM(OFFSET(テストデータ!AF3,323,0):OFFSET(テストデータ!AJ3,323,0))","v":0},{"$f":"SUM(OFFSET(テストデータ!AO3,323,0):OFFSET(テストデータ!AQ3,323,0))","v":0},{"$f":"SUM(OFFSET(テストデータ!AO3,323,0):OFFSET(テストデータ!AS3,323,0))","v":0},{"$f":"SUM(OFFSET(テストデータ!AX3,323,0):OFFSET(テストデータ!AZ3,323,0))","v":0},{"$f":"SUM(OFFSET(テストデータ!AX3,323,0):OFFSET(テストデータ!BB3,323,0))","v":0},{"$f":"SUM(OFFSET(テストデータ!BG3,323,0):OFFSET(テストデータ!BI3,323,0))","v":0},{"$f":"SUM(OFFSET(テストデータ!BG3,323,0):OFFSET(テストデータ!BK3,323,0))","v":0},{"$f":"SUM(OFFSET(テストデータ!BL3,323,0):OFFSET(テストデータ!BN3,323,0))","v":0},{"$f":"SUM(OFFSET(テストデータ!BL3,323,0):OFFSET(テストデータ!BP3,323,0))","v":0},{"$f":"SUM(OFFSET(テストデータ!BQ3,323,0):OFFSET(テストデータ!BS3,323,0))","v":0},{"$f":"SUM(OFFSET(テストデータ!BQ3,323,0):OFFSET(テストデータ!BU3,323,0))","v":0},{"$f":"SUM(OFFSET(テストデータ!BV3,323,0):OFFSET(テストデータ!BX3,323,0))","v":0},{"$f":"SUM(OFFSET(テストデータ!BV3,323,0):OFFSET(テストデータ!BZ3,323,0))","v":0},{"$f":"SUM(OFFSET(テストデータ!CA3,323,0):OFFSET(テストデータ!CC3,323,0))","v":0},{"$f":"SUM(OFFSET(テストデータ!CA3,323,0):OFFSET(テストデータ!CE3,323,0))","v":0},{"$f":"SUM(OFFSET(テストデータ!CF3,323,0):OFFSET(テストデータ!CH3,323,0))","v":0},{"$f":"SUM(OFFSET(テストデータ!CF3,323,0):OFFSET(テストデータ!CJ3,323,0))","v":0},{"$f":"SUM(OFFSET(テストデータ!CK3,323,0):OFFSET(テストデータ!CM3,323,0))","v":0},{"$f":"SUM(OFFSET(テストデータ!CK3,323,0):OFFSET(テストデータ!CO3,323,0))","v":0},{"$f":"SUM(OFFSET(テストデータ!CP3,323,0):OFFSET(テストデータ!CR3,323,0))","v":0},{"$f":"SUM(OFFSET(テストデータ!CP3,323,0):OFFSET(テストデータ!CT3,323,0))","v":0}]
[null,null,null,null,null,null,null,null,null,null,null,null,null,{"$f":"SUM(OFFSET(テストデータ!$E3,324,9*成績表1!$B$4-9):OFFSET(テストデータ!$G3,324,9*成績表1!$B$4-9))","v":0},{"$f":"SUM(OFFSET(テストデータ!$E3,324,9*成績表1!$B$4-9):OFFSET(テストデータ!I3,324,9*成績表1!$B$4-9))","v":0},{"$f":"SUM(OFFSET(テストデータ!E3,324,0):OFFSET(テストデータ!G3,324,0))","v":0},{"$f":"SUM(OFFSET(テストデータ!E3,324,0):OFFSET(テストデータ!I3,324,0))","v":0},{"$f":"SUM(OFFSET(テストデータ!N3,324,0):OFFSET(テストデータ!P3,324,0))","v":0},{"$f":"SUM(OFFSET(テストデータ!N3,324,0):OFFSET(テストデータ!R3,324,0))","v":0},{"$f":"SUM(OFFSET(テストデータ!W3,324,0):OFFSET(テストデータ!Y3,324,0))","v":0},{"$f":"SUM(OFFSET(テストデータ!W3,324,0):OFFSET(テストデータ!AA3,324,0))","v":0},{"$f":"SUM(OFFSET(テストデータ!AF3,324,0):OFFSET(テストデータ!AH3,324,0))","v":0},{"$f":"SUM(OFFSET(テストデータ!AF3,324,0):OFFSET(テストデータ!AJ3,324,0))","v":0},{"$f":"SUM(OFFSET(テストデータ!AO3,324,0):OFFSET(テストデータ!AQ3,324,0))","v":0},{"$f":"SUM(OFFSET(テストデータ!AO3,324,0):OFFSET(テストデータ!AS3,324,0))","v":0},{"$f":"SUM(OFFSET(テストデータ!AX3,324,0):OFFSET(テストデータ!AZ3,324,0))","v":0},{"$f":"SUM(OFFSET(テストデータ!AX3,324,0):OFFSET(テストデータ!BB3,324,0))","v":0},{"$f":"SUM(OFFSET(テストデータ!BG3,324,0):OFFSET(テストデータ!BI3,324,0))","v":0},{"$f":"SUM(OFFSET(テストデータ!BG3,324,0):OFFSET(テストデータ!BK3,324,0))","v":0},{"$f":"SUM(OFFSET(テストデータ!BL3,324,0):OFFSET(テストデータ!BN3,324,0))","v":0},{"$f":"SUM(OFFSET(テストデータ!BL3,324,0):OFFSET(テストデータ!BP3,324,0))","v":0},{"$f":"SUM(OFFSET(テストデータ!BQ3,324,0):OFFSET(テストデータ!BS3,324,0))","v":0},{"$f":"SUM(OFFSET(テストデータ!BQ3,324,0):OFFSET(テストデータ!BU3,324,0))","v":0},{"$f":"SUM(OFFSET(テストデータ!BV3,324,0):OFFSET(テストデータ!BX3,324,0))","v":0},{"$f":"SUM(OFFSET(テストデータ!BV3,324,0):OFFSET(テストデータ!BZ3,324,0))","v":0},{"$f":"SUM(OFFSET(テストデータ!CA3,324,0):OFFSET(テストデータ!CC3,324,0))","v":0},{"$f":"SUM(OFFSET(テストデータ!CA3,324,0):OFFSET(テストデータ!CE3,324,0))","v":0},{"$f":"SUM(OFFSET(テストデータ!CF3,324,0):OFFSET(テストデータ!CH3,324,0))","v":0},{"$f":"SUM(OFFSET(テストデータ!CF3,324,0):OFFSET(テストデータ!CJ3,324,0))","v":0},{"$f":"SUM(OFFSET(テストデータ!CK3,324,0):OFFSET(テストデータ!CM3,324,0))","v":0},{"$f":"SUM(OFFSET(テストデータ!CK3,324,0):OFFSET(テストデータ!CO3,324,0))","v":0},{"$f":"SUM(OFFSET(テストデータ!CP3,324,0):OFFSET(テストデータ!CR3,324,0))","v":0},{"$f":"SUM(OFFSET(テストデータ!CP3,324,0):OFFSET(テストデータ!CT3,324,0))","v":0}]
[null,null,null,null,null,null,null,null,null,null,null,null,null,{"$f":"SUM(OFFSET(テストデータ!$E3,325,9*成績表1!$B$4-9):OFFSET(テストデータ!$G3,325,9*成績表1!$B$4-9))","v":0},{"$f":"SUM(OFFSET(テストデータ!$E3,325,9*成績表1!$B$4-9):OFFSET(テストデータ!I3,325,9*成績表1!$B$4-9))","v":0},{"$f":"SUM(OFFSET(テストデータ!E3,325,0):OFFSET(テストデータ!G3,325,0))","v":0},{"$f":"SUM(OFFSET(テストデータ!E3,325,0):OFFSET(テストデータ!I3,325,0))","v":0},{"$f":"SUM(OFFSET(テストデータ!N3,325,0):OFFSET(テストデータ!P3,325,0))","v":0},{"$f":"SUM(OFFSET(テストデータ!N3,325,0):OFFSET(テストデータ!R3,325,0))","v":0},{"$f":"SUM(OFFSET(テストデータ!W3,325,0):OFFSET(テストデータ!Y3,325,0))","v":0},{"$f":"SUM(OFFSET(テストデータ!W3,325,0):OFFSET(テストデータ!AA3,325,0))","v":0},{"$f":"SUM(OFFSET(テストデータ!AF3,325,0):OFFSET(テストデータ!AH3,325,0))","v":0},{"$f":"SUM(OFFSET(テストデータ!AF3,325,0):OFFSET(テストデータ!AJ3,325,0))","v":0},{"$f":"SUM(OFFSET(テストデータ!AO3,325,0):OFFSET(テストデータ!AQ3,325,0))","v":0},{"$f":"SUM(OFFSET(テストデータ!AO3,325,0):OFFSET(テストデータ!AS3,325,0))","v":0},{"$f":"SUM(OFFSET(テストデータ!AX3,325,0):OFFSET(テストデータ!AZ3,325,0))","v":0},{"$f":"SUM(OFFSET(テストデータ!AX3,325,0):OFFSET(テストデータ!BB3,325,0))","v":0},{"$f":"SUM(OFFSET(テストデータ!BG3,325,0):OFFSET(テストデータ!BI3,325,0))","v":0},{"$f":"SUM(OFFSET(テストデータ!BG3,325,0):OFFSET(テストデータ!BK3,325,0))","v":0},{"$f":"SUM(OFFSET(テストデータ!BL3,325,0):OFFSET(テストデータ!BN3,325,0))","v":0},{"$f":"SUM(OFFSET(テストデータ!BL3,325,0):OFFSET(テストデータ!BP3,325,0))","v":0},{"$f":"SUM(OFFSET(テストデータ!BQ3,325,0):OFFSET(テストデータ!BS3,325,0))","v":0},{"$f":"SUM(OFFSET(テストデータ!BQ3,325,0):OFFSET(テストデータ!BU3,325,0))","v":0},{"$f":"SUM(OFFSET(テストデータ!BV3,325,0):OFFSET(テストデータ!BX3,325,0))","v":0},{"$f":"SUM(OFFSET(テストデータ!BV3,325,0):OFFSET(テストデータ!BZ3,325,0))","v":0},{"$f":"SUM(OFFSET(テストデータ!CA3,325,0):OFFSET(テストデータ!CC3,325,0))","v":0},{"$f":"SUM(OFFSET(テストデータ!CA3,325,0):OFFSET(テストデータ!CE3,325,0))","v":0},{"$f":"SUM(OFFSET(テストデータ!CF3,325,0):OFFSET(テストデータ!CH3,325,0))","v":0},{"$f":"SUM(OFFSET(テストデータ!CF3,325,0):OFFSET(テストデータ!CJ3,325,0))","v":0},{"$f":"SUM(OFFSET(テストデータ!CK3,325,0):OFFSET(テストデータ!CM3,325,0))","v":0},{"$f":"SUM(OFFSET(テストデータ!CK3,325,0):OFFSET(テストデータ!CO3,325,0))","v":0},{"$f":"SUM(OFFSET(テストデータ!CP3,325,0):OFFSET(テストデータ!CR3,325,0))","v":0},{"$f":"SUM(OFFSET(テストデータ!CP3,325,0):OFFSET(テストデータ!CT3,325,0))","v":0}]
[null,null,null,null,null,null,null,null,null,null,null,null,null,{"$f":"SUM(OFFSET(テストデータ!$E3,326,9*成績表1!$B$4-9):OFFSET(テストデータ!$G3,326,9*成績表1!$B$4-9))","v":0},{"$f":"SUM(OFFSET(テストデータ!$E3,326,9*成績表1!$B$4-9):OFFSET(テストデータ!I3,326,9*成績表1!$B$4-9))","v":0},{"$f":"SUM(OFFSET(テストデータ!E3,326,0):OFFSET(テストデータ!G3,326,0))","v":0},{"$f":"SUM(OFFSET(テストデータ!E3,326,0):OFFSET(テストデータ!I3,326,0))","v":0},{"$f":"SUM(OFFSET(テストデータ!N3,326,0):OFFSET(テストデータ!P3,326,0))","v":0},{"$f":"SUM(OFFSET(テストデータ!N3,326,0):OFFSET(テストデータ!R3,326,0))","v":0},{"$f":"SUM(OFFSET(テストデータ!W3,326,0):OFFSET(テストデータ!Y3,326,0))","v":0},{"$f":"SUM(OFFSET(テストデータ!W3,326,0):OFFSET(テストデータ!AA3,326,0))","v":0},{"$f":"SUM(OFFSET(テストデータ!AF3,326,0):OFFSET(テストデータ!AH3,326,0))","v":0},{"$f":"SUM(OFFSET(テストデータ!AF3,326,0):OFFSET(テストデータ!AJ3,326,0))","v":0},{"$f":"SUM(OFFSET(テストデータ!AO3,326,0):OFFSET(テストデータ!AQ3,326,0))","v":0},{"$f":"SUM(OFFSET(テストデータ!AO3,326,0):OFFSET(テストデータ!AS3,326,0))","v":0},{"$f":"SUM(OFFSET(テストデータ!AX3,326,0):OFFSET(テストデータ!AZ3,326,0))","v":0},{"$f":"SUM(OFFSET(テストデータ!AX3,326,0):OFFSET(テストデータ!BB3,326,0))","v":0},{"$f":"SUM(OFFSET(テストデータ!BG3,326,0):OFFSET(テストデータ!BI3,326,0))","v":0},{"$f":"SUM(OFFSET(テストデータ!BG3,326,0):OFFSET(テストデータ!BK3,326,0))","v":0},{"$f":"SUM(OFFSET(テストデータ!BL3,326,0):OFFSET(テストデータ!BN3,326,0))","v":0},{"$f":"SUM(OFFSET(テストデータ!BL3,326,0):OFFSET(テストデータ!BP3,326,0))","v":0},{"$f":"SUM(OFFSET(テストデータ!BQ3,326,0):OFFSET(テストデータ!BS3,326,0))","v":0},{"$f":"SUM(OFFSET(テストデータ!BQ3,326,0):OFFSET(テストデータ!BU3,326,0))","v":0},{"$f":"SUM(OFFSET(テストデータ!BV3,326,0):OFFSET(テストデータ!BX3,326,0))","v":0},{"$f":"SUM(OFFSET(テストデータ!BV3,326,0):OFFSET(テストデータ!BZ3,326,0))","v":0},{"$f":"SUM(OFFSET(テストデータ!CA3,326,0):OFFSET(テストデータ!CC3,326,0))","v":0},{"$f":"SUM(OFFSET(テストデータ!CA3,326,0):OFFSET(テストデータ!CE3,326,0))","v":0},{"$f":"SUM(OFFSET(テストデータ!CF3,326,0):OFFSET(テストデータ!CH3,326,0))","v":0},{"$f":"SUM(OFFSET(テストデータ!CF3,326,0):OFFSET(テストデータ!CJ3,326,0))","v":0},{"$f":"SUM(OFFSET(テストデータ!CK3,326,0):OFFSET(テストデータ!CM3,326,0))","v":0},{"$f":"SUM(OFFSET(テストデータ!CK3,326,0):OFFSET(テストデータ!CO3,326,0))","v":0},{"$f":"SUM(OFFSET(テストデータ!CP3,326,0):OFFSET(テストデータ!CR3,326,0))","v":0},{"$f":"SUM(OFFSET(テストデータ!CP3,326,0):OFFSET(テストデータ!CT3,326,0))","v":0}]
[null,null,null,null,null,null,null,null,null,null,null,null,null,{"$f":"SUM(OFFSET(テストデータ!$E3,327,9*成績表1!$B$4-9):OFFSET(テストデータ!$G3,327,9*成績表1!$B$4-9))","v":0},{"$f":"SUM(OFFSET(テストデータ!$E3,327,9*成績表1!$B$4-9):OFFSET(テストデータ!I3,327,9*成績表1!$B$4-9))","v":0},{"$f":"SUM(OFFSET(テストデータ!E3,327,0):OFFSET(テストデータ!G3,327,0))","v":0},{"$f":"SUM(OFFSET(テストデータ!E3,327,0):OFFSET(テストデータ!I3,327,0))","v":0},{"$f":"SUM(OFFSET(テストデータ!N3,327,0):OFFSET(テストデータ!P3,327,0))","v":0},{"$f":"SUM(OFFSET(テストデータ!N3,327,0):OFFSET(テストデータ!R3,327,0))","v":0},{"$f":"SUM(OFFSET(テストデータ!W3,327,0):OFFSET(テストデータ!Y3,327,0))","v":0},{"$f":"SUM(OFFSET(テストデータ!W3,327,0):OFFSET(テストデータ!AA3,327,0))","v":0},{"$f":"SUM(OFFSET(テストデータ!AF3,327,0):OFFSET(テストデータ!AH3,327,0))","v":0},{"$f":"SUM(OFFSET(テストデータ!AF3,327,0):OFFSET(テストデータ!AJ3,327,0))","v":0},{"$f":"SUM(OFFSET(テストデータ!AO3,327,0):OFFSET(テストデータ!AQ3,327,0))","v":0},{"$f":"SUM(OFFSET(テストデータ!AO3,327,0):OFFSET(テストデータ!AS3,327,0))","v":0},{"$f":"SUM(OFFSET(テストデータ!AX3,327,0):OFFSET(テストデータ!AZ3,327,0))","v":0},{"$f":"SUM(OFFSET(テストデータ!AX3,327,0):OFFSET(テストデータ!BB3,327,0))","v":0},{"$f":"SUM(OFFSET(テストデータ!BG3,327,0):OFFSET(テストデータ!BI3,327,0))","v":0},{"$f":"SUM(OFFSET(テストデータ!BG3,327,0):OFFSET(テストデータ!BK3,327,0))","v":0},{"$f":"SUM(OFFSET(テストデータ!BL3,327,0):OFFSET(テストデータ!BN3,327,0))","v":0},{"$f":"SUM(OFFSET(テストデータ!BL3,327,0):OFFSET(テストデータ!BP3,327,0))","v":0},{"$f":"SUM(OFFSET(テストデータ!BQ3,327,0):OFFSET(テストデータ!BS3,327,0))","v":0},{"$f":"SUM(OFFSET(テストデータ!BQ3,327,0):OFFSET(テストデータ!BU3,327,0))","v":0},{"$f":"SUM(OFFSET(テストデータ!BV3,327,0):OFFSET(テストデータ!BX3,327,0))","v":0},{"$f":"SUM(OFFSET(テストデータ!BV3,327,0):OFFSET(テストデータ!BZ3,327,0))","v":0},{"$f":"SUM(OFFSET(テストデータ!CA3,327,0):OFFSET(テストデータ!CC3,327,0))","v":0},{"$f":"SUM(OFFSET(テストデータ!CA3,327,0):OFFSET(テストデータ!CE3,327,0))","v":0},{"$f":"SUM(OFFSET(テストデータ!CF3,327,0):OFFSET(テストデータ!CH3,327,0))","v":0},{"$f":"SUM(OFFSET(テストデータ!CF3,327,0):OFFSET(テストデータ!CJ3,327,0))","v":0},{"$f":"SUM(OFFSET(テストデータ!CK3,327,0):OFFSET(テストデータ!CM3,327,0))","v":0},{"$f":"SUM(OFFSET(テストデータ!CK3,327,0):OFFSET(テストデータ!CO3,327,0))","v":0},{"$f":"SUM(OFFSET(テストデータ!CP3,327,0):OFFSET(テストデータ!CR3,327,0))","v":0},{"$f":"SUM(OFFSET(テストデータ!CP3,327,0):OFFSET(テストデータ!CT3,327,0))","v":0}]
[null,null,null,null,null,null,null,null,null,null,null,null,null,{"$f":"SUM(OFFSET(テストデータ!$E3,328,9*成績表1!$B$4-9):OFFSET(テストデータ!$G3,328,9*成績表1!$B$4-9))","v":0},{"$f":"SUM(OFFSET(テストデータ!$E3,328,9*成績表1!$B$4-9):OFFSET(テストデータ!I3,328,9*成績表1!$B$4-9))","v":0},{"$f":"SUM(OFFSET(テストデータ!E3,328,0):OFFSET(テストデータ!G3,328,0))","v":0},{"$f":"SUM(OFFSET(テストデータ!E3,328,0):OFFSET(テストデータ!I3,328,0))","v":0},{"$f":"SUM(OFFSET(テストデータ!N3,328,0):OFFSET(テストデータ!P3,328,0))","v":0},{"$f":"SUM(OFFSET(テストデータ!N3,328,0):OFFSET(テストデータ!R3,328,0))","v":0},{"$f":"SUM(OFFSET(テストデータ!W3,328,0):OFFSET(テストデータ!Y3,328,0))","v":0},{"$f":"SUM(OFFSET(テストデータ!W3,328,0):OFFSET(テストデータ!AA3,328,0))","v":0},{"$f":"SUM(OFFSET(テストデータ!AF3,328,0):OFFSET(テストデータ!AH3,328,0))","v":0},{"$f":"SUM(OFFSET(テストデータ!AF3,328,0):OFFSET(テストデータ!AJ3,328,0))","v":0},{"$f":"SUM(OFFSET(テストデータ!AO3,328,0):OFFSET(テストデータ!AQ3,328,0))","v":0},{"$f":"SUM(OFFSET(テストデータ!AO3,328,0):OFFSET(テストデータ!AS3,328,0))","v":0},{"$f":"SUM(OFFSET(テストデータ!AX3,328,0):OFFSET(テストデータ!AZ3,328,0))","v":0},{"$f":"SUM(OFFSET(テストデータ!AX3,328,0):OFFSET(テストデータ!BB3,328,0))","v":0},{"$f":"SUM(OFFSET(テストデータ!BG3,328,0):OFFSET(テストデータ!BI3,328,0))","v":0},{"$f":"SUM(OFFSET(テストデータ!BG3,328,0):OFFSET(テストデータ!BK3,328,0))","v":0},{"$f":"SUM(OFFSET(テストデータ!BL3,328,0):OFFSET(テストデータ!BN3,328,0))","v":0},{"$f":"SUM(OFFSET(テストデータ!BL3,328,0):OFFSET(テストデータ!BP3,328,0))","v":0},{"$f":"SUM(OFFSET(テストデータ!BQ3,328,0):OFFSET(テストデータ!BS3,328,0))","v":0},{"$f":"SUM(OFFSET(テストデータ!BQ3,328,0):OFFSET(テストデータ!BU3,328,0))","v":0},{"$f":"SUM(OFFSET(テストデータ!BV3,328,0):OFFSET(テストデータ!BX3,328,0))","v":0},{"$f":"SUM(OFFSET(テストデータ!BV3,328,0):OFFSET(テストデータ!BZ3,328,0))","v":0},{"$f":"SUM(OFFSET(テストデータ!CA3,328,0):OFFSET(テストデータ!CC3,328,0))","v":0},{"$f":"SUM(OFFSET(テストデータ!CA3,328,0):OFFSET(テストデータ!CE3,328,0))","v":0},{"$f":"SUM(OFFSET(テストデータ!CF3,328,0):OFFSET(テストデータ!CH3,328,0))","v":0},{"$f":"SUM(OFFSET(テストデータ!CF3,328,0):OFFSET(テストデータ!CJ3,328,0))","v":0},{"$f":"SUM(OFFSET(テストデータ!CK3,328,0):OFFSET(テストデータ!CM3,328,0))","v":0},{"$f":"SUM(OFFSET(テストデータ!CK3,328,0):OFFSET(テストデータ!CO3,328,0))","v":0},{"$f":"SUM(OFFSET(テストデータ!CP3,328,0):OFFSET(テストデータ!CR3,328,0))","v":0},{"$f":"SUM(OFFSET(テストデータ!CP3,328,0):OFFSET(テストデータ!CT3,328,0))","v":0}]
[null,null,null,null,null,null,null,null,null,null,null,null,null,{"$f":"SUM(OFFSET(テストデータ!$E3,329,9*成績表1!$B$4-9):OFFSET(テストデータ!$G3,329,9*成績表1!$B$4-9))","v":0},{"$f":"SUM(OFFSET(テストデータ!$E3,329,9*成績表1!$B$4-9):OFFSET(テストデータ!I3,329,9*成績表1!$B$4-9))","v":0},{"$f":"SUM(OFFSET(テストデータ!E3,329,0):OFFSET(テストデータ!G3,329,0))","v":0},{"$f":"SUM(OFFSET(テストデータ!E3,329,0):OFFSET(テストデータ!I3,329,0))","v":0},{"$f":"SUM(OFFSET(テストデータ!N3,329,0):OFFSET(テストデータ!P3,329,0))","v":0},{"$f":"SUM(OFFSET(テストデータ!N3,329,0):OFFSET(テストデータ!R3,329,0))","v":0},{"$f":"SUM(OFFSET(テストデータ!W3,329,0):OFFSET(テストデータ!Y3,329,0))","v":0},{"$f":"SUM(OFFSET(テストデータ!W3,329,0):OFFSET(テストデータ!AA3,329,0))","v":0},{"$f":"SUM(OFFSET(テストデータ!AF3,329,0):OFFSET(テストデータ!AH3,329,0))","v":0},{"$f":"SUM(OFFSET(テストデータ!AF3,329,0):OFFSET(テストデータ!AJ3,329,0))","v":0},{"$f":"SUM(OFFSET(テストデータ!AO3,329,0):OFFSET(テストデータ!AQ3,329,0))","v":0},{"$f":"SUM(OFFSET(テストデータ!AO3,329,0):OFFSET(テストデータ!AS3,329,0))","v":0},{"$f":"SUM(OFFSET(テストデータ!AX3,329,0):OFFSET(テストデータ!AZ3,329,0))","v":0},{"$f":"SUM(OFFSET(テストデータ!AX3,329,0):OFFSET(テストデータ!BB3,329,0))","v":0},{"$f":"SUM(OFFSET(テストデータ!BG3,329,0):OFFSET(テストデータ!BI3,329,0))","v":0},{"$f":"SUM(OFFSET(テストデータ!BG3,329,0):OFFSET(テストデータ!BK3,329,0))","v":0},{"$f":"SUM(OFFSET(テストデータ!BL3,329,0):OFFSET(テストデータ!BN3,329,0))","v":0},{"$f":"SUM(OFFSET(テストデータ!BL3,329,0):OFFSET(テストデータ!BP3,329,0))","v":0},{"$f":"SUM(OFFSET(テストデータ!BQ3,329,0):OFFSET(テストデータ!BS3,329,0))","v":0},{"$f":"SUM(OFFSET(テストデータ!BQ3,329,0):OFFSET(テストデータ!BU3,329,0))","v":0},{"$f":"SUM(OFFSET(テストデータ!BV3,329,0):OFFSET(テストデータ!BX3,329,0))","v":0},{"$f":"SUM(OFFSET(テストデータ!BV3,329,0):OFFSET(テストデータ!BZ3,329,0))","v":0},{"$f":"SUM(OFFSET(テストデータ!CA3,329,0):OFFSET(テストデータ!CC3,329,0))","v":0},{"$f":"SUM(OFFSET(テストデータ!CA3,329,0):OFFSET(テストデータ!CE3,329,0))","v":0},{"$f":"SUM(OFFSET(テストデータ!CF3,329,0):OFFSET(テストデータ!CH3,329,0))","v":0},{"$f":"SUM(OFFSET(テストデータ!CF3,329,0):OFFSET(テストデータ!CJ3,329,0))","v":0},{"$f":"SUM(OFFSET(テストデータ!CK3,329,0):OFFSET(テストデータ!CM3,329,0))","v":0},{"$f":"SUM(OFFSET(テストデータ!CK3,329,0):OFFSET(テストデータ!CO3,329,0))","v":0},{"$f":"SUM(OFFSET(テストデータ!CP3,329,0):OFFSET(テストデータ!CR3,329,0))","v":0},{"$f":"SUM(OFFSET(テストデータ!CP3,329,0):OFFSET(テストデータ!CT3,329,0))","v":0}]
[null,null,null,null,null,null,null,null,null,null,null,null,null,{"$f":"SUM(OFFSET(テストデータ!$E3,330,9*成績表1!$B$4-9):OFFSET(テストデータ!$G3,330,9*成績表1!$B$4-9))","v":0},{"$f":"SUM(OFFSET(テストデータ!$E3,330,9*成績表1!$B$4-9):OFFSET(テストデータ!I3,330,9*成績表1!$B$4-9))","v":0},{"$f":"SUM(OFFSET(テストデータ!E3,330,0):OFFSET(テストデータ!G3,330,0))","v":0},{"$f":"SUM(OFFSET(テストデータ!E3,330,0):OFFSET(テストデータ!I3,330,0))","v":0},{"$f":"SUM(OFFSET(テストデータ!N3,330,0):OFFSET(テストデータ!P3,330,0))","v":0},{"$f":"SUM(OFFSET(テストデータ!N3,330,0):OFFSET(テストデータ!R3,330,0))","v":0},{"$f":"SUM(OFFSET(テストデータ!W3,330,0):OFFSET(テストデータ!Y3,330,0))","v":0},{"$f":"SUM(OFFSET(テストデータ!W3,330,0):OFFSET(テストデータ!AA3,330,0))","v":0},{"$f":"SUM(OFFSET(テストデータ!AF3,330,0):OFFSET(テストデータ!AH3,330,0))","v":0},{"$f":"SUM(OFFSET(テストデータ!AF3,330,0):OFFSET(テストデータ!AJ3,330,0))","v":0},{"$f":"SUM(OFFSET(テストデータ!AO3,330,0):OFFSET(テストデータ!AQ3,330,0))","v":0},{"$f":"SUM(OFFSET(テストデータ!AO3,330,0):OFFSET(テストデータ!AS3,330,0))","v":0},{"$f":"SUM(OFFSET(テストデータ!AX3,330,0):OFFSET(テストデータ!AZ3,330,0))","v":0},{"$f":"SUM(OFFSET(テストデータ!AX3,330,0):OFFSET(テストデータ!BB3,330,0))","v":0},{"$f":"SUM(OFFSET(テストデータ!BG3,330,0):OFFSET(テストデータ!BI3,330,0))","v":0},{"$f":"SUM(OFFSET(テストデータ!BG3,330,0):OFFSET(テストデータ!BK3,330,0))","v":0},{"$f":"SUM(OFFSET(テストデータ!BL3,330,0):OFFSET(テストデータ!BN3,330,0))","v":0},{"$f":"SUM(OFFSET(テストデータ!BL3,330,0):OFFSET(テストデータ!BP3,330,0))","v":0},{"$f":"SUM(OFFSET(テストデータ!BQ3,330,0):OFFSET(テストデータ!BS3,330,0))","v":0},{"$f":"SUM(OFFSET(テストデータ!BQ3,330,0):OFFSET(テストデータ!BU3,330,0))","v":0},{"$f":"SUM(OFFSET(テストデータ!BV3,330,0):OFFSET(テストデータ!BX3,330,0))","v":0},{"$f":"SUM(OFFSET(テストデータ!BV3,330,0):OFFSET(テストデータ!BZ3,330,0))","v":0},{"$f":"SUM(OFFSET(テストデータ!CA3,330,0):OFFSET(テストデータ!CC3,330,0))","v":0},{"$f":"SUM(OFFSET(テストデータ!CA3,330,0):OFFSET(テストデータ!CE3,330,0))","v":0},{"$f":"SUM(OFFSET(テストデータ!CF3,330,0):OFFSET(テストデータ!CH3,330,0))","v":0},{"$f":"SUM(OFFSET(テストデータ!CF3,330,0):OFFSET(テストデータ!CJ3,330,0))","v":0},{"$f":"SUM(OFFSET(テストデータ!CK3,330,0):OFFSET(テストデータ!CM3,330,0))","v":0},{"$f":"SUM(OFFSET(テストデータ!CK3,330,0):OFFSET(テストデータ!CO3,330,0))","v":0},{"$f":"SUM(OFFSET(テストデータ!CP3,330,0):OFFSET(テストデータ!CR3,330,0))","v":0},{"$f":"SUM(OFFSET(テストデータ!CP3,330,0):OFFSET(テストデータ!CT3,330,0))","v":0}]
[null,null,null,null,null,null,null,null,null,null,null,null,null,{"$f":"SUM(OFFSET(テストデータ!$E3,331,9*成績表1!$B$4-9):OFFSET(テストデータ!$G3,331,9*成績表1!$B$4-9))","v":0},{"$f":"SUM(OFFSET(テストデータ!$E3,331,9*成績表1!$B$4-9):OFFSET(テストデータ!I3,331,9*成績表1!$B$4-9))","v":0},{"$f":"SUM(OFFSET(テストデータ!E3,331,0):OFFSET(テストデータ!G3,331,0))","v":0},{"$f":"SUM(OFFSET(テストデータ!E3,331,0):OFFSET(テストデータ!I3,331,0))","v":0},{"$f":"SUM(OFFSET(テストデータ!N3,331,0):OFFSET(テストデータ!P3,331,0))","v":0},{"$f":"SUM(OFFSET(テストデータ!N3,331,0):OFFSET(テストデータ!R3,331,0))","v":0},{"$f":"SUM(OFFSET(テストデータ!W3,331,0):OFFSET(テストデータ!Y3,331,0))","v":0},{"$f":"SUM(OFFSET(テストデータ!W3,331,0):OFFSET(テストデータ!AA3,331,0))","v":0},{"$f":"SUM(OFFSET(テストデータ!AF3,331,0):OFFSET(テストデータ!AH3,331,0))","v":0},{"$f":"SUM(OFFSET(テストデータ!AF3,331,0):OFFSET(テストデータ!AJ3,331,0))","v":0},{"$f":"SUM(OFFSET(テストデータ!AO3,331,0):OFFSET(テストデータ!AQ3,331,0))","v":0},{"$f":"SUM(OFFSET(テストデータ!AO3,331,0):OFFSET(テストデータ!AS3,331,0))","v":0},{"$f":"SUM(OFFSET(テストデータ!AX3,331,0):OFFSET(テストデータ!AZ3,331,0))","v":0},{"$f":"SUM(OFFSET(テストデータ!AX3,331,0):OFFSET(テストデータ!BB3,331,0))","v":0},{"$f":"SUM(OFFSET(テストデータ!BG3,331,0):OFFSET(テストデータ!BI3,331,0))","v":0},{"$f":"SUM(OFFSET(テストデータ!BG3,331,0):OFFSET(テストデータ!BK3,331,0))","v":0},{"$f":"SUM(OFFSET(テストデータ!BL3,331,0):OFFSET(テストデータ!BN3,331,0))","v":0},{"$f":"SUM(OFFSET(テストデータ!BL3,331,0):OFFSET(テストデータ!BP3,331,0))","v":0},{"$f":"SUM(OFFSET(テストデータ!BQ3,331,0):OFFSET(テストデータ!BS3,331,0))","v":0},{"$f":"SUM(OFFSET(テストデータ!BQ3,331,0):OFFSET(テストデータ!BU3,331,0))","v":0},{"$f":"SUM(OFFSET(テストデータ!BV3,331,0):OFFSET(テストデータ!BX3,331,0))","v":0},{"$f":"SUM(OFFSET(テストデータ!BV3,331,0):OFFSET(テストデータ!BZ3,331,0))","v":0},{"$f":"SUM(OFFSET(テストデータ!CA3,331,0):OFFSET(テストデータ!CC3,331,0))","v":0},{"$f":"SUM(OFFSET(テストデータ!CA3,331,0):OFFSET(テストデータ!CE3,331,0))","v":0},{"$f":"SUM(OFFSET(テストデータ!CF3,331,0):OFFSET(テストデータ!CH3,331,0))","v":0},{"$f":"SUM(OFFSET(テストデータ!CF3,331,0):OFFSET(テストデータ!CJ3,331,0))","v":0},{"$f":"SUM(OFFSET(テストデータ!CK3,331,0):OFFSET(テストデータ!CM3,331,0))","v":0},{"$f":"SUM(OFFSET(テストデータ!CK3,331,0):OFFSET(テストデータ!CO3,331,0))","v":0},{"$f":"SUM(OFFSET(テストデータ!CP3,331,0):OFFSET(テストデータ!CR3,331,0))","v":0},{"$f":"SUM(OFFSET(テストデータ!CP3,331,0):OFFSET(テストデータ!CT3,331,0))","v":0}]
[null,null,null,null,null,null,null,null,null,null,null,null,null,{"$f":"SUM(OFFSET(テストデータ!$E3,332,9*成績表1!$B$4-9):OFFSET(テストデータ!$G3,332,9*成績表1!$B$4-9))","v":0},{"$f":"SUM(OFFSET(テストデータ!$E3,332,9*成績表1!$B$4-9):OFFSET(テストデータ!I3,332,9*成績表1!$B$4-9))","v":0},{"$f":"SUM(OFFSET(テストデータ!E3,332,0):OFFSET(テストデータ!G3,332,0))","v":0},{"$f":"SUM(OFFSET(テストデータ!E3,332,0):OFFSET(テストデータ!I3,332,0))","v":0},{"$f":"SUM(OFFSET(テストデータ!N3,332,0):OFFSET(テストデータ!P3,332,0))","v":0},{"$f":"SUM(OFFSET(テストデータ!N3,332,0):OFFSET(テストデータ!R3,332,0))","v":0},{"$f":"SUM(OFFSET(テストデータ!W3,332,0):OFFSET(テストデータ!Y3,332,0))","v":0},{"$f":"SUM(OFFSET(テストデータ!W3,332,0):OFFSET(テストデータ!AA3,332,0))","v":0},{"$f":"SUM(OFFSET(テストデータ!AF3,332,0):OFFSET(テストデータ!AH3,332,0))","v":0},{"$f":"SUM(OFFSET(テストデータ!AF3,332,0):OFFSET(テストデータ!AJ3,332,0))","v":0},{"$f":"SUM(OFFSET(テストデータ!AO3,332,0):OFFSET(テストデータ!AQ3,332,0))","v":0},{"$f":"SUM(OFFSET(テストデータ!AO3,332,0):OFFSET(テストデータ!AS3,332,0))","v":0},{"$f":"SUM(OFFSET(テストデータ!AX3,332,0):OFFSET(テストデータ!AZ3,332,0))","v":0},{"$f":"SUM(OFFSET(テストデータ!AX3,332,0):OFFSET(テストデータ!BB3,332,0))","v":0},{"$f":"SUM(OFFSET(テストデータ!BG3,332,0):OFFSET(テストデータ!BI3,332,0))","v":0},{"$f":"SUM(OFFSET(テストデータ!BG3,332,0):OFFSET(テストデータ!BK3,332,0))","v":0},{"$f":"SUM(OFFSET(テストデータ!BL3,332,0):OFFSET(テストデータ!BN3,332,0))","v":0},{"$f":"SUM(OFFSET(テストデータ!BL3,332,0):OFFSET(テストデータ!BP3,332,0))","v":0},{"$f":"SUM(OFFSET(テストデータ!BQ3,332,0):OFFSET(テストデータ!BS3,332,0))","v":0},{"$f":"SUM(OFFSET(テストデータ!BQ3,332,0):OFFSET(テストデータ!BU3,332,0))","v":0},{"$f":"SUM(OFFSET(テストデータ!BV3,332,0):OFFSET(テストデータ!BX3,332,0))","v":0},{"$f":"SUM(OFFSET(テストデータ!BV3,332,0):OFFSET(テストデータ!BZ3,332,0))","v":0},{"$f":"SUM(OFFSET(テストデータ!CA3,332,0):OFFSET(テストデータ!CC3,332,0))","v":0},{"$f":"SUM(OFFSET(テストデータ!CA3,332,0):OFFSET(テストデータ!CE3,332,0))","v":0},{"$f":"SUM(OFFSET(テストデータ!CF3,332,0):OFFSET(テストデータ!CH3,332,0))","v":0},{"$f":"SUM(OFFSET(テストデータ!CF3,332,0):OFFSET(テストデータ!CJ3,332,0))","v":0},{"$f":"SUM(OFFSET(テストデータ!CK3,332,0):OFFSET(テストデータ!CM3,332,0))","v":0},{"$f":"SUM(OFFSET(テストデータ!CK3,332,0):OFFSET(テストデータ!CO3,332,0))","v":0},{"$f":"SUM(OFFSET(テストデータ!CP3,332,0):OFFSET(テストデータ!CR3,332,0))","v":0},{"$f":"SUM(OFFSET(テストデータ!CP3,332,0):OFFSET(テストデータ!CT3,332,0))","v":0}]
[null,null,null,null,null,null,null,null,null,null,null,null,null,{"$f":"SUM(OFFSET(テストデータ!$E3,333,9*成績表1!$B$4-9):OFFSET(テストデータ!$G3,333,9*成績表1!$B$4-9))","v":0},{"$f":"SUM(OFFSET(テストデータ!$E3,333,9*成績表1!$B$4-9):OFFSET(テストデータ!I3,333,9*成績表1!$B$4-9))","v":0},{"$f":"SUM(OFFSET(テストデータ!E3,333,0):OFFSET(テストデータ!G3,333,0))","v":0},{"$f":"SUM(OFFSET(テストデータ!E3,333,0):OFFSET(テストデータ!I3,333,0))","v":0},{"$f":"SUM(OFFSET(テストデータ!N3,333,0):OFFSET(テストデータ!P3,333,0))","v":0},{"$f":"SUM(OFFSET(テストデータ!N3,333,0):OFFSET(テストデータ!R3,333,0))","v":0},{"$f":"SUM(OFFSET(テストデータ!W3,333,0):OFFSET(テストデータ!Y3,333,0))","v":0},{"$f":"SUM(OFFSET(テストデータ!W3,333,0):OFFSET(テストデータ!AA3,333,0))","v":0},{"$f":"SUM(OFFSET(テストデータ!AF3,333,0):OFFSET(テストデータ!AH3,333,0))","v":0},{"$f":"SUM(OFFSET(テストデータ!AF3,333,0):OFFSET(テストデータ!AJ3,333,0))","v":0},{"$f":"SUM(OFFSET(テストデータ!AO3,333,0):OFFSET(テストデータ!AQ3,333,0))","v":0},{"$f":"SUM(OFFSET(テストデータ!AO3,333,0):OFFSET(テストデータ!AS3,333,0))","v":0},{"$f":"SUM(OFFSET(テストデータ!AX3,333,0):OFFSET(テストデータ!AZ3,333,0))","v":0},{"$f":"SUM(OFFSET(テストデータ!AX3,333,0):OFFSET(テストデータ!BB3,333,0))","v":0},{"$f":"SUM(OFFSET(テストデータ!BG3,333,0):OFFSET(テストデータ!BI3,333,0))","v":0},{"$f":"SUM(OFFSET(テストデータ!BG3,333,0):OFFSET(テストデータ!BK3,333,0))","v":0},{"$f":"SUM(OFFSET(テストデータ!BL3,333,0):OFFSET(テストデータ!BN3,333,0))","v":0},{"$f":"SUM(OFFSET(テストデータ!BL3,333,0):OFFSET(テストデータ!BP3,333,0))","v":0},{"$f":"SUM(OFFSET(テストデータ!BQ3,333,0):OFFSET(テストデータ!BS3,333,0))","v":0},{"$f":"SUM(OFFSET(テストデータ!BQ3,333,0):OFFSET(テストデータ!BU3,333,0))","v":0},{"$f":"SUM(OFFSET(テストデータ!BV3,333,0):OFFSET(テストデータ!BX3,333,0))","v":0},{"$f":"SUM(OFFSET(テストデータ!BV3,333,0):OFFSET(テストデータ!BZ3,333,0))","v":0},{"$f":"SUM(OFFSET(テストデータ!CA3,333,0):OFFSET(テストデータ!CC3,333,0))","v":0},{"$f":"SUM(OFFSET(テストデータ!CA3,333,0):OFFSET(テストデータ!CE3,333,0))","v":0},{"$f":"SUM(OFFSET(テストデータ!CF3,333,0):OFFSET(テストデータ!CH3,333,0))","v":0},{"$f":"SUM(OFFSET(テストデータ!CF3,333,0):OFFSET(テストデータ!CJ3,333,0))","v":0},{"$f":"SUM(OFFSET(テストデータ!CK3,333,0):OFFSET(テストデータ!CM3,333,0))","v":0},{"$f":"SUM(OFFSET(テストデータ!CK3,333,0):OFFSET(テストデータ!CO3,333,0))","v":0},{"$f":"SUM(OFFSET(テストデータ!CP3,333,0):OFFSET(テストデータ!CR3,333,0))","v":0},{"$f":"SUM(OFFSET(テストデータ!CP3,333,0):OFFSET(テストデータ!CT3,333,0))","v":0}]
[null,null,null,null,null,null,null,null,null,null,null,null,null,{"$f":"SUM(OFFSET(テストデータ!$E3,334,9*成績表1!$B$4-9):OFFSET(テストデータ!$G3,334,9*成績表1!$B$4-9))","v":0},{"$f":"SUM(OFFSET(テストデータ!$E3,334,9*成績表1!$B$4-9):OFFSET(テストデータ!I3,334,9*成績表1!$B$4-9))","v":0},{"$f":"SUM(OFFSET(テストデータ!E3,334,0):OFFSET(テストデータ!G3,334,0))","v":0},{"$f":"SUM(OFFSET(テストデータ!E3,334,0):OFFSET(テストデータ!I3,334,0))","v":0},{"$f":"SUM(OFFSET(テストデータ!N3,334,0):OFFSET(テストデータ!P3,334,0))","v":0},{"$f":"SUM(OFFSET(テストデータ!N3,334,0):OFFSET(テストデータ!R3,334,0))","v":0},{"$f":"SUM(OFFSET(テストデータ!W3,334,0):OFFSET(テストデータ!Y3,334,0))","v":0},{"$f":"SUM(OFFSET(テストデータ!W3,334,0):OFFSET(テストデータ!AA3,334,0))","v":0},{"$f":"SUM(OFFSET(テストデータ!AF3,334,0):OFFSET(テストデータ!AH3,334,0))","v":0},{"$f":"SUM(OFFSET(テストデータ!AF3,334,0):OFFSET(テストデータ!AJ3,334,0))","v":0},{"$f":"SUM(OFFSET(テストデータ!AO3,334,0):OFFSET(テストデータ!AQ3,334,0))","v":0},{"$f":"SUM(OFFSET(テストデータ!AO3,334,0):OFFSET(テストデータ!AS3,334,0))","v":0},{"$f":"SUM(OFFSET(テストデータ!AX3,334,0):OFFSET(テストデータ!AZ3,334,0))","v":0},{"$f":"SUM(OFFSET(テストデータ!AX3,334,0):OFFSET(テストデータ!BB3,334,0))","v":0},{"$f":"SUM(OFFSET(テストデータ!BG3,334,0):OFFSET(テストデータ!BI3,334,0))","v":0},{"$f":"SUM(OFFSET(テストデータ!BG3,334,0):OFFSET(テストデータ!BK3,334,0))","v":0},{"$f":"SUM(OFFSET(テストデータ!BL3,334,0):OFFSET(テストデータ!BN3,334,0))","v":0},{"$f":"SUM(OFFSET(テストデータ!BL3,334,0):OFFSET(テストデータ!BP3,334,0))","v":0},{"$f":"SUM(OFFSET(テストデータ!BQ3,334,0):OFFSET(テストデータ!BS3,334,0))","v":0},{"$f":"SUM(OFFSET(テストデータ!BQ3,334,0):OFFSET(テストデータ!BU3,334,0))","v":0},{"$f":"SUM(OFFSET(テストデータ!BV3,334,0):OFFSET(テストデータ!BX3,334,0))","v":0},{"$f":"SUM(OFFSET(テストデータ!BV3,334,0):OFFSET(テストデータ!BZ3,334,0))","v":0},{"$f":"SUM(OFFSET(テストデータ!CA3,334,0):OFFSET(テストデータ!CC3,334,0))","v":0},{"$f":"SUM(OFFSET(テストデータ!CA3,334,0):OFFSET(テストデータ!CE3,334,0))","v":0},{"$f":"SUM(OFFSET(テストデータ!CF3,334,0):OFFSET(テストデータ!CH3,334,0))","v":0},{"$f":"SUM(OFFSET(テストデータ!CF3,334,0):OFFSET(テストデータ!CJ3,334,0))","v":0},{"$f":"SUM(OFFSET(テストデータ!CK3,334,0):OFFSET(テストデータ!CM3,334,0))","v":0},{"$f":"SUM(OFFSET(テストデータ!CK3,334,0):OFFSET(テストデータ!CO3,334,0))","v":0},{"$f":"SUM(OFFSET(テストデータ!CP3,334,0):OFFSET(テストデータ!CR3,334,0))","v":0},{"$f":"SUM(OFFSET(テストデータ!CP3,334,0):OFFSET(テストデータ!CT3,334,0))","v":0}]
[null,null,null,null,null,null,null,null,null,null,null,null,null,{"$f":"SUM(OFFSET(テストデータ!$E3,335,9*成績表1!$B$4-9):OFFSET(テストデータ!$G3,335,9*成績表1!$B$4-9))","v":0},{"$f":"SUM(OFFSET(テストデータ!$E3,335,9*成績表1!$B$4-9):OFFSET(テストデータ!I3,335,9*成績表1!$B$4-9))","v":0},{"$f":"SUM(OFFSET(テストデータ!E3,335,0):OFFSET(テストデータ!G3,335,0))","v":0},{"$f":"SUM(OFFSET(テストデータ!E3,335,0):OFFSET(テストデータ!I3,335,0))","v":0},{"$f":"SUM(OFFSET(テストデータ!N3,335,0):OFFSET(テストデータ!P3,335,0))","v":0},{"$f":"SUM(OFFSET(テストデータ!N3,335,0):OFFSET(テストデータ!R3,335,0))","v":0},{"$f":"SUM(OFFSET(テストデータ!W3,335,0):OFFSET(テストデータ!Y3,335,0))","v":0},{"$f":"SUM(OFFSET(テストデータ!W3,335,0):OFFSET(テストデータ!AA3,335,0))","v":0},{"$f":"SUM(OFFSET(テストデータ!AF3,335,0):OFFSET(テストデータ!AH3,335,0))","v":0},{"$f":"SUM(OFFSET(テストデータ!AF3,335,0):OFFSET(テストデータ!AJ3,335,0))","v":0},{"$f":"SUM(OFFSET(テストデータ!AO3,335,0):OFFSET(テストデータ!AQ3,335,0))","v":0},{"$f":"SUM(OFFSET(テストデータ!AO3,335,0):OFFSET(テストデータ!AS3,335,0))","v":0},{"$f":"SUM(OFFSET(テストデータ!AX3,335,0):OFFSET(テストデータ!AZ3,335,0))","v":0},{"$f":"SUM(OFFSET(テストデータ!AX3,335,0):OFFSET(テストデータ!BB3,335,0))","v":0},{"$f":"SUM(OFFSET(テストデータ!BG3,335,0):OFFSET(テストデータ!BI3,335,0))","v":0},{"$f":"SUM(OFFSET(テストデータ!BG3,335,0):OFFSET(テストデータ!BK3,335,0))","v":0},{"$f":"SUM(OFFSET(テストデータ!BL3,335,0):OFFSET(テストデータ!BN3,335,0))","v":0},{"$f":"SUM(OFFSET(テストデータ!BL3,335,0):OFFSET(テストデータ!BP3,335,0))","v":0},{"$f":"SUM(OFFSET(テストデータ!BQ3,335,0):OFFSET(テストデータ!BS3,335,0))","v":0},{"$f":"SUM(OFFSET(テストデータ!BQ3,335,0):OFFSET(テストデータ!BU3,335,0))","v":0},{"$f":"SUM(OFFSET(テストデータ!BV3,335,0):OFFSET(テストデータ!BX3,335,0))","v":0},{"$f":"SUM(OFFSET(テストデータ!BV3,335,0):OFFSET(テストデータ!BZ3,335,0))","v":0},{"$f":"SUM(OFFSET(テストデータ!CA3,335,0):OFFSET(テストデータ!CC3,335,0))","v":0},{"$f":"SUM(OFFSET(テストデータ!CA3,335,0):OFFSET(テストデータ!CE3,335,0))","v":0},{"$f":"SUM(OFFSET(テストデータ!CF3,335,0):OFFSET(テストデータ!CH3,335,0))","v":0},{"$f":"SUM(OFFSET(テストデータ!CF3,335,0):OFFSET(テストデータ!CJ3,335,0))","v":0},{"$f":"SUM(OFFSET(テストデータ!CK3,335,0):OFFSET(テストデータ!CM3,335,0))","v":0},{"$f":"SUM(OFFSET(テストデータ!CK3,335,0):OFFSET(テストデータ!CO3,335,0))","v":0},{"$f":"SUM(OFFSET(テストデータ!CP3,335,0):OFFSET(テストデータ!CR3,335,0))","v":0},{"$f":"SUM(OFFSET(テストデータ!CP3,335,0):OFFSET(テストデータ!CT3,335,0))","v":0}]
[null,null,null,null,null,null,null,null,null,null,null,null,null,{"$f":"SUM(OFFSET(テストデータ!$E3,336,9*成績表1!$B$4-9):OFFSET(テストデータ!$G3,336,9*成績表1!$B$4-9))","v":0},{"$f":"SUM(OFFSET(テストデータ!$E3,336,9*成績表1!$B$4-9):OFFSET(テストデータ!I3,336,9*成績表1!$B$4-9))","v":0},{"$f":"SUM(OFFSET(テストデータ!E3,336,0):OFFSET(テストデータ!G3,336,0))","v":0},{"$f":"SUM(OFFSET(テストデータ!E3,336,0):OFFSET(テストデータ!I3,336,0))","v":0},{"$f":"SUM(OFFSET(テストデータ!N3,336,0):OFFSET(テストデータ!P3,336,0))","v":0},{"$f":"SUM(OFFSET(テストデータ!N3,336,0):OFFSET(テストデータ!R3,336,0))","v":0},{"$f":"SUM(OFFSET(テストデータ!W3,336,0):OFFSET(テストデータ!Y3,336,0))","v":0},{"$f":"SUM(OFFSET(テストデータ!W3,336,0):OFFSET(テストデータ!AA3,336,0))","v":0},{"$f":"SUM(OFFSET(テストデータ!AF3,336,0):OFFSET(テストデータ!AH3,336,0))","v":0},{"$f":"SUM(OFFSET(テストデータ!AF3,336,0):OFFSET(テストデータ!AJ3,336,0))","v":0},{"$f":"SUM(OFFSET(テストデータ!AO3,336,0):OFFSET(テストデータ!AQ3,336,0))","v":0},{"$f":"SUM(OFFSET(テストデータ!AO3,336,0):OFFSET(テストデータ!AS3,336,0))","v":0},{"$f":"SUM(OFFSET(テストデータ!AX3,336,0):OFFSET(テストデータ!AZ3,336,0))","v":0},{"$f":"SUM(OFFSET(テストデータ!AX3,336,0):OFFSET(テストデータ!BB3,336,0))","v":0},{"$f":"SUM(OFFSET(テストデータ!BG3,336,0):OFFSET(テストデータ!BI3,336,0))","v":0},{"$f":"SUM(OFFSET(テストデータ!BG3,336,0):OFFSET(テストデータ!BK3,336,0))","v":0},{"$f":"SUM(OFFSET(テストデータ!BL3,336,0):OFFSET(テストデータ!BN3,336,0))","v":0},{"$f":"SUM(OFFSET(テストデータ!BL3,336,0):OFFSET(テストデータ!BP3,336,0))","v":0},{"$f":"SUM(OFFSET(テストデータ!BQ3,336,0):OFFSET(テストデータ!BS3,336,0))","v":0},{"$f":"SUM(OFFSET(テストデータ!BQ3,336,0):OFFSET(テストデータ!BU3,336,0))","v":0},{"$f":"SUM(OFFSET(テストデータ!BV3,336,0):OFFSET(テストデータ!BX3,336,0))","v":0},{"$f":"SUM(OFFSET(テストデータ!BV3,336,0):OFFSET(テストデータ!BZ3,336,0))","v":0},{"$f":"SUM(OFFSET(テストデータ!CA3,336,0):OFFSET(テストデータ!CC3,336,0))","v":0},{"$f":"SUM(OFFSET(テストデータ!CA3,336,0):OFFSET(テストデータ!CE3,336,0))","v":0},{"$f":"SUM(OFFSET(テストデータ!CF3,336,0):OFFSET(テストデータ!CH3,336,0))","v":0},{"$f":"SUM(OFFSET(テストデータ!CF3,336,0):OFFSET(テストデータ!CJ3,336,0))","v":0},{"$f":"SUM(OFFSET(テストデータ!CK3,336,0):OFFSET(テストデータ!CM3,336,0))","v":0},{"$f":"SUM(OFFSET(テストデータ!CK3,336,0):OFFSET(テストデータ!CO3,336,0))","v":0},{"$f":"SUM(OFFSET(テストデータ!CP3,336,0):OFFSET(テストデータ!CR3,336,0))","v":0},{"$f":"SUM(OFFSET(テストデータ!CP3,336,0):OFFSET(テストデータ!CT3,336,0))","v":0}]
[null,null,null,null,null,null,null,null,null,null,null,null,null,{"$f":"SUM(OFFSET(テストデータ!$E3,337,9*成績表1!$B$4-9):OFFSET(テストデータ!$G3,337,9*成績表1!$B$4-9))","v":0},{"$f":"SUM(OFFSET(テストデータ!$E3,337,9*成績表1!$B$4-9):OFFSET(テストデータ!I3,337,9*成績表1!$B$4-9))","v":0},{"$f":"SUM(OFFSET(テストデータ!E3,337,0):OFFSET(テストデータ!G3,337,0))","v":0},{"$f":"SUM(OFFSET(テストデータ!E3,337,0):OFFSET(テストデータ!I3,337,0))","v":0},{"$f":"SUM(OFFSET(テストデータ!N3,337,0):OFFSET(テストデータ!P3,337,0))","v":0},{"$f":"SUM(OFFSET(テストデータ!N3,337,0):OFFSET(テストデータ!R3,337,0))","v":0},{"$f":"SUM(OFFSET(テストデータ!W3,337,0):OFFSET(テストデータ!Y3,337,0))","v":0},{"$f":"SUM(OFFSET(テストデータ!W3,337,0):OFFSET(テストデータ!AA3,337,0))","v":0},{"$f":"SUM(OFFSET(テストデータ!AF3,337,0):OFFSET(テストデータ!AH3,337,0))","v":0},{"$f":"SUM(OFFSET(テストデータ!AF3,337,0):OFFSET(テストデータ!AJ3,337,0))","v":0},{"$f":"SUM(OFFSET(テストデータ!AO3,337,0):OFFSET(テストデータ!AQ3,337,0))","v":0},{"$f":"SUM(OFFSET(テストデータ!AO3,337,0):OFFSET(テストデータ!AS3,337,0))","v":0},{"$f":"SUM(OFFSET(テストデータ!AX3,337,0):OFFSET(テストデータ!AZ3,337,0))","v":0},{"$f":"SUM(OFFSET(テストデータ!AX3,337,0):OFFSET(テストデータ!BB3,337,0))","v":0},{"$f":"SUM(OFFSET(テストデータ!BG3,337,0):OFFSET(テストデータ!BI3,337,0))","v":0},{"$f":"SUM(OFFSET(テストデータ!BG3,337,0):OFFSET(テストデータ!BK3,337,0))","v":0},{"$f":"SUM(OFFSET(テストデータ!BL3,337,0):OFFSET(テストデータ!BN3,337,0))","v":0},{"$f":"SUM(OFFSET(テストデータ!BL3,337,0):OFFSET(テストデータ!BP3,337,0))","v":0},{"$f":"SUM(OFFSET(テストデータ!BQ3,337,0):OFFSET(テストデータ!BS3,337,0))","v":0},{"$f":"SUM(OFFSET(テストデータ!BQ3,337,0):OFFSET(テストデータ!BU3,337,0))","v":0},{"$f":"SUM(OFFSET(テストデータ!BV3,337,0):OFFSET(テストデータ!BX3,337,0))","v":0},{"$f":"SUM(OFFSET(テストデータ!BV3,337,0):OFFSET(テストデータ!BZ3,337,0))","v":0},{"$f":"SUM(OFFSET(テストデータ!CA3,337,0):OFFSET(テストデータ!CC3,337,0))","v":0},{"$f":"SUM(OFFSET(テストデータ!CA3,337,0):OFFSET(テストデータ!CE3,337,0))","v":0},{"$f":"SUM(OFFSET(テストデータ!CF3,337,0):OFFSET(テストデータ!CH3,337,0))","v":0},{"$f":"SUM(OFFSET(テストデータ!CF3,337,0):OFFSET(テストデータ!CJ3,337,0))","v":0},{"$f":"SUM(OFFSET(テストデータ!CK3,337,0):OFFSET(テストデータ!CM3,337,0))","v":0},{"$f":"SUM(OFFSET(テストデータ!CK3,337,0):OFFSET(テストデータ!CO3,337,0))","v":0},{"$f":"SUM(OFFSET(テストデータ!CP3,337,0):OFFSET(テストデータ!CR3,337,0))","v":0},{"$f":"SUM(OFFSET(テストデータ!CP3,337,0):OFFSET(テストデータ!CT3,337,0))","v":0}]
[null,null,null,null,null,null,null,null,null,null,null,null,null,{"$f":"SUM(OFFSET(テストデータ!$E3,338,9*成績表1!$B$4-9):OFFSET(テストデータ!$G3,338,9*成績表1!$B$4-9))","v":0},{"$f":"SUM(OFFSET(テストデータ!$E3,338,9*成績表1!$B$4-9):OFFSET(テストデータ!I3,338,9*成績表1!$B$4-9))","v":0},{"$f":"SUM(OFFSET(テストデータ!E3,338,0):OFFSET(テストデータ!G3,338,0))","v":0},{"$f":"SUM(OFFSET(テストデータ!E3,338,0):OFFSET(テストデータ!I3,338,0))","v":0},{"$f":"SUM(OFFSET(テストデータ!N3,338,0):OFFSET(テストデータ!P3,338,0))","v":0},{"$f":"SUM(OFFSET(テストデータ!N3,338,0):OFFSET(テストデータ!R3,338,0))","v":0},{"$f":"SUM(OFFSET(テストデータ!W3,338,0):OFFSET(テストデータ!Y3,338,0))","v":0},{"$f":"SUM(OFFSET(テストデータ!W3,338,0):OFFSET(テストデータ!AA3,338,0))","v":0},{"$f":"SUM(OFFSET(テストデータ!AF3,338,0):OFFSET(テストデータ!AH3,338,0))","v":0},{"$f":"SUM(OFFSET(テストデータ!AF3,338,0):OFFSET(テストデータ!AJ3,338,0))","v":0},{"$f":"SUM(OFFSET(テストデータ!AO3,338,0):OFFSET(テストデータ!AQ3,338,0))","v":0},{"$f":"SUM(OFFSET(テストデータ!AO3,338,0):OFFSET(テストデータ!AS3,338,0))","v":0},{"$f":"SUM(OFFSET(テストデータ!AX3,338,0):OFFSET(テストデータ!AZ3,338,0))","v":0},{"$f":"SUM(OFFSET(テストデータ!AX3,338,0):OFFSET(テストデータ!BB3,338,0))","v":0},{"$f":"SUM(OFFSET(テストデータ!BG3,338,0):OFFSET(テストデータ!BI3,338,0))","v":0},{"$f":"SUM(OFFSET(テストデータ!BG3,338,0):OFFSET(テストデータ!BK3,338,0))","v":0},{"$f":"SUM(OFFSET(テストデータ!BL3,338,0):OFFSET(テストデータ!BN3,338,0))","v":0},{"$f":"SUM(OFFSET(テストデータ!BL3,338,0):OFFSET(テストデータ!BP3,338,0))","v":0},{"$f":"SUM(OFFSET(テストデータ!BQ3,338,0):OFFSET(テストデータ!BS3,338,0))","v":0},{"$f":"SUM(OFFSET(テストデータ!BQ3,338,0):OFFSET(テストデータ!BU3,338,0))","v":0},{"$f":"SUM(OFFSET(テストデータ!BV3,338,0):OFFSET(テストデータ!BX3,338,0))","v":0},{"$f":"SUM(OFFSET(テストデータ!BV3,338,0):OFFSET(テストデータ!BZ3,338,0))","v":0},{"$f":"SUM(OFFSET(テストデータ!CA3,338,0):OFFSET(テストデータ!CC3,338,0))","v":0},{"$f":"SUM(OFFSET(テストデータ!CA3,338,0):OFFSET(テストデータ!CE3,338,0))","v":0},{"$f":"SUM(OFFSET(テストデータ!CF3,338,0):OFFSET(テストデータ!CH3,338,0))","v":0},{"$f":"SUM(OFFSET(テストデータ!CF3,338,0):OFFSET(テストデータ!CJ3,338,0))","v":0},{"$f":"SUM(OFFSET(テストデータ!CK3,338,0):OFFSET(テストデータ!CM3,338,0))","v":0},{"$f":"SUM(OFFSET(テストデータ!CK3,338,0):OFFSET(テストデータ!CO3,338,0))","v":0},{"$f":"SUM(OFFSET(テストデータ!CP3,338,0):OFFSET(テストデータ!CR3,338,0))","v":0},{"$f":"SUM(OFFSET(テストデータ!CP3,338,0):OFFSET(テストデータ!CT3,338,0))","v":0}]
[null,null,null,null,null,null,null,null,null,null,null,null,null,{"$f":"SUM(OFFSET(テストデータ!$E3,339,9*成績表1!$B$4-9):OFFSET(テストデータ!$G3,339,9*成績表1!$B$4-9))","v":0},{"$f":"SUM(OFFSET(テストデータ!$E3,339,9*成績表1!$B$4-9):OFFSET(テストデータ!I3,339,9*成績表1!$B$4-9))","v":0},{"$f":"SUM(OFFSET(テストデータ!E3,339,0):OFFSET(テストデータ!G3,339,0))","v":0},{"$f":"SUM(OFFSET(テストデータ!E3,339,0):OFFSET(テストデータ!I3,339,0))","v":0},{"$f":"SUM(OFFSET(テストデータ!N3,339,0):OFFSET(テストデータ!P3,339,0))","v":0},{"$f":"SUM(OFFSET(テストデータ!N3,339,0):OFFSET(テストデータ!R3,339,0))","v":0},{"$f":"SUM(OFFSET(テストデータ!W3,339,0):OFFSET(テストデータ!Y3,339,0))","v":0},{"$f":"SUM(OFFSET(テストデータ!W3,339,0):OFFSET(テストデータ!AA3,339,0))","v":0},{"$f":"SUM(OFFSET(テストデータ!AF3,339,0):OFFSET(テストデータ!AH3,339,0))","v":0},{"$f":"SUM(OFFSET(テストデータ!AF3,339,0):OFFSET(テストデータ!AJ3,339,0))","v":0},{"$f":"SUM(OFFSET(テストデータ!AO3,339,0):OFFSET(テストデータ!AQ3,339,0))","v":0},{"$f":"SUM(OFFSET(テストデータ!AO3,339,0):OFFSET(テストデータ!AS3,339,0))","v":0},{"$f":"SUM(OFFSET(テストデータ!AX3,339,0):OFFSET(テストデータ!AZ3,339,0))","v":0},{"$f":"SUM(OFFSET(テストデータ!AX3,339,0):OFFSET(テストデータ!BB3,339,0))","v":0},{"$f":"SUM(OFFSET(テストデータ!BG3,339,0):OFFSET(テストデータ!BI3,339,0))","v":0},{"$f":"SUM(OFFSET(テストデータ!BG3,339,0):OFFSET(テストデータ!BK3,339,0))","v":0},{"$f":"SUM(OFFSET(テストデータ!BL3,339,0):OFFSET(テストデータ!BN3,339,0))","v":0},{"$f":"SUM(OFFSET(テストデータ!BL3,339,0):OFFSET(テストデータ!BP3,339,0))","v":0},{"$f":"SUM(OFFSET(テストデータ!BQ3,339,0):OFFSET(テストデータ!BS3,339,0))","v":0},{"$f":"SUM(OFFSET(テストデータ!BQ3,339,0):OFFSET(テストデータ!BU3,339,0))","v":0},{"$f":"SUM(OFFSET(テストデータ!BV3,339,0):OFFSET(テストデータ!BX3,339,0))","v":0},{"$f":"SUM(OFFSET(テストデータ!BV3,339,0):OFFSET(テストデータ!BZ3,339,0))","v":0},{"$f":"SUM(OFFSET(テストデータ!CA3,339,0):OFFSET(テストデータ!CC3,339,0))","v":0},{"$f":"SUM(OFFSET(テストデータ!CA3,339,0):OFFSET(テストデータ!CE3,339,0))","v":0},{"$f":"SUM(OFFSET(テストデータ!CF3,339,0):OFFSET(テストデータ!CH3,339,0))","v":0},{"$f":"SUM(OFFSET(テストデータ!CF3,339,0):OFFSET(テストデータ!CJ3,339,0))","v":0},{"$f":"SUM(OFFSET(テストデータ!CK3,339,0):OFFSET(テストデータ!CM3,339,0))","v":0},{"$f":"SUM(OFFSET(テストデータ!CK3,339,0):OFFSET(テストデータ!CO3,339,0))","v":0},{"$f":"SUM(OFFSET(テストデータ!CP3,339,0):OFFSET(テストデータ!CR3,339,0))","v":0},{"$f":"SUM(OFFSET(テストデータ!CP3,339,0):OFFSET(テストデータ!CT3,339,0))","v":0}]
[null,null,null,null,null,null,null,null,null,null,null,null,null,{"$f":"SUM(OFFSET(テストデータ!$E3,340,9*成績表1!$B$4-9):OFFSET(テストデータ!$G3,340,9*成績表1!$B$4-9))","v":0},{"$f":"SUM(OFFSET(テストデータ!$E3,340,9*成績表1!$B$4-9):OFFSET(テストデータ!I3,340,9*成績表1!$B$4-9))","v":0},{"$f":"SUM(OFFSET(テストデータ!E3,340,0):OFFSET(テストデータ!G3,340,0))","v":0},{"$f":"SUM(OFFSET(テストデータ!E3,340,0):OFFSET(テストデータ!I3,340,0))","v":0},{"$f":"SUM(OFFSET(テストデータ!N3,340,0):OFFSET(テストデータ!P3,340,0))","v":0},{"$f":"SUM(OFFSET(テストデータ!N3,340,0):OFFSET(テストデータ!R3,340,0))","v":0},{"$f":"SUM(OFFSET(テストデータ!W3,340,0):OFFSET(テストデータ!Y3,340,0))","v":0},{"$f":"SUM(OFFSET(テストデータ!W3,340,0):OFFSET(テストデータ!AA3,340,0))","v":0},{"$f":"SUM(OFFSET(テストデータ!AF3,340,0):OFFSET(テストデータ!AH3,340,0))","v":0},{"$f":"SUM(OFFSET(テストデータ!AF3,340,0):OFFSET(テストデータ!AJ3,340,0))","v":0},{"$f":"SUM(OFFSET(テストデータ!AO3,340,0):OFFSET(テストデータ!AQ3,340,0))","v":0},{"$f":"SUM(OFFSET(テストデータ!AO3,340,0):OFFSET(テストデータ!AS3,340,0))","v":0},{"$f":"SUM(OFFSET(テストデータ!AX3,340,0):OFFSET(テストデータ!AZ3,340,0))","v":0},{"$f":"SUM(OFFSET(テストデータ!AX3,340,0):OFFSET(テストデータ!BB3,340,0))","v":0},{"$f":"SUM(OFFSET(テストデータ!BG3,340,0):OFFSET(テストデータ!BI3,340,0))","v":0},{"$f":"SUM(OFFSET(テストデータ!BG3,340,0):OFFSET(テストデータ!BK3,340,0))","v":0},{"$f":"SUM(OFFSET(テストデータ!BL3,340,0):OFFSET(テストデータ!BN3,340,0))","v":0},{"$f":"SUM(OFFSET(テストデータ!BL3,340,0):OFFSET(テストデータ!BP3,340,0))","v":0},{"$f":"SUM(OFFSET(テストデータ!BQ3,340,0):OFFSET(テストデータ!BS3,340,0))","v":0},{"$f":"SUM(OFFSET(テストデータ!BQ3,340,0):OFFSET(テストデータ!BU3,340,0))","v":0},{"$f":"SUM(OFFSET(テストデータ!BV3,340,0):OFFSET(テストデータ!BX3,340,0))","v":0},{"$f":"SUM(OFFSET(テストデータ!BV3,340,0):OFFSET(テストデータ!BZ3,340,0))","v":0},{"$f":"SUM(OFFSET(テストデータ!CA3,340,0):OFFSET(テストデータ!CC3,340,0))","v":0},{"$f":"SUM(OFFSET(テストデータ!CA3,340,0):OFFSET(テストデータ!CE3,340,0))","v":0},{"$f":"SUM(OFFSET(テストデータ!CF3,340,0):OFFSET(テストデータ!CH3,340,0))","v":0},{"$f":"SUM(OFFSET(テストデータ!CF3,340,0):OFFSET(テストデータ!CJ3,340,0))","v":0},{"$f":"SUM(OFFSET(テストデータ!CK3,340,0):OFFSET(テストデータ!CM3,340,0))","v":0},{"$f":"SUM(OFFSET(テストデータ!CK3,340,0):OFFSET(テストデータ!CO3,340,0))","v":0},{"$f":"SUM(OFFSET(テストデータ!CP3,340,0):OFFSET(テストデータ!CR3,340,0))","v":0},{"$f":"SUM(OFFSET(テストデータ!CP3,340,0):OFFSET(テストデータ!CT3,340,0))","v":0}]
[null,null,null,null,null,null,null,null,null,null,null,null,null,{"$f":"SUM(OFFSET(テストデータ!$E3,341,9*成績表1!$B$4-9):OFFSET(テストデータ!$G3,341,9*成績表1!$B$4-9))","v":0},{"$f":"SUM(OFFSET(テストデータ!$E3,341,9*成績表1!$B$4-9):OFFSET(テストデータ!I3,341,9*成績表1!$B$4-9))","v":0},{"$f":"SUM(OFFSET(テストデータ!E3,341,0):OFFSET(テストデータ!G3,341,0))","v":0},{"$f":"SUM(OFFSET(テストデータ!E3,341,0):OFFSET(テストデータ!I3,341,0))","v":0},{"$f":"SUM(OFFSET(テストデータ!N3,341,0):OFFSET(テストデータ!P3,341,0))","v":0},{"$f":"SUM(OFFSET(テストデータ!N3,341,0):OFFSET(テストデータ!R3,341,0))","v":0},{"$f":"SUM(OFFSET(テストデータ!W3,341,0):OFFSET(テストデータ!Y3,341,0))","v":0},{"$f":"SUM(OFFSET(テストデータ!W3,341,0):OFFSET(テストデータ!AA3,341,0))","v":0},{"$f":"SUM(OFFSET(テストデータ!AF3,341,0):OFFSET(テストデータ!AH3,341,0))","v":0},{"$f":"SUM(OFFSET(テストデータ!AF3,341,0):OFFSET(テストデータ!AJ3,341,0))","v":0},{"$f":"SUM(OFFSET(テストデータ!AO3,341,0):OFFSET(テストデータ!AQ3,341,0))","v":0},{"$f":"SUM(OFFSET(テストデータ!AO3,341,0):OFFSET(テストデータ!AS3,341,0))","v":0},{"$f":"SUM(OFFSET(テストデータ!AX3,341,0):OFFSET(テストデータ!AZ3,341,0))","v":0},{"$f":"SUM(OFFSET(テストデータ!AX3,341,0):OFFSET(テストデータ!BB3,341,0))","v":0},{"$f":"SUM(OFFSET(テストデータ!BG3,341,0):OFFSET(テストデータ!BI3,341,0))","v":0},{"$f":"SUM(OFFSET(テストデータ!BG3,341,0):OFFSET(テストデータ!BK3,341,0))","v":0},{"$f":"SUM(OFFSET(テストデータ!BL3,341,0):OFFSET(テストデータ!BN3,341,0))","v":0},{"$f":"SUM(OFFSET(テストデータ!BL3,341,0):OFFSET(テストデータ!BP3,341,0))","v":0},{"$f":"SUM(OFFSET(テストデータ!BQ3,341,0):OFFSET(テストデータ!BS3,341,0))","v":0},{"$f":"SUM(OFFSET(テストデータ!BQ3,341,0):OFFSET(テストデータ!BU3,341,0))","v":0},{"$f":"SUM(OFFSET(テストデータ!BV3,341,0):OFFSET(テストデータ!BX3,341,0))","v":0},{"$f":"SUM(OFFSET(テストデータ!BV3,341,0):OFFSET(テストデータ!BZ3,341,0))","v":0},{"$f":"SUM(OFFSET(テストデータ!CA3,341,0):OFFSET(テストデータ!CC3,341,0))","v":0},{"$f":"SUM(OFFSET(テストデータ!CA3,341,0):OFFSET(テストデータ!CE3,341,0))","v":0},{"$f":"SUM(OFFSET(テストデータ!CF3,341,0):OFFSET(テストデータ!CH3,341,0))","v":0},{"$f":"SUM(OFFSET(テストデータ!CF3,341,0):OFFSET(テストデータ!CJ3,341,0))","v":0},{"$f":"SUM(OFFSET(テストデータ!CK3,341,0):OFFSET(テストデータ!CM3,341,0))","v":0},{"$f":"SUM(OFFSET(テストデータ!CK3,341,0):OFFSET(テストデータ!CO3,341,0))","v":0},{"$f":"SUM(OFFSET(テストデータ!CP3,341,0):OFFSET(テストデータ!CR3,341,0))","v":0},{"$f":"SUM(OFFSET(テストデータ!CP3,341,0):OFFSET(テストデータ!CT3,341,0))","v":0}]
[null,null,null,null,null,null,null,null,null,null,null,null,null,{"$f":"SUM(OFFSET(テストデータ!$E3,342,9*成績表1!$B$4-9):OFFSET(テストデータ!$G3,342,9*成績表1!$B$4-9))","v":0},{"$f":"SUM(OFFSET(テストデータ!$E3,342,9*成績表1!$B$4-9):OFFSET(テストデータ!I3,342,9*成績表1!$B$4-9))","v":0},{"$f":"SUM(OFFSET(テストデータ!E3,342,0):OFFSET(テストデータ!G3,342,0))","v":0},{"$f":"SUM(OFFSET(テストデータ!E3,342,0):OFFSET(テストデータ!I3,342,0))","v":0},{"$f":"SUM(OFFSET(テストデータ!N3,342,0):OFFSET(テストデータ!P3,342,0))","v":0},{"$f":"SUM(OFFSET(テストデータ!N3,342,0):OFFSET(テストデータ!R3,342,0))","v":0},{"$f":"SUM(OFFSET(テストデータ!W3,342,0):OFFSET(テストデータ!Y3,342,0))","v":0},{"$f":"SUM(OFFSET(テストデータ!W3,342,0):OFFSET(テストデータ!AA3,342,0))","v":0},{"$f":"SUM(OFFSET(テストデータ!AF3,342,0):OFFSET(テストデータ!AH3,342,0))","v":0},{"$f":"SUM(OFFSET(テストデータ!AF3,342,0):OFFSET(テストデータ!AJ3,342,0))","v":0},{"$f":"SUM(OFFSET(テストデータ!AO3,342,0):OFFSET(テストデータ!AQ3,342,0))","v":0},{"$f":"SUM(OFFSET(テストデータ!AO3,342,0):OFFSET(テストデータ!AS3,342,0))","v":0},{"$f":"SUM(OFFSET(テストデータ!AX3,342,0):OFFSET(テストデータ!AZ3,342,0))","v":0},{"$f":"SUM(OFFSET(テストデータ!AX3,342,0):OFFSET(テストデータ!BB3,342,0))","v":0},{"$f":"SUM(OFFSET(テストデータ!BG3,342,0):OFFSET(テストデータ!BI3,342,0))","v":0},{"$f":"SUM(OFFSET(テストデータ!BG3,342,0):OFFSET(テストデータ!BK3,342,0))","v":0},{"$f":"SUM(OFFSET(テストデータ!BL3,342,0):OFFSET(テストデータ!BN3,342,0))","v":0},{"$f":"SUM(OFFSET(テストデータ!BL3,342,0):OFFSET(テストデータ!BP3,342,0))","v":0},{"$f":"SUM(OFFSET(テストデータ!BQ3,342,0):OFFSET(テストデータ!BS3,342,0))","v":0},{"$f":"SUM(OFFSET(テストデータ!BQ3,342,0):OFFSET(テストデータ!BU3,342,0))","v":0},{"$f":"SUM(OFFSET(テストデータ!BV3,342,0):OFFSET(テストデータ!BX3,342,0))","v":0},{"$f":"SUM(OFFSET(テストデータ!BV3,342,0):OFFSET(テストデータ!BZ3,342,0))","v":0},{"$f":"SUM(OFFSET(テストデータ!CA3,342,0):OFFSET(テストデータ!CC3,342,0))","v":0},{"$f":"SUM(OFFSET(テストデータ!CA3,342,0):OFFSET(テストデータ!CE3,342,0))","v":0},{"$f":"SUM(OFFSET(テストデータ!CF3,342,0):OFFSET(テストデータ!CH3,342,0))","v":0},{"$f":"SUM(OFFSET(テストデータ!CF3,342,0):OFFSET(テストデータ!CJ3,342,0))","v":0},{"$f":"SUM(OFFSET(テストデータ!CK3,342,0):OFFSET(テストデータ!CM3,342,0))","v":0},{"$f":"SUM(OFFSET(テストデータ!CK3,342,0):OFFSET(テストデータ!CO3,342,0))","v":0},{"$f":"SUM(OFFSET(テストデータ!CP3,342,0):OFFSET(テストデータ!CR3,342,0))","v":0},{"$f":"SUM(OFFSET(テストデータ!CP3,342,0):OFFSET(テストデータ!CT3,342,0))","v":0}]
[null,null,null,null,null,null,null,null,null,null,null,null,null,{"$f":"SUM(OFFSET(テストデータ!$E3,343,9*成績表1!$B$4-9):OFFSET(テストデータ!$G3,343,9*成績表1!$B$4-9))","v":0},{"$f":"SUM(OFFSET(テストデータ!$E3,343,9*成績表1!$B$4-9):OFFSET(テストデータ!I3,343,9*成績表1!$B$4-9))","v":0},{"$f":"SUM(OFFSET(テストデータ!E3,343,0):OFFSET(テストデータ!G3,343,0))","v":0},{"$f":"SUM(OFFSET(テストデータ!E3,343,0):OFFSET(テストデータ!I3,343,0))","v":0},{"$f":"SUM(OFFSET(テストデータ!N3,343,0):OFFSET(テストデータ!P3,343,0))","v":0},{"$f":"SUM(OFFSET(テストデータ!N3,343,0):OFFSET(テストデータ!R3,343,0))","v":0},{"$f":"SUM(OFFSET(テストデータ!W3,343,0):OFFSET(テストデータ!Y3,343,0))","v":0},{"$f":"SUM(OFFSET(テストデータ!W3,343,0):OFFSET(テストデータ!AA3,343,0))","v":0},{"$f":"SUM(OFFSET(テストデータ!AF3,343,0):OFFSET(テストデータ!AH3,343,0))","v":0},{"$f":"SUM(OFFSET(テストデータ!AF3,343,0):OFFSET(テストデータ!AJ3,343,0))","v":0},{"$f":"SUM(OFFSET(テストデータ!AO3,343,0):OFFSET(テストデータ!AQ3,343,0))","v":0},{"$f":"SUM(OFFSET(テストデータ!AO3,343,0):OFFSET(テストデータ!AS3,343,0))","v":0},{"$f":"SUM(OFFSET(テストデータ!AX3,343,0):OFFSET(テストデータ!AZ3,343,0))","v":0},{"$f":"SUM(OFFSET(テストデータ!AX3,343,0):OFFSET(テストデータ!BB3,343,0))","v":0},{"$f":"SUM(OFFSET(テストデータ!BG3,343,0):OFFSET(テストデータ!BI3,343,0))","v":0},{"$f":"SUM(OFFSET(テストデータ!BG3,343,0):OFFSET(テストデータ!BK3,343,0))","v":0},{"$f":"SUM(OFFSET(テストデータ!BL3,343,0):OFFSET(テストデータ!BN3,343,0))","v":0},{"$f":"SUM(OFFSET(テストデータ!BL3,343,0):OFFSET(テストデータ!BP3,343,0))","v":0},{"$f":"SUM(OFFSET(テストデータ!BQ3,343,0):OFFSET(テストデータ!BS3,343,0))","v":0},{"$f":"SUM(OFFSET(テストデータ!BQ3,343,0):OFFSET(テストデータ!BU3,343,0))","v":0},{"$f":"SUM(OFFSET(テストデータ!BV3,343,0):OFFSET(テストデータ!BX3,343,0))","v":0},{"$f":"SUM(OFFSET(テストデータ!BV3,343,0):OFFSET(テストデータ!BZ3,343,0))","v":0},{"$f":"SUM(OFFSET(テストデータ!CA3,343,0):OFFSET(テストデータ!CC3,343,0))","v":0},{"$f":"SUM(OFFSET(テストデータ!CA3,343,0):OFFSET(テストデータ!CE3,343,0))","v":0},{"$f":"SUM(OFFSET(テストデータ!CF3,343,0):OFFSET(テストデータ!CH3,343,0))","v":0},{"$f":"SUM(OFFSET(テストデータ!CF3,343,0):OFFSET(テストデータ!CJ3,343,0))","v":0},{"$f":"SUM(OFFSET(テストデータ!CK3,343,0):OFFSET(テストデータ!CM3,343,0))","v":0},{"$f":"SUM(OFFSET(テストデータ!CK3,343,0):OFFSET(テストデータ!CO3,343,0))","v":0},{"$f":"SUM(OFFSET(テストデータ!CP3,343,0):OFFSET(テストデータ!CR3,343,0))","v":0},{"$f":"SUM(OFFSET(テストデータ!CP3,343,0):OFFSET(テストデータ!CT3,343,0))","v":0}]
[null,null,null,null,null,null,null,null,null,null,null,null,null,{"$f":"SUM(OFFSET(テストデータ!$E3,344,9*成績表1!$B$4-9):OFFSET(テストデータ!$G3,344,9*成績表1!$B$4-9))","v":0},{"$f":"SUM(OFFSET(テストデータ!$E3,344,9*成績表1!$B$4-9):OFFSET(テストデータ!I3,344,9*成績表1!$B$4-9))","v":0},{"$f":"SUM(OFFSET(テストデータ!E3,344,0):OFFSET(テストデータ!G3,344,0))","v":0},{"$f":"SUM(OFFSET(テストデータ!E3,344,0):OFFSET(テストデータ!I3,344,0))","v":0},{"$f":"SUM(OFFSET(テストデータ!N3,344,0):OFFSET(テストデータ!P3,344,0))","v":0},{"$f":"SUM(OFFSET(テストデータ!N3,344,0):OFFSET(テストデータ!R3,344,0))","v":0},{"$f":"SUM(OFFSET(テストデータ!W3,344,0):OFFSET(テストデータ!Y3,344,0))","v":0},{"$f":"SUM(OFFSET(テストデータ!W3,344,0):OFFSET(テストデータ!AA3,344,0))","v":0},{"$f":"SUM(OFFSET(テストデータ!AF3,344,0):OFFSET(テストデータ!AH3,344,0))","v":0},{"$f":"SUM(OFFSET(テストデータ!AF3,344,0):OFFSET(テストデータ!AJ3,344,0))","v":0},{"$f":"SUM(OFFSET(テストデータ!AO3,344,0):OFFSET(テストデータ!AQ3,344,0))","v":0},{"$f":"SUM(OFFSET(テストデータ!AO3,344,0):OFFSET(テストデータ!AS3,344,0))","v":0},{"$f":"SUM(OFFSET(テストデータ!AX3,344,0):OFFSET(テストデータ!AZ3,344,0))","v":0},{"$f":"SUM(OFFSET(テストデータ!AX3,344,0):OFFSET(テストデータ!BB3,344,0))","v":0},{"$f":"SUM(OFFSET(テストデータ!BG3,344,0):OFFSET(テストデータ!BI3,344,0))","v":0},{"$f":"SUM(OFFSET(テストデータ!BG3,344,0):OFFSET(テストデータ!BK3,344,0))","v":0},{"$f":"SUM(OFFSET(テストデータ!BL3,344,0):OFFSET(テストデータ!BN3,344,0))","v":0},{"$f":"SUM(OFFSET(テストデータ!BL3,344,0):OFFSET(テストデータ!BP3,344,0))","v":0},{"$f":"SUM(OFFSET(テストデータ!BQ3,344,0):OFFSET(テストデータ!BS3,344,0))","v":0},{"$f":"SUM(OFFSET(テストデータ!BQ3,344,0):OFFSET(テストデータ!BU3,344,0))","v":0},{"$f":"SUM(OFFSET(テストデータ!BV3,344,0):OFFSET(テストデータ!BX3,344,0))","v":0},{"$f":"SUM(OFFSET(テストデータ!BV3,344,0):OFFSET(テストデータ!BZ3,344,0))","v":0},{"$f":"SUM(OFFSET(テストデータ!CA3,344,0):OFFSET(テストデータ!CC3,344,0))","v":0},{"$f":"SUM(OFFSET(テストデータ!CA3,344,0):OFFSET(テストデータ!CE3,344,0))","v":0},{"$f":"SUM(OFFSET(テストデータ!CF3,344,0):OFFSET(テストデータ!CH3,344,0))","v":0},{"$f":"SUM(OFFSET(テストデータ!CF3,344,0):OFFSET(テストデータ!CJ3,344,0))","v":0},{"$f":"SUM(OFFSET(テストデータ!CK3,344,0):OFFSET(テストデータ!CM3,344,0))","v":0},{"$f":"SUM(OFFSET(テストデータ!CK3,344,0):OFFSET(テストデータ!CO3,344,0))","v":0},{"$f":"SUM(OFFSET(テストデータ!CP3,344,0):OFFSET(テストデータ!CR3,344,0))","v":0},{"$f":"SUM(OFFSET(テストデータ!CP3,344,0):OFFSET(テストデータ!CT3,344,0))","v":0}]
[null,null,null,null,null,null,null,null,null,null,null,null,null,{"$f":"SUM(OFFSET(テストデータ!$E3,345,9*成績表1!$B$4-9):OFFSET(テストデータ!$G3,345,9*成績表1!$B$4-9))","v":0},{"$f":"SUM(OFFSET(テストデータ!$E3,345,9*成績表1!$B$4-9):OFFSET(テストデータ!I3,345,9*成績表1!$B$4-9))","v":0},{"$f":"SUM(OFFSET(テストデータ!E3,345,0):OFFSET(テストデータ!G3,345,0))","v":0},{"$f":"SUM(OFFSET(テストデータ!E3,345,0):OFFSET(テストデータ!I3,345,0))","v":0},{"$f":"SUM(OFFSET(テストデータ!N3,345,0):OFFSET(テストデータ!P3,345,0))","v":0},{"$f":"SUM(OFFSET(テストデータ!N3,345,0):OFFSET(テストデータ!R3,345,0))","v":0},{"$f":"SUM(OFFSET(テストデータ!W3,345,0):OFFSET(テストデータ!Y3,345,0))","v":0},{"$f":"SUM(OFFSET(テストデータ!W3,345,0):OFFSET(テストデータ!AA3,345,0))","v":0},{"$f":"SUM(OFFSET(テストデータ!AF3,345,0):OFFSET(テストデータ!AH3,345,0))","v":0},{"$f":"SUM(OFFSET(テストデータ!AF3,345,0):OFFSET(テストデータ!AJ3,345,0))","v":0},{"$f":"SUM(OFFSET(テストデータ!AO3,345,0):OFFSET(テストデータ!AQ3,345,0))","v":0},{"$f":"SUM(OFFSET(テストデータ!AO3,345,0):OFFSET(テストデータ!AS3,345,0))","v":0},{"$f":"SUM(OFFSET(テストデータ!AX3,345,0):OFFSET(テストデータ!AZ3,345,0))","v":0},{"$f":"SUM(OFFSET(テストデータ!AX3,345,0):OFFSET(テストデータ!BB3,345,0))","v":0},{"$f":"SUM(OFFSET(テストデータ!BG3,345,0):OFFSET(テストデータ!BI3,345,0))","v":0},{"$f":"SUM(OFFSET(テストデータ!BG3,345,0):OFFSET(テストデータ!BK3,345,0))","v":0},{"$f":"SUM(OFFSET(テストデータ!BL3,345,0):OFFSET(テストデータ!BN3,345,0))","v":0},{"$f":"SUM(OFFSET(テストデータ!BL3,345,0):OFFSET(テストデータ!BP3,345,0))","v":0},{"$f":"SUM(OFFSET(テストデータ!BQ3,345,0):OFFSET(テストデータ!BS3,345,0))","v":0},{"$f":"SUM(OFFSET(テストデータ!BQ3,345,0):OFFSET(テストデータ!BU3,345,0))","v":0},{"$f":"SUM(OFFSET(テストデータ!BV3,345,0):OFFSET(テストデータ!BX3,345,0))","v":0},{"$f":"SUM(OFFSET(テストデータ!BV3,345,0):OFFSET(テストデータ!BZ3,345,0))","v":0},{"$f":"SUM(OFFSET(テストデータ!CA3,345,0):OFFSET(テストデータ!CC3,345,0))","v":0},{"$f":"SUM(OFFSET(テストデータ!CA3,345,0):OFFSET(テストデータ!CE3,345,0))","v":0},{"$f":"SUM(OFFSET(テストデータ!CF3,345,0):OFFSET(テストデータ!CH3,345,0))","v":0},{"$f":"SUM(OFFSET(テストデータ!CF3,345,0):OFFSET(テストデータ!CJ3,345,0))","v":0},{"$f":"SUM(OFFSET(テストデータ!CK3,345,0):OFFSET(テストデータ!CM3,345,0))","v":0},{"$f":"SUM(OFFSET(テストデータ!CK3,345,0):OFFSET(テストデータ!CO3,345,0))","v":0},{"$f":"SUM(OFFSET(テストデータ!CP3,345,0):OFFSET(テストデータ!CR3,345,0))","v":0},{"$f":"SUM(OFFSET(テストデータ!CP3,345,0):OFFSET(テストデータ!CT3,345,0))","v":0}]
[null,null,null,null,null,null,null,null,null,null,null,null,null,{"$f":"SUM(OFFSET(テストデータ!$E3,346,9*成績表1!$B$4-9):OFFSET(テストデータ!$G3,346,9*成績表1!$B$4-9))","v":0},{"$f":"SUM(OFFSET(テストデータ!$E3,346,9*成績表1!$B$4-9):OFFSET(テストデータ!I3,346,9*成績表1!$B$4-9))","v":0},{"$f":"SUM(OFFSET(テストデータ!E3,346,0):OFFSET(テストデータ!G3,346,0))","v":0},{"$f":"SUM(OFFSET(テストデータ!E3,346,0):OFFSET(テストデータ!I3,346,0))","v":0},{"$f":"SUM(OFFSET(テストデータ!N3,346,0):OFFSET(テストデータ!P3,346,0))","v":0},{"$f":"SUM(OFFSET(テストデータ!N3,346,0):OFFSET(テストデータ!R3,346,0))","v":0},{"$f":"SUM(OFFSET(テストデータ!W3,346,0):OFFSET(テストデータ!Y3,346,0))","v":0},{"$f":"SUM(OFFSET(テストデータ!W3,346,0):OFFSET(テストデータ!AA3,346,0))","v":0},{"$f":"SUM(OFFSET(テストデータ!AF3,346,0):OFFSET(テストデータ!AH3,346,0))","v":0},{"$f":"SUM(OFFSET(テストデータ!AF3,346,0):OFFSET(テストデータ!AJ3,346,0))","v":0},{"$f":"SUM(OFFSET(テストデータ!AO3,346,0):OFFSET(テストデータ!AQ3,346,0))","v":0},{"$f":"SUM(OFFSET(テストデータ!AO3,346,0):OFFSET(テストデータ!AS3,346,0))","v":0},{"$f":"SUM(OFFSET(テストデータ!AX3,346,0):OFFSET(テストデータ!AZ3,346,0))","v":0},{"$f":"SUM(OFFSET(テストデータ!AX3,346,0):OFFSET(テストデータ!BB3,346,0))","v":0},{"$f":"SUM(OFFSET(テストデータ!BG3,346,0):OFFSET(テストデータ!BI3,346,0))","v":0},{"$f":"SUM(OFFSET(テストデータ!BG3,346,0):OFFSET(テストデータ!BK3,346,0))","v":0},{"$f":"SUM(OFFSET(テストデータ!BL3,346,0):OFFSET(テストデータ!BN3,346,0))","v":0},{"$f":"SUM(OFFSET(テストデータ!BL3,346,0):OFFSET(テストデータ!BP3,346,0))","v":0},{"$f":"SUM(OFFSET(テストデータ!BQ3,346,0):OFFSET(テストデータ!BS3,346,0))","v":0},{"$f":"SUM(OFFSET(テストデータ!BQ3,346,0):OFFSET(テストデータ!BU3,346,0))","v":0},{"$f":"SUM(OFFSET(テストデータ!BV3,346,0):OFFSET(テストデータ!BX3,346,0))","v":0},{"$f":"SUM(OFFSET(テストデータ!BV3,346,0):OFFSET(テストデータ!BZ3,346,0))","v":0},{"$f":"SUM(OFFSET(テストデータ!CA3,346,0):OFFSET(テストデータ!CC3,346,0))","v":0},{"$f":"SUM(OFFSET(テストデータ!CA3,346,0):OFFSET(テストデータ!CE3,346,0))","v":0},{"$f":"SUM(OFFSET(テストデータ!CF3,346,0):OFFSET(テストデータ!CH3,346,0))","v":0},{"$f":"SUM(OFFSET(テストデータ!CF3,346,0):OFFSET(テストデータ!CJ3,346,0))","v":0},{"$f":"SUM(OFFSET(テストデータ!CK3,346,0):OFFSET(テストデータ!CM3,346,0))","v":0},{"$f":"SUM(OFFSET(テストデータ!CK3,346,0):OFFSET(テストデータ!CO3,346,0))","v":0},{"$f":"SUM(OFFSET(テストデータ!CP3,346,0):OFFSET(テストデータ!CR3,346,0))","v":0},{"$f":"SUM(OFFSET(テストデータ!CP3,346,0):OFFSET(テストデータ!CT3,346,0))","v":0}]
[null,null,null,null,null,null,null,null,null,null,null,null,null,{"$f":"SUM(OFFSET(テストデータ!$E3,347,9*成績表1!$B$4-9):OFFSET(テストデータ!$G3,347,9*成績表1!$B$4-9))","v":0},{"$f":"SUM(OFFSET(テストデータ!$E3,347,9*成績表1!$B$4-9):OFFSET(テストデータ!I3,347,9*成績表1!$B$4-9))","v":0},{"$f":"SUM(OFFSET(テストデータ!E3,347,0):OFFSET(テストデータ!G3,347,0))","v":0},{"$f":"SUM(OFFSET(テストデータ!E3,347,0):OFFSET(テストデータ!I3,347,0))","v":0},{"$f":"SUM(OFFSET(テストデータ!N3,347,0):OFFSET(テストデータ!P3,347,0))","v":0},{"$f":"SUM(OFFSET(テストデータ!N3,347,0):OFFSET(テストデータ!R3,347,0))","v":0},{"$f":"SUM(OFFSET(テストデータ!W3,347,0):OFFSET(テストデータ!Y3,347,0))","v":0},{"$f":"SUM(OFFSET(テストデータ!W3,347,0):OFFSET(テストデータ!AA3,347,0))","v":0},{"$f":"SUM(OFFSET(テストデータ!AF3,347,0):OFFSET(テストデータ!AH3,347,0))","v":0},{"$f":"SUM(OFFSET(テストデータ!AF3,347,0):OFFSET(テストデータ!AJ3,347,0))","v":0},{"$f":"SUM(OFFSET(テストデータ!AO3,347,0):OFFSET(テストデータ!AQ3,347,0))","v":0},{"$f":"SUM(OFFSET(テストデータ!AO3,347,0):OFFSET(テストデータ!AS3,347,0))","v":0},{"$f":"SUM(OFFSET(テストデータ!AX3,347,0):OFFSET(テストデータ!AZ3,347,0))","v":0},{"$f":"SUM(OFFSET(テストデータ!AX3,347,0):OFFSET(テストデータ!BB3,347,0))","v":0},{"$f":"SUM(OFFSET(テストデータ!BG3,347,0):OFFSET(テストデータ!BI3,347,0))","v":0},{"$f":"SUM(OFFSET(テストデータ!BG3,347,0):OFFSET(テストデータ!BK3,347,0))","v":0},{"$f":"SUM(OFFSET(テストデータ!BL3,347,0):OFFSET(テストデータ!BN3,347,0))","v":0},{"$f":"SUM(OFFSET(テストデータ!BL3,347,0):OFFSET(テストデータ!BP3,347,0))","v":0},{"$f":"SUM(OFFSET(テストデータ!BQ3,347,0):OFFSET(テストデータ!BS3,347,0))","v":0},{"$f":"SUM(OFFSET(テストデータ!BQ3,347,0):OFFSET(テストデータ!BU3,347,0))","v":0},{"$f":"SUM(OFFSET(テストデータ!BV3,347,0):OFFSET(テストデータ!BX3,347,0))","v":0},{"$f":"SUM(OFFSET(テストデータ!BV3,347,0):OFFSET(テストデータ!BZ3,347,0))","v":0},{"$f":"SUM(OFFSET(テストデータ!CA3,347,0):OFFSET(テストデータ!CC3,347,0))","v":0},{"$f":"SUM(OFFSET(テストデータ!CA3,347,0):OFFSET(テストデータ!CE3,347,0))","v":0},{"$f":"SUM(OFFSET(テストデータ!CF3,347,0):OFFSET(テストデータ!CH3,347,0))","v":0},{"$f":"SUM(OFFSET(テストデータ!CF3,347,0):OFFSET(テストデータ!CJ3,347,0))","v":0},{"$f":"SUM(OFFSET(テストデータ!CK3,347,0):OFFSET(テストデータ!CM3,347,0))","v":0},{"$f":"SUM(OFFSET(テストデータ!CK3,347,0):OFFSET(テストデータ!CO3,347,0))","v":0},{"$f":"SUM(OFFSET(テストデータ!CP3,347,0):OFFSET(テストデータ!CR3,347,0))","v":0},{"$f":"SUM(OFFSET(テストデータ!CP3,347,0):OFFSET(テストデータ!CT3,347,0))","v":0}]
[null,null,null,null,null,null,null,null,null,null,null,null,null,{"$f":"SUM(OFFSET(テストデータ!$E3,348,9*成績表1!$B$4-9):OFFSET(テストデータ!$G3,348,9*成績表1!$B$4-9))","v":0},{"$f":"SUM(OFFSET(テストデータ!$E3,348,9*成績表1!$B$4-9):OFFSET(テストデータ!I3,348,9*成績表1!$B$4-9))","v":0},{"$f":"SUM(OFFSET(テストデータ!E3,348,0):OFFSET(テストデータ!G3,348,0))","v":0},{"$f":"SUM(OFFSET(テストデータ!E3,348,0):OFFSET(テストデータ!I3,348,0))","v":0},{"$f":"SUM(OFFSET(テストデータ!N3,348,0):OFFSET(テストデータ!P3,348,0))","v":0},{"$f":"SUM(OFFSET(テストデータ!N3,348,0):OFFSET(テストデータ!R3,348,0))","v":0},{"$f":"SUM(OFFSET(テストデータ!W3,348,0):OFFSET(テストデータ!Y3,348,0))","v":0},{"$f":"SUM(OFFSET(テストデータ!W3,348,0):OFFSET(テストデータ!AA3,348,0))","v":0},{"$f":"SUM(OFFSET(テストデータ!AF3,348,0):OFFSET(テストデータ!AH3,348,0))","v":0},{"$f":"SUM(OFFSET(テストデータ!AF3,348,0):OFFSET(テストデータ!AJ3,348,0))","v":0},{"$f":"SUM(OFFSET(テストデータ!AO3,348,0):OFFSET(テストデータ!AQ3,348,0))","v":0},{"$f":"SUM(OFFSET(テストデータ!AO3,348,0):OFFSET(テストデータ!AS3,348,0))","v":0},{"$f":"SUM(OFFSET(テストデータ!AX3,348,0):OFFSET(テストデータ!AZ3,348,0))","v":0},{"$f":"SUM(OFFSET(テストデータ!AX3,348,0):OFFSET(テストデータ!BB3,348,0))","v":0},{"$f":"SUM(OFFSET(テストデータ!BG3,348,0):OFFSET(テストデータ!BI3,348,0))","v":0},{"$f":"SUM(OFFSET(テストデータ!BG3,348,0):OFFSET(テストデータ!BK3,348,0))","v":0},{"$f":"SUM(OFFSET(テストデータ!BL3,348,0):OFFSET(テストデータ!BN3,348,0))","v":0},{"$f":"SUM(OFFSET(テストデータ!BL3,348,0):OFFSET(テストデータ!BP3,348,0))","v":0},{"$f":"SUM(OFFSET(テストデータ!BQ3,348,0):OFFSET(テストデータ!BS3,348,0))","v":0},{"$f":"SUM(OFFSET(テストデータ!BQ3,348,0):OFFSET(テストデータ!BU3,348,0))","v":0},{"$f":"SUM(OFFSET(テストデータ!BV3,348,0):OFFSET(テストデータ!BX3,348,0))","v":0},{"$f":"SUM(OFFSET(テストデータ!BV3,348,0):OFFSET(テストデータ!BZ3,348,0))","v":0},{"$f":"SUM(OFFSET(テストデータ!CA3,348,0):OFFSET(テストデータ!CC3,348,0))","v":0},{"$f":"SUM(OFFSET(テストデータ!CA3,348,0):OFFSET(テストデータ!CE3,348,0))","v":0},{"$f":"SUM(OFFSET(テストデータ!CF3,348,0):OFFSET(テストデータ!CH3,348,0))","v":0},{"$f":"SUM(OFFSET(テストデータ!CF3,348,0):OFFSET(テストデータ!CJ3,348,0))","v":0},{"$f":"SUM(OFFSET(テストデータ!CK3,348,0):OFFSET(テストデータ!CM3,348,0))","v":0},{"$f":"SUM(OFFSET(テストデータ!CK3,348,0):OFFSET(テストデータ!CO3,348,0))","v":0},{"$f":"SUM(OFFSET(テストデータ!CP3,348,0):OFFSET(テストデータ!CR3,348,0))","v":0},{"$f":"SUM(OFFSET(テストデータ!CP3,348,0):OFFSET(テストデータ!CT3,348,0))","v":0}]
[null,null,null,null,null,null,null,null,null,null,null,null,null,{"$f":"SUM(OFFSET(テストデータ!$E3,349,9*成績表1!$B$4-9):OFFSET(テストデータ!$G3,349,9*成績表1!$B$4-9))","v":0},{"$f":"SUM(OFFSET(テストデータ!$E3,349,9*成績表1!$B$4-9):OFFSET(テストデータ!I3,349,9*成績表1!$B$4-9))","v":0},{"$f":"SUM(OFFSET(テストデータ!E3,349,0):OFFSET(テストデータ!G3,349,0))","v":0},{"$f":"SUM(OFFSET(テストデータ!E3,349,0):OFFSET(テストデータ!I3,349,0))","v":0},{"$f":"SUM(OFFSET(テストデータ!N3,349,0):OFFSET(テストデータ!P3,349,0))","v":0},{"$f":"SUM(OFFSET(テストデータ!N3,349,0):OFFSET(テストデータ!R3,349,0))","v":0},{"$f":"SUM(OFFSET(テストデータ!W3,349,0):OFFSET(テストデータ!Y3,349,0))","v":0},{"$f":"SUM(OFFSET(テストデータ!W3,349,0):OFFSET(テストデータ!AA3,349,0))","v":0},{"$f":"SUM(OFFSET(テストデータ!AF3,349,0):OFFSET(テストデータ!AH3,349,0))","v":0},{"$f":"SUM(OFFSET(テストデータ!AF3,349,0):OFFSET(テストデータ!AJ3,349,0))","v":0},{"$f":"SUM(OFFSET(テストデータ!AO3,349,0):OFFSET(テストデータ!AQ3,349,0))","v":0},{"$f":"SUM(OFFSET(テストデータ!AO3,349,0):OFFSET(テストデータ!AS3,349,0))","v":0},{"$f":"SUM(OFFSET(テストデータ!AX3,349,0):OFFSET(テストデータ!AZ3,349,0))","v":0},{"$f":"SUM(OFFSET(テストデータ!AX3,349,0):OFFSET(テストデータ!BB3,349,0))","v":0},{"$f":"SUM(OFFSET(テストデータ!BG3,349,0):OFFSET(テストデータ!BI3,349,0))","v":0},{"$f":"SUM(OFFSET(テストデータ!BG3,349,0):OFFSET(テストデータ!BK3,349,0))","v":0},{"$f":"SUM(OFFSET(テストデータ!BL3,349,0):OFFSET(テストデータ!BN3,349,0))","v":0},{"$f":"SUM(OFFSET(テストデータ!BL3,349,0):OFFSET(テストデータ!BP3,349,0))","v":0},{"$f":"SUM(OFFSET(テストデータ!BQ3,349,0):OFFSET(テストデータ!BS3,349,0))","v":0},{"$f":"SUM(OFFSET(テストデータ!BQ3,349,0):OFFSET(テストデータ!BU3,349,0))","v":0},{"$f":"SUM(OFFSET(テストデータ!BV3,349,0):OFFSET(テストデータ!BX3,349,0))","v":0},{"$f":"SUM(OFFSET(テストデータ!BV3,349,0):OFFSET(テストデータ!BZ3,349,0))","v":0},{"$f":"SUM(OFFSET(テストデータ!CA3,349,0):OFFSET(テストデータ!CC3,349,0))","v":0},{"$f":"SUM(OFFSET(テストデータ!CA3,349,0):OFFSET(テストデータ!CE3,349,0))","v":0},{"$f":"SUM(OFFSET(テストデータ!CF3,349,0):OFFSET(テストデータ!CH3,349,0))","v":0},{"$f":"SUM(OFFSET(テストデータ!CF3,349,0):OFFSET(テストデータ!CJ3,349,0))","v":0},{"$f":"SUM(OFFSET(テストデータ!CK3,349,0):OFFSET(テストデータ!CM3,349,0))","v":0},{"$f":"SUM(OFFSET(テストデータ!CK3,349,0):OFFSET(テストデータ!CO3,349,0))","v":0},{"$f":"SUM(OFFSET(テストデータ!CP3,349,0):OFFSET(テストデータ!CR3,349,0))","v":0},{"$f":"SUM(OFFSET(テストデータ!CP3,349,0):OFFSET(テストデータ!CT3,349,0))","v":0}]
[null,null,null,null,null,null,null,null,null,null,null,null,null,{"$f":"SUM(OFFSET(テストデータ!$E3,350,9*成績表1!$B$4-9):OFFSET(テストデータ!$G3,350,9*成績表1!$B$4-9))","v":0},{"$f":"SUM(OFFSET(テストデータ!$E3,350,9*成績表1!$B$4-9):OFFSET(テストデータ!I3,350,9*成績表1!$B$4-9))","v":0},{"$f":"SUM(OFFSET(テストデータ!E3,350,0):OFFSET(テストデータ!G3,350,0))","v":0},{"$f":"SUM(OFFSET(テストデータ!E3,350,0):OFFSET(テストデータ!I3,350,0))","v":0},{"$f":"SUM(OFFSET(テストデータ!N3,350,0):OFFSET(テストデータ!P3,350,0))","v":0},{"$f":"SUM(OFFSET(テストデータ!N3,350,0):OFFSET(テストデータ!R3,350,0))","v":0},{"$f":"SUM(OFFSET(テストデータ!W3,350,0):OFFSET(テストデータ!Y3,350,0))","v":0},{"$f":"SUM(OFFSET(テストデータ!W3,350,0):OFFSET(テストデータ!AA3,350,0))","v":0},{"$f":"SUM(OFFSET(テストデータ!AF3,350,0):OFFSET(テストデータ!AH3,350,0))","v":0},{"$f":"SUM(OFFSET(テストデータ!AF3,350,0):OFFSET(テストデータ!AJ3,350,0))","v":0},{"$f":"SUM(OFFSET(テストデータ!AO3,350,0):OFFSET(テストデータ!AQ3,350,0))","v":0},{"$f":"SUM(OFFSET(テストデータ!AO3,350,0):OFFSET(テストデータ!AS3,350,0))","v":0},{"$f":"SUM(OFFSET(テストデータ!AX3,350,0):OFFSET(テストデータ!AZ3,350,0))","v":0},{"$f":"SUM(OFFSET(テストデータ!AX3,350,0):OFFSET(テストデータ!BB3,350,0))","v":0},{"$f":"SUM(OFFSET(テストデータ!BG3,350,0):OFFSET(テストデータ!BI3,350,0))","v":0},{"$f":"SUM(OFFSET(テストデータ!BG3,350,0):OFFSET(テストデータ!BK3,350,0))","v":0},{"$f":"SUM(OFFSET(テストデータ!BL3,350,0):OFFSET(テストデータ!BN3,350,0))","v":0},{"$f":"SUM(OFFSET(テストデータ!BL3,350,0):OFFSET(テストデータ!BP3,350,0))","v":0},{"$f":"SUM(OFFSET(テストデータ!BQ3,350,0):OFFSET(テストデータ!BS3,350,0))","v":0},{"$f":"SUM(OFFSET(テストデータ!BQ3,350,0):OFFSET(テストデータ!BU3,350,0))","v":0},{"$f":"SUM(OFFSET(テストデータ!BV3,350,0):OFFSET(テストデータ!BX3,350,0))","v":0},{"$f":"SUM(OFFSET(テストデータ!BV3,350,0):OFFSET(テストデータ!BZ3,350,0))","v":0},{"$f":"SUM(OFFSET(テストデータ!CA3,350,0):OFFSET(テストデータ!CC3,350,0))","v":0},{"$f":"SUM(OFFSET(テストデータ!CA3,350,0):OFFSET(テストデータ!CE3,350,0))","v":0},{"$f":"SUM(OFFSET(テストデータ!CF3,350,0):OFFSET(テストデータ!CH3,350,0))","v":0},{"$f":"SUM(OFFSET(テストデータ!CF3,350,0):OFFSET(テストデータ!CJ3,350,0))","v":0},{"$f":"SUM(OFFSET(テストデータ!CK3,350,0):OFFSET(テストデータ!CM3,350,0))","v":0},{"$f":"SUM(OFFSET(テストデータ!CK3,350,0):OFFSET(テストデータ!CO3,350,0))","v":0},{"$f":"SUM(OFFSET(テストデータ!CP3,350,0):OFFSET(テストデータ!CR3,350,0))","v":0},{"$f":"SUM(OFFSET(テストデータ!CP3,350,0):OFFSET(テストデータ!CT3,350,0))","v":0}]
[null,null,null,null,null,null,null,null,null,null,null,null,null,{"$f":"SUM(OFFSET(テストデータ!$E3,351,9*成績表1!$B$4-9):OFFSET(テストデータ!$G3,351,9*成績表1!$B$4-9))","v":0},{"$f":"SUM(OFFSET(テストデータ!$E3,351,9*成績表1!$B$4-9):OFFSET(テストデータ!I3,351,9*成績表1!$B$4-9))","v":0},{"$f":"SUM(OFFSET(テストデータ!E3,351,0):OFFSET(テストデータ!G3,351,0))","v":0},{"$f":"SUM(OFFSET(テストデータ!E3,351,0):OFFSET(テストデータ!I3,351,0))","v":0},{"$f":"SUM(OFFSET(テストデータ!N3,351,0):OFFSET(テストデータ!P3,351,0))","v":0},{"$f":"SUM(OFFSET(テストデータ!N3,351,0):OFFSET(テストデータ!R3,351,0))","v":0},{"$f":"SUM(OFFSET(テストデータ!W3,351,0):OFFSET(テストデータ!Y3,351,0))","v":0},{"$f":"SUM(OFFSET(テストデータ!W3,351,0):OFFSET(テストデータ!AA3,351,0))","v":0},{"$f":"SUM(OFFSET(テストデータ!AF3,351,0):OFFSET(テストデータ!AH3,351,0))","v":0},{"$f":"SUM(OFFSET(テストデータ!AF3,351,0):OFFSET(テストデータ!AJ3,351,0))","v":0},{"$f":"SUM(OFFSET(テストデータ!AO3,351,0):OFFSET(テストデータ!AQ3,351,0))","v":0},{"$f":"SUM(OFFSET(テストデータ!AO3,351,0):OFFSET(テストデータ!AS3,351,0))","v":0},{"$f":"SUM(OFFSET(テストデータ!AX3,351,0):OFFSET(テストデータ!AZ3,351,0))","v":0},{"$f":"SUM(OFFSET(テストデータ!AX3,351,0):OFFSET(テストデータ!BB3,351,0))","v":0},{"$f":"SUM(OFFSET(テストデータ!BG3,351,0):OFFSET(テストデータ!BI3,351,0))","v":0},{"$f":"SUM(OFFSET(テストデータ!BG3,351,0):OFFSET(テストデータ!BK3,351,0))","v":0},{"$f":"SUM(OFFSET(テストデータ!BL3,351,0):OFFSET(テストデータ!BN3,351,0))","v":0},{"$f":"SUM(OFFSET(テストデータ!BL3,351,0):OFFSET(テストデータ!BP3,351,0))","v":0},{"$f":"SUM(OFFSET(テストデータ!BQ3,351,0):OFFSET(テストデータ!BS3,351,0))","v":0},{"$f":"SUM(OFFSET(テストデータ!BQ3,351,0):OFFSET(テストデータ!BU3,351,0))","v":0},{"$f":"SUM(OFFSET(テストデータ!BV3,351,0):OFFSET(テストデータ!BX3,351,0))","v":0},{"$f":"SUM(OFFSET(テストデータ!BV3,351,0):OFFSET(テストデータ!BZ3,351,0))","v":0},{"$f":"SUM(OFFSET(テストデータ!CA3,351,0):OFFSET(テストデータ!CC3,351,0))","v":0},{"$f":"SUM(OFFSET(テストデータ!CA3,351,0):OFFSET(テストデータ!CE3,351,0))","v":0},{"$f":"SUM(OFFSET(テストデータ!CF3,351,0):OFFSET(テストデータ!CH3,351,0))","v":0},{"$f":"SUM(OFFSET(テストデータ!CF3,351,0):OFFSET(テストデータ!CJ3,351,0))","v":0},{"$f":"SUM(OFFSET(テストデータ!CK3,351,0):OFFSET(テストデータ!CM3,351,0))","v":0},{"$f":"SUM(OFFSET(テストデータ!CK3,351,0):OFFSET(テストデータ!CO3,351,0))","v":0},{"$f":"SUM(OFFSET(テストデータ!CP3,351,0):OFFSET(テストデータ!CR3,351,0))","v":0},{"$f":"SUM(OFFSET(テストデータ!CP3,351,0):OFFSET(テストデータ!CT3,351,0))","v":0}]
[null,null,null,null,null,null,null,null,null,null,null,null,null,{"$f":"SUM(OFFSET(テストデータ!$E3,352,9*成績表1!$B$4-9):OFFSET(テストデータ!$G3,352,9*成績表1!$B$4-9))","v":0},{"$f":"SUM(OFFSET(テストデータ!$E3,352,9*成績表1!$B$4-9):OFFSET(テストデータ!I3,352,9*成績表1!$B$4-9))","v":0},{"$f":"SUM(OFFSET(テストデータ!E3,352,0):OFFSET(テストデータ!G3,352,0))","v":0},{"$f":"SUM(OFFSET(テストデータ!E3,352,0):OFFSET(テストデータ!I3,352,0))","v":0},{"$f":"SUM(OFFSET(テストデータ!N3,352,0):OFFSET(テストデータ!P3,352,0))","v":0},{"$f":"SUM(OFFSET(テストデータ!N3,352,0):OFFSET(テストデータ!R3,352,0))","v":0},{"$f":"SUM(OFFSET(テストデータ!W3,352,0):OFFSET(テストデータ!Y3,352,0))","v":0},{"$f":"SUM(OFFSET(テストデータ!W3,352,0):OFFSET(テストデータ!AA3,352,0))","v":0},{"$f":"SUM(OFFSET(テストデータ!AF3,352,0):OFFSET(テストデータ!AH3,352,0))","v":0},{"$f":"SUM(OFFSET(テストデータ!AF3,352,0):OFFSET(テストデータ!AJ3,352,0))","v":0},{"$f":"SUM(OFFSET(テストデータ!AO3,352,0):OFFSET(テストデータ!AQ3,352,0))","v":0},{"$f":"SUM(OFFSET(テストデータ!AO3,352,0):OFFSET(テストデータ!AS3,352,0))","v":0},{"$f":"SUM(OFFSET(テストデータ!AX3,352,0):OFFSET(テストデータ!AZ3,352,0))","v":0},{"$f":"SUM(OFFSET(テストデータ!AX3,352,0):OFFSET(テストデータ!BB3,352,0))","v":0},{"$f":"SUM(OFFSET(テストデータ!BG3,352,0):OFFSET(テストデータ!BI3,352,0))","v":0},{"$f":"SUM(OFFSET(テストデータ!BG3,352,0):OFFSET(テストデータ!BK3,352,0))","v":0},{"$f":"SUM(OFFSET(テストデータ!BL3,352,0):OFFSET(テストデータ!BN3,352,0))","v":0},{"$f":"SUM(OFFSET(テストデータ!BL3,352,0):OFFSET(テストデータ!BP3,352,0))","v":0},{"$f":"SUM(OFFSET(テストデータ!BQ3,352,0):OFFSET(テストデータ!BS3,352,0))","v":0},{"$f":"SUM(OFFSET(テストデータ!BQ3,352,0):OFFSET(テストデータ!BU3,352,0))","v":0},{"$f":"SUM(OFFSET(テストデータ!BV3,352,0):OFFSET(テストデータ!BX3,352,0))","v":0},{"$f":"SUM(OFFSET(テストデータ!BV3,352,0):OFFSET(テストデータ!BZ3,352,0))","v":0},{"$f":"SUM(OFFSET(テストデータ!CA3,352,0):OFFSET(テストデータ!CC3,352,0))","v":0},{"$f":"SUM(OFFSET(テストデータ!CA3,352,0):OFFSET(テストデータ!CE3,352,0))","v":0},{"$f":"SUM(OFFSET(テストデータ!CF3,352,0):OFFSET(テストデータ!CH3,352,0))","v":0},{"$f":"SUM(OFFSET(テストデータ!CF3,352,0):OFFSET(テストデータ!CJ3,352,0))","v":0},{"$f":"SUM(OFFSET(テストデータ!CK3,352,0):OFFSET(テストデータ!CM3,352,0))","v":0},{"$f":"SUM(OFFSET(テストデータ!CK3,352,0):OFFSET(テストデータ!CO3,352,0))","v":0},{"$f":"SUM(OFFSET(テストデータ!CP3,352,0):OFFSET(テストデータ!CR3,352,0))","v":0},{"$f":"SUM(OFFSET(テストデータ!CP3,352,0):OFFSET(テストデータ!CT3,352,0))","v":0}]
[null,null,null,null,null,null,null,null,null,null,null,null,null,{"$f":"SUM(OFFSET(テストデータ!$E3,353,9*成績表1!$B$4-9):OFFSET(テストデータ!$G3,353,9*成績表1!$B$4-9))","v":0},{"$f":"SUM(OFFSET(テストデータ!$E3,353,9*成績表1!$B$4-9):OFFSET(テストデータ!I3,353,9*成績表1!$B$4-9))","v":0},{"$f":"SUM(OFFSET(テストデータ!E3,353,0):OFFSET(テストデータ!G3,353,0))","v":0},{"$f":"SUM(OFFSET(テストデータ!E3,353,0):OFFSET(テストデータ!I3,353,0))","v":0},{"$f":"SUM(OFFSET(テストデータ!N3,353,0):OFFSET(テストデータ!P3,353,0))","v":0},{"$f":"SUM(OFFSET(テストデータ!N3,353,0):OFFSET(テストデータ!R3,353,0))","v":0},{"$f":"SUM(OFFSET(テストデータ!W3,353,0):OFFSET(テストデータ!Y3,353,0))","v":0},{"$f":"SUM(OFFSET(テストデータ!W3,353,0):OFFSET(テストデータ!AA3,353,0))","v":0},{"$f":"SUM(OFFSET(テストデータ!AF3,353,0):OFFSET(テストデータ!AH3,353,0))","v":0},{"$f":"SUM(OFFSET(テストデータ!AF3,353,0):OFFSET(テストデータ!AJ3,353,0))","v":0},{"$f":"SUM(OFFSET(テストデータ!AO3,353,0):OFFSET(テストデータ!AQ3,353,0))","v":0},{"$f":"SUM(OFFSET(テストデータ!AO3,353,0):OFFSET(テストデータ!AS3,353,0))","v":0},{"$f":"SUM(OFFSET(テストデータ!AX3,353,0):OFFSET(テストデータ!AZ3,353,0))","v":0},{"$f":"SUM(OFFSET(テストデータ!AX3,353,0):OFFSET(テストデータ!BB3,353,0))","v":0},{"$f":"SUM(OFFSET(テストデータ!BG3,353,0):OFFSET(テストデータ!BI3,353,0))","v":0},{"$f":"SUM(OFFSET(テストデータ!BG3,353,0):OFFSET(テストデータ!BK3,353,0))","v":0},{"$f":"SUM(OFFSET(テストデータ!BL3,353,0):OFFSET(テストデータ!BN3,353,0))","v":0},{"$f":"SUM(OFFSET(テストデータ!BL3,353,0):OFFSET(テストデータ!BP3,353,0))","v":0},{"$f":"SUM(OFFSET(テストデータ!BQ3,353,0):OFFSET(テストデータ!BS3,353,0))","v":0},{"$f":"SUM(OFFSET(テストデータ!BQ3,353,0):OFFSET(テストデータ!BU3,353,0))","v":0},{"$f":"SUM(OFFSET(テストデータ!BV3,353,0):OFFSET(テストデータ!BX3,353,0))","v":0},{"$f":"SUM(OFFSET(テストデータ!BV3,353,0):OFFSET(テストデータ!BZ3,353,0))","v":0},{"$f":"SUM(OFFSET(テストデータ!CA3,353,0):OFFSET(テストデータ!CC3,353,0))","v":0},{"$f":"SUM(OFFSET(テストデータ!CA3,353,0):OFFSET(テストデータ!CE3,353,0))","v":0},{"$f":"SUM(OFFSET(テストデータ!CF3,353,0):OFFSET(テストデータ!CH3,353,0))","v":0},{"$f":"SUM(OFFSET(テストデータ!CF3,353,0):OFFSET(テストデータ!CJ3,353,0))","v":0},{"$f":"SUM(OFFSET(テストデータ!CK3,353,0):OFFSET(テストデータ!CM3,353,0))","v":0},{"$f":"SUM(OFFSET(テストデータ!CK3,353,0):OFFSET(テストデータ!CO3,353,0))","v":0},{"$f":"SUM(OFFSET(テストデータ!CP3,353,0):OFFSET(テストデータ!CR3,353,0))","v":0},{"$f":"SUM(OFFSET(テストデータ!CP3,353,0):OFFSET(テストデータ!CT3,353,0))","v":0}]
[null,null,null,null,null,null,null,null,null,null,null,null,null,{"$f":"SUM(OFFSET(テストデータ!$E3,354,9*成績表1!$B$4-9):OFFSET(テストデータ!$G3,354,9*成績表1!$B$4-9))","v":0},{"$f":"SUM(OFFSET(テストデータ!$E3,354,9*成績表1!$B$4-9):OFFSET(テストデータ!I3,354,9*成績表1!$B$4-9))","v":0},{"$f":"SUM(OFFSET(テストデータ!E3,354,0):OFFSET(テストデータ!G3,354,0))","v":0},{"$f":"SUM(OFFSET(テストデータ!E3,354,0):OFFSET(テストデータ!I3,354,0))","v":0},{"$f":"SUM(OFFSET(テストデータ!N3,354,0):OFFSET(テストデータ!P3,354,0))","v":0},{"$f":"SUM(OFFSET(テストデータ!N3,354,0):OFFSET(テストデータ!R3,354,0))","v":0},{"$f":"SUM(OFFSET(テストデータ!W3,354,0):OFFSET(テストデータ!Y3,354,0))","v":0},{"$f":"SUM(OFFSET(テストデータ!W3,354,0):OFFSET(テストデータ!AA3,354,0))","v":0},{"$f":"SUM(OFFSET(テストデータ!AF3,354,0):OFFSET(テストデータ!AH3,354,0))","v":0},{"$f":"SUM(OFFSET(テストデータ!AF3,354,0):OFFSET(テストデータ!AJ3,354,0))","v":0},{"$f":"SUM(OFFSET(テストデータ!AO3,354,0):OFFSET(テストデータ!AQ3,354,0))","v":0},{"$f":"SUM(OFFSET(テストデータ!AO3,354,0):OFFSET(テストデータ!AS3,354,0))","v":0},{"$f":"SUM(OFFSET(テストデータ!AX3,354,0):OFFSET(テストデータ!AZ3,354,0))","v":0},{"$f":"SUM(OFFSET(テストデータ!AX3,354,0):OFFSET(テストデータ!BB3,354,0))","v":0},{"$f":"SUM(OFFSET(テストデータ!BG3,354,0):OFFSET(テストデータ!BI3,354,0))","v":0},{"$f":"SUM(OFFSET(テストデータ!BG3,354,0):OFFSET(テストデータ!BK3,354,0))","v":0},{"$f":"SUM(OFFSET(テストデータ!BL3,354,0):OFFSET(テストデータ!BN3,354,0))","v":0},{"$f":"SUM(OFFSET(テストデータ!BL3,354,0):OFFSET(テストデータ!BP3,354,0))","v":0},{"$f":"SUM(OFFSET(テストデータ!BQ3,354,0):OFFSET(テストデータ!BS3,354,0))","v":0},{"$f":"SUM(OFFSET(テストデータ!BQ3,354,0):OFFSET(テストデータ!BU3,354,0))","v":0},{"$f":"SUM(OFFSET(テストデータ!BV3,354,0):OFFSET(テストデータ!BX3,354,0))","v":0},{"$f":"SUM(OFFSET(テストデータ!BV3,354,0):OFFSET(テストデータ!BZ3,354,0))","v":0},{"$f":"SUM(OFFSET(テストデータ!CA3,354,0):OFFSET(テストデータ!CC3,354,0))","v":0},{"$f":"SUM(OFFSET(テストデータ!CA3,354,0):OFFSET(テストデータ!CE3,354,0))","v":0},{"$f":"SUM(OFFSET(テストデータ!CF3,354,0):OFFSET(テストデータ!CH3,354,0))","v":0},{"$f":"SUM(OFFSET(テストデータ!CF3,354,0):OFFSET(テストデータ!CJ3,354,0))","v":0},{"$f":"SUM(OFFSET(テストデータ!CK3,354,0):OFFSET(テストデータ!CM3,354,0))","v":0},{"$f":"SUM(OFFSET(テストデータ!CK3,354,0):OFFSET(テストデータ!CO3,354,0))","v":0},{"$f":"SUM(OFFSET(テストデータ!CP3,354,0):OFFSET(テストデータ!CR3,354,0))","v":0},{"$f":"SUM(OFFSET(テストデータ!CP3,354,0):OFFSET(テストデータ!CT3,354,0))","v":0}]
[null,null,null,null,null,null,null,null,null,null,null,null,null,{"$f":"SUM(OFFSET(テストデータ!$E3,355,9*成績表1!$B$4-9):OFFSET(テストデータ!$G3,355,9*成績表1!$B$4-9))","v":0},{"$f":"SUM(OFFSET(テストデータ!$E3,355,9*成績表1!$B$4-9):OFFSET(テストデータ!I3,355,9*成績表1!$B$4-9))","v":0},{"$f":"SUM(OFFSET(テストデータ!E3,355,0):OFFSET(テストデータ!G3,355,0))","v":0},{"$f":"SUM(OFFSET(テストデータ!E3,355,0):OFFSET(テストデータ!I3,355,0))","v":0},{"$f":"SUM(OFFSET(テストデータ!N3,355,0):OFFSET(テストデータ!P3,355,0))","v":0},{"$f":"SUM(OFFSET(テストデータ!N3,355,0):OFFSET(テストデータ!R3,355,0))","v":0},{"$f":"SUM(OFFSET(テストデータ!W3,355,0):OFFSET(テストデータ!Y3,355,0))","v":0},{"$f":"SUM(OFFSET(テストデータ!W3,355,0):OFFSET(テストデータ!AA3,355,0))","v":0},{"$f":"SUM(OFFSET(テストデータ!AF3,355,0):OFFSET(テストデータ!AH3,355,0))","v":0},{"$f":"SUM(OFFSET(テストデータ!AF3,355,0):OFFSET(テストデータ!AJ3,355,0))","v":0},{"$f":"SUM(OFFSET(テストデータ!AO3,355,0):OFFSET(テストデータ!AQ3,355,0))","v":0},{"$f":"SUM(OFFSET(テストデータ!AO3,355,0):OFFSET(テストデータ!AS3,355,0))","v":0},{"$f":"SUM(OFFSET(テストデータ!AX3,355,0):OFFSET(テストデータ!AZ3,355,0))","v":0},{"$f":"SUM(OFFSET(テストデータ!AX3,355,0):OFFSET(テストデータ!BB3,355,0))","v":0},{"$f":"SUM(OFFSET(テストデータ!BG3,355,0):OFFSET(テストデータ!BI3,355,0))","v":0},{"$f":"SUM(OFFSET(テストデータ!BG3,355,0):OFFSET(テストデータ!BK3,355,0))","v":0},{"$f":"SUM(OFFSET(テストデータ!BL3,355,0):OFFSET(テストデータ!BN3,355,0))","v":0},{"$f":"SUM(OFFSET(テストデータ!BL3,355,0):OFFSET(テストデータ!BP3,355,0))","v":0},{"$f":"SUM(OFFSET(テストデータ!BQ3,355,0):OFFSET(テストデータ!BS3,355,0))","v":0},{"$f":"SUM(OFFSET(テストデータ!BQ3,355,0):OFFSET(テストデータ!BU3,355,0))","v":0},{"$f":"SUM(OFFSET(テストデータ!BV3,355,0):OFFSET(テストデータ!BX3,355,0))","v":0},{"$f":"SUM(OFFSET(テストデータ!BV3,355,0):OFFSET(テストデータ!BZ3,355,0))","v":0},{"$f":"SUM(OFFSET(テストデータ!CA3,355,0):OFFSET(テストデータ!CC3,355,0))","v":0},{"$f":"SUM(OFFSET(テストデータ!CA3,355,0):OFFSET(テストデータ!CE3,355,0))","v":0},{"$f":"SUM(OFFSET(テストデータ!CF3,355,0):OFFSET(テストデータ!CH3,355,0))","v":0},{"$f":"SUM(OFFSET(テストデータ!CF3,355,0):OFFSET(テストデータ!CJ3,355,0))","v":0},{"$f":"SUM(OFFSET(テストデータ!CK3,355,0):OFFSET(テストデータ!CM3,355,0))","v":0},{"$f":"SUM(OFFSET(テストデータ!CK3,355,0):OFFSET(テストデータ!CO3,355,0))","v":0},{"$f":"SUM(OFFSET(テストデータ!CP3,355,0):OFFSET(テストデータ!CR3,355,0))","v":0},{"$f":"SUM(OFFSET(テストデータ!CP3,355,0):OFFSET(テストデータ!CT3,355,0))","v":0}]
[null,null,null,null,null,null,null,null,null,null,null,null,null,{"$f":"SUM(OFFSET(テストデータ!$E3,356,9*成績表1!$B$4-9):OFFSET(テストデータ!$G3,356,9*成績表1!$B$4-9))","v":0},{"$f":"SUM(OFFSET(テストデータ!$E3,356,9*成績表1!$B$4-9):OFFSET(テストデータ!I3,356,9*成績表1!$B$4-9))","v":0},{"$f":"SUM(OFFSET(テストデータ!E3,356,0):OFFSET(テストデータ!G3,356,0))","v":0},{"$f":"SUM(OFFSET(テストデータ!E3,356,0):OFFSET(テストデータ!I3,356,0))","v":0},{"$f":"SUM(OFFSET(テストデータ!N3,356,0):OFFSET(テストデータ!P3,356,0))","v":0},{"$f":"SUM(OFFSET(テストデータ!N3,356,0):OFFSET(テストデータ!R3,356,0))","v":0},{"$f":"SUM(OFFSET(テストデータ!W3,356,0):OFFSET(テストデータ!Y3,356,0))","v":0},{"$f":"SUM(OFFSET(テストデータ!W3,356,0):OFFSET(テストデータ!AA3,356,0))","v":0},{"$f":"SUM(OFFSET(テストデータ!AF3,356,0):OFFSET(テストデータ!AH3,356,0))","v":0},{"$f":"SUM(OFFSET(テストデータ!AF3,356,0):OFFSET(テストデータ!AJ3,356,0))","v":0},{"$f":"SUM(OFFSET(テストデータ!AO3,356,0):OFFSET(テストデータ!AQ3,356,0))","v":0},{"$f":"SUM(OFFSET(テストデータ!AO3,356,0):OFFSET(テストデータ!AS3,356,0))","v":0},{"$f":"SUM(OFFSET(テストデータ!AX3,356,0):OFFSET(テストデータ!AZ3,356,0))","v":0},{"$f":"SUM(OFFSET(テストデータ!AX3,356,0):OFFSET(テストデータ!BB3,356,0))","v":0},{"$f":"SUM(OFFSET(テストデータ!BG3,356,0):OFFSET(テストデータ!BI3,356,0))","v":0},{"$f":"SUM(OFFSET(テストデータ!BG3,356,0):OFFSET(テストデータ!BK3,356,0))","v":0},{"$f":"SUM(OFFSET(テストデータ!BL3,356,0):OFFSET(テストデータ!BN3,356,0))","v":0},{"$f":"SUM(OFFSET(テストデータ!BL3,356,0):OFFSET(テストデータ!BP3,356,0))","v":0},{"$f":"SUM(OFFSET(テストデータ!BQ3,356,0):OFFSET(テストデータ!BS3,356,0))","v":0},{"$f":"SUM(OFFSET(テストデータ!BQ3,356,0):OFFSET(テストデータ!BU3,356,0))","v":0},{"$f":"SUM(OFFSET(テストデータ!BV3,356,0):OFFSET(テストデータ!BX3,356,0))","v":0},{"$f":"SUM(OFFSET(テストデータ!BV3,356,0):OFFSET(テストデータ!BZ3,356,0))","v":0},{"$f":"SUM(OFFSET(テストデータ!CA3,356,0):OFFSET(テストデータ!CC3,356,0))","v":0},{"$f":"SUM(OFFSET(テストデータ!CA3,356,0):OFFSET(テストデータ!CE3,356,0))","v":0},{"$f":"SUM(OFFSET(テストデータ!CF3,356,0):OFFSET(テストデータ!CH3,356,0))","v":0},{"$f":"SUM(OFFSET(テストデータ!CF3,356,0):OFFSET(テストデータ!CJ3,356,0))","v":0},{"$f":"SUM(OFFSET(テストデータ!CK3,356,0):OFFSET(テストデータ!CM3,356,0))","v":0},{"$f":"SUM(OFFSET(テストデータ!CK3,356,0):OFFSET(テストデータ!CO3,356,0))","v":0},{"$f":"SUM(OFFSET(テストデータ!CP3,356,0):OFFSET(テストデータ!CR3,356,0))","v":0},{"$f":"SUM(OFFSET(テストデータ!CP3,356,0):OFFSET(テストデータ!CT3,356,0))","v":0}]
[null,null,null,null,null,null,null,null,null,null,null,null,null,{"$f":"SUM(OFFSET(テストデータ!$E3,357,9*成績表1!$B$4-9):OFFSET(テストデータ!$G3,357,9*成績表1!$B$4-9))","v":0},{"$f":"SUM(OFFSET(テストデータ!$E3,357,9*成績表1!$B$4-9):OFFSET(テストデータ!I3,357,9*成績表1!$B$4-9))","v":0},{"$f":"SUM(OFFSET(テストデータ!E3,357,0):OFFSET(テストデータ!G3,357,0))","v":0},{"$f":"SUM(OFFSET(テストデータ!E3,357,0):OFFSET(テストデータ!I3,357,0))","v":0},{"$f":"SUM(OFFSET(テストデータ!N3,357,0):OFFSET(テストデータ!P3,357,0))","v":0},{"$f":"SUM(OFFSET(テストデータ!N3,357,0):OFFSET(テストデータ!R3,357,0))","v":0},{"$f":"SUM(OFFSET(テストデータ!W3,357,0):OFFSET(テストデータ!Y3,357,0))","v":0},{"$f":"SUM(OFFSET(テストデータ!W3,357,0):OFFSET(テストデータ!AA3,357,0))","v":0},{"$f":"SUM(OFFSET(テストデータ!AF3,357,0):OFFSET(テストデータ!AH3,357,0))","v":0},{"$f":"SUM(OFFSET(テストデータ!AF3,357,0):OFFSET(テストデータ!AJ3,357,0))","v":0},{"$f":"SUM(OFFSET(テストデータ!AO3,357,0):OFFSET(テストデータ!AQ3,357,0))","v":0},{"$f":"SUM(OFFSET(テストデータ!AO3,357,0):OFFSET(テストデータ!AS3,357,0))","v":0},{"$f":"SUM(OFFSET(テストデータ!AX3,357,0):OFFSET(テストデータ!AZ3,357,0))","v":0},{"$f":"SUM(OFFSET(テストデータ!AX3,357,0):OFFSET(テストデータ!BB3,357,0))","v":0},{"$f":"SUM(OFFSET(テストデータ!BG3,357,0):OFFSET(テストデータ!BI3,357,0))","v":0},{"$f":"SUM(OFFSET(テストデータ!BG3,357,0):OFFSET(テストデータ!BK3,357,0))","v":0},{"$f":"SUM(OFFSET(テストデータ!BL3,357,0):OFFSET(テストデータ!BN3,357,0))","v":0},{"$f":"SUM(OFFSET(テストデータ!BL3,357,0):OFFSET(テストデータ!BP3,357,0))","v":0},{"$f":"SUM(OFFSET(テストデータ!BQ3,357,0):OFFSET(テストデータ!BS3,357,0))","v":0},{"$f":"SUM(OFFSET(テストデータ!BQ3,357,0):OFFSET(テストデータ!BU3,357,0))","v":0},{"$f":"SUM(OFFSET(テストデータ!BV3,357,0):OFFSET(テストデータ!BX3,357,0))","v":0},{"$f":"SUM(OFFSET(テストデータ!BV3,357,0):OFFSET(テストデータ!BZ3,357,0))","v":0},{"$f":"SUM(OFFSET(テストデータ!CA3,357,0):OFFSET(テストデータ!CC3,357,0))","v":0},{"$f":"SUM(OFFSET(テストデータ!CA3,357,0):OFFSET(テストデータ!CE3,357,0))","v":0},{"$f":"SUM(OFFSET(テストデータ!CF3,357,0):OFFSET(テストデータ!CH3,357,0))","v":0},{"$f":"SUM(OFFSET(テストデータ!CF3,357,0):OFFSET(テストデータ!CJ3,357,0))","v":0},{"$f":"SUM(OFFSET(テストデータ!CK3,357,0):OFFSET(テストデータ!CM3,357,0))","v":0},{"$f":"SUM(OFFSET(テストデータ!CK3,357,0):OFFSET(テストデータ!CO3,357,0))","v":0},{"$f":"SUM(OFFSET(テストデータ!CP3,357,0):OFFSET(テストデータ!CR3,357,0))","v":0},{"$f":"SUM(OFFSET(テストデータ!CP3,357,0):OFFSET(テストデータ!CT3,357,0))","v":0}]
[null,null,null,null,null,null,null,null,null,null,null,null,null,{"$f":"SUM(OFFSET(テストデータ!$E3,358,9*成績表1!$B$4-9):OFFSET(テストデータ!$G3,358,9*成績表1!$B$4-9))","v":0},{"$f":"SUM(OFFSET(テストデータ!$E3,358,9*成績表1!$B$4-9):OFFSET(テストデータ!I3,358,9*成績表1!$B$4-9))","v":0},{"$f":"SUM(OFFSET(テストデータ!E3,358,0):OFFSET(テストデータ!G3,358,0))","v":0},{"$f":"SUM(OFFSET(テストデータ!E3,358,0):OFFSET(テストデータ!I3,358,0))","v":0},{"$f":"SUM(OFFSET(テストデータ!N3,358,0):OFFSET(テストデータ!P3,358,0))","v":0},{"$f":"SUM(OFFSET(テストデータ!N3,358,0):OFFSET(テストデータ!R3,358,0))","v":0},{"$f":"SUM(OFFSET(テストデータ!W3,358,0):OFFSET(テストデータ!Y3,358,0))","v":0},{"$f":"SUM(OFFSET(テストデータ!W3,358,0):OFFSET(テストデータ!AA3,358,0))","v":0},{"$f":"SUM(OFFSET(テストデータ!AF3,358,0):OFFSET(テストデータ!AH3,358,0))","v":0},{"$f":"SUM(OFFSET(テストデータ!AF3,358,0):OFFSET(テストデータ!AJ3,358,0))","v":0},{"$f":"SUM(OFFSET(テストデータ!AO3,358,0):OFFSET(テストデータ!AQ3,358,0))","v":0},{"$f":"SUM(OFFSET(テストデータ!AO3,358,0):OFFSET(テストデータ!AS3,358,0))","v":0},{"$f":"SUM(OFFSET(テストデータ!AX3,358,0):OFFSET(テストデータ!AZ3,358,0))","v":0},{"$f":"SUM(OFFSET(テストデータ!AX3,358,0):OFFSET(テストデータ!BB3,358,0))","v":0},{"$f":"SUM(OFFSET(テストデータ!BG3,358,0):OFFSET(テストデータ!BI3,358,0))","v":0},{"$f":"SUM(OFFSET(テストデータ!BG3,358,0):OFFSET(テストデータ!BK3,358,0))","v":0},{"$f":"SUM(OFFSET(テストデータ!BL3,358,0):OFFSET(テストデータ!BN3,358,0))","v":0},{"$f":"SUM(OFFSET(テストデータ!BL3,358,0):OFFSET(テストデータ!BP3,358,0))","v":0},{"$f":"SUM(OFFSET(テストデータ!BQ3,358,0):OFFSET(テストデータ!BS3,358,0))","v":0},{"$f":"SUM(OFFSET(テストデータ!BQ3,358,0):OFFSET(テストデータ!BU3,358,0))","v":0},{"$f":"SUM(OFFSET(テストデータ!BV3,358,0):OFFSET(テストデータ!BX3,358,0))","v":0},{"$f":"SUM(OFFSET(テストデータ!BV3,358,0):OFFSET(テストデータ!BZ3,358,0))","v":0},{"$f":"SUM(OFFSET(テストデータ!CA3,358,0):OFFSET(テストデータ!CC3,358,0))","v":0},{"$f":"SUM(OFFSET(テストデータ!CA3,358,0):OFFSET(テストデータ!CE3,358,0))","v":0},{"$f":"SUM(OFFSET(テストデータ!CF3,358,0):OFFSET(テストデータ!CH3,358,0))","v":0},{"$f":"SUM(OFFSET(テストデータ!CF3,358,0):OFFSET(テストデータ!CJ3,358,0))","v":0},{"$f":"SUM(OFFSET(テストデータ!CK3,358,0):OFFSET(テストデータ!CM3,358,0))","v":0},{"$f":"SUM(OFFSET(テストデータ!CK3,358,0):OFFSET(テストデータ!CO3,358,0))","v":0},{"$f":"SUM(OFFSET(テストデータ!CP3,358,0):OFFSET(テストデータ!CR3,358,0))","v":0},{"$f":"SUM(OFFSET(テストデータ!CP3,358,0):OFFSET(テストデータ!CT3,358,0))","v":0}]
[null,null,null,null,null,null,null,null,null,null,null,null,null,{"$f":"SUM(OFFSET(テストデータ!$E3,359,9*成績表1!$B$4-9):OFFSET(テストデータ!$G3,359,9*成績表1!$B$4-9))","v":0},{"$f":"SUM(OFFSET(テストデータ!$E3,359,9*成績表1!$B$4-9):OFFSET(テストデータ!I3,359,9*成績表1!$B$4-9))","v":0},{"$f":"SUM(OFFSET(テストデータ!E3,359,0):OFFSET(テストデータ!G3,359,0))","v":0},{"$f":"SUM(OFFSET(テストデータ!E3,359,0):OFFSET(テストデータ!I3,359,0))","v":0},{"$f":"SUM(OFFSET(テストデータ!N3,359,0):OFFSET(テストデータ!P3,359,0))","v":0},{"$f":"SUM(OFFSET(テストデータ!N3,359,0):OFFSET(テストデータ!R3,359,0))","v":0},{"$f":"SUM(OFFSET(テストデータ!W3,359,0):OFFSET(テストデータ!Y3,359,0))","v":0},{"$f":"SUM(OFFSET(テストデータ!W3,359,0):OFFSET(テストデータ!AA3,359,0))","v":0},{"$f":"SUM(OFFSET(テストデータ!AF3,359,0):OFFSET(テストデータ!AH3,359,0))","v":0},{"$f":"SUM(OFFSET(テストデータ!AF3,359,0):OFFSET(テストデータ!AJ3,359,0))","v":0},{"$f":"SUM(OFFSET(テストデータ!AO3,359,0):OFFSET(テストデータ!AQ3,359,0))","v":0},{"$f":"SUM(OFFSET(テストデータ!AO3,359,0):OFFSET(テストデータ!AS3,359,0))","v":0},{"$f":"SUM(OFFSET(テストデータ!AX3,359,0):OFFSET(テストデータ!AZ3,359,0))","v":0},{"$f":"SUM(OFFSET(テストデータ!AX3,359,0):OFFSET(テストデータ!BB3,359,0))","v":0},{"$f":"SUM(OFFSET(テストデータ!BG3,359,0):OFFSET(テストデータ!BI3,359,0))","v":0},{"$f":"SUM(OFFSET(テストデータ!BG3,359,0):OFFSET(テストデータ!BK3,359,0))","v":0},{"$f":"SUM(OFFSET(テストデータ!BL3,359,0):OFFSET(テストデータ!BN3,359,0))","v":0},{"$f":"SUM(OFFSET(テストデータ!BL3,359,0):OFFSET(テストデータ!BP3,359,0))","v":0},{"$f":"SUM(OFFSET(テストデータ!BQ3,359,0):OFFSET(テストデータ!BS3,359,0))","v":0},{"$f":"SUM(OFFSET(テストデータ!BQ3,359,0):OFFSET(テストデータ!BU3,359,0))","v":0},{"$f":"SUM(OFFSET(テストデータ!BV3,359,0):OFFSET(テストデータ!BX3,359,0))","v":0},{"$f":"SUM(OFFSET(テストデータ!BV3,359,0):OFFSET(テストデータ!BZ3,359,0))","v":0},{"$f":"SUM(OFFSET(テストデータ!CA3,359,0):OFFSET(テストデータ!CC3,359,0))","v":0},{"$f":"SUM(OFFSET(テストデータ!CA3,359,0):OFFSET(テストデータ!CE3,359,0))","v":0},{"$f":"SUM(OFFSET(テストデータ!CF3,359,0):OFFSET(テストデータ!CH3,359,0))","v":0},{"$f":"SUM(OFFSET(テストデータ!CF3,359,0):OFFSET(テストデータ!CJ3,359,0))","v":0},{"$f":"SUM(OFFSET(テストデータ!CK3,359,0):OFFSET(テストデータ!CM3,359,0))","v":0},{"$f":"SUM(OFFSET(テストデータ!CK3,359,0):OFFSET(テストデータ!CO3,359,0))","v":0},{"$f":"SUM(OFFSET(テストデータ!CP3,359,0):OFFSET(テストデータ!CR3,359,0))","v":0},{"$f":"SUM(OFFSET(テストデータ!CP3,359,0):OFFSET(テストデータ!CT3,359,0))","v":0}]
[null,null,null,null,null,null,null,null,null,null,null,null,null,{"$f":"SUM(OFFSET(テストデータ!$E3,360,9*成績表1!$B$4-9):OFFSET(テストデータ!$G3,360,9*成績表1!$B$4-9))","v":0},{"$f":"SUM(OFFSET(テストデータ!$E3,360,9*成績表1!$B$4-9):OFFSET(テストデータ!I3,360,9*成績表1!$B$4-9))","v":0},{"$f":"SUM(OFFSET(テストデータ!E3,360,0):OFFSET(テストデータ!G3,360,0))","v":0},{"$f":"SUM(OFFSET(テストデータ!E3,360,0):OFFSET(テストデータ!I3,360,0))","v":0},{"$f":"SUM(OFFSET(テストデータ!N3,360,0):OFFSET(テストデータ!P3,360,0))","v":0},{"$f":"SUM(OFFSET(テストデータ!N3,360,0):OFFSET(テストデータ!R3,360,0))","v":0},{"$f":"SUM(OFFSET(テストデータ!W3,360,0):OFFSET(テストデータ!Y3,360,0))","v":0},{"$f":"SUM(OFFSET(テストデータ!W3,360,0):OFFSET(テストデータ!AA3,360,0))","v":0},{"$f":"SUM(OFFSET(テストデータ!AF3,360,0):OFFSET(テストデータ!AH3,360,0))","v":0},{"$f":"SUM(OFFSET(テストデータ!AF3,360,0):OFFSET(テストデータ!AJ3,360,0))","v":0},{"$f":"SUM(OFFSET(テストデータ!AO3,360,0):OFFSET(テストデータ!AQ3,360,0))","v":0},{"$f":"SUM(OFFSET(テストデータ!AO3,360,0):OFFSET(テストデータ!AS3,360,0))","v":0},{"$f":"SUM(OFFSET(テストデータ!AX3,360,0):OFFSET(テストデータ!AZ3,360,0))","v":0},{"$f":"SUM(OFFSET(テストデータ!AX3,360,0):OFFSET(テストデータ!BB3,360,0))","v":0},{"$f":"SUM(OFFSET(テストデータ!BG3,360,0):OFFSET(テストデータ!BI3,360,0))","v":0},{"$f":"SUM(OFFSET(テストデータ!BG3,360,0):OFFSET(テストデータ!BK3,360,0))","v":0},{"$f":"SUM(OFFSET(テストデータ!BL3,360,0):OFFSET(テストデータ!BN3,360,0))","v":0},{"$f":"SUM(OFFSET(テストデータ!BL3,360,0):OFFSET(テストデータ!BP3,360,0))","v":0},{"$f":"SUM(OFFSET(テストデータ!BQ3,360,0):OFFSET(テストデータ!BS3,360,0))","v":0},{"$f":"SUM(OFFSET(テストデータ!BQ3,360,0):OFFSET(テストデータ!BU3,360,0))","v":0},{"$f":"SUM(OFFSET(テストデータ!BV3,360,0):OFFSET(テストデータ!BX3,360,0))","v":0},{"$f":"SUM(OFFSET(テストデータ!BV3,360,0):OFFSET(テストデータ!BZ3,360,0))","v":0},{"$f":"SUM(OFFSET(テストデータ!CA3,360,0):OFFSET(テストデータ!CC3,360,0))","v":0},{"$f":"SUM(OFFSET(テストデータ!CA3,360,0):OFFSET(テストデータ!CE3,360,0))","v":0},{"$f":"SUM(OFFSET(テストデータ!CF3,360,0):OFFSET(テストデータ!CH3,360,0))","v":0},{"$f":"SUM(OFFSET(テストデータ!CF3,360,0):OFFSET(テストデータ!CJ3,360,0))","v":0},{"$f":"SUM(OFFSET(テストデータ!CK3,360,0):OFFSET(テストデータ!CM3,360,0))","v":0},{"$f":"SUM(OFFSET(テストデータ!CK3,360,0):OFFSET(テストデータ!CO3,360,0))","v":0},{"$f":"SUM(OFFSET(テストデータ!CP3,360,0):OFFSET(テストデータ!CR3,360,0))","v":0},{"$f":"SUM(OFFSET(テストデータ!CP3,360,0):OFFSET(テストデータ!CT3,360,0))","v":0}]
[null,null,null,null,null,null,null,null,null,null,null,null,null,{"$f":"SUM(OFFSET(テストデータ!$E3,361,9*成績表1!$B$4-9):OFFSET(テストデータ!$G3,361,9*成績表1!$B$4-9))","v":0},{"$f":"SUM(OFFSET(テストデータ!$E3,361,9*成績表1!$B$4-9):OFFSET(テストデータ!I3,361,9*成績表1!$B$4-9))","v":0},{"$f":"SUM(OFFSET(テストデータ!E3,361,0):OFFSET(テストデータ!G3,361,0))","v":0},{"$f":"SUM(OFFSET(テストデータ!E3,361,0):OFFSET(テストデータ!I3,361,0))","v":0},{"$f":"SUM(OFFSET(テストデータ!N3,361,0):OFFSET(テストデータ!P3,361,0))","v":0},{"$f":"SUM(OFFSET(テストデータ!N3,361,0):OFFSET(テストデータ!R3,361,0))","v":0},{"$f":"SUM(OFFSET(テストデータ!W3,361,0):OFFSET(テストデータ!Y3,361,0))","v":0},{"$f":"SUM(OFFSET(テストデータ!W3,361,0):OFFSET(テストデータ!AA3,361,0))","v":0},{"$f":"SUM(OFFSET(テストデータ!AF3,361,0):OFFSET(テストデータ!AH3,361,0))","v":0},{"$f":"SUM(OFFSET(テストデータ!AF3,361,0):OFFSET(テストデータ!AJ3,361,0))","v":0},{"$f":"SUM(OFFSET(テストデータ!AO3,361,0):OFFSET(テストデータ!AQ3,361,0))","v":0},{"$f":"SUM(OFFSET(テストデータ!AO3,361,0):OFFSET(テストデータ!AS3,361,0))","v":0},{"$f":"SUM(OFFSET(テストデータ!AX3,361,0):OFFSET(テストデータ!AZ3,361,0))","v":0},{"$f":"SUM(OFFSET(テストデータ!AX3,361,0):OFFSET(テストデータ!BB3,361,0))","v":0},{"$f":"SUM(OFFSET(テストデータ!BG3,361,0):OFFSET(テストデータ!BI3,361,0))","v":0},{"$f":"SUM(OFFSET(テストデータ!BG3,361,0):OFFSET(テストデータ!BK3,361,0))","v":0},{"$f":"SUM(OFFSET(テストデータ!BL3,361,0):OFFSET(テストデータ!BN3,361,0))","v":0},{"$f":"SUM(OFFSET(テストデータ!BL3,361,0):OFFSET(テストデータ!BP3,361,0))","v":0},{"$f":"SUM(OFFSET(テストデータ!BQ3,361,0):OFFSET(テストデータ!BS3,361,0))","v":0},{"$f":"SUM(OFFSET(テストデータ!BQ3,361,0):OFFSET(テストデータ!BU3,361,0))","v":0},{"$f":"SUM(OFFSET(テストデータ!BV3,361,0):OFFSET(テストデータ!BX3,361,0))","v":0},{"$f":"SUM(OFFSET(テストデータ!BV3,361,0):OFFSET(テストデータ!BZ3,361,0))","v":0},{"$f":"SUM(OFFSET(テストデータ!CA3,361,0):OFFSET(テストデータ!CC3,361,0))","v":0},{"$f":"SUM(OFFSET(テストデータ!CA3,361,0):OFFSET(テストデータ!CE3,361,0))","v":0},{"$f":"SUM(OFFSET(テストデータ!CF3,361,0):OFFSET(テストデータ!CH3,361,0))","v":0},{"$f":"SUM(OFFSET(テストデータ!CF3,361,0):OFFSET(テストデータ!CJ3,361,0))","v":0},{"$f":"SUM(OFFSET(テストデータ!CK3,361,0):OFFSET(テストデータ!CM3,361,0))","v":0},{"$f":"SUM(OFFSET(テストデータ!CK3,361,0):OFFSET(テストデータ!CO3,361,0))","v":0},{"$f":"SUM(OFFSET(テストデータ!CP3,361,0):OFFSET(テストデータ!CR3,361,0))","v":0},{"$f":"SUM(OFFSET(テストデータ!CP3,361,0):OFFSET(テストデータ!CT3,361,0))","v":0}]
[null,null,null,null,null,null,null,null,null,null,null,null,null,{"$f":"SUM(OFFSET(テストデータ!$E3,362,9*成績表1!$B$4-9):OFFSET(テストデータ!$G3,362,9*成績表1!$B$4-9))","v":0},{"$f":"SUM(OFFSET(テストデータ!$E3,362,9*成績表1!$B$4-9):OFFSET(テストデータ!I3,362,9*成績表1!$B$4-9))","v":0},{"$f":"SUM(OFFSET(テストデータ!E3,362,0):OFFSET(テストデータ!G3,362,0))","v":0},{"$f":"SUM(OFFSET(テストデータ!E3,362,0):OFFSET(テストデータ!I3,362,0))","v":0},{"$f":"SUM(OFFSET(テストデータ!N3,362,0):OFFSET(テストデータ!P3,362,0))","v":0},{"$f":"SUM(OFFSET(テストデータ!N3,362,0):OFFSET(テストデータ!R3,362,0))","v":0},{"$f":"SUM(OFFSET(テストデータ!W3,362,0):OFFSET(テストデータ!Y3,362,0))","v":0},{"$f":"SUM(OFFSET(テストデータ!W3,362,0):OFFSET(テストデータ!AA3,362,0))","v":0},{"$f":"SUM(OFFSET(テストデータ!AF3,362,0):OFFSET(テストデータ!AH3,362,0))","v":0},{"$f":"SUM(OFFSET(テストデータ!AF3,362,0):OFFSET(テストデータ!AJ3,362,0))","v":0},{"$f":"SUM(OFFSET(テストデータ!AO3,362,0):OFFSET(テストデータ!AQ3,362,0))","v":0},{"$f":"SUM(OFFSET(テストデータ!AO3,362,0):OFFSET(テストデータ!AS3,362,0))","v":0},{"$f":"SUM(OFFSET(テストデータ!AX3,362,0):OFFSET(テストデータ!AZ3,362,0))","v":0},{"$f":"SUM(OFFSET(テストデータ!AX3,362,0):OFFSET(テストデータ!BB3,362,0))","v":0},{"$f":"SUM(OFFSET(テストデータ!BG3,362,0):OFFSET(テストデータ!BI3,362,0))","v":0},{"$f":"SUM(OFFSET(テストデータ!BG3,362,0):OFFSET(テストデータ!BK3,362,0))","v":0},{"$f":"SUM(OFFSET(テストデータ!BL3,362,0):OFFSET(テストデータ!BN3,362,0))","v":0},{"$f":"SUM(OFFSET(テストデータ!BL3,362,0):OFFSET(テストデータ!BP3,362,0))","v":0},{"$f":"SUM(OFFSET(テストデータ!BQ3,362,0):OFFSET(テストデータ!BS3,362,0))","v":0},{"$f":"SUM(OFFSET(テストデータ!BQ3,362,0):OFFSET(テストデータ!BU3,362,0))","v":0},{"$f":"SUM(OFFSET(テストデータ!BV3,362,0):OFFSET(テストデータ!BX3,362,0))","v":0},{"$f":"SUM(OFFSET(テストデータ!BV3,362,0):OFFSET(テストデータ!BZ3,362,0))","v":0},{"$f":"SUM(OFFSET(テストデータ!CA3,362,0):OFFSET(テストデータ!CC3,362,0))","v":0},{"$f":"SUM(OFFSET(テストデータ!CA3,362,0):OFFSET(テストデータ!CE3,362,0))","v":0},{"$f":"SUM(OFFSET(テストデータ!CF3,362,0):OFFSET(テストデータ!CH3,362,0))","v":0},{"$f":"SUM(OFFSET(テストデータ!CF3,362,0):OFFSET(テストデータ!CJ3,362,0))","v":0},{"$f":"SUM(OFFSET(テストデータ!CK3,362,0):OFFSET(テストデータ!CM3,362,0))","v":0},{"$f":"SUM(OFFSET(テストデータ!CK3,362,0):OFFSET(テストデータ!CO3,362,0))","v":0},{"$f":"SUM(OFFSET(テストデータ!CP3,362,0):OFFSET(テストデータ!CR3,362,0))","v":0},{"$f":"SUM(OFFSET(テストデータ!CP3,362,0):OFFSET(テストデータ!CT3,362,0))","v":0}]
[null,null,null,null,null,null,null,null,null,null,null,null,null,{"$f":"SUM(OFFSET(テストデータ!$E3,363,9*成績表1!$B$4-9):OFFSET(テストデータ!$G3,363,9*成績表1!$B$4-9))","v":0},{"$f":"SUM(OFFSET(テストデータ!$E3,363,9*成績表1!$B$4-9):OFFSET(テストデータ!I3,363,9*成績表1!$B$4-9))","v":0},{"$f":"SUM(OFFSET(テストデータ!E3,363,0):OFFSET(テストデータ!G3,363,0))","v":0},{"$f":"SUM(OFFSET(テストデータ!E3,363,0):OFFSET(テストデータ!I3,363,0))","v":0},{"$f":"SUM(OFFSET(テストデータ!N3,363,0):OFFSET(テストデータ!P3,363,0))","v":0},{"$f":"SUM(OFFSET(テストデータ!N3,363,0):OFFSET(テストデータ!R3,363,0))","v":0},{"$f":"SUM(OFFSET(テストデータ!W3,363,0):OFFSET(テストデータ!Y3,363,0))","v":0},{"$f":"SUM(OFFSET(テストデータ!W3,363,0):OFFSET(テストデータ!AA3,363,0))","v":0},{"$f":"SUM(OFFSET(テストデータ!AF3,363,0):OFFSET(テストデータ!AH3,363,0))","v":0},{"$f":"SUM(OFFSET(テストデータ!AF3,363,0):OFFSET(テストデータ!AJ3,363,0))","v":0},{"$f":"SUM(OFFSET(テストデータ!AO3,363,0):OFFSET(テストデータ!AQ3,363,0))","v":0},{"$f":"SUM(OFFSET(テストデータ!AO3,363,0):OFFSET(テストデータ!AS3,363,0))","v":0},{"$f":"SUM(OFFSET(テストデータ!AX3,363,0):OFFSET(テストデータ!AZ3,363,0))","v":0},{"$f":"SUM(OFFSET(テストデータ!AX3,363,0):OFFSET(テストデータ!BB3,363,0))","v":0},{"$f":"SUM(OFFSET(テストデータ!BG3,363,0):OFFSET(テストデータ!BI3,363,0))","v":0},{"$f":"SUM(OFFSET(テストデータ!BG3,363,0):OFFSET(テストデータ!BK3,363,0))","v":0},{"$f":"SUM(OFFSET(テストデータ!BL3,363,0):OFFSET(テストデータ!BN3,363,0))","v":0},{"$f":"SUM(OFFSET(テストデータ!BL3,363,0):OFFSET(テストデータ!BP3,363,0))","v":0},{"$f":"SUM(OFFSET(テストデータ!BQ3,363,0):OFFSET(テストデータ!BS3,363,0))","v":0},{"$f":"SUM(OFFSET(テストデータ!BQ3,363,0):OFFSET(テストデータ!BU3,363,0))","v":0},{"$f":"SUM(OFFSET(テストデータ!BV3,363,0):OFFSET(テストデータ!BX3,363,0))","v":0},{"$f":"SUM(OFFSET(テストデータ!BV3,363,0):OFFSET(テストデータ!BZ3,363,0))","v":0},{"$f":"SUM(OFFSET(テストデータ!CA3,363,0):OFFSET(テストデータ!CC3,363,0))","v":0},{"$f":"SUM(OFFSET(テストデータ!CA3,363,0):OFFSET(テストデータ!CE3,363,0))","v":0},{"$f":"SUM(OFFSET(テストデータ!CF3,363,0):OFFSET(テストデータ!CH3,363,0))","v":0},{"$f":"SUM(OFFSET(テストデータ!CF3,363,0):OFFSET(テストデータ!CJ3,363,0))","v":0},{"$f":"SUM(OFFSET(テストデータ!CK3,363,0):OFFSET(テストデータ!CM3,363,0))","v":0},{"$f":"SUM(OFFSET(テストデータ!CK3,363,0):OFFSET(テストデータ!CO3,363,0))","v":0},{"$f":"SUM(OFFSET(テストデータ!CP3,363,0):OFFSET(テストデータ!CR3,363,0))","v":0},{"$f":"SUM(OFFSET(テストデータ!CP3,363,0):OFFSET(テストデータ!CT3,363,0))","v":0}]
[null,null,null,null,null,null,null,null,null,null,null,null,null,{"$f":"SUM(OFFSET(テストデータ!$E3,364,9*成績表1!$B$4-9):OFFSET(テストデータ!$G3,364,9*成績表1!$B$4-9))","v":0},{"$f":"SUM(OFFSET(テストデータ!$E3,364,9*成績表1!$B$4-9):OFFSET(テストデータ!I3,364,9*成績表1!$B$4-9))","v":0},{"$f":"SUM(OFFSET(テストデータ!E3,364,0):OFFSET(テストデータ!G3,364,0))","v":0},{"$f":"SUM(OFFSET(テストデータ!E3,364,0):OFFSET(テストデータ!I3,364,0))","v":0},{"$f":"SUM(OFFSET(テストデータ!N3,364,0):OFFSET(テストデータ!P3,364,0))","v":0},{"$f":"SUM(OFFSET(テストデータ!N3,364,0):OFFSET(テストデータ!R3,364,0))","v":0},{"$f":"SUM(OFFSET(テストデータ!W3,364,0):OFFSET(テストデータ!Y3,364,0))","v":0},{"$f":"SUM(OFFSET(テストデータ!W3,364,0):OFFSET(テストデータ!AA3,364,0))","v":0},{"$f":"SUM(OFFSET(テストデータ!AF3,364,0):OFFSET(テストデータ!AH3,364,0))","v":0},{"$f":"SUM(OFFSET(テストデータ!AF3,364,0):OFFSET(テストデータ!AJ3,364,0))","v":0},{"$f":"SUM(OFFSET(テストデータ!AO3,364,0):OFFSET(テストデータ!AQ3,364,0))","v":0},{"$f":"SUM(OFFSET(テストデータ!AO3,364,0):OFFSET(テストデータ!AS3,364,0))","v":0},{"$f":"SUM(OFFSET(テストデータ!AX3,364,0):OFFSET(テストデータ!AZ3,364,0))","v":0},{"$f":"SUM(OFFSET(テストデータ!AX3,364,0):OFFSET(テストデータ!BB3,364,0))","v":0},{"$f":"SUM(OFFSET(テストデータ!BG3,364,0):OFFSET(テストデータ!BI3,364,0))","v":0},{"$f":"SUM(OFFSET(テストデータ!BG3,364,0):OFFSET(テストデータ!BK3,364,0))","v":0},{"$f":"SUM(OFFSET(テストデータ!BL3,364,0):OFFSET(テストデータ!BN3,364,0))","v":0},{"$f":"SUM(OFFSET(テストデータ!BL3,364,0):OFFSET(テストデータ!BP3,364,0))","v":0},{"$f":"SUM(OFFSET(テストデータ!BQ3,364,0):OFFSET(テストデータ!BS3,364,0))","v":0},{"$f":"SUM(OFFSET(テストデータ!BQ3,364,0):OFFSET(テストデータ!BU3,364,0))","v":0},{"$f":"SUM(OFFSET(テストデータ!BV3,364,0):OFFSET(テストデータ!BX3,364,0))","v":0},{"$f":"SUM(OFFSET(テストデータ!BV3,364,0):OFFSET(テストデータ!BZ3,364,0))","v":0},{"$f":"SUM(OFFSET(テストデータ!CA3,364,0):OFFSET(テストデータ!CC3,364,0))","v":0},{"$f":"SUM(OFFSET(テストデータ!CA3,364,0):OFFSET(テストデータ!CE3,364,0))","v":0},{"$f":"SUM(OFFSET(テストデータ!CF3,364,0):OFFSET(テストデータ!CH3,364,0))","v":0},{"$f":"SUM(OFFSET(テストデータ!CF3,364,0):OFFSET(テストデータ!CJ3,364,0))","v":0},{"$f":"SUM(OFFSET(テストデータ!CK3,364,0):OFFSET(テストデータ!CM3,364,0))","v":0},{"$f":"SUM(OFFSET(テストデータ!CK3,364,0):OFFSET(テストデータ!CO3,364,0))","v":0},{"$f":"SUM(OFFSET(テストデータ!CP3,364,0):OFFSET(テストデータ!CR3,364,0))","v":0},{"$f":"SUM(OFFSET(テストデータ!CP3,364,0):OFFSET(テストデータ!CT3,364,0))","v":0}]
[null,null,null,null,null,null,null,null,null,null,null,null,null,{"$f":"SUM(OFFSET(テストデータ!$E3,365,9*成績表1!$B$4-9):OFFSET(テストデータ!$G3,365,9*成績表1!$B$4-9))","v":0},{"$f":"SUM(OFFSET(テストデータ!$E3,365,9*成績表1!$B$4-9):OFFSET(テストデータ!I3,365,9*成績表1!$B$4-9))","v":0},{"$f":"SUM(OFFSET(テストデータ!E3,365,0):OFFSET(テストデータ!G3,365,0))","v":0},{"$f":"SUM(OFFSET(テストデータ!E3,365,0):OFFSET(テストデータ!I3,365,0))","v":0},{"$f":"SUM(OFFSET(テストデータ!N3,365,0):OFFSET(テストデータ!P3,365,0))","v":0},{"$f":"SUM(OFFSET(テストデータ!N3,365,0):OFFSET(テストデータ!R3,365,0))","v":0},{"$f":"SUM(OFFSET(テストデータ!W3,365,0):OFFSET(テストデータ!Y3,365,0))","v":0},{"$f":"SUM(OFFSET(テストデータ!W3,365,0):OFFSET(テストデータ!AA3,365,0))","v":0},{"$f":"SUM(OFFSET(テストデータ!AF3,365,0):OFFSET(テストデータ!AH3,365,0))","v":0},{"$f":"SUM(OFFSET(テストデータ!AF3,365,0):OFFSET(テストデータ!AJ3,365,0))","v":0},{"$f":"SUM(OFFSET(テストデータ!AO3,365,0):OFFSET(テストデータ!AQ3,365,0))","v":0},{"$f":"SUM(OFFSET(テストデータ!AO3,365,0):OFFSET(テストデータ!AS3,365,0))","v":0},{"$f":"SUM(OFFSET(テストデータ!AX3,365,0):OFFSET(テストデータ!AZ3,365,0))","v":0},{"$f":"SUM(OFFSET(テストデータ!AX3,365,0):OFFSET(テストデータ!BB3,365,0))","v":0},{"$f":"SUM(OFFSET(テストデータ!BG3,365,0):OFFSET(テストデータ!BI3,365,0))","v":0},{"$f":"SUM(OFFSET(テストデータ!BG3,365,0):OFFSET(テストデータ!BK3,365,0))","v":0},{"$f":"SUM(OFFSET(テストデータ!BL3,365,0):OFFSET(テストデータ!BN3,365,0))","v":0},{"$f":"SUM(OFFSET(テストデータ!BL3,365,0):OFFSET(テストデータ!BP3,365,0))","v":0},{"$f":"SUM(OFFSET(テストデータ!BQ3,365,0):OFFSET(テストデータ!BS3,365,0))","v":0},{"$f":"SUM(OFFSET(テストデータ!BQ3,365,0):OFFSET(テストデータ!BU3,365,0))","v":0},{"$f":"SUM(OFFSET(テストデータ!BV3,365,0):OFFSET(テストデータ!BX3,365,0))","v":0},{"$f":"SUM(OFFSET(テストデータ!BV3,365,0):OFFSET(テストデータ!BZ3,365,0))","v":0},{"$f":"SUM(OFFSET(テストデータ!CA3,365,0):OFFSET(テストデータ!CC3,365,0))","v":0},{"$f":"SUM(OFFSET(テストデータ!CA3,365,0):OFFSET(テストデータ!CE3,365,0))","v":0},{"$f":"SUM(OFFSET(テストデータ!CF3,365,0):OFFSET(テストデータ!CH3,365,0))","v":0},{"$f":"SUM(OFFSET(テストデータ!CF3,365,0):OFFSET(テストデータ!CJ3,365,0))","v":0},{"$f":"SUM(OFFSET(テストデータ!CK3,365,0):OFFSET(テストデータ!CM3,365,0))","v":0},{"$f":"SUM(OFFSET(テストデータ!CK3,365,0):OFFSET(テストデータ!CO3,365,0))","v":0},{"$f":"SUM(OFFSET(テストデータ!CP3,365,0):OFFSET(テストデータ!CR3,365,0))","v":0},{"$f":"SUM(OFFSET(テストデータ!CP3,365,0):OFFSET(テストデータ!CT3,365,0))","v":0}]
[null,null,null,null,null,null,null,null,null,null,null,null,null,{"$f":"SUM(OFFSET(テストデータ!$E3,366,9*成績表1!$B$4-9):OFFSET(テストデータ!$G3,366,9*成績表1!$B$4-9))","v":0},{"$f":"SUM(OFFSET(テストデータ!$E3,366,9*成績表1!$B$4-9):OFFSET(テストデータ!I3,366,9*成績表1!$B$4-9))","v":0},{"$f":"SUM(OFFSET(テストデータ!E3,366,0):OFFSET(テストデータ!G3,366,0))","v":0},{"$f":"SUM(OFFSET(テストデータ!E3,366,0):OFFSET(テストデータ!I3,366,0))","v":0},{"$f":"SUM(OFFSET(テストデータ!N3,366,0):OFFSET(テストデータ!P3,366,0))","v":0},{"$f":"SUM(OFFSET(テストデータ!N3,366,0):OFFSET(テストデータ!R3,366,0))","v":0},{"$f":"SUM(OFFSET(テストデータ!W3,366,0):OFFSET(テストデータ!Y3,366,0))","v":0},{"$f":"SUM(OFFSET(テストデータ!W3,366,0):OFFSET(テストデータ!AA3,366,0))","v":0},{"$f":"SUM(OFFSET(テストデータ!AF3,366,0):OFFSET(テストデータ!AH3,366,0))","v":0},{"$f":"SUM(OFFSET(テストデータ!AF3,366,0):OFFSET(テストデータ!AJ3,366,0))","v":0},{"$f":"SUM(OFFSET(テストデータ!AO3,366,0):OFFSET(テストデータ!AQ3,366,0))","v":0},{"$f":"SUM(OFFSET(テストデータ!AO3,366,0):OFFSET(テストデータ!AS3,366,0))","v":0},{"$f":"SUM(OFFSET(テストデータ!AX3,366,0):OFFSET(テストデータ!AZ3,366,0))","v":0},{"$f":"SUM(OFFSET(テストデータ!AX3,366,0):OFFSET(テストデータ!BB3,366,0))","v":0},{"$f":"SUM(OFFSET(テストデータ!BG3,366,0):OFFSET(テストデータ!BI3,366,0))","v":0},{"$f":"SUM(OFFSET(テストデータ!BG3,366,0):OFFSET(テストデータ!BK3,366,0))","v":0},{"$f":"SUM(OFFSET(テストデータ!BL3,366,0):OFFSET(テストデータ!BN3,366,0))","v":0},{"$f":"SUM(OFFSET(テストデータ!BL3,366,0):OFFSET(テストデータ!BP3,366,0))","v":0},{"$f":"SUM(OFFSET(テストデータ!BQ3,366,0):OFFSET(テストデータ!BS3,366,0))","v":0},{"$f":"SUM(OFFSET(テストデータ!BQ3,366,0):OFFSET(テストデータ!BU3,366,0))","v":0},{"$f":"SUM(OFFSET(テストデータ!BV3,366,0):OFFSET(テストデータ!BX3,366,0))","v":0},{"$f":"SUM(OFFSET(テストデータ!BV3,366,0):OFFSET(テストデータ!BZ3,366,0))","v":0},{"$f":"SUM(OFFSET(テストデータ!CA3,366,0):OFFSET(テストデータ!CC3,366,0))","v":0},{"$f":"SUM(OFFSET(テストデータ!CA3,366,0):OFFSET(テストデータ!CE3,366,0))","v":0},{"$f":"SUM(OFFSET(テストデータ!CF3,366,0):OFFSET(テストデータ!CH3,366,0))","v":0},{"$f":"SUM(OFFSET(テストデータ!CF3,366,0):OFFSET(テストデータ!CJ3,366,0))","v":0},{"$f":"SUM(OFFSET(テストデータ!CK3,366,0):OFFSET(テストデータ!CM3,366,0))","v":0},{"$f":"SUM(OFFSET(テストデータ!CK3,366,0):OFFSET(テストデータ!CO3,366,0))","v":0},{"$f":"SUM(OFFSET(テストデータ!CP3,366,0):OFFSET(テストデータ!CR3,366,0))","v":0},{"$f":"SUM(OFFSET(テストデータ!CP3,366,0):OFFSET(テストデータ!CT3,366,0))","v":0}]
[null,null,null,null,null,null,null,null,null,null,null,null,null,{"$f":"SUM(OFFSET(テストデータ!$E3,367,9*成績表1!$B$4-9):OFFSET(テストデータ!$G3,367,9*成績表1!$B$4-9))","v":0},{"$f":"SUM(OFFSET(テストデータ!$E3,367,9*成績表1!$B$4-9):OFFSET(テストデータ!I3,367,9*成績表1!$B$4-9))","v":0},{"$f":"SUM(OFFSET(テストデータ!E3,367,0):OFFSET(テストデータ!G3,367,0))","v":0},{"$f":"SUM(OFFSET(テストデータ!E3,367,0):OFFSET(テストデータ!I3,367,0))","v":0},{"$f":"SUM(OFFSET(テストデータ!N3,367,0):OFFSET(テストデータ!P3,367,0))","v":0},{"$f":"SUM(OFFSET(テストデータ!N3,367,0):OFFSET(テストデータ!R3,367,0))","v":0},{"$f":"SUM(OFFSET(テストデータ!W3,367,0):OFFSET(テストデータ!Y3,367,0))","v":0},{"$f":"SUM(OFFSET(テストデータ!W3,367,0):OFFSET(テストデータ!AA3,367,0))","v":0},{"$f":"SUM(OFFSET(テストデータ!AF3,367,0):OFFSET(テストデータ!AH3,367,0))","v":0},{"$f":"SUM(OFFSET(テストデータ!AF3,367,0):OFFSET(テストデータ!AJ3,367,0))","v":0},{"$f":"SUM(OFFSET(テストデータ!AO3,367,0):OFFSET(テストデータ!AQ3,367,0))","v":0},{"$f":"SUM(OFFSET(テストデータ!AO3,367,0):OFFSET(テストデータ!AS3,367,0))","v":0},{"$f":"SUM(OFFSET(テストデータ!AX3,367,0):OFFSET(テストデータ!AZ3,367,0))","v":0},{"$f":"SUM(OFFSET(テストデータ!AX3,367,0):OFFSET(テストデータ!BB3,367,0))","v":0},{"$f":"SUM(OFFSET(テストデータ!BG3,367,0):OFFSET(テストデータ!BI3,367,0))","v":0},{"$f":"SUM(OFFSET(テストデータ!BG3,367,0):OFFSET(テストデータ!BK3,367,0))","v":0},{"$f":"SUM(OFFSET(テストデータ!BL3,367,0):OFFSET(テストデータ!BN3,367,0))","v":0},{"$f":"SUM(OFFSET(テストデータ!BL3,367,0):OFFSET(テストデータ!BP3,367,0))","v":0},{"$f":"SUM(OFFSET(テストデータ!BQ3,367,0):OFFSET(テストデータ!BS3,367,0))","v":0},{"$f":"SUM(OFFSET(テストデータ!BQ3,367,0):OFFSET(テストデータ!BU3,367,0))","v":0},{"$f":"SUM(OFFSET(テストデータ!BV3,367,0):OFFSET(テストデータ!BX3,367,0))","v":0},{"$f":"SUM(OFFSET(テストデータ!BV3,367,0):OFFSET(テストデータ!BZ3,367,0))","v":0},{"$f":"SUM(OFFSET(テストデータ!CA3,367,0):OFFSET(テストデータ!CC3,367,0))","v":0},{"$f":"SUM(OFFSET(テストデータ!CA3,367,0):OFFSET(テストデータ!CE3,367,0))","v":0},{"$f":"SUM(OFFSET(テストデータ!CF3,367,0):OFFSET(テストデータ!CH3,367,0))","v":0},{"$f":"SUM(OFFSET(テストデータ!CF3,367,0):OFFSET(テストデータ!CJ3,367,0))","v":0},{"$f":"SUM(OFFSET(テストデータ!CK3,367,0):OFFSET(テストデータ!CM3,367,0))","v":0},{"$f":"SUM(OFFSET(テストデータ!CK3,367,0):OFFSET(テストデータ!CO3,367,0))","v":0},{"$f":"SUM(OFFSET(テストデータ!CP3,367,0):OFFSET(テストデータ!CR3,367,0))","v":0},{"$f":"SUM(OFFSET(テストデータ!CP3,367,0):OFFSET(テストデータ!CT3,367,0))","v":0}]
[null,null,null,null,null,null,null,null,null,null,null,null,null,{"$f":"SUM(OFFSET(テストデータ!$E3,368,9*成績表1!$B$4-9):OFFSET(テストデータ!$G3,368,9*成績表1!$B$4-9))","v":0},{"$f":"SUM(OFFSET(テストデータ!$E3,368,9*成績表1!$B$4-9):OFFSET(テストデータ!I3,368,9*成績表1!$B$4-9))","v":0},{"$f":"SUM(OFFSET(テストデータ!E3,368,0):OFFSET(テストデータ!G3,368,0))","v":0},{"$f":"SUM(OFFSET(テストデータ!E3,368,0):OFFSET(テストデータ!I3,368,0))","v":0},{"$f":"SUM(OFFSET(テストデータ!N3,368,0):OFFSET(テストデータ!P3,368,0))","v":0},{"$f":"SUM(OFFSET(テストデータ!N3,368,0):OFFSET(テストデータ!R3,368,0))","v":0},{"$f":"SUM(OFFSET(テストデータ!W3,368,0):OFFSET(テストデータ!Y3,368,0))","v":0},{"$f":"SUM(OFFSET(テストデータ!W3,368,0):OFFSET(テストデータ!AA3,368,0))","v":0},{"$f":"SUM(OFFSET(テストデータ!AF3,368,0):OFFSET(テストデータ!AH3,368,0))","v":0},{"$f":"SUM(OFFSET(テストデータ!AF3,368,0):OFFSET(テストデータ!AJ3,368,0))","v":0},{"$f":"SUM(OFFSET(テストデータ!AO3,368,0):OFFSET(テストデータ!AQ3,368,0))","v":0},{"$f":"SUM(OFFSET(テストデータ!AO3,368,0):OFFSET(テストデータ!AS3,368,0))","v":0},{"$f":"SUM(OFFSET(テストデータ!AX3,368,0):OFFSET(テストデータ!AZ3,368,0))","v":0},{"$f":"SUM(OFFSET(テストデータ!AX3,368,0):OFFSET(テストデータ!BB3,368,0))","v":0},{"$f":"SUM(OFFSET(テストデータ!BG3,368,0):OFFSET(テストデータ!BI3,368,0))","v":0},{"$f":"SUM(OFFSET(テストデータ!BG3,368,0):OFFSET(テストデータ!BK3,368,0))","v":0},{"$f":"SUM(OFFSET(テストデータ!BL3,368,0):OFFSET(テストデータ!BN3,368,0))","v":0},{"$f":"SUM(OFFSET(テストデータ!BL3,368,0):OFFSET(テストデータ!BP3,368,0))","v":0},{"$f":"SUM(OFFSET(テストデータ!BQ3,368,0):OFFSET(テストデータ!BS3,368,0))","v":0},{"$f":"SUM(OFFSET(テストデータ!BQ3,368,0):OFFSET(テストデータ!BU3,368,0))","v":0},{"$f":"SUM(OFFSET(テストデータ!BV3,368,0):OFFSET(テストデータ!BX3,368,0))","v":0},{"$f":"SUM(OFFSET(テストデータ!BV3,368,0):OFFSET(テストデータ!BZ3,368,0))","v":0},{"$f":"SUM(OFFSET(テストデータ!CA3,368,0):OFFSET(テストデータ!CC3,368,0))","v":0},{"$f":"SUM(OFFSET(テストデータ!CA3,368,0):OFFSET(テストデータ!CE3,368,0))","v":0},{"$f":"SUM(OFFSET(テストデータ!CF3,368,0):OFFSET(テストデータ!CH3,368,0))","v":0},{"$f":"SUM(OFFSET(テストデータ!CF3,368,0):OFFSET(テストデータ!CJ3,368,0))","v":0},{"$f":"SUM(OFFSET(テストデータ!CK3,368,0):OFFSET(テストデータ!CM3,368,0))","v":0},{"$f":"SUM(OFFSET(テストデータ!CK3,368,0):OFFSET(テストデータ!CO3,368,0))","v":0},{"$f":"SUM(OFFSET(テストデータ!CP3,368,0):OFFSET(テストデータ!CR3,368,0))","v":0},{"$f":"SUM(OFFSET(テストデータ!CP3,368,0):OFFSET(テストデータ!CT3,368,0))","v":0}]
[null,null,null,null,null,null,null,null,null,null,null,null,null,{"$f":"SUM(OFFSET(テストデータ!$E3,369,9*成績表1!$B$4-9):OFFSET(テストデータ!$G3,369,9*成績表1!$B$4-9))","v":0},{"$f":"SUM(OFFSET(テストデータ!$E3,369,9*成績表1!$B$4-9):OFFSET(テストデータ!I3,369,9*成績表1!$B$4-9))","v":0},{"$f":"SUM(OFFSET(テストデータ!E3,369,0):OFFSET(テストデータ!G3,369,0))","v":0},{"$f":"SUM(OFFSET(テストデータ!E3,369,0):OFFSET(テストデータ!I3,369,0))","v":0},{"$f":"SUM(OFFSET(テストデータ!N3,369,0):OFFSET(テストデータ!P3,369,0))","v":0},{"$f":"SUM(OFFSET(テストデータ!N3,369,0):OFFSET(テストデータ!R3,369,0))","v":0},{"$f":"SUM(OFFSET(テストデータ!W3,369,0):OFFSET(テストデータ!Y3,369,0))","v":0},{"$f":"SUM(OFFSET(テストデータ!W3,369,0):OFFSET(テストデータ!AA3,369,0))","v":0},{"$f":"SUM(OFFSET(テストデータ!AF3,369,0):OFFSET(テストデータ!AH3,369,0))","v":0},{"$f":"SUM(OFFSET(テストデータ!AF3,369,0):OFFSET(テストデータ!AJ3,369,0))","v":0},{"$f":"SUM(OFFSET(テストデータ!AO3,369,0):OFFSET(テストデータ!AQ3,369,0))","v":0},{"$f":"SUM(OFFSET(テストデータ!AO3,369,0):OFFSET(テストデータ!AS3,369,0))","v":0},{"$f":"SUM(OFFSET(テストデータ!AX3,369,0):OFFSET(テストデータ!AZ3,369,0))","v":0},{"$f":"SUM(OFFSET(テストデータ!AX3,369,0):OFFSET(テストデータ!BB3,369,0))","v":0},{"$f":"SUM(OFFSET(テストデータ!BG3,369,0):OFFSET(テストデータ!BI3,369,0))","v":0},{"$f":"SUM(OFFSET(テストデータ!BG3,369,0):OFFSET(テストデータ!BK3,369,0))","v":0},{"$f":"SUM(OFFSET(テストデータ!BL3,369,0):OFFSET(テストデータ!BN3,369,0))","v":0},{"$f":"SUM(OFFSET(テストデータ!BL3,369,0):OFFSET(テストデータ!BP3,369,0))","v":0},{"$f":"SUM(OFFSET(テストデータ!BQ3,369,0):OFFSET(テストデータ!BS3,369,0))","v":0},{"$f":"SUM(OFFSET(テストデータ!BQ3,369,0):OFFSET(テストデータ!BU3,369,0))","v":0},{"$f":"SUM(OFFSET(テストデータ!BV3,369,0):OFFSET(テストデータ!BX3,369,0))","v":0},{"$f":"SUM(OFFSET(テストデータ!BV3,369,0):OFFSET(テストデータ!BZ3,369,0))","v":0},{"$f":"SUM(OFFSET(テストデータ!CA3,369,0):OFFSET(テストデータ!CC3,369,0))","v":0},{"$f":"SUM(OFFSET(テストデータ!CA3,369,0):OFFSET(テストデータ!CE3,369,0))","v":0},{"$f":"SUM(OFFSET(テストデータ!CF3,369,0):OFFSET(テストデータ!CH3,369,0))","v":0},{"$f":"SUM(OFFSET(テストデータ!CF3,369,0):OFFSET(テストデータ!CJ3,369,0))","v":0},{"$f":"SUM(OFFSET(テストデータ!CK3,369,0):OFFSET(テストデータ!CM3,369,0))","v":0},{"$f":"SUM(OFFSET(テストデータ!CK3,369,0):OFFSET(テストデータ!CO3,369,0))","v":0},{"$f":"SUM(OFFSET(テストデータ!CP3,369,0):OFFSET(テストデータ!CR3,369,0))","v":0},{"$f":"SUM(OFFSET(テストデータ!CP3,369,0):OFFSET(テストデータ!CT3,369,0))","v":0}]
[null,null,null,null,null,null,null,null,null,null,null,null,null,{"$f":"SUM(OFFSET(テストデータ!$E3,370,9*成績表1!$B$4-9):OFFSET(テストデータ!$G3,370,9*成績表1!$B$4-9))","v":0},{"$f":"SUM(OFFSET(テストデータ!$E3,370,9*成績表1!$B$4-9):OFFSET(テストデータ!I3,370,9*成績表1!$B$4-9))","v":0},{"$f":"SUM(OFFSET(テストデータ!E3,370,0):OFFSET(テストデータ!G3,370,0))","v":0},{"$f":"SUM(OFFSET(テストデータ!E3,370,0):OFFSET(テストデータ!I3,370,0))","v":0},{"$f":"SUM(OFFSET(テストデータ!N3,370,0):OFFSET(テストデータ!P3,370,0))","v":0},{"$f":"SUM(OFFSET(テストデータ!N3,370,0):OFFSET(テストデータ!R3,370,0))","v":0},{"$f":"SUM(OFFSET(テストデータ!W3,370,0):OFFSET(テストデータ!Y3,370,0))","v":0},{"$f":"SUM(OFFSET(テストデータ!W3,370,0):OFFSET(テストデータ!AA3,370,0))","v":0},{"$f":"SUM(OFFSET(テストデータ!AF3,370,0):OFFSET(テストデータ!AH3,370,0))","v":0},{"$f":"SUM(OFFSET(テストデータ!AF3,370,0):OFFSET(テストデータ!AJ3,370,0))","v":0},{"$f":"SUM(OFFSET(テストデータ!AO3,370,0):OFFSET(テストデータ!AQ3,370,0))","v":0},{"$f":"SUM(OFFSET(テストデータ!AO3,370,0):OFFSET(テストデータ!AS3,370,0))","v":0},{"$f":"SUM(OFFSET(テストデータ!AX3,370,0):OFFSET(テストデータ!AZ3,370,0))","v":0},{"$f":"SUM(OFFSET(テストデータ!AX3,370,0):OFFSET(テストデータ!BB3,370,0))","v":0},{"$f":"SUM(OFFSET(テストデータ!BG3,370,0):OFFSET(テストデータ!BI3,370,0))","v":0},{"$f":"SUM(OFFSET(テストデータ!BG3,370,0):OFFSET(テストデータ!BK3,370,0))","v":0},{"$f":"SUM(OFFSET(テストデータ!BL3,370,0):OFFSET(テストデータ!BN3,370,0))","v":0},{"$f":"SUM(OFFSET(テストデータ!BL3,370,0):OFFSET(テストデータ!BP3,370,0))","v":0},{"$f":"SUM(OFFSET(テストデータ!BQ3,370,0):OFFSET(テストデータ!BS3,370,0))","v":0},{"$f":"SUM(OFFSET(テストデータ!BQ3,370,0):OFFSET(テストデータ!BU3,370,0))","v":0},{"$f":"SUM(OFFSET(テストデータ!BV3,370,0):OFFSET(テストデータ!BX3,370,0))","v":0},{"$f":"SUM(OFFSET(テストデータ!BV3,370,0):OFFSET(テストデータ!BZ3,370,0))","v":0},{"$f":"SUM(OFFSET(テストデータ!CA3,370,0):OFFSET(テストデータ!CC3,370,0))","v":0},{"$f":"SUM(OFFSET(テストデータ!CA3,370,0):OFFSET(テストデータ!CE3,370,0))","v":0},{"$f":"SUM(OFFSET(テストデータ!CF3,370,0):OFFSET(テストデータ!CH3,370,0))","v":0},{"$f":"SUM(OFFSET(テストデータ!CF3,370,0):OFFSET(テストデータ!CJ3,370,0))","v":0},{"$f":"SUM(OFFSET(テストデータ!CK3,370,0):OFFSET(テストデータ!CM3,370,0))","v":0},{"$f":"SUM(OFFSET(テストデータ!CK3,370,0):OFFSET(テストデータ!CO3,370,0))","v":0},{"$f":"SUM(OFFSET(テストデータ!CP3,370,0):OFFSET(テストデータ!CR3,370,0))","v":0},{"$f":"SUM(OFFSET(テストデータ!CP3,370,0):OFFSET(テストデータ!CT3,370,0))","v":0}]
[null,null,null,null,null,null,null,null,null,null,null,null,null,{"$f":"SUM(OFFSET(テストデータ!$E3,371,9*成績表1!$B$4-9):OFFSET(テストデータ!$G3,371,9*成績表1!$B$4-9))","v":0},{"$f":"SUM(OFFSET(テストデータ!$E3,371,9*成績表1!$B$4-9):OFFSET(テストデータ!I3,371,9*成績表1!$B$4-9))","v":0},{"$f":"SUM(OFFSET(テストデータ!E3,371,0):OFFSET(テストデータ!G3,371,0))","v":0},{"$f":"SUM(OFFSET(テストデータ!E3,371,0):OFFSET(テストデータ!I3,371,0))","v":0},{"$f":"SUM(OFFSET(テストデータ!N3,371,0):OFFSET(テストデータ!P3,371,0))","v":0},{"$f":"SUM(OFFSET(テストデータ!N3,371,0):OFFSET(テストデータ!R3,371,0))","v":0},{"$f":"SUM(OFFSET(テストデータ!W3,371,0):OFFSET(テストデータ!Y3,371,0))","v":0},{"$f":"SUM(OFFSET(テストデータ!W3,371,0):OFFSET(テストデータ!AA3,371,0))","v":0},{"$f":"SUM(OFFSET(テストデータ!AF3,371,0):OFFSET(テストデータ!AH3,371,0))","v":0},{"$f":"SUM(OFFSET(テストデータ!AF3,371,0):OFFSET(テストデータ!AJ3,371,0))","v":0},{"$f":"SUM(OFFSET(テストデータ!AO3,371,0):OFFSET(テストデータ!AQ3,371,0))","v":0},{"$f":"SUM(OFFSET(テストデータ!AO3,371,0):OFFSET(テストデータ!AS3,371,0))","v":0},{"$f":"SUM(OFFSET(テストデータ!AX3,371,0):OFFSET(テストデータ!AZ3,371,0))","v":0},{"$f":"SUM(OFFSET(テストデータ!AX3,371,0):OFFSET(テストデータ!BB3,371,0))","v":0},{"$f":"SUM(OFFSET(テストデータ!BG3,371,0):OFFSET(テストデータ!BI3,371,0))","v":0},{"$f":"SUM(OFFSET(テストデータ!BG3,371,0):OFFSET(テストデータ!BK3,371,0))","v":0},{"$f":"SUM(OFFSET(テストデータ!BL3,371,0):OFFSET(テストデータ!BN3,371,0))","v":0},{"$f":"SUM(OFFSET(テストデータ!BL3,371,0):OFFSET(テストデータ!BP3,371,0))","v":0},{"$f":"SUM(OFFSET(テストデータ!BQ3,371,0):OFFSET(テストデータ!BS3,371,0))","v":0},{"$f":"SUM(OFFSET(テストデータ!BQ3,371,0):OFFSET(テストデータ!BU3,371,0))","v":0},{"$f":"SUM(OFFSET(テストデータ!BV3,371,0):OFFSET(テストデータ!BX3,371,0))","v":0},{"$f":"SUM(OFFSET(テストデータ!BV3,371,0):OFFSET(テストデータ!BZ3,371,0))","v":0},{"$f":"SUM(OFFSET(テストデータ!CA3,371,0):OFFSET(テストデータ!CC3,371,0))","v":0},{"$f":"SUM(OFFSET(テストデータ!CA3,371,0):OFFSET(テストデータ!CE3,371,0))","v":0},{"$f":"SUM(OFFSET(テストデータ!CF3,371,0):OFFSET(テストデータ!CH3,371,0))","v":0},{"$f":"SUM(OFFSET(テストデータ!CF3,371,0):OFFSET(テストデータ!CJ3,371,0))","v":0},{"$f":"SUM(OFFSET(テストデータ!CK3,371,0):OFFSET(テストデータ!CM3,371,0))","v":0},{"$f":"SUM(OFFSET(テストデータ!CK3,371,0):OFFSET(テストデータ!CO3,371,0))","v":0},{"$f":"SUM(OFFSET(テストデータ!CP3,371,0):OFFSET(テストデータ!CR3,371,0))","v":0},{"$f":"SUM(OFFSET(テストデータ!CP3,371,0):OFFSET(テストデータ!CT3,371,0))","v":0}]
[null,null,null,null,null,null,null,null,null,null,null,null,null,{"$f":"SUM(OFFSET(テストデータ!$E3,372,9*成績表1!$B$4-9):OFFSET(テストデータ!$G3,372,9*成績表1!$B$4-9))","v":0},{"$f":"SUM(OFFSET(テストデータ!$E3,372,9*成績表1!$B$4-9):OFFSET(テストデータ!I3,372,9*成績表1!$B$4-9))","v":0},{"$f":"SUM(OFFSET(テストデータ!E3,372,0):OFFSET(テストデータ!G3,372,0))","v":0},{"$f":"SUM(OFFSET(テストデータ!E3,372,0):OFFSET(テストデータ!I3,372,0))","v":0},{"$f":"SUM(OFFSET(テストデータ!N3,372,0):OFFSET(テストデータ!P3,372,0))","v":0},{"$f":"SUM(OFFSET(テストデータ!N3,372,0):OFFSET(テストデータ!R3,372,0))","v":0},{"$f":"SUM(OFFSET(テストデータ!W3,372,0):OFFSET(テストデータ!Y3,372,0))","v":0},{"$f":"SUM(OFFSET(テストデータ!W3,372,0):OFFSET(テストデータ!AA3,372,0))","v":0},{"$f":"SUM(OFFSET(テストデータ!AF3,372,0):OFFSET(テストデータ!AH3,372,0))","v":0},{"$f":"SUM(OFFSET(テストデータ!AF3,372,0):OFFSET(テストデータ!AJ3,372,0))","v":0},{"$f":"SUM(OFFSET(テストデータ!AO3,372,0):OFFSET(テストデータ!AQ3,372,0))","v":0},{"$f":"SUM(OFFSET(テストデータ!AO3,372,0):OFFSET(テストデータ!AS3,372,0))","v":0},{"$f":"SUM(OFFSET(テストデータ!AX3,372,0):OFFSET(テストデータ!AZ3,372,0))","v":0},{"$f":"SUM(OFFSET(テストデータ!AX3,372,0):OFFSET(テストデータ!BB3,372,0))","v":0},{"$f":"SUM(OFFSET(テストデータ!BG3,372,0):OFFSET(テストデータ!BI3,372,0))","v":0},{"$f":"SUM(OFFSET(テストデータ!BG3,372,0):OFFSET(テストデータ!BK3,372,0))","v":0},{"$f":"SUM(OFFSET(テストデータ!BL3,372,0):OFFSET(テストデータ!BN3,372,0))","v":0},{"$f":"SUM(OFFSET(テストデータ!BL3,372,0):OFFSET(テストデータ!BP3,372,0))","v":0},{"$f":"SUM(OFFSET(テストデータ!BQ3,372,0):OFFSET(テストデータ!BS3,372,0))","v":0},{"$f":"SUM(OFFSET(テストデータ!BQ3,372,0):OFFSET(テストデータ!BU3,372,0))","v":0},{"$f":"SUM(OFFSET(テストデータ!BV3,372,0):OFFSET(テストデータ!BX3,372,0))","v":0},{"$f":"SUM(OFFSET(テストデータ!BV3,372,0):OFFSET(テストデータ!BZ3,372,0))","v":0},{"$f":"SUM(OFFSET(テストデータ!CA3,372,0):OFFSET(テストデータ!CC3,372,0))","v":0},{"$f":"SUM(OFFSET(テストデータ!CA3,372,0):OFFSET(テストデータ!CE3,372,0))","v":0},{"$f":"SUM(OFFSET(テストデータ!CF3,372,0):OFFSET(テストデータ!CH3,372,0))","v":0},{"$f":"SUM(OFFSET(テストデータ!CF3,372,0):OFFSET(テストデータ!CJ3,372,0))","v":0},{"$f":"SUM(OFFSET(テストデータ!CK3,372,0):OFFSET(テストデータ!CM3,372,0))","v":0},{"$f":"SUM(OFFSET(テストデータ!CK3,372,0):OFFSET(テストデータ!CO3,372,0))","v":0},{"$f":"SUM(OFFSET(テストデータ!CP3,372,0):OFFSET(テストデータ!CR3,372,0))","v":0},{"$f":"SUM(OFFSET(テストデータ!CP3,372,0):OFFSET(テストデータ!CT3,372,0))","v":0}]
[null,null,null,null,null,null,null,null,null,null,null,null,null,{"$f":"SUM(OFFSET(テストデータ!$E3,373,9*成績表1!$B$4-9):OFFSET(テストデータ!$G3,373,9*成績表1!$B$4-9))","v":0},{"$f":"SUM(OFFSET(テストデータ!$E3,373,9*成績表1!$B$4-9):OFFSET(テストデータ!I3,373,9*成績表1!$B$4-9))","v":0},{"$f":"SUM(OFFSET(テストデータ!E3,373,0):OFFSET(テストデータ!G3,373,0))","v":0},{"$f":"SUM(OFFSET(テストデータ!E3,373,0):OFFSET(テストデータ!I3,373,0))","v":0},{"$f":"SUM(OFFSET(テストデータ!N3,373,0):OFFSET(テストデータ!P3,373,0))","v":0},{"$f":"SUM(OFFSET(テストデータ!N3,373,0):OFFSET(テストデータ!R3,373,0))","v":0},{"$f":"SUM(OFFSET(テストデータ!W3,373,0):OFFSET(テストデータ!Y3,373,0))","v":0},{"$f":"SUM(OFFSET(テストデータ!W3,373,0):OFFSET(テストデータ!AA3,373,0))","v":0},{"$f":"SUM(OFFSET(テストデータ!AF3,373,0):OFFSET(テストデータ!AH3,373,0))","v":0},{"$f":"SUM(OFFSET(テストデータ!AF3,373,0):OFFSET(テストデータ!AJ3,373,0))","v":0},{"$f":"SUM(OFFSET(テストデータ!AO3,373,0):OFFSET(テストデータ!AQ3,373,0))","v":0},{"$f":"SUM(OFFSET(テストデータ!AO3,373,0):OFFSET(テストデータ!AS3,373,0))","v":0},{"$f":"SUM(OFFSET(テストデータ!AX3,373,0):OFFSET(テストデータ!AZ3,373,0))","v":0},{"$f":"SUM(OFFSET(テストデータ!AX3,373,0):OFFSET(テストデータ!BB3,373,0))","v":0},{"$f":"SUM(OFFSET(テストデータ!BG3,373,0):OFFSET(テストデータ!BI3,373,0))","v":0},{"$f":"SUM(OFFSET(テストデータ!BG3,373,0):OFFSET(テストデータ!BK3,373,0))","v":0},{"$f":"SUM(OFFSET(テストデータ!BL3,373,0):OFFSET(テストデータ!BN3,373,0))","v":0},{"$f":"SUM(OFFSET(テストデータ!BL3,373,0):OFFSET(テストデータ!BP3,373,0))","v":0},{"$f":"SUM(OFFSET(テストデータ!BQ3,373,0):OFFSET(テストデータ!BS3,373,0))","v":0},{"$f":"SUM(OFFSET(テストデータ!BQ3,373,0):OFFSET(テストデータ!BU3,373,0))","v":0},{"$f":"SUM(OFFSET(テストデータ!BV3,373,0):OFFSET(テストデータ!BX3,373,0))","v":0},{"$f":"SUM(OFFSET(テストデータ!BV3,373,0):OFFSET(テストデータ!BZ3,373,0))","v":0},{"$f":"SUM(OFFSET(テストデータ!CA3,373,0):OFFSET(テストデータ!CC3,373,0))","v":0},{"$f":"SUM(OFFSET(テストデータ!CA3,373,0):OFFSET(テストデータ!CE3,373,0))","v":0},{"$f":"SUM(OFFSET(テストデータ!CF3,373,0):OFFSET(テストデータ!CH3,373,0))","v":0},{"$f":"SUM(OFFSET(テストデータ!CF3,373,0):OFFSET(テストデータ!CJ3,373,0))","v":0},{"$f":"SUM(OFFSET(テストデータ!CK3,373,0):OFFSET(テストデータ!CM3,373,0))","v":0},{"$f":"SUM(OFFSET(テストデータ!CK3,373,0):OFFSET(テストデータ!CO3,373,0))","v":0},{"$f":"SUM(OFFSET(テストデータ!CP3,373,0):OFFSET(テストデータ!CR3,373,0))","v":0},{"$f":"SUM(OFFSET(テストデータ!CP3,373,0):OFFSET(テストデータ!CT3,373,0))","v":0}]
[null,null,null,null,null,null,null,null,null,null,null,null,null,{"$f":"SUM(OFFSET(テストデータ!$E3,374,9*成績表1!$B$4-9):OFFSET(テストデータ!$G3,374,9*成績表1!$B$4-9))","v":0},{"$f":"SUM(OFFSET(テストデータ!$E3,374,9*成績表1!$B$4-9):OFFSET(テストデータ!I3,374,9*成績表1!$B$4-9))","v":0},{"$f":"SUM(OFFSET(テストデータ!E3,374,0):OFFSET(テストデータ!G3,374,0))","v":0},{"$f":"SUM(OFFSET(テストデータ!E3,374,0):OFFSET(テストデータ!I3,374,0))","v":0},{"$f":"SUM(OFFSET(テストデータ!N3,374,0):OFFSET(テストデータ!P3,374,0))","v":0},{"$f":"SUM(OFFSET(テストデータ!N3,374,0):OFFSET(テストデータ!R3,374,0))","v":0},{"$f":"SUM(OFFSET(テストデータ!W3,374,0):OFFSET(テストデータ!Y3,374,0))","v":0},{"$f":"SUM(OFFSET(テストデータ!W3,374,0):OFFSET(テストデータ!AA3,374,0))","v":0},{"$f":"SUM(OFFSET(テストデータ!AF3,374,0):OFFSET(テストデータ!AH3,374,0))","v":0},{"$f":"SUM(OFFSET(テストデータ!AF3,374,0):OFFSET(テストデータ!AJ3,374,0))","v":0},{"$f":"SUM(OFFSET(テストデータ!AO3,374,0):OFFSET(テストデータ!AQ3,374,0))","v":0},{"$f":"SUM(OFFSET(テストデータ!AO3,374,0):OFFSET(テストデータ!AS3,374,0))","v":0},{"$f":"SUM(OFFSET(テストデータ!AX3,374,0):OFFSET(テストデータ!AZ3,374,0))","v":0},{"$f":"SUM(OFFSET(テストデータ!AX3,374,0):OFFSET(テストデータ!BB3,374,0))","v":0},{"$f":"SUM(OFFSET(テストデータ!BG3,374,0):OFFSET(テストデータ!BI3,374,0))","v":0},{"$f":"SUM(OFFSET(テストデータ!BG3,374,0):OFFSET(テストデータ!BK3,374,0))","v":0},{"$f":"SUM(OFFSET(テストデータ!BL3,374,0):OFFSET(テストデータ!BN3,374,0))","v":0},{"$f":"SUM(OFFSET(テストデータ!BL3,374,0):OFFSET(テストデータ!BP3,374,0))","v":0},{"$f":"SUM(OFFSET(テストデータ!BQ3,374,0):OFFSET(テストデータ!BS3,374,0))","v":0},{"$f":"SUM(OFFSET(テストデータ!BQ3,374,0):OFFSET(テストデータ!BU3,374,0))","v":0},{"$f":"SUM(OFFSET(テストデータ!BV3,374,0):OFFSET(テストデータ!BX3,374,0))","v":0},{"$f":"SUM(OFFSET(テストデータ!BV3,374,0):OFFSET(テストデータ!BZ3,374,0))","v":0},{"$f":"SUM(OFFSET(テストデータ!CA3,374,0):OFFSET(テストデータ!CC3,374,0))","v":0},{"$f":"SUM(OFFSET(テストデータ!CA3,374,0):OFFSET(テストデータ!CE3,374,0))","v":0},{"$f":"SUM(OFFSET(テストデータ!CF3,374,0):OFFSET(テストデータ!CH3,374,0))","v":0},{"$f":"SUM(OFFSET(テストデータ!CF3,374,0):OFFSET(テストデータ!CJ3,374,0))","v":0},{"$f":"SUM(OFFSET(テストデータ!CK3,374,0):OFFSET(テストデータ!CM3,374,0))","v":0},{"$f":"SUM(OFFSET(テストデータ!CK3,374,0):OFFSET(テストデータ!CO3,374,0))","v":0},{"$f":"SUM(OFFSET(テストデータ!CP3,374,0):OFFSET(テストデータ!CR3,374,0))","v":0},{"$f":"SUM(OFFSET(テストデータ!CP3,374,0):OFFSET(テストデータ!CT3,374,0))","v":0}]
[null,null,null,null,null,null,null,null,null,null,null,null,null,{"$f":"SUM(OFFSET(テストデータ!$E3,375,9*成績表1!$B$4-9):OFFSET(テストデータ!$G3,375,9*成績表1!$B$4-9))","v":0},{"$f":"SUM(OFFSET(テストデータ!$E3,375,9*成績表1!$B$4-9):OFFSET(テストデータ!I3,375,9*成績表1!$B$4-9))","v":0},{"$f":"SUM(OFFSET(テストデータ!E3,375,0):OFFSET(テストデータ!G3,375,0))","v":0},{"$f":"SUM(OFFSET(テストデータ!E3,375,0):OFFSET(テストデータ!I3,375,0))","v":0},{"$f":"SUM(OFFSET(テストデータ!N3,375,0):OFFSET(テストデータ!P3,375,0))","v":0},{"$f":"SUM(OFFSET(テストデータ!N3,375,0):OFFSET(テストデータ!R3,375,0))","v":0},{"$f":"SUM(OFFSET(テストデータ!W3,375,0):OFFSET(テストデータ!Y3,375,0))","v":0},{"$f":"SUM(OFFSET(テストデータ!W3,375,0):OFFSET(テストデータ!AA3,375,0))","v":0},{"$f":"SUM(OFFSET(テストデータ!AF3,375,0):OFFSET(テストデータ!AH3,375,0))","v":0},{"$f":"SUM(OFFSET(テストデータ!AF3,375,0):OFFSET(テストデータ!AJ3,375,0))","v":0},{"$f":"SUM(OFFSET(テストデータ!AO3,375,0):OFFSET(テストデータ!AQ3,375,0))","v":0},{"$f":"SUM(OFFSET(テストデータ!AO3,375,0):OFFSET(テストデータ!AS3,375,0))","v":0},{"$f":"SUM(OFFSET(テストデータ!AX3,375,0):OFFSET(テストデータ!AZ3,375,0))","v":0},{"$f":"SUM(OFFSET(テストデータ!AX3,375,0):OFFSET(テストデータ!BB3,375,0))","v":0},{"$f":"SUM(OFFSET(テストデータ!BG3,375,0):OFFSET(テストデータ!BI3,375,0))","v":0},{"$f":"SUM(OFFSET(テストデータ!BG3,375,0):OFFSET(テストデータ!BK3,375,0))","v":0},{"$f":"SUM(OFFSET(テストデータ!BL3,375,0):OFFSET(テストデータ!BN3,375,0))","v":0},{"$f":"SUM(OFFSET(テストデータ!BL3,375,0):OFFSET(テストデータ!BP3,375,0))","v":0},{"$f":"SUM(OFFSET(テストデータ!BQ3,375,0):OFFSET(テストデータ!BS3,375,0))","v":0},{"$f":"SUM(OFFSET(テストデータ!BQ3,375,0):OFFSET(テストデータ!BU3,375,0))","v":0},{"$f":"SUM(OFFSET(テストデータ!BV3,375,0):OFFSET(テストデータ!BX3,375,0))","v":0},{"$f":"SUM(OFFSET(テストデータ!BV3,375,0):OFFSET(テストデータ!BZ3,375,0))","v":0},{"$f":"SUM(OFFSET(テストデータ!CA3,375,0):OFFSET(テストデータ!CC3,375,0))","v":0},{"$f":"SUM(OFFSET(テストデータ!CA3,375,0):OFFSET(テストデータ!CE3,375,0))","v":0},{"$f":"SUM(OFFSET(テストデータ!CF3,375,0):OFFSET(テストデータ!CH3,375,0))","v":0},{"$f":"SUM(OFFSET(テストデータ!CF3,375,0):OFFSET(テストデータ!CJ3,375,0))","v":0},{"$f":"SUM(OFFSET(テストデータ!CK3,375,0):OFFSET(テストデータ!CM3,375,0))","v":0},{"$f":"SUM(OFFSET(テストデータ!CK3,375,0):OFFSET(テストデータ!CO3,375,0))","v":0},{"$f":"SUM(OFFSET(テストデータ!CP3,375,0):OFFSET(テストデータ!CR3,375,0))","v":0},{"$f":"SUM(OFFSET(テストデータ!CP3,375,0):OFFSET(テストデータ!CT3,375,0))","v":0}]
[null,null,null,null,null,null,null,null,null,null,null,null,null,{"$f":"SUM(OFFSET(テストデータ!$E3,376,9*成績表1!$B$4-9):OFFSET(テストデータ!$G3,376,9*成績表1!$B$4-9))","v":0},{"$f":"SUM(OFFSET(テストデータ!$E3,376,9*成績表1!$B$4-9):OFFSET(テストデータ!I3,376,9*成績表1!$B$4-9))","v":0},{"$f":"SUM(OFFSET(テストデータ!E3,376,0):OFFSET(テストデータ!G3,376,0))","v":0},{"$f":"SUM(OFFSET(テストデータ!E3,376,0):OFFSET(テストデータ!I3,376,0))","v":0},{"$f":"SUM(OFFSET(テストデータ!N3,376,0):OFFSET(テストデータ!P3,376,0))","v":0},{"$f":"SUM(OFFSET(テストデータ!N3,376,0):OFFSET(テストデータ!R3,376,0))","v":0},{"$f":"SUM(OFFSET(テストデータ!W3,376,0):OFFSET(テストデータ!Y3,376,0))","v":0},{"$f":"SUM(OFFSET(テストデータ!W3,376,0):OFFSET(テストデータ!AA3,376,0))","v":0},{"$f":"SUM(OFFSET(テストデータ!AF3,376,0):OFFSET(テストデータ!AH3,376,0))","v":0},{"$f":"SUM(OFFSET(テストデータ!AF3,376,0):OFFSET(テストデータ!AJ3,376,0))","v":0},{"$f":"SUM(OFFSET(テストデータ!AO3,376,0):OFFSET(テストデータ!AQ3,376,0))","v":0},{"$f":"SUM(OFFSET(テストデータ!AO3,376,0):OFFSET(テストデータ!AS3,376,0))","v":0},{"$f":"SUM(OFFSET(テストデータ!AX3,376,0):OFFSET(テストデータ!AZ3,376,0))","v":0},{"$f":"SUM(OFFSET(テストデータ!AX3,376,0):OFFSET(テストデータ!BB3,376,0))","v":0},{"$f":"SUM(OFFSET(テストデータ!BG3,376,0):OFFSET(テストデータ!BI3,376,0))","v":0},{"$f":"SUM(OFFSET(テストデータ!BG3,376,0):OFFSET(テストデータ!BK3,376,0))","v":0},{"$f":"SUM(OFFSET(テストデータ!BL3,376,0):OFFSET(テストデータ!BN3,376,0))","v":0},{"$f":"SUM(OFFSET(テストデータ!BL3,376,0):OFFSET(テストデータ!BP3,376,0))","v":0},{"$f":"SUM(OFFSET(テストデータ!BQ3,376,0):OFFSET(テストデータ!BS3,376,0))","v":0},{"$f":"SUM(OFFSET(テストデータ!BQ3,376,0):OFFSET(テストデータ!BU3,376,0))","v":0},{"$f":"SUM(OFFSET(テストデータ!BV3,376,0):OFFSET(テストデータ!BX3,376,0))","v":0},{"$f":"SUM(OFFSET(テストデータ!BV3,376,0):OFFSET(テストデータ!BZ3,376,0))","v":0},{"$f":"SUM(OFFSET(テストデータ!CA3,376,0):OFFSET(テストデータ!CC3,376,0))","v":0},{"$f":"SUM(OFFSET(テストデータ!CA3,376,0):OFFSET(テストデータ!CE3,376,0))","v":0},{"$f":"SUM(OFFSET(テストデータ!CF3,376,0):OFFSET(テストデータ!CH3,376,0))","v":0},{"$f":"SUM(OFFSET(テストデータ!CF3,376,0):OFFSET(テストデータ!CJ3,376,0))","v":0},{"$f":"SUM(OFFSET(テストデータ!CK3,376,0):OFFSET(テストデータ!CM3,376,0))","v":0},{"$f":"SUM(OFFSET(テストデータ!CK3,376,0):OFFSET(テストデータ!CO3,376,0))","v":0},{"$f":"SUM(OFFSET(テストデータ!CP3,376,0):OFFSET(テストデータ!CR3,376,0))","v":0},{"$f":"SUM(OFFSET(テストデータ!CP3,376,0):OFFSET(テストデータ!CT3,376,0))","v":0}]
[null,null,null,null,null,null,null,null,null,null,null,null,null,{"$f":"SUM(OFFSET(テストデータ!$E3,377,9*成績表1!$B$4-9):OFFSET(テストデータ!$G3,377,9*成績表1!$B$4-9))","v":0},{"$f":"SUM(OFFSET(テストデータ!$E3,377,9*成績表1!$B$4-9):OFFSET(テストデータ!I3,377,9*成績表1!$B$4-9))","v":0},{"$f":"SUM(OFFSET(テストデータ!E3,377,0):OFFSET(テストデータ!G3,377,0))","v":0},{"$f":"SUM(OFFSET(テストデータ!E3,377,0):OFFSET(テストデータ!I3,377,0))","v":0},{"$f":"SUM(OFFSET(テストデータ!N3,377,0):OFFSET(テストデータ!P3,377,0))","v":0},{"$f":"SUM(OFFSET(テストデータ!N3,377,0):OFFSET(テストデータ!R3,377,0))","v":0},{"$f":"SUM(OFFSET(テストデータ!W3,377,0):OFFSET(テストデータ!Y3,377,0))","v":0},{"$f":"SUM(OFFSET(テストデータ!W3,377,0):OFFSET(テストデータ!AA3,377,0))","v":0},{"$f":"SUM(OFFSET(テストデータ!AF3,377,0):OFFSET(テストデータ!AH3,377,0))","v":0},{"$f":"SUM(OFFSET(テストデータ!AF3,377,0):OFFSET(テストデータ!AJ3,377,0))","v":0},{"$f":"SUM(OFFSET(テストデータ!AO3,377,0):OFFSET(テストデータ!AQ3,377,0))","v":0},{"$f":"SUM(OFFSET(テストデータ!AO3,377,0):OFFSET(テストデータ!AS3,377,0))","v":0},{"$f":"SUM(OFFSET(テストデータ!AX3,377,0):OFFSET(テストデータ!AZ3,377,0))","v":0},{"$f":"SUM(OFFSET(テストデータ!AX3,377,0):OFFSET(テストデータ!BB3,377,0))","v":0},{"$f":"SUM(OFFSET(テストデータ!BG3,377,0):OFFSET(テストデータ!BI3,377,0))","v":0},{"$f":"SUM(OFFSET(テストデータ!BG3,377,0):OFFSET(テストデータ!BK3,377,0))","v":0},{"$f":"SUM(OFFSET(テストデータ!BL3,377,0):OFFSET(テストデータ!BN3,377,0))","v":0},{"$f":"SUM(OFFSET(テストデータ!BL3,377,0):OFFSET(テストデータ!BP3,377,0))","v":0},{"$f":"SUM(OFFSET(テストデータ!BQ3,377,0):OFFSET(テストデータ!BS3,377,0))","v":0},{"$f":"SUM(OFFSET(テストデータ!BQ3,377,0):OFFSET(テストデータ!BU3,377,0))","v":0},{"$f":"SUM(OFFSET(テストデータ!BV3,377,0):OFFSET(テストデータ!BX3,377,0))","v":0},{"$f":"SUM(OFFSET(テストデータ!BV3,377,0):OFFSET(テストデータ!BZ3,377,0))","v":0},{"$f":"SUM(OFFSET(テストデータ!CA3,377,0):OFFSET(テストデータ!CC3,377,0))","v":0},{"$f":"SUM(OFFSET(テストデータ!CA3,377,0):OFFSET(テストデータ!CE3,377,0))","v":0},{"$f":"SUM(OFFSET(テストデータ!CF3,377,0):OFFSET(テストデータ!CH3,377,0))","v":0},{"$f":"SUM(OFFSET(テストデータ!CF3,377,0):OFFSET(テストデータ!CJ3,377,0))","v":0},{"$f":"SUM(OFFSET(テストデータ!CK3,377,0):OFFSET(テストデータ!CM3,377,0))","v":0},{"$f":"SUM(OFFSET(テストデータ!CK3,377,0):OFFSET(テストデータ!CO3,377,0))","v":0},{"$f":"SUM(OFFSET(テストデータ!CP3,377,0):OFFSET(テストデータ!CR3,377,0))","v":0},{"$f":"SUM(OFFSET(テストデータ!CP3,377,0):OFFSET(テストデータ!CT3,377,0))","v":0}]
[null,null,null,null,null,null,null,null,null,null,null,null,null,{"$f":"SUM(OFFSET(テストデータ!$E3,378,9*成績表1!$B$4-9):OFFSET(テストデータ!$G3,378,9*成績表1!$B$4-9))","v":0},{"$f":"SUM(OFFSET(テストデータ!$E3,378,9*成績表1!$B$4-9):OFFSET(テストデータ!I3,378,9*成績表1!$B$4-9))","v":0},{"$f":"SUM(OFFSET(テストデータ!E3,378,0):OFFSET(テストデータ!G3,378,0))","v":0},{"$f":"SUM(OFFSET(テストデータ!E3,378,0):OFFSET(テストデータ!I3,378,0))","v":0},{"$f":"SUM(OFFSET(テストデータ!N3,378,0):OFFSET(テストデータ!P3,378,0))","v":0},{"$f":"SUM(OFFSET(テストデータ!N3,378,0):OFFSET(テストデータ!R3,378,0))","v":0},{"$f":"SUM(OFFSET(テストデータ!W3,378,0):OFFSET(テストデータ!Y3,378,0))","v":0},{"$f":"SUM(OFFSET(テストデータ!W3,378,0):OFFSET(テストデータ!AA3,378,0))","v":0},{"$f":"SUM(OFFSET(テストデータ!AF3,378,0):OFFSET(テストデータ!AH3,378,0))","v":0},{"$f":"SUM(OFFSET(テストデータ!AF3,378,0):OFFSET(テストデータ!AJ3,378,0))","v":0},{"$f":"SUM(OFFSET(テストデータ!AO3,378,0):OFFSET(テストデータ!AQ3,378,0))","v":0},{"$f":"SUM(OFFSET(テストデータ!AO3,378,0):OFFSET(テストデータ!AS3,378,0))","v":0},{"$f":"SUM(OFFSET(テストデータ!AX3,378,0):OFFSET(テストデータ!AZ3,378,0))","v":0},{"$f":"SUM(OFFSET(テストデータ!AX3,378,0):OFFSET(テストデータ!BB3,378,0))","v":0},{"$f":"SUM(OFFSET(テストデータ!BG3,378,0):OFFSET(テストデータ!BI3,378,0))","v":0},{"$f":"SUM(OFFSET(テストデータ!BG3,378,0):OFFSET(テストデータ!BK3,378,0))","v":0},{"$f":"SUM(OFFSET(テストデータ!BL3,378,0):OFFSET(テストデータ!BN3,378,0))","v":0},{"$f":"SUM(OFFSET(テストデータ!BL3,378,0):OFFSET(テストデータ!BP3,378,0))","v":0},{"$f":"SUM(OFFSET(テストデータ!BQ3,378,0):OFFSET(テストデータ!BS3,378,0))","v":0},{"$f":"SUM(OFFSET(テストデータ!BQ3,378,0):OFFSET(テストデータ!BU3,378,0))","v":0},{"$f":"SUM(OFFSET(テストデータ!BV3,378,0):OFFSET(テストデータ!BX3,378,0))","v":0},{"$f":"SUM(OFFSET(テストデータ!BV3,378,0):OFFSET(テストデータ!BZ3,378,0))","v":0},{"$f":"SUM(OFFSET(テストデータ!CA3,378,0):OFFSET(テストデータ!CC3,378,0))","v":0},{"$f":"SUM(OFFSET(テストデータ!CA3,378,0):OFFSET(テストデータ!CE3,378,0))","v":0},{"$f":"SUM(OFFSET(テストデータ!CF3,378,0):OFFSET(テストデータ!CH3,378,0))","v":0},{"$f":"SUM(OFFSET(テストデータ!CF3,378,0):OFFSET(テストデータ!CJ3,378,0))","v":0},{"$f":"SUM(OFFSET(テストデータ!CK3,378,0):OFFSET(テストデータ!CM3,378,0))","v":0},{"$f":"SUM(OFFSET(テストデータ!CK3,378,0):OFFSET(テストデータ!CO3,378,0))","v":0},{"$f":"SUM(OFFSET(テストデータ!CP3,378,0):OFFSET(テストデータ!CR3,378,0))","v":0},{"$f":"SUM(OFFSET(テストデータ!CP3,378,0):OFFSET(テストデータ!CT3,378,0))","v":0}]
[null,null,null,null,null,null,null,null,null,null,null,null,null,{"$f":"SUM(OFFSET(テストデータ!$E3,379,9*成績表1!$B$4-9):OFFSET(テストデータ!$G3,379,9*成績表1!$B$4-9))","v":0},{"$f":"SUM(OFFSET(テストデータ!$E3,379,9*成績表1!$B$4-9):OFFSET(テストデータ!I3,379,9*成績表1!$B$4-9))","v":0},{"$f":"SUM(OFFSET(テストデータ!E3,379,0):OFFSET(テストデータ!G3,379,0))","v":0},{"$f":"SUM(OFFSET(テストデータ!E3,379,0):OFFSET(テストデータ!I3,379,0))","v":0},{"$f":"SUM(OFFSET(テストデータ!N3,379,0):OFFSET(テストデータ!P3,379,0))","v":0},{"$f":"SUM(OFFSET(テストデータ!N3,379,0):OFFSET(テストデータ!R3,379,0))","v":0},{"$f":"SUM(OFFSET(テストデータ!W3,379,0):OFFSET(テストデータ!Y3,379,0))","v":0},{"$f":"SUM(OFFSET(テストデータ!W3,379,0):OFFSET(テストデータ!AA3,379,0))","v":0},{"$f":"SUM(OFFSET(テストデータ!AF3,379,0):OFFSET(テストデータ!AH3,379,0))","v":0},{"$f":"SUM(OFFSET(テストデータ!AF3,379,0):OFFSET(テストデータ!AJ3,379,0))","v":0},{"$f":"SUM(OFFSET(テストデータ!AO3,379,0):OFFSET(テストデータ!AQ3,379,0))","v":0},{"$f":"SUM(OFFSET(テストデータ!AO3,379,0):OFFSET(テストデータ!AS3,379,0))","v":0},{"$f":"SUM(OFFSET(テストデータ!AX3,379,0):OFFSET(テストデータ!AZ3,379,0))","v":0},{"$f":"SUM(OFFSET(テストデータ!AX3,379,0):OFFSET(テストデータ!BB3,379,0))","v":0},{"$f":"SUM(OFFSET(テストデータ!BG3,379,0):OFFSET(テストデータ!BI3,379,0))","v":0},{"$f":"SUM(OFFSET(テストデータ!BG3,379,0):OFFSET(テストデータ!BK3,379,0))","v":0},{"$f":"SUM(OFFSET(テストデータ!BL3,379,0):OFFSET(テストデータ!BN3,379,0))","v":0},{"$f":"SUM(OFFSET(テストデータ!BL3,379,0):OFFSET(テストデータ!BP3,379,0))","v":0},{"$f":"SUM(OFFSET(テストデータ!BQ3,379,0):OFFSET(テストデータ!BS3,379,0))","v":0},{"$f":"SUM(OFFSET(テストデータ!BQ3,379,0):OFFSET(テストデータ!BU3,379,0))","v":0},{"$f":"SUM(OFFSET(テストデータ!BV3,379,0):OFFSET(テストデータ!BX3,379,0))","v":0},{"$f":"SUM(OFFSET(テストデータ!BV3,379,0):OFFSET(テストデータ!BZ3,379,0))","v":0},{"$f":"SUM(OFFSET(テストデータ!CA3,379,0):OFFSET(テストデータ!CC3,379,0))","v":0},{"$f":"SUM(OFFSET(テストデータ!CA3,379,0):OFFSET(テストデータ!CE3,379,0))","v":0},{"$f":"SUM(OFFSET(テストデータ!CF3,379,0):OFFSET(テストデータ!CH3,379,0))","v":0},{"$f":"SUM(OFFSET(テストデータ!CF3,379,0):OFFSET(テストデータ!CJ3,379,0))","v":0},{"$f":"SUM(OFFSET(テストデータ!CK3,379,0):OFFSET(テストデータ!CM3,379,0))","v":0},{"$f":"SUM(OFFSET(テストデータ!CK3,379,0):OFFSET(テストデータ!CO3,379,0))","v":0},{"$f":"SUM(OFFSET(テストデータ!CP3,379,0):OFFSET(テストデータ!CR3,379,0))","v":0},{"$f":"SUM(OFFSET(テストデータ!CP3,379,0):OFFSET(テストデータ!CT3,379,0))","v":0}]
[null,null,null,null,null,null,null,null,null,null,null,null,null,{"$f":"SUM(OFFSET(テストデータ!$E3,380,9*成績表1!$B$4-9):OFFSET(テストデータ!$G3,380,9*成績表1!$B$4-9))","v":0},{"$f":"SUM(OFFSET(テストデータ!$E3,380,9*成績表1!$B$4-9):OFFSET(テストデータ!I3,380,9*成績表1!$B$4-9))","v":0},{"$f":"SUM(OFFSET(テストデータ!E3,380,0):OFFSET(テストデータ!G3,380,0))","v":0},{"$f":"SUM(OFFSET(テストデータ!E3,380,0):OFFSET(テストデータ!I3,380,0))","v":0},{"$f":"SUM(OFFSET(テストデータ!N3,380,0):OFFSET(テストデータ!P3,380,0))","v":0},{"$f":"SUM(OFFSET(テストデータ!N3,380,0):OFFSET(テストデータ!R3,380,0))","v":0},{"$f":"SUM(OFFSET(テストデータ!W3,380,0):OFFSET(テストデータ!Y3,380,0))","v":0},{"$f":"SUM(OFFSET(テストデータ!W3,380,0):OFFSET(テストデータ!AA3,380,0))","v":0},{"$f":"SUM(OFFSET(テストデータ!AF3,380,0):OFFSET(テストデータ!AH3,380,0))","v":0},{"$f":"SUM(OFFSET(テストデータ!AF3,380,0):OFFSET(テストデータ!AJ3,380,0))","v":0},{"$f":"SUM(OFFSET(テストデータ!AO3,380,0):OFFSET(テストデータ!AQ3,380,0))","v":0},{"$f":"SUM(OFFSET(テストデータ!AO3,380,0):OFFSET(テストデータ!AS3,380,0))","v":0},{"$f":"SUM(OFFSET(テストデータ!AX3,380,0):OFFSET(テストデータ!AZ3,380,0))","v":0},{"$f":"SUM(OFFSET(テストデータ!AX3,380,0):OFFSET(テストデータ!BB3,380,0))","v":0},{"$f":"SUM(OFFSET(テストデータ!BG3,380,0):OFFSET(テストデータ!BI3,380,0))","v":0},{"$f":"SUM(OFFSET(テストデータ!BG3,380,0):OFFSET(テストデータ!BK3,380,0))","v":0},{"$f":"SUM(OFFSET(テストデータ!BL3,380,0):OFFSET(テストデータ!BN3,380,0))","v":0},{"$f":"SUM(OFFSET(テストデータ!BL3,380,0):OFFSET(テストデータ!BP3,380,0))","v":0},{"$f":"SUM(OFFSET(テストデータ!BQ3,380,0):OFFSET(テストデータ!BS3,380,0))","v":0},{"$f":"SUM(OFFSET(テストデータ!BQ3,380,0):OFFSET(テストデータ!BU3,380,0))","v":0},{"$f":"SUM(OFFSET(テストデータ!BV3,380,0):OFFSET(テストデータ!BX3,380,0))","v":0},{"$f":"SUM(OFFSET(テストデータ!BV3,380,0):OFFSET(テストデータ!BZ3,380,0))","v":0},{"$f":"SUM(OFFSET(テストデータ!CA3,380,0):OFFSET(テストデータ!CC3,380,0))","v":0},{"$f":"SUM(OFFSET(テストデータ!CA3,380,0):OFFSET(テストデータ!CE3,380,0))","v":0},{"$f":"SUM(OFFSET(テストデータ!CF3,380,0):OFFSET(テストデータ!CH3,380,0))","v":0},{"$f":"SUM(OFFSET(テストデータ!CF3,380,0):OFFSET(テストデータ!CJ3,380,0))","v":0},{"$f":"SUM(OFFSET(テストデータ!CK3,380,0):OFFSET(テストデータ!CM3,380,0))","v":0},{"$f":"SUM(OFFSET(テストデータ!CK3,380,0):OFFSET(テストデータ!CO3,380,0))","v":0},{"$f":"SUM(OFFSET(テストデータ!CP3,380,0):OFFSET(テストデータ!CR3,380,0))","v":0},{"$f":"SUM(OFFSET(テストデータ!CP3,380,0):OFFSET(テストデータ!CT3,380,0))","v":0}]
[null,null,null,null,null,null,null,null,null,null,null,null,null,{"$f":"SUM(OFFSET(テストデータ!$E3,381,9*成績表1!$B$4-9):OFFSET(テストデータ!$G3,381,9*成績表1!$B$4-9))","v":0},{"$f":"SUM(OFFSET(テストデータ!$E3,381,9*成績表1!$B$4-9):OFFSET(テストデータ!I3,381,9*成績表1!$B$4-9))","v":0},{"$f":"SUM(OFFSET(テストデータ!E3,381,0):OFFSET(テストデータ!G3,381,0))","v":0},{"$f":"SUM(OFFSET(テストデータ!E3,381,0):OFFSET(テストデータ!I3,381,0))","v":0},{"$f":"SUM(OFFSET(テストデータ!N3,381,0):OFFSET(テストデータ!P3,381,0))","v":0},{"$f":"SUM(OFFSET(テストデータ!N3,381,0):OFFSET(テストデータ!R3,381,0))","v":0},{"$f":"SUM(OFFSET(テストデータ!W3,381,0):OFFSET(テストデータ!Y3,381,0))","v":0},{"$f":"SUM(OFFSET(テストデータ!W3,381,0):OFFSET(テストデータ!AA3,381,0))","v":0},{"$f":"SUM(OFFSET(テストデータ!AF3,381,0):OFFSET(テストデータ!AH3,381,0))","v":0},{"$f":"SUM(OFFSET(テストデータ!AF3,381,0):OFFSET(テストデータ!AJ3,381,0))","v":0},{"$f":"SUM(OFFSET(テストデータ!AO3,381,0):OFFSET(テストデータ!AQ3,381,0))","v":0},{"$f":"SUM(OFFSET(テストデータ!AO3,381,0):OFFSET(テストデータ!AS3,381,0))","v":0},{"$f":"SUM(OFFSET(テストデータ!AX3,381,0):OFFSET(テストデータ!AZ3,381,0))","v":0},{"$f":"SUM(OFFSET(テストデータ!AX3,381,0):OFFSET(テストデータ!BB3,381,0))","v":0},{"$f":"SUM(OFFSET(テストデータ!BG3,381,0):OFFSET(テストデータ!BI3,381,0))","v":0},{"$f":"SUM(OFFSET(テストデータ!BG3,381,0):OFFSET(テストデータ!BK3,381,0))","v":0},{"$f":"SUM(OFFSET(テストデータ!BL3,381,0):OFFSET(テストデータ!BN3,381,0))","v":0},{"$f":"SUM(OFFSET(テストデータ!BL3,381,0):OFFSET(テストデータ!BP3,381,0))","v":0},{"$f":"SUM(OFFSET(テストデータ!BQ3,381,0):OFFSET(テストデータ!BS3,381,0))","v":0},{"$f":"SUM(OFFSET(テストデータ!BQ3,381,0):OFFSET(テストデータ!BU3,381,0))","v":0},{"$f":"SUM(OFFSET(テストデータ!BV3,381,0):OFFSET(テストデータ!BX3,381,0))","v":0},{"$f":"SUM(OFFSET(テストデータ!BV3,381,0):OFFSET(テストデータ!BZ3,381,0))","v":0},{"$f":"SUM(OFFSET(テストデータ!CA3,381,0):OFFSET(テストデータ!CC3,381,0))","v":0},{"$f":"SUM(OFFSET(テストデータ!CA3,381,0):OFFSET(テストデータ!CE3,381,0))","v":0},{"$f":"SUM(OFFSET(テストデータ!CF3,381,0):OFFSET(テストデータ!CH3,381,0))","v":0},{"$f":"SUM(OFFSET(テストデータ!CF3,381,0):OFFSET(テストデータ!CJ3,381,0))","v":0},{"$f":"SUM(OFFSET(テストデータ!CK3,381,0):OFFSET(テストデータ!CM3,381,0))","v":0},{"$f":"SUM(OFFSET(テストデータ!CK3,381,0):OFFSET(テストデータ!CO3,381,0))","v":0},{"$f":"SUM(OFFSET(テストデータ!CP3,381,0):OFFSET(テストデータ!CR3,381,0))","v":0},{"$f":"SUM(OFFSET(テストデータ!CP3,381,0):OFFSET(テストデータ!CT3,381,0))","v":0}]
[null,null,null,null,null,null,null,null,null,null,null,null,null,{"$f":"SUM(OFFSET(テストデータ!$E3,382,9*成績表1!$B$4-9):OFFSET(テストデータ!$G3,382,9*成績表1!$B$4-9))","v":0},{"$f":"SUM(OFFSET(テストデータ!$E3,382,9*成績表1!$B$4-9):OFFSET(テストデータ!I3,382,9*成績表1!$B$4-9))","v":0},{"$f":"SUM(OFFSET(テストデータ!E3,382,0):OFFSET(テストデータ!G3,382,0))","v":0},{"$f":"SUM(OFFSET(テストデータ!E3,382,0):OFFSET(テストデータ!I3,382,0))","v":0},{"$f":"SUM(OFFSET(テストデータ!N3,382,0):OFFSET(テストデータ!P3,382,0))","v":0},{"$f":"SUM(OFFSET(テストデータ!N3,382,0):OFFSET(テストデータ!R3,382,0))","v":0},{"$f":"SUM(OFFSET(テストデータ!W3,382,0):OFFSET(テストデータ!Y3,382,0))","v":0},{"$f":"SUM(OFFSET(テストデータ!W3,382,0):OFFSET(テストデータ!AA3,382,0))","v":0},{"$f":"SUM(OFFSET(テストデータ!AF3,382,0):OFFSET(テストデータ!AH3,382,0))","v":0},{"$f":"SUM(OFFSET(テストデータ!AF3,382,0):OFFSET(テストデータ!AJ3,382,0))","v":0},{"$f":"SUM(OFFSET(テストデータ!AO3,382,0):OFFSET(テストデータ!AQ3,382,0))","v":0},{"$f":"SUM(OFFSET(テストデータ!AO3,382,0):OFFSET(テストデータ!AS3,382,0))","v":0},{"$f":"SUM(OFFSET(テストデータ!AX3,382,0):OFFSET(テストデータ!AZ3,382,0))","v":0},{"$f":"SUM(OFFSET(テストデータ!AX3,382,0):OFFSET(テストデータ!BB3,382,0))","v":0},{"$f":"SUM(OFFSET(テストデータ!BG3,382,0):OFFSET(テストデータ!BI3,382,0))","v":0},{"$f":"SUM(OFFSET(テストデータ!BG3,382,0):OFFSET(テストデータ!BK3,382,0))","v":0},{"$f":"SUM(OFFSET(テストデータ!BL3,382,0):OFFSET(テストデータ!BN3,382,0))","v":0},{"$f":"SUM(OFFSET(テストデータ!BL3,382,0):OFFSET(テストデータ!BP3,382,0))","v":0},{"$f":"SUM(OFFSET(テストデータ!BQ3,382,0):OFFSET(テストデータ!BS3,382,0))","v":0},{"$f":"SUM(OFFSET(テストデータ!BQ3,382,0):OFFSET(テストデータ!BU3,382,0))","v":0},{"$f":"SUM(OFFSET(テストデータ!BV3,382,0):OFFSET(テストデータ!BX3,382,0))","v":0},{"$f":"SUM(OFFSET(テストデータ!BV3,382,0):OFFSET(テストデータ!BZ3,382,0))","v":0},{"$f":"SUM(OFFSET(テストデータ!CA3,382,0):OFFSET(テストデータ!CC3,382,0))","v":0},{"$f":"SUM(OFFSET(テストデータ!CA3,382,0):OFFSET(テストデータ!CE3,382,0))","v":0},{"$f":"SUM(OFFSET(テストデータ!CF3,382,0):OFFSET(テストデータ!CH3,382,0))","v":0},{"$f":"SUM(OFFSET(テストデータ!CF3,382,0):OFFSET(テストデータ!CJ3,382,0))","v":0},{"$f":"SUM(OFFSET(テストデータ!CK3,382,0):OFFSET(テストデータ!CM3,382,0))","v":0},{"$f":"SUM(OFFSET(テストデータ!CK3,382,0):OFFSET(テストデータ!CO3,382,0))","v":0},{"$f":"SUM(OFFSET(テストデータ!CP3,382,0):OFFSET(テストデータ!CR3,382,0))","v":0},{"$f":"SUM(OFFSET(テストデータ!CP3,382,0):OFFSET(テストデータ!CT3,382,0))","v":0}]
[null,null,null,null,null,null,null,null,null,null,null,null,null,{"$f":"SUM(OFFSET(テストデータ!$E3,383,9*成績表1!$B$4-9):OFFSET(テストデータ!$G3,383,9*成績表1!$B$4-9))","v":0},{"$f":"SUM(OFFSET(テストデータ!$E3,383,9*成績表1!$B$4-9):OFFSET(テストデータ!I3,383,9*成績表1!$B$4-9))","v":0},{"$f":"SUM(OFFSET(テストデータ!E3,383,0):OFFSET(テストデータ!G3,383,0))","v":0},{"$f":"SUM(OFFSET(テストデータ!E3,383,0):OFFSET(テストデータ!I3,383,0))","v":0},{"$f":"SUM(OFFSET(テストデータ!N3,383,0):OFFSET(テストデータ!P3,383,0))","v":0},{"$f":"SUM(OFFSET(テストデータ!N3,383,0):OFFSET(テストデータ!R3,383,0))","v":0},{"$f":"SUM(OFFSET(テストデータ!W3,383,0):OFFSET(テストデータ!Y3,383,0))","v":0},{"$f":"SUM(OFFSET(テストデータ!W3,383,0):OFFSET(テストデータ!AA3,383,0))","v":0},{"$f":"SUM(OFFSET(テストデータ!AF3,383,0):OFFSET(テストデータ!AH3,383,0))","v":0},{"$f":"SUM(OFFSET(テストデータ!AF3,383,0):OFFSET(テストデータ!AJ3,383,0))","v":0},{"$f":"SUM(OFFSET(テストデータ!AO3,383,0):OFFSET(テストデータ!AQ3,383,0))","v":0},{"$f":"SUM(OFFSET(テストデータ!AO3,383,0):OFFSET(テストデータ!AS3,383,0))","v":0},{"$f":"SUM(OFFSET(テストデータ!AX3,383,0):OFFSET(テストデータ!AZ3,383,0))","v":0},{"$f":"SUM(OFFSET(テストデータ!AX3,383,0):OFFSET(テストデータ!BB3,383,0))","v":0},{"$f":"SUM(OFFSET(テストデータ!BG3,383,0):OFFSET(テストデータ!BI3,383,0))","v":0},{"$f":"SUM(OFFSET(テストデータ!BG3,383,0):OFFSET(テストデータ!BK3,383,0))","v":0},{"$f":"SUM(OFFSET(テストデータ!BL3,383,0):OFFSET(テストデータ!BN3,383,0))","v":0},{"$f":"SUM(OFFSET(テストデータ!BL3,383,0):OFFSET(テストデータ!BP3,383,0))","v":0},{"$f":"SUM(OFFSET(テストデータ!BQ3,383,0):OFFSET(テストデータ!BS3,383,0))","v":0},{"$f":"SUM(OFFSET(テストデータ!BQ3,383,0):OFFSET(テストデータ!BU3,383,0))","v":0},{"$f":"SUM(OFFSET(テストデータ!BV3,383,0):OFFSET(テストデータ!BX3,383,0))","v":0},{"$f":"SUM(OFFSET(テストデータ!BV3,383,0):OFFSET(テストデータ!BZ3,383,0))","v":0},{"$f":"SUM(OFFSET(テストデータ!CA3,383,0):OFFSET(テストデータ!CC3,383,0))","v":0},{"$f":"SUM(OFFSET(テストデータ!CA3,383,0):OFFSET(テストデータ!CE3,383,0))","v":0},{"$f":"SUM(OFFSET(テストデータ!CF3,383,0):OFFSET(テストデータ!CH3,383,0))","v":0},{"$f":"SUM(OFFSET(テストデータ!CF3,383,0):OFFSET(テストデータ!CJ3,383,0))","v":0},{"$f":"SUM(OFFSET(テストデータ!CK3,383,0):OFFSET(テストデータ!CM3,383,0))","v":0},{"$f":"SUM(OFFSET(テストデータ!CK3,383,0):OFFSET(テストデータ!CO3,383,0))","v":0},{"$f":"SUM(OFFSET(テストデータ!CP3,383,0):OFFSET(テストデータ!CR3,383,0))","v":0},{"$f":"SUM(OFFSET(テストデータ!CP3,383,0):OFFSET(テストデータ!CT3,383,0))","v":0}]
[null,null,null,null,null,null,null,null,null,null,null,null,null,{"$f":"SUM(OFFSET(テストデータ!$E3,384,9*成績表1!$B$4-9):OFFSET(テストデータ!$G3,384,9*成績表1!$B$4-9))","v":0},{"$f":"SUM(OFFSET(テストデータ!$E3,384,9*成績表1!$B$4-9):OFFSET(テストデータ!I3,384,9*成績表1!$B$4-9))","v":0},{"$f":"SUM(OFFSET(テストデータ!E3,384,0):OFFSET(テストデータ!G3,384,0))","v":0},{"$f":"SUM(OFFSET(テストデータ!E3,384,0):OFFSET(テストデータ!I3,384,0))","v":0},{"$f":"SUM(OFFSET(テストデータ!N3,384,0):OFFSET(テストデータ!P3,384,0))","v":0},{"$f":"SUM(OFFSET(テストデータ!N3,384,0):OFFSET(テストデータ!R3,384,0))","v":0},{"$f":"SUM(OFFSET(テストデータ!W3,384,0):OFFSET(テストデータ!Y3,384,0))","v":0},{"$f":"SUM(OFFSET(テストデータ!W3,384,0):OFFSET(テストデータ!AA3,384,0))","v":0},{"$f":"SUM(OFFSET(テストデータ!AF3,384,0):OFFSET(テストデータ!AH3,384,0))","v":0},{"$f":"SUM(OFFSET(テストデータ!AF3,384,0):OFFSET(テストデータ!AJ3,384,0))","v":0},{"$f":"SUM(OFFSET(テストデータ!AO3,384,0):OFFSET(テストデータ!AQ3,384,0))","v":0},{"$f":"SUM(OFFSET(テストデータ!AO3,384,0):OFFSET(テストデータ!AS3,384,0))","v":0},{"$f":"SUM(OFFSET(テストデータ!AX3,384,0):OFFSET(テストデータ!AZ3,384,0))","v":0},{"$f":"SUM(OFFSET(テストデータ!AX3,384,0):OFFSET(テストデータ!BB3,384,0))","v":0},{"$f":"SUM(OFFSET(テストデータ!BG3,384,0):OFFSET(テストデータ!BI3,384,0))","v":0},{"$f":"SUM(OFFSET(テストデータ!BG3,384,0):OFFSET(テストデータ!BK3,384,0))","v":0},{"$f":"SUM(OFFSET(テストデータ!BL3,384,0):OFFSET(テストデータ!BN3,384,0))","v":0},{"$f":"SUM(OFFSET(テストデータ!BL3,384,0):OFFSET(テストデータ!BP3,384,0))","v":0},{"$f":"SUM(OFFSET(テストデータ!BQ3,384,0):OFFSET(テストデータ!BS3,384,0))","v":0},{"$f":"SUM(OFFSET(テストデータ!BQ3,384,0):OFFSET(テストデータ!BU3,384,0))","v":0},{"$f":"SUM(OFFSET(テストデータ!BV3,384,0):OFFSET(テストデータ!BX3,384,0))","v":0},{"$f":"SUM(OFFSET(テストデータ!BV3,384,0):OFFSET(テストデータ!BZ3,384,0))","v":0},{"$f":"SUM(OFFSET(テストデータ!CA3,384,0):OFFSET(テストデータ!CC3,384,0))","v":0},{"$f":"SUM(OFFSET(テストデータ!CA3,384,0):OFFSET(テストデータ!CE3,384,0))","v":0},{"$f":"SUM(OFFSET(テストデータ!CF3,384,0):OFFSET(テストデータ!CH3,384,0))","v":0},{"$f":"SUM(OFFSET(テストデータ!CF3,384,0):OFFSET(テストデータ!CJ3,384,0))","v":0},{"$f":"SUM(OFFSET(テストデータ!CK3,384,0):OFFSET(テストデータ!CM3,384,0))","v":0},{"$f":"SUM(OFFSET(テストデータ!CK3,384,0):OFFSET(テストデータ!CO3,384,0))","v":0},{"$f":"SUM(OFFSET(テストデータ!CP3,384,0):OFFSET(テストデータ!CR3,384,0))","v":0},{"$f":"SUM(OFFSET(テストデータ!CP3,384,0):OFFSET(テストデータ!CT3,384,0))","v":0}]
[null,null,null,null,null,null,null,null,null,null,null,null,null,{"$f":"SUM(OFFSET(テストデータ!$E3,385,9*成績表1!$B$4-9):OFFSET(テストデータ!$G3,385,9*成績表1!$B$4-9))","v":0},{"$f":"SUM(OFFSET(テストデータ!$E3,385,9*成績表1!$B$4-9):OFFSET(テストデータ!I3,385,9*成績表1!$B$4-9))","v":0},{"$f":"SUM(OFFSET(テストデータ!E3,385,0):OFFSET(テストデータ!G3,385,0))","v":0},{"$f":"SUM(OFFSET(テストデータ!E3,385,0):OFFSET(テストデータ!I3,385,0))","v":0},{"$f":"SUM(OFFSET(テストデータ!N3,385,0):OFFSET(テストデータ!P3,385,0))","v":0},{"$f":"SUM(OFFSET(テストデータ!N3,385,0):OFFSET(テストデータ!R3,385,0))","v":0},{"$f":"SUM(OFFSET(テストデータ!W3,385,0):OFFSET(テストデータ!Y3,385,0))","v":0},{"$f":"SUM(OFFSET(テストデータ!W3,385,0):OFFSET(テストデータ!AA3,385,0))","v":0},{"$f":"SUM(OFFSET(テストデータ!AF3,385,0):OFFSET(テストデータ!AH3,385,0))","v":0},{"$f":"SUM(OFFSET(テストデータ!AF3,385,0):OFFSET(テストデータ!AJ3,385,0))","v":0},{"$f":"SUM(OFFSET(テストデータ!AO3,385,0):OFFSET(テストデータ!AQ3,385,0))","v":0},{"$f":"SUM(OFFSET(テストデータ!AO3,385,0):OFFSET(テストデータ!AS3,385,0))","v":0},{"$f":"SUM(OFFSET(テストデータ!AX3,385,0):OFFSET(テストデータ!AZ3,385,0))","v":0},{"$f":"SUM(OFFSET(テストデータ!AX3,385,0):OFFSET(テストデータ!BB3,385,0))","v":0},{"$f":"SUM(OFFSET(テストデータ!BG3,385,0):OFFSET(テストデータ!BI3,385,0))","v":0},{"$f":"SUM(OFFSET(テストデータ!BG3,385,0):OFFSET(テストデータ!BK3,385,0))","v":0},{"$f":"SUM(OFFSET(テストデータ!BL3,385,0):OFFSET(テストデータ!BN3,385,0))","v":0},{"$f":"SUM(OFFSET(テストデータ!BL3,385,0):OFFSET(テストデータ!BP3,385,0))","v":0},{"$f":"SUM(OFFSET(テストデータ!BQ3,385,0):OFFSET(テストデータ!BS3,385,0))","v":0},{"$f":"SUM(OFFSET(テストデータ!BQ3,385,0):OFFSET(テストデータ!BU3,385,0))","v":0},{"$f":"SUM(OFFSET(テストデータ!BV3,385,0):OFFSET(テストデータ!BX3,385,0))","v":0},{"$f":"SUM(OFFSET(テストデータ!BV3,385,0):OFFSET(テストデータ!BZ3,385,0))","v":0},{"$f":"SUM(OFFSET(テストデータ!CA3,385,0):OFFSET(テストデータ!CC3,385,0))","v":0},{"$f":"SUM(OFFSET(テストデータ!CA3,385,0):OFFSET(テストデータ!CE3,385,0))","v":0},{"$f":"SUM(OFFSET(テストデータ!CF3,385,0):OFFSET(テストデータ!CH3,385,0))","v":0},{"$f":"SUM(OFFSET(テストデータ!CF3,385,0):OFFSET(テストデータ!CJ3,385,0))","v":0},{"$f":"SUM(OFFSET(テストデータ!CK3,385,0):OFFSET(テストデータ!CM3,385,0))","v":0},{"$f":"SUM(OFFSET(テストデータ!CK3,385,0):OFFSET(テストデータ!CO3,385,0))","v":0},{"$f":"SUM(OFFSET(テストデータ!CP3,385,0):OFFSET(テストデータ!CR3,385,0))","v":0},{"$f":"SUM(OFFSET(テストデータ!CP3,385,0):OFFSET(テストデータ!CT3,385,0))","v":0}]
[null,null,null,null,null,null,null,null,null,null,null,null,null,{"$f":"SUM(OFFSET(テストデータ!$E3,386,9*成績表1!$B$4-9):OFFSET(テストデータ!$G3,386,9*成績表1!$B$4-9))","v":0},{"$f":"SUM(OFFSET(テストデータ!$E3,386,9*成績表1!$B$4-9):OFFSET(テストデータ!I3,386,9*成績表1!$B$4-9))","v":0},{"$f":"SUM(OFFSET(テストデータ!E3,386,0):OFFSET(テストデータ!G3,386,0))","v":0},{"$f":"SUM(OFFSET(テストデータ!E3,386,0):OFFSET(テストデータ!I3,386,0))","v":0},{"$f":"SUM(OFFSET(テストデータ!N3,386,0):OFFSET(テストデータ!P3,386,0))","v":0},{"$f":"SUM(OFFSET(テストデータ!N3,386,0):OFFSET(テストデータ!R3,386,0))","v":0},{"$f":"SUM(OFFSET(テストデータ!W3,386,0):OFFSET(テストデータ!Y3,386,0))","v":0},{"$f":"SUM(OFFSET(テストデータ!W3,386,0):OFFSET(テストデータ!AA3,386,0))","v":0},{"$f":"SUM(OFFSET(テストデータ!AF3,386,0):OFFSET(テストデータ!AH3,386,0))","v":0},{"$f":"SUM(OFFSET(テストデータ!AF3,386,0):OFFSET(テストデータ!AJ3,386,0))","v":0},{"$f":"SUM(OFFSET(テストデータ!AO3,386,0):OFFSET(テストデータ!AQ3,386,0))","v":0},{"$f":"SUM(OFFSET(テストデータ!AO3,386,0):OFFSET(テストデータ!AS3,386,0))","v":0},{"$f":"SUM(OFFSET(テストデータ!AX3,386,0):OFFSET(テストデータ!AZ3,386,0))","v":0},{"$f":"SUM(OFFSET(テストデータ!AX3,386,0):OFFSET(テストデータ!BB3,386,0))","v":0},{"$f":"SUM(OFFSET(テストデータ!BG3,386,0):OFFSET(テストデータ!BI3,386,0))","v":0},{"$f":"SUM(OFFSET(テストデータ!BG3,386,0):OFFSET(テストデータ!BK3,386,0))","v":0},{"$f":"SUM(OFFSET(テストデータ!BL3,386,0):OFFSET(テストデータ!BN3,386,0))","v":0},{"$f":"SUM(OFFSET(テストデータ!BL3,386,0):OFFSET(テストデータ!BP3,386,0))","v":0},{"$f":"SUM(OFFSET(テストデータ!BQ3,386,0):OFFSET(テストデータ!BS3,386,0))","v":0},{"$f":"SUM(OFFSET(テストデータ!BQ3,386,0):OFFSET(テストデータ!BU3,386,0))","v":0},{"$f":"SUM(OFFSET(テストデータ!BV3,386,0):OFFSET(テストデータ!BX3,386,0))","v":0},{"$f":"SUM(OFFSET(テストデータ!BV3,386,0):OFFSET(テストデータ!BZ3,386,0))","v":0},{"$f":"SUM(OFFSET(テストデータ!CA3,386,0):OFFSET(テストデータ!CC3,386,0))","v":0},{"$f":"SUM(OFFSET(テストデータ!CA3,386,0):OFFSET(テストデータ!CE3,386,0))","v":0},{"$f":"SUM(OFFSET(テストデータ!CF3,386,0):OFFSET(テストデータ!CH3,386,0))","v":0},{"$f":"SUM(OFFSET(テストデータ!CF3,386,0):OFFSET(テストデータ!CJ3,386,0))","v":0},{"$f":"SUM(OFFSET(テストデータ!CK3,386,0):OFFSET(テストデータ!CM3,386,0))","v":0},{"$f":"SUM(OFFSET(テストデータ!CK3,386,0):OFFSET(テストデータ!CO3,386,0))","v":0},{"$f":"SUM(OFFSET(テストデータ!CP3,386,0):OFFSET(テストデータ!CR3,386,0))","v":0},{"$f":"SUM(OFFSET(テストデータ!CP3,386,0):OFFSET(テストデータ!CT3,386,0))","v":0}]
[null,null,null,null,null,null,null,null,null,null,null,null,null,{"$f":"SUM(OFFSET(テストデータ!$E3,387,9*成績表1!$B$4-9):OFFSET(テストデータ!$G3,387,9*成績表1!$B$4-9))","v":0},{"$f":"SUM(OFFSET(テストデータ!$E3,387,9*成績表1!$B$4-9):OFFSET(テストデータ!I3,387,9*成績表1!$B$4-9))","v":0},{"$f":"SUM(OFFSET(テストデータ!E3,387,0):OFFSET(テストデータ!G3,387,0))","v":0},{"$f":"SUM(OFFSET(テストデータ!E3,387,0):OFFSET(テストデータ!I3,387,0))","v":0},{"$f":"SUM(OFFSET(テストデータ!N3,387,0):OFFSET(テストデータ!P3,387,0))","v":0},{"$f":"SUM(OFFSET(テストデータ!N3,387,0):OFFSET(テストデータ!R3,387,0))","v":0},{"$f":"SUM(OFFSET(テストデータ!W3,387,0):OFFSET(テストデータ!Y3,387,0))","v":0},{"$f":"SUM(OFFSET(テストデータ!W3,387,0):OFFSET(テストデータ!AA3,387,0))","v":0},{"$f":"SUM(OFFSET(テストデータ!AF3,387,0):OFFSET(テストデータ!AH3,387,0))","v":0},{"$f":"SUM(OFFSET(テストデータ!AF3,387,0):OFFSET(テストデータ!AJ3,387,0))","v":0},{"$f":"SUM(OFFSET(テストデータ!AO3,387,0):OFFSET(テストデータ!AQ3,387,0))","v":0},{"$f":"SUM(OFFSET(テストデータ!AO3,387,0):OFFSET(テストデータ!AS3,387,0))","v":0},{"$f":"SUM(OFFSET(テストデータ!AX3,387,0):OFFSET(テストデータ!AZ3,387,0))","v":0},{"$f":"SUM(OFFSET(テストデータ!AX3,387,0):OFFSET(テストデータ!BB3,387,0))","v":0},{"$f":"SUM(OFFSET(テストデータ!BG3,387,0):OFFSET(テストデータ!BI3,387,0))","v":0},{"$f":"SUM(OFFSET(テストデータ!BG3,387,0):OFFSET(テストデータ!BK3,387,0))","v":0},{"$f":"SUM(OFFSET(テストデータ!BL3,387,0):OFFSET(テストデータ!BN3,387,0))","v":0},{"$f":"SUM(OFFSET(テストデータ!BL3,387,0):OFFSET(テストデータ!BP3,387,0))","v":0},{"$f":"SUM(OFFSET(テストデータ!BQ3,387,0):OFFSET(テストデータ!BS3,387,0))","v":0},{"$f":"SUM(OFFSET(テストデータ!BQ3,387,0):OFFSET(テストデータ!BU3,387,0))","v":0},{"$f":"SUM(OFFSET(テストデータ!BV3,387,0):OFFSET(テストデータ!BX3,387,0))","v":0},{"$f":"SUM(OFFSET(テストデータ!BV3,387,0):OFFSET(テストデータ!BZ3,387,0))","v":0},{"$f":"SUM(OFFSET(テストデータ!CA3,387,0):OFFSET(テストデータ!CC3,387,0))","v":0},{"$f":"SUM(OFFSET(テストデータ!CA3,387,0):OFFSET(テストデータ!CE3,387,0))","v":0},{"$f":"SUM(OFFSET(テストデータ!CF3,387,0):OFFSET(テストデータ!CH3,387,0))","v":0},{"$f":"SUM(OFFSET(テストデータ!CF3,387,0):OFFSET(テストデータ!CJ3,387,0))","v":0},{"$f":"SUM(OFFSET(テストデータ!CK3,387,0):OFFSET(テストデータ!CM3,387,0))","v":0},{"$f":"SUM(OFFSET(テストデータ!CK3,387,0):OFFSET(テストデータ!CO3,387,0))","v":0},{"$f":"SUM(OFFSET(テストデータ!CP3,387,0):OFFSET(テストデータ!CR3,387,0))","v":0},{"$f":"SUM(OFFSET(テストデータ!CP3,387,0):OFFSET(テストデータ!CT3,387,0))","v":0}]
[null,null,null,null,null,null,null,null,null,null,null,null,null,{"$f":"SUM(OFFSET(テストデータ!$E3,388,9*成績表1!$B$4-9):OFFSET(テストデータ!$G3,388,9*成績表1!$B$4-9))","v":0},{"$f":"SUM(OFFSET(テストデータ!$E3,388,9*成績表1!$B$4-9):OFFSET(テストデータ!I3,388,9*成績表1!$B$4-9))","v":0},{"$f":"SUM(OFFSET(テストデータ!E3,388,0):OFFSET(テストデータ!G3,388,0))","v":0},{"$f":"SUM(OFFSET(テストデータ!E3,388,0):OFFSET(テストデータ!I3,388,0))","v":0},{"$f":"SUM(OFFSET(テストデータ!N3,388,0):OFFSET(テストデータ!P3,388,0))","v":0},{"$f":"SUM(OFFSET(テストデータ!N3,388,0):OFFSET(テストデータ!R3,388,0))","v":0},{"$f":"SUM(OFFSET(テストデータ!W3,388,0):OFFSET(テストデータ!Y3,388,0))","v":0},{"$f":"SUM(OFFSET(テストデータ!W3,388,0):OFFSET(テストデータ!AA3,388,0))","v":0},{"$f":"SUM(OFFSET(テストデータ!AF3,388,0):OFFSET(テストデータ!AH3,388,0))","v":0},{"$f":"SUM(OFFSET(テストデータ!AF3,388,0):OFFSET(テストデータ!AJ3,388,0))","v":0},{"$f":"SUM(OFFSET(テストデータ!AO3,388,0):OFFSET(テストデータ!AQ3,388,0))","v":0},{"$f":"SUM(OFFSET(テストデータ!AO3,388,0):OFFSET(テストデータ!AS3,388,0))","v":0},{"$f":"SUM(OFFSET(テストデータ!AX3,388,0):OFFSET(テストデータ!AZ3,388,0))","v":0},{"$f":"SUM(OFFSET(テストデータ!AX3,388,0):OFFSET(テストデータ!BB3,388,0))","v":0},{"$f":"SUM(OFFSET(テストデータ!BG3,388,0):OFFSET(テストデータ!BI3,388,0))","v":0},{"$f":"SUM(OFFSET(テストデータ!BG3,388,0):OFFSET(テストデータ!BK3,388,0))","v":0},{"$f":"SUM(OFFSET(テストデータ!BL3,388,0):OFFSET(テストデータ!BN3,388,0))","v":0},{"$f":"SUM(OFFSET(テストデータ!BL3,388,0):OFFSET(テストデータ!BP3,388,0))","v":0},{"$f":"SUM(OFFSET(テストデータ!BQ3,388,0):OFFSET(テストデータ!BS3,388,0))","v":0},{"$f":"SUM(OFFSET(テストデータ!BQ3,388,0):OFFSET(テストデータ!BU3,388,0))","v":0},{"$f":"SUM(OFFSET(テストデータ!BV3,388,0):OFFSET(テストデータ!BX3,388,0))","v":0},{"$f":"SUM(OFFSET(テストデータ!BV3,388,0):OFFSET(テストデータ!BZ3,388,0))","v":0},{"$f":"SUM(OFFSET(テストデータ!CA3,388,0):OFFSET(テストデータ!CC3,388,0))","v":0},{"$f":"SUM(OFFSET(テストデータ!CA3,388,0):OFFSET(テストデータ!CE3,388,0))","v":0},{"$f":"SUM(OFFSET(テストデータ!CF3,388,0):OFFSET(テストデータ!CH3,388,0))","v":0},{"$f":"SUM(OFFSET(テストデータ!CF3,388,0):OFFSET(テストデータ!CJ3,388,0))","v":0},{"$f":"SUM(OFFSET(テストデータ!CK3,388,0):OFFSET(テストデータ!CM3,388,0))","v":0},{"$f":"SUM(OFFSET(テストデータ!CK3,388,0):OFFSET(テストデータ!CO3,388,0))","v":0},{"$f":"SUM(OFFSET(テストデータ!CP3,388,0):OFFSET(テストデータ!CR3,388,0))","v":0},{"$f":"SUM(OFFSET(テストデータ!CP3,388,0):OFFSET(テストデータ!CT3,388,0))","v":0}]
[null,null,null,null,null,null,null,null,null,null,null,null,null,{"$f":"SUM(OFFSET(テストデータ!$E3,389,9*成績表1!$B$4-9):OFFSET(テストデータ!$G3,389,9*成績表1!$B$4-9))","v":0},{"$f":"SUM(OFFSET(テストデータ!$E3,389,9*成績表1!$B$4-9):OFFSET(テストデータ!I3,389,9*成績表1!$B$4-9))","v":0},{"$f":"SUM(OFFSET(テストデータ!E3,389,0):OFFSET(テストデータ!G3,389,0))","v":0},{"$f":"SUM(OFFSET(テストデータ!E3,389,0):OFFSET(テストデータ!I3,389,0))","v":0},{"$f":"SUM(OFFSET(テストデータ!N3,389,0):OFFSET(テストデータ!P3,389,0))","v":0},{"$f":"SUM(OFFSET(テストデータ!N3,389,0):OFFSET(テストデータ!R3,389,0))","v":0},{"$f":"SUM(OFFSET(テストデータ!W3,389,0):OFFSET(テストデータ!Y3,389,0))","v":0},{"$f":"SUM(OFFSET(テストデータ!W3,389,0):OFFSET(テストデータ!AA3,389,0))","v":0},{"$f":"SUM(OFFSET(テストデータ!AF3,389,0):OFFSET(テストデータ!AH3,389,0))","v":0},{"$f":"SUM(OFFSET(テストデータ!AF3,389,0):OFFSET(テストデータ!AJ3,389,0))","v":0},{"$f":"SUM(OFFSET(テストデータ!AO3,389,0):OFFSET(テストデータ!AQ3,389,0))","v":0},{"$f":"SUM(OFFSET(テストデータ!AO3,389,0):OFFSET(テストデータ!AS3,389,0))","v":0},{"$f":"SUM(OFFSET(テストデータ!AX3,389,0):OFFSET(テストデータ!AZ3,389,0))","v":0},{"$f":"SUM(OFFSET(テストデータ!AX3,389,0):OFFSET(テストデータ!BB3,389,0))","v":0},{"$f":"SUM(OFFSET(テストデータ!BG3,389,0):OFFSET(テストデータ!BI3,389,0))","v":0},{"$f":"SUM(OFFSET(テストデータ!BG3,389,0):OFFSET(テストデータ!BK3,389,0))","v":0},{"$f":"SUM(OFFSET(テストデータ!BL3,389,0):OFFSET(テストデータ!BN3,389,0))","v":0},{"$f":"SUM(OFFSET(テストデータ!BL3,389,0):OFFSET(テストデータ!BP3,389,0))","v":0},{"$f":"SUM(OFFSET(テストデータ!BQ3,389,0):OFFSET(テストデータ!BS3,389,0))","v":0},{"$f":"SUM(OFFSET(テストデータ!BQ3,389,0):OFFSET(テストデータ!BU3,389,0))","v":0},{"$f":"SUM(OFFSET(テストデータ!BV3,389,0):OFFSET(テストデータ!BX3,389,0))","v":0},{"$f":"SUM(OFFSET(テストデータ!BV3,389,0):OFFSET(テストデータ!BZ3,389,0))","v":0},{"$f":"SUM(OFFSET(テストデータ!CA3,389,0):OFFSET(テストデータ!CC3,389,0))","v":0},{"$f":"SUM(OFFSET(テストデータ!CA3,389,0):OFFSET(テストデータ!CE3,389,0))","v":0},{"$f":"SUM(OFFSET(テストデータ!CF3,389,0):OFFSET(テストデータ!CH3,389,0))","v":0},{"$f":"SUM(OFFSET(テストデータ!CF3,389,0):OFFSET(テストデータ!CJ3,389,0))","v":0},{"$f":"SUM(OFFSET(テストデータ!CK3,389,0):OFFSET(テストデータ!CM3,389,0))","v":0},{"$f":"SUM(OFFSET(テストデータ!CK3,389,0):OFFSET(テストデータ!CO3,389,0))","v":0},{"$f":"SUM(OFFSET(テストデータ!CP3,389,0):OFFSET(テストデータ!CR3,389,0))","v":0},{"$f":"SUM(OFFSET(テストデータ!CP3,389,0):OFFSET(テストデータ!CT3,389,0))","v":0}]
[null,null,null,null,null,null,null,null,null,null,null,null,null,{"$f":"SUM(OFFSET(テストデータ!$E3,390,9*成績表1!$B$4-9):OFFSET(テストデータ!$G3,390,9*成績表1!$B$4-9))","v":0},{"$f":"SUM(OFFSET(テストデータ!$E3,390,9*成績表1!$B$4-9):OFFSET(テストデータ!I3,390,9*成績表1!$B$4-9))","v":0},{"$f":"SUM(OFFSET(テストデータ!E3,390,0):OFFSET(テストデータ!G3,390,0))","v":0},{"$f":"SUM(OFFSET(テストデータ!E3,390,0):OFFSET(テストデータ!I3,390,0))","v":0},{"$f":"SUM(OFFSET(テストデータ!N3,390,0):OFFSET(テストデータ!P3,390,0))","v":0},{"$f":"SUM(OFFSET(テストデータ!N3,390,0):OFFSET(テストデータ!R3,390,0))","v":0},{"$f":"SUM(OFFSET(テストデータ!W3,390,0):OFFSET(テストデータ!Y3,390,0))","v":0},{"$f":"SUM(OFFSET(テストデータ!W3,390,0):OFFSET(テストデータ!AA3,390,0))","v":0},{"$f":"SUM(OFFSET(テストデータ!AF3,390,0):OFFSET(テストデータ!AH3,390,0))","v":0},{"$f":"SUM(OFFSET(テストデータ!AF3,390,0):OFFSET(テストデータ!AJ3,390,0))","v":0},{"$f":"SUM(OFFSET(テストデータ!AO3,390,0):OFFSET(テストデータ!AQ3,390,0))","v":0},{"$f":"SUM(OFFSET(テストデータ!AO3,390,0):OFFSET(テストデータ!AS3,390,0))","v":0},{"$f":"SUM(OFFSET(テストデータ!AX3,390,0):OFFSET(テストデータ!AZ3,390,0))","v":0},{"$f":"SUM(OFFSET(テストデータ!AX3,390,0):OFFSET(テストデータ!BB3,390,0))","v":0},{"$f":"SUM(OFFSET(テストデータ!BG3,390,0):OFFSET(テストデータ!BI3,390,0))","v":0},{"$f":"SUM(OFFSET(テストデータ!BG3,390,0):OFFSET(テストデータ!BK3,390,0))","v":0},{"$f":"SUM(OFFSET(テストデータ!BL3,390,0):OFFSET(テストデータ!BN3,390,0))","v":0},{"$f":"SUM(OFFSET(テストデータ!BL3,390,0):OFFSET(テストデータ!BP3,390,0))","v":0},{"$f":"SUM(OFFSET(テストデータ!BQ3,390,0):OFFSET(テストデータ!BS3,390,0))","v":0},{"$f":"SUM(OFFSET(テストデータ!BQ3,390,0):OFFSET(テストデータ!BU3,390,0))","v":0},{"$f":"SUM(OFFSET(テストデータ!BV3,390,0):OFFSET(テストデータ!BX3,390,0))","v":0},{"$f":"SUM(OFFSET(テストデータ!BV3,390,0):OFFSET(テストデータ!BZ3,390,0))","v":0},{"$f":"SUM(OFFSET(テストデータ!CA3,390,0):OFFSET(テストデータ!CC3,390,0))","v":0},{"$f":"SUM(OFFSET(テストデータ!CA3,390,0):OFFSET(テストデータ!CE3,390,0))","v":0},{"$f":"SUM(OFFSET(テストデータ!CF3,390,0):OFFSET(テストデータ!CH3,390,0))","v":0},{"$f":"SUM(OFFSET(テストデータ!CF3,390,0):OFFSET(テストデータ!CJ3,390,0))","v":0},{"$f":"SUM(OFFSET(テストデータ!CK3,390,0):OFFSET(テストデータ!CM3,390,0))","v":0},{"$f":"SUM(OFFSET(テストデータ!CK3,390,0):OFFSET(テストデータ!CO3,390,0))","v":0},{"$f":"SUM(OFFSET(テストデータ!CP3,390,0):OFFSET(テストデータ!CR3,390,0))","v":0},{"$f":"SUM(OFFSET(テストデータ!CP3,390,0):OFFSET(テストデータ!CT3,390,0))","v":0}]
[null,null,null,null,null,null,null,null,null,null,null,null,null,{"$f":"SUM(OFFSET(テストデータ!$E3,391,9*成績表1!$B$4-9):OFFSET(テストデータ!$G3,391,9*成績表1!$B$4-9))","v":0},{"$f":"SUM(OFFSET(テストデータ!$E3,391,9*成績表1!$B$4-9):OFFSET(テストデータ!I3,391,9*成績表1!$B$4-9))","v":0},{"$f":"SUM(OFFSET(テストデータ!E3,391,0):OFFSET(テストデータ!G3,391,0))","v":0},{"$f":"SUM(OFFSET(テストデータ!E3,391,0):OFFSET(テストデータ!I3,391,0))","v":0},{"$f":"SUM(OFFSET(テストデータ!N3,391,0):OFFSET(テストデータ!P3,391,0))","v":0},{"$f":"SUM(OFFSET(テストデータ!N3,391,0):OFFSET(テストデータ!R3,391,0))","v":0},{"$f":"SUM(OFFSET(テストデータ!W3,391,0):OFFSET(テストデータ!Y3,391,0))","v":0},{"$f":"SUM(OFFSET(テストデータ!W3,391,0):OFFSET(テストデータ!AA3,391,0))","v":0},{"$f":"SUM(OFFSET(テストデータ!AF3,391,0):OFFSET(テストデータ!AH3,391,0))","v":0},{"$f":"SUM(OFFSET(テストデータ!AF3,391,0):OFFSET(テストデータ!AJ3,391,0))","v":0},{"$f":"SUM(OFFSET(テストデータ!AO3,391,0):OFFSET(テストデータ!AQ3,391,0))","v":0},{"$f":"SUM(OFFSET(テストデータ!AO3,391,0):OFFSET(テストデータ!AS3,391,0))","v":0},{"$f":"SUM(OFFSET(テストデータ!AX3,391,0):OFFSET(テストデータ!AZ3,391,0))","v":0},{"$f":"SUM(OFFSET(テストデータ!AX3,391,0):OFFSET(テストデータ!BB3,391,0))","v":0},{"$f":"SUM(OFFSET(テストデータ!BG3,391,0):OFFSET(テストデータ!BI3,391,0))","v":0},{"$f":"SUM(OFFSET(テストデータ!BG3,391,0):OFFSET(テストデータ!BK3,391,0))","v":0},{"$f":"SUM(OFFSET(テストデータ!BL3,391,0):OFFSET(テストデータ!BN3,391,0))","v":0},{"$f":"SUM(OFFSET(テストデータ!BL3,391,0):OFFSET(テストデータ!BP3,391,0))","v":0},{"$f":"SUM(OFFSET(テストデータ!BQ3,391,0):OFFSET(テストデータ!BS3,391,0))","v":0},{"$f":"SUM(OFFSET(テストデータ!BQ3,391,0):OFFSET(テストデータ!BU3,391,0))","v":0},{"$f":"SUM(OFFSET(テストデータ!BV3,391,0):OFFSET(テストデータ!BX3,391,0))","v":0},{"$f":"SUM(OFFSET(テストデータ!BV3,391,0):OFFSET(テストデータ!BZ3,391,0))","v":0},{"$f":"SUM(OFFSET(テストデータ!CA3,391,0):OFFSET(テストデータ!CC3,391,0))","v":0},{"$f":"SUM(OFFSET(テストデータ!CA3,391,0):OFFSET(テストデータ!CE3,391,0))","v":0},{"$f":"SUM(OFFSET(テストデータ!CF3,391,0):OFFSET(テストデータ!CH3,391,0))","v":0},{"$f":"SUM(OFFSET(テストデータ!CF3,391,0):OFFSET(テストデータ!CJ3,391,0))","v":0},{"$f":"SUM(OFFSET(テストデータ!CK3,391,0):OFFSET(テストデータ!CM3,391,0))","v":0},{"$f":"SUM(OFFSET(テストデータ!CK3,391,0):OFFSET(テストデータ!CO3,391,0))","v":0},{"$f":"SUM(OFFSET(テストデータ!CP3,391,0):OFFSET(テストデータ!CR3,391,0))","v":0},{"$f":"SUM(OFFSET(テストデータ!CP3,391,0):OFFSET(テストデータ!CT3,391,0))","v":0}]
[null,null,null,null,null,null,null,null,null,null,null,null,null,{"$f":"SUM(OFFSET(テストデータ!$E3,392,9*成績表1!$B$4-9):OFFSET(テストデータ!$G3,392,9*成績表1!$B$4-9))","v":0},{"$f":"SUM(OFFSET(テストデータ!$E3,392,9*成績表1!$B$4-9):OFFSET(テストデータ!I3,392,9*成績表1!$B$4-9))","v":0},{"$f":"SUM(OFFSET(テストデータ!E3,392,0):OFFSET(テストデータ!G3,392,0))","v":0},{"$f":"SUM(OFFSET(テストデータ!E3,392,0):OFFSET(テストデータ!I3,392,0))","v":0},{"$f":"SUM(OFFSET(テストデータ!N3,392,0):OFFSET(テストデータ!P3,392,0))","v":0},{"$f":"SUM(OFFSET(テストデータ!N3,392,0):OFFSET(テストデータ!R3,392,0))","v":0},{"$f":"SUM(OFFSET(テストデータ!W3,392,0):OFFSET(テストデータ!Y3,392,0))","v":0},{"$f":"SUM(OFFSET(テストデータ!W3,392,0):OFFSET(テストデータ!AA3,392,0))","v":0},{"$f":"SUM(OFFSET(テストデータ!AF3,392,0):OFFSET(テストデータ!AH3,392,0))","v":0},{"$f":"SUM(OFFSET(テストデータ!AF3,392,0):OFFSET(テストデータ!AJ3,392,0))","v":0},{"$f":"SUM(OFFSET(テストデータ!AO3,392,0):OFFSET(テストデータ!AQ3,392,0))","v":0},{"$f":"SUM(OFFSET(テストデータ!AO3,392,0):OFFSET(テストデータ!AS3,392,0))","v":0},{"$f":"SUM(OFFSET(テストデータ!AX3,392,0):OFFSET(テストデータ!AZ3,392,0))","v":0},{"$f":"SUM(OFFSET(テストデータ!AX3,392,0):OFFSET(テストデータ!BB3,392,0))","v":0},{"$f":"SUM(OFFSET(テストデータ!BG3,392,0):OFFSET(テストデータ!BI3,392,0))","v":0},{"$f":"SUM(OFFSET(テストデータ!BG3,392,0):OFFSET(テストデータ!BK3,392,0))","v":0},{"$f":"SUM(OFFSET(テストデータ!BL3,392,0):OFFSET(テストデータ!BN3,392,0))","v":0},{"$f":"SUM(OFFSET(テストデータ!BL3,392,0):OFFSET(テストデータ!BP3,392,0))","v":0},{"$f":"SUM(OFFSET(テストデータ!BQ3,392,0):OFFSET(テストデータ!BS3,392,0))","v":0},{"$f":"SUM(OFFSET(テストデータ!BQ3,392,0):OFFSET(テストデータ!BU3,392,0))","v":0},{"$f":"SUM(OFFSET(テストデータ!BV3,392,0):OFFSET(テストデータ!BX3,392,0))","v":0},{"$f":"SUM(OFFSET(テストデータ!BV3,392,0):OFFSET(テストデータ!BZ3,392,0))","v":0},{"$f":"SUM(OFFSET(テストデータ!CA3,392,0):OFFSET(テストデータ!CC3,392,0))","v":0},{"$f":"SUM(OFFSET(テストデータ!CA3,392,0):OFFSET(テストデータ!CE3,392,0))","v":0},{"$f":"SUM(OFFSET(テストデータ!CF3,392,0):OFFSET(テストデータ!CH3,392,0))","v":0},{"$f":"SUM(OFFSET(テストデータ!CF3,392,0):OFFSET(テストデータ!CJ3,392,0))","v":0},{"$f":"SUM(OFFSET(テストデータ!CK3,392,0):OFFSET(テストデータ!CM3,392,0))","v":0},{"$f":"SUM(OFFSET(テストデータ!CK3,392,0):OFFSET(テストデータ!CO3,392,0))","v":0},{"$f":"SUM(OFFSET(テストデータ!CP3,392,0):OFFSET(テストデータ!CR3,392,0))","v":0},{"$f":"SUM(OFFSET(テストデータ!CP3,392,0):OFFSET(テストデータ!CT3,392,0))","v":0}]
[null,null,null,null,null,null,null,null,null,null,null,null,null,{"$f":"SUM(OFFSET(テストデータ!$E3,393,9*成績表1!$B$4-9):OFFSET(テストデータ!$G3,393,9*成績表1!$B$4-9))","v":0},{"$f":"SUM(OFFSET(テストデータ!$E3,393,9*成績表1!$B$4-9):OFFSET(テストデータ!I3,393,9*成績表1!$B$4-9))","v":0},{"$f":"SUM(OFFSET(テストデータ!E3,393,0):OFFSET(テストデータ!G3,393,0))","v":0},{"$f":"SUM(OFFSET(テストデータ!E3,393,0):OFFSET(テストデータ!I3,393,0))","v":0},{"$f":"SUM(OFFSET(テストデータ!N3,393,0):OFFSET(テストデータ!P3,393,0))","v":0},{"$f":"SUM(OFFSET(テストデータ!N3,393,0):OFFSET(テストデータ!R3,393,0))","v":0},{"$f":"SUM(OFFSET(テストデータ!W3,393,0):OFFSET(テストデータ!Y3,393,0))","v":0},{"$f":"SUM(OFFSET(テストデータ!W3,393,0):OFFSET(テストデータ!AA3,393,0))","v":0},{"$f":"SUM(OFFSET(テストデータ!AF3,393,0):OFFSET(テストデータ!AH3,393,0))","v":0},{"$f":"SUM(OFFSET(テストデータ!AF3,393,0):OFFSET(テストデータ!AJ3,393,0))","v":0},{"$f":"SUM(OFFSET(テストデータ!AO3,393,0):OFFSET(テストデータ!AQ3,393,0))","v":0},{"$f":"SUM(OFFSET(テストデータ!AO3,393,0):OFFSET(テストデータ!AS3,393,0))","v":0},{"$f":"SUM(OFFSET(テストデータ!AX3,393,0):OFFSET(テストデータ!AZ3,393,0))","v":0},{"$f":"SUM(OFFSET(テストデータ!AX3,393,0):OFFSET(テストデータ!BB3,393,0))","v":0},{"$f":"SUM(OFFSET(テストデータ!BG3,393,0):OFFSET(テストデータ!BI3,393,0))","v":0},{"$f":"SUM(OFFSET(テストデータ!BG3,393,0):OFFSET(テストデータ!BK3,393,0))","v":0},{"$f":"SUM(OFFSET(テストデータ!BL3,393,0):OFFSET(テストデータ!BN3,393,0))","v":0},{"$f":"SUM(OFFSET(テストデータ!BL3,393,0):OFFSET(テストデータ!BP3,393,0))","v":0},{"$f":"SUM(OFFSET(テストデータ!BQ3,393,0):OFFSET(テストデータ!BS3,393,0))","v":0},{"$f":"SUM(OFFSET(テストデータ!BQ3,393,0):OFFSET(テストデータ!BU3,393,0))","v":0},{"$f":"SUM(OFFSET(テストデータ!BV3,393,0):OFFSET(テストデータ!BX3,393,0))","v":0},{"$f":"SUM(OFFSET(テストデータ!BV3,393,0):OFFSET(テストデータ!BZ3,393,0))","v":0},{"$f":"SUM(OFFSET(テストデータ!CA3,393,0):OFFSET(テストデータ!CC3,393,0))","v":0},{"$f":"SUM(OFFSET(テストデータ!CA3,393,0):OFFSET(テストデータ!CE3,393,0))","v":0},{"$f":"SUM(OFFSET(テストデータ!CF3,393,0):OFFSET(テストデータ!CH3,393,0))","v":0},{"$f":"SUM(OFFSET(テストデータ!CF3,393,0):OFFSET(テストデータ!CJ3,393,0))","v":0},{"$f":"SUM(OFFSET(テストデータ!CK3,393,0):OFFSET(テストデータ!CM3,393,0))","v":0},{"$f":"SUM(OFFSET(テストデータ!CK3,393,0):OFFSET(テストデータ!CO3,393,0))","v":0},{"$f":"SUM(OFFSET(テストデータ!CP3,393,0):OFFSET(テストデータ!CR3,393,0))","v":0},{"$f":"SUM(OFFSET(テストデータ!CP3,393,0):OFFSET(テストデータ!CT3,393,0))","v":0}]
[null,null,null,null,null,null,null,null,null,null,null,null,null,{"$f":"SUM(OFFSET(テストデータ!$E3,394,9*成績表1!$B$4-9):OFFSET(テストデータ!$G3,394,9*成績表1!$B$4-9))","v":0},{"$f":"SUM(OFFSET(テストデータ!$E3,394,9*成績表1!$B$4-9):OFFSET(テストデータ!I3,394,9*成績表1!$B$4-9))","v":0},{"$f":"SUM(OFFSET(テストデータ!E3,394,0):OFFSET(テストデータ!G3,394,0))","v":0},{"$f":"SUM(OFFSET(テストデータ!E3,394,0):OFFSET(テストデータ!I3,394,0))","v":0},{"$f":"SUM(OFFSET(テストデータ!N3,394,0):OFFSET(テストデータ!P3,394,0))","v":0},{"$f":"SUM(OFFSET(テストデータ!N3,394,0):OFFSET(テストデータ!R3,394,0))","v":0},{"$f":"SUM(OFFSET(テストデータ!W3,394,0):OFFSET(テストデータ!Y3,394,0))","v":0},{"$f":"SUM(OFFSET(テストデータ!W3,394,0):OFFSET(テストデータ!AA3,394,0))","v":0},{"$f":"SUM(OFFSET(テストデータ!AF3,394,0):OFFSET(テストデータ!AH3,394,0))","v":0},{"$f":"SUM(OFFSET(テストデータ!AF3,394,0):OFFSET(テストデータ!AJ3,394,0))","v":0},{"$f":"SUM(OFFSET(テストデータ!AO3,394,0):OFFSET(テストデータ!AQ3,394,0))","v":0},{"$f":"SUM(OFFSET(テストデータ!AO3,394,0):OFFSET(テストデータ!AS3,394,0))","v":0},{"$f":"SUM(OFFSET(テストデータ!AX3,394,0):OFFSET(テストデータ!AZ3,394,0))","v":0},{"$f":"SUM(OFFSET(テストデータ!AX3,394,0):OFFSET(テストデータ!BB3,394,0))","v":0},{"$f":"SUM(OFFSET(テストデータ!BG3,394,0):OFFSET(テストデータ!BI3,394,0))","v":0},{"$f":"SUM(OFFSET(テストデータ!BG3,394,0):OFFSET(テストデータ!BK3,394,0))","v":0},{"$f":"SUM(OFFSET(テストデータ!BL3,394,0):OFFSET(テストデータ!BN3,394,0))","v":0},{"$f":"SUM(OFFSET(テストデータ!BL3,394,0):OFFSET(テストデータ!BP3,394,0))","v":0},{"$f":"SUM(OFFSET(テストデータ!BQ3,394,0):OFFSET(テストデータ!BS3,394,0))","v":0},{"$f":"SUM(OFFSET(テストデータ!BQ3,394,0):OFFSET(テストデータ!BU3,394,0))","v":0},{"$f":"SUM(OFFSET(テストデータ!BV3,394,0):OFFSET(テストデータ!BX3,394,0))","v":0},{"$f":"SUM(OFFSET(テストデータ!BV3,394,0):OFFSET(テストデータ!BZ3,394,0))","v":0},{"$f":"SUM(OFFSET(テストデータ!CA3,394,0):OFFSET(テストデータ!CC3,394,0))","v":0},{"$f":"SUM(OFFSET(テストデータ!CA3,394,0):OFFSET(テストデータ!CE3,394,0))","v":0},{"$f":"SUM(OFFSET(テストデータ!CF3,394,0):OFFSET(テストデータ!CH3,394,0))","v":0},{"$f":"SUM(OFFSET(テストデータ!CF3,394,0):OFFSET(テストデータ!CJ3,394,0))","v":0},{"$f":"SUM(OFFSET(テストデータ!CK3,394,0):OFFSET(テストデータ!CM3,394,0))","v":0},{"$f":"SUM(OFFSET(テストデータ!CK3,394,0):OFFSET(テストデータ!CO3,394,0))","v":0},{"$f":"SUM(OFFSET(テストデータ!CP3,394,0):OFFSET(テストデータ!CR3,394,0))","v":0},{"$f":"SUM(OFFSET(テストデータ!CP3,394,0):OFFSET(テストデータ!CT3,394,0))","v":0}]
[null,null,null,null,null,null,null,null,null,null,null,null,null,{"$f":"SUM(OFFSET(テストデータ!$E3,395,9*成績表1!$B$4-9):OFFSET(テストデータ!$G3,395,9*成績表1!$B$4-9))","v":0},{"$f":"SUM(OFFSET(テストデータ!$E3,395,9*成績表1!$B$4-9):OFFSET(テストデータ!I3,395,9*成績表1!$B$4-9))","v":0},{"$f":"SUM(OFFSET(テストデータ!E3,395,0):OFFSET(テストデータ!G3,395,0))","v":0},{"$f":"SUM(OFFSET(テストデータ!E3,395,0):OFFSET(テストデータ!I3,395,0))","v":0},{"$f":"SUM(OFFSET(テストデータ!N3,395,0):OFFSET(テストデータ!P3,395,0))","v":0},{"$f":"SUM(OFFSET(テストデータ!N3,395,0):OFFSET(テストデータ!R3,395,0))","v":0},{"$f":"SUM(OFFSET(テストデータ!W3,395,0):OFFSET(テストデータ!Y3,395,0))","v":0},{"$f":"SUM(OFFSET(テストデータ!W3,395,0):OFFSET(テストデータ!AA3,395,0))","v":0},{"$f":"SUM(OFFSET(テストデータ!AF3,395,0):OFFSET(テストデータ!AH3,395,0))","v":0},{"$f":"SUM(OFFSET(テストデータ!AF3,395,0):OFFSET(テストデータ!AJ3,395,0))","v":0},{"$f":"SUM(OFFSET(テストデータ!AO3,395,0):OFFSET(テストデータ!AQ3,395,0))","v":0},{"$f":"SUM(OFFSET(テストデータ!AO3,395,0):OFFSET(テストデータ!AS3,395,0))","v":0},{"$f":"SUM(OFFSET(テストデータ!AX3,395,0):OFFSET(テストデータ!AZ3,395,0))","v":0},{"$f":"SUM(OFFSET(テストデータ!AX3,395,0):OFFSET(テストデータ!BB3,395,0))","v":0},{"$f":"SUM(OFFSET(テストデータ!BG3,395,0):OFFSET(テストデータ!BI3,395,0))","v":0},{"$f":"SUM(OFFSET(テストデータ!BG3,395,0):OFFSET(テストデータ!BK3,395,0))","v":0},{"$f":"SUM(OFFSET(テストデータ!BL3,395,0):OFFSET(テストデータ!BN3,395,0))","v":0},{"$f":"SUM(OFFSET(テストデータ!BL3,395,0):OFFSET(テストデータ!BP3,395,0))","v":0},{"$f":"SUM(OFFSET(テストデータ!BQ3,395,0):OFFSET(テストデータ!BS3,395,0))","v":0},{"$f":"SUM(OFFSET(テストデータ!BQ3,395,0):OFFSET(テストデータ!BU3,395,0))","v":0},{"$f":"SUM(OFFSET(テストデータ!BV3,395,0):OFFSET(テストデータ!BX3,395,0))","v":0},{"$f":"SUM(OFFSET(テストデータ!BV3,395,0):OFFSET(テストデータ!BZ3,395,0))","v":0},{"$f":"SUM(OFFSET(テストデータ!CA3,395,0):OFFSET(テストデータ!CC3,395,0))","v":0},{"$f":"SUM(OFFSET(テストデータ!CA3,395,0):OFFSET(テストデータ!CE3,395,0))","v":0},{"$f":"SUM(OFFSET(テストデータ!CF3,395,0):OFFSET(テストデータ!CH3,395,0))","v":0},{"$f":"SUM(OFFSET(テストデータ!CF3,395,0):OFFSET(テストデータ!CJ3,395,0))","v":0},{"$f":"SUM(OFFSET(テストデータ!CK3,395,0):OFFSET(テストデータ!CM3,395,0))","v":0},{"$f":"SUM(OFFSET(テストデータ!CK3,395,0):OFFSET(テストデータ!CO3,395,0))","v":0},{"$f":"SUM(OFFSET(テストデータ!CP3,395,0):OFFSET(テストデータ!CR3,395,0))","v":0},{"$f":"SUM(OFFSET(テストデータ!CP3,395,0):OFFSET(テストデータ!CT3,395,0))","v":0}]
[null,null,null,null,null,null,null,null,null,null,null,null,null,{"$f":"SUM(OFFSET(テストデータ!$E3,396,9*成績表1!$B$4-9):OFFSET(テストデータ!$G3,396,9*成績表1!$B$4-9))","v":0},{"$f":"SUM(OFFSET(テストデータ!$E3,396,9*成績表1!$B$4-9):OFFSET(テストデータ!I3,396,9*成績表1!$B$4-9))","v":0},{"$f":"SUM(OFFSET(テストデータ!E3,396,0):OFFSET(テストデータ!G3,396,0))","v":0},{"$f":"SUM(OFFSET(テストデータ!E3,396,0):OFFSET(テストデータ!I3,396,0))","v":0},{"$f":"SUM(OFFSET(テストデータ!N3,396,0):OFFSET(テストデータ!P3,396,0))","v":0},{"$f":"SUM(OFFSET(テストデータ!N3,396,0):OFFSET(テストデータ!R3,396,0))","v":0},{"$f":"SUM(OFFSET(テストデータ!W3,396,0):OFFSET(テストデータ!Y3,396,0))","v":0},{"$f":"SUM(OFFSET(テストデータ!W3,396,0):OFFSET(テストデータ!AA3,396,0))","v":0},{"$f":"SUM(OFFSET(テストデータ!AF3,396,0):OFFSET(テストデータ!AH3,396,0))","v":0},{"$f":"SUM(OFFSET(テストデータ!AF3,396,0):OFFSET(テストデータ!AJ3,396,0))","v":0},{"$f":"SUM(OFFSET(テストデータ!AO3,396,0):OFFSET(テストデータ!AQ3,396,0))","v":0},{"$f":"SUM(OFFSET(テストデータ!AO3,396,0):OFFSET(テストデータ!AS3,396,0))","v":0},{"$f":"SUM(OFFSET(テストデータ!AX3,396,0):OFFSET(テストデータ!AZ3,396,0))","v":0},{"$f":"SUM(OFFSET(テストデータ!AX3,396,0):OFFSET(テストデータ!BB3,396,0))","v":0},{"$f":"SUM(OFFSET(テストデータ!BG3,396,0):OFFSET(テストデータ!BI3,396,0))","v":0},{"$f":"SUM(OFFSET(テストデータ!BG3,396,0):OFFSET(テストデータ!BK3,396,0))","v":0},{"$f":"SUM(OFFSET(テストデータ!BL3,396,0):OFFSET(テストデータ!BN3,396,0))","v":0},{"$f":"SUM(OFFSET(テストデータ!BL3,396,0):OFFSET(テストデータ!BP3,396,0))","v":0},{"$f":"SUM(OFFSET(テストデータ!BQ3,396,0):OFFSET(テストデータ!BS3,396,0))","v":0},{"$f":"SUM(OFFSET(テストデータ!BQ3,396,0):OFFSET(テストデータ!BU3,396,0))","v":0},{"$f":"SUM(OFFSET(テストデータ!BV3,396,0):OFFSET(テストデータ!BX3,396,0))","v":0},{"$f":"SUM(OFFSET(テストデータ!BV3,396,0):OFFSET(テストデータ!BZ3,396,0))","v":0},{"$f":"SUM(OFFSET(テストデータ!CA3,396,0):OFFSET(テストデータ!CC3,396,0))","v":0},{"$f":"SUM(OFFSET(テストデータ!CA3,396,0):OFFSET(テストデータ!CE3,396,0))","v":0},{"$f":"SUM(OFFSET(テストデータ!CF3,396,0):OFFSET(テストデータ!CH3,396,0))","v":0},{"$f":"SUM(OFFSET(テストデータ!CF3,396,0):OFFSET(テストデータ!CJ3,396,0))","v":0},{"$f":"SUM(OFFSET(テストデータ!CK3,396,0):OFFSET(テストデータ!CM3,396,0))","v":0},{"$f":"SUM(OFFSET(テストデータ!CK3,396,0):OFFSET(テストデータ!CO3,396,0))","v":0},{"$f":"SUM(OFFSET(テストデータ!CP3,396,0):OFFSET(テストデータ!CR3,396,0))","v":0},{"$f":"SUM(OFFSET(テストデータ!CP3,396,0):OFFSET(テストデータ!CT3,396,0))","v":0}]
[null,null,null,null,null,null,null,null,null,null,null,null,null,{"$f":"SUM(OFFSET(テストデータ!$E3,397,9*成績表1!$B$4-9):OFFSET(テストデータ!$G3,397,9*成績表1!$B$4-9))","v":0},{"$f":"SUM(OFFSET(テストデータ!$E3,397,9*成績表1!$B$4-9):OFFSET(テストデータ!I3,397,9*成績表1!$B$4-9))","v":0},{"$f":"SUM(OFFSET(テストデータ!E3,397,0):OFFSET(テストデータ!G3,397,0))","v":0},{"$f":"SUM(OFFSET(テストデータ!E3,397,0):OFFSET(テストデータ!I3,397,0))","v":0},{"$f":"SUM(OFFSET(テストデータ!N3,397,0):OFFSET(テストデータ!P3,397,0))","v":0},{"$f":"SUM(OFFSET(テストデータ!N3,397,0):OFFSET(テストデータ!R3,397,0))","v":0},{"$f":"SUM(OFFSET(テストデータ!W3,397,0):OFFSET(テストデータ!Y3,397,0))","v":0},{"$f":"SUM(OFFSET(テストデータ!W3,397,0):OFFSET(テストデータ!AA3,397,0))","v":0},{"$f":"SUM(OFFSET(テストデータ!AF3,397,0):OFFSET(テストデータ!AH3,397,0))","v":0},{"$f":"SUM(OFFSET(テストデータ!AF3,397,0):OFFSET(テストデータ!AJ3,397,0))","v":0},{"$f":"SUM(OFFSET(テストデータ!AO3,397,0):OFFSET(テストデータ!AQ3,397,0))","v":0},{"$f":"SUM(OFFSET(テストデータ!AO3,397,0):OFFSET(テストデータ!AS3,397,0))","v":0},{"$f":"SUM(OFFSET(テストデータ!AX3,397,0):OFFSET(テストデータ!AZ3,397,0))","v":0},{"$f":"SUM(OFFSET(テストデータ!AX3,397,0):OFFSET(テストデータ!BB3,397,0))","v":0},{"$f":"SUM(OFFSET(テストデータ!BG3,397,0):OFFSET(テストデータ!BI3,397,0))","v":0},{"$f":"SUM(OFFSET(テストデータ!BG3,397,0):OFFSET(テストデータ!BK3,397,0))","v":0},{"$f":"SUM(OFFSET(テストデータ!BL3,397,0):OFFSET(テストデータ!BN3,397,0))","v":0},{"$f":"SUM(OFFSET(テストデータ!BL3,397,0):OFFSET(テストデータ!BP3,397,0))","v":0},{"$f":"SUM(OFFSET(テストデータ!BQ3,397,0):OFFSET(テストデータ!BS3,397,0))","v":0},{"$f":"SUM(OFFSET(テストデータ!BQ3,397,0):OFFSET(テストデータ!BU3,397,0))","v":0},{"$f":"SUM(OFFSET(テストデータ!BV3,397,0):OFFSET(テストデータ!BX3,397,0))","v":0},{"$f":"SUM(OFFSET(テストデータ!BV3,397,0):OFFSET(テストデータ!BZ3,397,0))","v":0},{"$f":"SUM(OFFSET(テストデータ!CA3,397,0):OFFSET(テストデータ!CC3,397,0))","v":0},{"$f":"SUM(OFFSET(テストデータ!CA3,397,0):OFFSET(テストデータ!CE3,397,0))","v":0},{"$f":"SUM(OFFSET(テストデータ!CF3,397,0):OFFSET(テストデータ!CH3,397,0))","v":0},{"$f":"SUM(OFFSET(テストデータ!CF3,397,0):OFFSET(テストデータ!CJ3,397,0))","v":0},{"$f":"SUM(OFFSET(テストデータ!CK3,397,0):OFFSET(テストデータ!CM3,397,0))","v":0},{"$f":"SUM(OFFSET(テストデータ!CK3,397,0):OFFSET(テストデータ!CO3,397,0))","v":0},{"$f":"SUM(OFFSET(テストデータ!CP3,397,0):OFFSET(テストデータ!CR3,397,0))","v":0},{"$f":"SUM(OFFSET(テストデータ!CP3,397,0):OFFSET(テストデータ!CT3,397,0))","v":0}]
[null,null,null,null,null,null,null,null,null,null,null,null,null,{"$f":"SUM(OFFSET(テストデータ!$E3,398,9*成績表1!$B$4-9):OFFSET(テストデータ!$G3,398,9*成績表1!$B$4-9))","v":0},{"$f":"SUM(OFFSET(テストデータ!$E3,398,9*成績表1!$B$4-9):OFFSET(テストデータ!I3,398,9*成績表1!$B$4-9))","v":0},{"$f":"SUM(OFFSET(テストデータ!E3,398,0):OFFSET(テストデータ!G3,398,0))","v":0},{"$f":"SUM(OFFSET(テストデータ!E3,398,0):OFFSET(テストデータ!I3,398,0))","v":0},{"$f":"SUM(OFFSET(テストデータ!N3,398,0):OFFSET(テストデータ!P3,398,0))","v":0},{"$f":"SUM(OFFSET(テストデータ!N3,398,0):OFFSET(テストデータ!R3,398,0))","v":0},{"$f":"SUM(OFFSET(テストデータ!W3,398,0):OFFSET(テストデータ!Y3,398,0))","v":0},{"$f":"SUM(OFFSET(テストデータ!W3,398,0):OFFSET(テストデータ!AA3,398,0))","v":0},{"$f":"SUM(OFFSET(テストデータ!AF3,398,0):OFFSET(テストデータ!AH3,398,0))","v":0},{"$f":"SUM(OFFSET(テストデータ!AF3,398,0):OFFSET(テストデータ!AJ3,398,0))","v":0},{"$f":"SUM(OFFSET(テストデータ!AO3,398,0):OFFSET(テストデータ!AQ3,398,0))","v":0},{"$f":"SUM(OFFSET(テストデータ!AO3,398,0):OFFSET(テストデータ!AS3,398,0))","v":0},{"$f":"SUM(OFFSET(テストデータ!AX3,398,0):OFFSET(テストデータ!AZ3,398,0))","v":0},{"$f":"SUM(OFFSET(テストデータ!AX3,398,0):OFFSET(テストデータ!BB3,398,0))","v":0},{"$f":"SUM(OFFSET(テストデータ!BG3,398,0):OFFSET(テストデータ!BI3,398,0))","v":0},{"$f":"SUM(OFFSET(テストデータ!BG3,398,0):OFFSET(テストデータ!BK3,398,0))","v":0},{"$f":"SUM(OFFSET(テストデータ!BL3,398,0):OFFSET(テストデータ!BN3,398,0))","v":0},{"$f":"SUM(OFFSET(テストデータ!BL3,398,0):OFFSET(テストデータ!BP3,398,0))","v":0},{"$f":"SUM(OFFSET(テストデータ!BQ3,398,0):OFFSET(テストデータ!BS3,398,0))","v":0},{"$f":"SUM(OFFSET(テストデータ!BQ3,398,0):OFFSET(テストデータ!BU3,398,0))","v":0},{"$f":"SUM(OFFSET(テストデータ!BV3,398,0):OFFSET(テストデータ!BX3,398,0))","v":0},{"$f":"SUM(OFFSET(テストデータ!BV3,398,0):OFFSET(テストデータ!BZ3,398,0))","v":0},{"$f":"SUM(OFFSET(テストデータ!CA3,398,0):OFFSET(テストデータ!CC3,398,0))","v":0},{"$f":"SUM(OFFSET(テストデータ!CA3,398,0):OFFSET(テストデータ!CE3,398,0))","v":0},{"$f":"SUM(OFFSET(テストデータ!CF3,398,0):OFFSET(テストデータ!CH3,398,0))","v":0},{"$f":"SUM(OFFSET(テストデータ!CF3,398,0):OFFSET(テストデータ!CJ3,398,0))","v":0},{"$f":"SUM(OFFSET(テストデータ!CK3,398,0):OFFSET(テストデータ!CM3,398,0))","v":0},{"$f":"SUM(OFFSET(テストデータ!CK3,398,0):OFFSET(テストデータ!CO3,398,0))","v":0},{"$f":"SUM(OFFSET(テストデータ!CP3,398,0):OFFSET(テストデータ!CR3,398,0))","v":0},{"$f":"SUM(OFFSET(テストデータ!CP3,398,0):OFFSET(テストデータ!CT3,398,0))","v":0}]
[null,null,null,null,null,null,null,null,null,null,null,null,null,{"$f":"SUM(OFFSET(テストデータ!$E3,399,9*成績表1!$B$4-9):OFFSET(テストデータ!$G3,399,9*成績表1!$B$4-9))","v":0},{"$f":"SUM(OFFSET(テストデータ!$E3,399,9*成績表1!$B$4-9):OFFSET(テストデータ!I3,399,9*成績表1!$B$4-9))","v":0},{"$f":"SUM(OFFSET(テストデータ!E3,399,0):OFFSET(テストデータ!G3,399,0))","v":0},{"$f":"SUM(OFFSET(テストデータ!E3,399,0):OFFSET(テストデータ!I3,399,0))","v":0},{"$f":"SUM(OFFSET(テストデータ!N3,399,0):OFFSET(テストデータ!P3,399,0))","v":0},{"$f":"SUM(OFFSET(テストデータ!N3,399,0):OFFSET(テストデータ!R3,399,0))","v":0},{"$f":"SUM(OFFSET(テストデータ!W3,399,0):OFFSET(テストデータ!Y3,399,0))","v":0},{"$f":"SUM(OFFSET(テストデータ!W3,399,0):OFFSET(テストデータ!AA3,399,0))","v":0},{"$f":"SUM(OFFSET(テストデータ!AF3,399,0):OFFSET(テストデータ!AH3,399,0))","v":0},{"$f":"SUM(OFFSET(テストデータ!AF3,399,0):OFFSET(テストデータ!AJ3,399,0))","v":0},{"$f":"SUM(OFFSET(テストデータ!AO3,399,0):OFFSET(テストデータ!AQ3,399,0))","v":0},{"$f":"SUM(OFFSET(テストデータ!AO3,399,0):OFFSET(テストデータ!AS3,399,0))","v":0},{"$f":"SUM(OFFSET(テストデータ!AX3,399,0):OFFSET(テストデータ!AZ3,399,0))","v":0},{"$f":"SUM(OFFSET(テストデータ!AX3,399,0):OFFSET(テストデータ!BB3,399,0))","v":0},{"$f":"SUM(OFFSET(テストデータ!BG3,399,0):OFFSET(テストデータ!BI3,399,0))","v":0},{"$f":"SUM(OFFSET(テストデータ!BG3,399,0):OFFSET(テストデータ!BK3,399,0))","v":0},{"$f":"SUM(OFFSET(テストデータ!BL3,399,0):OFFSET(テストデータ!BN3,399,0))","v":0},{"$f":"SUM(OFFSET(テストデータ!BL3,399,0):OFFSET(テストデータ!BP3,399,0))","v":0},{"$f":"SUM(OFFSET(テストデータ!BQ3,399,0):OFFSET(テストデータ!BS3,399,0))","v":0},{"$f":"SUM(OFFSET(テストデータ!BQ3,399,0):OFFSET(テストデータ!BU3,399,0))","v":0},{"$f":"SUM(OFFSET(テストデータ!BV3,399,0):OFFSET(テストデータ!BX3,399,0))","v":0},{"$f":"SUM(OFFSET(テストデータ!BV3,399,0):OFFSET(テストデータ!BZ3,399,0))","v":0},{"$f":"SUM(OFFSET(テストデータ!CA3,399,0):OFFSET(テストデータ!CC3,399,0))","v":0},{"$f":"SUM(OFFSET(テストデータ!CA3,399,0):OFFSET(テストデータ!CE3,399,0))","v":0},{"$f":"SUM(OFFSET(テストデータ!CF3,399,0):OFFSET(テストデータ!CH3,399,0))","v":0},{"$f":"SUM(OFFSET(テストデータ!CF3,399,0):OFFSET(テストデータ!CJ3,399,0))","v":0},{"$f":"SUM(OFFSET(テストデータ!CK3,399,0):OFFSET(テストデータ!CM3,399,0))","v":0},{"$f":"SUM(OFFSET(テストデータ!CK3,399,0):OFFSET(テストデータ!CO3,399,0))","v":0},{"$f":"SUM(OFFSET(テストデータ!CP3,399,0):OFFSET(テストデータ!CR3,399,0))","v":0},{"$f":"SUM(OFFSET(テストデータ!CP3,399,0):OFFSET(テストデータ!CT3,399,0))","v":0}]
[null,null,null,null,null,null,null,null,null,null,null,null,null,{"$f":"SUM(OFFSET(テストデータ!$E3,400,9*成績表1!$B$4-9):OFFSET(テストデータ!$G3,400,9*成績表1!$B$4-9))","v":0},{"$f":"SUM(OFFSET(テストデータ!$E3,400,9*成績表1!$B$4-9):OFFSET(テストデータ!I3,400,9*成績表1!$B$4-9))","v":0},{"$f":"SUM(OFFSET(テストデータ!E3,400,0):OFFSET(テストデータ!G3,400,0))","v":0},{"$f":"SUM(OFFSET(テストデータ!E3,400,0):OFFSET(テストデータ!I3,400,0))","v":0},{"$f":"SUM(OFFSET(テストデータ!N3,400,0):OFFSET(テストデータ!P3,400,0))","v":0},{"$f":"SUM(OFFSET(テストデータ!N3,400,0):OFFSET(テストデータ!R3,400,0))","v":0},{"$f":"SUM(OFFSET(テストデータ!W3,400,0):OFFSET(テストデータ!Y3,400,0))","v":0},{"$f":"SUM(OFFSET(テストデータ!W3,400,0):OFFSET(テストデータ!AA3,400,0))","v":0},{"$f":"SUM(OFFSET(テストデータ!AF3,400,0):OFFSET(テストデータ!AH3,400,0))","v":0},{"$f":"SUM(OFFSET(テストデータ!AF3,400,0):OFFSET(テストデータ!AJ3,400,0))","v":0},{"$f":"SUM(OFFSET(テストデータ!AO3,400,0):OFFSET(テストデータ!AQ3,400,0))","v":0},{"$f":"SUM(OFFSET(テストデータ!AO3,400,0):OFFSET(テストデータ!AS3,400,0))","v":0},{"$f":"SUM(OFFSET(テストデータ!AX3,400,0):OFFSET(テストデータ!AZ3,400,0))","v":0},{"$f":"SUM(OFFSET(テストデータ!AX3,400,0):OFFSET(テストデータ!BB3,400,0))","v":0},{"$f":"SUM(OFFSET(テストデータ!BG3,400,0):OFFSET(テストデータ!BI3,400,0))","v":0},{"$f":"SUM(OFFSET(テストデータ!BG3,400,0):OFFSET(テストデータ!BK3,400,0))","v":0},{"$f":"SUM(OFFSET(テストデータ!BL3,400,0):OFFSET(テストデータ!BN3,400,0))","v":0},{"$f":"SUM(OFFSET(テストデータ!BL3,400,0):OFFSET(テストデータ!BP3,400,0))","v":0},{"$f":"SUM(OFFSET(テストデータ!BQ3,400,0):OFFSET(テストデータ!BS3,400,0))","v":0},{"$f":"SUM(OFFSET(テストデータ!BQ3,400,0):OFFSET(テストデータ!BU3,400,0))","v":0},{"$f":"SUM(OFFSET(テストデータ!BV3,400,0):OFFSET(テストデータ!BX3,400,0))","v":0},{"$f":"SUM(OFFSET(テストデータ!BV3,400,0):OFFSET(テストデータ!BZ3,400,0))","v":0},{"$f":"SUM(OFFSET(テストデータ!CA3,400,0):OFFSET(テストデータ!CC3,400,0))","v":0},{"$f":"SUM(OFFSET(テストデータ!CA3,400,0):OFFSET(テストデータ!CE3,400,0))","v":0},{"$f":"SUM(OFFSET(テストデータ!CF3,400,0):OFFSET(テストデータ!CH3,400,0))","v":0},{"$f":"SUM(OFFSET(テストデータ!CF3,400,0):OFFSET(テストデータ!CJ3,400,0))","v":0},{"$f":"SUM(OFFSET(テストデータ!CK3,400,0):OFFSET(テストデータ!CM3,400,0))","v":0},{"$f":"SUM(OFFSET(テストデータ!CK3,400,0):OFFSET(テストデータ!CO3,400,0))","v":0},{"$f":"SUM(OFFSET(テストデータ!CP3,400,0):OFFSET(テストデータ!CR3,400,0))","v":0},{"$f":"SUM(OFFSET(テストデータ!CP3,400,0):OFFSET(テストデータ!CT3,400,0))","v":0}]
[null,null,null,null,null,null,null,null,null,null,null,null,null,{"$f":"SUM(OFFSET(テストデータ!$E3,401,9*成績表1!$B$4-9):OFFSET(テストデータ!$G3,401,9*成績表1!$B$4-9))","v":0},{"$f":"SUM(OFFSET(テストデータ!$E3,401,9*成績表1!$B$4-9):OFFSET(テストデータ!I3,401,9*成績表1!$B$4-9))","v":0},{"$f":"SUM(OFFSET(テストデータ!E3,401,0):OFFSET(テストデータ!G3,401,0))","v":0},{"$f":"SUM(OFFSET(テストデータ!E3,401,0):OFFSET(テストデータ!I3,401,0))","v":0},{"$f":"SUM(OFFSET(テストデータ!N3,401,0):OFFSET(テストデータ!P3,401,0))","v":0},{"$f":"SUM(OFFSET(テストデータ!N3,401,0):OFFSET(テストデータ!R3,401,0))","v":0},{"$f":"SUM(OFFSET(テストデータ!W3,401,0):OFFSET(テストデータ!Y3,401,0))","v":0},{"$f":"SUM(OFFSET(テストデータ!W3,401,0):OFFSET(テストデータ!AA3,401,0))","v":0},{"$f":"SUM(OFFSET(テストデータ!AF3,401,0):OFFSET(テストデータ!AH3,401,0))","v":0},{"$f":"SUM(OFFSET(テストデータ!AF3,401,0):OFFSET(テストデータ!AJ3,401,0))","v":0},{"$f":"SUM(OFFSET(テストデータ!AO3,401,0):OFFSET(テストデータ!AQ3,401,0))","v":0},{"$f":"SUM(OFFSET(テストデータ!AO3,401,0):OFFSET(テストデータ!AS3,401,0))","v":0},{"$f":"SUM(OFFSET(テストデータ!AX3,401,0):OFFSET(テストデータ!AZ3,401,0))","v":0},{"$f":"SUM(OFFSET(テストデータ!AX3,401,0):OFFSET(テストデータ!BB3,401,0))","v":0},{"$f":"SUM(OFFSET(テストデータ!BG3,401,0):OFFSET(テストデータ!BI3,401,0))","v":0},{"$f":"SUM(OFFSET(テストデータ!BG3,401,0):OFFSET(テストデータ!BK3,401,0))","v":0},{"$f":"SUM(OFFSET(テストデータ!BL3,401,0):OFFSET(テストデータ!BN3,401,0))","v":0},{"$f":"SUM(OFFSET(テストデータ!BL3,401,0):OFFSET(テストデータ!BP3,401,0))","v":0},{"$f":"SUM(OFFSET(テストデータ!BQ3,401,0):OFFSET(テストデータ!BS3,401,0))","v":0},{"$f":"SUM(OFFSET(テストデータ!BQ3,401,0):OFFSET(テストデータ!BU3,401,0))","v":0},{"$f":"SUM(OFFSET(テストデータ!BV3,401,0):OFFSET(テストデータ!BX3,401,0))","v":0},{"$f":"SUM(OFFSET(テストデータ!BV3,401,0):OFFSET(テストデータ!BZ3,401,0))","v":0},{"$f":"SUM(OFFSET(テストデータ!CA3,401,0):OFFSET(テストデータ!CC3,401,0))","v":0},{"$f":"SUM(OFFSET(テストデータ!CA3,401,0):OFFSET(テストデータ!CE3,401,0))","v":0},{"$f":"SUM(OFFSET(テストデータ!CF3,401,0):OFFSET(テストデータ!CH3,401,0))","v":0},{"$f":"SUM(OFFSET(テストデータ!CF3,401,0):OFFSET(テストデータ!CJ3,401,0))","v":0},{"$f":"SUM(OFFSET(テストデータ!CK3,401,0):OFFSET(テストデータ!CM3,401,0))","v":0},{"$f":"SUM(OFFSET(テストデータ!CK3,401,0):OFFSET(テストデータ!CO3,401,0))","v":0},{"$f":"SUM(OFFSET(テストデータ!CP3,401,0):OFFSET(テストデータ!CR3,401,0))","v":0},{"$f":"SUM(OFFSET(テストデータ!CP3,401,0):OFFSET(テストデータ!CT3,401,0))","v":0}]
[null,null,null,null,null,null,null,null,null,null,null,null,null,{"$f":"SUM(OFFSET(テストデータ!$E3,402,9*成績表1!$B$4-9):OFFSET(テストデータ!$G3,402,9*成績表1!$B$4-9))","v":0},{"$f":"SUM(OFFSET(テストデータ!$E3,402,9*成績表1!$B$4-9):OFFSET(テストデータ!I3,402,9*成績表1!$B$4-9))","v":0},{"$f":"SUM(OFFSET(テストデータ!E3,402,0):OFFSET(テストデータ!G3,402,0))","v":0},{"$f":"SUM(OFFSET(テストデータ!E3,402,0):OFFSET(テストデータ!I3,402,0))","v":0},{"$f":"SUM(OFFSET(テストデータ!N3,402,0):OFFSET(テストデータ!P3,402,0))","v":0},{"$f":"SUM(OFFSET(テストデータ!N3,402,0):OFFSET(テストデータ!R3,402,0))","v":0},{"$f":"SUM(OFFSET(テストデータ!W3,402,0):OFFSET(テストデータ!Y3,402,0))","v":0},{"$f":"SUM(OFFSET(テストデータ!W3,402,0):OFFSET(テストデータ!AA3,402,0))","v":0},{"$f":"SUM(OFFSET(テストデータ!AF3,402,0):OFFSET(テストデータ!AH3,402,0))","v":0},{"$f":"SUM(OFFSET(テストデータ!AF3,402,0):OFFSET(テストデータ!AJ3,402,0))","v":0},{"$f":"SUM(OFFSET(テストデータ!AO3,402,0):OFFSET(テストデータ!AQ3,402,0))","v":0},{"$f":"SUM(OFFSET(テストデータ!AO3,402,0):OFFSET(テストデータ!AS3,402,0))","v":0},{"$f":"SUM(OFFSET(テストデータ!AX3,402,0):OFFSET(テストデータ!AZ3,402,0))","v":0},{"$f":"SUM(OFFSET(テストデータ!AX3,402,0):OFFSET(テストデータ!BB3,402,0))","v":0},{"$f":"SUM(OFFSET(テストデータ!BG3,402,0):OFFSET(テストデータ!BI3,402,0))","v":0},{"$f":"SUM(OFFSET(テストデータ!BG3,402,0):OFFSET(テストデータ!BK3,402,0))","v":0},{"$f":"SUM(OFFSET(テストデータ!BL3,402,0):OFFSET(テストデータ!BN3,402,0))","v":0},{"$f":"SUM(OFFSET(テストデータ!BL3,402,0):OFFSET(テストデータ!BP3,402,0))","v":0},{"$f":"SUM(OFFSET(テストデータ!BQ3,402,0):OFFSET(テストデータ!BS3,402,0))","v":0},{"$f":"SUM(OFFSET(テストデータ!BQ3,402,0):OFFSET(テストデータ!BU3,402,0))","v":0},{"$f":"SUM(OFFSET(テストデータ!BV3,402,0):OFFSET(テストデータ!BX3,402,0))","v":0},{"$f":"SUM(OFFSET(テストデータ!BV3,402,0):OFFSET(テストデータ!BZ3,402,0))","v":0},{"$f":"SUM(OFFSET(テストデータ!CA3,402,0):OFFSET(テストデータ!CC3,402,0))","v":0},{"$f":"SUM(OFFSET(テストデータ!CA3,402,0):OFFSET(テストデータ!CE3,402,0))","v":0},{"$f":"SUM(OFFSET(テストデータ!CF3,402,0):OFFSET(テストデータ!CH3,402,0))","v":0},{"$f":"SUM(OFFSET(テストデータ!CF3,402,0):OFFSET(テストデータ!CJ3,402,0))","v":0},{"$f":"SUM(OFFSET(テストデータ!CK3,402,0):OFFSET(テストデータ!CM3,402,0))","v":0},{"$f":"SUM(OFFSET(テストデータ!CK3,402,0):OFFSET(テストデータ!CO3,402,0))","v":0},{"$f":"SUM(OFFSET(テストデータ!CP3,402,0):OFFSET(テストデータ!CR3,402,0))","v":0},{"$f":"SUM(OFFSET(テストデータ!CP3,402,0):OFFSET(テストデータ!CT3,402,0))","v":0}]
[null,null,null,null,null,null,null,null,null,null,null,null,null,{"$f":"SUM(OFFSET(テストデータ!$E3,403,9*成績表1!$B$4-9):OFFSET(テストデータ!$G3,403,9*成績表1!$B$4-9))","v":0},{"$f":"SUM(OFFSET(テストデータ!$E3,403,9*成績表1!$B$4-9):OFFSET(テストデータ!I3,403,9*成績表1!$B$4-9))","v":0},{"$f":"SUM(OFFSET(テストデータ!E3,403,0):OFFSET(テストデータ!G3,403,0))","v":0},{"$f":"SUM(OFFSET(テストデータ!E3,403,0):OFFSET(テストデータ!I3,403,0))","v":0},{"$f":"SUM(OFFSET(テストデータ!N3,403,0):OFFSET(テストデータ!P3,403,0))","v":0},{"$f":"SUM(OFFSET(テストデータ!N3,403,0):OFFSET(テストデータ!R3,403,0))","v":0},{"$f":"SUM(OFFSET(テストデータ!W3,403,0):OFFSET(テストデータ!Y3,403,0))","v":0},{"$f":"SUM(OFFSET(テストデータ!W3,403,0):OFFSET(テストデータ!AA3,403,0))","v":0},{"$f":"SUM(OFFSET(テストデータ!AF3,403,0):OFFSET(テストデータ!AH3,403,0))","v":0},{"$f":"SUM(OFFSET(テストデータ!AF3,403,0):OFFSET(テストデータ!AJ3,403,0))","v":0},{"$f":"SUM(OFFSET(テストデータ!AO3,403,0):OFFSET(テストデータ!AQ3,403,0))","v":0},{"$f":"SUM(OFFSET(テストデータ!AO3,403,0):OFFSET(テストデータ!AS3,403,0))","v":0},{"$f":"SUM(OFFSET(テストデータ!AX3,403,0):OFFSET(テストデータ!AZ3,403,0))","v":0},{"$f":"SUM(OFFSET(テストデータ!AX3,403,0):OFFSET(テストデータ!BB3,403,0))","v":0},{"$f":"SUM(OFFSET(テストデータ!BG3,403,0):OFFSET(テストデータ!BI3,403,0))","v":0},{"$f":"SUM(OFFSET(テストデータ!BG3,403,0):OFFSET(テストデータ!BK3,403,0))","v":0},{"$f":"SUM(OFFSET(テストデータ!BL3,403,0):OFFSET(テストデータ!BN3,403,0))","v":0},{"$f":"SUM(OFFSET(テストデータ!BL3,403,0):OFFSET(テストデータ!BP3,403,0))","v":0},{"$f":"SUM(OFFSET(テストデータ!BQ3,403,0):OFFSET(テストデータ!BS3,403,0))","v":0},{"$f":"SUM(OFFSET(テストデータ!BQ3,403,0):OFFSET(テストデータ!BU3,403,0))","v":0},{"$f":"SUM(OFFSET(テストデータ!BV3,403,0):OFFSET(テストデータ!BX3,403,0))","v":0},{"$f":"SUM(OFFSET(テストデータ!BV3,403,0):OFFSET(テストデータ!BZ3,403,0))","v":0},{"$f":"SUM(OFFSET(テストデータ!CA3,403,0):OFFSET(テストデータ!CC3,403,0))","v":0},{"$f":"SUM(OFFSET(テストデータ!CA3,403,0):OFFSET(テストデータ!CE3,403,0))","v":0},{"$f":"SUM(OFFSET(テストデータ!CF3,403,0):OFFSET(テストデータ!CH3,403,0))","v":0},{"$f":"SUM(OFFSET(テストデータ!CF3,403,0):OFFSET(テストデータ!CJ3,403,0))","v":0},{"$f":"SUM(OFFSET(テストデータ!CK3,403,0):OFFSET(テストデータ!CM3,403,0))","v":0},{"$f":"SUM(OFFSET(テストデータ!CK3,403,0):OFFSET(テストデータ!CO3,403,0))","v":0},{"$f":"SUM(OFFSET(テストデータ!CP3,403,0):OFFSET(テストデータ!CR3,403,0))","v":0},{"$f":"SUM(OFFSET(テストデータ!CP3,403,0):OFFSET(テストデータ!CT3,403,0))","v":0}]
[null,null,null,null,null,null,null,null,null,null,null,null,null,{"$f":"SUM(OFFSET(テストデータ!$E3,404,9*成績表1!$B$4-9):OFFSET(テストデータ!$G3,404,9*成績表1!$B$4-9))","v":0},{"$f":"SUM(OFFSET(テストデータ!$E3,404,9*成績表1!$B$4-9):OFFSET(テストデータ!I3,404,9*成績表1!$B$4-9))","v":0},{"$f":"SUM(OFFSET(テストデータ!E3,404,0):OFFSET(テストデータ!G3,404,0))","v":0},{"$f":"SUM(OFFSET(テストデータ!E3,404,0):OFFSET(テストデータ!I3,404,0))","v":0},{"$f":"SUM(OFFSET(テストデータ!N3,404,0):OFFSET(テストデータ!P3,404,0))","v":0},{"$f":"SUM(OFFSET(テストデータ!N3,404,0):OFFSET(テストデータ!R3,404,0))","v":0},{"$f":"SUM(OFFSET(テストデータ!W3,404,0):OFFSET(テストデータ!Y3,404,0))","v":0},{"$f":"SUM(OFFSET(テストデータ!W3,404,0):OFFSET(テストデータ!AA3,404,0))","v":0},{"$f":"SUM(OFFSET(テストデータ!AF3,404,0):OFFSET(テストデータ!AH3,404,0))","v":0},{"$f":"SUM(OFFSET(テストデータ!AF3,404,0):OFFSET(テストデータ!AJ3,404,0))","v":0},{"$f":"SUM(OFFSET(テストデータ!AO3,404,0):OFFSET(テストデータ!AQ3,404,0))","v":0},{"$f":"SUM(OFFSET(テストデータ!AO3,404,0):OFFSET(テストデータ!AS3,404,0))","v":0},{"$f":"SUM(OFFSET(テストデータ!AX3,404,0):OFFSET(テストデータ!AZ3,404,0))","v":0},{"$f":"SUM(OFFSET(テストデータ!AX3,404,0):OFFSET(テストデータ!BB3,404,0))","v":0},{"$f":"SUM(OFFSET(テストデータ!BG3,404,0):OFFSET(テストデータ!BI3,404,0))","v":0},{"$f":"SUM(OFFSET(テストデータ!BG3,404,0):OFFSET(テストデータ!BK3,404,0))","v":0},{"$f":"SUM(OFFSET(テストデータ!BL3,404,0):OFFSET(テストデータ!BN3,404,0))","v":0},{"$f":"SUM(OFFSET(テストデータ!BL3,404,0):OFFSET(テストデータ!BP3,404,0))","v":0},{"$f":"SUM(OFFSET(テストデータ!BQ3,404,0):OFFSET(テストデータ!BS3,404,0))","v":0},{"$f":"SUM(OFFSET(テストデータ!BQ3,404,0):OFFSET(テストデータ!BU3,404,0))","v":0},{"$f":"SUM(OFFSET(テストデータ!BV3,404,0):OFFSET(テストデータ!BX3,404,0))","v":0},{"$f":"SUM(OFFSET(テストデータ!BV3,404,0):OFFSET(テストデータ!BZ3,404,0))","v":0},{"$f":"SUM(OFFSET(テストデータ!CA3,404,0):OFFSET(テストデータ!CC3,404,0))","v":0},{"$f":"SUM(OFFSET(テストデータ!CA3,404,0):OFFSET(テストデータ!CE3,404,0))","v":0},{"$f":"SUM(OFFSET(テストデータ!CF3,404,0):OFFSET(テストデータ!CH3,404,0))","v":0},{"$f":"SUM(OFFSET(テストデータ!CF3,404,0):OFFSET(テストデータ!CJ3,404,0))","v":0},{"$f":"SUM(OFFSET(テストデータ!CK3,404,0):OFFSET(テストデータ!CM3,404,0))","v":0},{"$f":"SUM(OFFSET(テストデータ!CK3,404,0):OFFSET(テストデータ!CO3,404,0))","v":0},{"$f":"SUM(OFFSET(テストデータ!CP3,404,0):OFFSET(テストデータ!CR3,404,0))","v":0},{"$f":"SUM(OFFSET(テストデータ!CP3,404,0):OFFSET(テストデータ!CT3,404,0))","v":0}]
[null,null,null,null,null,null,null,null,null,null,null,null,null,{"$f":"SUM(OFFSET(テストデータ!$E3,405,9*成績表1!$B$4-9):OFFSET(テストデータ!$G3,405,9*成績表1!$B$4-9))","v":0},{"$f":"SUM(OFFSET(テストデータ!$E3,405,9*成績表1!$B$4-9):OFFSET(テストデータ!I3,405,9*成績表1!$B$4-9))","v":0},{"$f":"SUM(OFFSET(テストデータ!E3,405,0):OFFSET(テストデータ!G3,405,0))","v":0},{"$f":"SUM(OFFSET(テストデータ!E3,405,0):OFFSET(テストデータ!I3,405,0))","v":0},{"$f":"SUM(OFFSET(テストデータ!N3,405,0):OFFSET(テストデータ!P3,405,0))","v":0},{"$f":"SUM(OFFSET(テストデータ!N3,405,0):OFFSET(テストデータ!R3,405,0))","v":0},{"$f":"SUM(OFFSET(テストデータ!W3,405,0):OFFSET(テストデータ!Y3,405,0))","v":0},{"$f":"SUM(OFFSET(テストデータ!W3,405,0):OFFSET(テストデータ!AA3,405,0))","v":0},{"$f":"SUM(OFFSET(テストデータ!AF3,405,0):OFFSET(テストデータ!AH3,405,0))","v":0},{"$f":"SUM(OFFSET(テストデータ!AF3,405,0):OFFSET(テストデータ!AJ3,405,0))","v":0},{"$f":"SUM(OFFSET(テストデータ!AO3,405,0):OFFSET(テストデータ!AQ3,405,0))","v":0},{"$f":"SUM(OFFSET(テストデータ!AO3,405,0):OFFSET(テストデータ!AS3,405,0))","v":0},{"$f":"SUM(OFFSET(テストデータ!AX3,405,0):OFFSET(テストデータ!AZ3,405,0))","v":0},{"$f":"SUM(OFFSET(テストデータ!AX3,405,0):OFFSET(テストデータ!BB3,405,0))","v":0},{"$f":"SUM(OFFSET(テストデータ!BG3,405,0):OFFSET(テストデータ!BI3,405,0))","v":0},{"$f":"SUM(OFFSET(テストデータ!BG3,405,0):OFFSET(テストデータ!BK3,405,0))","v":0},{"$f":"SUM(OFFSET(テストデータ!BL3,405,0):OFFSET(テストデータ!BN3,405,0))","v":0},{"$f":"SUM(OFFSET(テストデータ!BL3,405,0):OFFSET(テストデータ!BP3,405,0))","v":0},{"$f":"SUM(OFFSET(テストデータ!BQ3,405,0):OFFSET(テストデータ!BS3,405,0))","v":0},{"$f":"SUM(OFFSET(テストデータ!BQ3,405,0):OFFSET(テストデータ!BU3,405,0))","v":0},{"$f":"SUM(OFFSET(テストデータ!BV3,405,0):OFFSET(テストデータ!BX3,405,0))","v":0},{"$f":"SUM(OFFSET(テストデータ!BV3,405,0):OFFSET(テストデータ!BZ3,405,0))","v":0},{"$f":"SUM(OFFSET(テストデータ!CA3,405,0):OFFSET(テストデータ!CC3,405,0))","v":0},{"$f":"SUM(OFFSET(テストデータ!CA3,405,0):OFFSET(テストデータ!CE3,405,0))","v":0},{"$f":"SUM(OFFSET(テストデータ!CF3,405,0):OFFSET(テストデータ!CH3,405,0))","v":0},{"$f":"SUM(OFFSET(テストデータ!CF3,405,0):OFFSET(テストデータ!CJ3,405,0))","v":0},{"$f":"SUM(OFFSET(テストデータ!CK3,405,0):OFFSET(テストデータ!CM3,405,0))","v":0},{"$f":"SUM(OFFSET(テストデータ!CK3,405,0):OFFSET(テストデータ!CO3,405,0))","v":0},{"$f":"SUM(OFFSET(テストデータ!CP3,405,0):OFFSET(テストデータ!CR3,405,0))","v":0},{"$f":"SUM(OFFSET(テストデータ!CP3,405,0):OFFSET(テストデータ!CT3,405,0))","v":0}]
[null,null,null,null,null,null,null,null,null,null,null,null,null,{"$f":"SUM(OFFSET(テストデータ!$E3,406,9*成績表1!$B$4-9):OFFSET(テストデータ!$G3,406,9*成績表1!$B$4-9))","v":0},{"$f":"SUM(OFFSET(テストデータ!$E3,406,9*成績表1!$B$4-9):OFFSET(テストデータ!I3,406,9*成績表1!$B$4-9))","v":0},{"$f":"SUM(OFFSET(テストデータ!E3,406,0):OFFSET(テストデータ!G3,406,0))","v":0},{"$f":"SUM(OFFSET(テストデータ!E3,406,0):OFFSET(テストデータ!I3,406,0))","v":0},{"$f":"SUM(OFFSET(テストデータ!N3,406,0):OFFSET(テストデータ!P3,406,0))","v":0},{"$f":"SUM(OFFSET(テストデータ!N3,406,0):OFFSET(テストデータ!R3,406,0))","v":0},{"$f":"SUM(OFFSET(テストデータ!W3,406,0):OFFSET(テストデータ!Y3,406,0))","v":0},{"$f":"SUM(OFFSET(テストデータ!W3,406,0):OFFSET(テストデータ!AA3,406,0))","v":0},{"$f":"SUM(OFFSET(テストデータ!AF3,406,0):OFFSET(テストデータ!AH3,406,0))","v":0},{"$f":"SUM(OFFSET(テストデータ!AF3,406,0):OFFSET(テストデータ!AJ3,406,0))","v":0},{"$f":"SUM(OFFSET(テストデータ!AO3,406,0):OFFSET(テストデータ!AQ3,406,0))","v":0},{"$f":"SUM(OFFSET(テストデータ!AO3,406,0):OFFSET(テストデータ!AS3,406,0))","v":0},{"$f":"SUM(OFFSET(テストデータ!AX3,406,0):OFFSET(テストデータ!AZ3,406,0))","v":0},{"$f":"SUM(OFFSET(テストデータ!AX3,406,0):OFFSET(テストデータ!BB3,406,0))","v":0},{"$f":"SUM(OFFSET(テストデータ!BG3,406,0):OFFSET(テストデータ!BI3,406,0))","v":0},{"$f":"SUM(OFFSET(テストデータ!BG3,406,0):OFFSET(テストデータ!BK3,406,0))","v":0},{"$f":"SUM(OFFSET(テストデータ!BL3,406,0):OFFSET(テストデータ!BN3,406,0))","v":0},{"$f":"SUM(OFFSET(テストデータ!BL3,406,0):OFFSET(テストデータ!BP3,406,0))","v":0},{"$f":"SUM(OFFSET(テストデータ!BQ3,406,0):OFFSET(テストデータ!BS3,406,0))","v":0},{"$f":"SUM(OFFSET(テストデータ!BQ3,406,0):OFFSET(テストデータ!BU3,406,0))","v":0},{"$f":"SUM(OFFSET(テストデータ!BV3,406,0):OFFSET(テストデータ!BX3,406,0))","v":0},{"$f":"SUM(OFFSET(テストデータ!BV3,406,0):OFFSET(テストデータ!BZ3,406,0))","v":0},{"$f":"SUM(OFFSET(テストデータ!CA3,406,0):OFFSET(テストデータ!CC3,406,0))","v":0},{"$f":"SUM(OFFSET(テストデータ!CA3,406,0):OFFSET(テストデータ!CE3,406,0))","v":0},{"$f":"SUM(OFFSET(テストデータ!CF3,406,0):OFFSET(テストデータ!CH3,406,0))","v":0},{"$f":"SUM(OFFSET(テストデータ!CF3,406,0):OFFSET(テストデータ!CJ3,406,0))","v":0},{"$f":"SUM(OFFSET(テストデータ!CK3,406,0):OFFSET(テストデータ!CM3,406,0))","v":0},{"$f":"SUM(OFFSET(テストデータ!CK3,406,0):OFFSET(テストデータ!CO3,406,0))","v":0},{"$f":"SUM(OFFSET(テストデータ!CP3,406,0):OFFSET(テストデータ!CR3,406,0))","v":0},{"$f":"SUM(OFFSET(テストデータ!CP3,406,0):OFFSET(テストデータ!CT3,406,0))","v":0}]
[null,null,null,null,null,null,null,null,null,null,null,null,null,{"$f":"SUM(OFFSET(テストデータ!$E3,407,9*成績表1!$B$4-9):OFFSET(テストデータ!$G3,407,9*成績表1!$B$4-9))","v":0},{"$f":"SUM(OFFSET(テストデータ!$E3,407,9*成績表1!$B$4-9):OFFSET(テストデータ!I3,407,9*成績表1!$B$4-9))","v":0},{"$f":"SUM(OFFSET(テストデータ!E3,407,0):OFFSET(テストデータ!G3,407,0))","v":0},{"$f":"SUM(OFFSET(テストデータ!E3,407,0):OFFSET(テストデータ!I3,407,0))","v":0},{"$f":"SUM(OFFSET(テストデータ!N3,407,0):OFFSET(テストデータ!P3,407,0))","v":0},{"$f":"SUM(OFFSET(テストデータ!N3,407,0):OFFSET(テストデータ!R3,407,0))","v":0},{"$f":"SUM(OFFSET(テストデータ!W3,407,0):OFFSET(テストデータ!Y3,407,0))","v":0},{"$f":"SUM(OFFSET(テストデータ!W3,407,0):OFFSET(テストデータ!AA3,407,0))","v":0},{"$f":"SUM(OFFSET(テストデータ!AF3,407,0):OFFSET(テストデータ!AH3,407,0))","v":0},{"$f":"SUM(OFFSET(テストデータ!AF3,407,0):OFFSET(テストデータ!AJ3,407,0))","v":0},{"$f":"SUM(OFFSET(テストデータ!AO3,407,0):OFFSET(テストデータ!AQ3,407,0))","v":0},{"$f":"SUM(OFFSET(テストデータ!AO3,407,0):OFFSET(テストデータ!AS3,407,0))","v":0},{"$f":"SUM(OFFSET(テストデータ!AX3,407,0):OFFSET(テストデータ!AZ3,407,0))","v":0},{"$f":"SUM(OFFSET(テストデータ!AX3,407,0):OFFSET(テストデータ!BB3,407,0))","v":0},{"$f":"SUM(OFFSET(テストデータ!BG3,407,0):OFFSET(テストデータ!BI3,407,0))","v":0},{"$f":"SUM(OFFSET(テストデータ!BG3,407,0):OFFSET(テストデータ!BK3,407,0))","v":0},{"$f":"SUM(OFFSET(テストデータ!BL3,407,0):OFFSET(テストデータ!BN3,407,0))","v":0},{"$f":"SUM(OFFSET(テストデータ!BL3,407,0):OFFSET(テストデータ!BP3,407,0))","v":0},{"$f":"SUM(OFFSET(テストデータ!BQ3,407,0):OFFSET(テストデータ!BS3,407,0))","v":0},{"$f":"SUM(OFFSET(テストデータ!BQ3,407,0):OFFSET(テストデータ!BU3,407,0))","v":0},{"$f":"SUM(OFFSET(テストデータ!BV3,407,0):OFFSET(テストデータ!BX3,407,0))","v":0},{"$f":"SUM(OFFSET(テストデータ!BV3,407,0):OFFSET(テストデータ!BZ3,407,0))","v":0},{"$f":"SUM(OFFSET(テストデータ!CA3,407,0):OFFSET(テストデータ!CC3,407,0))","v":0},{"$f":"SUM(OFFSET(テストデータ!CA3,407,0):OFFSET(テストデータ!CE3,407,0))","v":0},{"$f":"SUM(OFFSET(テストデータ!CF3,407,0):OFFSET(テストデータ!CH3,407,0))","v":0},{"$f":"SUM(OFFSET(テストデータ!CF3,407,0):OFFSET(テストデータ!CJ3,407,0))","v":0},{"$f":"SUM(OFFSET(テストデータ!CK3,407,0):OFFSET(テストデータ!CM3,407,0))","v":0},{"$f":"SUM(OFFSET(テストデータ!CK3,407,0):OFFSET(テストデータ!CO3,407,0))","v":0},{"$f":"SUM(OFFSET(テストデータ!CP3,407,0):OFFSET(テストデータ!CR3,407,0))","v":0},{"$f":"SUM(OFFSET(テストデータ!CP3,407,0):OFFSET(テストデータ!CT3,407,0))","v":0}]
[null,null,null,null,null,null,null,null,null,null,null,null,null,{"$f":"SUM(OFFSET(テストデータ!$E3,408,9*成績表1!$B$4-9):OFFSET(テストデータ!$G3,408,9*成績表1!$B$4-9))","v":0},{"$f":"SUM(OFFSET(テストデータ!$E3,408,9*成績表1!$B$4-9):OFFSET(テストデータ!I3,408,9*成績表1!$B$4-9))","v":0},{"$f":"SUM(OFFSET(テストデータ!E3,408,0):OFFSET(テストデータ!G3,408,0))","v":0},{"$f":"SUM(OFFSET(テストデータ!E3,408,0):OFFSET(テストデータ!I3,408,0))","v":0},{"$f":"SUM(OFFSET(テストデータ!N3,408,0):OFFSET(テストデータ!P3,408,0))","v":0},{"$f":"SUM(OFFSET(テストデータ!N3,408,0):OFFSET(テストデータ!R3,408,0))","v":0},{"$f":"SUM(OFFSET(テストデータ!W3,408,0):OFFSET(テストデータ!Y3,408,0))","v":0},{"$f":"SUM(OFFSET(テストデータ!W3,408,0):OFFSET(テストデータ!AA3,408,0))","v":0},{"$f":"SUM(OFFSET(テストデータ!AF3,408,0):OFFSET(テストデータ!AH3,408,0))","v":0},{"$f":"SUM(OFFSET(テストデータ!AF3,408,0):OFFSET(テストデータ!AJ3,408,0))","v":0},{"$f":"SUM(OFFSET(テストデータ!AO3,408,0):OFFSET(テストデータ!AQ3,408,0))","v":0},{"$f":"SUM(OFFSET(テストデータ!AO3,408,0):OFFSET(テストデータ!AS3,408,0))","v":0},{"$f":"SUM(OFFSET(テストデータ!AX3,408,0):OFFSET(テストデータ!AZ3,408,0))","v":0},{"$f":"SUM(OFFSET(テストデータ!AX3,408,0):OFFSET(テストデータ!BB3,408,0))","v":0},{"$f":"SUM(OFFSET(テストデータ!BG3,408,0):OFFSET(テストデータ!BI3,408,0))","v":0},{"$f":"SUM(OFFSET(テストデータ!BG3,408,0):OFFSET(テストデータ!BK3,408,0))","v":0},{"$f":"SUM(OFFSET(テストデータ!BL3,408,0):OFFSET(テストデータ!BN3,408,0))","v":0},{"$f":"SUM(OFFSET(テストデータ!BL3,408,0):OFFSET(テストデータ!BP3,408,0))","v":0},{"$f":"SUM(OFFSET(テストデータ!BQ3,408,0):OFFSET(テストデータ!BS3,408,0))","v":0},{"$f":"SUM(OFFSET(テストデータ!BQ3,408,0):OFFSET(テストデータ!BU3,408,0))","v":0},{"$f":"SUM(OFFSET(テストデータ!BV3,408,0):OFFSET(テストデータ!BX3,408,0))","v":0},{"$f":"SUM(OFFSET(テストデータ!BV3,408,0):OFFSET(テストデータ!BZ3,408,0))","v":0},{"$f":"SUM(OFFSET(テストデータ!CA3,408,0):OFFSET(テストデータ!CC3,408,0))","v":0},{"$f":"SUM(OFFSET(テストデータ!CA3,408,0):OFFSET(テストデータ!CE3,408,0))","v":0},{"$f":"SUM(OFFSET(テストデータ!CF3,408,0):OFFSET(テストデータ!CH3,408,0))","v":0},{"$f":"SUM(OFFSET(テストデータ!CF3,408,0):OFFSET(テストデータ!CJ3,408,0))","v":0},{"$f":"SUM(OFFSET(テストデータ!CK3,408,0):OFFSET(テストデータ!CM3,408,0))","v":0},{"$f":"SUM(OFFSET(テストデータ!CK3,408,0):OFFSET(テストデータ!CO3,408,0))","v":0},{"$f":"SUM(OFFSET(テストデータ!CP3,408,0):OFFSET(テストデータ!CR3,408,0))","v":0},{"$f":"SUM(OFFSET(テストデータ!CP3,408,0):OFFSET(テストデータ!CT3,408,0))","v":0}]
[null,null,null,null,null,null,null,null,null,null,null,null,null,{"$f":"SUM(OFFSET(テストデータ!$E3,409,9*成績表1!$B$4-9):OFFSET(テストデータ!$G3,409,9*成績表1!$B$4-9))","v":0},{"$f":"SUM(OFFSET(テストデータ!$E3,409,9*成績表1!$B$4-9):OFFSET(テストデータ!I3,409,9*成績表1!$B$4-9))","v":0},{"$f":"SUM(OFFSET(テストデータ!E3,409,0):OFFSET(テストデータ!G3,409,0))","v":0},{"$f":"SUM(OFFSET(テストデータ!E3,409,0):OFFSET(テストデータ!I3,409,0))","v":0},{"$f":"SUM(OFFSET(テストデータ!N3,409,0):OFFSET(テストデータ!P3,409,0))","v":0},{"$f":"SUM(OFFSET(テストデータ!N3,409,0):OFFSET(テストデータ!R3,409,0))","v":0},{"$f":"SUM(OFFSET(テストデータ!W3,409,0):OFFSET(テストデータ!Y3,409,0))","v":0},{"$f":"SUM(OFFSET(テストデータ!W3,409,0):OFFSET(テストデータ!AA3,409,0))","v":0},{"$f":"SUM(OFFSET(テストデータ!AF3,409,0):OFFSET(テストデータ!AH3,409,0))","v":0},{"$f":"SUM(OFFSET(テストデータ!AF3,409,0):OFFSET(テストデータ!AJ3,409,0))","v":0},{"$f":"SUM(OFFSET(テストデータ!AO3,409,0):OFFSET(テストデータ!AQ3,409,0))","v":0},{"$f":"SUM(OFFSET(テストデータ!AO3,409,0):OFFSET(テストデータ!AS3,409,0))","v":0},{"$f":"SUM(OFFSET(テストデータ!AX3,409,0):OFFSET(テストデータ!AZ3,409,0))","v":0},{"$f":"SUM(OFFSET(テストデータ!AX3,409,0):OFFSET(テストデータ!BB3,409,0))","v":0},{"$f":"SUM(OFFSET(テストデータ!BG3,409,0):OFFSET(テストデータ!BI3,409,0))","v":0},{"$f":"SUM(OFFSET(テストデータ!BG3,409,0):OFFSET(テストデータ!BK3,409,0))","v":0},{"$f":"SUM(OFFSET(テストデータ!BL3,409,0):OFFSET(テストデータ!BN3,409,0))","v":0},{"$f":"SUM(OFFSET(テストデータ!BL3,409,0):OFFSET(テストデータ!BP3,409,0))","v":0},{"$f":"SUM(OFFSET(テストデータ!BQ3,409,0):OFFSET(テストデータ!BS3,409,0))","v":0},{"$f":"SUM(OFFSET(テストデータ!BQ3,409,0):OFFSET(テストデータ!BU3,409,0))","v":0},{"$f":"SUM(OFFSET(テストデータ!BV3,409,0):OFFSET(テストデータ!BX3,409,0))","v":0},{"$f":"SUM(OFFSET(テストデータ!BV3,409,0):OFFSET(テストデータ!BZ3,409,0))","v":0},{"$f":"SUM(OFFSET(テストデータ!CA3,409,0):OFFSET(テストデータ!CC3,409,0))","v":0},{"$f":"SUM(OFFSET(テストデータ!CA3,409,0):OFFSET(テストデータ!CE3,409,0))","v":0},{"$f":"SUM(OFFSET(テストデータ!CF3,409,0):OFFSET(テストデータ!CH3,409,0))","v":0},{"$f":"SUM(OFFSET(テストデータ!CF3,409,0):OFFSET(テストデータ!CJ3,409,0))","v":0},{"$f":"SUM(OFFSET(テストデータ!CK3,409,0):OFFSET(テストデータ!CM3,409,0))","v":0},{"$f":"SUM(OFFSET(テストデータ!CK3,409,0):OFFSET(テストデータ!CO3,409,0))","v":0},{"$f":"SUM(OFFSET(テストデータ!CP3,409,0):OFFSET(テストデータ!CR3,409,0))","v":0},{"$f":"SUM(OFFSET(テストデータ!CP3,409,0):OFFSET(テストデータ!CT3,409,0))","v":0}]
[null,null,null,null,null,null,null,null,null,null,null,null,null,{"$f":"SUM(OFFSET(テストデータ!$E3,410,9*成績表1!$B$4-9):OFFSET(テストデータ!$G3,410,9*成績表1!$B$4-9))","v":0},{"$f":"SUM(OFFSET(テストデータ!$E3,410,9*成績表1!$B$4-9):OFFSET(テストデータ!I3,410,9*成績表1!$B$4-9))","v":0},{"$f":"SUM(OFFSET(テストデータ!E3,410,0):OFFSET(テストデータ!G3,410,0))","v":0},{"$f":"SUM(OFFSET(テストデータ!E3,410,0):OFFSET(テストデータ!I3,410,0))","v":0},{"$f":"SUM(OFFSET(テストデータ!N3,410,0):OFFSET(テストデータ!P3,410,0))","v":0},{"$f":"SUM(OFFSET(テストデータ!N3,410,0):OFFSET(テストデータ!R3,410,0))","v":0},{"$f":"SUM(OFFSET(テストデータ!W3,410,0):OFFSET(テストデータ!Y3,410,0))","v":0},{"$f":"SUM(OFFSET(テストデータ!W3,410,0):OFFSET(テストデータ!AA3,410,0))","v":0},{"$f":"SUM(OFFSET(テストデータ!AF3,410,0):OFFSET(テストデータ!AH3,410,0))","v":0},{"$f":"SUM(OFFSET(テストデータ!AF3,410,0):OFFSET(テストデータ!AJ3,410,0))","v":0},{"$f":"SUM(OFFSET(テストデータ!AO3,410,0):OFFSET(テストデータ!AQ3,410,0))","v":0},{"$f":"SUM(OFFSET(テストデータ!AO3,410,0):OFFSET(テストデータ!AS3,410,0))","v":0},{"$f":"SUM(OFFSET(テストデータ!AX3,410,0):OFFSET(テストデータ!AZ3,410,0))","v":0},{"$f":"SUM(OFFSET(テストデータ!AX3,410,0):OFFSET(テストデータ!BB3,410,0))","v":0},{"$f":"SUM(OFFSET(テストデータ!BG3,410,0):OFFSET(テストデータ!BI3,410,0))","v":0},{"$f":"SUM(OFFSET(テストデータ!BG3,410,0):OFFSET(テストデータ!BK3,410,0))","v":0},{"$f":"SUM(OFFSET(テストデータ!BL3,410,0):OFFSET(テストデータ!BN3,410,0))","v":0},{"$f":"SUM(OFFSET(テストデータ!BL3,410,0):OFFSET(テストデータ!BP3,410,0))","v":0},{"$f":"SUM(OFFSET(テストデータ!BQ3,410,0):OFFSET(テストデータ!BS3,410,0))","v":0},{"$f":"SUM(OFFSET(テストデータ!BQ3,410,0):OFFSET(テストデータ!BU3,410,0))","v":0},{"$f":"SUM(OFFSET(テストデータ!BV3,410,0):OFFSET(テストデータ!BX3,410,0))","v":0},{"$f":"SUM(OFFSET(テストデータ!BV3,410,0):OFFSET(テストデータ!BZ3,410,0))","v":0},{"$f":"SUM(OFFSET(テストデータ!CA3,410,0):OFFSET(テストデータ!CC3,410,0))","v":0},{"$f":"SUM(OFFSET(テストデータ!CA3,410,0):OFFSET(テストデータ!CE3,410,0))","v":0},{"$f":"SUM(OFFSET(テストデータ!CF3,410,0):OFFSET(テストデータ!CH3,410,0))","v":0},{"$f":"SUM(OFFSET(テストデータ!CF3,410,0):OFFSET(テストデータ!CJ3,410,0))","v":0},{"$f":"SUM(OFFSET(テストデータ!CK3,410,0):OFFSET(テストデータ!CM3,410,0))","v":0},{"$f":"SUM(OFFSET(テストデータ!CK3,410,0):OFFSET(テストデータ!CO3,410,0))","v":0},{"$f":"SUM(OFFSET(テストデータ!CP3,410,0):OFFSET(テストデータ!CR3,410,0))","v":0},{"$f":"SUM(OFFSET(テストデータ!CP3,410,0):OFFSET(テストデータ!CT3,410,0))","v":0}]
[null,null,null,null,null,null,null,null,null,null,null,null,null,{"$f":"SUM(OFFSET(テストデータ!$E3,411,9*成績表1!$B$4-9):OFFSET(テストデータ!$G3,411,9*成績表1!$B$4-9))","v":0},{"$f":"SUM(OFFSET(テストデータ!$E3,411,9*成績表1!$B$4-9):OFFSET(テストデータ!I3,411,9*成績表1!$B$4-9))","v":0},{"$f":"SUM(OFFSET(テストデータ!E3,411,0):OFFSET(テストデータ!G3,411,0))","v":0},{"$f":"SUM(OFFSET(テストデータ!E3,411,0):OFFSET(テストデータ!I3,411,0))","v":0},{"$f":"SUM(OFFSET(テストデータ!N3,411,0):OFFSET(テストデータ!P3,411,0))","v":0},{"$f":"SUM(OFFSET(テストデータ!N3,411,0):OFFSET(テストデータ!R3,411,0))","v":0},{"$f":"SUM(OFFSET(テストデータ!W3,411,0):OFFSET(テストデータ!Y3,411,0))","v":0},{"$f":"SUM(OFFSET(テストデータ!W3,411,0):OFFSET(テストデータ!AA3,411,0))","v":0},{"$f":"SUM(OFFSET(テストデータ!AF3,411,0):OFFSET(テストデータ!AH3,411,0))","v":0},{"$f":"SUM(OFFSET(テストデータ!AF3,411,0):OFFSET(テストデータ!AJ3,411,0))","v":0},{"$f":"SUM(OFFSET(テストデータ!AO3,411,0):OFFSET(テストデータ!AQ3,411,0))","v":0},{"$f":"SUM(OFFSET(テストデータ!AO3,411,0):OFFSET(テストデータ!AS3,411,0))","v":0},{"$f":"SUM(OFFSET(テストデータ!AX3,411,0):OFFSET(テストデータ!AZ3,411,0))","v":0},{"$f":"SUM(OFFSET(テストデータ!AX3,411,0):OFFSET(テストデータ!BB3,411,0))","v":0},{"$f":"SUM(OFFSET(テストデータ!BG3,411,0):OFFSET(テストデータ!BI3,411,0))","v":0},{"$f":"SUM(OFFSET(テストデータ!BG3,411,0):OFFSET(テストデータ!BK3,411,0))","v":0},{"$f":"SUM(OFFSET(テストデータ!BL3,411,0):OFFSET(テストデータ!BN3,411,0))","v":0},{"$f":"SUM(OFFSET(テストデータ!BL3,411,0):OFFSET(テストデータ!BP3,411,0))","v":0},{"$f":"SUM(OFFSET(テストデータ!BQ3,411,0):OFFSET(テストデータ!BS3,411,0))","v":0},{"$f":"SUM(OFFSET(テストデータ!BQ3,411,0):OFFSET(テストデータ!BU3,411,0))","v":0},{"$f":"SUM(OFFSET(テストデータ!BV3,411,0):OFFSET(テストデータ!BX3,411,0))","v":0},{"$f":"SUM(OFFSET(テストデータ!BV3,411,0):OFFSET(テストデータ!BZ3,411,0))","v":0},{"$f":"SUM(OFFSET(テストデータ!CA3,411,0):OFFSET(テストデータ!CC3,411,0))","v":0},{"$f":"SUM(OFFSET(テストデータ!CA3,411,0):OFFSET(テストデータ!CE3,411,0))","v":0},{"$f":"SUM(OFFSET(テストデータ!CF3,411,0):OFFSET(テストデータ!CH3,411,0))","v":0},{"$f":"SUM(OFFSET(テストデータ!CF3,411,0):OFFSET(テストデータ!CJ3,411,0))","v":0},{"$f":"SUM(OFFSET(テストデータ!CK3,411,0):OFFSET(テストデータ!CM3,411,0))","v":0},{"$f":"SUM(OFFSET(テストデータ!CK3,411,0):OFFSET(テストデータ!CO3,411,0))","v":0},{"$f":"SUM(OFFSET(テストデータ!CP3,411,0):OFFSET(テストデータ!CR3,411,0))","v":0},{"$f":"SUM(OFFSET(テストデータ!CP3,411,0):OFFSET(テストデータ!CT3,411,0))","v":0}]
[null,null,null,null,null,null,null,null,null,null,null,null,null,{"$f":"SUM(OFFSET(テストデータ!$E3,412,9*成績表1!$B$4-9):OFFSET(テストデータ!$G3,412,9*成績表1!$B$4-9))","v":0},{"$f":"SUM(OFFSET(テストデータ!$E3,412,9*成績表1!$B$4-9):OFFSET(テストデータ!I3,412,9*成績表1!$B$4-9))","v":0},{"$f":"SUM(OFFSET(テストデータ!E3,412,0):OFFSET(テストデータ!G3,412,0))","v":0},{"$f":"SUM(OFFSET(テストデータ!E3,412,0):OFFSET(テストデータ!I3,412,0))","v":0},{"$f":"SUM(OFFSET(テストデータ!N3,412,0):OFFSET(テストデータ!P3,412,0))","v":0},{"$f":"SUM(OFFSET(テストデータ!N3,412,0):OFFSET(テストデータ!R3,412,0))","v":0},{"$f":"SUM(OFFSET(テストデータ!W3,412,0):OFFSET(テストデータ!Y3,412,0))","v":0},{"$f":"SUM(OFFSET(テストデータ!W3,412,0):OFFSET(テストデータ!AA3,412,0))","v":0},{"$f":"SUM(OFFSET(テストデータ!AF3,412,0):OFFSET(テストデータ!AH3,412,0))","v":0},{"$f":"SUM(OFFSET(テストデータ!AF3,412,0):OFFSET(テストデータ!AJ3,412,0))","v":0},{"$f":"SUM(OFFSET(テストデータ!AO3,412,0):OFFSET(テストデータ!AQ3,412,0))","v":0},{"$f":"SUM(OFFSET(テストデータ!AO3,412,0):OFFSET(テストデータ!AS3,412,0))","v":0},{"$f":"SUM(OFFSET(テストデータ!AX3,412,0):OFFSET(テストデータ!AZ3,412,0))","v":0},{"$f":"SUM(OFFSET(テストデータ!AX3,412,0):OFFSET(テストデータ!BB3,412,0))","v":0},{"$f":"SUM(OFFSET(テストデータ!BG3,412,0):OFFSET(テストデータ!BI3,412,0))","v":0},{"$f":"SUM(OFFSET(テストデータ!BG3,412,0):OFFSET(テストデータ!BK3,412,0))","v":0},{"$f":"SUM(OFFSET(テストデータ!BL3,412,0):OFFSET(テストデータ!BN3,412,0))","v":0},{"$f":"SUM(OFFSET(テストデータ!BL3,412,0):OFFSET(テストデータ!BP3,412,0))","v":0},{"$f":"SUM(OFFSET(テストデータ!BQ3,412,0):OFFSET(テストデータ!BS3,412,0))","v":0},{"$f":"SUM(OFFSET(テストデータ!BQ3,412,0):OFFSET(テストデータ!BU3,412,0))","v":0},{"$f":"SUM(OFFSET(テストデータ!BV3,412,0):OFFSET(テストデータ!BX3,412,0))","v":0},{"$f":"SUM(OFFSET(テストデータ!BV3,412,0):OFFSET(テストデータ!BZ3,412,0))","v":0},{"$f":"SUM(OFFSET(テストデータ!CA3,412,0):OFFSET(テストデータ!CC3,412,0))","v":0},{"$f":"SUM(OFFSET(テストデータ!CA3,412,0):OFFSET(テストデータ!CE3,412,0))","v":0},{"$f":"SUM(OFFSET(テストデータ!CF3,412,0):OFFSET(テストデータ!CH3,412,0))","v":0},{"$f":"SUM(OFFSET(テストデータ!CF3,412,0):OFFSET(テストデータ!CJ3,412,0))","v":0},{"$f":"SUM(OFFSET(テストデータ!CK3,412,0):OFFSET(テストデータ!CM3,412,0))","v":0},{"$f":"SUM(OFFSET(テストデータ!CK3,412,0):OFFSET(テストデータ!CO3,412,0))","v":0},{"$f":"SUM(OFFSET(テストデータ!CP3,412,0):OFFSET(テストデータ!CR3,412,0))","v":0},{"$f":"SUM(OFFSET(テストデータ!CP3,412,0):OFFSET(テストデータ!CT3,412,0))","v":0}]
[null,null,null,null,null,null,null,null,null,null,null,null,null,{"$f":"SUM(OFFSET(テストデータ!$E3,413,9*成績表1!$B$4-9):OFFSET(テストデータ!$G3,413,9*成績表1!$B$4-9))","v":0},{"$f":"SUM(OFFSET(テストデータ!$E3,413,9*成績表1!$B$4-9):OFFSET(テストデータ!I3,413,9*成績表1!$B$4-9))","v":0},{"$f":"SUM(OFFSET(テストデータ!E3,413,0):OFFSET(テストデータ!G3,413,0))","v":0},{"$f":"SUM(OFFSET(テストデータ!E3,413,0):OFFSET(テストデータ!I3,413,0))","v":0},{"$f":"SUM(OFFSET(テストデータ!N3,413,0):OFFSET(テストデータ!P3,413,0))","v":0},{"$f":"SUM(OFFSET(テストデータ!N3,413,0):OFFSET(テストデータ!R3,413,0))","v":0},{"$f":"SUM(OFFSET(テストデータ!W3,413,0):OFFSET(テストデータ!Y3,413,0))","v":0},{"$f":"SUM(OFFSET(テストデータ!W3,413,0):OFFSET(テストデータ!AA3,413,0))","v":0},{"$f":"SUM(OFFSET(テストデータ!AF3,413,0):OFFSET(テストデータ!AH3,413,0))","v":0},{"$f":"SUM(OFFSET(テストデータ!AF3,413,0):OFFSET(テストデータ!AJ3,413,0))","v":0},{"$f":"SUM(OFFSET(テストデータ!AO3,413,0):OFFSET(テストデータ!AQ3,413,0))","v":0},{"$f":"SUM(OFFSET(テストデータ!AO3,413,0):OFFSET(テストデータ!AS3,413,0))","v":0},{"$f":"SUM(OFFSET(テストデータ!AX3,413,0):OFFSET(テストデータ!AZ3,413,0))","v":0},{"$f":"SUM(OFFSET(テストデータ!AX3,413,0):OFFSET(テストデータ!BB3,413,0))","v":0},{"$f":"SUM(OFFSET(テストデータ!BG3,413,0):OFFSET(テストデータ!BI3,413,0))","v":0},{"$f":"SUM(OFFSET(テストデータ!BG3,413,0):OFFSET(テストデータ!BK3,413,0))","v":0},{"$f":"SUM(OFFSET(テストデータ!BL3,413,0):OFFSET(テストデータ!BN3,413,0))","v":0},{"$f":"SUM(OFFSET(テストデータ!BL3,413,0):OFFSET(テストデータ!BP3,413,0))","v":0},{"$f":"SUM(OFFSET(テストデータ!BQ3,413,0):OFFSET(テストデータ!BS3,413,0))","v":0},{"$f":"SUM(OFFSET(テストデータ!BQ3,413,0):OFFSET(テストデータ!BU3,413,0))","v":0},{"$f":"SUM(OFFSET(テストデータ!BV3,413,0):OFFSET(テストデータ!BX3,413,0))","v":0},{"$f":"SUM(OFFSET(テストデータ!BV3,413,0):OFFSET(テストデータ!BZ3,413,0))","v":0},{"$f":"SUM(OFFSET(テストデータ!CA3,413,0):OFFSET(テストデータ!CC3,413,0))","v":0},{"$f":"SUM(OFFSET(テストデータ!CA3,413,0):OFFSET(テストデータ!CE3,413,0))","v":0},{"$f":"SUM(OFFSET(テストデータ!CF3,413,0):OFFSET(テストデータ!CH3,413,0))","v":0},{"$f":"SUM(OFFSET(テストデータ!CF3,413,0):OFFSET(テストデータ!CJ3,413,0))","v":0},{"$f":"SUM(OFFSET(テストデータ!CK3,413,0):OFFSET(テストデータ!CM3,413,0))","v":0},{"$f":"SUM(OFFSET(テストデータ!CK3,413,0):OFFSET(テストデータ!CO3,413,0))","v":0},{"$f":"SUM(OFFSET(テストデータ!CP3,413,0):OFFSET(テストデータ!CR3,413,0))","v":0},{"$f":"SUM(OFFSET(テストデータ!CP3,413,0):OFFSET(テストデータ!CT3,413,0))","v":0}]
[null,null,null,null,null,null,null,null,null,null,null,null,null,{"$f":"SUM(OFFSET(テストデータ!$E3,414,9*成績表1!$B$4-9):OFFSET(テストデータ!$G3,414,9*成績表1!$B$4-9))","v":0},{"$f":"SUM(OFFSET(テストデータ!$E3,414,9*成績表1!$B$4-9):OFFSET(テストデータ!I3,414,9*成績表1!$B$4-9))","v":0},{"$f":"SUM(OFFSET(テストデータ!E3,414,0):OFFSET(テストデータ!G3,414,0))","v":0},{"$f":"SUM(OFFSET(テストデータ!E3,414,0):OFFSET(テストデータ!I3,414,0))","v":0},{"$f":"SUM(OFFSET(テストデータ!N3,414,0):OFFSET(テストデータ!P3,414,0))","v":0},{"$f":"SUM(OFFSET(テストデータ!N3,414,0):OFFSET(テストデータ!R3,414,0))","v":0},{"$f":"SUM(OFFSET(テストデータ!W3,414,0):OFFSET(テストデータ!Y3,414,0))","v":0},{"$f":"SUM(OFFSET(テストデータ!W3,414,0):OFFSET(テストデータ!AA3,414,0))","v":0},{"$f":"SUM(OFFSET(テストデータ!AF3,414,0):OFFSET(テストデータ!AH3,414,0))","v":0},{"$f":"SUM(OFFSET(テストデータ!AF3,414,0):OFFSET(テストデータ!AJ3,414,0))","v":0},{"$f":"SUM(OFFSET(テストデータ!AO3,414,0):OFFSET(テストデータ!AQ3,414,0))","v":0},{"$f":"SUM(OFFSET(テストデータ!AO3,414,0):OFFSET(テストデータ!AS3,414,0))","v":0},{"$f":"SUM(OFFSET(テストデータ!AX3,414,0):OFFSET(テストデータ!AZ3,414,0))","v":0},{"$f":"SUM(OFFSET(テストデータ!AX3,414,0):OFFSET(テストデータ!BB3,414,0))","v":0},{"$f":"SUM(OFFSET(テストデータ!BG3,414,0):OFFSET(テストデータ!BI3,414,0))","v":0},{"$f":"SUM(OFFSET(テストデータ!BG3,414,0):OFFSET(テストデータ!BK3,414,0))","v":0},{"$f":"SUM(OFFSET(テストデータ!BL3,414,0):OFFSET(テストデータ!BN3,414,0))","v":0},{"$f":"SUM(OFFSET(テストデータ!BL3,414,0):OFFSET(テストデータ!BP3,414,0))","v":0},{"$f":"SUM(OFFSET(テストデータ!BQ3,414,0):OFFSET(テストデータ!BS3,414,0))","v":0},{"$f":"SUM(OFFSET(テストデータ!BQ3,414,0):OFFSET(テストデータ!BU3,414,0))","v":0},{"$f":"SUM(OFFSET(テストデータ!BV3,414,0):OFFSET(テストデータ!BX3,414,0))","v":0},{"$f":"SUM(OFFSET(テストデータ!BV3,414,0):OFFSET(テストデータ!BZ3,414,0))","v":0},{"$f":"SUM(OFFSET(テストデータ!CA3,414,0):OFFSET(テストデータ!CC3,414,0))","v":0},{"$f":"SUM(OFFSET(テストデータ!CA3,414,0):OFFSET(テストデータ!CE3,414,0))","v":0},{"$f":"SUM(OFFSET(テストデータ!CF3,414,0):OFFSET(テストデータ!CH3,414,0))","v":0},{"$f":"SUM(OFFSET(テストデータ!CF3,414,0):OFFSET(テストデータ!CJ3,414,0))","v":0},{"$f":"SUM(OFFSET(テストデータ!CK3,414,0):OFFSET(テストデータ!CM3,414,0))","v":0},{"$f":"SUM(OFFSET(テストデータ!CK3,414,0):OFFSET(テストデータ!CO3,414,0))","v":0},{"$f":"SUM(OFFSET(テストデータ!CP3,414,0):OFFSET(テストデータ!CR3,414,0))","v":0},{"$f":"SUM(OFFSET(テストデータ!CP3,414,0):OFFSET(テストデータ!CT3,414,0))","v":0}]
[null,null,null,null,null,null,null,null,null,null,null,null,null,{"$f":"SUM(OFFSET(テストデータ!$E3,415,9*成績表1!$B$4-9):OFFSET(テストデータ!$G3,415,9*成績表1!$B$4-9))","v":0},{"$f":"SUM(OFFSET(テストデータ!$E3,415,9*成績表1!$B$4-9):OFFSET(テストデータ!I3,415,9*成績表1!$B$4-9))","v":0},{"$f":"SUM(OFFSET(テストデータ!E3,415,0):OFFSET(テストデータ!G3,415,0))","v":0},{"$f":"SUM(OFFSET(テストデータ!E3,415,0):OFFSET(テストデータ!I3,415,0))","v":0},{"$f":"SUM(OFFSET(テストデータ!N3,415,0):OFFSET(テストデータ!P3,415,0))","v":0},{"$f":"SUM(OFFSET(テストデータ!N3,415,0):OFFSET(テストデータ!R3,415,0))","v":0},{"$f":"SUM(OFFSET(テストデータ!W3,415,0):OFFSET(テストデータ!Y3,415,0))","v":0},{"$f":"SUM(OFFSET(テストデータ!W3,415,0):OFFSET(テストデータ!AA3,415,0))","v":0},{"$f":"SUM(OFFSET(テストデータ!AF3,415,0):OFFSET(テストデータ!AH3,415,0))","v":0},{"$f":"SUM(OFFSET(テストデータ!AF3,415,0):OFFSET(テストデータ!AJ3,415,0))","v":0},{"$f":"SUM(OFFSET(テストデータ!AO3,415,0):OFFSET(テストデータ!AQ3,415,0))","v":0},{"$f":"SUM(OFFSET(テストデータ!AO3,415,0):OFFSET(テストデータ!AS3,415,0))","v":0},{"$f":"SUM(OFFSET(テストデータ!AX3,415,0):OFFSET(テストデータ!AZ3,415,0))","v":0},{"$f":"SUM(OFFSET(テストデータ!AX3,415,0):OFFSET(テストデータ!BB3,415,0))","v":0},{"$f":"SUM(OFFSET(テストデータ!BG3,415,0):OFFSET(テストデータ!BI3,415,0))","v":0},{"$f":"SUM(OFFSET(テストデータ!BG3,415,0):OFFSET(テストデータ!BK3,415,0))","v":0},{"$f":"SUM(OFFSET(テストデータ!BL3,415,0):OFFSET(テストデータ!BN3,415,0))","v":0},{"$f":"SUM(OFFSET(テストデータ!BL3,415,0):OFFSET(テストデータ!BP3,415,0))","v":0},{"$f":"SUM(OFFSET(テストデータ!BQ3,415,0):OFFSET(テストデータ!BS3,415,0))","v":0},{"$f":"SUM(OFFSET(テストデータ!BQ3,415,0):OFFSET(テストデータ!BU3,415,0))","v":0},{"$f":"SUM(OFFSET(テストデータ!BV3,415,0):OFFSET(テストデータ!BX3,415,0))","v":0},{"$f":"SUM(OFFSET(テストデータ!BV3,415,0):OFFSET(テストデータ!BZ3,415,0))","v":0},{"$f":"SUM(OFFSET(テストデータ!CA3,415,0):OFFSET(テストデータ!CC3,415,0))","v":0},{"$f":"SUM(OFFSET(テストデータ!CA3,415,0):OFFSET(テストデータ!CE3,415,0))","v":0},{"$f":"SUM(OFFSET(テストデータ!CF3,415,0):OFFSET(テストデータ!CH3,415,0))","v":0},{"$f":"SUM(OFFSET(テストデータ!CF3,415,0):OFFSET(テストデータ!CJ3,415,0))","v":0},{"$f":"SUM(OFFSET(テストデータ!CK3,415,0):OFFSET(テストデータ!CM3,415,0))","v":0},{"$f":"SUM(OFFSET(テストデータ!CK3,415,0):OFFSET(テストデータ!CO3,415,0))","v":0},{"$f":"SUM(OFFSET(テストデータ!CP3,415,0):OFFSET(テストデータ!CR3,415,0))","v":0},{"$f":"SUM(OFFSET(テストデータ!CP3,415,0):OFFSET(テストデータ!CT3,415,0))","v":0}]
[null,null,null,null,null,null,null,null,null,null,null,null,null,{"$f":"SUM(OFFSET(テストデータ!$E3,416,9*成績表1!$B$4-9):OFFSET(テストデータ!$G3,416,9*成績表1!$B$4-9))","v":0},{"$f":"SUM(OFFSET(テストデータ!$E3,416,9*成績表1!$B$4-9):OFFSET(テストデータ!I3,416,9*成績表1!$B$4-9))","v":0},{"$f":"SUM(OFFSET(テストデータ!E3,416,0):OFFSET(テストデータ!G3,416,0))","v":0},{"$f":"SUM(OFFSET(テストデータ!E3,416,0):OFFSET(テストデータ!I3,416,0))","v":0},{"$f":"SUM(OFFSET(テストデータ!N3,416,0):OFFSET(テストデータ!P3,416,0))","v":0},{"$f":"SUM(OFFSET(テストデータ!N3,416,0):OFFSET(テストデータ!R3,416,0))","v":0},{"$f":"SUM(OFFSET(テストデータ!W3,416,0):OFFSET(テストデータ!Y3,416,0))","v":0},{"$f":"SUM(OFFSET(テストデータ!W3,416,0):OFFSET(テストデータ!AA3,416,0))","v":0},{"$f":"SUM(OFFSET(テストデータ!AF3,416,0):OFFSET(テストデータ!AH3,416,0))","v":0},{"$f":"SUM(OFFSET(テストデータ!AF3,416,0):OFFSET(テストデータ!AJ3,416,0))","v":0},{"$f":"SUM(OFFSET(テストデータ!AO3,416,0):OFFSET(テストデータ!AQ3,416,0))","v":0},{"$f":"SUM(OFFSET(テストデータ!AO3,416,0):OFFSET(テストデータ!AS3,416,0))","v":0},{"$f":"SUM(OFFSET(テストデータ!AX3,416,0):OFFSET(テストデータ!AZ3,416,0))","v":0},{"$f":"SUM(OFFSET(テストデータ!AX3,416,0):OFFSET(テストデータ!BB3,416,0))","v":0},{"$f":"SUM(OFFSET(テストデータ!BG3,416,0):OFFSET(テストデータ!BI3,416,0))","v":0},{"$f":"SUM(OFFSET(テストデータ!BG3,416,0):OFFSET(テストデータ!BK3,416,0))","v":0},{"$f":"SUM(OFFSET(テストデータ!BL3,416,0):OFFSET(テストデータ!BN3,416,0))","v":0},{"$f":"SUM(OFFSET(テストデータ!BL3,416,0):OFFSET(テストデータ!BP3,416,0))","v":0},{"$f":"SUM(OFFSET(テストデータ!BQ3,416,0):OFFSET(テストデータ!BS3,416,0))","v":0},{"$f":"SUM(OFFSET(テストデータ!BQ3,416,0):OFFSET(テストデータ!BU3,416,0))","v":0},{"$f":"SUM(OFFSET(テストデータ!BV3,416,0):OFFSET(テストデータ!BX3,416,0))","v":0},{"$f":"SUM(OFFSET(テストデータ!BV3,416,0):OFFSET(テストデータ!BZ3,416,0))","v":0},{"$f":"SUM(OFFSET(テストデータ!CA3,416,0):OFFSET(テストデータ!CC3,416,0))","v":0},{"$f":"SUM(OFFSET(テストデータ!CA3,416,0):OFFSET(テストデータ!CE3,416,0))","v":0},{"$f":"SUM(OFFSET(テストデータ!CF3,416,0):OFFSET(テストデータ!CH3,416,0))","v":0},{"$f":"SUM(OFFSET(テストデータ!CF3,416,0):OFFSET(テストデータ!CJ3,416,0))","v":0},{"$f":"SUM(OFFSET(テストデータ!CK3,416,0):OFFSET(テストデータ!CM3,416,0))","v":0},{"$f":"SUM(OFFSET(テストデータ!CK3,416,0):OFFSET(テストデータ!CO3,416,0))","v":0},{"$f":"SUM(OFFSET(テストデータ!CP3,416,0):OFFSET(テストデータ!CR3,416,0))","v":0},{"$f":"SUM(OFFSET(テストデータ!CP3,416,0):OFFSET(テストデータ!CT3,416,0))","v":0}]
[null,null,null,null,null,null,null,null,null,null,null,null,null,{"$f":"SUM(OFFSET(テストデータ!$E3,417,9*成績表1!$B$4-9):OFFSET(テストデータ!$G3,417,9*成績表1!$B$4-9))","v":0},{"$f":"SUM(OFFSET(テストデータ!$E3,417,9*成績表1!$B$4-9):OFFSET(テストデータ!I3,417,9*成績表1!$B$4-9))","v":0},{"$f":"SUM(OFFSET(テストデータ!E3,417,0):OFFSET(テストデータ!G3,417,0))","v":0},{"$f":"SUM(OFFSET(テストデータ!E3,417,0):OFFSET(テストデータ!I3,417,0))","v":0},{"$f":"SUM(OFFSET(テストデータ!N3,417,0):OFFSET(テストデータ!P3,417,0))","v":0},{"$f":"SUM(OFFSET(テストデータ!N3,417,0):OFFSET(テストデータ!R3,417,0))","v":0},{"$f":"SUM(OFFSET(テストデータ!W3,417,0):OFFSET(テストデータ!Y3,417,0))","v":0},{"$f":"SUM(OFFSET(テストデータ!W3,417,0):OFFSET(テストデータ!AA3,417,0))","v":0},{"$f":"SUM(OFFSET(テストデータ!AF3,417,0):OFFSET(テストデータ!AH3,417,0))","v":0},{"$f":"SUM(OFFSET(テストデータ!AF3,417,0):OFFSET(テストデータ!AJ3,417,0))","v":0},{"$f":"SUM(OFFSET(テストデータ!AO3,417,0):OFFSET(テストデータ!AQ3,417,0))","v":0},{"$f":"SUM(OFFSET(テストデータ!AO3,417,0):OFFSET(テストデータ!AS3,417,0))","v":0},{"$f":"SUM(OFFSET(テストデータ!AX3,417,0):OFFSET(テストデータ!AZ3,417,0))","v":0},{"$f":"SUM(OFFSET(テストデータ!AX3,417,0):OFFSET(テストデータ!BB3,417,0))","v":0},{"$f":"SUM(OFFSET(テストデータ!BG3,417,0):OFFSET(テストデータ!BI3,417,0))","v":0},{"$f":"SUM(OFFSET(テストデータ!BG3,417,0):OFFSET(テストデータ!BK3,417,0))","v":0},{"$f":"SUM(OFFSET(テストデータ!BL3,417,0):OFFSET(テストデータ!BN3,417,0))","v":0},{"$f":"SUM(OFFSET(テストデータ!BL3,417,0):OFFSET(テストデータ!BP3,417,0))","v":0},{"$f":"SUM(OFFSET(テストデータ!BQ3,417,0):OFFSET(テストデータ!BS3,417,0))","v":0},{"$f":"SUM(OFFSET(テストデータ!BQ3,417,0):OFFSET(テストデータ!BU3,417,0))","v":0},{"$f":"SUM(OFFSET(テストデータ!BV3,417,0):OFFSET(テストデータ!BX3,417,0))","v":0},{"$f":"SUM(OFFSET(テストデータ!BV3,417,0):OFFSET(テストデータ!BZ3,417,0))","v":0},{"$f":"SUM(OFFSET(テストデータ!CA3,417,0):OFFSET(テストデータ!CC3,417,0))","v":0},{"$f":"SUM(OFFSET(テストデータ!CA3,417,0):OFFSET(テストデータ!CE3,417,0))","v":0},{"$f":"SUM(OFFSET(テストデータ!CF3,417,0):OFFSET(テストデータ!CH3,417,0))","v":0},{"$f":"SUM(OFFSET(テストデータ!CF3,417,0):OFFSET(テストデータ!CJ3,417,0))","v":0},{"$f":"SUM(OFFSET(テストデータ!CK3,417,0):OFFSET(テストデータ!CM3,417,0))","v":0},{"$f":"SUM(OFFSET(テストデータ!CK3,417,0):OFFSET(テストデータ!CO3,417,0))","v":0},{"$f":"SUM(OFFSET(テストデータ!CP3,417,0):OFFSET(テストデータ!CR3,417,0))","v":0},{"$f":"SUM(OFFSET(テストデータ!CP3,417,0):OFFSET(テストデータ!CT3,417,0))","v":0}]
[null,null,null,null,null,null,null,null,null,null,null,null,null,{"$f":"SUM(OFFSET(テストデータ!$E3,418,9*成績表1!$B$4-9):OFFSET(テストデータ!$G3,418,9*成績表1!$B$4-9))","v":0},{"$f":"SUM(OFFSET(テストデータ!$E3,418,9*成績表1!$B$4-9):OFFSET(テストデータ!I3,418,9*成績表1!$B$4-9))","v":0},{"$f":"SUM(OFFSET(テストデータ!E3,418,0):OFFSET(テストデータ!G3,418,0))","v":0},{"$f":"SUM(OFFSET(テストデータ!E3,418,0):OFFSET(テストデータ!I3,418,0))","v":0},{"$f":"SUM(OFFSET(テストデータ!N3,418,0):OFFSET(テストデータ!P3,418,0))","v":0},{"$f":"SUM(OFFSET(テストデータ!N3,418,0):OFFSET(テストデータ!R3,418,0))","v":0},{"$f":"SUM(OFFSET(テストデータ!W3,418,0):OFFSET(テストデータ!Y3,418,0))","v":0},{"$f":"SUM(OFFSET(テストデータ!W3,418,0):OFFSET(テストデータ!AA3,418,0))","v":0},{"$f":"SUM(OFFSET(テストデータ!AF3,418,0):OFFSET(テストデータ!AH3,418,0))","v":0},{"$f":"SUM(OFFSET(テストデータ!AF3,418,0):OFFSET(テストデータ!AJ3,418,0))","v":0},{"$f":"SUM(OFFSET(テストデータ!AO3,418,0):OFFSET(テストデータ!AQ3,418,0))","v":0},{"$f":"SUM(OFFSET(テストデータ!AO3,418,0):OFFSET(テストデータ!AS3,418,0))","v":0},{"$f":"SUM(OFFSET(テストデータ!AX3,418,0):OFFSET(テストデータ!AZ3,418,0))","v":0},{"$f":"SUM(OFFSET(テストデータ!AX3,418,0):OFFSET(テストデータ!BB3,418,0))","v":0},{"$f":"SUM(OFFSET(テストデータ!BG3,418,0):OFFSET(テストデータ!BI3,418,0))","v":0},{"$f":"SUM(OFFSET(テストデータ!BG3,418,0):OFFSET(テストデータ!BK3,418,0))","v":0},{"$f":"SUM(OFFSET(テストデータ!BL3,418,0):OFFSET(テストデータ!BN3,418,0))","v":0},{"$f":"SUM(OFFSET(テストデータ!BL3,418,0):OFFSET(テストデータ!BP3,418,0))","v":0},{"$f":"SUM(OFFSET(テストデータ!BQ3,418,0):OFFSET(テストデータ!BS3,418,0))","v":0},{"$f":"SUM(OFFSET(テストデータ!BQ3,418,0):OFFSET(テストデータ!BU3,418,0))","v":0},{"$f":"SUM(OFFSET(テストデータ!BV3,418,0):OFFSET(テストデータ!BX3,418,0))","v":0},{"$f":"SUM(OFFSET(テストデータ!BV3,418,0):OFFSET(テストデータ!BZ3,418,0))","v":0},{"$f":"SUM(OFFSET(テストデータ!CA3,418,0):OFFSET(テストデータ!CC3,418,0))","v":0},{"$f":"SUM(OFFSET(テストデータ!CA3,418,0):OFFSET(テストデータ!CE3,418,0))","v":0},{"$f":"SUM(OFFSET(テストデータ!CF3,418,0):OFFSET(テストデータ!CH3,418,0))","v":0},{"$f":"SUM(OFFSET(テストデータ!CF3,418,0):OFFSET(テストデータ!CJ3,418,0))","v":0},{"$f":"SUM(OFFSET(テストデータ!CK3,418,0):OFFSET(テストデータ!CM3,418,0))","v":0},{"$f":"SUM(OFFSET(テストデータ!CK3,418,0):OFFSET(テストデータ!CO3,418,0))","v":0},{"$f":"SUM(OFFSET(テストデータ!CP3,418,0):OFFSET(テストデータ!CR3,418,0))","v":0},{"$f":"SUM(OFFSET(テストデータ!CP3,418,0):OFFSET(テストデータ!CT3,418,0))","v":0}]
[null,null,null,null,null,null,null,null,null,null,null,null,null,{"$f":"SUM(OFFSET(テストデータ!$E3,419,9*成績表1!$B$4-9):OFFSET(テストデータ!$G3,419,9*成績表1!$B$4-9))","v":0},{"$f":"SUM(OFFSET(テストデータ!$E3,419,9*成績表1!$B$4-9):OFFSET(テストデータ!I3,419,9*成績表1!$B$4-9))","v":0},{"$f":"SUM(OFFSET(テストデータ!E3,419,0):OFFSET(テストデータ!G3,419,0))","v":0},{"$f":"SUM(OFFSET(テストデータ!E3,419,0):OFFSET(テストデータ!I3,419,0))","v":0},{"$f":"SUM(OFFSET(テストデータ!N3,419,0):OFFSET(テストデータ!P3,419,0))","v":0},{"$f":"SUM(OFFSET(テストデータ!N3,419,0):OFFSET(テストデータ!R3,419,0))","v":0},{"$f":"SUM(OFFSET(テストデータ!W3,419,0):OFFSET(テストデータ!Y3,419,0))","v":0},{"$f":"SUM(OFFSET(テストデータ!W3,419,0):OFFSET(テストデータ!AA3,419,0))","v":0},{"$f":"SUM(OFFSET(テストデータ!AF3,419,0):OFFSET(テストデータ!AH3,419,0))","v":0},{"$f":"SUM(OFFSET(テストデータ!AF3,419,0):OFFSET(テストデータ!AJ3,419,0))","v":0},{"$f":"SUM(OFFSET(テストデータ!AO3,419,0):OFFSET(テストデータ!AQ3,419,0))","v":0},{"$f":"SUM(OFFSET(テストデータ!AO3,419,0):OFFSET(テストデータ!AS3,419,0))","v":0},{"$f":"SUM(OFFSET(テストデータ!AX3,419,0):OFFSET(テストデータ!AZ3,419,0))","v":0},{"$f":"SUM(OFFSET(テストデータ!AX3,419,0):OFFSET(テストデータ!BB3,419,0))","v":0},{"$f":"SUM(OFFSET(テストデータ!BG3,419,0):OFFSET(テストデータ!BI3,419,0))","v":0},{"$f":"SUM(OFFSET(テストデータ!BG3,419,0):OFFSET(テストデータ!BK3,419,0))","v":0},{"$f":"SUM(OFFSET(テストデータ!BL3,419,0):OFFSET(テストデータ!BN3,419,0))","v":0},{"$f":"SUM(OFFSET(テストデータ!BL3,419,0):OFFSET(テストデータ!BP3,419,0))","v":0},{"$f":"SUM(OFFSET(テストデータ!BQ3,419,0):OFFSET(テストデータ!BS3,419,0))","v":0},{"$f":"SUM(OFFSET(テストデータ!BQ3,419,0):OFFSET(テストデータ!BU3,419,0))","v":0},{"$f":"SUM(OFFSET(テストデータ!BV3,419,0):OFFSET(テストデータ!BX3,419,0))","v":0},{"$f":"SUM(OFFSET(テストデータ!BV3,419,0):OFFSET(テストデータ!BZ3,419,0))","v":0},{"$f":"SUM(OFFSET(テストデータ!CA3,419,0):OFFSET(テストデータ!CC3,419,0))","v":0},{"$f":"SUM(OFFSET(テストデータ!CA3,419,0):OFFSET(テストデータ!CE3,419,0))","v":0},{"$f":"SUM(OFFSET(テストデータ!CF3,419,0):OFFSET(テストデータ!CH3,419,0))","v":0},{"$f":"SUM(OFFSET(テストデータ!CF3,419,0):OFFSET(テストデータ!CJ3,419,0))","v":0},{"$f":"SUM(OFFSET(テストデータ!CK3,419,0):OFFSET(テストデータ!CM3,419,0))","v":0},{"$f":"SUM(OFFSET(テストデータ!CK3,419,0):OFFSET(テストデータ!CO3,419,0))","v":0},{"$f":"SUM(OFFSET(テストデータ!CP3,419,0):OFFSET(テストデータ!CR3,419,0))","v":0},{"$f":"SUM(OFFSET(テストデータ!CP3,419,0):OFFSET(テストデータ!CT3,419,0))","v":0}]
[null,null,null,null,null,null,null,null,null,null,null,null,null,{"$f":"SUM(OFFSET(テストデータ!$E3,420,9*成績表1!$B$4-9):OFFSET(テストデータ!$G3,420,9*成績表1!$B$4-9))","v":0},{"$f":"SUM(OFFSET(テストデータ!$E3,420,9*成績表1!$B$4-9):OFFSET(テストデータ!I3,420,9*成績表1!$B$4-9))","v":0},{"$f":"SUM(OFFSET(テストデータ!E3,420,0):OFFSET(テストデータ!G3,420,0))","v":0},{"$f":"SUM(OFFSET(テストデータ!E3,420,0):OFFSET(テストデータ!I3,420,0))","v":0},{"$f":"SUM(OFFSET(テストデータ!N3,420,0):OFFSET(テストデータ!P3,420,0))","v":0},{"$f":"SUM(OFFSET(テストデータ!N3,420,0):OFFSET(テストデータ!R3,420,0))","v":0},{"$f":"SUM(OFFSET(テストデータ!W3,420,0):OFFSET(テストデータ!Y3,420,0))","v":0},{"$f":"SUM(OFFSET(テストデータ!W3,420,0):OFFSET(テストデータ!AA3,420,0))","v":0},{"$f":"SUM(OFFSET(テストデータ!AF3,420,0):OFFSET(テストデータ!AH3,420,0))","v":0},{"$f":"SUM(OFFSET(テストデータ!AF3,420,0):OFFSET(テストデータ!AJ3,420,0))","v":0},{"$f":"SUM(OFFSET(テストデータ!AO3,420,0):OFFSET(テストデータ!AQ3,420,0))","v":0},{"$f":"SUM(OFFSET(テストデータ!AO3,420,0):OFFSET(テストデータ!AS3,420,0))","v":0},{"$f":"SUM(OFFSET(テストデータ!AX3,420,0):OFFSET(テストデータ!AZ3,420,0))","v":0},{"$f":"SUM(OFFSET(テストデータ!AX3,420,0):OFFSET(テストデータ!BB3,420,0))","v":0},{"$f":"SUM(OFFSET(テストデータ!BG3,420,0):OFFSET(テストデータ!BI3,420,0))","v":0},{"$f":"SUM(OFFSET(テストデータ!BG3,420,0):OFFSET(テストデータ!BK3,420,0))","v":0},{"$f":"SUM(OFFSET(テストデータ!BL3,420,0):OFFSET(テストデータ!BN3,420,0))","v":0},{"$f":"SUM(OFFSET(テストデータ!BL3,420,0):OFFSET(テストデータ!BP3,420,0))","v":0},{"$f":"SUM(OFFSET(テストデータ!BQ3,420,0):OFFSET(テストデータ!BS3,420,0))","v":0},{"$f":"SUM(OFFSET(テストデータ!BQ3,420,0):OFFSET(テストデータ!BU3,420,0))","v":0},{"$f":"SUM(OFFSET(テストデータ!BV3,420,0):OFFSET(テストデータ!BX3,420,0))","v":0},{"$f":"SUM(OFFSET(テストデータ!BV3,420,0):OFFSET(テストデータ!BZ3,420,0))","v":0},{"$f":"SUM(OFFSET(テストデータ!CA3,420,0):OFFSET(テストデータ!CC3,420,0))","v":0},{"$f":"SUM(OFFSET(テストデータ!CA3,420,0):OFFSET(テストデータ!CE3,420,0))","v":0},{"$f":"SUM(OFFSET(テストデータ!CF3,420,0):OFFSET(テストデータ!CH3,420,0))","v":0},{"$f":"SUM(OFFSET(テストデータ!CF3,420,0):OFFSET(テストデータ!CJ3,420,0))","v":0},{"$f":"SUM(OFFSET(テストデータ!CK3,420,0):OFFSET(テストデータ!CM3,420,0))","v":0},{"$f":"SUM(OFFSET(テストデータ!CK3,420,0):OFFSET(テストデータ!CO3,420,0))","v":0},{"$f":"SUM(OFFSET(テストデータ!CP3,420,0):OFFSET(テストデータ!CR3,420,0))","v":0},{"$f":"SUM(OFFSET(テストデータ!CP3,420,0):OFFSET(テストデータ!CT3,420,0))","v":0}]
[null,null,null,null,null,null,null,null,null,null,null,null,null,{"$f":"SUM(OFFSET(テストデータ!$E3,421,9*成績表1!$B$4-9):OFFSET(テストデータ!$G3,421,9*成績表1!$B$4-9))","v":0},{"$f":"SUM(OFFSET(テストデータ!$E3,421,9*成績表1!$B$4-9):OFFSET(テストデータ!I3,421,9*成績表1!$B$4-9))","v":0},{"$f":"SUM(OFFSET(テストデータ!E3,421,0):OFFSET(テストデータ!G3,421,0))","v":0},{"$f":"SUM(OFFSET(テストデータ!E3,421,0):OFFSET(テストデータ!I3,421,0))","v":0},{"$f":"SUM(OFFSET(テストデータ!N3,421,0):OFFSET(テストデータ!P3,421,0))","v":0},{"$f":"SUM(OFFSET(テストデータ!N3,421,0):OFFSET(テストデータ!R3,421,0))","v":0},{"$f":"SUM(OFFSET(テストデータ!W3,421,0):OFFSET(テストデータ!Y3,421,0))","v":0},{"$f":"SUM(OFFSET(テストデータ!W3,421,0):OFFSET(テストデータ!AA3,421,0))","v":0},{"$f":"SUM(OFFSET(テストデータ!AF3,421,0):OFFSET(テストデータ!AH3,421,0))","v":0},{"$f":"SUM(OFFSET(テストデータ!AF3,421,0):OFFSET(テストデータ!AJ3,421,0))","v":0},{"$f":"SUM(OFFSET(テストデータ!AO3,421,0):OFFSET(テストデータ!AQ3,421,0))","v":0},{"$f":"SUM(OFFSET(テストデータ!AO3,421,0):OFFSET(テストデータ!AS3,421,0))","v":0},{"$f":"SUM(OFFSET(テストデータ!AX3,421,0):OFFSET(テストデータ!AZ3,421,0))","v":0},{"$f":"SUM(OFFSET(テストデータ!AX3,421,0):OFFSET(テストデータ!BB3,421,0))","v":0},{"$f":"SUM(OFFSET(テストデータ!BG3,421,0):OFFSET(テストデータ!BI3,421,0))","v":0},{"$f":"SUM(OFFSET(テストデータ!BG3,421,0):OFFSET(テストデータ!BK3,421,0))","v":0},{"$f":"SUM(OFFSET(テストデータ!BL3,421,0):OFFSET(テストデータ!BN3,421,0))","v":0},{"$f":"SUM(OFFSET(テストデータ!BL3,421,0):OFFSET(テストデータ!BP3,421,0))","v":0},{"$f":"SUM(OFFSET(テストデータ!BQ3,421,0):OFFSET(テストデータ!BS3,421,0))","v":0},{"$f":"SUM(OFFSET(テストデータ!BQ3,421,0):OFFSET(テストデータ!BU3,421,0))","v":0},{"$f":"SUM(OFFSET(テストデータ!BV3,421,0):OFFSET(テストデータ!BX3,421,0))","v":0},{"$f":"SUM(OFFSET(テストデータ!BV3,421,0):OFFSET(テストデータ!BZ3,421,0))","v":0},{"$f":"SUM(OFFSET(テストデータ!CA3,421,0):OFFSET(テストデータ!CC3,421,0))","v":0},{"$f":"SUM(OFFSET(テストデータ!CA3,421,0):OFFSET(テストデータ!CE3,421,0))","v":0},{"$f":"SUM(OFFSET(テストデータ!CF3,421,0):OFFSET(テストデータ!CH3,421,0))","v":0},{"$f":"SUM(OFFSET(テストデータ!CF3,421,0):OFFSET(テストデータ!CJ3,421,0))","v":0},{"$f":"SUM(OFFSET(テストデータ!CK3,421,0):OFFSET(テストデータ!CM3,421,0))","v":0},{"$f":"SUM(OFFSET(テストデータ!CK3,421,0):OFFSET(テストデータ!CO3,421,0))","v":0},{"$f":"SUM(OFFSET(テストデータ!CP3,421,0):OFFSET(テストデータ!CR3,421,0))","v":0},{"$f":"SUM(OFFSET(テストデータ!CP3,421,0):OFFSET(テストデータ!CT3,421,0))","v":0}]
[null,null,null,null,null,null,null,null,null,null,null,null,null,{"$f":"SUM(OFFSET(テストデータ!$E3,422,9*成績表1!$B$4-9):OFFSET(テストデータ!$G3,422,9*成績表1!$B$4-9))","v":0},{"$f":"SUM(OFFSET(テストデータ!$E3,422,9*成績表1!$B$4-9):OFFSET(テストデータ!I3,422,9*成績表1!$B$4-9))","v":0},{"$f":"SUM(OFFSET(テストデータ!E3,422,0):OFFSET(テストデータ!G3,422,0))","v":0},{"$f":"SUM(OFFSET(テストデータ!E3,422,0):OFFSET(テストデータ!I3,422,0))","v":0},{"$f":"SUM(OFFSET(テストデータ!N3,422,0):OFFSET(テストデータ!P3,422,0))","v":0},{"$f":"SUM(OFFSET(テストデータ!N3,422,0):OFFSET(テストデータ!R3,422,0))","v":0},{"$f":"SUM(OFFSET(テストデータ!W3,422,0):OFFSET(テストデータ!Y3,422,0))","v":0},{"$f":"SUM(OFFSET(テストデータ!W3,422,0):OFFSET(テストデータ!AA3,422,0))","v":0},{"$f":"SUM(OFFSET(テストデータ!AF3,422,0):OFFSET(テストデータ!AH3,422,0))","v":0},{"$f":"SUM(OFFSET(テストデータ!AF3,422,0):OFFSET(テストデータ!AJ3,422,0))","v":0},{"$f":"SUM(OFFSET(テストデータ!AO3,422,0):OFFSET(テストデータ!AQ3,422,0))","v":0},{"$f":"SUM(OFFSET(テストデータ!AO3,422,0):OFFSET(テストデータ!AS3,422,0))","v":0},{"$f":"SUM(OFFSET(テストデータ!AX3,422,0):OFFSET(テストデータ!AZ3,422,0))","v":0},{"$f":"SUM(OFFSET(テストデータ!AX3,422,0):OFFSET(テストデータ!BB3,422,0))","v":0},{"$f":"SUM(OFFSET(テストデータ!BG3,422,0):OFFSET(テストデータ!BI3,422,0))","v":0},{"$f":"SUM(OFFSET(テストデータ!BG3,422,0):OFFSET(テストデータ!BK3,422,0))","v":0},{"$f":"SUM(OFFSET(テストデータ!BL3,422,0):OFFSET(テストデータ!BN3,422,0))","v":0},{"$f":"SUM(OFFSET(テストデータ!BL3,422,0):OFFSET(テストデータ!BP3,422,0))","v":0},{"$f":"SUM(OFFSET(テストデータ!BQ3,422,0):OFFSET(テストデータ!BS3,422,0))","v":0},{"$f":"SUM(OFFSET(テストデータ!BQ3,422,0):OFFSET(テストデータ!BU3,422,0))","v":0},{"$f":"SUM(OFFSET(テストデータ!BV3,422,0):OFFSET(テストデータ!BX3,422,0))","v":0},{"$f":"SUM(OFFSET(テストデータ!BV3,422,0):OFFSET(テストデータ!BZ3,422,0))","v":0},{"$f":"SUM(OFFSET(テストデータ!CA3,422,0):OFFSET(テストデータ!CC3,422,0))","v":0},{"$f":"SUM(OFFSET(テストデータ!CA3,422,0):OFFSET(テストデータ!CE3,422,0))","v":0},{"$f":"SUM(OFFSET(テストデータ!CF3,422,0):OFFSET(テストデータ!CH3,422,0))","v":0},{"$f":"SUM(OFFSET(テストデータ!CF3,422,0):OFFSET(テストデータ!CJ3,422,0))","v":0},{"$f":"SUM(OFFSET(テストデータ!CK3,422,0):OFFSET(テストデータ!CM3,422,0))","v":0},{"$f":"SUM(OFFSET(テストデータ!CK3,422,0):OFFSET(テストデータ!CO3,422,0))","v":0},{"$f":"SUM(OFFSET(テストデータ!CP3,422,0):OFFSET(テストデータ!CR3,422,0))","v":0},{"$f":"SUM(OFFSET(テストデータ!CP3,422,0):OFFSET(テストデータ!CT3,422,0))","v":0}]
[null,null,null,null,null,null,null,null,null,null,null,null,null,{"$f":"SUM(OFFSET(テストデータ!$E3,423,9*成績表1!$B$4-9):OFFSET(テストデータ!$G3,423,9*成績表1!$B$4-9))","v":0},{"$f":"SUM(OFFSET(テストデータ!$E3,423,9*成績表1!$B$4-9):OFFSET(テストデータ!I3,423,9*成績表1!$B$4-9))","v":0},{"$f":"SUM(OFFSET(テストデータ!E3,423,0):OFFSET(テストデータ!G3,423,0))","v":0},{"$f":"SUM(OFFSET(テストデータ!E3,423,0):OFFSET(テストデータ!I3,423,0))","v":0},{"$f":"SUM(OFFSET(テストデータ!N3,423,0):OFFSET(テストデータ!P3,423,0))","v":0},{"$f":"SUM(OFFSET(テストデータ!N3,423,0):OFFSET(テストデータ!R3,423,0))","v":0},{"$f":"SUM(OFFSET(テストデータ!W3,423,0):OFFSET(テストデータ!Y3,423,0))","v":0},{"$f":"SUM(OFFSET(テストデータ!W3,423,0):OFFSET(テストデータ!AA3,423,0))","v":0},{"$f":"SUM(OFFSET(テストデータ!AF3,423,0):OFFSET(テストデータ!AH3,423,0))","v":0},{"$f":"SUM(OFFSET(テストデータ!AF3,423,0):OFFSET(テストデータ!AJ3,423,0))","v":0},{"$f":"SUM(OFFSET(テストデータ!AO3,423,0):OFFSET(テストデータ!AQ3,423,0))","v":0},{"$f":"SUM(OFFSET(テストデータ!AO3,423,0):OFFSET(テストデータ!AS3,423,0))","v":0},{"$f":"SUM(OFFSET(テストデータ!AX3,423,0):OFFSET(テストデータ!AZ3,423,0))","v":0},{"$f":"SUM(OFFSET(テストデータ!AX3,423,0):OFFSET(テストデータ!BB3,423,0))","v":0},{"$f":"SUM(OFFSET(テストデータ!BG3,423,0):OFFSET(テストデータ!BI3,423,0))","v":0},{"$f":"SUM(OFFSET(テストデータ!BG3,423,0):OFFSET(テストデータ!BK3,423,0))","v":0},{"$f":"SUM(OFFSET(テストデータ!BL3,423,0):OFFSET(テストデータ!BN3,423,0))","v":0},{"$f":"SUM(OFFSET(テストデータ!BL3,423,0):OFFSET(テストデータ!BP3,423,0))","v":0},{"$f":"SUM(OFFSET(テストデータ!BQ3,423,0):OFFSET(テストデータ!BS3,423,0))","v":0},{"$f":"SUM(OFFSET(テストデータ!BQ3,423,0):OFFSET(テストデータ!BU3,423,0))","v":0},{"$f":"SUM(OFFSET(テストデータ!BV3,423,0):OFFSET(テストデータ!BX3,423,0))","v":0},{"$f":"SUM(OFFSET(テストデータ!BV3,423,0):OFFSET(テストデータ!BZ3,423,0))","v":0},{"$f":"SUM(OFFSET(テストデータ!CA3,423,0):OFFSET(テストデータ!CC3,423,0))","v":0},{"$f":"SUM(OFFSET(テストデータ!CA3,423,0):OFFSET(テストデータ!CE3,423,0))","v":0},{"$f":"SUM(OFFSET(テストデータ!CF3,423,0):OFFSET(テストデータ!CH3,423,0))","v":0},{"$f":"SUM(OFFSET(テストデータ!CF3,423,0):OFFSET(テストデータ!CJ3,423,0))","v":0},{"$f":"SUM(OFFSET(テストデータ!CK3,423,0):OFFSET(テストデータ!CM3,423,0))","v":0},{"$f":"SUM(OFFSET(テストデータ!CK3,423,0):OFFSET(テストデータ!CO3,423,0))","v":0},{"$f":"SUM(OFFSET(テストデータ!CP3,423,0):OFFSET(テストデータ!CR3,423,0))","v":0},{"$f":"SUM(OFFSET(テストデータ!CP3,423,0):OFFSET(テストデータ!CT3,423,0))","v":0}]
[null,null,null,null,null,null,null,null,null,null,null,null,null,{"$f":"SUM(OFFSET(テストデータ!$E3,424,9*成績表1!$B$4-9):OFFSET(テストデータ!$G3,424,9*成績表1!$B$4-9))","v":0},{"$f":"SUM(OFFSET(テストデータ!$E3,424,9*成績表1!$B$4-9):OFFSET(テストデータ!I3,424,9*成績表1!$B$4-9))","v":0},{"$f":"SUM(OFFSET(テストデータ!E3,424,0):OFFSET(テストデータ!G3,424,0))","v":0},{"$f":"SUM(OFFSET(テストデータ!E3,424,0):OFFSET(テストデータ!I3,424,0))","v":0},{"$f":"SUM(OFFSET(テストデータ!N3,424,0):OFFSET(テストデータ!P3,424,0))","v":0},{"$f":"SUM(OFFSET(テストデータ!N3,424,0):OFFSET(テストデータ!R3,424,0))","v":0},{"$f":"SUM(OFFSET(テストデータ!W3,424,0):OFFSET(テストデータ!Y3,424,0))","v":0},{"$f":"SUM(OFFSET(テストデータ!W3,424,0):OFFSET(テストデータ!AA3,424,0))","v":0},{"$f":"SUM(OFFSET(テストデータ!AF3,424,0):OFFSET(テストデータ!AH3,424,0))","v":0},{"$f":"SUM(OFFSET(テストデータ!AF3,424,0):OFFSET(テストデータ!AJ3,424,0))","v":0},{"$f":"SUM(OFFSET(テストデータ!AO3,424,0):OFFSET(テストデータ!AQ3,424,0))","v":0},{"$f":"SUM(OFFSET(テストデータ!AO3,424,0):OFFSET(テストデータ!AS3,424,0))","v":0},{"$f":"SUM(OFFSET(テストデータ!AX3,424,0):OFFSET(テストデータ!AZ3,424,0))","v":0},{"$f":"SUM(OFFSET(テストデータ!AX3,424,0):OFFSET(テストデータ!BB3,424,0))","v":0},{"$f":"SUM(OFFSET(テストデータ!BG3,424,0):OFFSET(テストデータ!BI3,424,0))","v":0},{"$f":"SUM(OFFSET(テストデータ!BG3,424,0):OFFSET(テストデータ!BK3,424,0))","v":0},{"$f":"SUM(OFFSET(テストデータ!BL3,424,0):OFFSET(テストデータ!BN3,424,0))","v":0},{"$f":"SUM(OFFSET(テストデータ!BL3,424,0):OFFSET(テストデータ!BP3,424,0))","v":0},{"$f":"SUM(OFFSET(テストデータ!BQ3,424,0):OFFSET(テストデータ!BS3,424,0))","v":0},{"$f":"SUM(OFFSET(テストデータ!BQ3,424,0):OFFSET(テストデータ!BU3,424,0))","v":0},{"$f":"SUM(OFFSET(テストデータ!BV3,424,0):OFFSET(テストデータ!BX3,424,0))","v":0},{"$f":"SUM(OFFSET(テストデータ!BV3,424,0):OFFSET(テストデータ!BZ3,424,0))","v":0},{"$f":"SUM(OFFSET(テストデータ!CA3,424,0):OFFSET(テストデータ!CC3,424,0))","v":0},{"$f":"SUM(OFFSET(テストデータ!CA3,424,0):OFFSET(テストデータ!CE3,424,0))","v":0},{"$f":"SUM(OFFSET(テストデータ!CF3,424,0):OFFSET(テストデータ!CH3,424,0))","v":0},{"$f":"SUM(OFFSET(テストデータ!CF3,424,0):OFFSET(テストデータ!CJ3,424,0))","v":0},{"$f":"SUM(OFFSET(テストデータ!CK3,424,0):OFFSET(テストデータ!CM3,424,0))","v":0},{"$f":"SUM(OFFSET(テストデータ!CK3,424,0):OFFSET(テストデータ!CO3,424,0))","v":0},{"$f":"SUM(OFFSET(テストデータ!CP3,424,0):OFFSET(テストデータ!CR3,424,0))","v":0},{"$f":"SUM(OFFSET(テストデータ!CP3,424,0):OFFSET(テストデータ!CT3,424,0))","v":0}]
[null,null,null,null,null,null,null,null,null,null,null,null,null,{"$f":"SUM(OFFSET(テストデータ!$E3,425,9*成績表1!$B$4-9):OFFSET(テストデータ!$G3,425,9*成績表1!$B$4-9))","v":0},{"$f":"SUM(OFFSET(テストデータ!$E3,425,9*成績表1!$B$4-9):OFFSET(テストデータ!I3,425,9*成績表1!$B$4-9))","v":0},{"$f":"SUM(OFFSET(テストデータ!E3,425,0):OFFSET(テストデータ!G3,425,0))","v":0},{"$f":"SUM(OFFSET(テストデータ!E3,425,0):OFFSET(テストデータ!I3,425,0))","v":0},{"$f":"SUM(OFFSET(テストデータ!N3,425,0):OFFSET(テストデータ!P3,425,0))","v":0},{"$f":"SUM(OFFSET(テストデータ!N3,425,0):OFFSET(テストデータ!R3,425,0))","v":0},{"$f":"SUM(OFFSET(テストデータ!W3,425,0):OFFSET(テストデータ!Y3,425,0))","v":0},{"$f":"SUM(OFFSET(テストデータ!W3,425,0):OFFSET(テストデータ!AA3,425,0))","v":0},{"$f":"SUM(OFFSET(テストデータ!AF3,425,0):OFFSET(テストデータ!AH3,425,0))","v":0},{"$f":"SUM(OFFSET(テストデータ!AF3,425,0):OFFSET(テストデータ!AJ3,425,0))","v":0},{"$f":"SUM(OFFSET(テストデータ!AO3,425,0):OFFSET(テストデータ!AQ3,425,0))","v":0},{"$f":"SUM(OFFSET(テストデータ!AO3,425,0):OFFSET(テストデータ!AS3,425,0))","v":0},{"$f":"SUM(OFFSET(テストデータ!AX3,425,0):OFFSET(テストデータ!AZ3,425,0))","v":0},{"$f":"SUM(OFFSET(テストデータ!AX3,425,0):OFFSET(テストデータ!BB3,425,0))","v":0},{"$f":"SUM(OFFSET(テストデータ!BG3,425,0):OFFSET(テストデータ!BI3,425,0))","v":0},{"$f":"SUM(OFFSET(テストデータ!BG3,425,0):OFFSET(テストデータ!BK3,425,0))","v":0},{"$f":"SUM(OFFSET(テストデータ!BL3,425,0):OFFSET(テストデータ!BN3,425,0))","v":0},{"$f":"SUM(OFFSET(テストデータ!BL3,425,0):OFFSET(テストデータ!BP3,425,0))","v":0},{"$f":"SUM(OFFSET(テストデータ!BQ3,425,0):OFFSET(テストデータ!BS3,425,0))","v":0},{"$f":"SUM(OFFSET(テストデータ!BQ3,425,0):OFFSET(テストデータ!BU3,425,0))","v":0},{"$f":"SUM(OFFSET(テストデータ!BV3,425,0):OFFSET(テストデータ!BX3,425,0))","v":0},{"$f":"SUM(OFFSET(テストデータ!BV3,425,0):OFFSET(テストデータ!BZ3,425,0))","v":0},{"$f":"SUM(OFFSET(テストデータ!CA3,425,0):OFFSET(テストデータ!CC3,425,0))","v":0},{"$f":"SUM(OFFSET(テストデータ!CA3,425,0):OFFSET(テストデータ!CE3,425,0))","v":0},{"$f":"SUM(OFFSET(テストデータ!CF3,425,0):OFFSET(テストデータ!CH3,425,0))","v":0},{"$f":"SUM(OFFSET(テストデータ!CF3,425,0):OFFSET(テストデータ!CJ3,425,0))","v":0},{"$f":"SUM(OFFSET(テストデータ!CK3,425,0):OFFSET(テストデータ!CM3,425,0))","v":0},{"$f":"SUM(OFFSET(テストデータ!CK3,425,0):OFFSET(テストデータ!CO3,425,0))","v":0},{"$f":"SUM(OFFSET(テストデータ!CP3,425,0):OFFSET(テストデータ!CR3,425,0))","v":0},{"$f":"SUM(OFFSET(テストデータ!CP3,425,0):OFFSET(テストデータ!CT3,425,0))","v":0}]
[null,null,null,null,null,null,null,null,null,null,null,null,null,{"$f":"SUM(OFFSET(テストデータ!$E3,426,9*成績表1!$B$4-9):OFFSET(テストデータ!$G3,426,9*成績表1!$B$4-9))","v":0},{"$f":"SUM(OFFSET(テストデータ!$E3,426,9*成績表1!$B$4-9):OFFSET(テストデータ!I3,426,9*成績表1!$B$4-9))","v":0},{"$f":"SUM(OFFSET(テストデータ!E3,426,0):OFFSET(テストデータ!G3,426,0))","v":0},{"$f":"SUM(OFFSET(テストデータ!E3,426,0):OFFSET(テストデータ!I3,426,0))","v":0},{"$f":"SUM(OFFSET(テストデータ!N3,426,0):OFFSET(テストデータ!P3,426,0))","v":0},{"$f":"SUM(OFFSET(テストデータ!N3,426,0):OFFSET(テストデータ!R3,426,0))","v":0},{"$f":"SUM(OFFSET(テストデータ!W3,426,0):OFFSET(テストデータ!Y3,426,0))","v":0},{"$f":"SUM(OFFSET(テストデータ!W3,426,0):OFFSET(テストデータ!AA3,426,0))","v":0},{"$f":"SUM(OFFSET(テストデータ!AF3,426,0):OFFSET(テストデータ!AH3,426,0))","v":0},{"$f":"SUM(OFFSET(テストデータ!AF3,426,0):OFFSET(テストデータ!AJ3,426,0))","v":0},{"$f":"SUM(OFFSET(テストデータ!AO3,426,0):OFFSET(テストデータ!AQ3,426,0))","v":0},{"$f":"SUM(OFFSET(テストデータ!AO3,426,0):OFFSET(テストデータ!AS3,426,0))","v":0},{"$f":"SUM(OFFSET(テストデータ!AX3,426,0):OFFSET(テストデータ!AZ3,426,0))","v":0},{"$f":"SUM(OFFSET(テストデータ!AX3,426,0):OFFSET(テストデータ!BB3,426,0))","v":0},{"$f":"SUM(OFFSET(テストデータ!BG3,426,0):OFFSET(テストデータ!BI3,426,0))","v":0},{"$f":"SUM(OFFSET(テストデータ!BG3,426,0):OFFSET(テストデータ!BK3,426,0))","v":0},{"$f":"SUM(OFFSET(テストデータ!BL3,426,0):OFFSET(テストデータ!BN3,426,0))","v":0},{"$f":"SUM(OFFSET(テストデータ!BL3,426,0):OFFSET(テストデータ!BP3,426,0))","v":0},{"$f":"SUM(OFFSET(テストデータ!BQ3,426,0):OFFSET(テストデータ!BS3,426,0))","v":0},{"$f":"SUM(OFFSET(テストデータ!BQ3,426,0):OFFSET(テストデータ!BU3,426,0))","v":0},{"$f":"SUM(OFFSET(テストデータ!BV3,426,0):OFFSET(テストデータ!BX3,426,0))","v":0},{"$f":"SUM(OFFSET(テストデータ!BV3,426,0):OFFSET(テストデータ!BZ3,426,0))","v":0},{"$f":"SUM(OFFSET(テストデータ!CA3,426,0):OFFSET(テストデータ!CC3,426,0))","v":0},{"$f":"SUM(OFFSET(テストデータ!CA3,426,0):OFFSET(テストデータ!CE3,426,0))","v":0},{"$f":"SUM(OFFSET(テストデータ!CF3,426,0):OFFSET(テストデータ!CH3,426,0))","v":0},{"$f":"SUM(OFFSET(テストデータ!CF3,426,0):OFFSET(テストデータ!CJ3,426,0))","v":0},{"$f":"SUM(OFFSET(テストデータ!CK3,426,0):OFFSET(テストデータ!CM3,426,0))","v":0},{"$f":"SUM(OFFSET(テストデータ!CK3,426,0):OFFSET(テストデータ!CO3,426,0))","v":0},{"$f":"SUM(OFFSET(テストデータ!CP3,426,0):OFFSET(テストデータ!CR3,426,0))","v":0},{"$f":"SUM(OFFSET(テストデータ!CP3,426,0):OFFSET(テストデータ!CT3,426,0))","v":0}]
[null,null,null,null,null,null,null,null,null,null,null,null,null,{"$f":"SUM(OFFSET(テストデータ!$E3,427,9*成績表1!$B$4-9):OFFSET(テストデータ!$G3,427,9*成績表1!$B$4-9))","v":0},{"$f":"SUM(OFFSET(テストデータ!$E3,427,9*成績表1!$B$4-9):OFFSET(テストデータ!I3,427,9*成績表1!$B$4-9))","v":0},{"$f":"SUM(OFFSET(テストデータ!E3,427,0):OFFSET(テストデータ!G3,427,0))","v":0},{"$f":"SUM(OFFSET(テストデータ!E3,427,0):OFFSET(テストデータ!I3,427,0))","v":0},{"$f":"SUM(OFFSET(テストデータ!N3,427,0):OFFSET(テストデータ!P3,427,0))","v":0},{"$f":"SUM(OFFSET(テストデータ!N3,427,0):OFFSET(テストデータ!R3,427,0))","v":0},{"$f":"SUM(OFFSET(テストデータ!W3,427,0):OFFSET(テストデータ!Y3,427,0))","v":0},{"$f":"SUM(OFFSET(テストデータ!W3,427,0):OFFSET(テストデータ!AA3,427,0))","v":0},{"$f":"SUM(OFFSET(テストデータ!AF3,427,0):OFFSET(テストデータ!AH3,427,0))","v":0},{"$f":"SUM(OFFSET(テストデータ!AF3,427,0):OFFSET(テストデータ!AJ3,427,0))","v":0},{"$f":"SUM(OFFSET(テストデータ!AO3,427,0):OFFSET(テストデータ!AQ3,427,0))","v":0},{"$f":"SUM(OFFSET(テストデータ!AO3,427,0):OFFSET(テストデータ!AS3,427,0))","v":0},{"$f":"SUM(OFFSET(テストデータ!AX3,427,0):OFFSET(テストデータ!AZ3,427,0))","v":0},{"$f":"SUM(OFFSET(テストデータ!AX3,427,0):OFFSET(テストデータ!BB3,427,0))","v":0},{"$f":"SUM(OFFSET(テストデータ!BG3,427,0):OFFSET(テストデータ!BI3,427,0))","v":0},{"$f":"SUM(OFFSET(テストデータ!BG3,427,0):OFFSET(テストデータ!BK3,427,0))","v":0},{"$f":"SUM(OFFSET(テストデータ!BL3,427,0):OFFSET(テストデータ!BN3,427,0))","v":0},{"$f":"SUM(OFFSET(テストデータ!BL3,427,0):OFFSET(テストデータ!BP3,427,0))","v":0},{"$f":"SUM(OFFSET(テストデータ!BQ3,427,0):OFFSET(テストデータ!BS3,427,0))","v":0},{"$f":"SUM(OFFSET(テストデータ!BQ3,427,0):OFFSET(テストデータ!BU3,427,0))","v":0},{"$f":"SUM(OFFSET(テストデータ!BV3,427,0):OFFSET(テストデータ!BX3,427,0))","v":0},{"$f":"SUM(OFFSET(テストデータ!BV3,427,0):OFFSET(テストデータ!BZ3,427,0))","v":0},{"$f":"SUM(OFFSET(テストデータ!CA3,427,0):OFFSET(テストデータ!CC3,427,0))","v":0},{"$f":"SUM(OFFSET(テストデータ!CA3,427,0):OFFSET(テストデータ!CE3,427,0))","v":0},{"$f":"SUM(OFFSET(テストデータ!CF3,427,0):OFFSET(テストデータ!CH3,427,0))","v":0},{"$f":"SUM(OFFSET(テストデータ!CF3,427,0):OFFSET(テストデータ!CJ3,427,0))","v":0},{"$f":"SUM(OFFSET(テストデータ!CK3,427,0):OFFSET(テストデータ!CM3,427,0))","v":0},{"$f":"SUM(OFFSET(テストデータ!CK3,427,0):OFFSET(テストデータ!CO3,427,0))","v":0},{"$f":"SUM(OFFSET(テストデータ!CP3,427,0):OFFSET(テストデータ!CR3,427,0))","v":0},{"$f":"SUM(OFFSET(テストデータ!CP3,427,0):OFFSET(テストデータ!CT3,427,0))","v":0}]
[null,null,null,null,null,null,null,null,null,null,null,null,null,{"$f":"SUM(OFFSET(テストデータ!$E3,428,9*成績表1!$B$4-9):OFFSET(テストデータ!$G3,428,9*成績表1!$B$4-9))","v":0},{"$f":"SUM(OFFSET(テストデータ!$E3,428,9*成績表1!$B$4-9):OFFSET(テストデータ!I3,428,9*成績表1!$B$4-9))","v":0},{"$f":"SUM(OFFSET(テストデータ!E3,428,0):OFFSET(テストデータ!G3,428,0))","v":0},{"$f":"SUM(OFFSET(テストデータ!E3,428,0):OFFSET(テストデータ!I3,428,0))","v":0},{"$f":"SUM(OFFSET(テストデータ!N3,428,0):OFFSET(テストデータ!P3,428,0))","v":0},{"$f":"SUM(OFFSET(テストデータ!N3,428,0):OFFSET(テストデータ!R3,428,0))","v":0},{"$f":"SUM(OFFSET(テストデータ!W3,428,0):OFFSET(テストデータ!Y3,428,0))","v":0},{"$f":"SUM(OFFSET(テストデータ!W3,428,0):OFFSET(テストデータ!AA3,428,0))","v":0},{"$f":"SUM(OFFSET(テストデータ!AF3,428,0):OFFSET(テストデータ!AH3,428,0))","v":0},{"$f":"SUM(OFFSET(テストデータ!AF3,428,0):OFFSET(テストデータ!AJ3,428,0))","v":0},{"$f":"SUM(OFFSET(テストデータ!AO3,428,0):OFFSET(テストデータ!AQ3,428,0))","v":0},{"$f":"SUM(OFFSET(テストデータ!AO3,428,0):OFFSET(テストデータ!AS3,428,0))","v":0},{"$f":"SUM(OFFSET(テストデータ!AX3,428,0):OFFSET(テストデータ!AZ3,428,0))","v":0},{"$f":"SUM(OFFSET(テストデータ!AX3,428,0):OFFSET(テストデータ!BB3,428,0))","v":0},{"$f":"SUM(OFFSET(テストデータ!BG3,428,0):OFFSET(テストデータ!BI3,428,0))","v":0},{"$f":"SUM(OFFSET(テストデータ!BG3,428,0):OFFSET(テストデータ!BK3,428,0))","v":0},{"$f":"SUM(OFFSET(テストデータ!BL3,428,0):OFFSET(テストデータ!BN3,428,0))","v":0},{"$f":"SUM(OFFSET(テストデータ!BL3,428,0):OFFSET(テストデータ!BP3,428,0))","v":0},{"$f":"SUM(OFFSET(テストデータ!BQ3,428,0):OFFSET(テストデータ!BS3,428,0))","v":0},{"$f":"SUM(OFFSET(テストデータ!BQ3,428,0):OFFSET(テストデータ!BU3,428,0))","v":0},{"$f":"SUM(OFFSET(テストデータ!BV3,428,0):OFFSET(テストデータ!BX3,428,0))","v":0},{"$f":"SUM(OFFSET(テストデータ!BV3,428,0):OFFSET(テストデータ!BZ3,428,0))","v":0},{"$f":"SUM(OFFSET(テストデータ!CA3,428,0):OFFSET(テストデータ!CC3,428,0))","v":0},{"$f":"SUM(OFFSET(テストデータ!CA3,428,0):OFFSET(テストデータ!CE3,428,0))","v":0},{"$f":"SUM(OFFSET(テストデータ!CF3,428,0):OFFSET(テストデータ!CH3,428,0))","v":0},{"$f":"SUM(OFFSET(テストデータ!CF3,428,0):OFFSET(テストデータ!CJ3,428,0))","v":0},{"$f":"SUM(OFFSET(テストデータ!CK3,428,0):OFFSET(テストデータ!CM3,428,0))","v":0},{"$f":"SUM(OFFSET(テストデータ!CK3,428,0):OFFSET(テストデータ!CO3,428,0))","v":0},{"$f":"SUM(OFFSET(テストデータ!CP3,428,0):OFFSET(テストデータ!CR3,428,0))","v":0},{"$f":"SUM(OFFSET(テストデータ!CP3,428,0):OFFSET(テストデータ!CT3,428,0))","v":0}]
[null,null,null,null,null,null,null,null,null,null,null,null,null,{"$f":"SUM(OFFSET(テストデータ!$E3,429,9*成績表1!$B$4-9):OFFSET(テストデータ!$G3,429,9*成績表1!$B$4-9))","v":0},{"$f":"SUM(OFFSET(テストデータ!$E3,429,9*成績表1!$B$4-9):OFFSET(テストデータ!I3,429,9*成績表1!$B$4-9))","v":0},{"$f":"SUM(OFFSET(テストデータ!E3,429,0):OFFSET(テストデータ!G3,429,0))","v":0},{"$f":"SUM(OFFSET(テストデータ!E3,429,0):OFFSET(テストデータ!I3,429,0))","v":0},{"$f":"SUM(OFFSET(テストデータ!N3,429,0):OFFSET(テストデータ!P3,429,0))","v":0},{"$f":"SUM(OFFSET(テストデータ!N3,429,0):OFFSET(テストデータ!R3,429,0))","v":0},{"$f":"SUM(OFFSET(テストデータ!W3,429,0):OFFSET(テストデータ!Y3,429,0))","v":0},{"$f":"SUM(OFFSET(テストデータ!W3,429,0):OFFSET(テストデータ!AA3,429,0))","v":0},{"$f":"SUM(OFFSET(テストデータ!AF3,429,0):OFFSET(テストデータ!AH3,429,0))","v":0},{"$f":"SUM(OFFSET(テストデータ!AF3,429,0):OFFSET(テストデータ!AJ3,429,0))","v":0},{"$f":"SUM(OFFSET(テストデータ!AO3,429,0):OFFSET(テストデータ!AQ3,429,0))","v":0},{"$f":"SUM(OFFSET(テストデータ!AO3,429,0):OFFSET(テストデータ!AS3,429,0))","v":0},{"$f":"SUM(OFFSET(テストデータ!AX3,429,0):OFFSET(テストデータ!AZ3,429,0))","v":0},{"$f":"SUM(OFFSET(テストデータ!AX3,429,0):OFFSET(テストデータ!BB3,429,0))","v":0},{"$f":"SUM(OFFSET(テストデータ!BG3,429,0):OFFSET(テストデータ!BI3,429,0))","v":0},{"$f":"SUM(OFFSET(テストデータ!BG3,429,0):OFFSET(テストデータ!BK3,429,0))","v":0},{"$f":"SUM(OFFSET(テストデータ!BL3,429,0):OFFSET(テストデータ!BN3,429,0))","v":0},{"$f":"SUM(OFFSET(テストデータ!BL3,429,0):OFFSET(テストデータ!BP3,429,0))","v":0},{"$f":"SUM(OFFSET(テストデータ!BQ3,429,0):OFFSET(テストデータ!BS3,429,0))","v":0},{"$f":"SUM(OFFSET(テストデータ!BQ3,429,0):OFFSET(テストデータ!BU3,429,0))","v":0},{"$f":"SUM(OFFSET(テストデータ!BV3,429,0):OFFSET(テストデータ!BX3,429,0))","v":0},{"$f":"SUM(OFFSET(テストデータ!BV3,429,0):OFFSET(テストデータ!BZ3,429,0))","v":0},{"$f":"SUM(OFFSET(テストデータ!CA3,429,0):OFFSET(テストデータ!CC3,429,0))","v":0},{"$f":"SUM(OFFSET(テストデータ!CA3,429,0):OFFSET(テストデータ!CE3,429,0))","v":0},{"$f":"SUM(OFFSET(テストデータ!CF3,429,0):OFFSET(テストデータ!CH3,429,0))","v":0},{"$f":"SUM(OFFSET(テストデータ!CF3,429,0):OFFSET(テストデータ!CJ3,429,0))","v":0},{"$f":"SUM(OFFSET(テストデータ!CK3,429,0):OFFSET(テストデータ!CM3,429,0))","v":0},{"$f":"SUM(OFFSET(テストデータ!CK3,429,0):OFFSET(テストデータ!CO3,429,0))","v":0},{"$f":"SUM(OFFSET(テストデータ!CP3,429,0):OFFSET(テストデータ!CR3,429,0))","v":0},{"$f":"SUM(OFFSET(テストデータ!CP3,429,0):OFFSET(テストデータ!CT3,429,0))","v":0}]
[null,null,null,null,null,null,null,null,null,null,null,null,null,{"$f":"SUM(OFFSET(テストデータ!$E3,430,9*成績表1!$B$4-9):OFFSET(テストデータ!$G3,430,9*成績表1!$B$4-9))","v":0},{"$f":"SUM(OFFSET(テストデータ!$E3,430,9*成績表1!$B$4-9):OFFSET(テストデータ!I3,430,9*成績表1!$B$4-9))","v":0},{"$f":"SUM(OFFSET(テストデータ!E3,430,0):OFFSET(テストデータ!G3,430,0))","v":0},{"$f":"SUM(OFFSET(テストデータ!E3,430,0):OFFSET(テストデータ!I3,430,0))","v":0},{"$f":"SUM(OFFSET(テストデータ!N3,430,0):OFFSET(テストデータ!P3,430,0))","v":0},{"$f":"SUM(OFFSET(テストデータ!N3,430,0):OFFSET(テストデータ!R3,430,0))","v":0},{"$f":"SUM(OFFSET(テストデータ!W3,430,0):OFFSET(テストデータ!Y3,430,0))","v":0},{"$f":"SUM(OFFSET(テストデータ!W3,430,0):OFFSET(テストデータ!AA3,430,0))","v":0},{"$f":"SUM(OFFSET(テストデータ!AF3,430,0):OFFSET(テストデータ!AH3,430,0))","v":0},{"$f":"SUM(OFFSET(テストデータ!AF3,430,0):OFFSET(テストデータ!AJ3,430,0))","v":0},{"$f":"SUM(OFFSET(テストデータ!AO3,430,0):OFFSET(テストデータ!AQ3,430,0))","v":0},{"$f":"SUM(OFFSET(テストデータ!AO3,430,0):OFFSET(テストデータ!AS3,430,0))","v":0},{"$f":"SUM(OFFSET(テストデータ!AX3,430,0):OFFSET(テストデータ!AZ3,430,0))","v":0},{"$f":"SUM(OFFSET(テストデータ!AX3,430,0):OFFSET(テストデータ!BB3,430,0))","v":0},{"$f":"SUM(OFFSET(テストデータ!BG3,430,0):OFFSET(テストデータ!BI3,430,0))","v":0},{"$f":"SUM(OFFSET(テストデータ!BG3,430,0):OFFSET(テストデータ!BK3,430,0))","v":0},{"$f":"SUM(OFFSET(テストデータ!BL3,430,0):OFFSET(テストデータ!BN3,430,0))","v":0},{"$f":"SUM(OFFSET(テストデータ!BL3,430,0):OFFSET(テストデータ!BP3,430,0))","v":0},{"$f":"SUM(OFFSET(テストデータ!BQ3,430,0):OFFSET(テストデータ!BS3,430,0))","v":0},{"$f":"SUM(OFFSET(テストデータ!BQ3,430,0):OFFSET(テストデータ!BU3,430,0))","v":0},{"$f":"SUM(OFFSET(テストデータ!BV3,430,0):OFFSET(テストデータ!BX3,430,0))","v":0},{"$f":"SUM(OFFSET(テストデータ!BV3,430,0):OFFSET(テストデータ!BZ3,430,0))","v":0},{"$f":"SUM(OFFSET(テストデータ!CA3,430,0):OFFSET(テストデータ!CC3,430,0))","v":0},{"$f":"SUM(OFFSET(テストデータ!CA3,430,0):OFFSET(テストデータ!CE3,430,0))","v":0},{"$f":"SUM(OFFSET(テストデータ!CF3,430,0):OFFSET(テストデータ!CH3,430,0))","v":0},{"$f":"SUM(OFFSET(テストデータ!CF3,430,0):OFFSET(テストデータ!CJ3,430,0))","v":0},{"$f":"SUM(OFFSET(テストデータ!CK3,430,0):OFFSET(テストデータ!CM3,430,0))","v":0},{"$f":"SUM(OFFSET(テストデータ!CK3,430,0):OFFSET(テストデータ!CO3,430,0))","v":0},{"$f":"SUM(OFFSET(テストデータ!CP3,430,0):OFFSET(テストデータ!CR3,430,0))","v":0},{"$f":"SUM(OFFSET(テストデータ!CP3,430,0):OFFSET(テストデータ!CT3,430,0))","v":0}]
[null,null,null,null,null,null,null,null,null,null,null,null,null,{"$f":"SUM(OFFSET(テストデータ!$E3,431,9*成績表1!$B$4-9):OFFSET(テストデータ!$G3,431,9*成績表1!$B$4-9))","v":0},{"$f":"SUM(OFFSET(テストデータ!$E3,431,9*成績表1!$B$4-9):OFFSET(テストデータ!I3,431,9*成績表1!$B$4-9))","v":0},{"$f":"SUM(OFFSET(テストデータ!E3,431,0):OFFSET(テストデータ!G3,431,0))","v":0},{"$f":"SUM(OFFSET(テストデータ!E3,431,0):OFFSET(テストデータ!I3,431,0))","v":0},{"$f":"SUM(OFFSET(テストデータ!N3,431,0):OFFSET(テストデータ!P3,431,0))","v":0},{"$f":"SUM(OFFSET(テストデータ!N3,431,0):OFFSET(テストデータ!R3,431,0))","v":0},{"$f":"SUM(OFFSET(テストデータ!W3,431,0):OFFSET(テストデータ!Y3,431,0))","v":0},{"$f":"SUM(OFFSET(テストデータ!W3,431,0):OFFSET(テストデータ!AA3,431,0))","v":0},{"$f":"SUM(OFFSET(テストデータ!AF3,431,0):OFFSET(テストデータ!AH3,431,0))","v":0},{"$f":"SUM(OFFSET(テストデータ!AF3,431,0):OFFSET(テストデータ!AJ3,431,0))","v":0},{"$f":"SUM(OFFSET(テストデータ!AO3,431,0):OFFSET(テストデータ!AQ3,431,0))","v":0},{"$f":"SUM(OFFSET(テストデータ!AO3,431,0):OFFSET(テストデータ!AS3,431,0))","v":0},{"$f":"SUM(OFFSET(テストデータ!AX3,431,0):OFFSET(テストデータ!AZ3,431,0))","v":0},{"$f":"SUM(OFFSET(テストデータ!AX3,431,0):OFFSET(テストデータ!BB3,431,0))","v":0},{"$f":"SUM(OFFSET(テストデータ!BG3,431,0):OFFSET(テストデータ!BI3,431,0))","v":0},{"$f":"SUM(OFFSET(テストデータ!BG3,431,0):OFFSET(テストデータ!BK3,431,0))","v":0},{"$f":"SUM(OFFSET(テストデータ!BL3,431,0):OFFSET(テストデータ!BN3,431,0))","v":0},{"$f":"SUM(OFFSET(テストデータ!BL3,431,0):OFFSET(テストデータ!BP3,431,0))","v":0},{"$f":"SUM(OFFSET(テストデータ!BQ3,431,0):OFFSET(テストデータ!BS3,431,0))","v":0},{"$f":"SUM(OFFSET(テストデータ!BQ3,431,0):OFFSET(テストデータ!BU3,431,0))","v":0},{"$f":"SUM(OFFSET(テストデータ!BV3,431,0):OFFSET(テストデータ!BX3,431,0))","v":0},{"$f":"SUM(OFFSET(テストデータ!BV3,431,0):OFFSET(テストデータ!BZ3,431,0))","v":0},{"$f":"SUM(OFFSET(テストデータ!CA3,431,0):OFFSET(テストデータ!CC3,431,0))","v":0},{"$f":"SUM(OFFSET(テストデータ!CA3,431,0):OFFSET(テストデータ!CE3,431,0))","v":0},{"$f":"SUM(OFFSET(テストデータ!CF3,431,0):OFFSET(テストデータ!CH3,431,0))","v":0},{"$f":"SUM(OFFSET(テストデータ!CF3,431,0):OFFSET(テストデータ!CJ3,431,0))","v":0},{"$f":"SUM(OFFSET(テストデータ!CK3,431,0):OFFSET(テストデータ!CM3,431,0))","v":0},{"$f":"SUM(OFFSET(テストデータ!CK3,431,0):OFFSET(テストデータ!CO3,431,0))","v":0},{"$f":"SUM(OFFSET(テストデータ!CP3,431,0):OFFSET(テストデータ!CR3,431,0))","v":0},{"$f":"SUM(OFFSET(テストデータ!CP3,431,0):OFFSET(テストデータ!CT3,431,0))","v":0}]
[null,null,null,null,null,null,null,null,null,null,null,null,null,{"$f":"SUM(OFFSET(テストデータ!$E3,432,9*成績表1!$B$4-9):OFFSET(テストデータ!$G3,432,9*成績表1!$B$4-9))","v":0},{"$f":"SUM(OFFSET(テストデータ!$E3,432,9*成績表1!$B$4-9):OFFSET(テストデータ!I3,432,9*成績表1!$B$4-9))","v":0},{"$f":"SUM(OFFSET(テストデータ!E3,432,0):OFFSET(テストデータ!G3,432,0))","v":0},{"$f":"SUM(OFFSET(テストデータ!E3,432,0):OFFSET(テストデータ!I3,432,0))","v":0},{"$f":"SUM(OFFSET(テストデータ!N3,432,0):OFFSET(テストデータ!P3,432,0))","v":0},{"$f":"SUM(OFFSET(テストデータ!N3,432,0):OFFSET(テストデータ!R3,432,0))","v":0},{"$f":"SUM(OFFSET(テストデータ!W3,432,0):OFFSET(テストデータ!Y3,432,0))","v":0},{"$f":"SUM(OFFSET(テストデータ!W3,432,0):OFFSET(テストデータ!AA3,432,0))","v":0},{"$f":"SUM(OFFSET(テストデータ!AF3,432,0):OFFSET(テストデータ!AH3,432,0))","v":0},{"$f":"SUM(OFFSET(テストデータ!AF3,432,0):OFFSET(テストデータ!AJ3,432,0))","v":0},{"$f":"SUM(OFFSET(テストデータ!AO3,432,0):OFFSET(テストデータ!AQ3,432,0))","v":0},{"$f":"SUM(OFFSET(テストデータ!AO3,432,0):OFFSET(テストデータ!AS3,432,0))","v":0},{"$f":"SUM(OFFSET(テストデータ!AX3,432,0):OFFSET(テストデータ!AZ3,432,0))","v":0},{"$f":"SUM(OFFSET(テストデータ!AX3,432,0):OFFSET(テストデータ!BB3,432,0))","v":0},{"$f":"SUM(OFFSET(テストデータ!BG3,432,0):OFFSET(テストデータ!BI3,432,0))","v":0},{"$f":"SUM(OFFSET(テストデータ!BG3,432,0):OFFSET(テストデータ!BK3,432,0))","v":0},{"$f":"SUM(OFFSET(テストデータ!BL3,432,0):OFFSET(テストデータ!BN3,432,0))","v":0},{"$f":"SUM(OFFSET(テストデータ!BL3,432,0):OFFSET(テストデータ!BP3,432,0))","v":0},{"$f":"SUM(OFFSET(テストデータ!BQ3,432,0):OFFSET(テストデータ!BS3,432,0))","v":0},{"$f":"SUM(OFFSET(テストデータ!BQ3,432,0):OFFSET(テストデータ!BU3,432,0))","v":0},{"$f":"SUM(OFFSET(テストデータ!BV3,432,0):OFFSET(テストデータ!BX3,432,0))","v":0},{"$f":"SUM(OFFSET(テストデータ!BV3,432,0):OFFSET(テストデータ!BZ3,432,0))","v":0},{"$f":"SUM(OFFSET(テストデータ!CA3,432,0):OFFSET(テストデータ!CC3,432,0))","v":0},{"$f":"SUM(OFFSET(テストデータ!CA3,432,0):OFFSET(テストデータ!CE3,432,0))","v":0},{"$f":"SUM(OFFSET(テストデータ!CF3,432,0):OFFSET(テストデータ!CH3,432,0))","v":0},{"$f":"SUM(OFFSET(テストデータ!CF3,432,0):OFFSET(テストデータ!CJ3,432,0))","v":0},{"$f":"SUM(OFFSET(テストデータ!CK3,432,0):OFFSET(テストデータ!CM3,432,0))","v":0},{"$f":"SUM(OFFSET(テストデータ!CK3,432,0):OFFSET(テストデータ!CO3,432,0))","v":0},{"$f":"SUM(OFFSET(テストデータ!CP3,432,0):OFFSET(テストデータ!CR3,432,0))","v":0},{"$f":"SUM(OFFSET(テストデータ!CP3,432,0):OFFSET(テストデータ!CT3,432,0))","v":0}]
[null,null,null,null,null,null,null,null,null,null,null,null,null,{"$f":"SUM(OFFSET(テストデータ!$E3,433,9*成績表1!$B$4-9):OFFSET(テストデータ!$G3,433,9*成績表1!$B$4-9))","v":0},{"$f":"SUM(OFFSET(テストデータ!$E3,433,9*成績表1!$B$4-9):OFFSET(テストデータ!I3,433,9*成績表1!$B$4-9))","v":0},{"$f":"SUM(OFFSET(テストデータ!E3,433,0):OFFSET(テストデータ!G3,433,0))","v":0},{"$f":"SUM(OFFSET(テストデータ!E3,433,0):OFFSET(テストデータ!I3,433,0))","v":0},{"$f":"SUM(OFFSET(テストデータ!N3,433,0):OFFSET(テストデータ!P3,433,0))","v":0},{"$f":"SUM(OFFSET(テストデータ!N3,433,0):OFFSET(テストデータ!R3,433,0))","v":0},{"$f":"SUM(OFFSET(テストデータ!W3,433,0):OFFSET(テストデータ!Y3,433,0))","v":0},{"$f":"SUM(OFFSET(テストデータ!W3,433,0):OFFSET(テストデータ!AA3,433,0))","v":0},{"$f":"SUM(OFFSET(テストデータ!AF3,433,0):OFFSET(テストデータ!AH3,433,0))","v":0},{"$f":"SUM(OFFSET(テストデータ!AF3,433,0):OFFSET(テストデータ!AJ3,433,0))","v":0},{"$f":"SUM(OFFSET(テストデータ!AO3,433,0):OFFSET(テストデータ!AQ3,433,0))","v":0},{"$f":"SUM(OFFSET(テストデータ!AO3,433,0):OFFSET(テストデータ!AS3,433,0))","v":0},{"$f":"SUM(OFFSET(テストデータ!AX3,433,0):OFFSET(テストデータ!AZ3,433,0))","v":0},{"$f":"SUM(OFFSET(テストデータ!AX3,433,0):OFFSET(テストデータ!BB3,433,0))","v":0},{"$f":"SUM(OFFSET(テストデータ!BG3,433,0):OFFSET(テストデータ!BI3,433,0))","v":0},{"$f":"SUM(OFFSET(テストデータ!BG3,433,0):OFFSET(テストデータ!BK3,433,0))","v":0},{"$f":"SUM(OFFSET(テストデータ!BL3,433,0):OFFSET(テストデータ!BN3,433,0))","v":0},{"$f":"SUM(OFFSET(テストデータ!BL3,433,0):OFFSET(テストデータ!BP3,433,0))","v":0},{"$f":"SUM(OFFSET(テストデータ!BQ3,433,0):OFFSET(テストデータ!BS3,433,0))","v":0},{"$f":"SUM(OFFSET(テストデータ!BQ3,433,0):OFFSET(テストデータ!BU3,433,0))","v":0},{"$f":"SUM(OFFSET(テストデータ!BV3,433,0):OFFSET(テストデータ!BX3,433,0))","v":0},{"$f":"SUM(OFFSET(テストデータ!BV3,433,0):OFFSET(テストデータ!BZ3,433,0))","v":0},{"$f":"SUM(OFFSET(テストデータ!CA3,433,0):OFFSET(テストデータ!CC3,433,0))","v":0},{"$f":"SUM(OFFSET(テストデータ!CA3,433,0):OFFSET(テストデータ!CE3,433,0))","v":0},{"$f":"SUM(OFFSET(テストデータ!CF3,433,0):OFFSET(テストデータ!CH3,433,0))","v":0},{"$f":"SUM(OFFSET(テストデータ!CF3,433,0):OFFSET(テストデータ!CJ3,433,0))","v":0},{"$f":"SUM(OFFSET(テストデータ!CK3,433,0):OFFSET(テストデータ!CM3,433,0))","v":0},{"$f":"SUM(OFFSET(テストデータ!CK3,433,0):OFFSET(テストデータ!CO3,433,0))","v":0},{"$f":"SUM(OFFSET(テストデータ!CP3,433,0):OFFSET(テストデータ!CR3,433,0))","v":0},{"$f":"SUM(OFFSET(テストデータ!CP3,433,0):OFFSET(テストデータ!CT3,433,0))","v":0}]
[null,null,null,null,null,null,null,null,null,null,null,null,null,{"$f":"SUM(OFFSET(テストデータ!$E3,434,9*成績表1!$B$4-9):OFFSET(テストデータ!$G3,434,9*成績表1!$B$4-9))","v":0},{"$f":"SUM(OFFSET(テストデータ!$E3,434,9*成績表1!$B$4-9):OFFSET(テストデータ!I3,434,9*成績表1!$B$4-9))","v":0},{"$f":"SUM(OFFSET(テストデータ!E3,434,0):OFFSET(テストデータ!G3,434,0))","v":0},{"$f":"SUM(OFFSET(テストデータ!E3,434,0):OFFSET(テストデータ!I3,434,0))","v":0},{"$f":"SUM(OFFSET(テストデータ!N3,434,0):OFFSET(テストデータ!P3,434,0))","v":0},{"$f":"SUM(OFFSET(テストデータ!N3,434,0):OFFSET(テストデータ!R3,434,0))","v":0},{"$f":"SUM(OFFSET(テストデータ!W3,434,0):OFFSET(テストデータ!Y3,434,0))","v":0},{"$f":"SUM(OFFSET(テストデータ!W3,434,0):OFFSET(テストデータ!AA3,434,0))","v":0},{"$f":"SUM(OFFSET(テストデータ!AF3,434,0):OFFSET(テストデータ!AH3,434,0))","v":0},{"$f":"SUM(OFFSET(テストデータ!AF3,434,0):OFFSET(テストデータ!AJ3,434,0))","v":0},{"$f":"SUM(OFFSET(テストデータ!AO3,434,0):OFFSET(テストデータ!AQ3,434,0))","v":0},{"$f":"SUM(OFFSET(テストデータ!AO3,434,0):OFFSET(テストデータ!AS3,434,0))","v":0},{"$f":"SUM(OFFSET(テストデータ!AX3,434,0):OFFSET(テストデータ!AZ3,434,0))","v":0},{"$f":"SUM(OFFSET(テストデータ!AX3,434,0):OFFSET(テストデータ!BB3,434,0))","v":0},{"$f":"SUM(OFFSET(テストデータ!BG3,434,0):OFFSET(テストデータ!BI3,434,0))","v":0},{"$f":"SUM(OFFSET(テストデータ!BG3,434,0):OFFSET(テストデータ!BK3,434,0))","v":0},{"$f":"SUM(OFFSET(テストデータ!BL3,434,0):OFFSET(テストデータ!BN3,434,0))","v":0},{"$f":"SUM(OFFSET(テストデータ!BL3,434,0):OFFSET(テストデータ!BP3,434,0))","v":0},{"$f":"SUM(OFFSET(テストデータ!BQ3,434,0):OFFSET(テストデータ!BS3,434,0))","v":0},{"$f":"SUM(OFFSET(テストデータ!BQ3,434,0):OFFSET(テストデータ!BU3,434,0))","v":0},{"$f":"SUM(OFFSET(テストデータ!BV3,434,0):OFFSET(テストデータ!BX3,434,0))","v":0},{"$f":"SUM(OFFSET(テストデータ!BV3,434,0):OFFSET(テストデータ!BZ3,434,0))","v":0},{"$f":"SUM(OFFSET(テストデータ!CA3,434,0):OFFSET(テストデータ!CC3,434,0))","v":0},{"$f":"SUM(OFFSET(テストデータ!CA3,434,0):OFFSET(テストデータ!CE3,434,0))","v":0},{"$f":"SUM(OFFSET(テストデータ!CF3,434,0):OFFSET(テストデータ!CH3,434,0))","v":0},{"$f":"SUM(OFFSET(テストデータ!CF3,434,0):OFFSET(テストデータ!CJ3,434,0))","v":0},{"$f":"SUM(OFFSET(テストデータ!CK3,434,0):OFFSET(テストデータ!CM3,434,0))","v":0},{"$f":"SUM(OFFSET(テストデータ!CK3,434,0):OFFSET(テストデータ!CO3,434,0))","v":0},{"$f":"SUM(OFFSET(テストデータ!CP3,434,0):OFFSET(テストデータ!CR3,434,0))","v":0},{"$f":"SUM(OFFSET(テストデータ!CP3,434,0):OFFSET(テストデータ!CT3,434,0))","v":0}]
[null,null,null,null,null,null,null,null,null,null,null,null,null,{"$f":"SUM(OFFSET(テストデータ!$E3,435,9*成績表1!$B$4-9):OFFSET(テストデータ!$G3,435,9*成績表1!$B$4-9))","v":0},{"$f":"SUM(OFFSET(テストデータ!$E3,435,9*成績表1!$B$4-9):OFFSET(テストデータ!I3,435,9*成績表1!$B$4-9))","v":0},{"$f":"SUM(OFFSET(テストデータ!E3,435,0):OFFSET(テストデータ!G3,435,0))","v":0},{"$f":"SUM(OFFSET(テストデータ!E3,435,0):OFFSET(テストデータ!I3,435,0))","v":0},{"$f":"SUM(OFFSET(テストデータ!N3,435,0):OFFSET(テストデータ!P3,435,0))","v":0},{"$f":"SUM(OFFSET(テストデータ!N3,435,0):OFFSET(テストデータ!R3,435,0))","v":0},{"$f":"SUM(OFFSET(テストデータ!W3,435,0):OFFSET(テストデータ!Y3,435,0))","v":0},{"$f":"SUM(OFFSET(テストデータ!W3,435,0):OFFSET(テストデータ!AA3,435,0))","v":0},{"$f":"SUM(OFFSET(テストデータ!AF3,435,0):OFFSET(テストデータ!AH3,435,0))","v":0},{"$f":"SUM(OFFSET(テストデータ!AF3,435,0):OFFSET(テストデータ!AJ3,435,0))","v":0},{"$f":"SUM(OFFSET(テストデータ!AO3,435,0):OFFSET(テストデータ!AQ3,435,0))","v":0},{"$f":"SUM(OFFSET(テストデータ!AO3,435,0):OFFSET(テストデータ!AS3,435,0))","v":0},{"$f":"SUM(OFFSET(テストデータ!AX3,435,0):OFFSET(テストデータ!AZ3,435,0))","v":0},{"$f":"SUM(OFFSET(テストデータ!AX3,435,0):OFFSET(テストデータ!BB3,435,0))","v":0},{"$f":"SUM(OFFSET(テストデータ!BG3,435,0):OFFSET(テストデータ!BI3,435,0))","v":0},{"$f":"SUM(OFFSET(テストデータ!BG3,435,0):OFFSET(テストデータ!BK3,435,0))","v":0},{"$f":"SUM(OFFSET(テストデータ!BL3,435,0):OFFSET(テストデータ!BN3,435,0))","v":0},{"$f":"SUM(OFFSET(テストデータ!BL3,435,0):OFFSET(テストデータ!BP3,435,0))","v":0},{"$f":"SUM(OFFSET(テストデータ!BQ3,435,0):OFFSET(テストデータ!BS3,435,0))","v":0},{"$f":"SUM(OFFSET(テストデータ!BQ3,435,0):OFFSET(テストデータ!BU3,435,0))","v":0},{"$f":"SUM(OFFSET(テストデータ!BV3,435,0):OFFSET(テストデータ!BX3,435,0))","v":0},{"$f":"SUM(OFFSET(テストデータ!BV3,435,0):OFFSET(テストデータ!BZ3,435,0))","v":0},{"$f":"SUM(OFFSET(テストデータ!CA3,435,0):OFFSET(テストデータ!CC3,435,0))","v":0},{"$f":"SUM(OFFSET(テストデータ!CA3,435,0):OFFSET(テストデータ!CE3,435,0))","v":0},{"$f":"SUM(OFFSET(テストデータ!CF3,435,0):OFFSET(テストデータ!CH3,435,0))","v":0},{"$f":"SUM(OFFSET(テストデータ!CF3,435,0):OFFSET(テストデータ!CJ3,435,0))","v":0},{"$f":"SUM(OFFSET(テストデータ!CK3,435,0):OFFSET(テストデータ!CM3,435,0))","v":0},{"$f":"SUM(OFFSET(テストデータ!CK3,435,0):OFFSET(テストデータ!CO3,435,0))","v":0},{"$f":"SUM(OFFSET(テストデータ!CP3,435,0):OFFSET(テストデータ!CR3,435,0))","v":0},{"$f":"SUM(OFFSET(テストデータ!CP3,435,0):OFFSET(テストデータ!CT3,435,0))","v":0}]
[null,null,null,null,null,null,null,null,null,null,null,null,null,{"$f":"SUM(OFFSET(テストデータ!$E3,436,9*成績表1!$B$4-9):OFFSET(テストデータ!$G3,436,9*成績表1!$B$4-9))","v":0},{"$f":"SUM(OFFSET(テストデータ!$E3,436,9*成績表1!$B$4-9):OFFSET(テストデータ!I3,436,9*成績表1!$B$4-9))","v":0},{"$f":"SUM(OFFSET(テストデータ!E3,436,0):OFFSET(テストデータ!G3,436,0))","v":0},{"$f":"SUM(OFFSET(テストデータ!E3,436,0):OFFSET(テストデータ!I3,436,0))","v":0},{"$f":"SUM(OFFSET(テストデータ!N3,436,0):OFFSET(テストデータ!P3,436,0))","v":0},{"$f":"SUM(OFFSET(テストデータ!N3,436,0):OFFSET(テストデータ!R3,436,0))","v":0},{"$f":"SUM(OFFSET(テストデータ!W3,436,0):OFFSET(テストデータ!Y3,436,0))","v":0},{"$f":"SUM(OFFSET(テストデータ!W3,436,0):OFFSET(テストデータ!AA3,436,0))","v":0},{"$f":"SUM(OFFSET(テストデータ!AF3,436,0):OFFSET(テストデータ!AH3,436,0))","v":0},{"$f":"SUM(OFFSET(テストデータ!AF3,436,0):OFFSET(テストデータ!AJ3,436,0))","v":0},{"$f":"SUM(OFFSET(テストデータ!AO3,436,0):OFFSET(テストデータ!AQ3,436,0))","v":0},{"$f":"SUM(OFFSET(テストデータ!AO3,436,0):OFFSET(テストデータ!AS3,436,0))","v":0},{"$f":"SUM(OFFSET(テストデータ!AX3,436,0):OFFSET(テストデータ!AZ3,436,0))","v":0},{"$f":"SUM(OFFSET(テストデータ!AX3,436,0):OFFSET(テストデータ!BB3,436,0))","v":0},{"$f":"SUM(OFFSET(テストデータ!BG3,436,0):OFFSET(テストデータ!BI3,436,0))","v":0},{"$f":"SUM(OFFSET(テストデータ!BG3,436,0):OFFSET(テストデータ!BK3,436,0))","v":0},{"$f":"SUM(OFFSET(テストデータ!BL3,436,0):OFFSET(テストデータ!BN3,436,0))","v":0},{"$f":"SUM(OFFSET(テストデータ!BL3,436,0):OFFSET(テストデータ!BP3,436,0))","v":0},{"$f":"SUM(OFFSET(テストデータ!BQ3,436,0):OFFSET(テストデータ!BS3,436,0))","v":0},{"$f":"SUM(OFFSET(テストデータ!BQ3,436,0):OFFSET(テストデータ!BU3,436,0))","v":0},{"$f":"SUM(OFFSET(テストデータ!BV3,436,0):OFFSET(テストデータ!BX3,436,0))","v":0},{"$f":"SUM(OFFSET(テストデータ!BV3,436,0):OFFSET(テストデータ!BZ3,436,0))","v":0},{"$f":"SUM(OFFSET(テストデータ!CA3,436,0):OFFSET(テストデータ!CC3,436,0))","v":0},{"$f":"SUM(OFFSET(テストデータ!CA3,436,0):OFFSET(テストデータ!CE3,436,0))","v":0},{"$f":"SUM(OFFSET(テストデータ!CF3,436,0):OFFSET(テストデータ!CH3,436,0))","v":0},{"$f":"SUM(OFFSET(テストデータ!CF3,436,0):OFFSET(テストデータ!CJ3,436,0))","v":0},{"$f":"SUM(OFFSET(テストデータ!CK3,436,0):OFFSET(テストデータ!CM3,436,0))","v":0},{"$f":"SUM(OFFSET(テストデータ!CK3,436,0):OFFSET(テストデータ!CO3,436,0))","v":0},{"$f":"SUM(OFFSET(テストデータ!CP3,436,0):OFFSET(テストデータ!CR3,436,0))","v":0},{"$f":"SUM(OFFSET(テストデータ!CP3,436,0):OFFSET(テストデータ!CT3,436,0))","v":0}]
[null,null,null,null,null,null,null,null,null,null,null,null,null,{"$f":"SUM(OFFSET(テストデータ!$E3,437,9*成績表1!$B$4-9):OFFSET(テストデータ!$G3,437,9*成績表1!$B$4-9))","v":0},{"$f":"SUM(OFFSET(テストデータ!$E3,437,9*成績表1!$B$4-9):OFFSET(テストデータ!I3,437,9*成績表1!$B$4-9))","v":0},{"$f":"SUM(OFFSET(テストデータ!E3,437,0):OFFSET(テストデータ!G3,437,0))","v":0},{"$f":"SUM(OFFSET(テストデータ!E3,437,0):OFFSET(テストデータ!I3,437,0))","v":0},{"$f":"SUM(OFFSET(テストデータ!N3,437,0):OFFSET(テストデータ!P3,437,0))","v":0},{"$f":"SUM(OFFSET(テストデータ!N3,437,0):OFFSET(テストデータ!R3,437,0))","v":0},{"$f":"SUM(OFFSET(テストデータ!W3,437,0):OFFSET(テストデータ!Y3,437,0))","v":0},{"$f":"SUM(OFFSET(テストデータ!W3,437,0):OFFSET(テストデータ!AA3,437,0))","v":0},{"$f":"SUM(OFFSET(テストデータ!AF3,437,0):OFFSET(テストデータ!AH3,437,0))","v":0},{"$f":"SUM(OFFSET(テストデータ!AF3,437,0):OFFSET(テストデータ!AJ3,437,0))","v":0},{"$f":"SUM(OFFSET(テストデータ!AO3,437,0):OFFSET(テストデータ!AQ3,437,0))","v":0},{"$f":"SUM(OFFSET(テストデータ!AO3,437,0):OFFSET(テストデータ!AS3,437,0))","v":0},{"$f":"SUM(OFFSET(テストデータ!AX3,437,0):OFFSET(テストデータ!AZ3,437,0))","v":0},{"$f":"SUM(OFFSET(テストデータ!AX3,437,0):OFFSET(テストデータ!BB3,437,0))","v":0},{"$f":"SUM(OFFSET(テストデータ!BG3,437,0):OFFSET(テストデータ!BI3,437,0))","v":0},{"$f":"SUM(OFFSET(テストデータ!BG3,437,0):OFFSET(テストデータ!BK3,437,0))","v":0},{"$f":"SUM(OFFSET(テストデータ!BL3,437,0):OFFSET(テストデータ!BN3,437,0))","v":0},{"$f":"SUM(OFFSET(テストデータ!BL3,437,0):OFFSET(テストデータ!BP3,437,0))","v":0},{"$f":"SUM(OFFSET(テストデータ!BQ3,437,0):OFFSET(テストデータ!BS3,437,0))","v":0},{"$f":"SUM(OFFSET(テストデータ!BQ3,437,0):OFFSET(テストデータ!BU3,437,0))","v":0},{"$f":"SUM(OFFSET(テストデータ!BV3,437,0):OFFSET(テストデータ!BX3,437,0))","v":0},{"$f":"SUM(OFFSET(テストデータ!BV3,437,0):OFFSET(テストデータ!BZ3,437,0))","v":0},{"$f":"SUM(OFFSET(テストデータ!CA3,437,0):OFFSET(テストデータ!CC3,437,0))","v":0},{"$f":"SUM(OFFSET(テストデータ!CA3,437,0):OFFSET(テストデータ!CE3,437,0))","v":0},{"$f":"SUM(OFFSET(テストデータ!CF3,437,0):OFFSET(テストデータ!CH3,437,0))","v":0},{"$f":"SUM(OFFSET(テストデータ!CF3,437,0):OFFSET(テストデータ!CJ3,437,0))","v":0},{"$f":"SUM(OFFSET(テストデータ!CK3,437,0):OFFSET(テストデータ!CM3,437,0))","v":0},{"$f":"SUM(OFFSET(テストデータ!CK3,437,0):OFFSET(テストデータ!CO3,437,0))","v":0},{"$f":"SUM(OFFSET(テストデータ!CP3,437,0):OFFSET(テストデータ!CR3,437,0))","v":0},{"$f":"SUM(OFFSET(テストデータ!CP3,437,0):OFFSET(テストデータ!CT3,437,0))","v":0}]
[null,null,null,null,null,null,null,null,null,null,null,null,null,{"$f":"SUM(OFFSET(テストデータ!$E3,438,9*成績表1!$B$4-9):OFFSET(テストデータ!$G3,438,9*成績表1!$B$4-9))","v":0},{"$f":"SUM(OFFSET(テストデータ!$E3,438,9*成績表1!$B$4-9):OFFSET(テストデータ!I3,438,9*成績表1!$B$4-9))","v":0},{"$f":"SUM(OFFSET(テストデータ!E3,438,0):OFFSET(テストデータ!G3,438,0))","v":0},{"$f":"SUM(OFFSET(テストデータ!E3,438,0):OFFSET(テストデータ!I3,438,0))","v":0},{"$f":"SUM(OFFSET(テストデータ!N3,438,0):OFFSET(テストデータ!P3,438,0))","v":0},{"$f":"SUM(OFFSET(テストデータ!N3,438,0):OFFSET(テストデータ!R3,438,0))","v":0},{"$f":"SUM(OFFSET(テストデータ!W3,438,0):OFFSET(テストデータ!Y3,438,0))","v":0},{"$f":"SUM(OFFSET(テストデータ!W3,438,0):OFFSET(テストデータ!AA3,438,0))","v":0},{"$f":"SUM(OFFSET(テストデータ!AF3,438,0):OFFSET(テストデータ!AH3,438,0))","v":0},{"$f":"SUM(OFFSET(テストデータ!AF3,438,0):OFFSET(テストデータ!AJ3,438,0))","v":0},{"$f":"SUM(OFFSET(テストデータ!AO3,438,0):OFFSET(テストデータ!AQ3,438,0))","v":0},{"$f":"SUM(OFFSET(テストデータ!AO3,438,0):OFFSET(テストデータ!AS3,438,0))","v":0},{"$f":"SUM(OFFSET(テストデータ!AX3,438,0):OFFSET(テストデータ!AZ3,438,0))","v":0},{"$f":"SUM(OFFSET(テストデータ!AX3,438,0):OFFSET(テストデータ!BB3,438,0))","v":0},{"$f":"SUM(OFFSET(テストデータ!BG3,438,0):OFFSET(テストデータ!BI3,438,0))","v":0},{"$f":"SUM(OFFSET(テストデータ!BG3,438,0):OFFSET(テストデータ!BK3,438,0))","v":0},{"$f":"SUM(OFFSET(テストデータ!BL3,438,0):OFFSET(テストデータ!BN3,438,0))","v":0},{"$f":"SUM(OFFSET(テストデータ!BL3,438,0):OFFSET(テストデータ!BP3,438,0))","v":0},{"$f":"SUM(OFFSET(テストデータ!BQ3,438,0):OFFSET(テストデータ!BS3,438,0))","v":0},{"$f":"SUM(OFFSET(テストデータ!BQ3,438,0):OFFSET(テストデータ!BU3,438,0))","v":0},{"$f":"SUM(OFFSET(テストデータ!BV3,438,0):OFFSET(テストデータ!BX3,438,0))","v":0},{"$f":"SUM(OFFSET(テストデータ!BV3,438,0):OFFSET(テストデータ!BZ3,438,0))","v":0},{"$f":"SUM(OFFSET(テストデータ!CA3,438,0):OFFSET(テストデータ!CC3,438,0))","v":0},{"$f":"SUM(OFFSET(テストデータ!CA3,438,0):OFFSET(テストデータ!CE3,438,0))","v":0},{"$f":"SUM(OFFSET(テストデータ!CF3,438,0):OFFSET(テストデータ!CH3,438,0))","v":0},{"$f":"SUM(OFFSET(テストデータ!CF3,438,0):OFFSET(テストデータ!CJ3,438,0))","v":0},{"$f":"SUM(OFFSET(テストデータ!CK3,438,0):OFFSET(テストデータ!CM3,438,0))","v":0},{"$f":"SUM(OFFSET(テストデータ!CK3,438,0):OFFSET(テストデータ!CO3,438,0))","v":0},{"$f":"SUM(OFFSET(テストデータ!CP3,438,0):OFFSET(テストデータ!CR3,438,0))","v":0},{"$f":"SUM(OFFSET(テストデータ!CP3,438,0):OFFSET(テストデータ!CT3,438,0))","v":0}]
[null,null,null,null,null,null,null,null,null,null,null,null,null,{"$f":"SUM(OFFSET(テストデータ!$E3,439,9*成績表1!$B$4-9):OFFSET(テストデータ!$G3,439,9*成績表1!$B$4-9))","v":0},{"$f":"SUM(OFFSET(テストデータ!$E3,439,9*成績表1!$B$4-9):OFFSET(テストデータ!I3,439,9*成績表1!$B$4-9))","v":0},{"$f":"SUM(OFFSET(テストデータ!E3,439,0):OFFSET(テストデータ!G3,439,0))","v":0},{"$f":"SUM(OFFSET(テストデータ!E3,439,0):OFFSET(テストデータ!I3,439,0))","v":0},{"$f":"SUM(OFFSET(テストデータ!N3,439,0):OFFSET(テストデータ!P3,439,0))","v":0},{"$f":"SUM(OFFSET(テストデータ!N3,439,0):OFFSET(テストデータ!R3,439,0))","v":0},{"$f":"SUM(OFFSET(テストデータ!W3,439,0):OFFSET(テストデータ!Y3,439,0))","v":0},{"$f":"SUM(OFFSET(テストデータ!W3,439,0):OFFSET(テストデータ!AA3,439,0))","v":0},{"$f":"SUM(OFFSET(テストデータ!AF3,439,0):OFFSET(テストデータ!AH3,439,0))","v":0},{"$f":"SUM(OFFSET(テストデータ!AF3,439,0):OFFSET(テストデータ!AJ3,439,0))","v":0},{"$f":"SUM(OFFSET(テストデータ!AO3,439,0):OFFSET(テストデータ!AQ3,439,0))","v":0},{"$f":"SUM(OFFSET(テストデータ!AO3,439,0):OFFSET(テストデータ!AS3,439,0))","v":0},{"$f":"SUM(OFFSET(テストデータ!AX3,439,0):OFFSET(テストデータ!AZ3,439,0))","v":0},{"$f":"SUM(OFFSET(テストデータ!AX3,439,0):OFFSET(テストデータ!BB3,439,0))","v":0},{"$f":"SUM(OFFSET(テストデータ!BG3,439,0):OFFSET(テストデータ!BI3,439,0))","v":0},{"$f":"SUM(OFFSET(テストデータ!BG3,439,0):OFFSET(テストデータ!BK3,439,0))","v":0},{"$f":"SUM(OFFSET(テストデータ!BL3,439,0):OFFSET(テストデータ!BN3,439,0))","v":0},{"$f":"SUM(OFFSET(テストデータ!BL3,439,0):OFFSET(テストデータ!BP3,439,0))","v":0},{"$f":"SUM(OFFSET(テストデータ!BQ3,439,0):OFFSET(テストデータ!BS3,439,0))","v":0},{"$f":"SUM(OFFSET(テストデータ!BQ3,439,0):OFFSET(テストデータ!BU3,439,0))","v":0},{"$f":"SUM(OFFSET(テストデータ!BV3,439,0):OFFSET(テストデータ!BX3,439,0))","v":0},{"$f":"SUM(OFFSET(テストデータ!BV3,439,0):OFFSET(テストデータ!BZ3,439,0))","v":0},{"$f":"SUM(OFFSET(テストデータ!CA3,439,0):OFFSET(テストデータ!CC3,439,0))","v":0},{"$f":"SUM(OFFSET(テストデータ!CA3,439,0):OFFSET(テストデータ!CE3,439,0))","v":0},{"$f":"SUM(OFFSET(テストデータ!CF3,439,0):OFFSET(テストデータ!CH3,439,0))","v":0},{"$f":"SUM(OFFSET(テストデータ!CF3,439,0):OFFSET(テストデータ!CJ3,439,0))","v":0},{"$f":"SUM(OFFSET(テストデータ!CK3,439,0):OFFSET(テストデータ!CM3,439,0))","v":0},{"$f":"SUM(OFFSET(テストデータ!CK3,439,0):OFFSET(テストデータ!CO3,439,0))","v":0},{"$f":"SUM(OFFSET(テストデータ!CP3,439,0):OFFSET(テストデータ!CR3,439,0))","v":0},{"$f":"SUM(OFFSET(テストデータ!CP3,439,0):OFFSET(テストデータ!CT3,439,0))","v":0}]
[null,null,null,null,null,null,null,null,null,null,null,null,null,{"$f":"SUM(OFFSET(テストデータ!$E3,440,9*成績表1!$B$4-9):OFFSET(テストデータ!$G3,440,9*成績表1!$B$4-9))","v":0},{"$f":"SUM(OFFSET(テストデータ!$E3,440,9*成績表1!$B$4-9):OFFSET(テストデータ!I3,440,9*成績表1!$B$4-9))","v":0},{"$f":"SUM(OFFSET(テストデータ!E3,440,0):OFFSET(テストデータ!G3,440,0))","v":0},{"$f":"SUM(OFFSET(テストデータ!E3,440,0):OFFSET(テストデータ!I3,440,0))","v":0},{"$f":"SUM(OFFSET(テストデータ!N3,440,0):OFFSET(テストデータ!P3,440,0))","v":0},{"$f":"SUM(OFFSET(テストデータ!N3,440,0):OFFSET(テストデータ!R3,440,0))","v":0},{"$f":"SUM(OFFSET(テストデータ!W3,440,0):OFFSET(テストデータ!Y3,440,0))","v":0},{"$f":"SUM(OFFSET(テストデータ!W3,440,0):OFFSET(テストデータ!AA3,440,0))","v":0},{"$f":"SUM(OFFSET(テストデータ!AF3,440,0):OFFSET(テストデータ!AH3,440,0))","v":0},{"$f":"SUM(OFFSET(テストデータ!AF3,440,0):OFFSET(テストデータ!AJ3,440,0))","v":0},{"$f":"SUM(OFFSET(テストデータ!AO3,440,0):OFFSET(テストデータ!AQ3,440,0))","v":0},{"$f":"SUM(OFFSET(テストデータ!AO3,440,0):OFFSET(テストデータ!AS3,440,0))","v":0},{"$f":"SUM(OFFSET(テストデータ!AX3,440,0):OFFSET(テストデータ!AZ3,440,0))","v":0},{"$f":"SUM(OFFSET(テストデータ!AX3,440,0):OFFSET(テストデータ!BB3,440,0))","v":0},{"$f":"SUM(OFFSET(テストデータ!BG3,440,0):OFFSET(テストデータ!BI3,440,0))","v":0},{"$f":"SUM(OFFSET(テストデータ!BG3,440,0):OFFSET(テストデータ!BK3,440,0))","v":0},{"$f":"SUM(OFFSET(テストデータ!BL3,440,0):OFFSET(テストデータ!BN3,440,0))","v":0},{"$f":"SUM(OFFSET(テストデータ!BL3,440,0):OFFSET(テストデータ!BP3,440,0))","v":0},{"$f":"SUM(OFFSET(テストデータ!BQ3,440,0):OFFSET(テストデータ!BS3,440,0))","v":0},{"$f":"SUM(OFFSET(テストデータ!BQ3,440,0):OFFSET(テストデータ!BU3,440,0))","v":0},{"$f":"SUM(OFFSET(テストデータ!BV3,440,0):OFFSET(テストデータ!BX3,440,0))","v":0},{"$f":"SUM(OFFSET(テストデータ!BV3,440,0):OFFSET(テストデータ!BZ3,440,0))","v":0},{"$f":"SUM(OFFSET(テストデータ!CA3,440,0):OFFSET(テストデータ!CC3,440,0))","v":0},{"$f":"SUM(OFFSET(テストデータ!CA3,440,0):OFFSET(テストデータ!CE3,440,0))","v":0},{"$f":"SUM(OFFSET(テストデータ!CF3,440,0):OFFSET(テストデータ!CH3,440,0))","v":0},{"$f":"SUM(OFFSET(テストデータ!CF3,440,0):OFFSET(テストデータ!CJ3,440,0))","v":0},{"$f":"SUM(OFFSET(テストデータ!CK3,440,0):OFFSET(テストデータ!CM3,440,0))","v":0},{"$f":"SUM(OFFSET(テストデータ!CK3,440,0):OFFSET(テストデータ!CO3,440,0))","v":0},{"$f":"SUM(OFFSET(テストデータ!CP3,440,0):OFFSET(テストデータ!CR3,440,0))","v":0},{"$f":"SUM(OFFSET(テストデータ!CP3,440,0):OFFSET(テストデータ!CT3,440,0))","v":0}]
[null,null,null,null,null,null,null,null,null,null,null,null,null,{"$f":"SUM(OFFSET(テストデータ!$E3,441,9*成績表1!$B$4-9):OFFSET(テストデータ!$G3,441,9*成績表1!$B$4-9))","v":0},{"$f":"SUM(OFFSET(テストデータ!$E3,441,9*成績表1!$B$4-9):OFFSET(テストデータ!I3,441,9*成績表1!$B$4-9))","v":0},{"$f":"SUM(OFFSET(テストデータ!E3,441,0):OFFSET(テストデータ!G3,441,0))","v":0},{"$f":"SUM(OFFSET(テストデータ!E3,441,0):OFFSET(テストデータ!I3,441,0))","v":0},{"$f":"SUM(OFFSET(テストデータ!N3,441,0):OFFSET(テストデータ!P3,441,0))","v":0},{"$f":"SUM(OFFSET(テストデータ!N3,441,0):OFFSET(テストデータ!R3,441,0))","v":0},{"$f":"SUM(OFFSET(テストデータ!W3,441,0):OFFSET(テストデータ!Y3,441,0))","v":0},{"$f":"SUM(OFFSET(テストデータ!W3,441,0):OFFSET(テストデータ!AA3,441,0))","v":0},{"$f":"SUM(OFFSET(テストデータ!AF3,441,0):OFFSET(テストデータ!AH3,441,0))","v":0},{"$f":"SUM(OFFSET(テストデータ!AF3,441,0):OFFSET(テストデータ!AJ3,441,0))","v":0},{"$f":"SUM(OFFSET(テストデータ!AO3,441,0):OFFSET(テストデータ!AQ3,441,0))","v":0},{"$f":"SUM(OFFSET(テストデータ!AO3,441,0):OFFSET(テストデータ!AS3,441,0))","v":0},{"$f":"SUM(OFFSET(テストデータ!AX3,441,0):OFFSET(テストデータ!AZ3,441,0))","v":0},{"$f":"SUM(OFFSET(テストデータ!AX3,441,0):OFFSET(テストデータ!BB3,441,0))","v":0},{"$f":"SUM(OFFSET(テストデータ!BG3,441,0):OFFSET(テストデータ!BI3,441,0))","v":0},{"$f":"SUM(OFFSET(テストデータ!BG3,441,0):OFFSET(テストデータ!BK3,441,0))","v":0},{"$f":"SUM(OFFSET(テストデータ!BL3,441,0):OFFSET(テストデータ!BN3,441,0))","v":0},{"$f":"SUM(OFFSET(テストデータ!BL3,441,0):OFFSET(テストデータ!BP3,441,0))","v":0},{"$f":"SUM(OFFSET(テストデータ!BQ3,441,0):OFFSET(テストデータ!BS3,441,0))","v":0},{"$f":"SUM(OFFSET(テストデータ!BQ3,441,0):OFFSET(テストデータ!BU3,441,0))","v":0},{"$f":"SUM(OFFSET(テストデータ!BV3,441,0):OFFSET(テストデータ!BX3,441,0))","v":0},{"$f":"SUM(OFFSET(テストデータ!BV3,441,0):OFFSET(テストデータ!BZ3,441,0))","v":0},{"$f":"SUM(OFFSET(テストデータ!CA3,441,0):OFFSET(テストデータ!CC3,441,0))","v":0},{"$f":"SUM(OFFSET(テストデータ!CA3,441,0):OFFSET(テストデータ!CE3,441,0))","v":0},{"$f":"SUM(OFFSET(テストデータ!CF3,441,0):OFFSET(テストデータ!CH3,441,0))","v":0},{"$f":"SUM(OFFSET(テストデータ!CF3,441,0):OFFSET(テストデータ!CJ3,441,0))","v":0},{"$f":"SUM(OFFSET(テストデータ!CK3,441,0):OFFSET(テストデータ!CM3,441,0))","v":0},{"$f":"SUM(OFFSET(テストデータ!CK3,441,0):OFFSET(テストデータ!CO3,441,0))","v":0},{"$f":"SUM(OFFSET(テストデータ!CP3,441,0):OFFSET(テストデータ!CR3,441,0))","v":0},{"$f":"SUM(OFFSET(テストデータ!CP3,441,0):OFFSET(テストデータ!CT3,441,0))","v":0}]
[null,null,null,null,null,null,null,null,null,null,null,null,null,{"$f":"SUM(OFFSET(テストデータ!$E3,442,9*成績表1!$B$4-9):OFFSET(テストデータ!$G3,442,9*成績表1!$B$4-9))","v":0},{"$f":"SUM(OFFSET(テストデータ!$E3,442,9*成績表1!$B$4-9):OFFSET(テストデータ!I3,442,9*成績表1!$B$4-9))","v":0},{"$f":"SUM(OFFSET(テストデータ!E3,442,0):OFFSET(テストデータ!G3,442,0))","v":0},{"$f":"SUM(OFFSET(テストデータ!E3,442,0):OFFSET(テストデータ!I3,442,0))","v":0},{"$f":"SUM(OFFSET(テストデータ!N3,442,0):OFFSET(テストデータ!P3,442,0))","v":0},{"$f":"SUM(OFFSET(テストデータ!N3,442,0):OFFSET(テストデータ!R3,442,0))","v":0},{"$f":"SUM(OFFSET(テストデータ!W3,442,0):OFFSET(テストデータ!Y3,442,0))","v":0},{"$f":"SUM(OFFSET(テストデータ!W3,442,0):OFFSET(テストデータ!AA3,442,0))","v":0},{"$f":"SUM(OFFSET(テストデータ!AF3,442,0):OFFSET(テストデータ!AH3,442,0))","v":0},{"$f":"SUM(OFFSET(テストデータ!AF3,442,0):OFFSET(テストデータ!AJ3,442,0))","v":0},{"$f":"SUM(OFFSET(テストデータ!AO3,442,0):OFFSET(テストデータ!AQ3,442,0))","v":0},{"$f":"SUM(OFFSET(テストデータ!AO3,442,0):OFFSET(テストデータ!AS3,442,0))","v":0},{"$f":"SUM(OFFSET(テストデータ!AX3,442,0):OFFSET(テストデータ!AZ3,442,0))","v":0},{"$f":"SUM(OFFSET(テストデータ!AX3,442,0):OFFSET(テストデータ!BB3,442,0))","v":0},{"$f":"SUM(OFFSET(テストデータ!BG3,442,0):OFFSET(テストデータ!BI3,442,0))","v":0},{"$f":"SUM(OFFSET(テストデータ!BG3,442,0):OFFSET(テストデータ!BK3,442,0))","v":0},{"$f":"SUM(OFFSET(テストデータ!BL3,442,0):OFFSET(テストデータ!BN3,442,0))","v":0},{"$f":"SUM(OFFSET(テストデータ!BL3,442,0):OFFSET(テストデータ!BP3,442,0))","v":0},{"$f":"SUM(OFFSET(テストデータ!BQ3,442,0):OFFSET(テストデータ!BS3,442,0))","v":0},{"$f":"SUM(OFFSET(テストデータ!BQ3,442,0):OFFSET(テストデータ!BU3,442,0))","v":0},{"$f":"SUM(OFFSET(テストデータ!BV3,442,0):OFFSET(テストデータ!BX3,442,0))","v":0},{"$f":"SUM(OFFSET(テストデータ!BV3,442,0):OFFSET(テストデータ!BZ3,442,0))","v":0},{"$f":"SUM(OFFSET(テストデータ!CA3,442,0):OFFSET(テストデータ!CC3,442,0))","v":0},{"$f":"SUM(OFFSET(テストデータ!CA3,442,0):OFFSET(テストデータ!CE3,442,0))","v":0},{"$f":"SUM(OFFSET(テストデータ!CF3,442,0):OFFSET(テストデータ!CH3,442,0))","v":0},{"$f":"SUM(OFFSET(テストデータ!CF3,442,0):OFFSET(テストデータ!CJ3,442,0))","v":0},{"$f":"SUM(OFFSET(テストデータ!CK3,442,0):OFFSET(テストデータ!CM3,442,0))","v":0},{"$f":"SUM(OFFSET(テストデータ!CK3,442,0):OFFSET(テストデータ!CO3,442,0))","v":0},{"$f":"SUM(OFFSET(テストデータ!CP3,442,0):OFFSET(テストデータ!CR3,442,0))","v":0},{"$f":"SUM(OFFSET(テストデータ!CP3,442,0):OFFSET(テストデータ!CT3,442,0))","v":0}]
[null,null,null,null,null,null,null,null,null,null,null,null,null,{"$f":"SUM(OFFSET(テストデータ!$E3,443,9*成績表1!$B$4-9):OFFSET(テストデータ!$G3,443,9*成績表1!$B$4-9))","v":0},{"$f":"SUM(OFFSET(テストデータ!$E3,443,9*成績表1!$B$4-9):OFFSET(テストデータ!I3,443,9*成績表1!$B$4-9))","v":0},{"$f":"SUM(OFFSET(テストデータ!E3,443,0):OFFSET(テストデータ!G3,443,0))","v":0},{"$f":"SUM(OFFSET(テストデータ!E3,443,0):OFFSET(テストデータ!I3,443,0))","v":0},{"$f":"SUM(OFFSET(テストデータ!N3,443,0):OFFSET(テストデータ!P3,443,0))","v":0},{"$f":"SUM(OFFSET(テストデータ!N3,443,0):OFFSET(テストデータ!R3,443,0))","v":0},{"$f":"SUM(OFFSET(テストデータ!W3,443,0):OFFSET(テストデータ!Y3,443,0))","v":0},{"$f":"SUM(OFFSET(テストデータ!W3,443,0):OFFSET(テストデータ!AA3,443,0))","v":0},{"$f":"SUM(OFFSET(テストデータ!AF3,443,0):OFFSET(テストデータ!AH3,443,0))","v":0},{"$f":"SUM(OFFSET(テストデータ!AF3,443,0):OFFSET(テストデータ!AJ3,443,0))","v":0},{"$f":"SUM(OFFSET(テストデータ!AO3,443,0):OFFSET(テストデータ!AQ3,443,0))","v":0},{"$f":"SUM(OFFSET(テストデータ!AO3,443,0):OFFSET(テストデータ!AS3,443,0))","v":0},{"$f":"SUM(OFFSET(テストデータ!AX3,443,0):OFFSET(テストデータ!AZ3,443,0))","v":0},{"$f":"SUM(OFFSET(テストデータ!AX3,443,0):OFFSET(テストデータ!BB3,443,0))","v":0},{"$f":"SUM(OFFSET(テストデータ!BG3,443,0):OFFSET(テストデータ!BI3,443,0))","v":0},{"$f":"SUM(OFFSET(テストデータ!BG3,443,0):OFFSET(テストデータ!BK3,443,0))","v":0},{"$f":"SUM(OFFSET(テストデータ!BL3,443,0):OFFSET(テストデータ!BN3,443,0))","v":0},{"$f":"SUM(OFFSET(テストデータ!BL3,443,0):OFFSET(テストデータ!BP3,443,0))","v":0},{"$f":"SUM(OFFSET(テストデータ!BQ3,443,0):OFFSET(テストデータ!BS3,443,0))","v":0},{"$f":"SUM(OFFSET(テストデータ!BQ3,443,0):OFFSET(テストデータ!BU3,443,0))","v":0},{"$f":"SUM(OFFSET(テストデータ!BV3,443,0):OFFSET(テストデータ!BX3,443,0))","v":0},{"$f":"SUM(OFFSET(テストデータ!BV3,443,0):OFFSET(テストデータ!BZ3,443,0))","v":0},{"$f":"SUM(OFFSET(テストデータ!CA3,443,0):OFFSET(テストデータ!CC3,443,0))","v":0},{"$f":"SUM(OFFSET(テストデータ!CA3,443,0):OFFSET(テストデータ!CE3,443,0))","v":0},{"$f":"SUM(OFFSET(テストデータ!CF3,443,0):OFFSET(テストデータ!CH3,443,0))","v":0},{"$f":"SUM(OFFSET(テストデータ!CF3,443,0):OFFSET(テストデータ!CJ3,443,0))","v":0},{"$f":"SUM(OFFSET(テストデータ!CK3,443,0):OFFSET(テストデータ!CM3,443,0))","v":0},{"$f":"SUM(OFFSET(テストデータ!CK3,443,0):OFFSET(テストデータ!CO3,443,0))","v":0},{"$f":"SUM(OFFSET(テストデータ!CP3,443,0):OFFSET(テストデータ!CR3,443,0))","v":0},{"$f":"SUM(OFFSET(テストデータ!CP3,443,0):OFFSET(テストデータ!CT3,443,0))","v":0}]
[null,null,null,null,null,null,null,null,null,null,null,null,null,{"$f":"SUM(OFFSET(テストデータ!$E3,444,9*成績表1!$B$4-9):OFFSET(テストデータ!$G3,444,9*成績表1!$B$4-9))","v":0},{"$f":"SUM(OFFSET(テストデータ!$E3,444,9*成績表1!$B$4-9):OFFSET(テストデータ!I3,444,9*成績表1!$B$4-9))","v":0},{"$f":"SUM(OFFSET(テストデータ!E3,444,0):OFFSET(テストデータ!G3,444,0))","v":0},{"$f":"SUM(OFFSET(テストデータ!E3,444,0):OFFSET(テストデータ!I3,444,0))","v":0},{"$f":"SUM(OFFSET(テストデータ!N3,444,0):OFFSET(テストデータ!P3,444,0))","v":0},{"$f":"SUM(OFFSET(テストデータ!N3,444,0):OFFSET(テストデータ!R3,444,0))","v":0},{"$f":"SUM(OFFSET(テストデータ!W3,444,0):OFFSET(テストデータ!Y3,444,0))","v":0},{"$f":"SUM(OFFSET(テストデータ!W3,444,0):OFFSET(テストデータ!AA3,444,0))","v":0},{"$f":"SUM(OFFSET(テストデータ!AF3,444,0):OFFSET(テストデータ!AH3,444,0))","v":0},{"$f":"SUM(OFFSET(テストデータ!AF3,444,0):OFFSET(テストデータ!AJ3,444,0))","v":0},{"$f":"SUM(OFFSET(テストデータ!AO3,444,0):OFFSET(テストデータ!AQ3,444,0))","v":0},{"$f":"SUM(OFFSET(テストデータ!AO3,444,0):OFFSET(テストデータ!AS3,444,0))","v":0},{"$f":"SUM(OFFSET(テストデータ!AX3,444,0):OFFSET(テストデータ!AZ3,444,0))","v":0},{"$f":"SUM(OFFSET(テストデータ!AX3,444,0):OFFSET(テストデータ!BB3,444,0))","v":0},{"$f":"SUM(OFFSET(テストデータ!BG3,444,0):OFFSET(テストデータ!BI3,444,0))","v":0},{"$f":"SUM(OFFSET(テストデータ!BG3,444,0):OFFSET(テストデータ!BK3,444,0))","v":0},{"$f":"SUM(OFFSET(テストデータ!BL3,444,0):OFFSET(テストデータ!BN3,444,0))","v":0},{"$f":"SUM(OFFSET(テストデータ!BL3,444,0):OFFSET(テストデータ!BP3,444,0))","v":0},{"$f":"SUM(OFFSET(テストデータ!BQ3,444,0):OFFSET(テストデータ!BS3,444,0))","v":0},{"$f":"SUM(OFFSET(テストデータ!BQ3,444,0):OFFSET(テストデータ!BU3,444,0))","v":0},{"$f":"SUM(OFFSET(テストデータ!BV3,444,0):OFFSET(テストデータ!BX3,444,0))","v":0},{"$f":"SUM(OFFSET(テストデータ!BV3,444,0):OFFSET(テストデータ!BZ3,444,0))","v":0},{"$f":"SUM(OFFSET(テストデータ!CA3,444,0):OFFSET(テストデータ!CC3,444,0))","v":0},{"$f":"SUM(OFFSET(テストデータ!CA3,444,0):OFFSET(テストデータ!CE3,444,0))","v":0},{"$f":"SUM(OFFSET(テストデータ!CF3,444,0):OFFSET(テストデータ!CH3,444,0))","v":0},{"$f":"SUM(OFFSET(テストデータ!CF3,444,0):OFFSET(テストデータ!CJ3,444,0))","v":0},{"$f":"SUM(OFFSET(テストデータ!CK3,444,0):OFFSET(テストデータ!CM3,444,0))","v":0},{"$f":"SUM(OFFSET(テストデータ!CK3,444,0):OFFSET(テストデータ!CO3,444,0))","v":0},{"$f":"SUM(OFFSET(テストデータ!CP3,444,0):OFFSET(テストデータ!CR3,444,0))","v":0},{"$f":"SUM(OFFSET(テストデータ!CP3,444,0):OFFSET(テストデータ!CT3,444,0))","v":0}]
[null,null,null,null,null,null,null,null,null,null,null,null,null,{"$f":"SUM(OFFSET(テストデータ!$E3,445,9*成績表1!$B$4-9):OFFSET(テストデータ!$G3,445,9*成績表1!$B$4-9))","v":0},{"$f":"SUM(OFFSET(テストデータ!$E3,445,9*成績表1!$B$4-9):OFFSET(テストデータ!I3,445,9*成績表1!$B$4-9))","v":0},{"$f":"SUM(OFFSET(テストデータ!E3,445,0):OFFSET(テストデータ!G3,445,0))","v":0},{"$f":"SUM(OFFSET(テストデータ!E3,445,0):OFFSET(テストデータ!I3,445,0))","v":0},{"$f":"SUM(OFFSET(テストデータ!N3,445,0):OFFSET(テストデータ!P3,445,0))","v":0},{"$f":"SUM(OFFSET(テストデータ!N3,445,0):OFFSET(テストデータ!R3,445,0))","v":0},{"$f":"SUM(OFFSET(テストデータ!W3,445,0):OFFSET(テストデータ!Y3,445,0))","v":0},{"$f":"SUM(OFFSET(テストデータ!W3,445,0):OFFSET(テストデータ!AA3,445,0))","v":0},{"$f":"SUM(OFFSET(テストデータ!AF3,445,0):OFFSET(テストデータ!AH3,445,0))","v":0},{"$f":"SUM(OFFSET(テストデータ!AF3,445,0):OFFSET(テストデータ!AJ3,445,0))","v":0},{"$f":"SUM(OFFSET(テストデータ!AO3,445,0):OFFSET(テストデータ!AQ3,445,0))","v":0},{"$f":"SUM(OFFSET(テストデータ!AO3,445,0):OFFSET(テストデータ!AS3,445,0))","v":0},{"$f":"SUM(OFFSET(テストデータ!AX3,445,0):OFFSET(テストデータ!AZ3,445,0))","v":0},{"$f":"SUM(OFFSET(テストデータ!AX3,445,0):OFFSET(テストデータ!BB3,445,0))","v":0},{"$f":"SUM(OFFSET(テストデータ!BG3,445,0):OFFSET(テストデータ!BI3,445,0))","v":0},{"$f":"SUM(OFFSET(テストデータ!BG3,445,0):OFFSET(テストデータ!BK3,445,0))","v":0},{"$f":"SUM(OFFSET(テストデータ!BL3,445,0):OFFSET(テストデータ!BN3,445,0))","v":0},{"$f":"SUM(OFFSET(テストデータ!BL3,445,0):OFFSET(テストデータ!BP3,445,0))","v":0},{"$f":"SUM(OFFSET(テストデータ!BQ3,445,0):OFFSET(テストデータ!BS3,445,0))","v":0},{"$f":"SUM(OFFSET(テストデータ!BQ3,445,0):OFFSET(テストデータ!BU3,445,0))","v":0},{"$f":"SUM(OFFSET(テストデータ!BV3,445,0):OFFSET(テストデータ!BX3,445,0))","v":0},{"$f":"SUM(OFFSET(テストデータ!BV3,445,0):OFFSET(テストデータ!BZ3,445,0))","v":0},{"$f":"SUM(OFFSET(テストデータ!CA3,445,0):OFFSET(テストデータ!CC3,445,0))","v":0},{"$f":"SUM(OFFSET(テストデータ!CA3,445,0):OFFSET(テストデータ!CE3,445,0))","v":0},{"$f":"SUM(OFFSET(テストデータ!CF3,445,0):OFFSET(テストデータ!CH3,445,0))","v":0},{"$f":"SUM(OFFSET(テストデータ!CF3,445,0):OFFSET(テストデータ!CJ3,445,0))","v":0},{"$f":"SUM(OFFSET(テストデータ!CK3,445,0):OFFSET(テストデータ!CM3,445,0))","v":0},{"$f":"SUM(OFFSET(テストデータ!CK3,445,0):OFFSET(テストデータ!CO3,445,0))","v":0},{"$f":"SUM(OFFSET(テストデータ!CP3,445,0):OFFSET(テストデータ!CR3,445,0))","v":0},{"$f":"SUM(OFFSET(テストデータ!CP3,445,0):OFFSET(テストデータ!CT3,445,0))","v":0}]
[null,null,null,null,null,null,null,null,null,null,null,null,null,{"$f":"SUM(OFFSET(テストデータ!$E3,446,9*成績表1!$B$4-9):OFFSET(テストデータ!$G3,446,9*成績表1!$B$4-9))","v":0},{"$f":"SUM(OFFSET(テストデータ!$E3,446,9*成績表1!$B$4-9):OFFSET(テストデータ!I3,446,9*成績表1!$B$4-9))","v":0},{"$f":"SUM(OFFSET(テストデータ!E3,446,0):OFFSET(テストデータ!G3,446,0))","v":0},{"$f":"SUM(OFFSET(テストデータ!E3,446,0):OFFSET(テストデータ!I3,446,0))","v":0},{"$f":"SUM(OFFSET(テストデータ!N3,446,0):OFFSET(テストデータ!P3,446,0))","v":0},{"$f":"SUM(OFFSET(テストデータ!N3,446,0):OFFSET(テストデータ!R3,446,0))","v":0},{"$f":"SUM(OFFSET(テストデータ!W3,446,0):OFFSET(テストデータ!Y3,446,0))","v":0},{"$f":"SUM(OFFSET(テストデータ!W3,446,0):OFFSET(テストデータ!AA3,446,0))","v":0},{"$f":"SUM(OFFSET(テストデータ!AF3,446,0):OFFSET(テストデータ!AH3,446,0))","v":0},{"$f":"SUM(OFFSET(テストデータ!AF3,446,0):OFFSET(テストデータ!AJ3,446,0))","v":0},{"$f":"SUM(OFFSET(テストデータ!AO3,446,0):OFFSET(テストデータ!AQ3,446,0))","v":0},{"$f":"SUM(OFFSET(テストデータ!AO3,446,0):OFFSET(テストデータ!AS3,446,0))","v":0},{"$f":"SUM(OFFSET(テストデータ!AX3,446,0):OFFSET(テストデータ!AZ3,446,0))","v":0},{"$f":"SUM(OFFSET(テストデータ!AX3,446,0):OFFSET(テストデータ!BB3,446,0))","v":0},{"$f":"SUM(OFFSET(テストデータ!BG3,446,0):OFFSET(テストデータ!BI3,446,0))","v":0},{"$f":"SUM(OFFSET(テストデータ!BG3,446,0):OFFSET(テストデータ!BK3,446,0))","v":0},{"$f":"SUM(OFFSET(テストデータ!BL3,446,0):OFFSET(テストデータ!BN3,446,0))","v":0},{"$f":"SUM(OFFSET(テストデータ!BL3,446,0):OFFSET(テストデータ!BP3,446,0))","v":0},{"$f":"SUM(OFFSET(テストデータ!BQ3,446,0):OFFSET(テストデータ!BS3,446,0))","v":0},{"$f":"SUM(OFFSET(テストデータ!BQ3,446,0):OFFSET(テストデータ!BU3,446,0))","v":0},{"$f":"SUM(OFFSET(テストデータ!BV3,446,0):OFFSET(テストデータ!BX3,446,0))","v":0},{"$f":"SUM(OFFSET(テストデータ!BV3,446,0):OFFSET(テストデータ!BZ3,446,0))","v":0},{"$f":"SUM(OFFSET(テストデータ!CA3,446,0):OFFSET(テストデータ!CC3,446,0))","v":0},{"$f":"SUM(OFFSET(テストデータ!CA3,446,0):OFFSET(テストデータ!CE3,446,0))","v":0},{"$f":"SUM(OFFSET(テストデータ!CF3,446,0):OFFSET(テストデータ!CH3,446,0))","v":0},{"$f":"SUM(OFFSET(テストデータ!CF3,446,0):OFFSET(テストデータ!CJ3,446,0))","v":0},{"$f":"SUM(OFFSET(テストデータ!CK3,446,0):OFFSET(テストデータ!CM3,446,0))","v":0},{"$f":"SUM(OFFSET(テストデータ!CK3,446,0):OFFSET(テストデータ!CO3,446,0))","v":0},{"$f":"SUM(OFFSET(テストデータ!CP3,446,0):OFFSET(テストデータ!CR3,446,0))","v":0},{"$f":"SUM(OFFSET(テストデータ!CP3,446,0):OFFSET(テストデータ!CT3,446,0))","v":0}]
[null,null,null,null,null,null,null,null,null,null,null,null,null,{"$f":"SUM(OFFSET(テストデータ!$E3,447,9*成績表1!$B$4-9):OFFSET(テストデータ!$G3,447,9*成績表1!$B$4-9))","v":0},{"$f":"SUM(OFFSET(テストデータ!$E3,447,9*成績表1!$B$4-9):OFFSET(テストデータ!I3,447,9*成績表1!$B$4-9))","v":0},{"$f":"SUM(OFFSET(テストデータ!E3,447,0):OFFSET(テストデータ!G3,447,0))","v":0},{"$f":"SUM(OFFSET(テストデータ!E3,447,0):OFFSET(テストデータ!I3,447,0))","v":0},{"$f":"SUM(OFFSET(テストデータ!N3,447,0):OFFSET(テストデータ!P3,447,0))","v":0},{"$f":"SUM(OFFSET(テストデータ!N3,447,0):OFFSET(テストデータ!R3,447,0))","v":0},{"$f":"SUM(OFFSET(テストデータ!W3,447,0):OFFSET(テストデータ!Y3,447,0))","v":0},{"$f":"SUM(OFFSET(テストデータ!W3,447,0):OFFSET(テストデータ!AA3,447,0))","v":0},{"$f":"SUM(OFFSET(テストデータ!AF3,447,0):OFFSET(テストデータ!AH3,447,0))","v":0},{"$f":"SUM(OFFSET(テストデータ!AF3,447,0):OFFSET(テストデータ!AJ3,447,0))","v":0},{"$f":"SUM(OFFSET(テストデータ!AO3,447,0):OFFSET(テストデータ!AQ3,447,0))","v":0},{"$f":"SUM(OFFSET(テストデータ!AO3,447,0):OFFSET(テストデータ!AS3,447,0))","v":0},{"$f":"SUM(OFFSET(テストデータ!AX3,447,0):OFFSET(テストデータ!AZ3,447,0))","v":0},{"$f":"SUM(OFFSET(テストデータ!AX3,447,0):OFFSET(テストデータ!BB3,447,0))","v":0},{"$f":"SUM(OFFSET(テストデータ!BG3,447,0):OFFSET(テストデータ!BI3,447,0))","v":0},{"$f":"SUM(OFFSET(テストデータ!BG3,447,0):OFFSET(テストデータ!BK3,447,0))","v":0},{"$f":"SUM(OFFSET(テストデータ!BL3,447,0):OFFSET(テストデータ!BN3,447,0))","v":0},{"$f":"SUM(OFFSET(テストデータ!BL3,447,0):OFFSET(テストデータ!BP3,447,0))","v":0},{"$f":"SUM(OFFSET(テストデータ!BQ3,447,0):OFFSET(テストデータ!BS3,447,0))","v":0},{"$f":"SUM(OFFSET(テストデータ!BQ3,447,0):OFFSET(テストデータ!BU3,447,0))","v":0},{"$f":"SUM(OFFSET(テストデータ!BV3,447,0):OFFSET(テストデータ!BX3,447,0))","v":0},{"$f":"SUM(OFFSET(テストデータ!BV3,447,0):OFFSET(テストデータ!BZ3,447,0))","v":0},{"$f":"SUM(OFFSET(テストデータ!CA3,447,0):OFFSET(テストデータ!CC3,447,0))","v":0},{"$f":"SUM(OFFSET(テストデータ!CA3,447,0):OFFSET(テストデータ!CE3,447,0))","v":0},{"$f":"SUM(OFFSET(テストデータ!CF3,447,0):OFFSET(テストデータ!CH3,447,0))","v":0},{"$f":"SUM(OFFSET(テストデータ!CF3,447,0):OFFSET(テストデータ!CJ3,447,0))","v":0},{"$f":"SUM(OFFSET(テストデータ!CK3,447,0):OFFSET(テストデータ!CM3,447,0))","v":0},{"$f":"SUM(OFFSET(テストデータ!CK3,447,0):OFFSET(テストデータ!CO3,447,0))","v":0},{"$f":"SUM(OFFSET(テストデータ!CP3,447,0):OFFSET(テストデータ!CR3,447,0))","v":0},{"$f":"SUM(OFFSET(テストデータ!CP3,447,0):OFFSET(テストデータ!CT3,447,0))","v":0}]
[null,null,null,null,null,null,null,null,null,null,null,null,null,{"$f":"SUM(OFFSET(テストデータ!$E3,448,9*成績表1!$B$4-9):OFFSET(テストデータ!$G3,448,9*成績表1!$B$4-9))","v":0},{"$f":"SUM(OFFSET(テストデータ!$E3,448,9*成績表1!$B$4-9):OFFSET(テストデータ!I3,448,9*成績表1!$B$4-9))","v":0},{"$f":"SUM(OFFSET(テストデータ!E3,448,0):OFFSET(テストデータ!G3,448,0))","v":0},{"$f":"SUM(OFFSET(テストデータ!E3,448,0):OFFSET(テストデータ!I3,448,0))","v":0},{"$f":"SUM(OFFSET(テストデータ!N3,448,0):OFFSET(テストデータ!P3,448,0))","v":0},{"$f":"SUM(OFFSET(テストデータ!N3,448,0):OFFSET(テストデータ!R3,448,0))","v":0},{"$f":"SUM(OFFSET(テストデータ!W3,448,0):OFFSET(テストデータ!Y3,448,0))","v":0},{"$f":"SUM(OFFSET(テストデータ!W3,448,0):OFFSET(テストデータ!AA3,448,0))","v":0},{"$f":"SUM(OFFSET(テストデータ!AF3,448,0):OFFSET(テストデータ!AH3,448,0))","v":0},{"$f":"SUM(OFFSET(テストデータ!AF3,448,0):OFFSET(テストデータ!AJ3,448,0))","v":0},{"$f":"SUM(OFFSET(テストデータ!AO3,448,0):OFFSET(テストデータ!AQ3,448,0))","v":0},{"$f":"SUM(OFFSET(テストデータ!AO3,448,0):OFFSET(テストデータ!AS3,448,0))","v":0},{"$f":"SUM(OFFSET(テストデータ!AX3,448,0):OFFSET(テストデータ!AZ3,448,0))","v":0},{"$f":"SUM(OFFSET(テストデータ!AX3,448,0):OFFSET(テストデータ!BB3,448,0))","v":0},{"$f":"SUM(OFFSET(テストデータ!BG3,448,0):OFFSET(テストデータ!BI3,448,0))","v":0},{"$f":"SUM(OFFSET(テストデータ!BG3,448,0):OFFSET(テストデータ!BK3,448,0))","v":0},{"$f":"SUM(OFFSET(テストデータ!BL3,448,0):OFFSET(テストデータ!BN3,448,0))","v":0},{"$f":"SUM(OFFSET(テストデータ!BL3,448,0):OFFSET(テストデータ!BP3,448,0))","v":0},{"$f":"SUM(OFFSET(テストデータ!BQ3,448,0):OFFSET(テストデータ!BS3,448,0))","v":0},{"$f":"SUM(OFFSET(テストデータ!BQ3,448,0):OFFSET(テストデータ!BU3,448,0))","v":0},{"$f":"SUM(OFFSET(テストデータ!BV3,448,0):OFFSET(テストデータ!BX3,448,0))","v":0},{"$f":"SUM(OFFSET(テストデータ!BV3,448,0):OFFSET(テストデータ!BZ3,448,0))","v":0},{"$f":"SUM(OFFSET(テストデータ!CA3,448,0):OFFSET(テストデータ!CC3,448,0))","v":0},{"$f":"SUM(OFFSET(テストデータ!CA3,448,0):OFFSET(テストデータ!CE3,448,0))","v":0},{"$f":"SUM(OFFSET(テストデータ!CF3,448,0):OFFSET(テストデータ!CH3,448,0))","v":0},{"$f":"SUM(OFFSET(テストデータ!CF3,448,0):OFFSET(テストデータ!CJ3,448,0))","v":0},{"$f":"SUM(OFFSET(テストデータ!CK3,448,0):OFFSET(テストデータ!CM3,448,0))","v":0},{"$f":"SUM(OFFSET(テストデータ!CK3,448,0):OFFSET(テストデータ!CO3,448,0))","v":0},{"$f":"SUM(OFFSET(テストデータ!CP3,448,0):OFFSET(テストデータ!CR3,448,0))","v":0},{"$f":"SUM(OFFSET(テストデータ!CP3,448,0):OFFSET(テストデータ!CT3,448,0))","v":0}]
[null,null,null,null,null,null,null,null,null,null,null,null,null,{"$f":"SUM(OFFSET(テストデータ!$E3,449,9*成績表1!$B$4-9):OFFSET(テストデータ!$G3,449,9*成績表1!$B$4-9))","v":0},{"$f":"SUM(OFFSET(テストデータ!$E3,449,9*成績表1!$B$4-9):OFFSET(テストデータ!I3,449,9*成績表1!$B$4-9))","v":0},{"$f":"SUM(OFFSET(テストデータ!E3,449,0):OFFSET(テストデータ!G3,449,0))","v":0},{"$f":"SUM(OFFSET(テストデータ!E3,449,0):OFFSET(テストデータ!I3,449,0))","v":0},{"$f":"SUM(OFFSET(テストデータ!N3,449,0):OFFSET(テストデータ!P3,449,0))","v":0},{"$f":"SUM(OFFSET(テストデータ!N3,449,0):OFFSET(テストデータ!R3,449,0))","v":0},{"$f":"SUM(OFFSET(テストデータ!W3,449,0):OFFSET(テストデータ!Y3,449,0))","v":0},{"$f":"SUM(OFFSET(テストデータ!W3,449,0):OFFSET(テストデータ!AA3,449,0))","v":0},{"$f":"SUM(OFFSET(テストデータ!AF3,449,0):OFFSET(テストデータ!AH3,449,0))","v":0},{"$f":"SUM(OFFSET(テストデータ!AF3,449,0):OFFSET(テストデータ!AJ3,449,0))","v":0},{"$f":"SUM(OFFSET(テストデータ!AO3,449,0):OFFSET(テストデータ!AQ3,449,0))","v":0},{"$f":"SUM(OFFSET(テストデータ!AO3,449,0):OFFSET(テストデータ!AS3,449,0))","v":0},{"$f":"SUM(OFFSET(テストデータ!AX3,449,0):OFFSET(テストデータ!AZ3,449,0))","v":0},{"$f":"SUM(OFFSET(テストデータ!AX3,449,0):OFFSET(テストデータ!BB3,449,0))","v":0},{"$f":"SUM(OFFSET(テストデータ!BG3,449,0):OFFSET(テストデータ!BI3,449,0))","v":0},{"$f":"SUM(OFFSET(テストデータ!BG3,449,0):OFFSET(テストデータ!BK3,449,0))","v":0},{"$f":"SUM(OFFSET(テストデータ!BL3,449,0):OFFSET(テストデータ!BN3,449,0))","v":0},{"$f":"SUM(OFFSET(テストデータ!BL3,449,0):OFFSET(テストデータ!BP3,449,0))","v":0},{"$f":"SUM(OFFSET(テストデータ!BQ3,449,0):OFFSET(テストデータ!BS3,449,0))","v":0},{"$f":"SUM(OFFSET(テストデータ!BQ3,449,0):OFFSET(テストデータ!BU3,449,0))","v":0},{"$f":"SUM(OFFSET(テストデータ!BV3,449,0):OFFSET(テストデータ!BX3,449,0))","v":0},{"$f":"SUM(OFFSET(テストデータ!BV3,449,0):OFFSET(テストデータ!BZ3,449,0))","v":0},{"$f":"SUM(OFFSET(テストデータ!CA3,449,0):OFFSET(テストデータ!CC3,449,0))","v":0},{"$f":"SUM(OFFSET(テストデータ!CA3,449,0):OFFSET(テストデータ!CE3,449,0))","v":0},{"$f":"SUM(OFFSET(テストデータ!CF3,449,0):OFFSET(テストデータ!CH3,449,0))","v":0},{"$f":"SUM(OFFSET(テストデータ!CF3,449,0):OFFSET(テストデータ!CJ3,449,0))","v":0},{"$f":"SUM(OFFSET(テストデータ!CK3,449,0):OFFSET(テストデータ!CM3,449,0))","v":0},{"$f":"SUM(OFFSET(テストデータ!CK3,449,0):OFFSET(テストデータ!CO3,449,0))","v":0},{"$f":"SUM(OFFSET(テストデータ!CP3,449,0):OFFSET(テストデータ!CR3,449,0))","v":0},{"$f":"SUM(OFFSET(テストデータ!CP3,449,0):OFFSET(テストデータ!CT3,449,0))","v":0}]
[null,null,null,null,null,null,null,null,null,null,null,null,null,{"$f":"SUM(OFFSET(テストデータ!$E3,450,9*成績表1!$B$4-9):OFFSET(テストデータ!$G3,450,9*成績表1!$B$4-9))","v":0},{"$f":"SUM(OFFSET(テストデータ!$E3,450,9*成績表1!$B$4-9):OFFSET(テストデータ!I3,450,9*成績表1!$B$4-9))","v":0},{"$f":"SUM(OFFSET(テストデータ!E3,450,0):OFFSET(テストデータ!G3,450,0))","v":0},{"$f":"SUM(OFFSET(テストデータ!E3,450,0):OFFSET(テストデータ!I3,450,0))","v":0},{"$f":"SUM(OFFSET(テストデータ!N3,450,0):OFFSET(テストデータ!P3,450,0))","v":0},{"$f":"SUM(OFFSET(テストデータ!N3,450,0):OFFSET(テストデータ!R3,450,0))","v":0},{"$f":"SUM(OFFSET(テストデータ!W3,450,0):OFFSET(テストデータ!Y3,450,0))","v":0},{"$f":"SUM(OFFSET(テストデータ!W3,450,0):OFFSET(テストデータ!AA3,450,0))","v":0},{"$f":"SUM(OFFSET(テストデータ!AF3,450,0):OFFSET(テストデータ!AH3,450,0))","v":0},{"$f":"SUM(OFFSET(テストデータ!AF3,450,0):OFFSET(テストデータ!AJ3,450,0))","v":0},{"$f":"SUM(OFFSET(テストデータ!AO3,450,0):OFFSET(テストデータ!AQ3,450,0))","v":0},{"$f":"SUM(OFFSET(テストデータ!AO3,450,0):OFFSET(テストデータ!AS3,450,0))","v":0},{"$f":"SUM(OFFSET(テストデータ!AX3,450,0):OFFSET(テストデータ!AZ3,450,0))","v":0},{"$f":"SUM(OFFSET(テストデータ!AX3,450,0):OFFSET(テストデータ!BB3,450,0))","v":0},{"$f":"SUM(OFFSET(テストデータ!BG3,450,0):OFFSET(テストデータ!BI3,450,0))","v":0},{"$f":"SUM(OFFSET(テストデータ!BG3,450,0):OFFSET(テストデータ!BK3,450,0))","v":0},{"$f":"SUM(OFFSET(テストデータ!BL3,450,0):OFFSET(テストデータ!BN3,450,0))","v":0},{"$f":"SUM(OFFSET(テストデータ!BL3,450,0):OFFSET(テストデータ!BP3,450,0))","v":0},{"$f":"SUM(OFFSET(テストデータ!BQ3,450,0):OFFSET(テストデータ!BS3,450,0))","v":0},{"$f":"SUM(OFFSET(テストデータ!BQ3,450,0):OFFSET(テストデータ!BU3,450,0))","v":0},{"$f":"SUM(OFFSET(テストデータ!BV3,450,0):OFFSET(テストデータ!BX3,450,0))","v":0},{"$f":"SUM(OFFSET(テストデータ!BV3,450,0):OFFSET(テストデータ!BZ3,450,0))","v":0},{"$f":"SUM(OFFSET(テストデータ!CA3,450,0):OFFSET(テストデータ!CC3,450,0))","v":0},{"$f":"SUM(OFFSET(テストデータ!CA3,450,0):OFFSET(テストデータ!CE3,450,0))","v":0},{"$f":"SUM(OFFSET(テストデータ!CF3,450,0):OFFSET(テストデータ!CH3,450,0))","v":0},{"$f":"SUM(OFFSET(テストデータ!CF3,450,0):OFFSET(テストデータ!CJ3,450,0))","v":0},{"$f":"SUM(OFFSET(テストデータ!CK3,450,0):OFFSET(テストデータ!CM3,450,0))","v":0},{"$f":"SUM(OFFSET(テストデータ!CK3,450,0):OFFSET(テストデータ!CO3,450,0))","v":0},{"$f":"SUM(OFFSET(テストデータ!CP3,450,0):OFFSET(テストデータ!CR3,450,0))","v":0},{"$f":"SUM(OFFSET(テストデータ!CP3,450,0):OFFSET(テストデータ!CT3,450,0))","v":0}]
[null,null,null,null,null,null,null,null,null,null,null,null,null,{"$f":"SUM(OFFSET(テストデータ!$E3,451,9*成績表1!$B$4-9):OFFSET(テストデータ!$G3,451,9*成績表1!$B$4-9))","v":0},{"$f":"SUM(OFFSET(テストデータ!$E3,451,9*成績表1!$B$4-9):OFFSET(テストデータ!I3,451,9*成績表1!$B$4-9))","v":0},{"$f":"SUM(OFFSET(テストデータ!E3,451,0):OFFSET(テストデータ!G3,451,0))","v":0},{"$f":"SUM(OFFSET(テストデータ!E3,451,0):OFFSET(テストデータ!I3,451,0))","v":0},{"$f":"SUM(OFFSET(テストデータ!N3,451,0):OFFSET(テストデータ!P3,451,0))","v":0},{"$f":"SUM(OFFSET(テストデータ!N3,451,0):OFFSET(テストデータ!R3,451,0))","v":0},{"$f":"SUM(OFFSET(テストデータ!W3,451,0):OFFSET(テストデータ!Y3,451,0))","v":0},{"$f":"SUM(OFFSET(テストデータ!W3,451,0):OFFSET(テストデータ!AA3,451,0))","v":0},{"$f":"SUM(OFFSET(テストデータ!AF3,451,0):OFFSET(テストデータ!AH3,451,0))","v":0},{"$f":"SUM(OFFSET(テストデータ!AF3,451,0):OFFSET(テストデータ!AJ3,451,0))","v":0},{"$f":"SUM(OFFSET(テストデータ!AO3,451,0):OFFSET(テストデータ!AQ3,451,0))","v":0},{"$f":"SUM(OFFSET(テストデータ!AO3,451,0):OFFSET(テストデータ!AS3,451,0))","v":0},{"$f":"SUM(OFFSET(テストデータ!AX3,451,0):OFFSET(テストデータ!AZ3,451,0))","v":0},{"$f":"SUM(OFFSET(テストデータ!AX3,451,0):OFFSET(テストデータ!BB3,451,0))","v":0},{"$f":"SUM(OFFSET(テストデータ!BG3,451,0):OFFSET(テストデータ!BI3,451,0))","v":0},{"$f":"SUM(OFFSET(テストデータ!BG3,451,0):OFFSET(テストデータ!BK3,451,0))","v":0},{"$f":"SUM(OFFSET(テストデータ!BL3,451,0):OFFSET(テストデータ!BN3,451,0))","v":0},{"$f":"SUM(OFFSET(テストデータ!BL3,451,0):OFFSET(テストデータ!BP3,451,0))","v":0},{"$f":"SUM(OFFSET(テストデータ!BQ3,451,0):OFFSET(テストデータ!BS3,451,0))","v":0},{"$f":"SUM(OFFSET(テストデータ!BQ3,451,0):OFFSET(テストデータ!BU3,451,0))","v":0},{"$f":"SUM(OFFSET(テストデータ!BV3,451,0):OFFSET(テストデータ!BX3,451,0))","v":0},{"$f":"SUM(OFFSET(テストデータ!BV3,451,0):OFFSET(テストデータ!BZ3,451,0))","v":0},{"$f":"SUM(OFFSET(テストデータ!CA3,451,0):OFFSET(テストデータ!CC3,451,0))","v":0},{"$f":"SUM(OFFSET(テストデータ!CA3,451,0):OFFSET(テストデータ!CE3,451,0))","v":0},{"$f":"SUM(OFFSET(テストデータ!CF3,451,0):OFFSET(テストデータ!CH3,451,0))","v":0},{"$f":"SUM(OFFSET(テストデータ!CF3,451,0):OFFSET(テストデータ!CJ3,451,0))","v":0},{"$f":"SUM(OFFSET(テストデータ!CK3,451,0):OFFSET(テストデータ!CM3,451,0))","v":0},{"$f":"SUM(OFFSET(テストデータ!CK3,451,0):OFFSET(テストデータ!CO3,451,0))","v":0},{"$f":"SUM(OFFSET(テストデータ!CP3,451,0):OFFSET(テストデータ!CR3,451,0))","v":0},{"$f":"SUM(OFFSET(テストデータ!CP3,451,0):OFFSET(テストデータ!CT3,451,0))","v":0}]
[null,null,null,null,null,null,null,null,null,null,null,null,null,{"$f":"SUM(OFFSET(テストデータ!$E3,452,9*成績表1!$B$4-9):OFFSET(テストデータ!$G3,452,9*成績表1!$B$4-9))","v":0},{"$f":"SUM(OFFSET(テストデータ!$E3,452,9*成績表1!$B$4-9):OFFSET(テストデータ!I3,452,9*成績表1!$B$4-9))","v":0},{"$f":"SUM(OFFSET(テストデータ!E3,452,0):OFFSET(テストデータ!G3,452,0))","v":0},{"$f":"SUM(OFFSET(テストデータ!E3,452,0):OFFSET(テストデータ!I3,452,0))","v":0},{"$f":"SUM(OFFSET(テストデータ!N3,452,0):OFFSET(テストデータ!P3,452,0))","v":0},{"$f":"SUM(OFFSET(テストデータ!N3,452,0):OFFSET(テストデータ!R3,452,0))","v":0},{"$f":"SUM(OFFSET(テストデータ!W3,452,0):OFFSET(テストデータ!Y3,452,0))","v":0},{"$f":"SUM(OFFSET(テストデータ!W3,452,0):OFFSET(テストデータ!AA3,452,0))","v":0},{"$f":"SUM(OFFSET(テストデータ!AF3,452,0):OFFSET(テストデータ!AH3,452,0))","v":0},{"$f":"SUM(OFFSET(テストデータ!AF3,452,0):OFFSET(テストデータ!AJ3,452,0))","v":0},{"$f":"SUM(OFFSET(テストデータ!AO3,452,0):OFFSET(テストデータ!AQ3,452,0))","v":0},{"$f":"SUM(OFFSET(テストデータ!AO3,452,0):OFFSET(テストデータ!AS3,452,0))","v":0},{"$f":"SUM(OFFSET(テストデータ!AX3,452,0):OFFSET(テストデータ!AZ3,452,0))","v":0},{"$f":"SUM(OFFSET(テストデータ!AX3,452,0):OFFSET(テストデータ!BB3,452,0))","v":0},{"$f":"SUM(OFFSET(テストデータ!BG3,452,0):OFFSET(テストデータ!BI3,452,0))","v":0},{"$f":"SUM(OFFSET(テストデータ!BG3,452,0):OFFSET(テストデータ!BK3,452,0))","v":0},{"$f":"SUM(OFFSET(テストデータ!BL3,452,0):OFFSET(テストデータ!BN3,452,0))","v":0},{"$f":"SUM(OFFSET(テストデータ!BL3,452,0):OFFSET(テストデータ!BP3,452,0))","v":0},{"$f":"SUM(OFFSET(テストデータ!BQ3,452,0):OFFSET(テストデータ!BS3,452,0))","v":0},{"$f":"SUM(OFFSET(テストデータ!BQ3,452,0):OFFSET(テストデータ!BU3,452,0))","v":0},{"$f":"SUM(OFFSET(テストデータ!BV3,452,0):OFFSET(テストデータ!BX3,452,0))","v":0},{"$f":"SUM(OFFSET(テストデータ!BV3,452,0):OFFSET(テストデータ!BZ3,452,0))","v":0},{"$f":"SUM(OFFSET(テストデータ!CA3,452,0):OFFSET(テストデータ!CC3,452,0))","v":0},{"$f":"SUM(OFFSET(テストデータ!CA3,452,0):OFFSET(テストデータ!CE3,452,0))","v":0},{"$f":"SUM(OFFSET(テストデータ!CF3,452,0):OFFSET(テストデータ!CH3,452,0))","v":0},{"$f":"SUM(OFFSET(テストデータ!CF3,452,0):OFFSET(テストデータ!CJ3,452,0))","v":0},{"$f":"SUM(OFFSET(テストデータ!CK3,452,0):OFFSET(テストデータ!CM3,452,0))","v":0},{"$f":"SUM(OFFSET(テストデータ!CK3,452,0):OFFSET(テストデータ!CO3,452,0))","v":0},{"$f":"SUM(OFFSET(テストデータ!CP3,452,0):OFFSET(テストデータ!CR3,452,0))","v":0},{"$f":"SUM(OFFSET(テストデータ!CP3,452,0):OFFSET(テストデータ!CT3,452,0))","v":0}]
[null,null,null,null,null,null,null,null,null,null,null,null,null,{"$f":"SUM(OFFSET(テストデータ!$E3,453,9*成績表1!$B$4-9):OFFSET(テストデータ!$G3,453,9*成績表1!$B$4-9))","v":0},{"$f":"SUM(OFFSET(テストデータ!$E3,453,9*成績表1!$B$4-9):OFFSET(テストデータ!I3,453,9*成績表1!$B$4-9))","v":0},{"$f":"SUM(OFFSET(テストデータ!E3,453,0):OFFSET(テストデータ!G3,453,0))","v":0},{"$f":"SUM(OFFSET(テストデータ!E3,453,0):OFFSET(テストデータ!I3,453,0))","v":0},{"$f":"SUM(OFFSET(テストデータ!N3,453,0):OFFSET(テストデータ!P3,453,0))","v":0},{"$f":"SUM(OFFSET(テストデータ!N3,453,0):OFFSET(テストデータ!R3,453,0))","v":0},{"$f":"SUM(OFFSET(テストデータ!W3,453,0):OFFSET(テストデータ!Y3,453,0))","v":0},{"$f":"SUM(OFFSET(テストデータ!W3,453,0):OFFSET(テストデータ!AA3,453,0))","v":0},{"$f":"SUM(OFFSET(テストデータ!AF3,453,0):OFFSET(テストデータ!AH3,453,0))","v":0},{"$f":"SUM(OFFSET(テストデータ!AF3,453,0):OFFSET(テストデータ!AJ3,453,0))","v":0},{"$f":"SUM(OFFSET(テストデータ!AO3,453,0):OFFSET(テストデータ!AQ3,453,0))","v":0},{"$f":"SUM(OFFSET(テストデータ!AO3,453,0):OFFSET(テストデータ!AS3,453,0))","v":0},{"$f":"SUM(OFFSET(テストデータ!AX3,453,0):OFFSET(テストデータ!AZ3,453,0))","v":0},{"$f":"SUM(OFFSET(テストデータ!AX3,453,0):OFFSET(テストデータ!BB3,453,0))","v":0},{"$f":"SUM(OFFSET(テストデータ!BG3,453,0):OFFSET(テストデータ!BI3,453,0))","v":0},{"$f":"SUM(OFFSET(テストデータ!BG3,453,0):OFFSET(テストデータ!BK3,453,0))","v":0},{"$f":"SUM(OFFSET(テストデータ!BL3,453,0):OFFSET(テストデータ!BN3,453,0))","v":0},{"$f":"SUM(OFFSET(テストデータ!BL3,453,0):OFFSET(テストデータ!BP3,453,0))","v":0},{"$f":"SUM(OFFSET(テストデータ!BQ3,453,0):OFFSET(テストデータ!BS3,453,0))","v":0},{"$f":"SUM(OFFSET(テストデータ!BQ3,453,0):OFFSET(テストデータ!BU3,453,0))","v":0},{"$f":"SUM(OFFSET(テストデータ!BV3,453,0):OFFSET(テストデータ!BX3,453,0))","v":0},{"$f":"SUM(OFFSET(テストデータ!BV3,453,0):OFFSET(テストデータ!BZ3,453,0))","v":0},{"$f":"SUM(OFFSET(テストデータ!CA3,453,0):OFFSET(テストデータ!CC3,453,0))","v":0},{"$f":"SUM(OFFSET(テストデータ!CA3,453,0):OFFSET(テストデータ!CE3,453,0))","v":0},{"$f":"SUM(OFFSET(テストデータ!CF3,453,0):OFFSET(テストデータ!CH3,453,0))","v":0},{"$f":"SUM(OFFSET(テストデータ!CF3,453,0):OFFSET(テストデータ!CJ3,453,0))","v":0},{"$f":"SUM(OFFSET(テストデータ!CK3,453,0):OFFSET(テストデータ!CM3,453,0))","v":0},{"$f":"SUM(OFFSET(テストデータ!CK3,453,0):OFFSET(テストデータ!CO3,453,0))","v":0},{"$f":"SUM(OFFSET(テストデータ!CP3,453,0):OFFSET(テストデータ!CR3,453,0))","v":0},{"$f":"SUM(OFFSET(テストデータ!CP3,453,0):OFFSET(テストデータ!CT3,453,0))","v":0}]
[null,null,null,null,null,null,null,null,null,null,null,null,null,{"$f":"SUM(OFFSET(テストデータ!$E3,454,9*成績表1!$B$4-9):OFFSET(テストデータ!$G3,454,9*成績表1!$B$4-9))","v":0},{"$f":"SUM(OFFSET(テストデータ!$E3,454,9*成績表1!$B$4-9):OFFSET(テストデータ!I3,454,9*成績表1!$B$4-9))","v":0},{"$f":"SUM(OFFSET(テストデータ!E3,454,0):OFFSET(テストデータ!G3,454,0))","v":0},{"$f":"SUM(OFFSET(テストデータ!E3,454,0):OFFSET(テストデータ!I3,454,0))","v":0},{"$f":"SUM(OFFSET(テストデータ!N3,454,0):OFFSET(テストデータ!P3,454,0))","v":0},{"$f":"SUM(OFFSET(テストデータ!N3,454,0):OFFSET(テストデータ!R3,454,0))","v":0},{"$f":"SUM(OFFSET(テストデータ!W3,454,0):OFFSET(テストデータ!Y3,454,0))","v":0},{"$f":"SUM(OFFSET(テストデータ!W3,454,0):OFFSET(テストデータ!AA3,454,0))","v":0},{"$f":"SUM(OFFSET(テストデータ!AF3,454,0):OFFSET(テストデータ!AH3,454,0))","v":0},{"$f":"SUM(OFFSET(テストデータ!AF3,454,0):OFFSET(テストデータ!AJ3,454,0))","v":0},{"$f":"SUM(OFFSET(テストデータ!AO3,454,0):OFFSET(テストデータ!AQ3,454,0))","v":0},{"$f":"SUM(OFFSET(テストデータ!AO3,454,0):OFFSET(テストデータ!AS3,454,0))","v":0},{"$f":"SUM(OFFSET(テストデータ!AX3,454,0):OFFSET(テストデータ!AZ3,454,0))","v":0},{"$f":"SUM(OFFSET(テストデータ!AX3,454,0):OFFSET(テストデータ!BB3,454,0))","v":0},{"$f":"SUM(OFFSET(テストデータ!BG3,454,0):OFFSET(テストデータ!BI3,454,0))","v":0},{"$f":"SUM(OFFSET(テストデータ!BG3,454,0):OFFSET(テストデータ!BK3,454,0))","v":0},{"$f":"SUM(OFFSET(テストデータ!BL3,454,0):OFFSET(テストデータ!BN3,454,0))","v":0},{"$f":"SUM(OFFSET(テストデータ!BL3,454,0):OFFSET(テストデータ!BP3,454,0))","v":0},{"$f":"SUM(OFFSET(テストデータ!BQ3,454,0):OFFSET(テストデータ!BS3,454,0))","v":0},{"$f":"SUM(OFFSET(テストデータ!BQ3,454,0):OFFSET(テストデータ!BU3,454,0))","v":0},{"$f":"SUM(OFFSET(テストデータ!BV3,454,0):OFFSET(テストデータ!BX3,454,0))","v":0},{"$f":"SUM(OFFSET(テストデータ!BV3,454,0):OFFSET(テストデータ!BZ3,454,0))","v":0},{"$f":"SUM(OFFSET(テストデータ!CA3,454,0):OFFSET(テストデータ!CC3,454,0))","v":0},{"$f":"SUM(OFFSET(テストデータ!CA3,454,0):OFFSET(テストデータ!CE3,454,0))","v":0},{"$f":"SUM(OFFSET(テストデータ!CF3,454,0):OFFSET(テストデータ!CH3,454,0))","v":0},{"$f":"SUM(OFFSET(テストデータ!CF3,454,0):OFFSET(テストデータ!CJ3,454,0))","v":0},{"$f":"SUM(OFFSET(テストデータ!CK3,454,0):OFFSET(テストデータ!CM3,454,0))","v":0},{"$f":"SUM(OFFSET(テストデータ!CK3,454,0):OFFSET(テストデータ!CO3,454,0))","v":0},{"$f":"SUM(OFFSET(テストデータ!CP3,454,0):OFFSET(テストデータ!CR3,454,0))","v":0},{"$f":"SUM(OFFSET(テストデータ!CP3,454,0):OFFSET(テストデータ!CT3,454,0))","v":0}]
[null,null,null,null,null,null,null,null,null,null,null,null,null,{"$f":"SUM(OFFSET(テストデータ!$E3,455,9*成績表1!$B$4-9):OFFSET(テストデータ!$G3,455,9*成績表1!$B$4-9))","v":0},{"$f":"SUM(OFFSET(テストデータ!$E3,455,9*成績表1!$B$4-9):OFFSET(テストデータ!I3,455,9*成績表1!$B$4-9))","v":0},{"$f":"SUM(OFFSET(テストデータ!E3,455,0):OFFSET(テストデータ!G3,455,0))","v":0},{"$f":"SUM(OFFSET(テストデータ!E3,455,0):OFFSET(テストデータ!I3,455,0))","v":0},{"$f":"SUM(OFFSET(テストデータ!N3,455,0):OFFSET(テストデータ!P3,455,0))","v":0},{"$f":"SUM(OFFSET(テストデータ!N3,455,0):OFFSET(テストデータ!R3,455,0))","v":0},{"$f":"SUM(OFFSET(テストデータ!W3,455,0):OFFSET(テストデータ!Y3,455,0))","v":0},{"$f":"SUM(OFFSET(テストデータ!W3,455,0):OFFSET(テストデータ!AA3,455,0))","v":0},{"$f":"SUM(OFFSET(テストデータ!AF3,455,0):OFFSET(テストデータ!AH3,455,0))","v":0},{"$f":"SUM(OFFSET(テストデータ!AF3,455,0):OFFSET(テストデータ!AJ3,455,0))","v":0},{"$f":"SUM(OFFSET(テストデータ!AO3,455,0):OFFSET(テストデータ!AQ3,455,0))","v":0},{"$f":"SUM(OFFSET(テストデータ!AO3,455,0):OFFSET(テストデータ!AS3,455,0))","v":0},{"$f":"SUM(OFFSET(テストデータ!AX3,455,0):OFFSET(テストデータ!AZ3,455,0))","v":0},{"$f":"SUM(OFFSET(テストデータ!AX3,455,0):OFFSET(テストデータ!BB3,455,0))","v":0},{"$f":"SUM(OFFSET(テストデータ!BG3,455,0):OFFSET(テストデータ!BI3,455,0))","v":0},{"$f":"SUM(OFFSET(テストデータ!BG3,455,0):OFFSET(テストデータ!BK3,455,0))","v":0},{"$f":"SUM(OFFSET(テストデータ!BL3,455,0):OFFSET(テストデータ!BN3,455,0))","v":0},{"$f":"SUM(OFFSET(テストデータ!BL3,455,0):OFFSET(テストデータ!BP3,455,0))","v":0},{"$f":"SUM(OFFSET(テストデータ!BQ3,455,0):OFFSET(テストデータ!BS3,455,0))","v":0},{"$f":"SUM(OFFSET(テストデータ!BQ3,455,0):OFFSET(テストデータ!BU3,455,0))","v":0},{"$f":"SUM(OFFSET(テストデータ!BV3,455,0):OFFSET(テストデータ!BX3,455,0))","v":0},{"$f":"SUM(OFFSET(テストデータ!BV3,455,0):OFFSET(テストデータ!BZ3,455,0))","v":0},{"$f":"SUM(OFFSET(テストデータ!CA3,455,0):OFFSET(テストデータ!CC3,455,0))","v":0},{"$f":"SUM(OFFSET(テストデータ!CA3,455,0):OFFSET(テストデータ!CE3,455,0))","v":0},{"$f":"SUM(OFFSET(テストデータ!CF3,455,0):OFFSET(テストデータ!CH3,455,0))","v":0},{"$f":"SUM(OFFSET(テストデータ!CF3,455,0):OFFSET(テストデータ!CJ3,455,0))","v":0},{"$f":"SUM(OFFSET(テストデータ!CK3,455,0):OFFSET(テストデータ!CM3,455,0))","v":0},{"$f":"SUM(OFFSET(テストデータ!CK3,455,0):OFFSET(テストデータ!CO3,455,0))","v":0},{"$f":"SUM(OFFSET(テストデータ!CP3,455,0):OFFSET(テストデータ!CR3,455,0))","v":0},{"$f":"SUM(OFFSET(テストデータ!CP3,455,0):OFFSET(テストデータ!CT3,455,0))","v":0}]
[null,null,null,null,null,null,null,null,null,null,null,null,null,{"$f":"SUM(OFFSET(テストデータ!$E3,456,9*成績表1!$B$4-9):OFFSET(テストデータ!$G3,456,9*成績表1!$B$4-9))","v":0},{"$f":"SUM(OFFSET(テストデータ!$E3,456,9*成績表1!$B$4-9):OFFSET(テストデータ!I3,456,9*成績表1!$B$4-9))","v":0},{"$f":"SUM(OFFSET(テストデータ!E3,456,0):OFFSET(テストデータ!G3,456,0))","v":0},{"$f":"SUM(OFFSET(テストデータ!E3,456,0):OFFSET(テストデータ!I3,456,0))","v":0},{"$f":"SUM(OFFSET(テストデータ!N3,456,0):OFFSET(テストデータ!P3,456,0))","v":0},{"$f":"SUM(OFFSET(テストデータ!N3,456,0):OFFSET(テストデータ!R3,456,0))","v":0},{"$f":"SUM(OFFSET(テストデータ!W3,456,0):OFFSET(テストデータ!Y3,456,0))","v":0},{"$f":"SUM(OFFSET(テストデータ!W3,456,0):OFFSET(テストデータ!AA3,456,0))","v":0},{"$f":"SUM(OFFSET(テストデータ!AF3,456,0):OFFSET(テストデータ!AH3,456,0))","v":0},{"$f":"SUM(OFFSET(テストデータ!AF3,456,0):OFFSET(テストデータ!AJ3,456,0))","v":0},{"$f":"SUM(OFFSET(テストデータ!AO3,456,0):OFFSET(テストデータ!AQ3,456,0))","v":0},{"$f":"SUM(OFFSET(テストデータ!AO3,456,0):OFFSET(テストデータ!AS3,456,0))","v":0},{"$f":"SUM(OFFSET(テストデータ!AX3,456,0):OFFSET(テストデータ!AZ3,456,0))","v":0},{"$f":"SUM(OFFSET(テストデータ!AX3,456,0):OFFSET(テストデータ!BB3,456,0))","v":0},{"$f":"SUM(OFFSET(テストデータ!BG3,456,0):OFFSET(テストデータ!BI3,456,0))","v":0},{"$f":"SUM(OFFSET(テストデータ!BG3,456,0):OFFSET(テストデータ!BK3,456,0))","v":0},{"$f":"SUM(OFFSET(テストデータ!BL3,456,0):OFFSET(テストデータ!BN3,456,0))","v":0},{"$f":"SUM(OFFSET(テストデータ!BL3,456,0):OFFSET(テストデータ!BP3,456,0))","v":0},{"$f":"SUM(OFFSET(テストデータ!BQ3,456,0):OFFSET(テストデータ!BS3,456,0))","v":0},{"$f":"SUM(OFFSET(テストデータ!BQ3,456,0):OFFSET(テストデータ!BU3,456,0))","v":0},{"$f":"SUM(OFFSET(テストデータ!BV3,456,0):OFFSET(テストデータ!BX3,456,0))","v":0},{"$f":"SUM(OFFSET(テストデータ!BV3,456,0):OFFSET(テストデータ!BZ3,456,0))","v":0},{"$f":"SUM(OFFSET(テストデータ!CA3,456,0):OFFSET(テストデータ!CC3,456,0))","v":0},{"$f":"SUM(OFFSET(テストデータ!CA3,456,0):OFFSET(テストデータ!CE3,456,0))","v":0},{"$f":"SUM(OFFSET(テストデータ!CF3,456,0):OFFSET(テストデータ!CH3,456,0))","v":0},{"$f":"SUM(OFFSET(テストデータ!CF3,456,0):OFFSET(テストデータ!CJ3,456,0))","v":0},{"$f":"SUM(OFFSET(テストデータ!CK3,456,0):OFFSET(テストデータ!CM3,456,0))","v":0},{"$f":"SUM(OFFSET(テストデータ!CK3,456,0):OFFSET(テストデータ!CO3,456,0))","v":0},{"$f":"SUM(OFFSET(テストデータ!CP3,456,0):OFFSET(テストデータ!CR3,456,0))","v":0},{"$f":"SUM(OFFSET(テストデータ!CP3,456,0):OFFSET(テストデータ!CT3,456,0))","v":0}]
[null,null,null,null,null,null,null,null,null,null,null,null,null,{"$f":"SUM(OFFSET(テストデータ!$E3,457,9*成績表1!$B$4-9):OFFSET(テストデータ!$G3,457,9*成績表1!$B$4-9))","v":0},{"$f":"SUM(OFFSET(テストデータ!$E3,457,9*成績表1!$B$4-9):OFFSET(テストデータ!I3,457,9*成績表1!$B$4-9))","v":0},{"$f":"SUM(OFFSET(テストデータ!E3,457,0):OFFSET(テストデータ!G3,457,0))","v":0},{"$f":"SUM(OFFSET(テストデータ!E3,457,0):OFFSET(テストデータ!I3,457,0))","v":0},{"$f":"SUM(OFFSET(テストデータ!N3,457,0):OFFSET(テストデータ!P3,457,0))","v":0},{"$f":"SUM(OFFSET(テストデータ!N3,457,0):OFFSET(テストデータ!R3,457,0))","v":0},{"$f":"SUM(OFFSET(テストデータ!W3,457,0):OFFSET(テストデータ!Y3,457,0))","v":0},{"$f":"SUM(OFFSET(テストデータ!W3,457,0):OFFSET(テストデータ!AA3,457,0))","v":0},{"$f":"SUM(OFFSET(テストデータ!AF3,457,0):OFFSET(テストデータ!AH3,457,0))","v":0},{"$f":"SUM(OFFSET(テストデータ!AF3,457,0):OFFSET(テストデータ!AJ3,457,0))","v":0},{"$f":"SUM(OFFSET(テストデータ!AO3,457,0):OFFSET(テストデータ!AQ3,457,0))","v":0},{"$f":"SUM(OFFSET(テストデータ!AO3,457,0):OFFSET(テストデータ!AS3,457,0))","v":0},{"$f":"SUM(OFFSET(テストデータ!AX3,457,0):OFFSET(テストデータ!AZ3,457,0))","v":0},{"$f":"SUM(OFFSET(テストデータ!AX3,457,0):OFFSET(テストデータ!BB3,457,0))","v":0},{"$f":"SUM(OFFSET(テストデータ!BG3,457,0):OFFSET(テストデータ!BI3,457,0))","v":0},{"$f":"SUM(OFFSET(テストデータ!BG3,457,0):OFFSET(テストデータ!BK3,457,0))","v":0},{"$f":"SUM(OFFSET(テストデータ!BL3,457,0):OFFSET(テストデータ!BN3,457,0))","v":0},{"$f":"SUM(OFFSET(テストデータ!BL3,457,0):OFFSET(テストデータ!BP3,457,0))","v":0},{"$f":"SUM(OFFSET(テストデータ!BQ3,457,0):OFFSET(テストデータ!BS3,457,0))","v":0},{"$f":"SUM(OFFSET(テストデータ!BQ3,457,0):OFFSET(テストデータ!BU3,457,0))","v":0},{"$f":"SUM(OFFSET(テストデータ!BV3,457,0):OFFSET(テストデータ!BX3,457,0))","v":0},{"$f":"SUM(OFFSET(テストデータ!BV3,457,0):OFFSET(テストデータ!BZ3,457,0))","v":0},{"$f":"SUM(OFFSET(テストデータ!CA3,457,0):OFFSET(テストデータ!CC3,457,0))","v":0},{"$f":"SUM(OFFSET(テストデータ!CA3,457,0):OFFSET(テストデータ!CE3,457,0))","v":0},{"$f":"SUM(OFFSET(テストデータ!CF3,457,0):OFFSET(テストデータ!CH3,457,0))","v":0},{"$f":"SUM(OFFSET(テストデータ!CF3,457,0):OFFSET(テストデータ!CJ3,457,0))","v":0},{"$f":"SUM(OFFSET(テストデータ!CK3,457,0):OFFSET(テストデータ!CM3,457,0))","v":0},{"$f":"SUM(OFFSET(テストデータ!CK3,457,0):OFFSET(テストデータ!CO3,457,0))","v":0},{"$f":"SUM(OFFSET(テストデータ!CP3,457,0):OFFSET(テストデータ!CR3,457,0))","v":0},{"$f":"SUM(OFFSET(テストデータ!CP3,457,0):OFFSET(テストデータ!CT3,457,0))","v":0}]
[null,null,null,null,null,null,null,null,null,null,null,null,null,{"$f":"SUM(OFFSET(テストデータ!$E3,458,9*成績表1!$B$4-9):OFFSET(テストデータ!$G3,458,9*成績表1!$B$4-9))","v":0},{"$f":"SUM(OFFSET(テストデータ!$E3,458,9*成績表1!$B$4-9):OFFSET(テストデータ!I3,458,9*成績表1!$B$4-9))","v":0},{"$f":"SUM(OFFSET(テストデータ!E3,458,0):OFFSET(テストデータ!G3,458,0))","v":0},{"$f":"SUM(OFFSET(テストデータ!E3,458,0):OFFSET(テストデータ!I3,458,0))","v":0},{"$f":"SUM(OFFSET(テストデータ!N3,458,0):OFFSET(テストデータ!P3,458,0))","v":0},{"$f":"SUM(OFFSET(テストデータ!N3,458,0):OFFSET(テストデータ!R3,458,0))","v":0},{"$f":"SUM(OFFSET(テストデータ!W3,458,0):OFFSET(テストデータ!Y3,458,0))","v":0},{"$f":"SUM(OFFSET(テストデータ!W3,458,0):OFFSET(テストデータ!AA3,458,0))","v":0},{"$f":"SUM(OFFSET(テストデータ!AF3,458,0):OFFSET(テストデータ!AH3,458,0))","v":0},{"$f":"SUM(OFFSET(テストデータ!AF3,458,0):OFFSET(テストデータ!AJ3,458,0))","v":0},{"$f":"SUM(OFFSET(テストデータ!AO3,458,0):OFFSET(テストデータ!AQ3,458,0))","v":0},{"$f":"SUM(OFFSET(テストデータ!AO3,458,0):OFFSET(テストデータ!AS3,458,0))","v":0},{"$f":"SUM(OFFSET(テストデータ!AX3,458,0):OFFSET(テストデータ!AZ3,458,0))","v":0},{"$f":"SUM(OFFSET(テストデータ!AX3,458,0):OFFSET(テストデータ!BB3,458,0))","v":0},{"$f":"SUM(OFFSET(テストデータ!BG3,458,0):OFFSET(テストデータ!BI3,458,0))","v":0},{"$f":"SUM(OFFSET(テストデータ!BG3,458,0):OFFSET(テストデータ!BK3,458,0))","v":0},{"$f":"SUM(OFFSET(テストデータ!BL3,458,0):OFFSET(テストデータ!BN3,458,0))","v":0},{"$f":"SUM(OFFSET(テストデータ!BL3,458,0):OFFSET(テストデータ!BP3,458,0))","v":0},{"$f":"SUM(OFFSET(テストデータ!BQ3,458,0):OFFSET(テストデータ!BS3,458,0))","v":0},{"$f":"SUM(OFFSET(テストデータ!BQ3,458,0):OFFSET(テストデータ!BU3,458,0))","v":0},{"$f":"SUM(OFFSET(テストデータ!BV3,458,0):OFFSET(テストデータ!BX3,458,0))","v":0},{"$f":"SUM(OFFSET(テストデータ!BV3,458,0):OFFSET(テストデータ!BZ3,458,0))","v":0},{"$f":"SUM(OFFSET(テストデータ!CA3,458,0):OFFSET(テストデータ!CC3,458,0))","v":0},{"$f":"SUM(OFFSET(テストデータ!CA3,458,0):OFFSET(テストデータ!CE3,458,0))","v":0},{"$f":"SUM(OFFSET(テストデータ!CF3,458,0):OFFSET(テストデータ!CH3,458,0))","v":0},{"$f":"SUM(OFFSET(テストデータ!CF3,458,0):OFFSET(テストデータ!CJ3,458,0))","v":0},{"$f":"SUM(OFFSET(テストデータ!CK3,458,0):OFFSET(テストデータ!CM3,458,0))","v":0},{"$f":"SUM(OFFSET(テストデータ!CK3,458,0):OFFSET(テストデータ!CO3,458,0))","v":0},{"$f":"SUM(OFFSET(テストデータ!CP3,458,0):OFFSET(テストデータ!CR3,458,0))","v":0},{"$f":"SUM(OFFSET(テストデータ!CP3,458,0):OFFSET(テストデータ!CT3,458,0))","v":0}]
[null,null,null,null,null,null,null,null,null,null,null,null,null,{"$f":"SUM(OFFSET(テストデータ!$E3,459,9*成績表1!$B$4-9):OFFSET(テストデータ!$G3,459,9*成績表1!$B$4-9))","v":0},{"$f":"SUM(OFFSET(テストデータ!$E3,459,9*成績表1!$B$4-9):OFFSET(テストデータ!I3,459,9*成績表1!$B$4-9))","v":0},{"$f":"SUM(OFFSET(テストデータ!E3,459,0):OFFSET(テストデータ!G3,459,0))","v":0},{"$f":"SUM(OFFSET(テストデータ!E3,459,0):OFFSET(テストデータ!I3,459,0))","v":0},{"$f":"SUM(OFFSET(テストデータ!N3,459,0):OFFSET(テストデータ!P3,459,0))","v":0},{"$f":"SUM(OFFSET(テストデータ!N3,459,0):OFFSET(テストデータ!R3,459,0))","v":0},{"$f":"SUM(OFFSET(テストデータ!W3,459,0):OFFSET(テストデータ!Y3,459,0))","v":0},{"$f":"SUM(OFFSET(テストデータ!W3,459,0):OFFSET(テストデータ!AA3,459,0))","v":0},{"$f":"SUM(OFFSET(テストデータ!AF3,459,0):OFFSET(テストデータ!AH3,459,0))","v":0},{"$f":"SUM(OFFSET(テストデータ!AF3,459,0):OFFSET(テストデータ!AJ3,459,0))","v":0},{"$f":"SUM(OFFSET(テストデータ!AO3,459,0):OFFSET(テストデータ!AQ3,459,0))","v":0},{"$f":"SUM(OFFSET(テストデータ!AO3,459,0):OFFSET(テストデータ!AS3,459,0))","v":0},{"$f":"SUM(OFFSET(テストデータ!AX3,459,0):OFFSET(テストデータ!AZ3,459,0))","v":0},{"$f":"SUM(OFFSET(テストデータ!AX3,459,0):OFFSET(テストデータ!BB3,459,0))","v":0},{"$f":"SUM(OFFSET(テストデータ!BG3,459,0):OFFSET(テストデータ!BI3,459,0))","v":0},{"$f":"SUM(OFFSET(テストデータ!BG3,459,0):OFFSET(テストデータ!BK3,459,0))","v":0},{"$f":"SUM(OFFSET(テストデータ!BL3,459,0):OFFSET(テストデータ!BN3,459,0))","v":0},{"$f":"SUM(OFFSET(テストデータ!BL3,459,0):OFFSET(テストデータ!BP3,459,0))","v":0},{"$f":"SUM(OFFSET(テストデータ!BQ3,459,0):OFFSET(テストデータ!BS3,459,0))","v":0},{"$f":"SUM(OFFSET(テストデータ!BQ3,459,0):OFFSET(テストデータ!BU3,459,0))","v":0},{"$f":"SUM(OFFSET(テストデータ!BV3,459,0):OFFSET(テストデータ!BX3,459,0))","v":0},{"$f":"SUM(OFFSET(テストデータ!BV3,459,0):OFFSET(テストデータ!BZ3,459,0))","v":0},{"$f":"SUM(OFFSET(テストデータ!CA3,459,0):OFFSET(テストデータ!CC3,459,0))","v":0},{"$f":"SUM(OFFSET(テストデータ!CA3,459,0):OFFSET(テストデータ!CE3,459,0))","v":0},{"$f":"SUM(OFFSET(テストデータ!CF3,459,0):OFFSET(テストデータ!CH3,459,0))","v":0},{"$f":"SUM(OFFSET(テストデータ!CF3,459,0):OFFSET(テストデータ!CJ3,459,0))","v":0},{"$f":"SUM(OFFSET(テストデータ!CK3,459,0):OFFSET(テストデータ!CM3,459,0))","v":0},{"$f":"SUM(OFFSET(テストデータ!CK3,459,0):OFFSET(テストデータ!CO3,459,0))","v":0},{"$f":"SUM(OFFSET(テストデータ!CP3,459,0):OFFSET(テストデータ!CR3,459,0))","v":0},{"$f":"SUM(OFFSET(テストデータ!CP3,459,0):OFFSET(テストデータ!CT3,459,0))","v":0}]
[null,null,null,null,null,null,null,null,null,null,null,null,null,{"$f":"SUM(OFFSET(テストデータ!$E3,460,9*成績表1!$B$4-9):OFFSET(テストデータ!$G3,460,9*成績表1!$B$4-9))","v":0},{"$f":"SUM(OFFSET(テストデータ!$E3,460,9*成績表1!$B$4-9):OFFSET(テストデータ!I3,460,9*成績表1!$B$4-9))","v":0},{"$f":"SUM(OFFSET(テストデータ!E3,460,0):OFFSET(テストデータ!G3,460,0))","v":0},{"$f":"SUM(OFFSET(テストデータ!E3,460,0):OFFSET(テストデータ!I3,460,0))","v":0},{"$f":"SUM(OFFSET(テストデータ!N3,460,0):OFFSET(テストデータ!P3,460,0))","v":0},{"$f":"SUM(OFFSET(テストデータ!N3,460,0):OFFSET(テストデータ!R3,460,0))","v":0},{"$f":"SUM(OFFSET(テストデータ!W3,460,0):OFFSET(テストデータ!Y3,460,0))","v":0},{"$f":"SUM(OFFSET(テストデータ!W3,460,0):OFFSET(テストデータ!AA3,460,0))","v":0},{"$f":"SUM(OFFSET(テストデータ!AF3,460,0):OFFSET(テストデータ!AH3,460,0))","v":0},{"$f":"SUM(OFFSET(テストデータ!AF3,460,0):OFFSET(テストデータ!AJ3,460,0))","v":0},{"$f":"SUM(OFFSET(テストデータ!AO3,460,0):OFFSET(テストデータ!AQ3,460,0))","v":0},{"$f":"SUM(OFFSET(テストデータ!AO3,460,0):OFFSET(テストデータ!AS3,460,0))","v":0},{"$f":"SUM(OFFSET(テストデータ!AX3,460,0):OFFSET(テストデータ!AZ3,460,0))","v":0},{"$f":"SUM(OFFSET(テストデータ!AX3,460,0):OFFSET(テストデータ!BB3,460,0))","v":0},{"$f":"SUM(OFFSET(テストデータ!BG3,460,0):OFFSET(テストデータ!BI3,460,0))","v":0},{"$f":"SUM(OFFSET(テストデータ!BG3,460,0):OFFSET(テストデータ!BK3,460,0))","v":0},{"$f":"SUM(OFFSET(テストデータ!BL3,460,0):OFFSET(テストデータ!BN3,460,0))","v":0},{"$f":"SUM(OFFSET(テストデータ!BL3,460,0):OFFSET(テストデータ!BP3,460,0))","v":0},{"$f":"SUM(OFFSET(テストデータ!BQ3,460,0):OFFSET(テストデータ!BS3,460,0))","v":0},{"$f":"SUM(OFFSET(テストデータ!BQ3,460,0):OFFSET(テストデータ!BU3,460,0))","v":0},{"$f":"SUM(OFFSET(テストデータ!BV3,460,0):OFFSET(テストデータ!BX3,460,0))","v":0},{"$f":"SUM(OFFSET(テストデータ!BV3,460,0):OFFSET(テストデータ!BZ3,460,0))","v":0},{"$f":"SUM(OFFSET(テストデータ!CA3,460,0):OFFSET(テストデータ!CC3,460,0))","v":0},{"$f":"SUM(OFFSET(テストデータ!CA3,460,0):OFFSET(テストデータ!CE3,460,0))","v":0},{"$f":"SUM(OFFSET(テストデータ!CF3,460,0):OFFSET(テストデータ!CH3,460,0))","v":0},{"$f":"SUM(OFFSET(テストデータ!CF3,460,0):OFFSET(テストデータ!CJ3,460,0))","v":0},{"$f":"SUM(OFFSET(テストデータ!CK3,460,0):OFFSET(テストデータ!CM3,460,0))","v":0},{"$f":"SUM(OFFSET(テストデータ!CK3,460,0):OFFSET(テストデータ!CO3,460,0))","v":0},{"$f":"SUM(OFFSET(テストデータ!CP3,460,0):OFFSET(テストデータ!CR3,460,0))","v":0},{"$f":"SUM(OFFSET(テストデータ!CP3,460,0):OFFSET(テストデータ!CT3,460,0))","v":0}]
[null,null,null,null,null,null,null,null,null,null,null,null,null,{"$f":"SUM(OFFSET(テストデータ!$E3,461,9*成績表1!$B$4-9):OFFSET(テストデータ!$G3,461,9*成績表1!$B$4-9))","v":0},{"$f":"SUM(OFFSET(テストデータ!$E3,461,9*成績表1!$B$4-9):OFFSET(テストデータ!I3,461,9*成績表1!$B$4-9))","v":0},{"$f":"SUM(OFFSET(テストデータ!E3,461,0):OFFSET(テストデータ!G3,461,0))","v":0},{"$f":"SUM(OFFSET(テストデータ!E3,461,0):OFFSET(テストデータ!I3,461,0))","v":0},{"$f":"SUM(OFFSET(テストデータ!N3,461,0):OFFSET(テストデータ!P3,461,0))","v":0},{"$f":"SUM(OFFSET(テストデータ!N3,461,0):OFFSET(テストデータ!R3,461,0))","v":0},{"$f":"SUM(OFFSET(テストデータ!W3,461,0):OFFSET(テストデータ!Y3,461,0))","v":0},{"$f":"SUM(OFFSET(テストデータ!W3,461,0):OFFSET(テストデータ!AA3,461,0))","v":0},{"$f":"SUM(OFFSET(テストデータ!AF3,461,0):OFFSET(テストデータ!AH3,461,0))","v":0},{"$f":"SUM(OFFSET(テストデータ!AF3,461,0):OFFSET(テストデータ!AJ3,461,0))","v":0},{"$f":"SUM(OFFSET(テストデータ!AO3,461,0):OFFSET(テストデータ!AQ3,461,0))","v":0},{"$f":"SUM(OFFSET(テストデータ!AO3,461,0):OFFSET(テストデータ!AS3,461,0))","v":0},{"$f":"SUM(OFFSET(テストデータ!AX3,461,0):OFFSET(テストデータ!AZ3,461,0))","v":0},{"$f":"SUM(OFFSET(テストデータ!AX3,461,0):OFFSET(テストデータ!BB3,461,0))","v":0},{"$f":"SUM(OFFSET(テストデータ!BG3,461,0):OFFSET(テストデータ!BI3,461,0))","v":0},{"$f":"SUM(OFFSET(テストデータ!BG3,461,0):OFFSET(テストデータ!BK3,461,0))","v":0},{"$f":"SUM(OFFSET(テストデータ!BL3,461,0):OFFSET(テストデータ!BN3,461,0))","v":0},{"$f":"SUM(OFFSET(テストデータ!BL3,461,0):OFFSET(テストデータ!BP3,461,0))","v":0},{"$f":"SUM(OFFSET(テストデータ!BQ3,461,0):OFFSET(テストデータ!BS3,461,0))","v":0},{"$f":"SUM(OFFSET(テストデータ!BQ3,461,0):OFFSET(テストデータ!BU3,461,0))","v":0},{"$f":"SUM(OFFSET(テストデータ!BV3,461,0):OFFSET(テストデータ!BX3,461,0))","v":0},{"$f":"SUM(OFFSET(テストデータ!BV3,461,0):OFFSET(テストデータ!BZ3,461,0))","v":0},{"$f":"SUM(OFFSET(テストデータ!CA3,461,0):OFFSET(テストデータ!CC3,461,0))","v":0},{"$f":"SUM(OFFSET(テストデータ!CA3,461,0):OFFSET(テストデータ!CE3,461,0))","v":0},{"$f":"SUM(OFFSET(テストデータ!CF3,461,0):OFFSET(テストデータ!CH3,461,0))","v":0},{"$f":"SUM(OFFSET(テストデータ!CF3,461,0):OFFSET(テストデータ!CJ3,461,0))","v":0},{"$f":"SUM(OFFSET(テストデータ!CK3,461,0):OFFSET(テストデータ!CM3,461,0))","v":0},{"$f":"SUM(OFFSET(テストデータ!CK3,461,0):OFFSET(テストデータ!CO3,461,0))","v":0},{"$f":"SUM(OFFSET(テストデータ!CP3,461,0):OFFSET(テストデータ!CR3,461,0))","v":0},{"$f":"SUM(OFFSET(テストデータ!CP3,461,0):OFFSET(テストデータ!CT3,461,0))","v":0}]
[null,null,null,null,null,null,null,null,null,null,null,null,null,{"$f":"SUM(OFFSET(テストデータ!$E3,462,9*成績表1!$B$4-9):OFFSET(テストデータ!$G3,462,9*成績表1!$B$4-9))","v":0},{"$f":"SUM(OFFSET(テストデータ!$E3,462,9*成績表1!$B$4-9):OFFSET(テストデータ!I3,462,9*成績表1!$B$4-9))","v":0},{"$f":"SUM(OFFSET(テストデータ!E3,462,0):OFFSET(テストデータ!G3,462,0))","v":0},{"$f":"SUM(OFFSET(テストデータ!E3,462,0):OFFSET(テストデータ!I3,462,0))","v":0},{"$f":"SUM(OFFSET(テストデータ!N3,462,0):OFFSET(テストデータ!P3,462,0))","v":0},{"$f":"SUM(OFFSET(テストデータ!N3,462,0):OFFSET(テストデータ!R3,462,0))","v":0},{"$f":"SUM(OFFSET(テストデータ!W3,462,0):OFFSET(テストデータ!Y3,462,0))","v":0},{"$f":"SUM(OFFSET(テストデータ!W3,462,0):OFFSET(テストデータ!AA3,462,0))","v":0},{"$f":"SUM(OFFSET(テストデータ!AF3,462,0):OFFSET(テストデータ!AH3,462,0))","v":0},{"$f":"SUM(OFFSET(テストデータ!AF3,462,0):OFFSET(テストデータ!AJ3,462,0))","v":0},{"$f":"SUM(OFFSET(テストデータ!AO3,462,0):OFFSET(テストデータ!AQ3,462,0))","v":0},{"$f":"SUM(OFFSET(テストデータ!AO3,462,0):OFFSET(テストデータ!AS3,462,0))","v":0},{"$f":"SUM(OFFSET(テストデータ!AX3,462,0):OFFSET(テストデータ!AZ3,462,0))","v":0},{"$f":"SUM(OFFSET(テストデータ!AX3,462,0):OFFSET(テストデータ!BB3,462,0))","v":0},{"$f":"SUM(OFFSET(テストデータ!BG3,462,0):OFFSET(テストデータ!BI3,462,0))","v":0},{"$f":"SUM(OFFSET(テストデータ!BG3,462,0):OFFSET(テストデータ!BK3,462,0))","v":0},{"$f":"SUM(OFFSET(テストデータ!BL3,462,0):OFFSET(テストデータ!BN3,462,0))","v":0},{"$f":"SUM(OFFSET(テストデータ!BL3,462,0):OFFSET(テストデータ!BP3,462,0))","v":0},{"$f":"SUM(OFFSET(テストデータ!BQ3,462,0):OFFSET(テストデータ!BS3,462,0))","v":0},{"$f":"SUM(OFFSET(テストデータ!BQ3,462,0):OFFSET(テストデータ!BU3,462,0))","v":0},{"$f":"SUM(OFFSET(テストデータ!BV3,462,0):OFFSET(テストデータ!BX3,462,0))","v":0},{"$f":"SUM(OFFSET(テストデータ!BV3,462,0):OFFSET(テストデータ!BZ3,462,0))","v":0},{"$f":"SUM(OFFSET(テストデータ!CA3,462,0):OFFSET(テストデータ!CC3,462,0))","v":0},{"$f":"SUM(OFFSET(テストデータ!CA3,462,0):OFFSET(テストデータ!CE3,462,0))","v":0},{"$f":"SUM(OFFSET(テストデータ!CF3,462,0):OFFSET(テストデータ!CH3,462,0))","v":0},{"$f":"SUM(OFFSET(テストデータ!CF3,462,0):OFFSET(テストデータ!CJ3,462,0))","v":0},{"$f":"SUM(OFFSET(テストデータ!CK3,462,0):OFFSET(テストデータ!CM3,462,0))","v":0},{"$f":"SUM(OFFSET(テストデータ!CK3,462,0):OFFSET(テストデータ!CO3,462,0))","v":0},{"$f":"SUM(OFFSET(テストデータ!CP3,462,0):OFFSET(テストデータ!CR3,462,0))","v":0},{"$f":"SUM(OFFSET(テストデータ!CP3,462,0):OFFSET(テストデータ!CT3,462,0))","v":0}]
[null,null,null,null,null,null,null,null,null,null,null,null,null,{"$f":"SUM(OFFSET(テストデータ!$E3,463,9*成績表1!$B$4-9):OFFSET(テストデータ!$G3,463,9*成績表1!$B$4-9))","v":0},{"$f":"SUM(OFFSET(テストデータ!$E3,463,9*成績表1!$B$4-9):OFFSET(テストデータ!I3,463,9*成績表1!$B$4-9))","v":0},{"$f":"SUM(OFFSET(テストデータ!E3,463,0):OFFSET(テストデータ!G3,463,0))","v":0},{"$f":"SUM(OFFSET(テストデータ!E3,463,0):OFFSET(テストデータ!I3,463,0))","v":0},{"$f":"SUM(OFFSET(テストデータ!N3,463,0):OFFSET(テストデータ!P3,463,0))","v":0},{"$f":"SUM(OFFSET(テストデータ!N3,463,0):OFFSET(テストデータ!R3,463,0))","v":0},{"$f":"SUM(OFFSET(テストデータ!W3,463,0):OFFSET(テストデータ!Y3,463,0))","v":0},{"$f":"SUM(OFFSET(テストデータ!W3,463,0):OFFSET(テストデータ!AA3,463,0))","v":0},{"$f":"SUM(OFFSET(テストデータ!AF3,463,0):OFFSET(テストデータ!AH3,463,0))","v":0},{"$f":"SUM(OFFSET(テストデータ!AF3,463,0):OFFSET(テストデータ!AJ3,463,0))","v":0},{"$f":"SUM(OFFSET(テストデータ!AO3,463,0):OFFSET(テストデータ!AQ3,463,0))","v":0},{"$f":"SUM(OFFSET(テストデータ!AO3,463,0):OFFSET(テストデータ!AS3,463,0))","v":0},{"$f":"SUM(OFFSET(テストデータ!AX3,463,0):OFFSET(テストデータ!AZ3,463,0))","v":0},{"$f":"SUM(OFFSET(テストデータ!AX3,463,0):OFFSET(テストデータ!BB3,463,0))","v":0},{"$f":"SUM(OFFSET(テストデータ!BG3,463,0):OFFSET(テストデータ!BI3,463,0))","v":0},{"$f":"SUM(OFFSET(テストデータ!BG3,463,0):OFFSET(テストデータ!BK3,463,0))","v":0},{"$f":"SUM(OFFSET(テストデータ!BL3,463,0):OFFSET(テストデータ!BN3,463,0))","v":0},{"$f":"SUM(OFFSET(テストデータ!BL3,463,0):OFFSET(テストデータ!BP3,463,0))","v":0},{"$f":"SUM(OFFSET(テストデータ!BQ3,463,0):OFFSET(テストデータ!BS3,463,0))","v":0},{"$f":"SUM(OFFSET(テストデータ!BQ3,463,0):OFFSET(テストデータ!BU3,463,0))","v":0},{"$f":"SUM(OFFSET(テストデータ!BV3,463,0):OFFSET(テストデータ!BX3,463,0))","v":0},{"$f":"SUM(OFFSET(テストデータ!BV3,463,0):OFFSET(テストデータ!BZ3,463,0))","v":0},{"$f":"SUM(OFFSET(テストデータ!CA3,463,0):OFFSET(テストデータ!CC3,463,0))","v":0},{"$f":"SUM(OFFSET(テストデータ!CA3,463,0):OFFSET(テストデータ!CE3,463,0))","v":0},{"$f":"SUM(OFFSET(テストデータ!CF3,463,0):OFFSET(テストデータ!CH3,463,0))","v":0},{"$f":"SUM(OFFSET(テストデータ!CF3,463,0):OFFSET(テストデータ!CJ3,463,0))","v":0},{"$f":"SUM(OFFSET(テストデータ!CK3,463,0):OFFSET(テストデータ!CM3,463,0))","v":0},{"$f":"SUM(OFFSET(テストデータ!CK3,463,0):OFFSET(テストデータ!CO3,463,0))","v":0},{"$f":"SUM(OFFSET(テストデータ!CP3,463,0):OFFSET(テストデータ!CR3,463,0))","v":0},{"$f":"SUM(OFFSET(テストデータ!CP3,463,0):OFFSET(テストデータ!CT3,463,0))","v":0}]
[null,null,null,null,null,null,null,null,null,null,null,null,null,{"$f":"SUM(OFFSET(テストデータ!$E3,464,9*成績表1!$B$4-9):OFFSET(テストデータ!$G3,464,9*成績表1!$B$4-9))","v":0},{"$f":"SUM(OFFSET(テストデータ!$E3,464,9*成績表1!$B$4-9):OFFSET(テストデータ!I3,464,9*成績表1!$B$4-9))","v":0},{"$f":"SUM(OFFSET(テストデータ!E3,464,0):OFFSET(テストデータ!G3,464,0))","v":0},{"$f":"SUM(OFFSET(テストデータ!E3,464,0):OFFSET(テストデータ!I3,464,0))","v":0},{"$f":"SUM(OFFSET(テストデータ!N3,464,0):OFFSET(テストデータ!P3,464,0))","v":0},{"$f":"SUM(OFFSET(テストデータ!N3,464,0):OFFSET(テストデータ!R3,464,0))","v":0},{"$f":"SUM(OFFSET(テストデータ!W3,464,0):OFFSET(テストデータ!Y3,464,0))","v":0},{"$f":"SUM(OFFSET(テストデータ!W3,464,0):OFFSET(テストデータ!AA3,464,0))","v":0},{"$f":"SUM(OFFSET(テストデータ!AF3,464,0):OFFSET(テストデータ!AH3,464,0))","v":0},{"$f":"SUM(OFFSET(テストデータ!AF3,464,0):OFFSET(テストデータ!AJ3,464,0))","v":0},{"$f":"SUM(OFFSET(テストデータ!AO3,464,0):OFFSET(テストデータ!AQ3,464,0))","v":0},{"$f":"SUM(OFFSET(テストデータ!AO3,464,0):OFFSET(テストデータ!AS3,464,0))","v":0},{"$f":"SUM(OFFSET(テストデータ!AX3,464,0):OFFSET(テストデータ!AZ3,464,0))","v":0},{"$f":"SUM(OFFSET(テストデータ!AX3,464,0):OFFSET(テストデータ!BB3,464,0))","v":0},{"$f":"SUM(OFFSET(テストデータ!BG3,464,0):OFFSET(テストデータ!BI3,464,0))","v":0},{"$f":"SUM(OFFSET(テストデータ!BG3,464,0):OFFSET(テストデータ!BK3,464,0))","v":0},{"$f":"SUM(OFFSET(テストデータ!BL3,464,0):OFFSET(テストデータ!BN3,464,0))","v":0},{"$f":"SUM(OFFSET(テストデータ!BL3,464,0):OFFSET(テストデータ!BP3,464,0))","v":0},{"$f":"SUM(OFFSET(テストデータ!BQ3,464,0):OFFSET(テストデータ!BS3,464,0))","v":0},{"$f":"SUM(OFFSET(テストデータ!BQ3,464,0):OFFSET(テストデータ!BU3,464,0))","v":0},{"$f":"SUM(OFFSET(テストデータ!BV3,464,0):OFFSET(テストデータ!BX3,464,0))","v":0},{"$f":"SUM(OFFSET(テストデータ!BV3,464,0):OFFSET(テストデータ!BZ3,464,0))","v":0},{"$f":"SUM(OFFSET(テストデータ!CA3,464,0):OFFSET(テストデータ!CC3,464,0))","v":0},{"$f":"SUM(OFFSET(テストデータ!CA3,464,0):OFFSET(テストデータ!CE3,464,0))","v":0},{"$f":"SUM(OFFSET(テストデータ!CF3,464,0):OFFSET(テストデータ!CH3,464,0))","v":0},{"$f":"SUM(OFFSET(テストデータ!CF3,464,0):OFFSET(テストデータ!CJ3,464,0))","v":0},{"$f":"SUM(OFFSET(テストデータ!CK3,464,0):OFFSET(テストデータ!CM3,464,0))","v":0},{"$f":"SUM(OFFSET(テストデータ!CK3,464,0):OFFSET(テストデータ!CO3,464,0))","v":0},{"$f":"SUM(OFFSET(テストデータ!CP3,464,0):OFFSET(テストデータ!CR3,464,0))","v":0},{"$f":"SUM(OFFSET(テストデータ!CP3,464,0):OFFSET(テストデータ!CT3,464,0))","v":0}]
[null,null,null,null,null,null,null,null,null,null,null,null,null,{"$f":"SUM(OFFSET(テストデータ!$E3,465,9*成績表1!$B$4-9):OFFSET(テストデータ!$G3,465,9*成績表1!$B$4-9))","v":0},{"$f":"SUM(OFFSET(テストデータ!$E3,465,9*成績表1!$B$4-9):OFFSET(テストデータ!I3,465,9*成績表1!$B$4-9))","v":0},{"$f":"SUM(OFFSET(テストデータ!E3,465,0):OFFSET(テストデータ!G3,465,0))","v":0},{"$f":"SUM(OFFSET(テストデータ!E3,465,0):OFFSET(テストデータ!I3,465,0))","v":0},{"$f":"SUM(OFFSET(テストデータ!N3,465,0):OFFSET(テストデータ!P3,465,0))","v":0},{"$f":"SUM(OFFSET(テストデータ!N3,465,0):OFFSET(テストデータ!R3,465,0))","v":0},{"$f":"SUM(OFFSET(テストデータ!W3,465,0):OFFSET(テストデータ!Y3,465,0))","v":0},{"$f":"SUM(OFFSET(テストデータ!W3,465,0):OFFSET(テストデータ!AA3,465,0))","v":0},{"$f":"SUM(OFFSET(テストデータ!AF3,465,0):OFFSET(テストデータ!AH3,465,0))","v":0},{"$f":"SUM(OFFSET(テストデータ!AF3,465,0):OFFSET(テストデータ!AJ3,465,0))","v":0},{"$f":"SUM(OFFSET(テストデータ!AO3,465,0):OFFSET(テストデータ!AQ3,465,0))","v":0},{"$f":"SUM(OFFSET(テストデータ!AO3,465,0):OFFSET(テストデータ!AS3,465,0))","v":0},{"$f":"SUM(OFFSET(テストデータ!AX3,465,0):OFFSET(テストデータ!AZ3,465,0))","v":0},{"$f":"SUM(OFFSET(テストデータ!AX3,465,0):OFFSET(テストデータ!BB3,465,0))","v":0},{"$f":"SUM(OFFSET(テストデータ!BG3,465,0):OFFSET(テストデータ!BI3,465,0))","v":0},{"$f":"SUM(OFFSET(テストデータ!BG3,465,0):OFFSET(テストデータ!BK3,465,0))","v":0},{"$f":"SUM(OFFSET(テストデータ!BL3,465,0):OFFSET(テストデータ!BN3,465,0))","v":0},{"$f":"SUM(OFFSET(テストデータ!BL3,465,0):OFFSET(テストデータ!BP3,465,0))","v":0},{"$f":"SUM(OFFSET(テストデータ!BQ3,465,0):OFFSET(テストデータ!BS3,465,0))","v":0},{"$f":"SUM(OFFSET(テストデータ!BQ3,465,0):OFFSET(テストデータ!BU3,465,0))","v":0},{"$f":"SUM(OFFSET(テストデータ!BV3,465,0):OFFSET(テストデータ!BX3,465,0))","v":0},{"$f":"SUM(OFFSET(テストデータ!BV3,465,0):OFFSET(テストデータ!BZ3,465,0))","v":0},{"$f":"SUM(OFFSET(テストデータ!CA3,465,0):OFFSET(テストデータ!CC3,465,0))","v":0},{"$f":"SUM(OFFSET(テストデータ!CA3,465,0):OFFSET(テストデータ!CE3,465,0))","v":0},{"$f":"SUM(OFFSET(テストデータ!CF3,465,0):OFFSET(テストデータ!CH3,465,0))","v":0},{"$f":"SUM(OFFSET(テストデータ!CF3,465,0):OFFSET(テストデータ!CJ3,465,0))","v":0},{"$f":"SUM(OFFSET(テストデータ!CK3,465,0):OFFSET(テストデータ!CM3,465,0))","v":0},{"$f":"SUM(OFFSET(テストデータ!CK3,465,0):OFFSET(テストデータ!CO3,465,0))","v":0},{"$f":"SUM(OFFSET(テストデータ!CP3,465,0):OFFSET(テストデータ!CR3,465,0))","v":0},{"$f":"SUM(OFFSET(テストデータ!CP3,465,0):OFFSET(テストデータ!CT3,465,0))","v":0}]
[null,null,null,null,null,null,null,null,null,null,null,null,null,{"$f":"SUM(OFFSET(テストデータ!$E3,466,9*成績表1!$B$4-9):OFFSET(テストデータ!$G3,466,9*成績表1!$B$4-9))","v":0},{"$f":"SUM(OFFSET(テストデータ!$E3,466,9*成績表1!$B$4-9):OFFSET(テストデータ!I3,466,9*成績表1!$B$4-9))","v":0},{"$f":"SUM(OFFSET(テストデータ!E3,466,0):OFFSET(テストデータ!G3,466,0))","v":0},{"$f":"SUM(OFFSET(テストデータ!E3,466,0):OFFSET(テストデータ!I3,466,0))","v":0},{"$f":"SUM(OFFSET(テストデータ!N3,466,0):OFFSET(テストデータ!P3,466,0))","v":0},{"$f":"SUM(OFFSET(テストデータ!N3,466,0):OFFSET(テストデータ!R3,466,0))","v":0},{"$f":"SUM(OFFSET(テストデータ!W3,466,0):OFFSET(テストデータ!Y3,466,0))","v":0},{"$f":"SUM(OFFSET(テストデータ!W3,466,0):OFFSET(テストデータ!AA3,466,0))","v":0},{"$f":"SUM(OFFSET(テストデータ!AF3,466,0):OFFSET(テストデータ!AH3,466,0))","v":0},{"$f":"SUM(OFFSET(テストデータ!AF3,466,0):OFFSET(テストデータ!AJ3,466,0))","v":0},{"$f":"SUM(OFFSET(テストデータ!AO3,466,0):OFFSET(テストデータ!AQ3,466,0))","v":0},{"$f":"SUM(OFFSET(テストデータ!AO3,466,0):OFFSET(テストデータ!AS3,466,0))","v":0},{"$f":"SUM(OFFSET(テストデータ!AX3,466,0):OFFSET(テストデータ!AZ3,466,0))","v":0},{"$f":"SUM(OFFSET(テストデータ!AX3,466,0):OFFSET(テストデータ!BB3,466,0))","v":0},{"$f":"SUM(OFFSET(テストデータ!BG3,466,0):OFFSET(テストデータ!BI3,466,0))","v":0},{"$f":"SUM(OFFSET(テストデータ!BG3,466,0):OFFSET(テストデータ!BK3,466,0))","v":0},{"$f":"SUM(OFFSET(テストデータ!BL3,466,0):OFFSET(テストデータ!BN3,466,0))","v":0},{"$f":"SUM(OFFSET(テストデータ!BL3,466,0):OFFSET(テストデータ!BP3,466,0))","v":0},{"$f":"SUM(OFFSET(テストデータ!BQ3,466,0):OFFSET(テストデータ!BS3,466,0))","v":0},{"$f":"SUM(OFFSET(テストデータ!BQ3,466,0):OFFSET(テストデータ!BU3,466,0))","v":0},{"$f":"SUM(OFFSET(テストデータ!BV3,466,0):OFFSET(テストデータ!BX3,466,0))","v":0},{"$f":"SUM(OFFSET(テストデータ!BV3,466,0):OFFSET(テストデータ!BZ3,466,0))","v":0},{"$f":"SUM(OFFSET(テストデータ!CA3,466,0):OFFSET(テストデータ!CC3,466,0))","v":0},{"$f":"SUM(OFFSET(テストデータ!CA3,466,0):OFFSET(テストデータ!CE3,466,0))","v":0},{"$f":"SUM(OFFSET(テストデータ!CF3,466,0):OFFSET(テストデータ!CH3,466,0))","v":0},{"$f":"SUM(OFFSET(テストデータ!CF3,466,0):OFFSET(テストデータ!CJ3,466,0))","v":0},{"$f":"SUM(OFFSET(テストデータ!CK3,466,0):OFFSET(テストデータ!CM3,466,0))","v":0},{"$f":"SUM(OFFSET(テストデータ!CK3,466,0):OFFSET(テストデータ!CO3,466,0))","v":0},{"$f":"SUM(OFFSET(テストデータ!CP3,466,0):OFFSET(テストデータ!CR3,466,0))","v":0},{"$f":"SUM(OFFSET(テストデータ!CP3,466,0):OFFSET(テストデータ!CT3,466,0))","v":0}]
[null,null,null,null,null,null,null,null,null,null,null,null,null,{"$f":"SUM(OFFSET(テストデータ!$E3,467,9*成績表1!$B$4-9):OFFSET(テストデータ!$G3,467,9*成績表1!$B$4-9))","v":0},{"$f":"SUM(OFFSET(テストデータ!$E3,467,9*成績表1!$B$4-9):OFFSET(テストデータ!I3,467,9*成績表1!$B$4-9))","v":0},{"$f":"SUM(OFFSET(テストデータ!E3,467,0):OFFSET(テストデータ!G3,467,0))","v":0},{"$f":"SUM(OFFSET(テストデータ!E3,467,0):OFFSET(テストデータ!I3,467,0))","v":0},{"$f":"SUM(OFFSET(テストデータ!N3,467,0):OFFSET(テストデータ!P3,467,0))","v":0},{"$f":"SUM(OFFSET(テストデータ!N3,467,0):OFFSET(テストデータ!R3,467,0))","v":0},{"$f":"SUM(OFFSET(テストデータ!W3,467,0):OFFSET(テストデータ!Y3,467,0))","v":0},{"$f":"SUM(OFFSET(テストデータ!W3,467,0):OFFSET(テストデータ!AA3,467,0))","v":0},{"$f":"SUM(OFFSET(テストデータ!AF3,467,0):OFFSET(テストデータ!AH3,467,0))","v":0},{"$f":"SUM(OFFSET(テストデータ!AF3,467,0):OFFSET(テストデータ!AJ3,467,0))","v":0},{"$f":"SUM(OFFSET(テストデータ!AO3,467,0):OFFSET(テストデータ!AQ3,467,0))","v":0},{"$f":"SUM(OFFSET(テストデータ!AO3,467,0):OFFSET(テストデータ!AS3,467,0))","v":0},{"$f":"SUM(OFFSET(テストデータ!AX3,467,0):OFFSET(テストデータ!AZ3,467,0))","v":0},{"$f":"SUM(OFFSET(テストデータ!AX3,467,0):OFFSET(テストデータ!BB3,467,0))","v":0},{"$f":"SUM(OFFSET(テストデータ!BG3,467,0):OFFSET(テストデータ!BI3,467,0))","v":0},{"$f":"SUM(OFFSET(テストデータ!BG3,467,0):OFFSET(テストデータ!BK3,467,0))","v":0},{"$f":"SUM(OFFSET(テストデータ!BL3,467,0):OFFSET(テストデータ!BN3,467,0))","v":0},{"$f":"SUM(OFFSET(テストデータ!BL3,467,0):OFFSET(テストデータ!BP3,467,0))","v":0},{"$f":"SUM(OFFSET(テストデータ!BQ3,467,0):OFFSET(テストデータ!BS3,467,0))","v":0},{"$f":"SUM(OFFSET(テストデータ!BQ3,467,0):OFFSET(テストデータ!BU3,467,0))","v":0},{"$f":"SUM(OFFSET(テストデータ!BV3,467,0):OFFSET(テストデータ!BX3,467,0))","v":0},{"$f":"SUM(OFFSET(テストデータ!BV3,467,0):OFFSET(テストデータ!BZ3,467,0))","v":0},{"$f":"SUM(OFFSET(テストデータ!CA3,467,0):OFFSET(テストデータ!CC3,467,0))","v":0},{"$f":"SUM(OFFSET(テストデータ!CA3,467,0):OFFSET(テストデータ!CE3,467,0))","v":0},{"$f":"SUM(OFFSET(テストデータ!CF3,467,0):OFFSET(テストデータ!CH3,467,0))","v":0},{"$f":"SUM(OFFSET(テストデータ!CF3,467,0):OFFSET(テストデータ!CJ3,467,0))","v":0},{"$f":"SUM(OFFSET(テストデータ!CK3,467,0):OFFSET(テストデータ!CM3,467,0))","v":0},{"$f":"SUM(OFFSET(テストデータ!CK3,467,0):OFFSET(テストデータ!CO3,467,0))","v":0},{"$f":"SUM(OFFSET(テストデータ!CP3,467,0):OFFSET(テストデータ!CR3,467,0))","v":0},{"$f":"SUM(OFFSET(テストデータ!CP3,467,0):OFFSET(テストデータ!CT3,467,0))","v":0}]
[null,null,null,null,null,null,null,null,null,null,null,null,null,{"$f":"SUM(OFFSET(テストデータ!$E3,468,9*成績表1!$B$4-9):OFFSET(テストデータ!$G3,468,9*成績表1!$B$4-9))","v":0},{"$f":"SUM(OFFSET(テストデータ!$E3,468,9*成績表1!$B$4-9):OFFSET(テストデータ!I3,468,9*成績表1!$B$4-9))","v":0},{"$f":"SUM(OFFSET(テストデータ!E3,468,0):OFFSET(テストデータ!G3,468,0))","v":0},{"$f":"SUM(OFFSET(テストデータ!E3,468,0):OFFSET(テストデータ!I3,468,0))","v":0},{"$f":"SUM(OFFSET(テストデータ!N3,468,0):OFFSET(テストデータ!P3,468,0))","v":0},{"$f":"SUM(OFFSET(テストデータ!N3,468,0):OFFSET(テストデータ!R3,468,0))","v":0},{"$f":"SUM(OFFSET(テストデータ!W3,468,0):OFFSET(テストデータ!Y3,468,0))","v":0},{"$f":"SUM(OFFSET(テストデータ!W3,468,0):OFFSET(テストデータ!AA3,468,0))","v":0},{"$f":"SUM(OFFSET(テストデータ!AF3,468,0):OFFSET(テストデータ!AH3,468,0))","v":0},{"$f":"SUM(OFFSET(テストデータ!AF3,468,0):OFFSET(テストデータ!AJ3,468,0))","v":0},{"$f":"SUM(OFFSET(テストデータ!AO3,468,0):OFFSET(テストデータ!AQ3,468,0))","v":0},{"$f":"SUM(OFFSET(テストデータ!AO3,468,0):OFFSET(テストデータ!AS3,468,0))","v":0},{"$f":"SUM(OFFSET(テストデータ!AX3,468,0):OFFSET(テストデータ!AZ3,468,0))","v":0},{"$f":"SUM(OFFSET(テストデータ!AX3,468,0):OFFSET(テストデータ!BB3,468,0))","v":0},{"$f":"SUM(OFFSET(テストデータ!BG3,468,0):OFFSET(テストデータ!BI3,468,0))","v":0},{"$f":"SUM(OFFSET(テストデータ!BG3,468,0):OFFSET(テストデータ!BK3,468,0))","v":0},{"$f":"SUM(OFFSET(テストデータ!BL3,468,0):OFFSET(テストデータ!BN3,468,0))","v":0},{"$f":"SUM(OFFSET(テストデータ!BL3,468,0):OFFSET(テストデータ!BP3,468,0))","v":0},{"$f":"SUM(OFFSET(テストデータ!BQ3,468,0):OFFSET(テストデータ!BS3,468,0))","v":0},{"$f":"SUM(OFFSET(テストデータ!BQ3,468,0):OFFSET(テストデータ!BU3,468,0))","v":0},{"$f":"SUM(OFFSET(テストデータ!BV3,468,0):OFFSET(テストデータ!BX3,468,0))","v":0},{"$f":"SUM(OFFSET(テストデータ!BV3,468,0):OFFSET(テストデータ!BZ3,468,0))","v":0},{"$f":"SUM(OFFSET(テストデータ!CA3,468,0):OFFSET(テストデータ!CC3,468,0))","v":0},{"$f":"SUM(OFFSET(テストデータ!CA3,468,0):OFFSET(テストデータ!CE3,468,0))","v":0},{"$f":"SUM(OFFSET(テストデータ!CF3,468,0):OFFSET(テストデータ!CH3,468,0))","v":0},{"$f":"SUM(OFFSET(テストデータ!CF3,468,0):OFFSET(テストデータ!CJ3,468,0))","v":0},{"$f":"SUM(OFFSET(テストデータ!CK3,468,0):OFFSET(テストデータ!CM3,468,0))","v":0},{"$f":"SUM(OFFSET(テストデータ!CK3,468,0):OFFSET(テストデータ!CO3,468,0))","v":0},{"$f":"SUM(OFFSET(テストデータ!CP3,468,0):OFFSET(テストデータ!CR3,468,0))","v":0},{"$f":"SUM(OFFSET(テストデータ!CP3,468,0):OFFSET(テストデータ!CT3,468,0))","v":0}]
[null,null,null,null,null,null,null,null,null,null,null,null,null,{"$f":"SUM(OFFSET(テストデータ!$E3,469,9*成績表1!$B$4-9):OFFSET(テストデータ!$G3,469,9*成績表1!$B$4-9))","v":0},{"$f":"SUM(OFFSET(テストデータ!$E3,469,9*成績表1!$B$4-9):OFFSET(テストデータ!I3,469,9*成績表1!$B$4-9))","v":0},{"$f":"SUM(OFFSET(テストデータ!E3,469,0):OFFSET(テストデータ!G3,469,0))","v":0},{"$f":"SUM(OFFSET(テストデータ!E3,469,0):OFFSET(テストデータ!I3,469,0))","v":0},{"$f":"SUM(OFFSET(テストデータ!N3,469,0):OFFSET(テストデータ!P3,469,0))","v":0},{"$f":"SUM(OFFSET(テストデータ!N3,469,0):OFFSET(テストデータ!R3,469,0))","v":0},{"$f":"SUM(OFFSET(テストデータ!W3,469,0):OFFSET(テストデータ!Y3,469,0))","v":0},{"$f":"SUM(OFFSET(テストデータ!W3,469,0):OFFSET(テストデータ!AA3,469,0))","v":0},{"$f":"SUM(OFFSET(テストデータ!AF3,469,0):OFFSET(テストデータ!AH3,469,0))","v":0},{"$f":"SUM(OFFSET(テストデータ!AF3,469,0):OFFSET(テストデータ!AJ3,469,0))","v":0},{"$f":"SUM(OFFSET(テストデータ!AO3,469,0):OFFSET(テストデータ!AQ3,469,0))","v":0},{"$f":"SUM(OFFSET(テストデータ!AO3,469,0):OFFSET(テストデータ!AS3,469,0))","v":0},{"$f":"SUM(OFFSET(テストデータ!AX3,469,0):OFFSET(テストデータ!AZ3,469,0))","v":0},{"$f":"SUM(OFFSET(テストデータ!AX3,469,0):OFFSET(テストデータ!BB3,469,0))","v":0},{"$f":"SUM(OFFSET(テストデータ!BG3,469,0):OFFSET(テストデータ!BI3,469,0))","v":0},{"$f":"SUM(OFFSET(テストデータ!BG3,469,0):OFFSET(テストデータ!BK3,469,0))","v":0},{"$f":"SUM(OFFSET(テストデータ!BL3,469,0):OFFSET(テストデータ!BN3,469,0))","v":0},{"$f":"SUM(OFFSET(テストデータ!BL3,469,0):OFFSET(テストデータ!BP3,469,0))","v":0},{"$f":"SUM(OFFSET(テストデータ!BQ3,469,0):OFFSET(テストデータ!BS3,469,0))","v":0},{"$f":"SUM(OFFSET(テストデータ!BQ3,469,0):OFFSET(テストデータ!BU3,469,0))","v":0},{"$f":"SUM(OFFSET(テストデータ!BV3,469,0):OFFSET(テストデータ!BX3,469,0))","v":0},{"$f":"SUM(OFFSET(テストデータ!BV3,469,0):OFFSET(テストデータ!BZ3,469,0))","v":0},{"$f":"SUM(OFFSET(テストデータ!CA3,469,0):OFFSET(テストデータ!CC3,469,0))","v":0},{"$f":"SUM(OFFSET(テストデータ!CA3,469,0):OFFSET(テストデータ!CE3,469,0))","v":0},{"$f":"SUM(OFFSET(テストデータ!CF3,469,0):OFFSET(テストデータ!CH3,469,0))","v":0},{"$f":"SUM(OFFSET(テストデータ!CF3,469,0):OFFSET(テストデータ!CJ3,469,0))","v":0},{"$f":"SUM(OFFSET(テストデータ!CK3,469,0):OFFSET(テストデータ!CM3,469,0))","v":0},{"$f":"SUM(OFFSET(テストデータ!CK3,469,0):OFFSET(テストデータ!CO3,469,0))","v":0},{"$f":"SUM(OFFSET(テストデータ!CP3,469,0):OFFSET(テストデータ!CR3,469,0))","v":0},{"$f":"SUM(OFFSET(テストデータ!CP3,469,0):OFFSET(テストデータ!CT3,469,0))","v":0}]
[null,null,null,null,null,null,null,null,null,null,null,null,null,{"$f":"SUM(OFFSET(テストデータ!$E3,470,9*成績表1!$B$4-9):OFFSET(テストデータ!$G3,470,9*成績表1!$B$4-9))","v":0},{"$f":"SUM(OFFSET(テストデータ!$E3,470,9*成績表1!$B$4-9):OFFSET(テストデータ!I3,470,9*成績表1!$B$4-9))","v":0},{"$f":"SUM(OFFSET(テストデータ!E3,470,0):OFFSET(テストデータ!G3,470,0))","v":0},{"$f":"SUM(OFFSET(テストデータ!E3,470,0):OFFSET(テストデータ!I3,470,0))","v":0},{"$f":"SUM(OFFSET(テストデータ!N3,470,0):OFFSET(テストデータ!P3,470,0))","v":0},{"$f":"SUM(OFFSET(テストデータ!N3,470,0):OFFSET(テストデータ!R3,470,0))","v":0},{"$f":"SUM(OFFSET(テストデータ!W3,470,0):OFFSET(テストデータ!Y3,470,0))","v":0},{"$f":"SUM(OFFSET(テストデータ!W3,470,0):OFFSET(テストデータ!AA3,470,0))","v":0},{"$f":"SUM(OFFSET(テストデータ!AF3,470,0):OFFSET(テストデータ!AH3,470,0))","v":0},{"$f":"SUM(OFFSET(テストデータ!AF3,470,0):OFFSET(テストデータ!AJ3,470,0))","v":0},{"$f":"SUM(OFFSET(テストデータ!AO3,470,0):OFFSET(テストデータ!AQ3,470,0))","v":0},{"$f":"SUM(OFFSET(テストデータ!AO3,470,0):OFFSET(テストデータ!AS3,470,0))","v":0},{"$f":"SUM(OFFSET(テストデータ!AX3,470,0):OFFSET(テストデータ!AZ3,470,0))","v":0},{"$f":"SUM(OFFSET(テストデータ!AX3,470,0):OFFSET(テストデータ!BB3,470,0))","v":0},{"$f":"SUM(OFFSET(テストデータ!BG3,470,0):OFFSET(テストデータ!BI3,470,0))","v":0},{"$f":"SUM(OFFSET(テストデータ!BG3,470,0):OFFSET(テストデータ!BK3,470,0))","v":0},{"$f":"SUM(OFFSET(テストデータ!BL3,470,0):OFFSET(テストデータ!BN3,470,0))","v":0},{"$f":"SUM(OFFSET(テストデータ!BL3,470,0):OFFSET(テストデータ!BP3,470,0))","v":0},{"$f":"SUM(OFFSET(テストデータ!BQ3,470,0):OFFSET(テストデータ!BS3,470,0))","v":0},{"$f":"SUM(OFFSET(テストデータ!BQ3,470,0):OFFSET(テストデータ!BU3,470,0))","v":0},{"$f":"SUM(OFFSET(テストデータ!BV3,470,0):OFFSET(テストデータ!BX3,470,0))","v":0},{"$f":"SUM(OFFSET(テストデータ!BV3,470,0):OFFSET(テストデータ!BZ3,470,0))","v":0},{"$f":"SUM(OFFSET(テストデータ!CA3,470,0):OFFSET(テストデータ!CC3,470,0))","v":0},{"$f":"SUM(OFFSET(テストデータ!CA3,470,0):OFFSET(テストデータ!CE3,470,0))","v":0},{"$f":"SUM(OFFSET(テストデータ!CF3,470,0):OFFSET(テストデータ!CH3,470,0))","v":0},{"$f":"SUM(OFFSET(テストデータ!CF3,470,0):OFFSET(テストデータ!CJ3,470,0))","v":0},{"$f":"SUM(OFFSET(テストデータ!CK3,470,0):OFFSET(テストデータ!CM3,470,0))","v":0},{"$f":"SUM(OFFSET(テストデータ!CK3,470,0):OFFSET(テストデータ!CO3,470,0))","v":0},{"$f":"SUM(OFFSET(テストデータ!CP3,470,0):OFFSET(テストデータ!CR3,470,0))","v":0},{"$f":"SUM(OFFSET(テストデータ!CP3,470,0):OFFSET(テストデータ!CT3,470,0))","v":0}]
[null,null,null,null,null,null,null,null,null,null,null,null,null,{"$f":"SUM(OFFSET(テストデータ!$E3,471,9*成績表1!$B$4-9):OFFSET(テストデータ!$G3,471,9*成績表1!$B$4-9))","v":0},{"$f":"SUM(OFFSET(テストデータ!$E3,471,9*成績表1!$B$4-9):OFFSET(テストデータ!I3,471,9*成績表1!$B$4-9))","v":0},{"$f":"SUM(OFFSET(テストデータ!E3,471,0):OFFSET(テストデータ!G3,471,0))","v":0},{"$f":"SUM(OFFSET(テストデータ!E3,471,0):OFFSET(テストデータ!I3,471,0))","v":0},{"$f":"SUM(OFFSET(テストデータ!N3,471,0):OFFSET(テストデータ!P3,471,0))","v":0},{"$f":"SUM(OFFSET(テストデータ!N3,471,0):OFFSET(テストデータ!R3,471,0))","v":0},{"$f":"SUM(OFFSET(テストデータ!W3,471,0):OFFSET(テストデータ!Y3,471,0))","v":0},{"$f":"SUM(OFFSET(テストデータ!W3,471,0):OFFSET(テストデータ!AA3,471,0))","v":0},{"$f":"SUM(OFFSET(テストデータ!AF3,471,0):OFFSET(テストデータ!AH3,471,0))","v":0},{"$f":"SUM(OFFSET(テストデータ!AF3,471,0):OFFSET(テストデータ!AJ3,471,0))","v":0},{"$f":"SUM(OFFSET(テストデータ!AO3,471,0):OFFSET(テストデータ!AQ3,471,0))","v":0},{"$f":"SUM(OFFSET(テストデータ!AO3,471,0):OFFSET(テストデータ!AS3,471,0))","v":0},{"$f":"SUM(OFFSET(テストデータ!AX3,471,0):OFFSET(テストデータ!AZ3,471,0))","v":0},{"$f":"SUM(OFFSET(テストデータ!AX3,471,0):OFFSET(テストデータ!BB3,471,0))","v":0},{"$f":"SUM(OFFSET(テストデータ!BG3,471,0):OFFSET(テストデータ!BI3,471,0))","v":0},{"$f":"SUM(OFFSET(テストデータ!BG3,471,0):OFFSET(テストデータ!BK3,471,0))","v":0},{"$f":"SUM(OFFSET(テストデータ!BL3,471,0):OFFSET(テストデータ!BN3,471,0))","v":0},{"$f":"SUM(OFFSET(テストデータ!BL3,471,0):OFFSET(テストデータ!BP3,471,0))","v":0},{"$f":"SUM(OFFSET(テストデータ!BQ3,471,0):OFFSET(テストデータ!BS3,471,0))","v":0},{"$f":"SUM(OFFSET(テストデータ!BQ3,471,0):OFFSET(テストデータ!BU3,471,0))","v":0},{"$f":"SUM(OFFSET(テストデータ!BV3,471,0):OFFSET(テストデータ!BX3,471,0))","v":0},{"$f":"SUM(OFFSET(テストデータ!BV3,471,0):OFFSET(テストデータ!BZ3,471,0))","v":0},{"$f":"SUM(OFFSET(テストデータ!CA3,471,0):OFFSET(テストデータ!CC3,471,0))","v":0},{"$f":"SUM(OFFSET(テストデータ!CA3,471,0):OFFSET(テストデータ!CE3,471,0))","v":0},{"$f":"SUM(OFFSET(テストデータ!CF3,471,0):OFFSET(テストデータ!CH3,471,0))","v":0},{"$f":"SUM(OFFSET(テストデータ!CF3,471,0):OFFSET(テストデータ!CJ3,471,0))","v":0},{"$f":"SUM(OFFSET(テストデータ!CK3,471,0):OFFSET(テストデータ!CM3,471,0))","v":0},{"$f":"SUM(OFFSET(テストデータ!CK3,471,0):OFFSET(テストデータ!CO3,471,0))","v":0},{"$f":"SUM(OFFSET(テストデータ!CP3,471,0):OFFSET(テストデータ!CR3,471,0))","v":0},{"$f":"SUM(OFFSET(テストデータ!CP3,471,0):OFFSET(テストデータ!CT3,471,0))","v":0}]
[null,null,null,null,null,null,null,null,null,null,null,null,null,{"$f":"SUM(OFFSET(テストデータ!$E3,472,9*成績表1!$B$4-9):OFFSET(テストデータ!$G3,472,9*成績表1!$B$4-9))","v":0},{"$f":"SUM(OFFSET(テストデータ!$E3,472,9*成績表1!$B$4-9):OFFSET(テストデータ!I3,472,9*成績表1!$B$4-9))","v":0},{"$f":"SUM(OFFSET(テストデータ!E3,472,0):OFFSET(テストデータ!G3,472,0))","v":0},{"$f":"SUM(OFFSET(テストデータ!E3,472,0):OFFSET(テストデータ!I3,472,0))","v":0},{"$f":"SUM(OFFSET(テストデータ!N3,472,0):OFFSET(テストデータ!P3,472,0))","v":0},{"$f":"SUM(OFFSET(テストデータ!N3,472,0):OFFSET(テストデータ!R3,472,0))","v":0},{"$f":"SUM(OFFSET(テストデータ!W3,472,0):OFFSET(テストデータ!Y3,472,0))","v":0},{"$f":"SUM(OFFSET(テストデータ!W3,472,0):OFFSET(テストデータ!AA3,472,0))","v":0},{"$f":"SUM(OFFSET(テストデータ!AF3,472,0):OFFSET(テストデータ!AH3,472,0))","v":0},{"$f":"SUM(OFFSET(テストデータ!AF3,472,0):OFFSET(テストデータ!AJ3,472,0))","v":0},{"$f":"SUM(OFFSET(テストデータ!AO3,472,0):OFFSET(テストデータ!AQ3,472,0))","v":0},{"$f":"SUM(OFFSET(テストデータ!AO3,472,0):OFFSET(テストデータ!AS3,472,0))","v":0},{"$f":"SUM(OFFSET(テストデータ!AX3,472,0):OFFSET(テストデータ!AZ3,472,0))","v":0},{"$f":"SUM(OFFSET(テストデータ!AX3,472,0):OFFSET(テストデータ!BB3,472,0))","v":0},{"$f":"SUM(OFFSET(テストデータ!BG3,472,0):OFFSET(テストデータ!BI3,472,0))","v":0},{"$f":"SUM(OFFSET(テストデータ!BG3,472,0):OFFSET(テストデータ!BK3,472,0))","v":0},{"$f":"SUM(OFFSET(テストデータ!BL3,472,0):OFFSET(テストデータ!BN3,472,0))","v":0},{"$f":"SUM(OFFSET(テストデータ!BL3,472,0):OFFSET(テストデータ!BP3,472,0))","v":0},{"$f":"SUM(OFFSET(テストデータ!BQ3,472,0):OFFSET(テストデータ!BS3,472,0))","v":0},{"$f":"SUM(OFFSET(テストデータ!BQ3,472,0):OFFSET(テストデータ!BU3,472,0))","v":0},{"$f":"SUM(OFFSET(テストデータ!BV3,472,0):OFFSET(テストデータ!BX3,472,0))","v":0},{"$f":"SUM(OFFSET(テストデータ!BV3,472,0):OFFSET(テストデータ!BZ3,472,0))","v":0},{"$f":"SUM(OFFSET(テストデータ!CA3,472,0):OFFSET(テストデータ!CC3,472,0))","v":0},{"$f":"SUM(OFFSET(テストデータ!CA3,472,0):OFFSET(テストデータ!CE3,472,0))","v":0},{"$f":"SUM(OFFSET(テストデータ!CF3,472,0):OFFSET(テストデータ!CH3,472,0))","v":0},{"$f":"SUM(OFFSET(テストデータ!CF3,472,0):OFFSET(テストデータ!CJ3,472,0))","v":0},{"$f":"SUM(OFFSET(テストデータ!CK3,472,0):OFFSET(テストデータ!CM3,472,0))","v":0},{"$f":"SUM(OFFSET(テストデータ!CK3,472,0):OFFSET(テストデータ!CO3,472,0))","v":0},{"$f":"SUM(OFFSET(テストデータ!CP3,472,0):OFFSET(テストデータ!CR3,472,0))","v":0},{"$f":"SUM(OFFSET(テストデータ!CP3,472,0):OFFSET(テストデータ!CT3,472,0))","v":0}]
[null,null,null,null,null,null,null,null,null,null,null,null,null,{"$f":"SUM(OFFSET(テストデータ!$E3,473,9*成績表1!$B$4-9):OFFSET(テストデータ!$G3,473,9*成績表1!$B$4-9))","v":0},{"$f":"SUM(OFFSET(テストデータ!$E3,473,9*成績表1!$B$4-9):OFFSET(テストデータ!I3,473,9*成績表1!$B$4-9))","v":0},{"$f":"SUM(OFFSET(テストデータ!E3,473,0):OFFSET(テストデータ!G3,473,0))","v":0},{"$f":"SUM(OFFSET(テストデータ!E3,473,0):OFFSET(テストデータ!I3,473,0))","v":0},{"$f":"SUM(OFFSET(テストデータ!N3,473,0):OFFSET(テストデータ!P3,473,0))","v":0},{"$f":"SUM(OFFSET(テストデータ!N3,473,0):OFFSET(テストデータ!R3,473,0))","v":0},{"$f":"SUM(OFFSET(テストデータ!W3,473,0):OFFSET(テストデータ!Y3,473,0))","v":0},{"$f":"SUM(OFFSET(テストデータ!W3,473,0):OFFSET(テストデータ!AA3,473,0))","v":0},{"$f":"SUM(OFFSET(テストデータ!AF3,473,0):OFFSET(テストデータ!AH3,473,0))","v":0},{"$f":"SUM(OFFSET(テストデータ!AF3,473,0):OFFSET(テストデータ!AJ3,473,0))","v":0},{"$f":"SUM(OFFSET(テストデータ!AO3,473,0):OFFSET(テストデータ!AQ3,473,0))","v":0},{"$f":"SUM(OFFSET(テストデータ!AO3,473,0):OFFSET(テストデータ!AS3,473,0))","v":0},{"$f":"SUM(OFFSET(テストデータ!AX3,473,0):OFFSET(テストデータ!AZ3,473,0))","v":0},{"$f":"SUM(OFFSET(テストデータ!AX3,473,0):OFFSET(テストデータ!BB3,473,0))","v":0},{"$f":"SUM(OFFSET(テストデータ!BG3,473,0):OFFSET(テストデータ!BI3,473,0))","v":0},{"$f":"SUM(OFFSET(テストデータ!BG3,473,0):OFFSET(テストデータ!BK3,473,0))","v":0},{"$f":"SUM(OFFSET(テストデータ!BL3,473,0):OFFSET(テストデータ!BN3,473,0))","v":0},{"$f":"SUM(OFFSET(テストデータ!BL3,473,0):OFFSET(テストデータ!BP3,473,0))","v":0},{"$f":"SUM(OFFSET(テストデータ!BQ3,473,0):OFFSET(テストデータ!BS3,473,0))","v":0},{"$f":"SUM(OFFSET(テストデータ!BQ3,473,0):OFFSET(テストデータ!BU3,473,0))","v":0},{"$f":"SUM(OFFSET(テストデータ!BV3,473,0):OFFSET(テストデータ!BX3,473,0))","v":0},{"$f":"SUM(OFFSET(テストデータ!BV3,473,0):OFFSET(テストデータ!BZ3,473,0))","v":0},{"$f":"SUM(OFFSET(テストデータ!CA3,473,0):OFFSET(テストデータ!CC3,473,0))","v":0},{"$f":"SUM(OFFSET(テストデータ!CA3,473,0):OFFSET(テストデータ!CE3,473,0))","v":0},{"$f":"SUM(OFFSET(テストデータ!CF3,473,0):OFFSET(テストデータ!CH3,473,0))","v":0},{"$f":"SUM(OFFSET(テストデータ!CF3,473,0):OFFSET(テストデータ!CJ3,473,0))","v":0},{"$f":"SUM(OFFSET(テストデータ!CK3,473,0):OFFSET(テストデータ!CM3,473,0))","v":0},{"$f":"SUM(OFFSET(テストデータ!CK3,473,0):OFFSET(テストデータ!CO3,473,0))","v":0},{"$f":"SUM(OFFSET(テストデータ!CP3,473,0):OFFSET(テストデータ!CR3,473,0))","v":0},{"$f":"SUM(OFFSET(テストデータ!CP3,473,0):OFFSET(テストデータ!CT3,473,0))","v":0}]
[null,null,null,null,null,null,null,null,null,null,null,null,null,{"$f":"SUM(OFFSET(テストデータ!$E3,474,9*成績表1!$B$4-9):OFFSET(テストデータ!$G3,474,9*成績表1!$B$4-9))","v":0},{"$f":"SUM(OFFSET(テストデータ!$E3,474,9*成績表1!$B$4-9):OFFSET(テストデータ!I3,474,9*成績表1!$B$4-9))","v":0},{"$f":"SUM(OFFSET(テストデータ!E3,474,0):OFFSET(テストデータ!G3,474,0))","v":0},{"$f":"SUM(OFFSET(テストデータ!E3,474,0):OFFSET(テストデータ!I3,474,0))","v":0},{"$f":"SUM(OFFSET(テストデータ!N3,474,0):OFFSET(テストデータ!P3,474,0))","v":0},{"$f":"SUM(OFFSET(テストデータ!N3,474,0):OFFSET(テストデータ!R3,474,0))","v":0},{"$f":"SUM(OFFSET(テストデータ!W3,474,0):OFFSET(テストデータ!Y3,474,0))","v":0},{"$f":"SUM(OFFSET(テストデータ!W3,474,0):OFFSET(テストデータ!AA3,474,0))","v":0},{"$f":"SUM(OFFSET(テストデータ!AF3,474,0):OFFSET(テストデータ!AH3,474,0))","v":0},{"$f":"SUM(OFFSET(テストデータ!AF3,474,0):OFFSET(テストデータ!AJ3,474,0))","v":0},{"$f":"SUM(OFFSET(テストデータ!AO3,474,0):OFFSET(テストデータ!AQ3,474,0))","v":0},{"$f":"SUM(OFFSET(テストデータ!AO3,474,0):OFFSET(テストデータ!AS3,474,0))","v":0},{"$f":"SUM(OFFSET(テストデータ!AX3,474,0):OFFSET(テストデータ!AZ3,474,0))","v":0},{"$f":"SUM(OFFSET(テストデータ!AX3,474,0):OFFSET(テストデータ!BB3,474,0))","v":0},{"$f":"SUM(OFFSET(テストデータ!BG3,474,0):OFFSET(テストデータ!BI3,474,0))","v":0},{"$f":"SUM(OFFSET(テストデータ!BG3,474,0):OFFSET(テストデータ!BK3,474,0))","v":0},{"$f":"SUM(OFFSET(テストデータ!BL3,474,0):OFFSET(テストデータ!BN3,474,0))","v":0},{"$f":"SUM(OFFSET(テストデータ!BL3,474,0):OFFSET(テストデータ!BP3,474,0))","v":0},{"$f":"SUM(OFFSET(テストデータ!BQ3,474,0):OFFSET(テストデータ!BS3,474,0))","v":0},{"$f":"SUM(OFFSET(テストデータ!BQ3,474,0):OFFSET(テストデータ!BU3,474,0))","v":0},{"$f":"SUM(OFFSET(テストデータ!BV3,474,0):OFFSET(テストデータ!BX3,474,0))","v":0},{"$f":"SUM(OFFSET(テストデータ!BV3,474,0):OFFSET(テストデータ!BZ3,474,0))","v":0},{"$f":"SUM(OFFSET(テストデータ!CA3,474,0):OFFSET(テストデータ!CC3,474,0))","v":0},{"$f":"SUM(OFFSET(テストデータ!CA3,474,0):OFFSET(テストデータ!CE3,474,0))","v":0},{"$f":"SUM(OFFSET(テストデータ!CF3,474,0):OFFSET(テストデータ!CH3,474,0))","v":0},{"$f":"SUM(OFFSET(テストデータ!CF3,474,0):OFFSET(テストデータ!CJ3,474,0))","v":0},{"$f":"SUM(OFFSET(テストデータ!CK3,474,0):OFFSET(テストデータ!CM3,474,0))","v":0},{"$f":"SUM(OFFSET(テストデータ!CK3,474,0):OFFSET(テストデータ!CO3,474,0))","v":0},{"$f":"SUM(OFFSET(テストデータ!CP3,474,0):OFFSET(テストデータ!CR3,474,0))","v":0},{"$f":"SUM(OFFSET(テストデータ!CP3,474,0):OFFSET(テストデータ!CT3,474,0))","v":0}]
[null,null,null,null,null,null,null,null,null,null,null,null,null,{"$f":"SUM(OFFSET(テストデータ!$E3,475,9*成績表1!$B$4-9):OFFSET(テストデータ!$G3,475,9*成績表1!$B$4-9))","v":0},{"$f":"SUM(OFFSET(テストデータ!$E3,475,9*成績表1!$B$4-9):OFFSET(テストデータ!I3,475,9*成績表1!$B$4-9))","v":0},{"$f":"SUM(OFFSET(テストデータ!E3,475,0):OFFSET(テストデータ!G3,475,0))","v":0},{"$f":"SUM(OFFSET(テストデータ!E3,475,0):OFFSET(テストデータ!I3,475,0))","v":0},{"$f":"SUM(OFFSET(テストデータ!N3,475,0):OFFSET(テストデータ!P3,475,0))","v":0},{"$f":"SUM(OFFSET(テストデータ!N3,475,0):OFFSET(テストデータ!R3,475,0))","v":0},{"$f":"SUM(OFFSET(テストデータ!W3,475,0):OFFSET(テストデータ!Y3,475,0))","v":0},{"$f":"SUM(OFFSET(テストデータ!W3,475,0):OFFSET(テストデータ!AA3,475,0))","v":0},{"$f":"SUM(OFFSET(テストデータ!AF3,475,0):OFFSET(テストデータ!AH3,475,0))","v":0},{"$f":"SUM(OFFSET(テストデータ!AF3,475,0):OFFSET(テストデータ!AJ3,475,0))","v":0},{"$f":"SUM(OFFSET(テストデータ!AO3,475,0):OFFSET(テストデータ!AQ3,475,0))","v":0},{"$f":"SUM(OFFSET(テストデータ!AO3,475,0):OFFSET(テストデータ!AS3,475,0))","v":0},{"$f":"SUM(OFFSET(テストデータ!AX3,475,0):OFFSET(テストデータ!AZ3,475,0))","v":0},{"$f":"SUM(OFFSET(テストデータ!AX3,475,0):OFFSET(テストデータ!BB3,475,0))","v":0},{"$f":"SUM(OFFSET(テストデータ!BG3,475,0):OFFSET(テストデータ!BI3,475,0))","v":0},{"$f":"SUM(OFFSET(テストデータ!BG3,475,0):OFFSET(テストデータ!BK3,475,0))","v":0},{"$f":"SUM(OFFSET(テストデータ!BL3,475,0):OFFSET(テストデータ!BN3,475,0))","v":0},{"$f":"SUM(OFFSET(テストデータ!BL3,475,0):OFFSET(テストデータ!BP3,475,0))","v":0},{"$f":"SUM(OFFSET(テストデータ!BQ3,475,0):OFFSET(テストデータ!BS3,475,0))","v":0},{"$f":"SUM(OFFSET(テストデータ!BQ3,475,0):OFFSET(テストデータ!BU3,475,0))","v":0},{"$f":"SUM(OFFSET(テストデータ!BV3,475,0):OFFSET(テストデータ!BX3,475,0))","v":0},{"$f":"SUM(OFFSET(テストデータ!BV3,475,0):OFFSET(テストデータ!BZ3,475,0))","v":0},{"$f":"SUM(OFFSET(テストデータ!CA3,475,0):OFFSET(テストデータ!CC3,475,0))","v":0},{"$f":"SUM(OFFSET(テストデータ!CA3,475,0):OFFSET(テストデータ!CE3,475,0))","v":0},{"$f":"SUM(OFFSET(テストデータ!CF3,475,0):OFFSET(テストデータ!CH3,475,0))","v":0},{"$f":"SUM(OFFSET(テストデータ!CF3,475,0):OFFSET(テストデータ!CJ3,475,0))","v":0},{"$f":"SUM(OFFSET(テストデータ!CK3,475,0):OFFSET(テストデータ!CM3,475,0))","v":0},{"$f":"SUM(OFFSET(テストデータ!CK3,475,0):OFFSET(テストデータ!CO3,475,0))","v":0},{"$f":"SUM(OFFSET(テストデータ!CP3,475,0):OFFSET(テストデータ!CR3,475,0))","v":0},{"$f":"SUM(OFFSET(テストデータ!CP3,475,0):OFFSET(テストデータ!CT3,475,0))","v":0}]
[null,null,null,null,null,null,null,null,null,null,null,null,null,{"$f":"SUM(OFFSET(テストデータ!$E3,476,9*成績表1!$B$4-9):OFFSET(テストデータ!$G3,476,9*成績表1!$B$4-9))","v":0},{"$f":"SUM(OFFSET(テストデータ!$E3,476,9*成績表1!$B$4-9):OFFSET(テストデータ!I3,476,9*成績表1!$B$4-9))","v":0},{"$f":"SUM(OFFSET(テストデータ!E3,476,0):OFFSET(テストデータ!G3,476,0))","v":0},{"$f":"SUM(OFFSET(テストデータ!E3,476,0):OFFSET(テストデータ!I3,476,0))","v":0},{"$f":"SUM(OFFSET(テストデータ!N3,476,0):OFFSET(テストデータ!P3,476,0))","v":0},{"$f":"SUM(OFFSET(テストデータ!N3,476,0):OFFSET(テストデータ!R3,476,0))","v":0},{"$f":"SUM(OFFSET(テストデータ!W3,476,0):OFFSET(テストデータ!Y3,476,0))","v":0},{"$f":"SUM(OFFSET(テストデータ!W3,476,0):OFFSET(テストデータ!AA3,476,0))","v":0},{"$f":"SUM(OFFSET(テストデータ!AF3,476,0):OFFSET(テストデータ!AH3,476,0))","v":0},{"$f":"SUM(OFFSET(テストデータ!AF3,476,0):OFFSET(テストデータ!AJ3,476,0))","v":0},{"$f":"SUM(OFFSET(テストデータ!AO3,476,0):OFFSET(テストデータ!AQ3,476,0))","v":0},{"$f":"SUM(OFFSET(テストデータ!AO3,476,0):OFFSET(テストデータ!AS3,476,0))","v":0},{"$f":"SUM(OFFSET(テストデータ!AX3,476,0):OFFSET(テストデータ!AZ3,476,0))","v":0},{"$f":"SUM(OFFSET(テストデータ!AX3,476,0):OFFSET(テストデータ!BB3,476,0))","v":0},{"$f":"SUM(OFFSET(テストデータ!BG3,476,0):OFFSET(テストデータ!BI3,476,0))","v":0},{"$f":"SUM(OFFSET(テストデータ!BG3,476,0):OFFSET(テストデータ!BK3,476,0))","v":0},{"$f":"SUM(OFFSET(テストデータ!BL3,476,0):OFFSET(テストデータ!BN3,476,0))","v":0},{"$f":"SUM(OFFSET(テストデータ!BL3,476,0):OFFSET(テストデータ!BP3,476,0))","v":0},{"$f":"SUM(OFFSET(テストデータ!BQ3,476,0):OFFSET(テストデータ!BS3,476,0))","v":0},{"$f":"SUM(OFFSET(テストデータ!BQ3,476,0):OFFSET(テストデータ!BU3,476,0))","v":0},{"$f":"SUM(OFFSET(テストデータ!BV3,476,0):OFFSET(テストデータ!BX3,476,0))","v":0},{"$f":"SUM(OFFSET(テストデータ!BV3,476,0):OFFSET(テストデータ!BZ3,476,0))","v":0},{"$f":"SUM(OFFSET(テストデータ!CA3,476,0):OFFSET(テストデータ!CC3,476,0))","v":0},{"$f":"SUM(OFFSET(テストデータ!CA3,476,0):OFFSET(テストデータ!CE3,476,0))","v":0},{"$f":"SUM(OFFSET(テストデータ!CF3,476,0):OFFSET(テストデータ!CH3,476,0))","v":0},{"$f":"SUM(OFFSET(テストデータ!CF3,476,0):OFFSET(テストデータ!CJ3,476,0))","v":0},{"$f":"SUM(OFFSET(テストデータ!CK3,476,0):OFFSET(テストデータ!CM3,476,0))","v":0},{"$f":"SUM(OFFSET(テストデータ!CK3,476,0):OFFSET(テストデータ!CO3,476,0))","v":0},{"$f":"SUM(OFFSET(テストデータ!CP3,476,0):OFFSET(テストデータ!CR3,476,0))","v":0},{"$f":"SUM(OFFSET(テストデータ!CP3,476,0):OFFSET(テストデータ!CT3,476,0))","v":0}]
[null,null,null,null,null,null,null,null,null,null,null,null,null,{"$f":"SUM(OFFSET(テストデータ!$E3,477,9*成績表1!$B$4-9):OFFSET(テストデータ!$G3,477,9*成績表1!$B$4-9))","v":0},{"$f":"SUM(OFFSET(テストデータ!$E3,477,9*成績表1!$B$4-9):OFFSET(テストデータ!I3,477,9*成績表1!$B$4-9))","v":0},{"$f":"SUM(OFFSET(テストデータ!E3,477,0):OFFSET(テストデータ!G3,477,0))","v":0},{"$f":"SUM(OFFSET(テストデータ!E3,477,0):OFFSET(テストデータ!I3,477,0))","v":0},{"$f":"SUM(OFFSET(テストデータ!N3,477,0):OFFSET(テストデータ!P3,477,0))","v":0},{"$f":"SUM(OFFSET(テストデータ!N3,477,0):OFFSET(テストデータ!R3,477,0))","v":0},{"$f":"SUM(OFFSET(テストデータ!W3,477,0):OFFSET(テストデータ!Y3,477,0))","v":0},{"$f":"SUM(OFFSET(テストデータ!W3,477,0):OFFSET(テストデータ!AA3,477,0))","v":0},{"$f":"SUM(OFFSET(テストデータ!AF3,477,0):OFFSET(テストデータ!AH3,477,0))","v":0},{"$f":"SUM(OFFSET(テストデータ!AF3,477,0):OFFSET(テストデータ!AJ3,477,0))","v":0},{"$f":"SUM(OFFSET(テストデータ!AO3,477,0):OFFSET(テストデータ!AQ3,477,0))","v":0},{"$f":"SUM(OFFSET(テストデータ!AO3,477,0):OFFSET(テストデータ!AS3,477,0))","v":0},{"$f":"SUM(OFFSET(テストデータ!AX3,477,0):OFFSET(テストデータ!AZ3,477,0))","v":0},{"$f":"SUM(OFFSET(テストデータ!AX3,477,0):OFFSET(テストデータ!BB3,477,0))","v":0},{"$f":"SUM(OFFSET(テストデータ!BG3,477,0):OFFSET(テストデータ!BI3,477,0))","v":0},{"$f":"SUM(OFFSET(テストデータ!BG3,477,0):OFFSET(テストデータ!BK3,477,0))","v":0},{"$f":"SUM(OFFSET(テストデータ!BL3,477,0):OFFSET(テストデータ!BN3,477,0))","v":0},{"$f":"SUM(OFFSET(テストデータ!BL3,477,0):OFFSET(テストデータ!BP3,477,0))","v":0},{"$f":"SUM(OFFSET(テストデータ!BQ3,477,0):OFFSET(テストデータ!BS3,477,0))","v":0},{"$f":"SUM(OFFSET(テストデータ!BQ3,477,0):OFFSET(テストデータ!BU3,477,0))","v":0},{"$f":"SUM(OFFSET(テストデータ!BV3,477,0):OFFSET(テストデータ!BX3,477,0))","v":0},{"$f":"SUM(OFFSET(テストデータ!BV3,477,0):OFFSET(テストデータ!BZ3,477,0))","v":0},{"$f":"SUM(OFFSET(テストデータ!CA3,477,0):OFFSET(テストデータ!CC3,477,0))","v":0},{"$f":"SUM(OFFSET(テストデータ!CA3,477,0):OFFSET(テストデータ!CE3,477,0))","v":0},{"$f":"SUM(OFFSET(テストデータ!CF3,477,0):OFFSET(テストデータ!CH3,477,0))","v":0},{"$f":"SUM(OFFSET(テストデータ!CF3,477,0):OFFSET(テストデータ!CJ3,477,0))","v":0},{"$f":"SUM(OFFSET(テストデータ!CK3,477,0):OFFSET(テストデータ!CM3,477,0))","v":0},{"$f":"SUM(OFFSET(テストデータ!CK3,477,0):OFFSET(テストデータ!CO3,477,0))","v":0},{"$f":"SUM(OFFSET(テストデータ!CP3,477,0):OFFSET(テストデータ!CR3,477,0))","v":0},{"$f":"SUM(OFFSET(テストデータ!CP3,477,0):OFFSET(テストデータ!CT3,477,0))","v":0}]
[null,null,null,null,null,null,null,null,null,null,null,null,null,{"$f":"SUM(OFFSET(テストデータ!$E3,478,9*成績表1!$B$4-9):OFFSET(テストデータ!$G3,478,9*成績表1!$B$4-9))","v":0},{"$f":"SUM(OFFSET(テストデータ!$E3,478,9*成績表1!$B$4-9):OFFSET(テストデータ!I3,478,9*成績表1!$B$4-9))","v":0},{"$f":"SUM(OFFSET(テストデータ!E3,478,0):OFFSET(テストデータ!G3,478,0))","v":0},{"$f":"SUM(OFFSET(テストデータ!E3,478,0):OFFSET(テストデータ!I3,478,0))","v":0},{"$f":"SUM(OFFSET(テストデータ!N3,478,0):OFFSET(テストデータ!P3,478,0))","v":0},{"$f":"SUM(OFFSET(テストデータ!N3,478,0):OFFSET(テストデータ!R3,478,0))","v":0},{"$f":"SUM(OFFSET(テストデータ!W3,478,0):OFFSET(テストデータ!Y3,478,0))","v":0},{"$f":"SUM(OFFSET(テストデータ!W3,478,0):OFFSET(テストデータ!AA3,478,0))","v":0},{"$f":"SUM(OFFSET(テストデータ!AF3,478,0):OFFSET(テストデータ!AH3,478,0))","v":0},{"$f":"SUM(OFFSET(テストデータ!AF3,478,0):OFFSET(テストデータ!AJ3,478,0))","v":0},{"$f":"SUM(OFFSET(テストデータ!AO3,478,0):OFFSET(テストデータ!AQ3,478,0))","v":0},{"$f":"SUM(OFFSET(テストデータ!AO3,478,0):OFFSET(テストデータ!AS3,478,0))","v":0},{"$f":"SUM(OFFSET(テストデータ!AX3,478,0):OFFSET(テストデータ!AZ3,478,0))","v":0},{"$f":"SUM(OFFSET(テストデータ!AX3,478,0):OFFSET(テストデータ!BB3,478,0))","v":0},{"$f":"SUM(OFFSET(テストデータ!BG3,478,0):OFFSET(テストデータ!BI3,478,0))","v":0},{"$f":"SUM(OFFSET(テストデータ!BG3,478,0):OFFSET(テストデータ!BK3,478,0))","v":0},{"$f":"SUM(OFFSET(テストデータ!BL3,478,0):OFFSET(テストデータ!BN3,478,0))","v":0},{"$f":"SUM(OFFSET(テストデータ!BL3,478,0):OFFSET(テストデータ!BP3,478,0))","v":0},{"$f":"SUM(OFFSET(テストデータ!BQ3,478,0):OFFSET(テストデータ!BS3,478,0))","v":0},{"$f":"SUM(OFFSET(テストデータ!BQ3,478,0):OFFSET(テストデータ!BU3,478,0))","v":0},{"$f":"SUM(OFFSET(テストデータ!BV3,478,0):OFFSET(テストデータ!BX3,478,0))","v":0},{"$f":"SUM(OFFSET(テストデータ!BV3,478,0):OFFSET(テストデータ!BZ3,478,0))","v":0},{"$f":"SUM(OFFSET(テストデータ!CA3,478,0):OFFSET(テストデータ!CC3,478,0))","v":0},{"$f":"SUM(OFFSET(テストデータ!CA3,478,0):OFFSET(テストデータ!CE3,478,0))","v":0},{"$f":"SUM(OFFSET(テストデータ!CF3,478,0):OFFSET(テストデータ!CH3,478,0))","v":0},{"$f":"SUM(OFFSET(テストデータ!CF3,478,0):OFFSET(テストデータ!CJ3,478,0))","v":0},{"$f":"SUM(OFFSET(テストデータ!CK3,478,0):OFFSET(テストデータ!CM3,478,0))","v":0},{"$f":"SUM(OFFSET(テストデータ!CK3,478,0):OFFSET(テストデータ!CO3,478,0))","v":0},{"$f":"SUM(OFFSET(テストデータ!CP3,478,0):OFFSET(テストデータ!CR3,478,0))","v":0},{"$f":"SUM(OFFSET(テストデータ!CP3,478,0):OFFSET(テストデータ!CT3,478,0))","v":0}]
[null,null,null,null,null,null,null,null,null,null,null,null,null,{"$f":"SUM(OFFSET(テストデータ!$E3,479,9*成績表1!$B$4-9):OFFSET(テストデータ!$G3,479,9*成績表1!$B$4-9))","v":0},{"$f":"SUM(OFFSET(テストデータ!$E3,479,9*成績表1!$B$4-9):OFFSET(テストデータ!I3,479,9*成績表1!$B$4-9))","v":0},{"$f":"SUM(OFFSET(テストデータ!E3,479,0):OFFSET(テストデータ!G3,479,0))","v":0},{"$f":"SUM(OFFSET(テストデータ!E3,479,0):OFFSET(テストデータ!I3,479,0))","v":0},{"$f":"SUM(OFFSET(テストデータ!N3,479,0):OFFSET(テストデータ!P3,479,0))","v":0},{"$f":"SUM(OFFSET(テストデータ!N3,479,0):OFFSET(テストデータ!R3,479,0))","v":0},{"$f":"SUM(OFFSET(テストデータ!W3,479,0):OFFSET(テストデータ!Y3,479,0))","v":0},{"$f":"SUM(OFFSET(テストデータ!W3,479,0):OFFSET(テストデータ!AA3,479,0))","v":0},{"$f":"SUM(OFFSET(テストデータ!AF3,479,0):OFFSET(テストデータ!AH3,479,0))","v":0},{"$f":"SUM(OFFSET(テストデータ!AF3,479,0):OFFSET(テストデータ!AJ3,479,0))","v":0},{"$f":"SUM(OFFSET(テストデータ!AO3,479,0):OFFSET(テストデータ!AQ3,479,0))","v":0},{"$f":"SUM(OFFSET(テストデータ!AO3,479,0):OFFSET(テストデータ!AS3,479,0))","v":0},{"$f":"SUM(OFFSET(テストデータ!AX3,479,0):OFFSET(テストデータ!AZ3,479,0))","v":0},{"$f":"SUM(OFFSET(テストデータ!AX3,479,0):OFFSET(テストデータ!BB3,479,0))","v":0},{"$f":"SUM(OFFSET(テストデータ!BG3,479,0):OFFSET(テストデータ!BI3,479,0))","v":0},{"$f":"SUM(OFFSET(テストデータ!BG3,479,0):OFFSET(テストデータ!BK3,479,0))","v":0},{"$f":"SUM(OFFSET(テストデータ!BL3,479,0):OFFSET(テストデータ!BN3,479,0))","v":0},{"$f":"SUM(OFFSET(テストデータ!BL3,479,0):OFFSET(テストデータ!BP3,479,0))","v":0},{"$f":"SUM(OFFSET(テストデータ!BQ3,479,0):OFFSET(テストデータ!BS3,479,0))","v":0},{"$f":"SUM(OFFSET(テストデータ!BQ3,479,0):OFFSET(テストデータ!BU3,479,0))","v":0},{"$f":"SUM(OFFSET(テストデータ!BV3,479,0):OFFSET(テストデータ!BX3,479,0))","v":0},{"$f":"SUM(OFFSET(テストデータ!BV3,479,0):OFFSET(テストデータ!BZ3,479,0))","v":0},{"$f":"SUM(OFFSET(テストデータ!CA3,479,0):OFFSET(テストデータ!CC3,479,0))","v":0},{"$f":"SUM(OFFSET(テストデータ!CA3,479,0):OFFSET(テストデータ!CE3,479,0))","v":0},{"$f":"SUM(OFFSET(テストデータ!CF3,479,0):OFFSET(テストデータ!CH3,479,0))","v":0},{"$f":"SUM(OFFSET(テストデータ!CF3,479,0):OFFSET(テストデータ!CJ3,479,0))","v":0},{"$f":"SUM(OFFSET(テストデータ!CK3,479,0):OFFSET(テストデータ!CM3,479,0))","v":0},{"$f":"SUM(OFFSET(テストデータ!CK3,479,0):OFFSET(テストデータ!CO3,479,0))","v":0},{"$f":"SUM(OFFSET(テストデータ!CP3,479,0):OFFSET(テストデータ!CR3,479,0))","v":0},{"$f":"SUM(OFFSET(テストデータ!CP3,479,0):OFFSET(テストデータ!CT3,479,0))","v":0}]
[null,null,null,null,null,null,null,null,null,null,null,null,null,{"$f":"SUM(OFFSET(テストデータ!$E3,480,9*成績表1!$B$4-9):OFFSET(テストデータ!$G3,480,9*成績表1!$B$4-9))","v":0},{"$f":"SUM(OFFSET(テストデータ!$E3,480,9*成績表1!$B$4-9):OFFSET(テストデータ!I3,480,9*成績表1!$B$4-9))","v":0},{"$f":"SUM(OFFSET(テストデータ!E3,480,0):OFFSET(テストデータ!G3,480,0))","v":0},{"$f":"SUM(OFFSET(テストデータ!E3,480,0):OFFSET(テストデータ!I3,480,0))","v":0},{"$f":"SUM(OFFSET(テストデータ!N3,480,0):OFFSET(テストデータ!P3,480,0))","v":0},{"$f":"SUM(OFFSET(テストデータ!N3,480,0):OFFSET(テストデータ!R3,480,0))","v":0},{"$f":"SUM(OFFSET(テストデータ!W3,480,0):OFFSET(テストデータ!Y3,480,0))","v":0},{"$f":"SUM(OFFSET(テストデータ!W3,480,0):OFFSET(テストデータ!AA3,480,0))","v":0},{"$f":"SUM(OFFSET(テストデータ!AF3,480,0):OFFSET(テストデータ!AH3,480,0))","v":0},{"$f":"SUM(OFFSET(テストデータ!AF3,480,0):OFFSET(テストデータ!AJ3,480,0))","v":0},{"$f":"SUM(OFFSET(テストデータ!AO3,480,0):OFFSET(テストデータ!AQ3,480,0))","v":0},{"$f":"SUM(OFFSET(テストデータ!AO3,480,0):OFFSET(テストデータ!AS3,480,0))","v":0},{"$f":"SUM(OFFSET(テストデータ!AX3,480,0):OFFSET(テストデータ!AZ3,480,0))","v":0},{"$f":"SUM(OFFSET(テストデータ!AX3,480,0):OFFSET(テストデータ!BB3,480,0))","v":0},{"$f":"SUM(OFFSET(テストデータ!BG3,480,0):OFFSET(テストデータ!BI3,480,0))","v":0},{"$f":"SUM(OFFSET(テストデータ!BG3,480,0):OFFSET(テストデータ!BK3,480,0))","v":0},{"$f":"SUM(OFFSET(テストデータ!BL3,480,0):OFFSET(テストデータ!BN3,480,0))","v":0},{"$f":"SUM(OFFSET(テストデータ!BL3,480,0):OFFSET(テストデータ!BP3,480,0))","v":0},{"$f":"SUM(OFFSET(テストデータ!BQ3,480,0):OFFSET(テストデータ!BS3,480,0))","v":0},{"$f":"SUM(OFFSET(テストデータ!BQ3,480,0):OFFSET(テストデータ!BU3,480,0))","v":0},{"$f":"SUM(OFFSET(テストデータ!BV3,480,0):OFFSET(テストデータ!BX3,480,0))","v":0},{"$f":"SUM(OFFSET(テストデータ!BV3,480,0):OFFSET(テストデータ!BZ3,480,0))","v":0},{"$f":"SUM(OFFSET(テストデータ!CA3,480,0):OFFSET(テストデータ!CC3,480,0))","v":0},{"$f":"SUM(OFFSET(テストデータ!CA3,480,0):OFFSET(テストデータ!CE3,480,0))","v":0},{"$f":"SUM(OFFSET(テストデータ!CF3,480,0):OFFSET(テストデータ!CH3,480,0))","v":0},{"$f":"SUM(OFFSET(テストデータ!CF3,480,0):OFFSET(テストデータ!CJ3,480,0))","v":0},{"$f":"SUM(OFFSET(テストデータ!CK3,480,0):OFFSET(テストデータ!CM3,480,0))","v":0},{"$f":"SUM(OFFSET(テストデータ!CK3,480,0):OFFSET(テストデータ!CO3,480,0))","v":0},{"$f":"SUM(OFFSET(テストデータ!CP3,480,0):OFFSET(テストデータ!CR3,480,0))","v":0},{"$f":"SUM(OFFSET(テストデータ!CP3,480,0):OFFSET(テストデータ!CT3,480,0))","v":0}]
[null,null,null,null,null,null,null,null,null,null,null,null,null,{"$f":"SUM(OFFSET(テストデータ!$E3,481,9*成績表1!$B$4-9):OFFSET(テストデータ!$G3,481,9*成績表1!$B$4-9))","v":0},{"$f":"SUM(OFFSET(テストデータ!$E3,481,9*成績表1!$B$4-9):OFFSET(テストデータ!I3,481,9*成績表1!$B$4-9))","v":0},{"$f":"SUM(OFFSET(テストデータ!E3,481,0):OFFSET(テストデータ!G3,481,0))","v":0},{"$f":"SUM(OFFSET(テストデータ!E3,481,0):OFFSET(テストデータ!I3,481,0))","v":0},{"$f":"SUM(OFFSET(テストデータ!N3,481,0):OFFSET(テストデータ!P3,481,0))","v":0},{"$f":"SUM(OFFSET(テストデータ!N3,481,0):OFFSET(テストデータ!R3,481,0))","v":0},{"$f":"SUM(OFFSET(テストデータ!W3,481,0):OFFSET(テストデータ!Y3,481,0))","v":0},{"$f":"SUM(OFFSET(テストデータ!W3,481,0):OFFSET(テストデータ!AA3,481,0))","v":0},{"$f":"SUM(OFFSET(テストデータ!AF3,481,0):OFFSET(テストデータ!AH3,481,0))","v":0},{"$f":"SUM(OFFSET(テストデータ!AF3,481,0):OFFSET(テストデータ!AJ3,481,0))","v":0},{"$f":"SUM(OFFSET(テストデータ!AO3,481,0):OFFSET(テストデータ!AQ3,481,0))","v":0},{"$f":"SUM(OFFSET(テストデータ!AO3,481,0):OFFSET(テストデータ!AS3,481,0))","v":0},{"$f":"SUM(OFFSET(テストデータ!AX3,481,0):OFFSET(テストデータ!AZ3,481,0))","v":0},{"$f":"SUM(OFFSET(テストデータ!AX3,481,0):OFFSET(テストデータ!BB3,481,0))","v":0},{"$f":"SUM(OFFSET(テストデータ!BG3,481,0):OFFSET(テストデータ!BI3,481,0))","v":0},{"$f":"SUM(OFFSET(テストデータ!BG3,481,0):OFFSET(テストデータ!BK3,481,0))","v":0},{"$f":"SUM(OFFSET(テストデータ!BL3,481,0):OFFSET(テストデータ!BN3,481,0))","v":0},{"$f":"SUM(OFFSET(テストデータ!BL3,481,0):OFFSET(テストデータ!BP3,481,0))","v":0},{"$f":"SUM(OFFSET(テストデータ!BQ3,481,0):OFFSET(テストデータ!BS3,481,0))","v":0},{"$f":"SUM(OFFSET(テストデータ!BQ3,481,0):OFFSET(テストデータ!BU3,481,0))","v":0},{"$f":"SUM(OFFSET(テストデータ!BV3,481,0):OFFSET(テストデータ!BX3,481,0))","v":0},{"$f":"SUM(OFFSET(テストデータ!BV3,481,0):OFFSET(テストデータ!BZ3,481,0))","v":0},{"$f":"SUM(OFFSET(テストデータ!CA3,481,0):OFFSET(テストデータ!CC3,481,0))","v":0},{"$f":"SUM(OFFSET(テストデータ!CA3,481,0):OFFSET(テストデータ!CE3,481,0))","v":0},{"$f":"SUM(OFFSET(テストデータ!CF3,481,0):OFFSET(テストデータ!CH3,481,0))","v":0},{"$f":"SUM(OFFSET(テストデータ!CF3,481,0):OFFSET(テストデータ!CJ3,481,0))","v":0},{"$f":"SUM(OFFSET(テストデータ!CK3,481,0):OFFSET(テストデータ!CM3,481,0))","v":0},{"$f":"SUM(OFFSET(テストデータ!CK3,481,0):OFFSET(テストデータ!CO3,481,0))","v":0},{"$f":"SUM(OFFSET(テストデータ!CP3,481,0):OFFSET(テストデータ!CR3,481,0))","v":0},{"$f":"SUM(OFFSET(テストデータ!CP3,481,0):OFFSET(テストデータ!CT3,481,0))","v":0}]
[null,null,null,null,null,null,null,null,null,null,null,null,null,{"$f":"SUM(OFFSET(テストデータ!$E3,482,9*成績表1!$B$4-9):OFFSET(テストデータ!$G3,482,9*成績表1!$B$4-9))","v":0},{"$f":"SUM(OFFSET(テストデータ!$E3,482,9*成績表1!$B$4-9):OFFSET(テストデータ!I3,482,9*成績表1!$B$4-9))","v":0},{"$f":"SUM(OFFSET(テストデータ!E3,482,0):OFFSET(テストデータ!G3,482,0))","v":0},{"$f":"SUM(OFFSET(テストデータ!E3,482,0):OFFSET(テストデータ!I3,482,0))","v":0},{"$f":"SUM(OFFSET(テストデータ!N3,482,0):OFFSET(テストデータ!P3,482,0))","v":0},{"$f":"SUM(OFFSET(テストデータ!N3,482,0):OFFSET(テストデータ!R3,482,0))","v":0},{"$f":"SUM(OFFSET(テストデータ!W3,482,0):OFFSET(テストデータ!Y3,482,0))","v":0},{"$f":"SUM(OFFSET(テストデータ!W3,482,0):OFFSET(テストデータ!AA3,482,0))","v":0},{"$f":"SUM(OFFSET(テストデータ!AF3,482,0):OFFSET(テストデータ!AH3,482,0))","v":0},{"$f":"SUM(OFFSET(テストデータ!AF3,482,0):OFFSET(テストデータ!AJ3,482,0))","v":0},{"$f":"SUM(OFFSET(テストデータ!AO3,482,0):OFFSET(テストデータ!AQ3,482,0))","v":0},{"$f":"SUM(OFFSET(テストデータ!AO3,482,0):OFFSET(テストデータ!AS3,482,0))","v":0},{"$f":"SUM(OFFSET(テストデータ!AX3,482,0):OFFSET(テストデータ!AZ3,482,0))","v":0},{"$f":"SUM(OFFSET(テストデータ!AX3,482,0):OFFSET(テストデータ!BB3,482,0))","v":0},{"$f":"SUM(OFFSET(テストデータ!BG3,482,0):OFFSET(テストデータ!BI3,482,0))","v":0},{"$f":"SUM(OFFSET(テストデータ!BG3,482,0):OFFSET(テストデータ!BK3,482,0))","v":0},{"$f":"SUM(OFFSET(テストデータ!BL3,482,0):OFFSET(テストデータ!BN3,482,0))","v":0},{"$f":"SUM(OFFSET(テストデータ!BL3,482,0):OFFSET(テストデータ!BP3,482,0))","v":0},{"$f":"SUM(OFFSET(テストデータ!BQ3,482,0):OFFSET(テストデータ!BS3,482,0))","v":0},{"$f":"SUM(OFFSET(テストデータ!BQ3,482,0):OFFSET(テストデータ!BU3,482,0))","v":0},{"$f":"SUM(OFFSET(テストデータ!BV3,482,0):OFFSET(テストデータ!BX3,482,0))","v":0},{"$f":"SUM(OFFSET(テストデータ!BV3,482,0):OFFSET(テストデータ!BZ3,482,0))","v":0},{"$f":"SUM(OFFSET(テストデータ!CA3,482,0):OFFSET(テストデータ!CC3,482,0))","v":0},{"$f":"SUM(OFFSET(テストデータ!CA3,482,0):OFFSET(テストデータ!CE3,482,0))","v":0},{"$f":"SUM(OFFSET(テストデータ!CF3,482,0):OFFSET(テストデータ!CH3,482,0))","v":0},{"$f":"SUM(OFFSET(テストデータ!CF3,482,0):OFFSET(テストデータ!CJ3,482,0))","v":0},{"$f":"SUM(OFFSET(テストデータ!CK3,482,0):OFFSET(テストデータ!CM3,482,0))","v":0},{"$f":"SUM(OFFSET(テストデータ!CK3,482,0):OFFSET(テストデータ!CO3,482,0))","v":0},{"$f":"SUM(OFFSET(テストデータ!CP3,482,0):OFFSET(テストデータ!CR3,482,0))","v":0},{"$f":"SUM(OFFSET(テストデータ!CP3,482,0):OFFSET(テストデータ!CT3,482,0))","v":0}]
[null,null,null,null,null,null,null,null,null,null,null,null,null,{"$f":"SUM(OFFSET(テストデータ!$E3,483,9*成績表1!$B$4-9):OFFSET(テストデータ!$G3,483,9*成績表1!$B$4-9))","v":0},{"$f":"SUM(OFFSET(テストデータ!$E3,483,9*成績表1!$B$4-9):OFFSET(テストデータ!I3,483,9*成績表1!$B$4-9))","v":0},{"$f":"SUM(OFFSET(テストデータ!E3,483,0):OFFSET(テストデータ!G3,483,0))","v":0},{"$f":"SUM(OFFSET(テストデータ!E3,483,0):OFFSET(テストデータ!I3,483,0))","v":0},{"$f":"SUM(OFFSET(テストデータ!N3,483,0):OFFSET(テストデータ!P3,483,0))","v":0},{"$f":"SUM(OFFSET(テストデータ!N3,483,0):OFFSET(テストデータ!R3,483,0))","v":0},{"$f":"SUM(OFFSET(テストデータ!W3,483,0):OFFSET(テストデータ!Y3,483,0))","v":0},{"$f":"SUM(OFFSET(テストデータ!W3,483,0):OFFSET(テストデータ!AA3,483,0))","v":0},{"$f":"SUM(OFFSET(テストデータ!AF3,483,0):OFFSET(テストデータ!AH3,483,0))","v":0},{"$f":"SUM(OFFSET(テストデータ!AF3,483,0):OFFSET(テストデータ!AJ3,483,0))","v":0},{"$f":"SUM(OFFSET(テストデータ!AO3,483,0):OFFSET(テストデータ!AQ3,483,0))","v":0},{"$f":"SUM(OFFSET(テストデータ!AO3,483,0):OFFSET(テストデータ!AS3,483,0))","v":0},{"$f":"SUM(OFFSET(テストデータ!AX3,483,0):OFFSET(テストデータ!AZ3,483,0))","v":0},{"$f":"SUM(OFFSET(テストデータ!AX3,483,0):OFFSET(テストデータ!BB3,483,0))","v":0},{"$f":"SUM(OFFSET(テストデータ!BG3,483,0):OFFSET(テストデータ!BI3,483,0))","v":0},{"$f":"SUM(OFFSET(テストデータ!BG3,483,0):OFFSET(テストデータ!BK3,483,0))","v":0},{"$f":"SUM(OFFSET(テストデータ!BL3,483,0):OFFSET(テストデータ!BN3,483,0))","v":0},{"$f":"SUM(OFFSET(テストデータ!BL3,483,0):OFFSET(テストデータ!BP3,483,0))","v":0},{"$f":"SUM(OFFSET(テストデータ!BQ3,483,0):OFFSET(テストデータ!BS3,483,0))","v":0},{"$f":"SUM(OFFSET(テストデータ!BQ3,483,0):OFFSET(テストデータ!BU3,483,0))","v":0},{"$f":"SUM(OFFSET(テストデータ!BV3,483,0):OFFSET(テストデータ!BX3,483,0))","v":0},{"$f":"SUM(OFFSET(テストデータ!BV3,483,0):OFFSET(テストデータ!BZ3,483,0))","v":0},{"$f":"SUM(OFFSET(テストデータ!CA3,483,0):OFFSET(テストデータ!CC3,483,0))","v":0},{"$f":"SUM(OFFSET(テストデータ!CA3,483,0):OFFSET(テストデータ!CE3,483,0))","v":0},{"$f":"SUM(OFFSET(テストデータ!CF3,483,0):OFFSET(テストデータ!CH3,483,0))","v":0},{"$f":"SUM(OFFSET(テストデータ!CF3,483,0):OFFSET(テストデータ!CJ3,483,0))","v":0},{"$f":"SUM(OFFSET(テストデータ!CK3,483,0):OFFSET(テストデータ!CM3,483,0))","v":0},{"$f":"SUM(OFFSET(テストデータ!CK3,483,0):OFFSET(テストデータ!CO3,483,0))","v":0},{"$f":"SUM(OFFSET(テストデータ!CP3,483,0):OFFSET(テストデータ!CR3,483,0))","v":0},{"$f":"SUM(OFFSET(テストデータ!CP3,483,0):OFFSET(テストデータ!CT3,483,0))","v":0}]
[null,null,null,null,null,null,null,null,null,null,null,null,null,{"$f":"SUM(OFFSET(テストデータ!$E3,484,9*成績表1!$B$4-9):OFFSET(テストデータ!$G3,484,9*成績表1!$B$4-9))","v":0},{"$f":"SUM(OFFSET(テストデータ!$E3,484,9*成績表1!$B$4-9):OFFSET(テストデータ!I3,484,9*成績表1!$B$4-9))","v":0},{"$f":"SUM(OFFSET(テストデータ!E3,484,0):OFFSET(テストデータ!G3,484,0))","v":0},{"$f":"SUM(OFFSET(テストデータ!E3,484,0):OFFSET(テストデータ!I3,484,0))","v":0},{"$f":"SUM(OFFSET(テストデータ!N3,484,0):OFFSET(テストデータ!P3,484,0))","v":0},{"$f":"SUM(OFFSET(テストデータ!N3,484,0):OFFSET(テストデータ!R3,484,0))","v":0},{"$f":"SUM(OFFSET(テストデータ!W3,484,0):OFFSET(テストデータ!Y3,484,0))","v":0},{"$f":"SUM(OFFSET(テストデータ!W3,484,0):OFFSET(テストデータ!AA3,484,0))","v":0},{"$f":"SUM(OFFSET(テストデータ!AF3,484,0):OFFSET(テストデータ!AH3,484,0))","v":0},{"$f":"SUM(OFFSET(テストデータ!AF3,484,0):OFFSET(テストデータ!AJ3,484,0))","v":0},{"$f":"SUM(OFFSET(テストデータ!AO3,484,0):OFFSET(テストデータ!AQ3,484,0))","v":0},{"$f":"SUM(OFFSET(テストデータ!AO3,484,0):OFFSET(テストデータ!AS3,484,0))","v":0},{"$f":"SUM(OFFSET(テストデータ!AX3,484,0):OFFSET(テストデータ!AZ3,484,0))","v":0},{"$f":"SUM(OFFSET(テストデータ!AX3,484,0):OFFSET(テストデータ!BB3,484,0))","v":0},{"$f":"SUM(OFFSET(テストデータ!BG3,484,0):OFFSET(テストデータ!BI3,484,0))","v":0},{"$f":"SUM(OFFSET(テストデータ!BG3,484,0):OFFSET(テストデータ!BK3,484,0))","v":0},{"$f":"SUM(OFFSET(テストデータ!BL3,484,0):OFFSET(テストデータ!BN3,484,0))","v":0},{"$f":"SUM(OFFSET(テストデータ!BL3,484,0):OFFSET(テストデータ!BP3,484,0))","v":0},{"$f":"SUM(OFFSET(テストデータ!BQ3,484,0):OFFSET(テストデータ!BS3,484,0))","v":0},{"$f":"SUM(OFFSET(テストデータ!BQ3,484,0):OFFSET(テストデータ!BU3,484,0))","v":0},{"$f":"SUM(OFFSET(テストデータ!BV3,484,0):OFFSET(テストデータ!BX3,484,0))","v":0},{"$f":"SUM(OFFSET(テストデータ!BV3,484,0):OFFSET(テストデータ!BZ3,484,0))","v":0},{"$f":"SUM(OFFSET(テストデータ!CA3,484,0):OFFSET(テストデータ!CC3,484,0))","v":0},{"$f":"SUM(OFFSET(テストデータ!CA3,484,0):OFFSET(テストデータ!CE3,484,0))","v":0},{"$f":"SUM(OFFSET(テストデータ!CF3,484,0):OFFSET(テストデータ!CH3,484,0))","v":0},{"$f":"SUM(OFFSET(テストデータ!CF3,484,0):OFFSET(テストデータ!CJ3,484,0))","v":0},{"$f":"SUM(OFFSET(テストデータ!CK3,484,0):OFFSET(テストデータ!CM3,484,0))","v":0},{"$f":"SUM(OFFSET(テストデータ!CK3,484,0):OFFSET(テストデータ!CO3,484,0))","v":0},{"$f":"SUM(OFFSET(テストデータ!CP3,484,0):OFFSET(テストデータ!CR3,484,0))","v":0},{"$f":"SUM(OFFSET(テストデータ!CP3,484,0):OFFSET(テストデータ!CT3,484,0))","v":0}]
[null,null,null,null,null,null,null,null,null,null,null,null,null,{"$f":"SUM(OFFSET(テストデータ!$E3,485,9*成績表1!$B$4-9):OFFSET(テストデータ!$G3,485,9*成績表1!$B$4-9))","v":0},{"$f":"SUM(OFFSET(テストデータ!$E3,485,9*成績表1!$B$4-9):OFFSET(テストデータ!I3,485,9*成績表1!$B$4-9))","v":0},{"$f":"SUM(OFFSET(テストデータ!E3,485,0):OFFSET(テストデータ!G3,485,0))","v":0},{"$f":"SUM(OFFSET(テストデータ!E3,485,0):OFFSET(テストデータ!I3,485,0))","v":0},{"$f":"SUM(OFFSET(テストデータ!N3,485,0):OFFSET(テストデータ!P3,485,0))","v":0},{"$f":"SUM(OFFSET(テストデータ!N3,485,0):OFFSET(テストデータ!R3,485,0))","v":0},{"$f":"SUM(OFFSET(テストデータ!W3,485,0):OFFSET(テストデータ!Y3,485,0))","v":0},{"$f":"SUM(OFFSET(テストデータ!W3,485,0):OFFSET(テストデータ!AA3,485,0))","v":0},{"$f":"SUM(OFFSET(テストデータ!AF3,485,0):OFFSET(テストデータ!AH3,485,0))","v":0},{"$f":"SUM(OFFSET(テストデータ!AF3,485,0):OFFSET(テストデータ!AJ3,485,0))","v":0},{"$f":"SUM(OFFSET(テストデータ!AO3,485,0):OFFSET(テストデータ!AQ3,485,0))","v":0},{"$f":"SUM(OFFSET(テストデータ!AO3,485,0):OFFSET(テストデータ!AS3,485,0))","v":0},{"$f":"SUM(OFFSET(テストデータ!AX3,485,0):OFFSET(テストデータ!AZ3,485,0))","v":0},{"$f":"SUM(OFFSET(テストデータ!AX3,485,0):OFFSET(テストデータ!BB3,485,0))","v":0},{"$f":"SUM(OFFSET(テストデータ!BG3,485,0):OFFSET(テストデータ!BI3,485,0))","v":0},{"$f":"SUM(OFFSET(テストデータ!BG3,485,0):OFFSET(テストデータ!BK3,485,0))","v":0},{"$f":"SUM(OFFSET(テストデータ!BL3,485,0):OFFSET(テストデータ!BN3,485,0))","v":0},{"$f":"SUM(OFFSET(テストデータ!BL3,485,0):OFFSET(テストデータ!BP3,485,0))","v":0},{"$f":"SUM(OFFSET(テストデータ!BQ3,485,0):OFFSET(テストデータ!BS3,485,0))","v":0},{"$f":"SUM(OFFSET(テストデータ!BQ3,485,0):OFFSET(テストデータ!BU3,485,0))","v":0},{"$f":"SUM(OFFSET(テストデータ!BV3,485,0):OFFSET(テストデータ!BX3,485,0))","v":0},{"$f":"SUM(OFFSET(テストデータ!BV3,485,0):OFFSET(テストデータ!BZ3,485,0))","v":0},{"$f":"SUM(OFFSET(テストデータ!CA3,485,0):OFFSET(テストデータ!CC3,485,0))","v":0},{"$f":"SUM(OFFSET(テストデータ!CA3,485,0):OFFSET(テストデータ!CE3,485,0))","v":0},{"$f":"SUM(OFFSET(テストデータ!CF3,485,0):OFFSET(テストデータ!CH3,485,0))","v":0},{"$f":"SUM(OFFSET(テストデータ!CF3,485,0):OFFSET(テストデータ!CJ3,485,0))","v":0},{"$f":"SUM(OFFSET(テストデータ!CK3,485,0):OFFSET(テストデータ!CM3,485,0))","v":0},{"$f":"SUM(OFFSET(テストデータ!CK3,485,0):OFFSET(テストデータ!CO3,485,0))","v":0},{"$f":"SUM(OFFSET(テストデータ!CP3,485,0):OFFSET(テストデータ!CR3,485,0))","v":0},{"$f":"SUM(OFFSET(テストデータ!CP3,485,0):OFFSET(テストデータ!CT3,485,0))","v":0}]
[null,null,null,null,null,null,null,null,null,null,null,null,null,{"$f":"SUM(OFFSET(テストデータ!$E3,486,9*成績表1!$B$4-9):OFFSET(テストデータ!$G3,486,9*成績表1!$B$4-9))","v":0},{"$f":"SUM(OFFSET(テストデータ!$E3,486,9*成績表1!$B$4-9):OFFSET(テストデータ!I3,486,9*成績表1!$B$4-9))","v":0},{"$f":"SUM(OFFSET(テストデータ!E3,486,0):OFFSET(テストデータ!G3,486,0))","v":0},{"$f":"SUM(OFFSET(テストデータ!E3,486,0):OFFSET(テストデータ!I3,486,0))","v":0},{"$f":"SUM(OFFSET(テストデータ!N3,486,0):OFFSET(テストデータ!P3,486,0))","v":0},{"$f":"SUM(OFFSET(テストデータ!N3,486,0):OFFSET(テストデータ!R3,486,0))","v":0},{"$f":"SUM(OFFSET(テストデータ!W3,486,0):OFFSET(テストデータ!Y3,486,0))","v":0},{"$f":"SUM(OFFSET(テストデータ!W3,486,0):OFFSET(テストデータ!AA3,486,0))","v":0},{"$f":"SUM(OFFSET(テストデータ!AF3,486,0):OFFSET(テストデータ!AH3,486,0))","v":0},{"$f":"SUM(OFFSET(テストデータ!AF3,486,0):OFFSET(テストデータ!AJ3,486,0))","v":0},{"$f":"SUM(OFFSET(テストデータ!AO3,486,0):OFFSET(テストデータ!AQ3,486,0))","v":0},{"$f":"SUM(OFFSET(テストデータ!AO3,486,0):OFFSET(テストデータ!AS3,486,0))","v":0},{"$f":"SUM(OFFSET(テストデータ!AX3,486,0):OFFSET(テストデータ!AZ3,486,0))","v":0},{"$f":"SUM(OFFSET(テストデータ!AX3,486,0):OFFSET(テストデータ!BB3,486,0))","v":0},{"$f":"SUM(OFFSET(テストデータ!BG3,486,0):OFFSET(テストデータ!BI3,486,0))","v":0},{"$f":"SUM(OFFSET(テストデータ!BG3,486,0):OFFSET(テストデータ!BK3,486,0))","v":0},{"$f":"SUM(OFFSET(テストデータ!BL3,486,0):OFFSET(テストデータ!BN3,486,0))","v":0},{"$f":"SUM(OFFSET(テストデータ!BL3,486,0):OFFSET(テストデータ!BP3,486,0))","v":0},{"$f":"SUM(OFFSET(テストデータ!BQ3,486,0):OFFSET(テストデータ!BS3,486,0))","v":0},{"$f":"SUM(OFFSET(テストデータ!BQ3,486,0):OFFSET(テストデータ!BU3,486,0))","v":0},{"$f":"SUM(OFFSET(テストデータ!BV3,486,0):OFFSET(テストデータ!BX3,486,0))","v":0},{"$f":"SUM(OFFSET(テストデータ!BV3,486,0):OFFSET(テストデータ!BZ3,486,0))","v":0},{"$f":"SUM(OFFSET(テストデータ!CA3,486,0):OFFSET(テストデータ!CC3,486,0))","v":0},{"$f":"SUM(OFFSET(テストデータ!CA3,486,0):OFFSET(テストデータ!CE3,486,0))","v":0},{"$f":"SUM(OFFSET(テストデータ!CF3,486,0):OFFSET(テストデータ!CH3,486,0))","v":0},{"$f":"SUM(OFFSET(テストデータ!CF3,486,0):OFFSET(テストデータ!CJ3,486,0))","v":0},{"$f":"SUM(OFFSET(テストデータ!CK3,486,0):OFFSET(テストデータ!CM3,486,0))","v":0},{"$f":"SUM(OFFSET(テストデータ!CK3,486,0):OFFSET(テストデータ!CO3,486,0))","v":0},{"$f":"SUM(OFFSET(テストデータ!CP3,486,0):OFFSET(テストデータ!CR3,486,0))","v":0},{"$f":"SUM(OFFSET(テストデータ!CP3,486,0):OFFSET(テストデータ!CT3,486,0))","v":0}]
[null,null,null,null,null,null,null,null,null,null,null,null,null,{"$f":"SUM(OFFSET(テストデータ!$E3,487,9*成績表1!$B$4-9):OFFSET(テストデータ!$G3,487,9*成績表1!$B$4-9))","v":0},{"$f":"SUM(OFFSET(テストデータ!$E3,487,9*成績表1!$B$4-9):OFFSET(テストデータ!I3,487,9*成績表1!$B$4-9))","v":0},{"$f":"SUM(OFFSET(テストデータ!E3,487,0):OFFSET(テストデータ!G3,487,0))","v":0},{"$f":"SUM(OFFSET(テストデータ!E3,487,0):OFFSET(テストデータ!I3,487,0))","v":0},{"$f":"SUM(OFFSET(テストデータ!N3,487,0):OFFSET(テストデータ!P3,487,0))","v":0},{"$f":"SUM(OFFSET(テストデータ!N3,487,0):OFFSET(テストデータ!R3,487,0))","v":0},{"$f":"SUM(OFFSET(テストデータ!W3,487,0):OFFSET(テストデータ!Y3,487,0))","v":0},{"$f":"SUM(OFFSET(テストデータ!W3,487,0):OFFSET(テストデータ!AA3,487,0))","v":0},{"$f":"SUM(OFFSET(テストデータ!AF3,487,0):OFFSET(テストデータ!AH3,487,0))","v":0},{"$f":"SUM(OFFSET(テストデータ!AF3,487,0):OFFSET(テストデータ!AJ3,487,0))","v":0},{"$f":"SUM(OFFSET(テストデータ!AO3,487,0):OFFSET(テストデータ!AQ3,487,0))","v":0},{"$f":"SUM(OFFSET(テストデータ!AO3,487,0):OFFSET(テストデータ!AS3,487,0))","v":0},{"$f":"SUM(OFFSET(テストデータ!AX3,487,0):OFFSET(テストデータ!AZ3,487,0))","v":0},{"$f":"SUM(OFFSET(テストデータ!AX3,487,0):OFFSET(テストデータ!BB3,487,0))","v":0},{"$f":"SUM(OFFSET(テストデータ!BG3,487,0):OFFSET(テストデータ!BI3,487,0))","v":0},{"$f":"SUM(OFFSET(テストデータ!BG3,487,0):OFFSET(テストデータ!BK3,487,0))","v":0},{"$f":"SUM(OFFSET(テストデータ!BL3,487,0):OFFSET(テストデータ!BN3,487,0))","v":0},{"$f":"SUM(OFFSET(テストデータ!BL3,487,0):OFFSET(テストデータ!BP3,487,0))","v":0},{"$f":"SUM(OFFSET(テストデータ!BQ3,487,0):OFFSET(テストデータ!BS3,487,0))","v":0},{"$f":"SUM(OFFSET(テストデータ!BQ3,487,0):OFFSET(テストデータ!BU3,487,0))","v":0},{"$f":"SUM(OFFSET(テストデータ!BV3,487,0):OFFSET(テストデータ!BX3,487,0))","v":0},{"$f":"SUM(OFFSET(テストデータ!BV3,487,0):OFFSET(テストデータ!BZ3,487,0))","v":0},{"$f":"SUM(OFFSET(テストデータ!CA3,487,0):OFFSET(テストデータ!CC3,487,0))","v":0},{"$f":"SUM(OFFSET(テストデータ!CA3,487,0):OFFSET(テストデータ!CE3,487,0))","v":0},{"$f":"SUM(OFFSET(テストデータ!CF3,487,0):OFFSET(テストデータ!CH3,487,0))","v":0},{"$f":"SUM(OFFSET(テストデータ!CF3,487,0):OFFSET(テストデータ!CJ3,487,0))","v":0},{"$f":"SUM(OFFSET(テストデータ!CK3,487,0):OFFSET(テストデータ!CM3,487,0))","v":0},{"$f":"SUM(OFFSET(テストデータ!CK3,487,0):OFFSET(テストデータ!CO3,487,0))","v":0},{"$f":"SUM(OFFSET(テストデータ!CP3,487,0):OFFSET(テストデータ!CR3,487,0))","v":0},{"$f":"SUM(OFFSET(テストデータ!CP3,487,0):OFFSET(テストデータ!CT3,487,0))","v":0}]
[null,null,null,null,null,null,null,null,null,null,null,null,null,{"$f":"SUM(OFFSET(テストデータ!$E3,488,9*成績表1!$B$4-9):OFFSET(テストデータ!$G3,488,9*成績表1!$B$4-9))","v":0},{"$f":"SUM(OFFSET(テストデータ!$E3,488,9*成績表1!$B$4-9):OFFSET(テストデータ!I3,488,9*成績表1!$B$4-9))","v":0},{"$f":"SUM(OFFSET(テストデータ!E3,488,0):OFFSET(テストデータ!G3,488,0))","v":0},{"$f":"SUM(OFFSET(テストデータ!E3,488,0):OFFSET(テストデータ!I3,488,0))","v":0},{"$f":"SUM(OFFSET(テストデータ!N3,488,0):OFFSET(テストデータ!P3,488,0))","v":0},{"$f":"SUM(OFFSET(テストデータ!N3,488,0):OFFSET(テストデータ!R3,488,0))","v":0},{"$f":"SUM(OFFSET(テストデータ!W3,488,0):OFFSET(テストデータ!Y3,488,0))","v":0},{"$f":"SUM(OFFSET(テストデータ!W3,488,0):OFFSET(テストデータ!AA3,488,0))","v":0},{"$f":"SUM(OFFSET(テストデータ!AF3,488,0):OFFSET(テストデータ!AH3,488,0))","v":0},{"$f":"SUM(OFFSET(テストデータ!AF3,488,0):OFFSET(テストデータ!AJ3,488,0))","v":0},{"$f":"SUM(OFFSET(テストデータ!AO3,488,0):OFFSET(テストデータ!AQ3,488,0))","v":0},{"$f":"SUM(OFFSET(テストデータ!AO3,488,0):OFFSET(テストデータ!AS3,488,0))","v":0},{"$f":"SUM(OFFSET(テストデータ!AX3,488,0):OFFSET(テストデータ!AZ3,488,0))","v":0},{"$f":"SUM(OFFSET(テストデータ!AX3,488,0):OFFSET(テストデータ!BB3,488,0))","v":0},{"$f":"SUM(OFFSET(テストデータ!BG3,488,0):OFFSET(テストデータ!BI3,488,0))","v":0},{"$f":"SUM(OFFSET(テストデータ!BG3,488,0):OFFSET(テストデータ!BK3,488,0))","v":0},{"$f":"SUM(OFFSET(テストデータ!BL3,488,0):OFFSET(テストデータ!BN3,488,0))","v":0},{"$f":"SUM(OFFSET(テストデータ!BL3,488,0):OFFSET(テストデータ!BP3,488,0))","v":0},{"$f":"SUM(OFFSET(テストデータ!BQ3,488,0):OFFSET(テストデータ!BS3,488,0))","v":0},{"$f":"SUM(OFFSET(テストデータ!BQ3,488,0):OFFSET(テストデータ!BU3,488,0))","v":0},{"$f":"SUM(OFFSET(テストデータ!BV3,488,0):OFFSET(テストデータ!BX3,488,0))","v":0},{"$f":"SUM(OFFSET(テストデータ!BV3,488,0):OFFSET(テストデータ!BZ3,488,0))","v":0},{"$f":"SUM(OFFSET(テストデータ!CA3,488,0):OFFSET(テストデータ!CC3,488,0))","v":0},{"$f":"SUM(OFFSET(テストデータ!CA3,488,0):OFFSET(テストデータ!CE3,488,0))","v":0},{"$f":"SUM(OFFSET(テストデータ!CF3,488,0):OFFSET(テストデータ!CH3,488,0))","v":0},{"$f":"SUM(OFFSET(テストデータ!CF3,488,0):OFFSET(テストデータ!CJ3,488,0))","v":0},{"$f":"SUM(OFFSET(テストデータ!CK3,488,0):OFFSET(テストデータ!CM3,488,0))","v":0},{"$f":"SUM(OFFSET(テストデータ!CK3,488,0):OFFSET(テストデータ!CO3,488,0))","v":0},{"$f":"SUM(OFFSET(テストデータ!CP3,488,0):OFFSET(テストデータ!CR3,488,0))","v":0},{"$f":"SUM(OFFSET(テストデータ!CP3,488,0):OFFSET(テストデータ!CT3,488,0))","v":0}]
[null,null,null,null,null,null,null,null,null,null,null,null,null,{"$f":"SUM(OFFSET(テストデータ!$E3,489,9*成績表1!$B$4-9):OFFSET(テストデータ!$G3,489,9*成績表1!$B$4-9))","v":0},{"$f":"SUM(OFFSET(テストデータ!$E3,489,9*成績表1!$B$4-9):OFFSET(テストデータ!I3,489,9*成績表1!$B$4-9))","v":0},{"$f":"SUM(OFFSET(テストデータ!E3,489,0):OFFSET(テストデータ!G3,489,0))","v":0},{"$f":"SUM(OFFSET(テストデータ!E3,489,0):OFFSET(テストデータ!I3,489,0))","v":0},{"$f":"SUM(OFFSET(テストデータ!N3,489,0):OFFSET(テストデータ!P3,489,0))","v":0},{"$f":"SUM(OFFSET(テストデータ!N3,489,0):OFFSET(テストデータ!R3,489,0))","v":0},{"$f":"SUM(OFFSET(テストデータ!W3,489,0):OFFSET(テストデータ!Y3,489,0))","v":0},{"$f":"SUM(OFFSET(テストデータ!W3,489,0):OFFSET(テストデータ!AA3,489,0))","v":0},{"$f":"SUM(OFFSET(テストデータ!AF3,489,0):OFFSET(テストデータ!AH3,489,0))","v":0},{"$f":"SUM(OFFSET(テストデータ!AF3,489,0):OFFSET(テストデータ!AJ3,489,0))","v":0},{"$f":"SUM(OFFSET(テストデータ!AO3,489,0):OFFSET(テストデータ!AQ3,489,0))","v":0},{"$f":"SUM(OFFSET(テストデータ!AO3,489,0):OFFSET(テストデータ!AS3,489,0))","v":0},{"$f":"SUM(OFFSET(テストデータ!AX3,489,0):OFFSET(テストデータ!AZ3,489,0))","v":0},{"$f":"SUM(OFFSET(テストデータ!AX3,489,0):OFFSET(テストデータ!BB3,489,0))","v":0},{"$f":"SUM(OFFSET(テストデータ!BG3,489,0):OFFSET(テストデータ!BI3,489,0))","v":0},{"$f":"SUM(OFFSET(テストデータ!BG3,489,0):OFFSET(テストデータ!BK3,489,0))","v":0},{"$f":"SUM(OFFSET(テストデータ!BL3,489,0):OFFSET(テストデータ!BN3,489,0))","v":0},{"$f":"SUM(OFFSET(テストデータ!BL3,489,0):OFFSET(テストデータ!BP3,489,0))","v":0},{"$f":"SUM(OFFSET(テストデータ!BQ3,489,0):OFFSET(テストデータ!BS3,489,0))","v":0},{"$f":"SUM(OFFSET(テストデータ!BQ3,489,0):OFFSET(テストデータ!BU3,489,0))","v":0},{"$f":"SUM(OFFSET(テストデータ!BV3,489,0):OFFSET(テストデータ!BX3,489,0))","v":0},{"$f":"SUM(OFFSET(テストデータ!BV3,489,0):OFFSET(テストデータ!BZ3,489,0))","v":0},{"$f":"SUM(OFFSET(テストデータ!CA3,489,0):OFFSET(テストデータ!CC3,489,0))","v":0},{"$f":"SUM(OFFSET(テストデータ!CA3,489,0):OFFSET(テストデータ!CE3,489,0))","v":0},{"$f":"SUM(OFFSET(テストデータ!CF3,489,0):OFFSET(テストデータ!CH3,489,0))","v":0},{"$f":"SUM(OFFSET(テストデータ!CF3,489,0):OFFSET(テストデータ!CJ3,489,0))","v":0},{"$f":"SUM(OFFSET(テストデータ!CK3,489,0):OFFSET(テストデータ!CM3,489,0))","v":0},{"$f":"SUM(OFFSET(テストデータ!CK3,489,0):OFFSET(テストデータ!CO3,489,0))","v":0},{"$f":"SUM(OFFSET(テストデータ!CP3,489,0):OFFSET(テストデータ!CR3,489,0))","v":0},{"$f":"SUM(OFFSET(テストデータ!CP3,489,0):OFFSET(テストデータ!CT3,489,0))","v":0}]
[null,null,null,null,null,null,null,null,null,null,null,null,null,{"$f":"SUM(OFFSET(テストデータ!$E3,490,9*成績表1!$B$4-9):OFFSET(テストデータ!$G3,490,9*成績表1!$B$4-9))","v":0},{"$f":"SUM(OFFSET(テストデータ!$E3,490,9*成績表1!$B$4-9):OFFSET(テストデータ!I3,490,9*成績表1!$B$4-9))","v":0},{"$f":"SUM(OFFSET(テストデータ!E3,490,0):OFFSET(テストデータ!G3,490,0))","v":0},{"$f":"SUM(OFFSET(テストデータ!E3,490,0):OFFSET(テストデータ!I3,490,0))","v":0},{"$f":"SUM(OFFSET(テストデータ!N3,490,0):OFFSET(テストデータ!P3,490,0))","v":0},{"$f":"SUM(OFFSET(テストデータ!N3,490,0):OFFSET(テストデータ!R3,490,0))","v":0},{"$f":"SUM(OFFSET(テストデータ!W3,490,0):OFFSET(テストデータ!Y3,490,0))","v":0},{"$f":"SUM(OFFSET(テストデータ!W3,490,0):OFFSET(テストデータ!AA3,490,0))","v":0},{"$f":"SUM(OFFSET(テストデータ!AF3,490,0):OFFSET(テストデータ!AH3,490,0))","v":0},{"$f":"SUM(OFFSET(テストデータ!AF3,490,0):OFFSET(テストデータ!AJ3,490,0))","v":0},{"$f":"SUM(OFFSET(テストデータ!AO3,490,0):OFFSET(テストデータ!AQ3,490,0))","v":0},{"$f":"SUM(OFFSET(テストデータ!AO3,490,0):OFFSET(テストデータ!AS3,490,0))","v":0},{"$f":"SUM(OFFSET(テストデータ!AX3,490,0):OFFSET(テストデータ!AZ3,490,0))","v":0},{"$f":"SUM(OFFSET(テストデータ!AX3,490,0):OFFSET(テストデータ!BB3,490,0))","v":0},{"$f":"SUM(OFFSET(テストデータ!BG3,490,0):OFFSET(テストデータ!BI3,490,0))","v":0},{"$f":"SUM(OFFSET(テストデータ!BG3,490,0):OFFSET(テストデータ!BK3,490,0))","v":0},{"$f":"SUM(OFFSET(テストデータ!BL3,490,0):OFFSET(テストデータ!BN3,490,0))","v":0},{"$f":"SUM(OFFSET(テストデータ!BL3,490,0):OFFSET(テストデータ!BP3,490,0))","v":0},{"$f":"SUM(OFFSET(テストデータ!BQ3,490,0):OFFSET(テストデータ!BS3,490,0))","v":0},{"$f":"SUM(OFFSET(テストデータ!BQ3,490,0):OFFSET(テストデータ!BU3,490,0))","v":0},{"$f":"SUM(OFFSET(テストデータ!BV3,490,0):OFFSET(テストデータ!BX3,490,0))","v":0},{"$f":"SUM(OFFSET(テストデータ!BV3,490,0):OFFSET(テストデータ!BZ3,490,0))","v":0},{"$f":"SUM(OFFSET(テストデータ!CA3,490,0):OFFSET(テストデータ!CC3,490,0))","v":0},{"$f":"SUM(OFFSET(テストデータ!CA3,490,0):OFFSET(テストデータ!CE3,490,0))","v":0},{"$f":"SUM(OFFSET(テストデータ!CF3,490,0):OFFSET(テストデータ!CH3,490,0))","v":0},{"$f":"SUM(OFFSET(テストデータ!CF3,490,0):OFFSET(テストデータ!CJ3,490,0))","v":0},{"$f":"SUM(OFFSET(テストデータ!CK3,490,0):OFFSET(テストデータ!CM3,490,0))","v":0},{"$f":"SUM(OFFSET(テストデータ!CK3,490,0):OFFSET(テストデータ!CO3,490,0))","v":0},{"$f":"SUM(OFFSET(テストデータ!CP3,490,0):OFFSET(テストデータ!CR3,490,0))","v":0},{"$f":"SUM(OFFSET(テストデータ!CP3,490,0):OFFSET(テストデータ!CT3,490,0))","v":0}]
[null,null,null,null,null,null,null,null,null,null,null,null,null,{"$f":"SUM(OFFSET(テストデータ!$E3,491,9*成績表1!$B$4-9):OFFSET(テストデータ!$G3,491,9*成績表1!$B$4-9))","v":0},{"$f":"SUM(OFFSET(テストデータ!$E3,491,9*成績表1!$B$4-9):OFFSET(テストデータ!I3,491,9*成績表1!$B$4-9))","v":0},{"$f":"SUM(OFFSET(テストデータ!E3,491,0):OFFSET(テストデータ!G3,491,0))","v":0},{"$f":"SUM(OFFSET(テストデータ!E3,491,0):OFFSET(テストデータ!I3,491,0))","v":0},{"$f":"SUM(OFFSET(テストデータ!N3,491,0):OFFSET(テストデータ!P3,491,0))","v":0},{"$f":"SUM(OFFSET(テストデータ!N3,491,0):OFFSET(テストデータ!R3,491,0))","v":0},{"$f":"SUM(OFFSET(テストデータ!W3,491,0):OFFSET(テストデータ!Y3,491,0))","v":0},{"$f":"SUM(OFFSET(テストデータ!W3,491,0):OFFSET(テストデータ!AA3,491,0))","v":0},{"$f":"SUM(OFFSET(テストデータ!AF3,491,0):OFFSET(テストデータ!AH3,491,0))","v":0},{"$f":"SUM(OFFSET(テストデータ!AF3,491,0):OFFSET(テストデータ!AJ3,491,0))","v":0},{"$f":"SUM(OFFSET(テストデータ!AO3,491,0):OFFSET(テストデータ!AQ3,491,0))","v":0},{"$f":"SUM(OFFSET(テストデータ!AO3,491,0):OFFSET(テストデータ!AS3,491,0))","v":0},{"$f":"SUM(OFFSET(テストデータ!AX3,491,0):OFFSET(テストデータ!AZ3,491,0))","v":0},{"$f":"SUM(OFFSET(テストデータ!AX3,491,0):OFFSET(テストデータ!BB3,491,0))","v":0},{"$f":"SUM(OFFSET(テストデータ!BG3,491,0):OFFSET(テストデータ!BI3,491,0))","v":0},{"$f":"SUM(OFFSET(テストデータ!BG3,491,0):OFFSET(テストデータ!BK3,491,0))","v":0},{"$f":"SUM(OFFSET(テストデータ!BL3,491,0):OFFSET(テストデータ!BN3,491,0))","v":0},{"$f":"SUM(OFFSET(テストデータ!BL3,491,0):OFFSET(テストデータ!BP3,491,0))","v":0},{"$f":"SUM(OFFSET(テストデータ!BQ3,491,0):OFFSET(テストデータ!BS3,491,0))","v":0},{"$f":"SUM(OFFSET(テストデータ!BQ3,491,0):OFFSET(テストデータ!BU3,491,0))","v":0},{"$f":"SUM(OFFSET(テストデータ!BV3,491,0):OFFSET(テストデータ!BX3,491,0))","v":0},{"$f":"SUM(OFFSET(テストデータ!BV3,491,0):OFFSET(テストデータ!BZ3,491,0))","v":0},{"$f":"SUM(OFFSET(テストデータ!CA3,491,0):OFFSET(テストデータ!CC3,491,0))","v":0},{"$f":"SUM(OFFSET(テストデータ!CA3,491,0):OFFSET(テストデータ!CE3,491,0))","v":0},{"$f":"SUM(OFFSET(テストデータ!CF3,491,0):OFFSET(テストデータ!CH3,491,0))","v":0},{"$f":"SUM(OFFSET(テストデータ!CF3,491,0):OFFSET(テストデータ!CJ3,491,0))","v":0},{"$f":"SUM(OFFSET(テストデータ!CK3,491,0):OFFSET(テストデータ!CM3,491,0))","v":0},{"$f":"SUM(OFFSET(テストデータ!CK3,491,0):OFFSET(テストデータ!CO3,491,0))","v":0},{"$f":"SUM(OFFSET(テストデータ!CP3,491,0):OFFSET(テストデータ!CR3,491,0))","v":0},{"$f":"SUM(OFFSET(テストデータ!CP3,491,0):OFFSET(テストデータ!CT3,491,0))","v":0}]
[null,null,null,null,null,null,null,null,null,null,null,null,null,{"$f":"SUM(OFFSET(テストデータ!$E3,492,9*成績表1!$B$4-9):OFFSET(テストデータ!$G3,492,9*成績表1!$B$4-9))","v":0},{"$f":"SUM(OFFSET(テストデータ!$E3,492,9*成績表1!$B$4-9):OFFSET(テストデータ!I3,492,9*成績表1!$B$4-9))","v":0},{"$f":"SUM(OFFSET(テストデータ!E3,492,0):OFFSET(テストデータ!G3,492,0))","v":0},{"$f":"SUM(OFFSET(テストデータ!E3,492,0):OFFSET(テストデータ!I3,492,0))","v":0},{"$f":"SUM(OFFSET(テストデータ!N3,492,0):OFFSET(テストデータ!P3,492,0))","v":0},{"$f":"SUM(OFFSET(テストデータ!N3,492,0):OFFSET(テストデータ!R3,492,0))","v":0},{"$f":"SUM(OFFSET(テストデータ!W3,492,0):OFFSET(テストデータ!Y3,492,0))","v":0},{"$f":"SUM(OFFSET(テストデータ!W3,492,0):OFFSET(テストデータ!AA3,492,0))","v":0},{"$f":"SUM(OFFSET(テストデータ!AF3,492,0):OFFSET(テストデータ!AH3,492,0))","v":0},{"$f":"SUM(OFFSET(テストデータ!AF3,492,0):OFFSET(テストデータ!AJ3,492,0))","v":0},{"$f":"SUM(OFFSET(テストデータ!AO3,492,0):OFFSET(テストデータ!AQ3,492,0))","v":0},{"$f":"SUM(OFFSET(テストデータ!AO3,492,0):OFFSET(テストデータ!AS3,492,0))","v":0},{"$f":"SUM(OFFSET(テストデータ!AX3,492,0):OFFSET(テストデータ!AZ3,492,0))","v":0},{"$f":"SUM(OFFSET(テストデータ!AX3,492,0):OFFSET(テストデータ!BB3,492,0))","v":0},{"$f":"SUM(OFFSET(テストデータ!BG3,492,0):OFFSET(テストデータ!BI3,492,0))","v":0},{"$f":"SUM(OFFSET(テストデータ!BG3,492,0):OFFSET(テストデータ!BK3,492,0))","v":0},{"$f":"SUM(OFFSET(テストデータ!BL3,492,0):OFFSET(テストデータ!BN3,492,0))","v":0},{"$f":"SUM(OFFSET(テストデータ!BL3,492,0):OFFSET(テストデータ!BP3,492,0))","v":0},{"$f":"SUM(OFFSET(テストデータ!BQ3,492,0):OFFSET(テストデータ!BS3,492,0))","v":0},{"$f":"SUM(OFFSET(テストデータ!BQ3,492,0):OFFSET(テストデータ!BU3,492,0))","v":0},{"$f":"SUM(OFFSET(テストデータ!BV3,492,0):OFFSET(テストデータ!BX3,492,0))","v":0},{"$f":"SUM(OFFSET(テストデータ!BV3,492,0):OFFSET(テストデータ!BZ3,492,0))","v":0},{"$f":"SUM(OFFSET(テストデータ!CA3,492,0):OFFSET(テストデータ!CC3,492,0))","v":0},{"$f":"SUM(OFFSET(テストデータ!CA3,492,0):OFFSET(テストデータ!CE3,492,0))","v":0},{"$f":"SUM(OFFSET(テストデータ!CF3,492,0):OFFSET(テストデータ!CH3,492,0))","v":0},{"$f":"SUM(OFFSET(テストデータ!CF3,492,0):OFFSET(テストデータ!CJ3,492,0))","v":0},{"$f":"SUM(OFFSET(テストデータ!CK3,492,0):OFFSET(テストデータ!CM3,492,0))","v":0},{"$f":"SUM(OFFSET(テストデータ!CK3,492,0):OFFSET(テストデータ!CO3,492,0))","v":0},{"$f":"SUM(OFFSET(テストデータ!CP3,492,0):OFFSET(テストデータ!CR3,492,0))","v":0},{"$f":"SUM(OFFSET(テストデータ!CP3,492,0):OFFSET(テストデータ!CT3,492,0))","v":0}]
[null,null,null,null,null,null,null,null,null,null,null,null,null,{"$f":"SUM(OFFSET(テストデータ!$E3,493,9*成績表1!$B$4-9):OFFSET(テストデータ!$G3,493,9*成績表1!$B$4-9))","v":0},{"$f":"SUM(OFFSET(テストデータ!$E3,493,9*成績表1!$B$4-9):OFFSET(テストデータ!I3,493,9*成績表1!$B$4-9))","v":0},{"$f":"SUM(OFFSET(テストデータ!E3,493,0):OFFSET(テストデータ!G3,493,0))","v":0},{"$f":"SUM(OFFSET(テストデータ!E3,493,0):OFFSET(テストデータ!I3,493,0))","v":0},{"$f":"SUM(OFFSET(テストデータ!N3,493,0):OFFSET(テストデータ!P3,493,0))","v":0},{"$f":"SUM(OFFSET(テストデータ!N3,493,0):OFFSET(テストデータ!R3,493,0))","v":0},{"$f":"SUM(OFFSET(テストデータ!W3,493,0):OFFSET(テストデータ!Y3,493,0))","v":0},{"$f":"SUM(OFFSET(テストデータ!W3,493,0):OFFSET(テストデータ!AA3,493,0))","v":0},{"$f":"SUM(OFFSET(テストデータ!AF3,493,0):OFFSET(テストデータ!AH3,493,0))","v":0},{"$f":"SUM(OFFSET(テストデータ!AF3,493,0):OFFSET(テストデータ!AJ3,493,0))","v":0},{"$f":"SUM(OFFSET(テストデータ!AO3,493,0):OFFSET(テストデータ!AQ3,493,0))","v":0},{"$f":"SUM(OFFSET(テストデータ!AO3,493,0):OFFSET(テストデータ!AS3,493,0))","v":0},{"$f":"SUM(OFFSET(テストデータ!AX3,493,0):OFFSET(テストデータ!AZ3,493,0))","v":0},{"$f":"SUM(OFFSET(テストデータ!AX3,493,0):OFFSET(テストデータ!BB3,493,0))","v":0},{"$f":"SUM(OFFSET(テストデータ!BG3,493,0):OFFSET(テストデータ!BI3,493,0))","v":0},{"$f":"SUM(OFFSET(テストデータ!BG3,493,0):OFFSET(テストデータ!BK3,493,0))","v":0},{"$f":"SUM(OFFSET(テストデータ!BL3,493,0):OFFSET(テストデータ!BN3,493,0))","v":0},{"$f":"SUM(OFFSET(テストデータ!BL3,493,0):OFFSET(テストデータ!BP3,493,0))","v":0},{"$f":"SUM(OFFSET(テストデータ!BQ3,493,0):OFFSET(テストデータ!BS3,493,0))","v":0},{"$f":"SUM(OFFSET(テストデータ!BQ3,493,0):OFFSET(テストデータ!BU3,493,0))","v":0},{"$f":"SUM(OFFSET(テストデータ!BV3,493,0):OFFSET(テストデータ!BX3,493,0))","v":0},{"$f":"SUM(OFFSET(テストデータ!BV3,493,0):OFFSET(テストデータ!BZ3,493,0))","v":0},{"$f":"SUM(OFFSET(テストデータ!CA3,493,0):OFFSET(テストデータ!CC3,493,0))","v":0},{"$f":"SUM(OFFSET(テストデータ!CA3,493,0):OFFSET(テストデータ!CE3,493,0))","v":0},{"$f":"SUM(OFFSET(テストデータ!CF3,493,0):OFFSET(テストデータ!CH3,493,0))","v":0},{"$f":"SUM(OFFSET(テストデータ!CF3,493,0):OFFSET(テストデータ!CJ3,493,0))","v":0},{"$f":"SUM(OFFSET(テストデータ!CK3,493,0):OFFSET(テストデータ!CM3,493,0))","v":0},{"$f":"SUM(OFFSET(テストデータ!CK3,493,0):OFFSET(テストデータ!CO3,493,0))","v":0},{"$f":"SUM(OFFSET(テストデータ!CP3,493,0):OFFSET(テストデータ!CR3,493,0))","v":0},{"$f":"SUM(OFFSET(テストデータ!CP3,493,0):OFFSET(テストデータ!CT3,493,0))","v":0}]
[null,null,null,null,null,null,null,null,null,null,null,null,null,{"$f":"SUM(OFFSET(テストデータ!$E3,494,9*成績表1!$B$4-9):OFFSET(テストデータ!$G3,494,9*成績表1!$B$4-9))","v":0},{"$f":"SUM(OFFSET(テストデータ!$E3,494,9*成績表1!$B$4-9):OFFSET(テストデータ!I3,494,9*成績表1!$B$4-9))","v":0},{"$f":"SUM(OFFSET(テストデータ!E3,494,0):OFFSET(テストデータ!G3,494,0))","v":0},{"$f":"SUM(OFFSET(テストデータ!E3,494,0):OFFSET(テストデータ!I3,494,0))","v":0},{"$f":"SUM(OFFSET(テストデータ!N3,494,0):OFFSET(テストデータ!P3,494,0))","v":0},{"$f":"SUM(OFFSET(テストデータ!N3,494,0):OFFSET(テストデータ!R3,494,0))","v":0},{"$f":"SUM(OFFSET(テストデータ!W3,494,0):OFFSET(テストデータ!Y3,494,0))","v":0},{"$f":"SUM(OFFSET(テストデータ!W3,494,0):OFFSET(テストデータ!AA3,494,0))","v":0},{"$f":"SUM(OFFSET(テストデータ!AF3,494,0):OFFSET(テストデータ!AH3,494,0))","v":0},{"$f":"SUM(OFFSET(テストデータ!AF3,494,0):OFFSET(テストデータ!AJ3,494,0))","v":0},{"$f":"SUM(OFFSET(テストデータ!AO3,494,0):OFFSET(テストデータ!AQ3,494,0))","v":0},{"$f":"SUM(OFFSET(テストデータ!AO3,494,0):OFFSET(テストデータ!AS3,494,0))","v":0},{"$f":"SUM(OFFSET(テストデータ!AX3,494,0):OFFSET(テストデータ!AZ3,494,0))","v":0},{"$f":"SUM(OFFSET(テストデータ!AX3,494,0):OFFSET(テストデータ!BB3,494,0))","v":0},{"$f":"SUM(OFFSET(テストデータ!BG3,494,0):OFFSET(テストデータ!BI3,494,0))","v":0},{"$f":"SUM(OFFSET(テストデータ!BG3,494,0):OFFSET(テストデータ!BK3,494,0))","v":0},{"$f":"SUM(OFFSET(テストデータ!BL3,494,0):OFFSET(テストデータ!BN3,494,0))","v":0},{"$f":"SUM(OFFSET(テストデータ!BL3,494,0):OFFSET(テストデータ!BP3,494,0))","v":0},{"$f":"SUM(OFFSET(テストデータ!BQ3,494,0):OFFSET(テストデータ!BS3,494,0))","v":0},{"$f":"SUM(OFFSET(テストデータ!BQ3,494,0):OFFSET(テストデータ!BU3,494,0))","v":0},{"$f":"SUM(OFFSET(テストデータ!BV3,494,0):OFFSET(テストデータ!BX3,494,0))","v":0},{"$f":"SUM(OFFSET(テストデータ!BV3,494,0):OFFSET(テストデータ!BZ3,494,0))","v":0},{"$f":"SUM(OFFSET(テストデータ!CA3,494,0):OFFSET(テストデータ!CC3,494,0))","v":0},{"$f":"SUM(OFFSET(テストデータ!CA3,494,0):OFFSET(テストデータ!CE3,494,0))","v":0},{"$f":"SUM(OFFSET(テストデータ!CF3,494,0):OFFSET(テストデータ!CH3,494,0))","v":0},{"$f":"SUM(OFFSET(テストデータ!CF3,494,0):OFFSET(テストデータ!CJ3,494,0))","v":0},{"$f":"SUM(OFFSET(テストデータ!CK3,494,0):OFFSET(テストデータ!CM3,494,0))","v":0},{"$f":"SUM(OFFSET(テストデータ!CK3,494,0):OFFSET(テストデータ!CO3,494,0))","v":0},{"$f":"SUM(OFFSET(テストデータ!CP3,494,0):OFFSET(テストデータ!CR3,494,0))","v":0},{"$f":"SUM(OFFSET(テストデータ!CP3,494,0):OFFSET(テストデータ!CT3,494,0))","v":0}]
[null,null,null,null,null,null,null,null,null,null,null,null,null,{"$f":"SUM(OFFSET(テストデータ!$E3,495,9*成績表1!$B$4-9):OFFSET(テストデータ!$G3,495,9*成績表1!$B$4-9))","v":0},{"$f":"SUM(OFFSET(テストデータ!$E3,495,9*成績表1!$B$4-9):OFFSET(テストデータ!I3,495,9*成績表1!$B$4-9))","v":0},{"$f":"SUM(OFFSET(テストデータ!E3,495,0):OFFSET(テストデータ!G3,495,0))","v":0},{"$f":"SUM(OFFSET(テストデータ!E3,495,0):OFFSET(テストデータ!I3,495,0))","v":0},{"$f":"SUM(OFFSET(テストデータ!N3,495,0):OFFSET(テストデータ!P3,495,0))","v":0},{"$f":"SUM(OFFSET(テストデータ!N3,495,0):OFFSET(テストデータ!R3,495,0))","v":0},{"$f":"SUM(OFFSET(テストデータ!W3,495,0):OFFSET(テストデータ!Y3,495,0))","v":0},{"$f":"SUM(OFFSET(テストデータ!W3,495,0):OFFSET(テストデータ!AA3,495,0))","v":0},{"$f":"SUM(OFFSET(テストデータ!AF3,495,0):OFFSET(テストデータ!AH3,495,0))","v":0},{"$f":"SUM(OFFSET(テストデータ!AF3,495,0):OFFSET(テストデータ!AJ3,495,0))","v":0},{"$f":"SUM(OFFSET(テストデータ!AO3,495,0):OFFSET(テストデータ!AQ3,495,0))","v":0},{"$f":"SUM(OFFSET(テストデータ!AO3,495,0):OFFSET(テストデータ!AS3,495,0))","v":0},{"$f":"SUM(OFFSET(テストデータ!AX3,495,0):OFFSET(テストデータ!AZ3,495,0))","v":0},{"$f":"SUM(OFFSET(テストデータ!AX3,495,0):OFFSET(テストデータ!BB3,495,0))","v":0},{"$f":"SUM(OFFSET(テストデータ!BG3,495,0):OFFSET(テストデータ!BI3,495,0))","v":0},{"$f":"SUM(OFFSET(テストデータ!BG3,495,0):OFFSET(テストデータ!BK3,495,0))","v":0},{"$f":"SUM(OFFSET(テストデータ!BL3,495,0):OFFSET(テストデータ!BN3,495,0))","v":0},{"$f":"SUM(OFFSET(テストデータ!BL3,495,0):OFFSET(テストデータ!BP3,495,0))","v":0},{"$f":"SUM(OFFSET(テストデータ!BQ3,495,0):OFFSET(テストデータ!BS3,495,0))","v":0},{"$f":"SUM(OFFSET(テストデータ!BQ3,495,0):OFFSET(テストデータ!BU3,495,0))","v":0},{"$f":"SUM(OFFSET(テストデータ!BV3,495,0):OFFSET(テストデータ!BX3,495,0))","v":0},{"$f":"SUM(OFFSET(テストデータ!BV3,495,0):OFFSET(テストデータ!BZ3,495,0))","v":0},{"$f":"SUM(OFFSET(テストデータ!CA3,495,0):OFFSET(テストデータ!CC3,495,0))","v":0},{"$f":"SUM(OFFSET(テストデータ!CA3,495,0):OFFSET(テストデータ!CE3,495,0))","v":0},{"$f":"SUM(OFFSET(テストデータ!CF3,495,0):OFFSET(テストデータ!CH3,495,0))","v":0},{"$f":"SUM(OFFSET(テストデータ!CF3,495,0):OFFSET(テストデータ!CJ3,495,0))","v":0},{"$f":"SUM(OFFSET(テストデータ!CK3,495,0):OFFSET(テストデータ!CM3,495,0))","v":0},{"$f":"SUM(OFFSET(テストデータ!CK3,495,0):OFFSET(テストデータ!CO3,495,0))","v":0},{"$f":"SUM(OFFSET(テストデータ!CP3,495,0):OFFSET(テストデータ!CR3,495,0))","v":0},{"$f":"SUM(OFFSET(テストデータ!CP3,495,0):OFFSET(テストデータ!CT3,495,0))","v":0}]
[null,null,null,null,null,null,null,null,null,null,null,null,null,{"$f":"SUM(OFFSET(テストデータ!$E3,496,9*成績表1!$B$4-9):OFFSET(テストデータ!$G3,496,9*成績表1!$B$4-9))","v":0},{"$f":"SUM(OFFSET(テストデータ!$E3,496,9*成績表1!$B$4-9):OFFSET(テストデータ!I3,496,9*成績表1!$B$4-9))","v":0},{"$f":"SUM(OFFSET(テストデータ!E3,496,0):OFFSET(テストデータ!G3,496,0))","v":0},{"$f":"SUM(OFFSET(テストデータ!E3,496,0):OFFSET(テストデータ!I3,496,0))","v":0},{"$f":"SUM(OFFSET(テストデータ!N3,496,0):OFFSET(テストデータ!P3,496,0))","v":0},{"$f":"SUM(OFFSET(テストデータ!N3,496,0):OFFSET(テストデータ!R3,496,0))","v":0},{"$f":"SUM(OFFSET(テストデータ!W3,496,0):OFFSET(テストデータ!Y3,496,0))","v":0},{"$f":"SUM(OFFSET(テストデータ!W3,496,0):OFFSET(テストデータ!AA3,496,0))","v":0},{"$f":"SUM(OFFSET(テストデータ!AF3,496,0):OFFSET(テストデータ!AH3,496,0))","v":0},{"$f":"SUM(OFFSET(テストデータ!AF3,496,0):OFFSET(テストデータ!AJ3,496,0))","v":0},{"$f":"SUM(OFFSET(テストデータ!AO3,496,0):OFFSET(テストデータ!AQ3,496,0))","v":0},{"$f":"SUM(OFFSET(テストデータ!AO3,496,0):OFFSET(テストデータ!AS3,496,0))","v":0},{"$f":"SUM(OFFSET(テストデータ!AX3,496,0):OFFSET(テストデータ!AZ3,496,0))","v":0},{"$f":"SUM(OFFSET(テストデータ!AX3,496,0):OFFSET(テストデータ!BB3,496,0))","v":0},{"$f":"SUM(OFFSET(テストデータ!BG3,496,0):OFFSET(テストデータ!BI3,496,0))","v":0},{"$f":"SUM(OFFSET(テストデータ!BG3,496,0):OFFSET(テストデータ!BK3,496,0))","v":0},{"$f":"SUM(OFFSET(テストデータ!BL3,496,0):OFFSET(テストデータ!BN3,496,0))","v":0},{"$f":"SUM(OFFSET(テストデータ!BL3,496,0):OFFSET(テストデータ!BP3,496,0))","v":0},{"$f":"SUM(OFFSET(テストデータ!BQ3,496,0):OFFSET(テストデータ!BS3,496,0))","v":0},{"$f":"SUM(OFFSET(テストデータ!BQ3,496,0):OFFSET(テストデータ!BU3,496,0))","v":0},{"$f":"SUM(OFFSET(テストデータ!BV3,496,0):OFFSET(テストデータ!BX3,496,0))","v":0},{"$f":"SUM(OFFSET(テストデータ!BV3,496,0):OFFSET(テストデータ!BZ3,496,0))","v":0},{"$f":"SUM(OFFSET(テストデータ!CA3,496,0):OFFSET(テストデータ!CC3,496,0))","v":0},{"$f":"SUM(OFFSET(テストデータ!CA3,496,0):OFFSET(テストデータ!CE3,496,0))","v":0},{"$f":"SUM(OFFSET(テストデータ!CF3,496,0):OFFSET(テストデータ!CH3,496,0))","v":0},{"$f":"SUM(OFFSET(テストデータ!CF3,496,0):OFFSET(テストデータ!CJ3,496,0))","v":0},{"$f":"SUM(OFFSET(テストデータ!CK3,496,0):OFFSET(テストデータ!CM3,496,0))","v":0},{"$f":"SUM(OFFSET(テストデータ!CK3,496,0):OFFSET(テストデータ!CO3,496,0))","v":0},{"$f":"SUM(OFFSET(テストデータ!CP3,496,0):OFFSET(テストデータ!CR3,496,0))","v":0},{"$f":"SUM(OFFSET(テストデータ!CP3,496,0):OFFSET(テストデータ!CT3,496,0))","v":0}]
[null,null,null,null,null,null,null,null,null,null,null,null,null,{"$f":"SUM(OFFSET(テストデータ!$E3,497,9*成績表1!$B$4-9):OFFSET(テストデータ!$G3,497,9*成績表1!$B$4-9))","v":0},{"$f":"SUM(OFFSET(テストデータ!$E3,497,9*成績表1!$B$4-9):OFFSET(テストデータ!I3,497,9*成績表1!$B$4-9))","v":0},{"$f":"SUM(OFFSET(テストデータ!E3,497,0):OFFSET(テストデータ!G3,497,0))","v":0},{"$f":"SUM(OFFSET(テストデータ!E3,497,0):OFFSET(テストデータ!I3,497,0))","v":0},{"$f":"SUM(OFFSET(テストデータ!N3,497,0):OFFSET(テストデータ!P3,497,0))","v":0},{"$f":"SUM(OFFSET(テストデータ!N3,497,0):OFFSET(テストデータ!R3,497,0))","v":0},{"$f":"SUM(OFFSET(テストデータ!W3,497,0):OFFSET(テストデータ!Y3,497,0))","v":0},{"$f":"SUM(OFFSET(テストデータ!W3,497,0):OFFSET(テストデータ!AA3,497,0))","v":0},{"$f":"SUM(OFFSET(テストデータ!AF3,497,0):OFFSET(テストデータ!AH3,497,0))","v":0},{"$f":"SUM(OFFSET(テストデータ!AF3,497,0):OFFSET(テストデータ!AJ3,497,0))","v":0},{"$f":"SUM(OFFSET(テストデータ!AO3,497,0):OFFSET(テストデータ!AQ3,497,0))","v":0},{"$f":"SUM(OFFSET(テストデータ!AO3,497,0):OFFSET(テストデータ!AS3,497,0))","v":0},{"$f":"SUM(OFFSET(テストデータ!AX3,497,0):OFFSET(テストデータ!AZ3,497,0))","v":0},{"$f":"SUM(OFFSET(テストデータ!AX3,497,0):OFFSET(テストデータ!BB3,497,0))","v":0},{"$f":"SUM(OFFSET(テストデータ!BG3,497,0):OFFSET(テストデータ!BI3,497,0))","v":0},{"$f":"SUM(OFFSET(テストデータ!BG3,497,0):OFFSET(テストデータ!BK3,497,0))","v":0},{"$f":"SUM(OFFSET(テストデータ!BL3,497,0):OFFSET(テストデータ!BN3,497,0))","v":0},{"$f":"SUM(OFFSET(テストデータ!BL3,497,0):OFFSET(テストデータ!BP3,497,0))","v":0},{"$f":"SUM(OFFSET(テストデータ!BQ3,497,0):OFFSET(テストデータ!BS3,497,0))","v":0},{"$f":"SUM(OFFSET(テストデータ!BQ3,497,0):OFFSET(テストデータ!BU3,497,0))","v":0},{"$f":"SUM(OFFSET(テストデータ!BV3,497,0):OFFSET(テストデータ!BX3,497,0))","v":0},{"$f":"SUM(OFFSET(テストデータ!BV3,497,0):OFFSET(テストデータ!BZ3,497,0))","v":0},{"$f":"SUM(OFFSET(テストデータ!CA3,497,0):OFFSET(テストデータ!CC3,497,0))","v":0},{"$f":"SUM(OFFSET(テストデータ!CA3,497,0):OFFSET(テストデータ!CE3,497,0))","v":0},{"$f":"SUM(OFFSET(テストデータ!CF3,497,0):OFFSET(テストデータ!CH3,497,0))","v":0},{"$f":"SUM(OFFSET(テストデータ!CF3,497,0):OFFSET(テストデータ!CJ3,497,0))","v":0},{"$f":"SUM(OFFSET(テストデータ!CK3,497,0):OFFSET(テストデータ!CM3,497,0))","v":0},{"$f":"SUM(OFFSET(テストデータ!CK3,497,0):OFFSET(テストデータ!CO3,497,0))","v":0},{"$f":"SUM(OFFSET(テストデータ!CP3,497,0):OFFSET(テストデータ!CR3,497,0))","v":0},{"$f":"SUM(OFFSET(テストデータ!CP3,497,0):OFFSET(テストデータ!CT3,497,0))","v":0}]
[null,null,null,null,null,null,null,null,null,null,null,null,null,{"$f":"SUM(OFFSET(テストデータ!$E3,498,9*成績表1!$B$4-9):OFFSET(テストデータ!$G3,498,9*成績表1!$B$4-9))","v":0},{"$f":"SUM(OFFSET(テストデータ!$E3,498,9*成績表1!$B$4-9):OFFSET(テストデータ!I3,498,9*成績表1!$B$4-9))","v":0},{"$f":"SUM(OFFSET(テストデータ!E3,498,0):OFFSET(テストデータ!G3,498,0))","v":0},{"$f":"SUM(OFFSET(テストデータ!E3,498,0):OFFSET(テストデータ!I3,498,0))","v":0},{"$f":"SUM(OFFSET(テストデータ!N3,498,0):OFFSET(テストデータ!P3,498,0))","v":0},{"$f":"SUM(OFFSET(テストデータ!N3,498,0):OFFSET(テストデータ!R3,498,0))","v":0},{"$f":"SUM(OFFSET(テストデータ!W3,498,0):OFFSET(テストデータ!Y3,498,0))","v":0},{"$f":"SUM(OFFSET(テストデータ!W3,498,0):OFFSET(テストデータ!AA3,498,0))","v":0},{"$f":"SUM(OFFSET(テストデータ!AF3,498,0):OFFSET(テストデータ!AH3,498,0))","v":0},{"$f":"SUM(OFFSET(テストデータ!AF3,498,0):OFFSET(テストデータ!AJ3,498,0))","v":0},{"$f":"SUM(OFFSET(テストデータ!AO3,498,0):OFFSET(テストデータ!AQ3,498,0))","v":0},{"$f":"SUM(OFFSET(テストデータ!AO3,498,0):OFFSET(テストデータ!AS3,498,0))","v":0},{"$f":"SUM(OFFSET(テストデータ!AX3,498,0):OFFSET(テストデータ!AZ3,498,0))","v":0},{"$f":"SUM(OFFSET(テストデータ!AX3,498,0):OFFSET(テストデータ!BB3,498,0))","v":0},{"$f":"SUM(OFFSET(テストデータ!BG3,498,0):OFFSET(テストデータ!BI3,498,0))","v":0},{"$f":"SUM(OFFSET(テストデータ!BG3,498,0):OFFSET(テストデータ!BK3,498,0))","v":0},{"$f":"SUM(OFFSET(テストデータ!BL3,498,0):OFFSET(テストデータ!BN3,498,0))","v":0},{"$f":"SUM(OFFSET(テストデータ!BL3,498,0):OFFSET(テストデータ!BP3,498,0))","v":0},{"$f":"SUM(OFFSET(テストデータ!BQ3,498,0):OFFSET(テストデータ!BS3,498,0))","v":0},{"$f":"SUM(OFFSET(テストデータ!BQ3,498,0):OFFSET(テストデータ!BU3,498,0))","v":0},{"$f":"SUM(OFFSET(テストデータ!BV3,498,0):OFFSET(テストデータ!BX3,498,0))","v":0},{"$f":"SUM(OFFSET(テストデータ!BV3,498,0):OFFSET(テストデータ!BZ3,498,0))","v":0},{"$f":"SUM(OFFSET(テストデータ!CA3,498,0):OFFSET(テストデータ!CC3,498,0))","v":0},{"$f":"SUM(OFFSET(テストデータ!CA3,498,0):OFFSET(テストデータ!CE3,498,0))","v":0},{"$f":"SUM(OFFSET(テストデータ!CF3,498,0):OFFSET(テストデータ!CH3,498,0))","v":0},{"$f":"SUM(OFFSET(テストデータ!CF3,498,0):OFFSET(テストデータ!CJ3,498,0))","v":0},{"$f":"SUM(OFFSET(テストデータ!CK3,498,0):OFFSET(テストデータ!CM3,498,0))","v":0},{"$f":"SUM(OFFSET(テストデータ!CK3,498,0):OFFSET(テストデータ!CO3,498,0))","v":0},{"$f":"SUM(OFFSET(テストデータ!CP3,498,0):OFFSET(テストデータ!CR3,498,0))","v":0},{"$f":"SUM(OFFSET(テストデータ!CP3,498,0):OFFSET(テストデータ!CT3,498,0))","v":0}]
[null,null,null,null,null,null,null,null,null,null,null,null,null,{"$f":"SUM(OFFSET(テストデータ!$E3,499,9*成績表1!$B$4-9):OFFSET(テストデータ!$G3,499,9*成績表1!$B$4-9))","v":0},{"$f":"SUM(OFFSET(テストデータ!$E3,499,9*成績表1!$B$4-9):OFFSET(テストデータ!I3,499,9*成績表1!$B$4-9))","v":0},{"$f":"SUM(OFFSET(テストデータ!E3,499,0):OFFSET(テストデータ!G3,499,0))","v":0},{"$f":"SUM(OFFSET(テストデータ!E3,499,0):OFFSET(テストデータ!I3,499,0))","v":0},{"$f":"SUM(OFFSET(テストデータ!N3,499,0):OFFSET(テストデータ!P3,499,0))","v":0},{"$f":"SUM(OFFSET(テストデータ!N3,499,0):OFFSET(テストデータ!R3,499,0))","v":0},{"$f":"SUM(OFFSET(テストデータ!W3,499,0):OFFSET(テストデータ!Y3,499,0))","v":0},{"$f":"SUM(OFFSET(テストデータ!W3,499,0):OFFSET(テストデータ!AA3,499,0))","v":0},{"$f":"SUM(OFFSET(テストデータ!AF3,499,0):OFFSET(テストデータ!AH3,499,0))","v":0},{"$f":"SUM(OFFSET(テストデータ!AF3,499,0):OFFSET(テストデータ!AJ3,499,0))","v":0},{"$f":"SUM(OFFSET(テストデータ!AO3,499,0):OFFSET(テストデータ!AQ3,499,0))","v":0},{"$f":"SUM(OFFSET(テストデータ!AO3,499,0):OFFSET(テストデータ!AS3,499,0))","v":0},{"$f":"SUM(OFFSET(テストデータ!AX3,499,0):OFFSET(テストデータ!AZ3,499,0))","v":0},{"$f":"SUM(OFFSET(テストデータ!AX3,499,0):OFFSET(テストデータ!BB3,499,0))","v":0},{"$f":"SUM(OFFSET(テストデータ!BG3,499,0):OFFSET(テストデータ!BI3,499,0))","v":0},{"$f":"SUM(OFFSET(テストデータ!BG3,499,0):OFFSET(テストデータ!BK3,499,0))","v":0},{"$f":"SUM(OFFSET(テストデータ!BL3,499,0):OFFSET(テストデータ!BN3,499,0))","v":0},{"$f":"SUM(OFFSET(テストデータ!BL3,499,0):OFFSET(テストデータ!BP3,499,0))","v":0},{"$f":"SUM(OFFSET(テストデータ!BQ3,499,0):OFFSET(テストデータ!BS3,499,0))","v":0},{"$f":"SUM(OFFSET(テストデータ!BQ3,499,0):OFFSET(テストデータ!BU3,499,0))","v":0},{"$f":"SUM(OFFSET(テストデータ!BV3,499,0):OFFSET(テストデータ!BX3,499,0))","v":0},{"$f":"SUM(OFFSET(テストデータ!BV3,499,0):OFFSET(テストデータ!BZ3,499,0))","v":0},{"$f":"SUM(OFFSET(テストデータ!CA3,499,0):OFFSET(テストデータ!CC3,499,0))","v":0},{"$f":"SUM(OFFSET(テストデータ!CA3,499,0):OFFSET(テストデータ!CE3,499,0))","v":0},{"$f":"SUM(OFFSET(テストデータ!CF3,499,0):OFFSET(テストデータ!CH3,499,0))","v":0},{"$f":"SUM(OFFSET(テストデータ!CF3,499,0):OFFSET(テストデータ!CJ3,499,0))","v":0},{"$f":"SUM(OFFSET(テストデータ!CK3,499,0):OFFSET(テストデータ!CM3,499,0))","v":0},{"$f":"SUM(OFFSET(テストデータ!CK3,499,0):OFFSET(テストデータ!CO3,499,0))","v":0},{"$f":"SUM(OFFSET(テストデータ!CP3,499,0):OFFSET(テストデータ!CR3,499,0))","v":0},{"$f":"SUM(OFFSET(テストデータ!CP3,499,0):OFFSET(テストデータ!CT3,499,0))","v":0}]
[null,null,null,null,null,null,null,null,null,null,null,null,null,{"$f":"SUM(OFFSET(テストデータ!$E3,500,9*成績表1!$B$4-9):OFFSET(テストデータ!$G3,500,9*成績表1!$B$4-9))","v":0},{"$f":"SUM(OFFSET(テストデータ!$E3,500,9*成績表1!$B$4-9):OFFSET(テストデータ!I3,500,9*成績表1!$B$4-9))","v":0},{"$f":"SUM(OFFSET(テストデータ!E3,500,0):OFFSET(テストデータ!G3,500,0))","v":0},{"$f":"SUM(OFFSET(テストデータ!E3,500,0):OFFSET(テストデータ!I3,500,0))","v":0},{"$f":"SUM(OFFSET(テストデータ!N3,500,0):OFFSET(テストデータ!P3,500,0))","v":0},{"$f":"SUM(OFFSET(テストデータ!N3,500,0):OFFSET(テストデータ!R3,500,0))","v":0},{"$f":"SUM(OFFSET(テストデータ!W3,500,0):OFFSET(テストデータ!Y3,500,0))","v":0},{"$f":"SUM(OFFSET(テストデータ!W3,500,0):OFFSET(テストデータ!AA3,500,0))","v":0},{"$f":"SUM(OFFSET(テストデータ!AF3,500,0):OFFSET(テストデータ!AH3,500,0))","v":0},{"$f":"SUM(OFFSET(テストデータ!AF3,500,0):OFFSET(テストデータ!AJ3,500,0))","v":0},{"$f":"SUM(OFFSET(テストデータ!AO3,500,0):OFFSET(テストデータ!AQ3,500,0))","v":0},{"$f":"SUM(OFFSET(テストデータ!AO3,500,0):OFFSET(テストデータ!AS3,500,0))","v":0},{"$f":"SUM(OFFSET(テストデータ!AX3,500,0):OFFSET(テストデータ!AZ3,500,0))","v":0},{"$f":"SUM(OFFSET(テストデータ!AX3,500,0):OFFSET(テストデータ!BB3,500,0))","v":0},{"$f":"SUM(OFFSET(テストデータ!BG3,500,0):OFFSET(テストデータ!BI3,500,0))","v":0},{"$f":"SUM(OFFSET(テストデータ!BG3,500,0):OFFSET(テストデータ!BK3,500,0))","v":0},{"$f":"SUM(OFFSET(テストデータ!BL3,500,0):OFFSET(テストデータ!BN3,500,0))","v":0},{"$f":"SUM(OFFSET(テストデータ!BL3,500,0):OFFSET(テストデータ!BP3,500,0))","v":0},{"$f":"SUM(OFFSET(テストデータ!BQ3,500,0):OFFSET(テストデータ!BS3,500,0))","v":0},{"$f":"SUM(OFFSET(テストデータ!BQ3,500,0):OFFSET(テストデータ!BU3,500,0))","v":0},{"$f":"SUM(OFFSET(テストデータ!BV3,500,0):OFFSET(テストデータ!BX3,500,0))","v":0},{"$f":"SUM(OFFSET(テストデータ!BV3,500,0):OFFSET(テストデータ!BZ3,500,0))","v":0},{"$f":"SUM(OFFSET(テストデータ!CA3,500,0):OFFSET(テストデータ!CC3,500,0))","v":0},{"$f":"SUM(OFFSET(テストデータ!CA3,500,0):OFFSET(テストデータ!CE3,500,0))","v":0},{"$f":"SUM(OFFSET(テストデータ!CF3,500,0):OFFSET(テストデータ!CH3,500,0))","v":0},{"$f":"SUM(OFFSET(テストデータ!CF3,500,0):OFFSET(テストデータ!CJ3,500,0))","v":0},{"$f":"SUM(OFFSET(テストデータ!CK3,500,0):OFFSET(テストデータ!CM3,500,0))","v":0},{"$f":"SUM(OFFSET(テストデータ!CK3,500,0):OFFSET(テストデータ!CO3,500,0))","v":0},{"$f":"SUM(OFFSET(テストデータ!CP3,500,0):OFFSET(テストデータ!CR3,500,0))","v":0},{"$f":"SUM(OFFSET(テストデータ!CP3,500,0):OFFSET(テストデータ!CT3,500,0))","v":0}]